{"text_format":"1","workbook":"xlsx","n_sheets":7,"sheets":["About","Calc_Plan","Calc_Engr","Calc_Adv","RAW","Tables","Outdated_Pipe"],"not_rendered":{"charts":7,"images":1,"macros":1,"external_links":0,"defined_names":104,"comments":5,"pivot_tables":0},"unopened":[],"bounds":{"document_bytes":16777216,"sheet_cells":100000,"rows_first":2000,"rows_last":500,"rows_between":2000,"halvings":0,"cell_chars":16384,"cell_head_chars":4096},"cells_cut":0,"cells_raw":0,"read":"whole","date_system":"1900"}

{"sheet":"About","index":0,"n_rows":48,"n_cols":1,"rows_kept":48,"cut":false,"hidden":false,"merged":[]}
["Disclaimer:"]
["Not all pipes in this calculator are approved for use in Iowa. Please consult the latest Iowa NRCS construction specifications for the list of approved pipes."]
["Purpose:"]
["The Pipe Weight Calculator assists with determining and documenting the weight of pipelines. The weight of a pipeline is directly proportional to the amount of material used in the pipe walls and is highly correlated to the pipe cost. Due to the vast options of pipe materials and dimensions, this tool was needed to streamline agency workload.   "]
["User Instructions:"]
["To calculate pipe weight, users must input data into the tan cells. Data is to be entered starting at the left side of each pipe row and working to the right. Most of the tan cells incorporate pull down menus (Called Data Validation by Excel) and the adjacent cell to the right's menu will be a filtered-set based on the selected values to the left of it. The pipe weight per foot will be displayed in the yellow cell and the total weight for each pipe entry will be displayed in the blue cell."]
[" Two tabs, \"Calc_Engr\" and \"Calc_Plan\" have been created to accommodate user preferences; the \"Calc_Plan\" tab accommodates most users, and the \"Calc_Engr\" tab is available for users who have experience with pipe diameter types. The distinction between the two tabs is what appears in the second data entry column. Both tabs will provide the same pipe weight."]
["Due to continuous advances in pipe materials, it is not possible to list all possible pipe options. It is also recognized that some pipe types are uncommon. For pipe types that are not found in the pull down menus, users can enter custom pipe information in Cells T7:Z8. There is also an option to adjust polyethylene resin between PE4710 and PE3408, located in Cell C5 of the Tables tab. PE4710 is approximately 25% stronger than PE3408 and can achieve a higher pressure class with thinner pipe walls and less weight. At the time this tool was developed, PE4710 had become more common than PE3408. The Tables tab may be a hidden tab. To unhide a tab, right click on any tab and select unhide."]
["Actual pipe weights will vary slightly due to manufacturing tolerances. This tool has settings to calculate pipe weight based on the maximum allowable pipe wall thickness, minimum allowable pipe wall thickness, or the average wall thickness. Average pipe wall thickness is the default value and the selection should generally not be changed. This setting is found in Cell C9 of the Tables tab."]
["Pipe Diameter Types:"]
["Actual pipe diameters usually vary from the nominal diameter. Below are the acronyms for the Diameter Types and other descriptions used in the tool:"]
["ABS = Acrylonitrile Butadiene Styrene"]
["CCP = Concrete Cylinder Pipe"]
["CIOD = Cast Iron Outside Diameter pipe size"]
["CPP = Concrete Pressure Pipe"]
["CSP = Corrugated Steel Pipe"]
["CTS = Copper Tubing Size"]
["DR = Dimension Ratio (outer diameter divided by wall thickness)"]
["DIPS = Ductile Iron Pipe Size"]
["IPS = Iron Pipe Size"]
["NRCP = Nonreinforced Concrete Pipe"]
[]
["Pipe Diameter Types:"]
["PE = Polyethylene"]
["PEX = Crosslinked Polyethylene"]
["PIP = Plastic Irrigation Pipe size"]
["PSM = Pressure Sewer Mainline"]
["PVC = Poly Vinyl Chloride"]
["RCP = Reinforced Concrete Pipe"]
["SCH = Schedule"]
["SIDR = Standard Inside Diameter Ratio (inner diameter divided by wall thickness)"]
[]
["Notes About Pipe Materials:"]
["Prior to plastic pipe becoming available in the 1930s, steel was the most commonly used pipe. Although steel is a strong and fire resistant material, it is prone to corrosion and water freeze damage. Polyvinyl chloride (PVC) became popular in the 1960s due to its corrosion resistance, lower cost, and the ability to be chemically welded. However, PVC pipe is vulnerable to water freeze damage and fire damage. Polyethylene (PE) pipe came slightly after PVC. It has good corrosion resistance, freeze tolerance, and offers more flexibility than PVC. PE cannot be chemically welded, but can be heat welded whereas this is not an option for PVC. As of the time this tool was developed, PE was slightly more expensive than PVC and significantly less expensive than steel in small diameter pipe. However, PE, like PVC, is not fire resistant. These three materials are the vast majority used for agricultural pipe."]
["Future Recommendations:"]
["Due to the complexity of calculating pipe weight for every possible pipe material and diameter type, it may be appropriate to assume a typical pipe material for cost estimates. Where fire is not a concern, PE4710 is an appropriate and cost effective alternative for most pipe situations (as of 2025) and can be used to calculate a typical cost. Where fire is a concern, additional cost for steel or concrete pipe should be considered."]
["Tool Development Team:"]
["Alan Gillespie, PE"]
["Clarence Prestwich, PE"]
["Hamid Farahani, PHD"]
["Jon Chilcote, PE"]
["Kelly Scott, PE"]
[]
[]
["Development Notes"]
["2/17/2026-Tool was created by development team to address an urgent need to calculate pipe weights for conservation contract planning payment quantities."]
["3/4/2026-Corrected typo regarding CSP selections being IPS."]
["3/12/2026 - Added Iowa Disclaimer - S Gorbet"]

{"sheet":"Calc_Plan","index":1,"n_rows":26,"n_cols":28,"rows_kept":26,"cut":false,"hidden":false,"merged":[]}
[null,null,null,null,null,null,null,null,"Version 1.0 - 02-28-2026"]
[null,null,null,null,null,null,null,null,null,null,null,null,null,null,null,null,null,"Resin used for polyethylene",null,"Method to estimate pipe weight"]
[null,null,null,null,null,null,null,null,null,null,null,null,null,null,null,null,null,"pipe weight estimation",null,"for pipe types not in table"]
[null,null,"Producer:",null,null,null,"Ref #:",null,null,null,null,null,null,null,null,null,null,{"$f":"\"PE\"&Tables!C5","v":"PE4710"},null,"Pipe","Specific","Controlled","Diameter","Wall","Tolerance","Pipe"]
[null,null,"Designed By:",null,"Checked By:",null,"County:",null,null,null,null,null,null,null,null,null,null,null,null,"Material","Gravity","In/Out",null,"Thickness",null,"Weight"]
[null,null,"Designed By Date:",null,"Checked By Date:",null,"Farm/Tract:",null,null,null,null,null,null,null,null,null,null,"Method used to estimate",null,null,"[-]","Diameter","[in]","[in]","[in]","[lb/ft]"]
[null,null,null,null,null,null,null,null,null,null,null,null,null,null,null,null,null,"average wall thickness",null,"Custom",{"$f":"VLOOKUP(T7,Tables!$G$5:$H$14,2,FALSE)","v":0.95899999999999996},"OD",6.5,0.42499999999999999,2E-3,{"$f":"VLOOKUP(T7,Tables!$G$7:$H$14,2,FALSE)*IF(V7=\"ID\",(W7+(X7+Y7*Tables!$C$6)),(W7-(X7+Y7*Tables!$C$6)))*(X7+Y7*Tables!$C$6)*1.36136","v":3.3781270540617596}]
[null,null,null,null,null,null,null,null,null,null,null,null,null,null,null,null,null,{"$f":"Tables!C9","v":"Ave WT"},null,"Custom",{"$f":"VLOOKUP(T8,Tables!$G$5:$H$14,2,FALSE)","v":0.95899999999999996},"OD",6.5,0.42499999999999999,2E-3,{"$f":"VLOOKUP(T8,Tables!$G$7:$H$14,2,FALSE)*IF(V8=\"ID\",(W8+(X8+Y8*Tables!$C$6)),(W8-(X8+Y8*Tables!$C$6)))*(X8+Y8*Tables!$C$6)*1.36136","v":3.3781270540617596}]
[null,"Pipe Material","Pressure Class\n\n[psi]","Nominal Diameter\n\n[in]","Pipe \nDiameter \nStandard\n","Pipe Length\n\n\n[ft]","Unit Pipe Weight \n\n[lbs/ft]","Pipe Weight\n\n[lbs]","Notes",null,null,"Controlled Diameter ID/OD\n[in]","Wall Thickness\n\n[in]"," Tolerance for Wall Thickness\n[in]","ASTM, ASABE, & MRF","Typical Flow\nRange \n(2ft/s to 5ft/s)\n[gpm]"]
[{"$f":"IFERROR(G10,\"\")","v":""},null,null,null,null,null,{"$f":"INDIRECT(\"RAW!R\"&Tables!AT72)","v":{"$error":"#REF!"}},{"$f":"IFERROR(F10*G10,\"\")","v":""},{"$f":"IFERROR(O10,\"\")","v":""},null,null,{"$f":"INDIRECT(\"RAW!M\"&Tables!AT72)&\"-\"&INDIRECT(\"RAW!N\"&Tables!AT72)","v":{"$error":"#REF!"}},{"$f":"INDIRECT(\"RAW!P\"&Tables!AT72)","v":{"$error":"#REF!"}},{"$f":"INDIRECT(\"RAW!Q\"&Tables!AT72)","v":{"$error":"#REF!"}},{"$f":"INDIRECT(\"RAW!T\"&Tables!AT72)","v":{"$error":"#REF!"}},{"$f":"ROUND(2*((INDIRECT(\"RAW!M\"&Tables!AT72)+IF(INDIRECT(\"RAW!N\"&Tables!AT72)=\"ID\",1,-1)*(2*M10+2*N10*Tables!$C$6))/12)^2*PI()/4*448.8,0)&\" to \"&ROUND(5*((INDIRECT(\"RAW!M\"&Tables!AT72)+IF(INDIRECT(\"RAW!N\"&Tables!AT72)=\"ID\",1,-1)*(M10+N10*Tables!$C$6))/12)^2*PI()/4*448.8,0)","v":{"$error":"#REF!"}},null,null,null,null,null,null,null,null,null,null,null,{"$f":"IFERROR(AH10,\"\")","v":0}]
["",null,null,null,null,null,{"$f":"INDIRECT(\"RAW!R\"&Tables!AX72)","v":{"$error":"#REF!"}},"","",null,null,{"$f":"INDIRECT(\"RAW!M\"&Tables!AX72)&\"-\"&INDIRECT(\"RAW!N\"&Tables!AX72)","v":{"$error":"#REF!"}},{"$f":"INDIRECT(\"RAW!P\"&Tables!AX72)","v":{"$error":"#REF!"}},{"$f":"INDIRECT(\"RAW!Q\"&Tables!AX72)","v":{"$error":"#REF!"}},{"$f":"INDIRECT(\"RAW!T\"&Tables!AX72)","v":{"$error":"#REF!"}},{"$f":"ROUND(2*((INDIRECT(\"RAW!M\"&Tables!AX72)+IF(INDIRECT(\"RAW!N\"&Tables!AX72)=\"ID\",1,-1)*(2*M11+2*N11*Tables!$C$6))/12)^2*PI()/4*448.8,0)&\" to \"&ROUND(5*((INDIRECT(\"RAW!M\"&Tables!AX72)+IF(INDIRECT(\"RAW!N\"&Tables!AX72)=\"ID\",1,-1)*(M11+N11*Tables!$C$6))/12)^2*PI()/4*448.8,0)","v":{"$error":"#REF!"}},null,null,null,null,null,null,null,null,null,null,null,0]
["",null,null,null,null,null,{"$f":"INDIRECT(\"RAW!R\"&Tables!BB72)","v":{"$error":"#REF!"}},"","",null,null,{"$f":"INDIRECT(\"RAW!M\"&Tables!BB72)&\"-\"&INDIRECT(\"RAW!N\"&Tables!BB72)","v":{"$error":"#REF!"}},{"$f":"INDIRECT(\"RAW!P\"&Tables!BB72)","v":{"$error":"#REF!"}},{"$f":"INDIRECT(\"RAW!Q\"&Tables!BB72)","v":{"$error":"#REF!"}},{"$f":"INDIRECT(\"RAW!T\"&Tables!BB72)","v":{"$error":"#REF!"}},{"$f":"ROUND(2*((INDIRECT(\"RAW!M\"&Tables!BB72)+IF(INDIRECT(\"RAW!N\"&Tables!BB72)=\"ID\",1,-1)*(2*M12+2*N12*Tables!$C$6))/12)^2*PI()/4*448.8,0)&\" to \"&ROUND(5*((INDIRECT(\"RAW!M\"&Tables!BB72)+IF(INDIRECT(\"RAW!N\"&Tables!BB72)=\"ID\",1,-1)*(M12+N12*Tables!$C$6))/12)^2*PI()/4*448.8,0)","v":{"$error":"#REF!"}},null,null,null,null,null,null,null,null,null,null,null,0]
["",null,null,null,null,null,{"$f":"INDIRECT(\"RAW!R\"&Tables!BF72)","v":{"$error":"#REF!"}},"","",null,null,{"$f":"INDIRECT(\"RAW!M\"&Tables!BF72)&\"-\"&INDIRECT(\"RAW!N\"&Tables!BF72)","v":{"$error":"#REF!"}},{"$f":"INDIRECT(\"RAW!P\"&Tables!BF72)","v":{"$error":"#REF!"}},{"$f":"INDIRECT(\"RAW!Q\"&Tables!BF72)","v":{"$error":"#REF!"}},{"$f":"INDIRECT(\"RAW!T\"&Tables!BF72)","v":{"$error":"#REF!"}},{"$f":"ROUND(2*((INDIRECT(\"RAW!M\"&Tables!BF72)+IF(INDIRECT(\"RAW!N\"&Tables!BF72)=\"ID\",1,-1)*(2*M13+2*N13*Tables!$C$6))/12)^2*PI()/4*448.8,0)&\" to \"&ROUND(5*((INDIRECT(\"RAW!M\"&Tables!BF72)+IF(INDIRECT(\"RAW!N\"&Tables!BF72)=\"ID\",1,-1)*(M13+N13*Tables!$C$6))/12)^2*PI()/4*448.8,0)","v":{"$error":"#REF!"}},null,null,null,null,null,null,null,null,null,null,null,0]
["",null,null,null,null,null,{"$f":"INDIRECT(\"RAW!R\"&Tables!BJ72)","v":{"$error":"#REF!"}},"","",null,null,{"$f":"INDIRECT(\"RAW!M\"&Tables!BJ72)&\"-\"&INDIRECT(\"RAW!N\"&Tables!BJ72)","v":{"$error":"#REF!"}},{"$f":"INDIRECT(\"RAW!P\"&Tables!BJ72)","v":{"$error":"#REF!"}},{"$f":"INDIRECT(\"RAW!Q\"&Tables!BJ72)","v":{"$error":"#REF!"}},{"$f":"INDIRECT(\"RAW!T\"&Tables!BJ72)","v":{"$error":"#REF!"}},{"$f":"ROUND(2*((INDIRECT(\"RAW!M\"&Tables!BJ72)+IF(INDIRECT(\"RAW!N\"&Tables!BJ72)=\"ID\",1,-1)*(2*M14+2*N14*Tables!$C$6))/12)^2*PI()/4*448.8,0)&\" to \"&ROUND(5*((INDIRECT(\"RAW!M\"&Tables!BJ72)+IF(INDIRECT(\"RAW!N\"&Tables!BJ72)=\"ID\",1,-1)*(M14+N14*Tables!$C$6))/12)^2*PI()/4*448.8,0)","v":{"$error":"#REF!"}},null,null,null,null,null,null,null,null,null,null,null,0]
["",null,null,null,null,null,{"$f":"INDIRECT(\"RAW!R\"&Tables!BN72)","v":{"$error":"#REF!"}},"","",null,null,{"$f":"INDIRECT(\"RAW!M\"&Tables!BN72)&\"-\"&INDIRECT(\"RAW!N\"&Tables!BN72)","v":{"$error":"#REF!"}},{"$f":"INDIRECT(\"RAW!P\"&Tables!BN72)","v":{"$error":"#REF!"}},{"$f":"INDIRECT(\"RAW!Q\"&Tables!BN72)","v":{"$error":"#REF!"}},{"$f":"INDIRECT(\"RAW!T\"&Tables!BN72)","v":{"$error":"#REF!"}},{"$f":"ROUND(2*((INDIRECT(\"RAW!M\"&Tables!BN72)+IF(INDIRECT(\"RAW!N\"&Tables!BN72)=\"ID\",1,-1)*(2*M15+2*N15*Tables!$C$6))/12)^2*PI()/4*448.8,0)&\" to \"&ROUND(5*((INDIRECT(\"RAW!M\"&Tables!BN72)+IF(INDIRECT(\"RAW!N\"&Tables!BN72)=\"ID\",1,-1)*(M15+N15*Tables!$C$6))/12)^2*PI()/4*448.8,0)","v":{"$error":"#REF!"}},null,null,null,null,null,null,null,null,null,null,null,0]
["",null,null,null,null,null,{"$f":"INDIRECT(\"RAW!R\"&Tables!BR72)","v":{"$error":"#REF!"}},"","",null,null,{"$f":"INDIRECT(\"RAW!M\"&Tables!BR72)&\"-\"&INDIRECT(\"RAW!N\"&Tables!BR72)","v":{"$error":"#REF!"}},{"$f":"INDIRECT(\"RAW!P\"&Tables!BR72)","v":{"$error":"#REF!"}},{"$f":"INDIRECT(\"RAW!Q\"&Tables!BR72)","v":{"$error":"#REF!"}},{"$f":"INDIRECT(\"RAW!T\"&Tables!BR72)","v":{"$error":"#REF!"}},{"$f":"ROUND(2*((INDIRECT(\"RAW!M\"&Tables!BR72)+IF(INDIRECT(\"RAW!N\"&Tables!BR72)=\"ID\",1,-1)*(2*M16+2*N16*Tables!$C$6))/12)^2*PI()/4*448.8,0)&\" to \"&ROUND(5*((INDIRECT(\"RAW!M\"&Tables!BR72)+IF(INDIRECT(\"RAW!N\"&Tables!BR72)=\"ID\",1,-1)*(M16+N16*Tables!$C$6))/12)^2*PI()/4*448.8,0)","v":{"$error":"#REF!"}},null,null,null,null,null,null,null,null,null,null,null,0]
["",null,null,null,null,null,{"$f":"INDIRECT(\"RAW!R\"&Tables!BV72)","v":{"$error":"#REF!"}},"","",null,null,{"$f":"INDIRECT(\"RAW!M\"&Tables!BV72)&\"-\"&INDIRECT(\"RAW!N\"&Tables!BV72)","v":{"$error":"#REF!"}},{"$f":"INDIRECT(\"RAW!P\"&Tables!BV72)","v":{"$error":"#REF!"}},{"$f":"INDIRECT(\"RAW!Q\"&Tables!BV72)","v":{"$error":"#REF!"}},{"$f":"INDIRECT(\"RAW!T\"&Tables!BV72)","v":{"$error":"#REF!"}},{"$f":"ROUND(2*((INDIRECT(\"RAW!M\"&Tables!BV72)+IF(INDIRECT(\"RAW!N\"&Tables!BV72)=\"ID\",1,-1)*(2*M17+2*N17*Tables!$C$6))/12)^2*PI()/4*448.8,0)&\" to \"&ROUND(5*((INDIRECT(\"RAW!M\"&Tables!BV72)+IF(INDIRECT(\"RAW!N\"&Tables!BV72)=\"ID\",1,-1)*(M17+N17*Tables!$C$6))/12)^2*PI()/4*448.8,0)","v":{"$error":"#REF!"}},null,null,null,null,null,null,null,null,null,null,null,0]
["",null,null,null,null,null,{"$f":"INDIRECT(\"RAW!R\"&Tables!BZ72)","v":{"$error":"#REF!"}},"","",null,null,{"$f":"INDIRECT(\"RAW!M\"&Tables!BZ72)&\"-\"&INDIRECT(\"RAW!n\"&Tables!BZ72)","v":{"$error":"#REF!"}},{"$f":"INDIRECT(\"RAW!P\"&Tables!BZ72)","v":{"$error":"#REF!"}},{"$f":"INDIRECT(\"RAW!Q\"&Tables!BZ72)","v":{"$error":"#REF!"}},{"$f":"INDIRECT(\"RAW!T\"&Tables!BZ72)","v":{"$error":"#REF!"}},{"$f":"ROUND(2*((INDIRECT(\"RAW!M\"&Tables!BZ72)+IF(INDIRECT(\"RAW!N\"&Tables!BZ72)=\"ID\",1,-1)*(2*M18+2*N18*Tables!$C$6))/12)^2*PI()/4*448.8,0)&\" to \"&ROUND(5*((INDIRECT(\"RAW!M\"&Tables!BZ72)+IF(INDIRECT(\"RAW!N\"&Tables!BZ72)=\"ID\",1,-1)*(M18+N18*Tables!$C$6))/12)^2*PI()/4*448.8,0)","v":{"$error":"#REF!"}},null,null,null,null,null,null,null,null,null,null,null,0]
["",null,null,null,null,null,{"$f":"INDIRECT(\"RAW!R\"&Tables!CD72)","v":{"$error":"#REF!"}},"","",null,null,{"$f":"INDIRECT(\"RAW!M\"&Tables!CD72)&\"-\"&INDIRECT(\"RAW!N\"&Tables!CD72)","v":{"$error":"#REF!"}},{"$f":"INDIRECT(\"RAW!P\"&Tables!CD72)","v":{"$error":"#REF!"}},{"$f":"INDIRECT(\"RAW!Q\"&Tables!CD72)","v":{"$error":"#REF!"}},{"$f":"INDIRECT(\"RAW!T\"&Tables!CD72)","v":{"$error":"#REF!"}},{"$f":"ROUND(2*((INDIRECT(\"RAW!M\"&Tables!CD72)+IF(INDIRECT(\"RAW!N\"&Tables!CD72)=\"ID\",1,-1)*(2*M19+2*N19*Tables!$C$6))/12)^2*PI()/4*448.8,0)&\" to \"&ROUND(5*((INDIRECT(\"RAW!M\"&Tables!CD72)+IF(INDIRECT(\"RAW!N\"&Tables!CD72)=\"ID\",1,-1)*(M19+N19*Tables!$C$6))/12)^2*PI()/4*448.8,0)","v":{"$error":"#REF!"}},null,null,null,null,null,null,null,null,null,null,null,0]
[{"$f":"_xlfn.UNIQUE(B10:B19)","v":0},{"$f":"IF(OR(A20=0,A20=\"\"),\"\",\"                 Total Weight of \"&IF(A20=\"PE\",A20&\"-\"&$R$4,A20)&\" [lbs]\")","v":""},null,null,null,null,null,{"$f":"SUMIF($B$10:$B$19,A20,$H$10:$H$19)","v":0},null,null,{"$f":"IFERROR(VLOOKUP(A20,Tables!$G$5:$I$13,3,FALSE),\"\")","v":""}]
[null,{"$f":"IF(OR(A21=0,A21=\"\"),\"\",\"                 Total Weight of \"&IF(A21=\"PE\",A21&\"-\"&$R$4,A21)&\" [lbs]\")","v":""},null,null,null,null,null,0,null,null,{"$f":"IFERROR(VLOOKUP(A21,Tables!$G$5:$I$13,3,FALSE),\"\")","v":""}]
[null,{"$f":"IF(OR(A22=0,A22=\"\"),\"\",\"                 Total Weight of \"&IF(A22=\"PE\",A22&\"-\"&$R$4,A22)&\" [lbs]\")","v":""},null,null,null,null,null,0,null,null,{"$f":"IFERROR(VLOOKUP(A22,Tables!$G$5:$I$13,3,FALSE),\"\")","v":""}]
[null,"",null,null,null,null,null,0,null,null,{"$f":"IFERROR(VLOOKUP(A23,Tables!$G$5:$I$13,3,FALSE),\"\")","v":""}]
[null,"",null,null,null,null,null,0,null,null,{"$f":"IFERROR(VLOOKUP(A24,Tables!$G$5:$I$13,3,FALSE),\"\")","v":""}]
[null,"",null,null,null,null,null,0,null,null,{"$f":"IFERROR(VLOOKUP(A25,Tables!$G$5:$I$13,3,FALSE),\"\")","v":""}]
[null,{"$f":"IF(AND(K20=\"\",K21=\"\",K22=\"\",K23=\"\",K24=\"\",K25=\"\"),\"\",\"WARNING: \"&IF(K20=\"\",\"\",K20&\"; \")&IF(K21=\"\",\"\",K21&\"; \")&IF(K22=\"\",\"\",K22&\"; \")&IF(K23=\"\",\"\",K23&\"; \")&IF(K24=\"\",\"\",K24&\"; \")&IF(K25=\"\",\"\",K25))","v":""}]

{"sheet":"Calc_Engr","index":2,"n_rows":26,"n_cols":28,"rows_kept":26,"cut":false,"hidden":false,"merged":[]}
[null,null,null,null,null,null,null,null,"Version 1.0 - 02-28-2026"]
[null,null,null,null,null,null,null,null,null,null,null,null,null,null,null,null,null,"Resin used for polyethylene",null,"Method to estimate pipe weight"]
[null,null,null,null,null,null,null,null,null,null,null,null,null,null,null,null,null,"pipe weight estimation",null,"for pipe types not in table"]
[null,null,"Producer:",null,null,null,"Ref #:",null,null,null,null,null,null,null,null,null,null,{"$f":"\"PE\"&Tables!C5","v":"PE4710"},null,"Pipe","Specific","Controlled","Diameter","Wall","Tolerance","Pipe"]
[null,null,"Designed By:",null,"Checked By:",null,"County:",null,null,null,null,null,null,null,null,null,null,null,null,"Material","Gravity","In/Out",null,"Thickness",null,"Weight"]
[null,null,"Designed By Date:",null,"Checked By Date:",null,"Farm/Tract:",null,null,null,null,null,null,null,null,null,null,"Method used to estimate",null,null,"[-]","Diameter","[in]","[in]","[in]","[lb/ft]"]
[null,null,null,null,null,null,null,null,null,null,null,null,null,null,null,null,null,"average wall thickness",null,"Custom",{"$f":"VLOOKUP(T7,Tables!$G$5:$H$14,2,FALSE)","v":0.95899999999999996},"OD",12.75,0.94399999999999995,5.7000000000000002E-2,{"$f":"U7*IF(V7=\"ID\",(W7+(X7+Y7*Tables!$C$6)),(W7-(X7+Y7*Tables!$C$6)))*(X7+Y7*Tables!$C$6)*1.36136","v":14.953205986218496}]
[null,null,null,null,null,null,null,null,null,null,null,null,null,null,null,null,null,{"$f":"Tables!C9","v":"Ave WT"},null,"Custom",{"$f":"VLOOKUP(T8,Tables!$G$5:$H$14,2,FALSE)","v":0.95899999999999996},"OD",12.75,1.0009999999999999,null,{"$f":"U8*IF(V8=\"ID\",(W8+(X8+Y8*Tables!$C$6)),(W8-(X8+Y8*Tables!$C$6)))*(X8+Y8*Tables!$C$6)*1.36136","v":15.354178115035758}]
[null,"Pipe Material","Pipe Diameter Standard\n\n","Nominal Diameter\n\n[in]","Pressure Class & \nWall Thickness\n","Pipe Length\n\n\n[ft]","Unit Pipe Weight \n\n[lbs/ft]","Pipe Weight\n\n[lbs]","Notes",null,null,"Controlled Diameter ID/OD\n[in]","Wall Thickness\n\n[in]"," Tolerance for Wall Thickness\n[in]","ASTM, ASABE, & MRF","Typical Flow\nRange \n(2ft/s to 5ft/s)\n[gpm]"]
[{"$f":"IFERROR(G10,\"\")","v":""},null,null,null,null,null,{"$f":"INDIRECT(\"RAW!R\"&Tables!F72)","v":{"$error":"#REF!"}},{"$f":"IFERROR(F10*G10,\"\")","v":""},{"$f":"IFERROR(O10,\"\")","v":""},null,null,{"$f":"INDIRECT(\"RAW!M\"&Tables!F72)&\"-\"&INDIRECT(\"RAW!n\"&Tables!F72)","v":{"$error":"#REF!"}},{"$f":"INDIRECT(\"RAW!P\"&Tables!F72)","v":{"$error":"#REF!"}},{"$f":"INDIRECT(\"RAW!Q\"&Tables!F72)","v":{"$error":"#REF!"}},{"$f":"INDIRECT(\"RAW!T\"&Tables!F72)","v":{"$error":"#REF!"}},{"$f":"ROUND(2*((INDIRECT(\"RAW!M\"&Tables!F72)+IF(INDIRECT(\"RAW!N\"&Tables!F72)=\"ID\",1,-1)*(2*M10+2*N10*Tables!$C$6))/12)^2*PI()/4*448.8,0)&\" to \"&ROUND(5*((INDIRECT(\"RAW!M\"&Tables!F72)+IF(INDIRECT(\"RAW!N\"&Tables!F72)=\"ID\",1,-1)*(2*M10+2*N10*Tables!$C$6))/12)^2*PI()/4*448.8,0)","v":{"$error":"#REF!"}},null,null,null,null,null,null,null,null,null,null,null,{"$f":"IFERROR(AH10,\"\")","v":0}]
[{"$f":"IFERROR(G11,\"\")","v":""},null,null,null,null,null,{"$f":"INDIRECT(\"RAW!R\"&Tables!J72)","v":{"$error":"#REF!"}},"",{"$f":"IFERROR(O11,\"\")","v":""},null,null,{"$f":"INDIRECT(\"RAW!M\"&Tables!J72)&\"-\"&INDIRECT(\"RAW!n\"&Tables!J72)","v":{"$error":"#REF!"}},{"$f":"INDIRECT(\"RAW!P\"&Tables!J72)","v":{"$error":"#REF!"}},{"$f":"INDIRECT(\"RAW!Q\"&Tables!J72)","v":{"$error":"#REF!"}},{"$f":"INDIRECT(\"RAW!T\"&Tables!J72)","v":{"$error":"#REF!"}},{"$f":"ROUND(2*((INDIRECT(\"RAW!M\"&Tables!J72)+IF(INDIRECT(\"RAW!N\"&Tables!J72)=\"ID\",1,-1)*(2*M11+2*N11*Tables!$C$6))/12)^2*PI()/4*448.8,0)&\" to \"&ROUND(5*((INDIRECT(\"RAW!M\"&Tables!J72)+IF(INDIRECT(\"RAW!N\"&Tables!J72)=\"ID\",1,-1)*(M11+N11*Tables!$C$6))/12)^2*PI()/4*448.8,0)","v":{"$error":"#REF!"}},null,null,null,null,null,null,null,null,null,null,null,{"$f":"IFERROR(AH11,\"\")","v":0}]
["",null,null,null,null,null,{"$f":"INDIRECT(\"RAW!R\"&Tables!N72)","v":{"$error":"#REF!"}},"","",null,null,{"$f":"INDIRECT(\"RAW!M\"&Tables!N72)&\"-\"&INDIRECT(\"RAW!n\"&Tables!N72)","v":{"$error":"#REF!"}},{"$f":"INDIRECT(\"RAW!P\"&Tables!N72)","v":{"$error":"#REF!"}},{"$f":"INDIRECT(\"RAW!Q\"&Tables!N72)","v":{"$error":"#REF!"}},{"$f":"INDIRECT(\"RAW!T\"&Tables!N72)","v":{"$error":"#REF!"}},{"$f":"ROUND(2*((INDIRECT(\"RAW!M\"&Tables!N72)+IF(INDIRECT(\"RAW!N\"&Tables!N72)=\"ID\",1,-1)*(2*M12+2*N12*Tables!$C$6))/12)^2*PI()/4*448.8,0)&\" to \"&ROUND(5*((INDIRECT(\"RAW!M\"&Tables!N72)+IF(INDIRECT(\"RAW!N\"&Tables!N72)=\"ID\",1,-1)*(M12+N12*Tables!$C$6))/12)^2*PI()/4*448.8,0)","v":{"$error":"#REF!"}},null,null,null,null,null,null,null,null,null,null,null,0]
["",null,null,null,null,null,{"$f":"INDIRECT(\"RAW!R\"&Tables!R72)","v":{"$error":"#REF!"}},"","",null,null,{"$f":"INDIRECT(\"RAW!M\"&Tables!R72)&\"_\"&INDIRECT(\"RAW!n\"&Tables!R72)","v":{"$error":"#REF!"}},{"$f":"INDIRECT(\"RAW!P\"&Tables!R72)","v":{"$error":"#REF!"}},{"$f":"INDIRECT(\"RAW!Q\"&Tables!R72)","v":{"$error":"#REF!"}},{"$f":"INDIRECT(\"RAW!T\"&Tables!R72)","v":{"$error":"#REF!"}},{"$f":"ROUND(2*((INDIRECT(\"RAW!M\"&Tables!R72)+IF(INDIRECT(\"RAW!N\"&Tables!R72)=\"ID\",1,-1)*(2*M13+2*N13*Tables!$C$6))/12)^2*PI()/4*448.8,0)&\" to \"&ROUND(5*((INDIRECT(\"RAW!M\"&Tables!R72)+IF(INDIRECT(\"RAW!N\"&Tables!R72)=\"ID\",1,-1)*(M13+N13*Tables!$C$6))/12)^2*PI()/4*448.8,0)","v":{"$error":"#REF!"}},null,null,null,null,null,null,null,null,null,null,null,0]
["",null,null,null,null,null,{"$f":"INDIRECT(\"RAW!R\"&Tables!V72)","v":{"$error":"#REF!"}},"","",null,null,{"$f":"INDIRECT(\"RAW!M\"&Tables!V72)&\"-\"&INDIRECT(\"RAW!n\"&Tables!V72)","v":{"$error":"#REF!"}},{"$f":"INDIRECT(\"RAW!P\"&Tables!V72)","v":{"$error":"#REF!"}},{"$f":"INDIRECT(\"RAW!Q\"&Tables!V72)","v":{"$error":"#REF!"}},{"$f":"INDIRECT(\"RAW!T\"&Tables!V72)","v":{"$error":"#REF!"}},{"$f":"ROUND(2*((INDIRECT(\"RAW!M\"&Tables!V72)+IF(INDIRECT(\"RAW!N\"&Tables!V72)=\"ID\",1,-1)*(2*M14+2*N14*Tables!$C$6))/12)^2*PI()/4*448.8,0)&\" to \"&ROUND(5*((INDIRECT(\"RAW!M\"&Tables!V72)+IF(INDIRECT(\"RAW!N\"&Tables!V72)=\"ID\",1,-1)*(M14+N14*Tables!$C$6))/12)^2*PI()/4*448.8,0)","v":{"$error":"#REF!"}},null,null,null,null,null,null,null,null,null,null,null,0]
["",null,null,null,null,null,{"$f":"INDIRECT(\"RAW!R\"&Tables!Z72)","v":{"$error":"#REF!"}},"","",null,null,{"$f":"INDIRECT(\"RAW!M\"&Tables!Z72)&\"-\"&INDIRECT(\"RAW!n\"&Tables!Z72)","v":{"$error":"#REF!"}},{"$f":"INDIRECT(\"RAW!P\"&Tables!Z72)","v":{"$error":"#REF!"}},{"$f":"INDIRECT(\"RAW!Q\"&Tables!V72)","v":{"$error":"#REF!"}},{"$f":"INDIRECT(\"RAW!T\"&Tables!V72)","v":{"$error":"#REF!"}},{"$f":"ROUND(2*((INDIRECT(\"RAW!M\"&Tables!Z72)+IF(INDIRECT(\"RAW!N\"&Tables!Z72)=\"ID\",1,-1)*(2*M15+2*N15*Tables!$C$6))/12)^2*PI()/4*448.8,0)&\" to \"&ROUND(5*((INDIRECT(\"RAW!M\"&Tables!Z72)+IF(INDIRECT(\"RAW!N\"&Tables!Z72)=\"ID\",1,-1)*(M15+N15*Tables!$C$6))/12)^2*PI()/4*448.8,0)","v":{"$error":"#REF!"}},null,null,null,null,null,null,null,null,null,null,null,0]
["",null,null,null,null,null,{"$f":"INDIRECT(\"RAW!R\"&Tables!AD72)","v":{"$error":"#REF!"}},"","",null,null,{"$f":"INDIRECT(\"RAW!M\"&Tables!AD72)&\"-\"&INDIRECT(\"RAW!n\"&Tables!AD72)","v":{"$error":"#REF!"}},{"$f":"INDIRECT(\"RAW!P\"&Tables!AD72)","v":{"$error":"#REF!"}},{"$f":"INDIRECT(\"RAW!Q\"&Tables!AD72)","v":{"$error":"#REF!"}},{"$f":"INDIRECT(\"RAW!T\"&Tables!AD72)","v":{"$error":"#REF!"}},{"$f":"ROUND(2*((INDIRECT(\"RAW!M\"&Tables!AD72)+IF(INDIRECT(\"RAW!N\"&Tables!AD72)=\"ID\",1,-1)*(2*M16+2*N16*Tables!$C$6))/12)^2*PI()/4*448.8,0)&\" to \"&ROUND(5*((INDIRECT(\"RAW!M\"&Tables!AD72)+IF(INDIRECT(\"RAW!N\"&Tables!AD72)=\"ID\",1,-1)*(M16+N16*Tables!$C$6))/12)^2*PI()/4*448.8,0)","v":{"$error":"#REF!"}},null,null,null,null,null,null,null,null,null,null,null,0]
["",null,null,null,null,null,{"$f":"INDIRECT(\"RAW!R\"&Tables!AH72)","v":{"$error":"#REF!"}},"","",null,null,{"$f":"INDIRECT(\"RAW!M\"&Tables!AH72)&\"-\"&INDIRECT(\"RAW!n\"&Tables!AH72)","v":{"$error":"#REF!"}},{"$f":"INDIRECT(\"RAW!P\"&Tables!AH72)","v":{"$error":"#REF!"}},{"$f":"INDIRECT(\"RAW!Q\"&Tables!AH72)","v":{"$error":"#REF!"}},{"$f":"INDIRECT(\"RAW!T\"&Tables!AH72)","v":{"$error":"#REF!"}},{"$f":"ROUND(2*((INDIRECT(\"RAW!M\"&Tables!AH72)+IF(INDIRECT(\"RAW!N\"&Tables!AH72)=\"ID\",1,-1)*(2*M17+2*N17*Tables!$C$6))/12)^2*PI()/4*448.8,0)&\" to \"&ROUND(5*((INDIRECT(\"RAW!M\"&Tables!AH72)+IF(INDIRECT(\"RAW!N\"&Tables!AH72)=\"ID\",1,-1)*(M17+N17*Tables!$C$6))/12)^2*PI()/4*448.8,0)","v":{"$error":"#REF!"}},null,null,null,null,null,null,null,null,null,null,null,0]
["",null,null,null,null,null,{"$f":"INDIRECT(\"RAW!R\"&Tables!AL72)","v":{"$error":"#REF!"}},"","",null,null,{"$f":"INDIRECT(\"RAW!M\"&Tables!AL72)&\"-\"&INDIRECT(\"RAW!n\"&Tables!AL72)","v":{"$error":"#REF!"}},{"$f":"INDIRECT(\"RAW!P\"&Tables!AL72)","v":{"$error":"#REF!"}},{"$f":"INDIRECT(\"RAW!Q\"&Tables!AL72)","v":{"$error":"#REF!"}},{"$f":"INDIRECT(\"RAW!T\"&Tables!AL72)","v":{"$error":"#REF!"}},{"$f":"ROUND(2*((INDIRECT(\"RAW!M\"&Tables!AL72)+IF(INDIRECT(\"RAW!N\"&Tables!AL72)=\"ID\",1,-1)*(2*M18+2*N18*Tables!$C$6))/12)^2*PI()/4*448.8,0)&\" to \"&ROUND(5*((INDIRECT(\"RAW!M\"&Tables!AL72)+IF(INDIRECT(\"RAW!N\"&Tables!AL72)=\"ID\",1,-1)*(M18+N18*Tables!$C$6))/12)^2*PI()/4*448.8,0)","v":{"$error":"#REF!"}},null,null,null,null,null,null,null,null,null,null,null,0]
[{"$f":"IFERROR(G19,\"\")","v":""},null,null,null,null,null,{"$f":"INDIRECT(\"RAW!R\"&Tables!AP72)","v":{"$error":"#REF!"}},"",{"$f":"IFERROR(O19,\"\")","v":""},null,null,{"$f":"INDIRECT(\"RAW!M\"&Tables!AP72)&\"-\"&INDIRECT(\"RAW!n\"&Tables!AP72)","v":{"$error":"#REF!"}},{"$f":"INDIRECT(\"RAW!P\"&Tables!AP72)","v":{"$error":"#REF!"}},{"$f":"INDIRECT(\"RAW!Q\"&Tables!AP72)","v":{"$error":"#REF!"}},{"$f":"INDIRECT(\"RAW!T\"&Tables!AP72)","v":{"$error":"#REF!"}},{"$f":"ROUND(2*((INDIRECT(\"RAW!M\"&Tables!AP72)+IF(INDIRECT(\"RAW!N\"&Tables!AP72)=\"ID\",1,-1)*(2*M19+2*N19*Tables!$C$6))/12)^2*PI()/4*448.8,0)&\" to \"&ROUND(5*((INDIRECT(\"RAW!M\"&Tables!AP72)+IF(INDIRECT(\"RAW!N\"&Tables!AP72)=\"ID\",1,-1)*(M19+N19*Tables!$C$6))/12)^2*PI()/4*448.8,0)","v":{"$error":"#REF!"}},null,null,null,null,null,null,null,null,null,null,null,{"$f":"IFERROR(AH19,\"\")","v":0}]
[{"$f":"_xlfn.UNIQUE(B10:B19)","v":0},{"$f":"IF(OR(A20=0,A20=\"\"),\"\",\"                 Total Weight of \"&IF(A20=\"PE\",A20&\"-\"&$R$4,A20)&\" [lbs]\")","v":""},null,null,null,null,null,{"$f":"SUMIF($B$10:$B$19,A20,$H$10:$H$19)","v":0},null,null,{"$f":"IFERROR(VLOOKUP(A20,Tables!$G$5:$I$13,3,FALSE),\"\")","v":""}]
[null,"",null,null,null,null,null,0,null,null,{"$f":"IFERROR(VLOOKUP(A21,Tables!$G$5:$I$13,3,FALSE),\"\")","v":""}]
[null,"",null,null,null,null,null,0,null,null,{"$f":"IFERROR(VLOOKUP(A22,Tables!$G$5:$I$13,3,FALSE),\"\")","v":""}]
[null,"",null,null,null,null,null,0,null,null,{"$f":"IFERROR(VLOOKUP(A23,Tables!$G$5:$I$13,3,FALSE),\"\")","v":""}]
[null,"",null,null,null,null,null,0,null,null,{"$f":"IFERROR(VLOOKUP(A24,Tables!$G$5:$I$13,3,FALSE),\"\")","v":""}]
[null,"",null,null,null,null,null,0,null,null,{"$f":"IFERROR(VLOOKUP(A25,Tables!$G$5:$I$13,3,FALSE),\"\")","v":""}]
[null,{"$f":"IF(AND(K20=\"\",K21=\"\",K22=\"\",K23=\"\",K24=\"\",K25=\"\"),\"\",\"WARNING: \"&IF(K20=\"\",\"\",K20&\"; \")&IF(K21=\"\",\"\",K21&\"; \")&IF(K22=\"\",\"\",K22&\"; \")&IF(K23=\"\",\"\",K23&\"; \")&IF(K24=\"\",\"\",K24&\"; \")&IF(K25=\"\",\"\",K25))","v":""}]

{"sheet":"Calc_Adv","index":3,"n_rows":26,"n_cols":28,"rows_kept":26,"cut":false,"hidden":true,"merged":[]}
[null,null,null,null,null,null,null,null,"Version 1.0 - 02-28-2026"]
[null,null,null,null,null,null,null,null,null,null,null,null,null,null,null,null,null,"Resin used for polyethylene",null,"Method to estimate pipe weight"]
[null,null,null,null,null,null,null,null,null,null,null,null,null,null,null,null,null,"pipe weight estimation",null,"for pipe types not in table"]
[null,null,"Producer:",null,null,null,"Ref #:",null,null,null,null,null,null,null,null,null,null,{"$f":"\"PE\"&Tables!C5","v":"PE4710"},null,"Pipe","Specific","Controlled","Diameter","Wall","Tolerance","Pipe"]
[null,null,"Designed By:",null,"Checked By:",null,"County:",null,null,null,null,null,null,null,null,null,null,null,null,"Material","Gravity","In/Out",null,"Thickness",null,"Weight"]
[null,null,"Designed By Date:",null,"Checked By Date:",null,"Farm/Tract:",null,null,null,null,null,null,null,null,null,null,"Method used to estimate",null,null,"[-]","Diameter","[in]","[in]","[in]","[lb/ft]"]
[null,null,null,null,null,null,null,null,null,null,null,null,null,null,null,null,null,"average wall thickness",null,"Custom",{"$f":"VLOOKUP(T7,Tables!$G$5:$H$14,2,FALSE)","v":0.95899999999999996},"OD",6.5,0.42499999999999999,2E-3,{"$f":"VLOOKUP(T7,Tables!$G$7:$H$14,2,FALSE)*IF(V7=\"ID\",(W7+(X7+Y7*Tables!$C$6)),(W7-(X7+Y7*Tables!$C$6)))*(X7+Y7*Tables!$C$6)*1.36136","v":3.3781270540617596}]
[{"$f":"VALUE(LEFT(B9,1))*VALUE(LEFT(C9,1))*VALUE(LEFT(D9,1))*VALUE(LEFT(E9,1))","v":24},{"$f":"IF(A8=24,\"\",\"WARNING: Selected Headings in Cells B9:E9 should include a 1, 2, 3, and 4 in any order\")","v":""},null,null,null,null,null,null,null,null,null,null,null,null,null,null,null,{"$f":"Tables!C9","v":"Ave WT"},null,"Custom",{"$f":"VLOOKUP(T8,Tables!$G$5:$H$14,2,FALSE)","v":0.95899999999999996},"OD",6.5,0.42499999999999999,2E-3,{"$f":"VLOOKUP(T8,Tables!$G$7:$H$14,2,FALSE)*IF(V8=\"ID\",(W8+(X8+Y8*Tables!$C$6)),(W8-(X8+Y8*Tables!$C$6)))*(X8+Y8*Tables!$C$6)*1.36136","v":3.3781270540617596}]
[null,"3 Nominal Diameter \n[in]","2 Pressure \n[psi]","1 Pipe Material Type","4 SDR_Pressure Combined","Pipe Length\n\n\n[ft]","Unit Pipe Weight \n\n[lbs/ft]","Pipe Weight\n\n[lbs]","Notes",null,null,"Controlled Diameter ID/OD\n[in]","Wall Thickness\n\n[in]"," Tolerance for Wall Thickness\n[in]","ASTM, ASABE, & MRF","Typical Flow\nRange \n(2ft/s to 5ft/s)\n[gpm]"]
[{"$f":"IFERROR(G10,\"\")","v":""},null,null,null,null,null,{"$f":"INDIRECT(\"RAW!R\"&Tables!CI72)","v":{"$error":"#REF!"}},{"$f":"IFERROR(F10*G10,\"\")","v":""},{"$f":"IFERROR(O10,\"\")","v":""},{"$f":"IFERROR(IF(LEFT($B$9,1)=\"1\",IF(LEFT($B$9,3)=\"1 A\",VLOOKUP(B10,Tables!$U$4:$X$30,4,FALSE),B10),IF(LEFT($C$9,1)=\"1\",IF(LEFT($C$9,3)=\"1 A\",VLOOKUP(C10,Tables!$U$4:$X$30,4,FALSE),C10),IF(LEFT($D$9,1)=\"1\",IF(LEFT($D$9,3)=\"1 A\",VLOOKUP(D10,Tables!$U$4:$X$30,4,FALSE),D10),IF(LEFT($E$9,1)=\"1\",IF(LEFT($E$9,3)=\"1 A\",VLOOKUP(E10,Tables!$U$4:$X$30,4,FALSE),E10),\"\")))),0)","v":0},null,{"$f":"INDIRECT(\"RAW!M\"&Tables!CI72)&\"-\"&INDIRECT(\"RAW!N\"&Tables!CI72)","v":{"$error":"#REF!"}},{"$f":"INDIRECT(\"RAW!P\"&Tables!CI72)","v":{"$error":"#REF!"}},{"$f":"INDIRECT(\"RAW!Q\"&Tables!CI72)","v":{"$error":"#REF!"}},{"$f":"INDIRECT(\"RAW!T\"&Tables!CI72)","v":{"$error":"#REF!"}},{"$f":"ROUND(2*((INDIRECT(\"RAW!M\"&Tables!CI72)+IF(INDIRECT(\"RAW!N\"&Tables!CI72)=\"ID\",1,-1)*(2*M10+2*N10*Tables!$C$6))/12)^2*PI()/4*448.8,0)&\" to \"&ROUND(5*((INDIRECT(\"RAW!M\"&Tables!CI72)+IF(INDIRECT(\"RAW!N\"&Tables!CI72)=\"ID\",1,-1)*(M10+N10*Tables!$C$6))/12)^2*PI()/4*448.8,0)","v":{"$error":"#REF!"}},null,null,null,null,null,null,null,null,null,null,null,{"$f":"IFERROR(AH10,\"\")","v":0}]
["",null,null,null,null,null,{"$f":"INDIRECT(\"RAW!R\"&Tables!CM72)","v":{"$error":"#REF!"}},"","",{"$f":"IFERROR(IF(LEFT($B$9,1)=\"1\",IF(LEFT($B$9,3)=\"1 A\",VLOOKUP(B11,Tables!$U$4:$X$30,4,FALSE),B11),IF(LEFT($C$9,1)=\"1\",IF(LEFT($C$9,3)=\"1 A\",VLOOKUP(C11,Tables!$U$4:$X$30,4,FALSE),C11),IF(LEFT($D$9,1)=\"1\",IF(LEFT($D$9,3)=\"1 A\",VLOOKUP(D11,Tables!$U$4:$X$30,4,FALSE),D11),IF(LEFT($E$9,1)=\"1\",IF(LEFT($E$9,3)=\"1 A\",VLOOKUP(E11,Tables!$U$4:$X$30,4,FALSE),E11),\"\")))),0)","v":0},null,{"$f":"INDIRECT(\"RAW!M\"&Tables!CM72)&\"-\"&INDIRECT(\"RAW!N\"&Tables!CM72)","v":{"$error":"#REF!"}},{"$f":"INDIRECT(\"RAW!P\"&Tables!CM72)","v":{"$error":"#REF!"}},{"$f":"INDIRECT(\"RAW!Q\"&Tables!CM72)","v":{"$error":"#REF!"}},{"$f":"INDIRECT(\"RAW!T\"&Tables!CM72)","v":{"$error":"#REF!"}},{"$f":"ROUND(2*((INDIRECT(\"RAW!M\"&Tables!CM72)+IF(INDIRECT(\"RAW!N\"&Tables!CM72)=\"ID\",1,-1)*(2*M11+2*N11*Tables!$C$6))/12)^2*PI()/4*448.8,0)&\" to \"&ROUND(5*((INDIRECT(\"RAW!M\"&Tables!CM72)+IF(INDIRECT(\"RAW!N\"&Tables!CM72)=\"ID\",1,-1)*(M11+N11*Tables!$C$6))/12)^2*PI()/4*448.8,0)","v":{"$error":"#REF!"}},null,null,null,null,null,null,null,null,null,null,null,0]
["",null,null,null,null,null,{"$f":"INDIRECT(\"RAW!R\"&Tables!CQ72)","v":{"$error":"#REF!"}},"","",{"$f":"IFERROR(IF(LEFT($B$9,1)=\"1\",IF(LEFT($B$9,3)=\"1 A\",VLOOKUP(B12,Tables!$U$4:$X$30,4,FALSE),B12),IF(LEFT($C$9,1)=\"1\",IF(LEFT($C$9,3)=\"1 A\",VLOOKUP(C12,Tables!$U$4:$X$30,4,FALSE),C12),IF(LEFT($D$9,1)=\"1\",IF(LEFT($D$9,3)=\"1 A\",VLOOKUP(D12,Tables!$U$4:$X$30,4,FALSE),D12),IF(LEFT($E$9,1)=\"1\",IF(LEFT($E$9,3)=\"1 A\",VLOOKUP(E12,Tables!$U$4:$X$30,4,FALSE),E12),\"\")))),0)","v":0},null,{"$f":"INDIRECT(\"RAW!M\"&Tables!CQ72)&\"-\"&INDIRECT(\"RAW!N\"&Tables!CQ72)","v":{"$error":"#REF!"}},{"$f":"INDIRECT(\"RAW!P\"&Tables!CQ72)","v":{"$error":"#REF!"}},{"$f":"INDIRECT(\"RAW!Q\"&Tables!CQ72)","v":{"$error":"#REF!"}},{"$f":"INDIRECT(\"RAW!T\"&Tables!CQ72)","v":{"$error":"#REF!"}},{"$f":"ROUND(2*((INDIRECT(\"RAW!M\"&Tables!CQ72)+IF(INDIRECT(\"RAW!N\"&Tables!CQ72)=\"ID\",1,-1)*(2*M12+2*N12*Tables!$C$6))/12)^2*PI()/4*448.8,0)&\" to \"&ROUND(5*((INDIRECT(\"RAW!M\"&Tables!CQ72)+IF(INDIRECT(\"RAW!N\"&Tables!CQ72)=\"ID\",1,-1)*(M12+N12*Tables!$C$6))/12)^2*PI()/4*448.8,0)","v":{"$error":"#REF!"}},null,null,null,null,null,null,null,null,null,null,null,0]
["",null,null,null,null,null,{"$f":"INDIRECT(\"RAW!R\"&Tables!CU72)","v":{"$error":"#REF!"}},"","",{"$f":"IFERROR(IF(LEFT($B$9,1)=\"1\",IF(LEFT($B$9,3)=\"1 A\",VLOOKUP(B13,Tables!$U$4:$X$30,4,FALSE),B13),IF(LEFT($C$9,1)=\"1\",IF(LEFT($C$9,3)=\"1 A\",VLOOKUP(C13,Tables!$U$4:$X$30,4,FALSE),C13),IF(LEFT($D$9,1)=\"1\",IF(LEFT($D$9,3)=\"1 A\",VLOOKUP(D13,Tables!$U$4:$X$30,4,FALSE),D13),IF(LEFT($E$9,1)=\"1\",IF(LEFT($E$9,3)=\"1 A\",VLOOKUP(E13,Tables!$U$4:$X$30,4,FALSE),E13),\"\")))),0)","v":0},null,{"$f":"INDIRECT(\"RAW!M\"&Tables!CU72)&\"-\"&INDIRECT(\"RAW!N\"&Tables!CU72)","v":{"$error":"#REF!"}},{"$f":"INDIRECT(\"RAW!P\"&Tables!CU72)","v":{"$error":"#REF!"}},{"$f":"INDIRECT(\"RAW!Q\"&Tables!CU72)","v":{"$error":"#REF!"}},{"$f":"INDIRECT(\"RAW!T\"&Tables!CU72)","v":{"$error":"#REF!"}},{"$f":"ROUND(2*((INDIRECT(\"RAW!M\"&Tables!CU72)+IF(INDIRECT(\"RAW!N\"&Tables!CU72)=\"ID\",1,-1)*(2*M13+2*N13*Tables!$C$6))/12)^2*PI()/4*448.8,0)&\" to \"&ROUND(5*((INDIRECT(\"RAW!M\"&Tables!CU72)+IF(INDIRECT(\"RAW!N\"&Tables!CU72)=\"ID\",1,-1)*(M13+N13*Tables!$C$6))/12)^2*PI()/4*448.8,0)","v":{"$error":"#REF!"}},null,null,null,null,null,null,null,null,null,null,null,0]
["",null,null,null,null,null,{"$f":"INDIRECT(\"RAW!R\"&Tables!CY72)","v":{"$error":"#REF!"}},"","",{"$f":"IFERROR(IF(LEFT($B$9,1)=\"1\",IF(LEFT($B$9,3)=\"1 A\",VLOOKUP(B14,Tables!$U$4:$X$30,4,FALSE),B14),IF(LEFT($C$9,1)=\"1\",IF(LEFT($C$9,3)=\"1 A\",VLOOKUP(C14,Tables!$U$4:$X$30,4,FALSE),C14),IF(LEFT($D$9,1)=\"1\",IF(LEFT($D$9,3)=\"1 A\",VLOOKUP(D14,Tables!$U$4:$X$30,4,FALSE),D14),IF(LEFT($E$9,1)=\"1\",IF(LEFT($E$9,3)=\"1 A\",VLOOKUP(E14,Tables!$U$4:$X$30,4,FALSE),E14),\"\")))),0)","v":0},null,{"$f":"INDIRECT(\"RAW!M\"&Tables!CY72)&\"-\"&INDIRECT(\"RAW!N\"&Tables!CY72)","v":{"$error":"#REF!"}},{"$f":"INDIRECT(\"RAW!P\"&Tables!CY72)","v":{"$error":"#REF!"}},{"$f":"INDIRECT(\"RAW!Q\"&Tables!CY72)","v":{"$error":"#REF!"}},{"$f":"INDIRECT(\"RAW!T\"&Tables!CY72)","v":{"$error":"#REF!"}},{"$f":"ROUND(2*((INDIRECT(\"RAW!M\"&Tables!CY72)+IF(INDIRECT(\"RAW!N\"&Tables!CY72)=\"ID\",1,-1)*(2*M14+2*N14*Tables!$C$6))/12)^2*PI()/4*448.8,0)&\" to \"&ROUND(5*((INDIRECT(\"RAW!M\"&Tables!CY72)+IF(INDIRECT(\"RAW!N\"&Tables!CY72)=\"ID\",1,-1)*(M14+N14*Tables!$C$6))/12)^2*PI()/4*448.8,0)","v":{"$error":"#REF!"}},null,null,null,null,null,null,null,null,null,null,null,0]
["",null,null,null,null,null,{"$f":"INDIRECT(\"RAW!R\"&Tables!DC72)","v":{"$error":"#REF!"}},"","",{"$f":"IFERROR(IF(LEFT($B$9,1)=\"1\",IF(LEFT($B$9,3)=\"1 A\",VLOOKUP(B15,Tables!$U$4:$X$30,4,FALSE),B15),IF(LEFT($C$9,1)=\"1\",IF(LEFT($C$9,3)=\"1 A\",VLOOKUP(C15,Tables!$U$4:$X$30,4,FALSE),C15),IF(LEFT($D$9,1)=\"1\",IF(LEFT($D$9,3)=\"1 A\",VLOOKUP(D15,Tables!$U$4:$X$30,4,FALSE),D15),IF(LEFT($E$9,1)=\"1\",IF(LEFT($E$9,3)=\"1 A\",VLOOKUP(E15,Tables!$U$4:$X$30,4,FALSE),E15),\"\")))),0)","v":0},null,{"$f":"INDIRECT(\"RAW!M\"&Tables!DC72)&\"-\"&INDIRECT(\"RAW!N\"&Tables!DC72)","v":{"$error":"#REF!"}},{"$f":"INDIRECT(\"RAW!P\"&Tables!DC72)","v":{"$error":"#REF!"}},{"$f":"INDIRECT(\"RAW!Q\"&Tables!DC72)","v":{"$error":"#REF!"}},{"$f":"INDIRECT(\"RAW!T\"&Tables!DC72)","v":{"$error":"#REF!"}},{"$f":"ROUND(2*((INDIRECT(\"RAW!M\"&Tables!DC72)+IF(INDIRECT(\"RAW!N\"&Tables!DC72)=\"ID\",1,-1)*(2*M15+2*N15*Tables!$C$6))/12)^2*PI()/4*448.8,0)&\" to \"&ROUND(5*((INDIRECT(\"RAW!M\"&Tables!DC72)+IF(INDIRECT(\"RAW!N\"&Tables!DC72)=\"ID\",1,-1)*(M15+N15*Tables!$C$6))/12)^2*PI()/4*448.8,0)","v":{"$error":"#REF!"}},null,null,null,null,null,null,null,null,null,null,null,0]
["",null,null,null,null,null,{"$f":"INDIRECT(\"RAW!R\"&Tables!DG72)","v":{"$error":"#REF!"}},"","",{"$f":"IFERROR(IF(LEFT($B$9,1)=\"1\",IF(LEFT($B$9,3)=\"1 A\",VLOOKUP(B16,Tables!$U$4:$X$30,4,FALSE),B16),IF(LEFT($C$9,1)=\"1\",IF(LEFT($C$9,3)=\"1 A\",VLOOKUP(C16,Tables!$U$4:$X$30,4,FALSE),C16),IF(LEFT($D$9,1)=\"1\",IF(LEFT($D$9,3)=\"1 A\",VLOOKUP(D16,Tables!$U$4:$X$30,4,FALSE),D16),IF(LEFT($E$9,1)=\"1\",IF(LEFT($E$9,3)=\"1 A\",VLOOKUP(E16,Tables!$U$4:$X$30,4,FALSE),E16),\"\")))),0)","v":0},null,{"$f":"INDIRECT(\"RAW!M\"&Tables!DG72)&\"-\"&INDIRECT(\"RAW!N\"&Tables!DG72)","v":{"$error":"#REF!"}},{"$f":"INDIRECT(\"RAW!P\"&Tables!DG72)","v":{"$error":"#REF!"}},{"$f":"INDIRECT(\"RAW!Q\"&Tables!DG72)","v":{"$error":"#REF!"}},{"$f":"INDIRECT(\"RAW!T\"&Tables!DG72)","v":{"$error":"#REF!"}},{"$f":"ROUND(2*((INDIRECT(\"RAW!M\"&Tables!DG72)+IF(INDIRECT(\"RAW!N\"&Tables!DG72)=\"ID\",1,-1)*(2*M16+2*N16*Tables!$C$6))/12)^2*PI()/4*448.8,0)&\" to \"&ROUND(5*((INDIRECT(\"RAW!M\"&Tables!DG72)+IF(INDIRECT(\"RAW!N\"&Tables!DG72)=\"ID\",1,-1)*(M16+N16*Tables!$C$6))/12)^2*PI()/4*448.8,0)","v":{"$error":"#REF!"}},null,null,null,null,null,null,null,null,null,null,null,0]
["",null,null,null,null,null,{"$f":"INDIRECT(\"RAW!R\"&Tables!DK72)","v":{"$error":"#REF!"}},"","",{"$f":"IFERROR(IF(LEFT($B$9,1)=\"1\",IF(LEFT($B$9,3)=\"1 A\",VLOOKUP(B17,Tables!$U$4:$X$30,4,FALSE),B17),IF(LEFT($C$9,1)=\"1\",IF(LEFT($C$9,3)=\"1 A\",VLOOKUP(C17,Tables!$U$4:$X$30,4,FALSE),C17),IF(LEFT($D$9,1)=\"1\",IF(LEFT($D$9,3)=\"1 A\",VLOOKUP(D17,Tables!$U$4:$X$30,4,FALSE),D17),IF(LEFT($E$9,1)=\"1\",IF(LEFT($E$9,3)=\"1 A\",VLOOKUP(E17,Tables!$U$4:$X$30,4,FALSE),E17),\"\")))),0)","v":0},null,{"$f":"INDIRECT(\"RAW!M\"&Tables!DK72)&\"-\"&INDIRECT(\"RAW!N\"&Tables!DK72)","v":{"$error":"#REF!"}},{"$f":"INDIRECT(\"RAW!P\"&Tables!DK72)","v":{"$error":"#REF!"}},{"$f":"INDIRECT(\"RAW!Q\"&Tables!DK72)","v":{"$error":"#REF!"}},{"$f":"INDIRECT(\"RAW!T\"&Tables!DK72)","v":{"$error":"#REF!"}},{"$f":"ROUND(2*((INDIRECT(\"RAW!M\"&Tables!DK72)+IF(INDIRECT(\"RAW!N\"&Tables!DK72)=\"ID\",1,-1)*(2*M17+2*N17*Tables!$C$6))/12)^2*PI()/4*448.8,0)&\" to \"&ROUND(5*((INDIRECT(\"RAW!M\"&Tables!DK72)+IF(INDIRECT(\"RAW!N\"&Tables!DK72)=\"ID\",1,-1)*(M17+N17*Tables!$C$6))/12)^2*PI()/4*448.8,0)","v":{"$error":"#REF!"}},null,null,null,null,null,null,null,null,null,null,null,0]
["",null,null,null,null,null,{"$f":"INDIRECT(\"RAW!R\"&Tables!DO72)","v":{"$error":"#REF!"}},"","",{"$f":"IFERROR(IF(LEFT($B$9,1)=\"1\",IF(LEFT($B$9,3)=\"1 A\",VLOOKUP(B18,Tables!$U$4:$X$30,4,FALSE),B18),IF(LEFT($C$9,1)=\"1\",IF(LEFT($C$9,3)=\"1 A\",VLOOKUP(C18,Tables!$U$4:$X$30,4,FALSE),C18),IF(LEFT($D$9,1)=\"1\",IF(LEFT($D$9,3)=\"1 A\",VLOOKUP(D18,Tables!$U$4:$X$30,4,FALSE),D18),IF(LEFT($E$9,1)=\"1\",IF(LEFT($E$9,3)=\"1 A\",VLOOKUP(E18,Tables!$U$4:$X$30,4,FALSE),E18),\"\")))),0)","v":0},null,{"$f":"INDIRECT(\"RAW!M\"&Tables!DO72)&\"-\"&INDIRECT(\"RAW!n\"&Tables!DO72)","v":{"$error":"#REF!"}},{"$f":"INDIRECT(\"RAW!P\"&Tables!DO72)","v":{"$error":"#REF!"}},{"$f":"INDIRECT(\"RAW!Q\"&Tables!DO72)","v":{"$error":"#REF!"}},{"$f":"INDIRECT(\"RAW!T\"&Tables!DO72)","v":{"$error":"#REF!"}},{"$f":"ROUND(2*((INDIRECT(\"RAW!M\"&Tables!DO72)+IF(INDIRECT(\"RAW!N\"&Tables!DO72)=\"ID\",1,-1)*(2*M18+2*N18*Tables!$C$6))/12)^2*PI()/4*448.8,0)&\" to \"&ROUND(5*((INDIRECT(\"RAW!M\"&Tables!DO72)+IF(INDIRECT(\"RAW!N\"&Tables!DO72)=\"ID\",1,-1)*(M18+N18*Tables!$C$6))/12)^2*PI()/4*448.8,0)","v":{"$error":"#REF!"}},null,null,null,null,null,null,null,null,null,null,null,0]
["",null,null,null,null,null,{"$f":"INDIRECT(\"RAW!R\"&Tables!DS72)","v":{"$error":"#REF!"}},"","",{"$f":"IFERROR(IF(LEFT($B$9,1)=\"1\",IF(LEFT($B$9,3)=\"1 A\",VLOOKUP(B19,Tables!$U$4:$X$30,4,FALSE),B19),IF(LEFT($C$9,1)=\"1\",IF(LEFT($C$9,3)=\"1 A\",VLOOKUP(C19,Tables!$U$4:$X$30,4,FALSE),C19),IF(LEFT($D$9,1)=\"1\",IF(LEFT($D$9,3)=\"1 A\",VLOOKUP(D19,Tables!$U$4:$X$30,4,FALSE),D19),IF(LEFT($E$9,1)=\"1\",IF(LEFT($E$9,3)=\"1 A\",VLOOKUP(E19,Tables!$U$4:$X$30,4,FALSE),E19),\"\")))),0)","v":0},null,{"$f":"INDIRECT(\"RAW!M\"&Tables!DS72)&\"-\"&INDIRECT(\"RAW!N\"&Tables!DS72)","v":{"$error":"#REF!"}},{"$f":"INDIRECT(\"RAW!P\"&Tables!DS72)","v":{"$error":"#REF!"}},{"$f":"INDIRECT(\"RAW!Q\"&Tables!DS72)","v":{"$error":"#REF!"}},{"$f":"INDIRECT(\"RAW!T\"&Tables!DS72)","v":{"$error":"#REF!"}},{"$f":"ROUND(2*((INDIRECT(\"RAW!M\"&Tables!DS72)+IF(INDIRECT(\"RAW!N\"&Tables!DS72)=\"ID\",1,-1)*(2*M19+2*N19*Tables!$C$6))/12)^2*PI()/4*448.8,0)&\" to \"&ROUND(5*((INDIRECT(\"RAW!M\"&Tables!DS72)+IF(INDIRECT(\"RAW!N\"&Tables!DS72)=\"ID\",1,-1)*(M19+N19*Tables!$C$6))/12)^2*PI()/4*448.8,0)","v":{"$error":"#REF!"}},null,null,null,null,null,null,null,null,null,null,null,0]
[{"$f":"_xlfn.UNIQUE(J10:J19)","v":0},{"$f":"IF(OR(A20=0,A20=\"\"),\"\",\"                 Total Weight of \"&IF(A20=\"PE\",A20&\"-\"&$R$4,A20)&\" [lbs]\")","v":""},null,null,null,null,null,{"$f":"SUMIF($J$10:$J$19,A20,$H$10:$H$19)","v":0},null,null,{"$f":"IFERROR(VLOOKUP(A20,Tables!$G$5:$I$13,3,FALSE),\"\")","v":""}]
[null,"",null,null,null,null,null,0,null,null,{"$f":"IFERROR(VLOOKUP(A21,Tables!$G$5:$I$13,3,FALSE),\"\")","v":""}]
[null,"",null,null,null,null,null,0,null,null,{"$f":"IFERROR(VLOOKUP(A22,Tables!$G$5:$I$13,3,FALSE),\"\")","v":""}]
[null,"",null,null,null,null,null,0,null,null,{"$f":"IFERROR(VLOOKUP(A23,Tables!$G$5:$I$13,3,FALSE),\"\")","v":""}]
[null,"",null,null,null,null,null,0,null,null,{"$f":"IFERROR(VLOOKUP(A24,Tables!$G$5:$I$13,3,FALSE),\"\")","v":""}]
[null,"",null,null,null,null,null,0,null,null,{"$f":"IFERROR(VLOOKUP(A25,Tables!$G$5:$I$13,3,FALSE),\"\")","v":""}]
[null,{"$f":"IF(AND(K20=\"\",K21=\"\",K22=\"\",K23=\"\",K24=\"\",K25=\"\"),\"\",\"WARNING: \"&IF(K20=\"\",\"\",K20&\"; \")&IF(K21=\"\",\"\",K21&\"; \")&IF(K22=\"\",\"\",K22&\"; \")&IF(K23=\"\",\"\",K23&\"; \")&IF(K24=\"\",\"\",K24&\"; \")&IF(K25=\"\",\"\",K25))","v":""}]

{"sheet":"RAW","index":4,"n_rows":2200,"n_cols":47,"rows_kept":2200,"cut":false,"hidden":true,"merged":[]}
[null,null,null,null,"Row()","Pipe Material Type","Pipe Diameter Standard","Nominal Diameter\n\n\n\n[in]","Diameter Display\n\n\n[in]","SDR_Pressure Combined","SDR\n\n\n\n\n[-]","Pressure\n\n\n\n\n[psi]","Min Inside or Outside Diameter\n\n[in]","Controlled Diameter\n\n\n[in]","Out OF Round\n\n\n\n[in]","Wall Thickness\n\n\n[in]","Wall Tolerance\n\n\n[in]","Pipe Weight \n\n\n\n[lbs/ft]","Pipe Diameter Standard/Controlled Diameter&Thickness","References (ASTM)"]
[null,null,null,1,{"$f":"ROW()","v":2},"PVC","IPS (DR)",0.125,"1/8",{"$f":"L2&\" psi   DR-\"&K2","v":"315 psi   DR-13.5"},13.5,{"$f":"VLOOKUP(K2,Tables!$C$17:$D$34,2,FALSE)","v":315},0.40500000000000003,"OD",1.6E-2,0.06,0.02,{"$f":"VLOOKUP(F2,Tables!$G$5:$H$14,2,FALSE)*(M2-(P2+Q2*Tables!$C$6))*(P2+Q2*Tables!$C$6)*1.36136","v":4.4693448799999994E-2},{"$f":"\"Controlled OD (DR-\"&K2&\") Iron Pipe Size\"","v":"Controlled OD (DR-13.5) Iron Pipe Size"},"ASTM D2241"]
[null,null,null,null,{"$f":"ROW()","v":3},"PVC","IPS (DR)",0.25,"1/4","315 psi   DR-13.5",13.5,{"$f":"VLOOKUP(K3,Tables!$C$17:$D$34,2,FALSE)","v":315},0.54,"OD",1.6E-2,0.06,0.02,{"$f":"VLOOKUP(F3,Tables!$G$5:$H$14,2,FALSE)*(M3-(P3+Q3*Tables!$C$6))*(P3+Q3*Tables!$C$6)*1.36136","v":6.2704241599999988E-2},{"$f":"\"Controlled OD (DR-\"&K3&\") Iron Pipe Size\"","v":"Controlled OD (DR-13.5) Iron Pipe Size"},"ASTM D2241",null,null,null,null,null,null,null,null,null,null,null,"Not Standard Pipe"]
[null,null,null,null,{"$f":"ROW()","v":4},"PVC","IPS (DR)",0.375,"3/8","315 psi   DR-13.5",13.5,{"$f":"VLOOKUP(K4,Tables!$C$17:$D$34,2,FALSE)","v":315},0.67500000000000004,"OD",1.6E-2,0.06,0.02,{"$f":"VLOOKUP(F4,Tables!$G$5:$H$14,2,FALSE)*(M4-(P4+Q4*Tables!$C$6))*(P4+Q4*Tables!$C$6)*1.36136","v":8.0715034399999996E-2},"Controlled OD (DR-13.5) Iron Pipe Size","ASTM D2241",null,null,null,null,null,null,null,null,null,null,null,null,"Steel or Aluminum","Corrugated Steel Pipe","12.000","12",null,"12.000",null,null,"10",null,"0.138",null,null,null,19]
[null,null,null,null,{"$f":"ROW()","v":5},"PVC","IPS (DR)",0.5,"1/2","315 psi   DR-13.5",13.5,{"$f":"VLOOKUP(K5,Tables!$C$17:$D$34,2,FALSE)","v":315},0.84,"OD",1.6E-2,6.2E-2,0.02,{"$f":"VLOOKUP(F5,Tables!$G$5:$H$14,2,FALSE)*(M5-(P5+Q5*Tables!$C$6))*(P5+Q5*Tables!$C$6)*1.36136","v":0.10538886758399998},"Controlled OD (DR-13.5) Iron Pipe Size","ASTM D2241",null,null,null,null,null,null,null,null,null,null,null,null,"Steel or Aluminum","Corrugated Steel Pipe","12.000","12",null,"12.000",null,null,"8",null,"0.168",null,null,null,63]
[null,null,null,null,{"$f":"ROW()","v":6},"PVC","IPS (DR)",0.75,"3/4","200 psi   DR-21",21,{"$f":"VLOOKUP(K6,Tables!$C$17:$D$34,2,FALSE)","v":200},1.05,"OD",0.03,0.06,0.02,{"$f":"VLOOKUP(F6,Tables!$G$5:$H$14,2,FALSE)*(M6-(P6+Q6*Tables!$C$6))*(P6+Q6*Tables!$C$6)*1.36136","v":0.1307450144},"Controlled OD (DR-21) Iron Pipe Size","ASTM D2241",null,null,null,null,null,null,null,null,null,null,null,null,"Steel or Aluminum","Corrugated Steel Pipe","15.000","15",null,"15.000",null,null,"10",null,"0.138",null,null,null,64]
[null,null,null,null,{"$f":"ROW()","v":7},"PVC","IPS (DR)",0.75,"3/4","250 psi   DR-17",17,{"$f":"VLOOKUP(K7,Tables!$C$17:$D$34,2,FALSE)","v":250},1.05,"OD",0.02,6.2E-2,0.02,{"$f":"VLOOKUP(F7,Tables!$G$5:$H$14,2,FALSE)*(M7-(P7+Q7*Tables!$C$6))*(P7+Q7*Tables!$C$6)*1.36136","v":0.13420613606399998},"Controlled OD (DR-17) Iron Pipe Size","ASTM D2241",null,null,null,null,null,null,null,null,null,null,null,null,"Steel or Aluminum","Corrugated Steel Pipe","15.000","15",null,"15.000",null,null,"8",null,"0.168",null,null,null,40]
[null,null,null,null,{"$f":"ROW()","v":8},"PVC","IPS (DR)",0.75,"3/4","315 psi   DR-13.5",13.5,{"$f":"VLOOKUP(K8,Tables!$C$17:$D$34,2,FALSE)","v":315},1.05,"OD",0.02,7.8E-2,0.02,{"$f":"VLOOKUP(F8,Tables!$G$5:$H$14,2,FALSE)*(M8-(P8+Q8*Tables!$C$6))*(P8+Q8*Tables!$C$6)*1.36136","v":0.16134620902399999},"Controlled OD (DR-13.5) Iron Pipe Size","ASTM D2241",null,null,null,null,null,null,null,null,null,null,null,null,"Steel or Aluminum","Corrugated Steel Pipe","18.000","18",null,"18.000",null,null,"10",null,"0.138",null,null,null,23]
[null,null,null,null,{"$f":"ROW()","v":9},"PVC","IPS (DR)",1,"1","160 psi   DR-26",26,{"$f":"VLOOKUP(K9,Tables!$C$17:$D$34,2,FALSE)","v":160},1.3149999999999999,"OD",0.03,0.06,0.02,{"$f":"VLOOKUP(F9,Tables!$G$5:$H$14,2,FALSE)*(M9-(P9+Q9*Tables!$C$6))*(P9+Q9*Tables!$C$6)*1.36136","v":0.16609953359999993},"Controlled OD (DR-26) Iron Pipe Size","ASTM D2241",null,null,null,null,null,null,null,null,null,null,null,null,"Steel or Aluminum","Corrugated Steel Pipe","18.000","18",null,"18.000",null,null,"8",null,"0.168",null,null,null,1]
[null,null,null,null,{"$f":"ROW()","v":10},"PVC","IPS (DR)",1,"1","200 psi   DR-21",21,{"$f":"VLOOKUP(K10,Tables!$C$17:$D$34,2,FALSE)","v":200},1.3149999999999999,"OD",0.03,6.3E-2,0.02,{"$f":"VLOOKUP(F10,Tables!$G$5:$H$14,2,FALSE)*(M10-(P10+Q10*Tables!$C$6))*(P10+Q10*Tables!$C$6)*1.36136","v":0.17280069206399995},"Controlled OD (DR-21) Iron Pipe Size","ASTM D2241",null,null,null,null,null,null,null,null,null,null,null,null,"Steel or Aluminum","Corrugated Steel Pipe","21.000","21",null,"21.000",null,null,"10",null,"0.138",null,null,null,5]
[null,null,null,null,{"$f":"ROW()","v":11},"PVC","IPS (DR)",1,"1","250 psi   DR-17",17,{"$f":"VLOOKUP(K11,Tables!$C$17:$D$34,2,FALSE)","v":250},1.3149999999999999,"OD",0.02,7.6999999999999999E-2,0.02,{"$f":"VLOOKUP(F11,Tables!$G$5:$H$14,2,FALSE)*(M11-(P11+Q11*Tables!$C$6))*(P11+Q11*Tables!$C$6)*1.36136","v":0.20361915974399994},"Controlled OD (DR-17) Iron Pipe Size","ASTM D2241",null,null,null,null,null,null,null,null,null,null,null,null,"Steel or Aluminum","Corrugated Steel Pipe","21.000","21",null,"21.000",null,null,"8",null,"0.168",null,null,null,43]
[null,null,null,null,{"$f":"ROW()","v":12},"PVC","IPS (DR)",1,"1","315 psi   DR-13.5",13.5,{"$f":"VLOOKUP(K12,Tables!$C$17:$D$34,2,FALSE)","v":315},1.3149999999999999,"OD",0.02,9.7000000000000003E-2,0.02,{"$f":"VLOOKUP(F12,Tables!$G$5:$H$14,2,FALSE)*(M12-(P12+Q12*Tables!$C$6))*(P12+Q12*Tables!$C$6)*1.36136","v":0.24634952742399993},"Controlled OD (DR-13.5) Iron Pipe Size","ASTM D2241",null,null,null,null,null,null,null,null,null,null,null,null,"Steel or Aluminum","Corrugated Steel Pipe","24.000","24",null,"24.000",null,null,"8",null,"0.168",null,null,null,21]
[null,null,null,null,{"$f":"ROW()","v":13},"PVC","IPS (DR)",1.25,"1 1/4","125 psi   DR-32.5",32.5,{"$f":"VLOOKUP(K13,Tables!$C$17:$D$34,2,FALSE)","v":125},1.66,"OD",0.03,0.06,0.02,{"$f":"VLOOKUP(F13,Tables!$G$5:$H$14,2,FALSE)*(M13-(P13+Q13*Tables!$C$6))*(P13+Q13*Tables!$C$6)*1.36136","v":0.21212711519999994},"Controlled OD (DR-32.5) Iron Pipe Size","ASTM D2241",null,null,null,null,null,null,null,null,null,null,null,null,"Steel or Aluminum","Corrugated Steel Pipe","30.000","30",null,"30.000",null,null,"8",null,"0.168",null,null,null,50]
[null,null,null,null,{"$f":"ROW()","v":14},"PVC","IPS (DR)",1.25,"1 1/4","160 psi   DR-26",26,{"$f":"VLOOKUP(K14,Tables!$C$17:$D$34,2,FALSE)","v":160},1.66,"OD",0.03,6.4000000000000001E-2,0.02,{"$f":"VLOOKUP(F14,Tables!$G$5:$H$14,2,FALSE)*(M14-(P14+Q14*Tables!$C$6))*(P14+Q14*Tables!$C$6)*1.36136","v":0.22368451705599995},"Controlled OD (DR-26) Iron Pipe Size","ASTM D2241",null,null,null,null,null,null,null,null,null,null,null,null,"Steel or Aluminum","Corrugated Steel Pipe","54.000","54",null,"54.000",null,null,"16",null,"0.064",null,null,null,42]
[null,null,null,null,{"$f":"ROW()","v":15},"PVC","IPS (DR)",1.25,"1 1/4","200 psi   DR-21",21,{"$f":"VLOOKUP(K15,Tables!$C$17:$D$34,2,FALSE)","v":200},1.66,"OD",0.03,7.9000000000000001E-2,0.02,{"$f":"VLOOKUP(F15,Tables!$G$5:$H$14,2,FALSE)*(M15-(P15+Q15*Tables!$C$6))*(P15+Q15*Tables!$C$6)*1.36136","v":0.26648159137599992},"Controlled OD (DR-21) Iron Pipe Size","ASTM D2241",null,null,null,null,null,null,null,null,null,null,null,null,"Steel or Aluminum","Corrugated Steel Pipe","60.000","60",null,"60.000",null,null,"16",null,"0.064",null,null,null,6]
[null,null,null,null,{"$f":"ROW()","v":16},"PVC","IPS (DR)",1.25,"1 1/4","250 psi   DR-17",17,{"$f":"VLOOKUP(K16,Tables!$C$17:$D$34,2,FALSE)","v":250},1.66,"OD",2.4E-2,9.8000000000000004E-2,0.02,{"$f":"VLOOKUP(F16,Tables!$G$5:$H$14,2,FALSE)*(M16-(P16+Q16*Tables!$C$6))*(P16+Q16*Tables!$C$6)*1.36136","v":0.31946000486399995},"Controlled OD (DR-17) Iron Pipe Size","ASTM D2241",null,null,null,null,null,null,null,null,null,null,null,null,"Steel or Aluminum","Corrugated Steel Pipe","66.000","66",null,"66.000",null,null,"16",null,"0.064",null,null,null,47]
[null,null,null,null,{"$f":"ROW()","v":17},"PVC","IPS (DR)",1.25,"1 1/4","315 psi   DR-13.5",13.5,{"$f":"VLOOKUP(K17,Tables!$C$17:$D$34,2,FALSE)","v":315},1.66,"OD",2.4E-2,0.123,0.02,{"$f":"VLOOKUP(F17,Tables!$G$5:$H$14,2,FALSE)*(M17-(P17+Q17*Tables!$C$6))*(P17+Q17*Tables!$C$6)*1.36136","v":0.38707194926399996},"Controlled OD (DR-13.5) Iron Pipe Size","ASTM D2241",null,null,null,null,null,null,null,null,null,null,null,null,"Steel or Aluminum","Corrugated Steel Pipe","72.000","72",null,"72.000",null,null,"16",null,"0.064",null,null,null,24]
[null,null,null,null,{"$f":"ROW()","v":18},"PVC","IPS (DR)",1.5,"1 1/2","125 psi   DR-32.5",32.5,{"$f":"VLOOKUP(K18,Tables!$C$17:$D$34,2,FALSE)","v":125},1.9,"OD",0.06,0.06,0.02,{"$f":"VLOOKUP(F18,Tables!$G$5:$H$14,2,FALSE)*(M18-(P18+Q18*Tables!$C$6))*(P18+Q18*Tables!$C$6)*1.36136","v":0.24414630239999993},"Controlled OD (DR-32.5) Iron Pipe Size","ASTM D2241",null,null,null,null,null,null,null,null,null,null,null,null,"Steel or Aluminum","Corrugated Steel Pipe","72.000","72",null,"72.000",null,null,"14",null,"0.079",null,null,null,49]
[null,null,null,null,{"$f":"ROW()","v":19},"PVC","IPS (DR)",1.5,"1 1/2","160 psi   DR-26",26,{"$f":"VLOOKUP(K19,Tables!$C$17:$D$34,2,FALSE)","v":160},1.9,"OD",0.06,7.2999999999999995E-2,0.02,{"$f":"VLOOKUP(F19,Tables!$G$5:$H$14,2,FALSE)*(M19-(P19+Q19*Tables!$C$6))*(P19+Q19*Tables!$C$6)*1.36136","v":0.28743128814399993},"Controlled OD (DR-26) Iron Pipe Size","ASTM D2241"]
[null,null,null,null,{"$f":"ROW()","v":20},"PVC","IPS (DR)",1.5,"1 1/2","200 psi   DR-21",21,{"$f":"VLOOKUP(K20,Tables!$C$17:$D$34,2,FALSE)","v":200},1.9,"OD",0.06,0.09,0.02,{"$f":"VLOOKUP(F20,Tables!$G$5:$H$14,2,FALSE)*(M20-(P20+Q20*Tables!$C$6))*(P20+Q20*Tables!$C$6)*1.36136","v":0.34306271999999988},"Controlled OD (DR-21) Iron Pipe Size","ASTM D2241"]
[null,null,null,null,{"$f":"ROW()","v":21},"PVC","IPS (DR)",1.5,"1 1/2","250 psi   DR-17",17,{"$f":"VLOOKUP(K21,Tables!$C$17:$D$34,2,FALSE)","v":250},1.9,"OD",2.4E-2,0.112,0.02,{"$f":"VLOOKUP(F21,Tables!$G$5:$H$14,2,FALSE)*(M21-(P21+Q21*Tables!$C$6))*(P21+Q21*Tables!$C$6)*1.36136","v":0.41342107206399992},"Controlled OD (DR-17) Iron Pipe Size","ASTM D2241"]
[null,null,null,null,{"$f":"ROW()","v":22},"PVC","IPS (DR)",1.5,"1 1/2","315 psi   DR-13.5",13.5,{"$f":"VLOOKUP(K22,Tables!$C$17:$D$34,2,FALSE)","v":315},1.9,"OD",2.4E-2,0.14099999999999999,0.02,{"$f":"VLOOKUP(F22,Tables!$G$5:$H$14,2,FALSE)*(M22-(P22+Q22*Tables!$C$6))*(P22+Q22*Tables!$C$6)*1.36136","v":0.50334734049599994},"Controlled OD (DR-13.5) Iron Pipe Size","ASTM D2241"]
[null,null,null,null,{"$f":"ROW()","v":23},"PVC","IPS (DR)",2,"2","125 psi   DR-32.5",32.5,{"$f":"VLOOKUP(K23,Tables!$C$17:$D$34,2,FALSE)","v":125},2.375,"OD",0.06,7.2999999999999995E-2,0.02,{"$f":"VLOOKUP(F23,Tables!$G$5:$H$14,2,FALSE)*(M23-(P23+Q23*Tables!$C$6))*(P23+Q23*Tables!$C$6)*1.36136","v":0.36257155334399993},"Controlled OD (DR-32.5) Iron Pipe Size","ASTM D2241"]
[null,null,null,null,{"$f":"ROW()","v":24},"PVC","IPS (DR)",2,"2","160 psi   DR-26",26,{"$f":"VLOOKUP(K24,Tables!$C$17:$D$34,2,FALSE)","v":160},2.375,"OD",0.06,9.0999999999999998E-2,0.02,{"$f":"VLOOKUP(F24,Tables!$G$5:$H$14,2,FALSE)*(M24-(P24+Q24*Tables!$C$6))*(P24+Q24*Tables!$C$6)*1.36136","v":0.4377365952959999},"Controlled OD (DR-26) Iron Pipe Size","ASTM D2241"]
[null,null,null,null,{"$f":"ROW()","v":25},"PVC","IPS (DR)",2,"2","200 psi   DR-21",21,{"$f":"VLOOKUP(K25,Tables!$C$17:$D$34,2,FALSE)","v":200},2.375,"OD",0.06,0.113,0.02,{"$f":"VLOOKUP(F25,Tables!$G$5:$H$14,2,FALSE)*(M25-(P25+Q25*Tables!$C$6))*(P25+Q25*Tables!$C$6)*1.36136","v":0.5279277843839999},"Controlled OD (DR-21) Iron Pipe Size","ASTM D2241"]
[null,null,null,null,{"$f":"ROW()","v":26},"PVC","IPS (DR)",2,"2","250 psi   DR-17",17,{"$f":"VLOOKUP(K26,Tables!$C$17:$D$34,2,FALSE)","v":250},2.375,"OD",2.4E-2,0.14000000000000001,0.02,{"$f":"VLOOKUP(F26,Tables!$G$5:$H$14,2,FALSE)*(M26-(P26+Q26*Tables!$C$6))*(P26+Q26*Tables!$C$6)*1.36136","v":0.63609546000000006},"Controlled OD (DR-17) Iron Pipe Size","ASTM D2241"]
[null,null,null,null,{"$f":"ROW()","v":27},"PVC","IPS (DR)",2,"2","315 psi   DR-13.5",13.5,{"$f":"VLOOKUP(K27,Tables!$C$17:$D$34,2,FALSE)","v":315},2.375,"OD",2.4E-2,0.17599999999999999,0.02,{"$f":"VLOOKUP(F27,Tables!$G$5:$H$14,2,FALSE)*(M27-(P27+Q27*Tables!$C$6))*(P27+Q27*Tables!$C$6)*1.36136","v":0.77599643721599987},"Controlled OD (DR-13.5) Iron Pipe Size","ASTM D2241"]
[null,null,null,null,{"$f":"ROW()","v":28},"PVC","IPS (DR)",2.5,"2 1/2","125 psi   DR-32.5",32.5,{"$f":"VLOOKUP(K28,Tables!$C$17:$D$34,2,FALSE)","v":125},2.875,"OD",0.06,8.7999999999999995E-2,0.02,{"$f":"VLOOKUP(F28,Tables!$G$5:$H$14,2,FALSE)*(M28-(P28+Q28*Tables!$C$6))*(P28+Q28*Tables!$C$6)*1.36136","v":0.51868414998399992},"Controlled OD (DR-32.5) Iron Pipe Size","ASTM D2241"]
[null,null,null,null,{"$f":"ROW()","v":29},"PVC","IPS (DR)",2.5,"2 1/2","160 psi   DR-26",26,{"$f":"VLOOKUP(K29,Tables!$C$17:$D$34,2,FALSE)","v":160},2.875,"OD",0.06,0.11,0.02,{"$f":"VLOOKUP(F29,Tables!$G$5:$H$14,2,FALSE)*(M29-(P29+Q29*Tables!$C$6))*(P29+Q29*Tables!$C$6)*1.36136","v":0.63009186239999992},"Controlled OD (DR-26) Iron Pipe Size","ASTM D2241"]
[null,null,null,null,{"$f":"ROW()","v":30},"PVC","IPS (DR)",2.5,"2 1/2","200 psi   DR-21",21,{"$f":"VLOOKUP(K30,Tables!$C$17:$D$34,2,FALSE)","v":200},2.875,"OD",0.06,0.13700000000000001,0.02,{"$f":"VLOOKUP(F30,Tables!$G$5:$H$14,2,FALSE)*(M30-(P30+Q30*Tables!$C$6))*(P30+Q30*Tables!$C$6)*1.36136","v":0.76429799846399993},"Controlled OD (DR-21) Iron Pipe Size","ASTM D2241"]
[null,null,null,null,{"$f":"ROW()","v":31},"PVC","IPS (DR)",2.5,"2 1/2","250 psi   DR-17",17,{"$f":"VLOOKUP(K31,Tables!$C$17:$D$34,2,FALSE)","v":250},2.875,"OD",0.03,0.16900000000000001,0.02,{"$f":"VLOOKUP(F31,Tables!$G$5:$H$14,2,FALSE)*(M31-(P31+Q31*Tables!$C$6))*(P31+Q31*Tables!$C$6)*1.36136","v":0.91975877593599997},"Controlled OD (DR-17) Iron Pipe Size","ASTM D2241"]
[null,null,null,null,{"$f":"ROW()","v":32},"PVC","IPS (DR)",2.5,"2 1/2","315 psi   DR-13.5",13.5,{"$f":"VLOOKUP(K32,Tables!$C$17:$D$34,2,FALSE)","v":315},2.875,"OD",0.03,0.21299999999999999,2.5999999999999999E-2,{"$f":"VLOOKUP(F32,Tables!$G$5:$H$14,2,FALSE)*(M32-(P32+Q32*Tables!$C$6))*(P32+Q32*Tables!$C$6)*1.36136","v":1.1410151712959999},"Controlled OD (DR-13.5) Iron Pipe Size","ASTM D2241"]
[null,null,null,null,{"$f":"ROW()","v":33},"PVC","IPS (DR)",3,"3","100 psi   DR-41",41,{"$f":"VLOOKUP(K33,Tables!$C$17:$D$34,2,FALSE)","v":100},3.5,"OD",0.06,8.5000000000000006E-2,0.02,{"$f":"VLOOKUP(F33,Tables!$G$5:$H$14,2,FALSE)*(M33-(P33+Q33*Tables!$C$6))*(P33+Q33*Tables!$C$6)*1.36136","v":0.61651229639999994},"Controlled OD (DR-41) Iron Pipe Size","ASTM D2241"]
[null,null,null,null,{"$f":"ROW()","v":34},"PVC","IPS (DR)",3,"3","125 psi   DR-32.5",32.5,{"$f":"VLOOKUP(K34,Tables!$C$17:$D$34,2,FALSE)","v":125},3.5,"OD",0.06,0.108,0.02,{"$f":"VLOOKUP(F34,Tables!$G$5:$H$14,2,FALSE)*(M34-(P34+Q34*Tables!$C$6))*(P34+Q34*Tables!$C$6)*1.36136","v":0.76060054470399985},"Controlled OD (DR-32.5) Iron Pipe Size","ASTM D2241"]
[null,null,null,null,{"$f":"ROW()","v":35},"PVC","IPS (DR)",3,"3","160 psi   DR-26",26,{"$f":"VLOOKUP(K35,Tables!$C$17:$D$34,2,FALSE)","v":160},3.5,"OD",0.06,0.13500000000000001,0.02,{"$f":"VLOOKUP(F35,Tables!$G$5:$H$14,2,FALSE)*(M35-(P35+Q35*Tables!$C$6))*(P35+Q35*Tables!$C$6)*1.36136","v":0.92717464840000008},"Controlled OD (DR-26) Iron Pipe Size","ASTM D2241"]
[null,null,null,null,{"$f":"ROW()","v":36},"PVC","IPS (DR)",3,"3","200 psi   DR-21",21,{"$f":"VLOOKUP(K36,Tables!$C$17:$D$34,2,FALSE)","v":200},3.5,"OD",0.06,0.16700000000000001,0.02,{"$f":"VLOOKUP(F36,Tables!$G$5:$H$14,2,FALSE)*(M36-(P36+Q36*Tables!$C$6))*(P36+Q36*Tables!$C$6)*1.36136","v":1.1209974615839999},"Controlled OD (DR-21) Iron Pipe Size","ASTM D2241"]
[null,null,null,null,{"$f":"ROW()","v":37},"PVC","IPS (DR)",3,"3","250 psi   DR-17",17,{"$f":"VLOOKUP(K37,Tables!$C$17:$D$34,2,FALSE)","v":250},3.5,"OD",0.03,0.20599999999999999,2.5000000000000001E-2,{"$f":"VLOOKUP(F37,Tables!$G$5:$H$14,2,FALSE)*(M37-(P37+Q37*Tables!$C$6))*(P37+Q37*Tables!$C$6)*1.36136","v":1.3665479387559996},"Controlled OD (DR-17) Iron Pipe Size","ASTM D2241"]
[null,null,null,null,{"$f":"ROW()","v":38},"PVC","IPS (DR)",3,"3","315 psi   DR-13.5",13.5,{"$f":"VLOOKUP(K38,Tables!$C$17:$D$34,2,FALSE)","v":315},3.5,"OD",0.03,0.25900000000000001,3.1E-2,{"$f":"VLOOKUP(F38,Tables!$G$5:$H$14,2,FALSE)*(M38-(P38+Q38*Tables!$C$6))*(P38+Q38*Tables!$C$6)*1.36136","v":1.6874869251240001},"Controlled OD (DR-13.5) Iron Pipe Size","ASTM D2241"]
[null,null,null,null,{"$f":"ROW()","v":39},"PVC","IPS (DR)",3.5,"3 1/2","100 psi   DR-41",41,{"$f":"VLOOKUP(K39,Tables!$C$17:$D$34,2,FALSE)","v":100},4,"OD",0.1,9.8000000000000004E-2,0.02,{"$f":"VLOOKUP(F39,Tables!$G$5:$H$14,2,FALSE)*(M39-(P39+Q39*Tables!$C$6))*(P39+Q39*Tables!$C$6)*1.36136","v":0.80112006374399991},"Controlled OD (DR-41) Iron Pipe Size","ASTM D2241"]
[null,null,null,null,{"$f":"ROW()","v":40},"PVC","IPS (DR)",3.5,"3 1/2","125 psi   DR-32.5",32.5,{"$f":"VLOOKUP(K40,Tables!$C$17:$D$34,2,FALSE)","v":125},4,"OD",0.1,0.123,0.02,{"$f":"VLOOKUP(F40,Tables!$G$5:$H$14,2,FALSE)*(M40-(P40+Q40*Tables!$C$6))*(P40+Q40*Tables!$C$6)*1.36136","v":0.9802273921439999},"Controlled OD (DR-32.5) Iron Pipe Size","ASTM D2241"]
[null,null,null,null,{"$f":"ROW()","v":41},"PVC","IPS (DR)",3.5,"3 1/2","160 psi   DR-26",26,{"$f":"VLOOKUP(K41,Tables!$C$17:$D$34,2,FALSE)","v":160},4,"OD",0.1,0.154,0.02,{"$f":"VLOOKUP(F41,Tables!$G$5:$H$14,2,FALSE)*(M41-(P41+Q41*Tables!$C$6))*(P41+Q41*Tables!$C$6)*1.36136","v":1.1990118300159998},"Controlled OD (DR-26) Iron Pipe Size","ASTM D2241"]
[null,null,null,null,{"$f":"ROW()","v":42},"PVC","IPS (DR)",3.5,"3 1/2","200 psi   DR-21",21,{"$f":"VLOOKUP(K42,Tables!$C$17:$D$34,2,FALSE)","v":200},4,"OD",0.1,0.19,2.3E-2,{"$f":"VLOOKUP(F42,Tables!$G$5:$H$14,2,FALSE)*(M42-(P42+Q42*Tables!$C$6))*(P42+Q42*Tables!$C$6)*1.36136","v":1.4587746333159997},"Controlled OD (DR-21) Iron Pipe Size","ASTM D2241"]
[null,null,null,null,{"$f":"ROW()","v":43},"PVC","IPS (DR)",3.5,"3 1/2","250 psi   DR-17",17,{"$f":"VLOOKUP(K43,Tables!$C$17:$D$34,2,FALSE)","v":250},4,"OD",0.03,0.23499999999999999,2.8000000000000001E-2,{"$f":"VLOOKUP(F43,Tables!$G$5:$H$14,2,FALSE)*(M43-(P43+Q43*Tables!$C$6))*(P43+Q43*Tables!$C$6)*1.36136","v":1.7801124300959998},"Controlled OD (DR-17) Iron Pipe Size","ASTM D2241"]
[null,null,null,null,{"$f":"ROW()","v":44},"PVC","IPS (DR)",3.5,"3 1/2","315 psi   DR-13.5",13.5,{"$f":"VLOOKUP(K44,Tables!$C$17:$D$34,2,FALSE)","v":315},4,"OD",0.03,0.29599999999999999,3.5999999999999997E-2,{"$f":"VLOOKUP(F44,Tables!$G$5:$H$14,2,FALSE)*(M44-(P44+Q44*Tables!$C$6))*(P44+Q44*Tables!$C$6)*1.36136","v":2.2059009132159995},"Controlled OD (DR-13.5) Iron Pipe Size","ASTM D2241"]
[null,null,null,null,{"$f":"ROW()","v":45},"PVC","IPS (DR)",4,"4",{"$f":"\" \"&L45&\" psi   DR-\"&K45","v":" 63 psi   DR-64"},64,{"$f":"VLOOKUP(K45,Tables!$C$17:$D$34,2,FALSE)","v":63},4.5,"OD",0.1,7.0000000000000007E-2,0.02,{"$f":"VLOOKUP(F45,Tables!$G$5:$H$14,2,FALSE)*(M45-(P45+Q45*Tables!$C$6))*(P45+Q45*Tables!$C$6)*1.36136","v":0.67392765439999991},"Controlled OD (DR-64) Iron Pipe Size","ASTM D2241"]
[null,null,null,null,{"$f":"ROW()","v":46},"PVC","IPS (DR)",4,"4","100 psi   DR-41",41,{"$f":"VLOOKUP(K46,Tables!$C$17:$D$34,2,FALSE)","v":100},4.5,"OD",0.1,0.11,0.02,{"$f":"VLOOKUP(F46,Tables!$G$5:$H$14,2,FALSE)*(M46-(P46+Q46*Tables!$C$6))*(P46+Q46*Tables!$C$6)*1.36136","v":1.0017431423999998},"Controlled OD (DR-41) Iron Pipe Size","ASTM D2241"]
[null,null,null,null,{"$f":"ROW()","v":47},"PVC","IPS (DR)",4,"4","125 psi   DR-32.5",32.5,{"$f":"VLOOKUP(K47,Tables!$C$17:$D$34,2,FALSE)","v":125},4.5,"OD",0.1,0.13800000000000001,0.02,{"$f":"VLOOKUP(F47,Tables!$G$5:$H$14,2,FALSE)*(M47-(P47+Q47*Tables!$C$6))*(P47+Q47*Tables!$C$6)*1.36136","v":1.2275851427840001},"Controlled OD (DR-32.5) Iron Pipe Size","ASTM D2241"]
[null,null,null,null,{"$f":"ROW()","v":48},"PVC","IPS (DR)",4,"4","160 psi   DR-26",26,{"$f":"VLOOKUP(K48,Tables!$C$17:$D$34,2,FALSE)","v":160},4.5,"OD",0.1,0.17299999999999999,0.02,{"$f":"VLOOKUP(F48,Tables!$G$5:$H$14,2,FALSE)*(M48-(P48+Q48*Tables!$C$6))*(P48+Q48*Tables!$C$6)*1.36136","v":1.505685124944},"Controlled OD (DR-26) Iron Pipe Size","ASTM D2241"]
[null,null,null,null,{"$f":"ROW()","v":49},"PVC","IPS (DR)",4,"4","200 psi   DR-21",21,{"$f":"VLOOKUP(K49,Tables!$C$17:$D$34,2,FALSE)","v":200},4.5,"OD",0.1,0.214,2.5999999999999999E-2,{"$f":"VLOOKUP(F49,Tables!$G$5:$H$14,2,FALSE)*(M49-(P49+Q49*Tables!$C$6))*(P49+Q49*Tables!$C$6)*1.36136","v":1.8486716087839994},"Controlled OD (DR-21) Iron Pipe Size","ASTM D2241"]
[null,null,null,null,{"$f":"ROW()","v":50},"PVC","IPS (DR)",4,"4","250 psi   DR-17",17,{"$f":"VLOOKUP(K50,Tables!$C$17:$D$34,2,FALSE)","v":250},4.5,"OD",0.03,0.26500000000000001,3.2000000000000001E-2,{"$f":"VLOOKUP(F50,Tables!$G$5:$H$14,2,FALSE)*(M50-(P50+Q50*Tables!$C$6))*(P50+Q50*Tables!$C$6)*1.36136","v":2.2595235222559999},"Controlled OD (DR-17) Iron Pipe Size","ASTM D2241"]
[null,null,null,null,{"$f":"ROW()","v":51},"PVC","IPS (DR)",4,"4","315 psi   DR-13.5",13.5,{"$f":"VLOOKUP(K51,Tables!$C$17:$D$34,2,FALSE)","v":315},4.5,"OD",0.03,0.33300000000000002,0.04,{"$f":"VLOOKUP(F51,Tables!$G$5:$H$14,2,FALSE)*(M51-(P51+Q51*Tables!$C$6))*(P51+Q51*Tables!$C$6)*1.36136","v":2.7900357124639998},"Controlled OD (DR-13.5) Iron Pipe Size","ASTM D2241"]
[null,null,null,null,{"$f":"ROW()","v":52},"PVC","IPS (DR)",5,"5",{"$f":"\" \"&L52&\" psi   DR-\"&K52","v":" 63 psi   DR-64"},64,{"$f":"VLOOKUP(K52,Tables!$C$17:$D$34,2,FALSE)","v":63},5.5629999999999997,"OD",0.1,8.6999999999999994E-2,0.02,{"$f":"VLOOKUP(F52,Tables!$G$5:$H$14,2,FALSE)*(M52-(P52+Q52*Tables!$C$6))*(P52+Q52*Tables!$C$6)*1.36136","v":1.0105141126079997},"Controlled OD (DR-64) Iron Pipe Size","ASTM D2241"]
[null,null,null,null,{"$f":"ROW()","v":53},"PVC","IPS (DR)",5,"5","100 psi   DR-41",41,{"$f":"VLOOKUP(K53,Tables!$C$17:$D$34,2,FALSE)","v":100},5.5629999999999997,"OD",0.1,0.13600000000000001,0.02,{"$f":"VLOOKUP(F53,Tables!$G$5:$H$14,2,FALSE)*(M53-(P53+Q53*Tables!$C$6))*(P53+Q53*Tables!$C$6)*1.36136","v":1.5073451673280001},"Controlled OD (DR-41) Iron Pipe Size","ASTM D2241"]
[null,null,null,null,{"$f":"ROW()","v":54},"PVC","IPS (DR)",5,"5","125 psi   DR-32.5",32.5,{"$f":"VLOOKUP(K54,Tables!$C$17:$D$34,2,FALSE)","v":125},5.5629999999999997,"OD",0.1,0.17100000000000001,2.1000000000000001E-2,{"$f":"VLOOKUP(F54,Tables!$G$5:$H$14,2,FALSE)*(M54-(P54+Q54*Tables!$C$6))*(P54+Q54*Tables!$C$6)*1.36136","v":1.8615769612439999},"Controlled OD (DR-32.5) Iron Pipe Size","ASTM D2241"]
[null,null,null,null,{"$f":"ROW()","v":55},"PVC","IPS (DR)",5,"5","160 psi   DR-26",26,{"$f":"VLOOKUP(K55,Tables!$C$17:$D$34,2,FALSE)","v":160},5.5629999999999997,"OD",0.1,0.214,2.7E-2,{"$f":"VLOOKUP(F55,Tables!$G$5:$H$14,2,FALSE)*(M55-(P55+Q55*Tables!$C$6))*(P55+Q55*Tables!$C$6)*1.36136","v":2.3134363051799993},"Controlled OD (DR-26) Iron Pipe Size","ASTM D2241"]
[null,null,null,null,{"$f":"ROW()","v":56},"PVC","IPS (DR)",5,"5","200 psi   DR-21",21,{"$f":"VLOOKUP(K56,Tables!$C$17:$D$34,2,FALSE)","v":200},5.5629999999999997,"OD",0.1,0.26500000000000001,3.2000000000000001E-2,{"$f":"VLOOKUP(F56,Tables!$G$5:$H$14,2,FALSE)*(M56-(P56+Q56*Tables!$C$6))*(P56+Q56*Tables!$C$6)*1.36136","v":2.8288227647679998},"Controlled OD (DR-21) Iron Pipe Size","ASTM D2241"]
[null,null,null,null,{"$f":"ROW()","v":57},"PVC","IPS (DR)",5,"5","250 psi   DR-17",17,{"$f":"VLOOKUP(K57,Tables!$C$17:$D$34,2,FALSE)","v":250},5.5629999999999997,"OD",0.06,0.32700000000000001,3.9E-2,{"$f":"VLOOKUP(F57,Tables!$G$5:$H$14,2,FALSE)*(M57-(P57+Q57*Tables!$C$6))*(P57+Q57*Tables!$C$6)*1.36136","v":3.4449543568440002},"Controlled OD (DR-17) Iron Pipe Size","ASTM D2241"]
[null,null,null,null,{"$f":"ROW()","v":58},"PVC","IPS (DR)",5,"5","315 psi   DR-13.5",13.5,{"$f":"VLOOKUP(K58,Tables!$C$17:$D$34,2,FALSE)","v":315},5.5629999999999997,"OD",0.06,0.41199999999999998,4.9000000000000002E-2,{"$f":"VLOOKUP(F58,Tables!$G$5:$H$14,2,FALSE)*(M58-(P58+Q58*Tables!$C$6))*(P58+Q58*Tables!$C$6)*1.36136","v":4.2648742576439993},"Controlled OD (DR-13.5) Iron Pipe Size","ASTM D2241"]
[null,null,null,null,{"$f":"ROW()","v":59},"PVC","IPS (DR)",6,"6",{"$f":"\" \"&L59&\" psi   DR-\"&K59","v":" 63 psi   DR-64"},64,{"$f":"VLOOKUP(K59,Tables!$C$17:$D$34,2,FALSE)","v":63},6.625,"OD",0.1,0.104,0.02,{"$f":"VLOOKUP(F59,Tables!$G$5:$H$14,2,FALSE)*(M59-(P59+Q59*Tables!$C$6))*(P59+Q59*Tables!$C$6)*1.36136","v":1.4146648676159996},"Controlled OD (DR-64) Iron Pipe Size","ASTM D2241"]
[null,null,null,null,{"$f":"ROW()","v":60},"PVC","IPS (DR)",6,"6","100 psi   DR-41",41,{"$f":"VLOOKUP(K60,Tables!$C$17:$D$34,2,FALSE)","v":100},6.625,"OD",0.1,0.16200000000000001,0.02,{"$f":"VLOOKUP(F60,Tables!$G$5:$H$14,2,FALSE)*(M60-(P60+Q60*Tables!$C$6))*(P60+Q60*Tables!$C$6)*1.36136","v":2.115393344064},"Controlled OD (DR-41) Iron Pipe Size","ASTM D2241"]
[null,null,null,null,{"$f":"ROW()","v":61},"PVC","IPS (DR)",6,"6","125 psi   DR-32.5",32.5,{"$f":"VLOOKUP(K61,Tables!$C$17:$D$34,2,FALSE)","v":125},6.625,"OD",0.1,0.20399999999999999,2.4E-2,{"$f":"VLOOKUP(F61,Tables!$G$5:$H$14,2,FALSE)*(M61-(P61+Q61*Tables!$C$6))*(P61+Q61*Tables!$C$6)*1.36136","v":2.6384267669759995},"Controlled OD (DR-32.5) Iron Pipe Size","ASTM D2241"]
[null,null,null,null,{"$f":"ROW()","v":62},"PVC","IPS (DR)",6,"6","160 psi   DR-26",26,{"$f":"VLOOKUP(K62,Tables!$C$17:$D$34,2,FALSE)","v":160},6.625,"OD",0.1,0.255,3.1E-2,{"$f":"VLOOKUP(F62,Tables!$G$5:$H$14,2,FALSE)*(M62-(P62+Q62*Tables!$C$6))*(P62+Q62*Tables!$C$6)*1.36136","v":3.2760436148439993},"Controlled OD (DR-26) Iron Pipe Size","ASTM D2241"]
[null,null,null,null,{"$f":"ROW()","v":63},"PVC","IPS (DR)",6,"6","200 psi   DR-21",21,{"$f":"VLOOKUP(K63,Tables!$C$17:$D$34,2,FALSE)","v":200},6.625,"OD",0.1,0.316,3.7999999999999999E-2,{"$f":"VLOOKUP(F63,Tables!$G$5:$H$14,2,FALSE)*(M63-(P63+Q63*Tables!$C$6))*(P63+Q63*Tables!$C$6)*1.36136","v":4.0160256135999992},"Controlled OD (DR-21) Iron Pipe Size","ASTM D2241"]
[null,null,null,null,{"$f":"ROW()","v":64},"PVC","IPS (DR)",6,"6","250 psi   DR-17",17,{"$f":"VLOOKUP(K64,Tables!$C$17:$D$34,2,FALSE)","v":250},6.625,"OD",7.0000000000000007E-2,0.39,4.7E-2,{"$f":"VLOOKUP(F64,Tables!$G$5:$H$14,2,FALSE)*(M64-(P64+Q64*Tables!$C$6))*(P64+Q64*Tables!$C$6)*1.36136","v":4.8952291347959997},"Controlled OD (DR-17) Iron Pipe Size","ASTM D2241"]
[null,null,null,null,{"$f":"ROW()","v":65},"PVC","IPS (DR)",6,"6","315 psi   DR-13.5",13.5,{"$f":"VLOOKUP(K65,Tables!$C$17:$D$34,2,FALSE)","v":315},6.625,"OD",7.0000000000000007E-2,0.49099999999999999,5.8999999999999997E-2,{"$f":"VLOOKUP(F65,Tables!$G$5:$H$14,2,FALSE)*(M65-(P65+Q65*Tables!$C$6))*(P65+Q65*Tables!$C$6)*1.36136","v":6.0558045988439986},"Controlled OD (DR-13.5) Iron Pipe Size","ASTM D2241"]
[null,null,null,null,{"$f":"ROW()","v":66},"PVC","IPS (DR)",8,"8",{"$f":"\" \"&L66&\" psi   DR-\"&K66","v":" 63 psi   DR-64"},64,{"$f":"VLOOKUP(K66,Tables!$C$17:$D$34,2,FALSE)","v":63},8.625,"OD",0.15,0.13500000000000001,0.02,{"$f":"VLOOKUP(F66,Tables!$G$5:$H$14,2,FALSE)*(M66-(P66+Q66*Tables!$C$6))*(P66+Q66*Tables!$C$6)*1.36136","v":2.3434995584000005},"Controlled OD (DR-64) Iron Pipe Size","ASTM D2241"]
[null,null,null,null,{"$f":"ROW()","v":67},"PVC","IPS (DR)",8,"8",{"$f":"L67&\" psi   DR-\"&K67","v":"100 psi   DR-41"},41,{"$f":"VLOOKUP(K67,Tables!$C$17:$D$34,2,FALSE)","v":100},8.625,"OD",0.15,0.21,2.5000000000000001E-2,{"$f":"VLOOKUP(F67,Tables!$G$5:$H$14,2,FALSE)*(M67-(P67+Q67*Tables!$C$6))*(P67+Q67*Tables!$C$6)*1.36136","v":3.5631947350999997},{"$f":"\"Controlled OD (DR-\"&K67&\") Iron Pipe Size\"","v":"Controlled OD (DR-41) Iron Pipe Size"},"ASTM D2241"]
[null,null,null,null,{"$f":"ROW()","v":68},"PVC","IPS (DR)",8,"8","125 psi   DR-32.5",32.5,{"$f":"VLOOKUP(K68,Tables!$C$17:$D$34,2,FALSE)","v":125},8.625,"OD",0.15,0.26500000000000001,3.2000000000000001E-2,{"$f":"VLOOKUP(F68,Tables!$G$5:$H$14,2,FALSE)*(M68-(P68+Q68*Tables!$C$6))*(P68+Q68*Tables!$C$6)*1.36136","v":4.4687044962559996},"Controlled OD (DR-32.5) Iron Pipe Size","ASTM D2241"]
[null,null,null,null,{"$f":"ROW()","v":69},"PVC","IPS (DR)",8,"8","160 psi   DR-26",26,{"$f":"VLOOKUP(K69,Tables!$C$17:$D$34,2,FALSE)","v":160},8.625,"OD",0.15,0.33200000000000002,0.04,{"$f":"VLOOKUP(F69,Tables!$G$5:$H$14,2,FALSE)*(M69-(P69+Q69*Tables!$C$6))*(P69+Q69*Tables!$C$6)*1.36136","v":5.5501754147839995},"Controlled OD (DR-26) Iron Pipe Size","ASTM D2241"]
[null,null,null,null,{"$f":"ROW()","v":70},"PVC","IPS (DR)",8,"8","200 psi   DR-21",21,{"$f":"VLOOKUP(K70,Tables!$C$17:$D$34,2,FALSE)","v":200},8.625,"OD",0.15,0.41,4.9000000000000002E-2,{"$f":"VLOOKUP(F70,Tables!$G$5:$H$14,2,FALSE)*(M70-(P70+Q70*Tables!$C$6))*(P70+Q70*Tables!$C$6)*1.36136","v":6.7826782663639991},"Controlled OD (DR-21) Iron Pipe Size","ASTM D2241"]
[null,null,null,null,{"$f":"ROW()","v":71},"PVC","IPS (DR)",8,"8","250 psi   DR-17",17,{"$f":"VLOOKUP(K71,Tables!$C$17:$D$34,2,FALSE)","v":250},8.625,"OD",0.09,0.50800000000000001,6.0999999999999999E-2,{"$f":"VLOOKUP(F71,Tables!$G$5:$H$14,2,FALSE)*(M71-(P71+Q71*Tables!$C$6))*(P71+Q71*Tables!$C$6)*1.36136","v":8.2994119167960001},"Controlled OD (DR-17) Iron Pipe Size","ASTM D2241"]
[null,null,null,null,{"$f":"ROW()","v":72},"PVC","IPS (DR)",10,"10",{"$f":"\" \"&L72&\" psi   DR-\"&K72","v":" 63 psi   DR-64"},64,{"$f":"VLOOKUP(K72,Tables!$C$17:$D$34,2,FALSE)","v":63},10.75,"OD",0.15,0.16800000000000001,0.02,{"$f":"VLOOKUP(F72,Tables!$G$5:$H$14,2,FALSE)*(M72-(P72+Q72*Tables!$C$6))*(P72+Q72*Tables!$C$6)*1.36136","v":3.5865606416639997},"Controlled OD (DR-64) Iron Pipe Size","ASTM D2241"]
[null,null,null,null,{"$f":"ROW()","v":73},"PVC","IPS (DR)",10,"10","100 psi   DR-41",41,{"$f":"VLOOKUP(K73,Tables!$C$17:$D$34,2,FALSE)","v":100},10.75,"OD",0.15,0.26200000000000001,3.1E-2,{"$f":"VLOOKUP(F73,Tables!$G$5:$H$14,2,FALSE)*(M73-(P73+Q73*Tables!$C$6))*(P73+Q73*Tables!$C$6)*1.36136","v":5.5387833500999992},"Controlled OD (DR-41) Iron Pipe Size","ASTM D2241"]
[null,null,null,null,{"$f":"ROW()","v":74},"PVC","IPS (DR)",10,"10","125 psi   DR-32.5",32.5,{"$f":"VLOOKUP(K74,Tables!$C$17:$D$34,2,FALSE)","v":125},10.75,"OD",0.15,0.33100000000000002,0.04,{"$f":"VLOOKUP(F74,Tables!$G$5:$H$14,2,FALSE)*(M74-(P74+Q74*Tables!$C$6))*(P74+Q74*Tables!$C$6)*1.36136","v":6.9566429892959993},"Controlled OD (DR-32.5) Iron Pipe Size","ASTM D2241"]
[null,null,null,null,{"$f":"ROW()","v":75},"PVC","IPS (DR)",10,"10","160 psi   DR-26",26,{"$f":"VLOOKUP(K75,Tables!$C$17:$D$34,2,FALSE)","v":160},10.75,"OD",0.15,0.41299999999999998,0.05,{"$f":"VLOOKUP(F75,Tables!$G$5:$H$14,2,FALSE)*(M75-(P75+Q75*Tables!$C$6))*(P75+Q75*Tables!$C$6)*1.36136","v":8.6083127370239971},"Controlled OD (DR-26) Iron Pipe Size","ASTM D2241"]
[null,null,null,null,{"$f":"ROW()","v":76},"PVC","IPS (DR)",10,"10","200 psi   DR-21",21,{"$f":"VLOOKUP(K76,Tables!$C$17:$D$34,2,FALSE)","v":200},10.75,"OD",0.15,0.51100000000000001,6.0999999999999999E-2,{"$f":"VLOOKUP(F76,Tables!$G$5:$H$14,2,FALSE)*(M76-(P76+Q76*Tables!$C$6))*(P76+Q76*Tables!$C$6)*1.36136","v":10.535651962835999},"Controlled OD (DR-21) Iron Pipe Size","ASTM D2241"]
[null,null,null,null,{"$f":"ROW()","v":77},"PVC","IPS (DR)",10,"10","250 psi   DR-17",17,{"$f":"VLOOKUP(K77,Tables!$C$17:$D$34,2,FALSE)","v":250},10.75,"OD",0.1,0.63200000000000001,7.5999999999999998E-2,{"$f":"VLOOKUP(F77,Tables!$G$5:$H$14,2,FALSE)*(M77-(P77+Q77*Tables!$C$6))*(P77+Q77*Tables!$C$6)*1.36136","v":12.871713254399998},"Controlled OD (DR-17) Iron Pipe Size","ASTM D2241"]
[null,null,null,null,{"$f":"ROW()","v":78},"PVC","IPS (DR)",12,"12",{"$f":"\" \"&L78&\" psi   DR-\"&K78","v":" 63 psi   DR-64"},64,{"$f":"VLOOKUP(K78,Tables!$C$17:$D$34,2,FALSE)","v":63},12.75,"OD",0.15,0.19900000000000001,2.4E-2,{"$f":"VLOOKUP(F78,Tables!$G$5:$H$14,2,FALSE)*(M78-(P78+Q78*Tables!$C$6))*(P78+Q78*Tables!$C$6)*1.36136","v":5.0425054840159991},"Controlled OD (DR-64) Iron Pipe Size","ASTM D2241"]
[null,null,null,null,{"$f":"ROW()","v":79},"PVC","IPS (DR)",12,"12","100 psi   DR-41",41,{"$f":"VLOOKUP(K79,Tables!$C$17:$D$34,2,FALSE)","v":100},12.75,"OD",0.15,0.311,3.6999999999999998E-2,{"$f":"VLOOKUP(F79,Tables!$G$5:$H$14,2,FALSE)*(M79-(P79+Q79*Tables!$C$6))*(P79+Q79*Tables!$C$6)*1.36136","v":7.8000164682439994},"Controlled OD (DR-41) Iron Pipe Size","ASTM D2241"]
[null,null,null,null,{"$f":"ROW()","v":80},"PVC","IPS (DR)",12,"12","125 psi   DR-32.5",32.5,{"$f":"VLOOKUP(K80,Tables!$C$17:$D$34,2,FALSE)","v":125},12.75,"OD",0.15,0.39200000000000002,4.7E-2,{"$f":"VLOOKUP(F80,Tables!$G$5:$H$14,2,FALSE)*(M80-(P80+Q80*Tables!$C$6))*(P80+Q80*Tables!$C$6)*1.36136","v":9.7677289349639995},"Controlled OD (DR-32.5) Iron Pipe Size","ASTM D2241"]
[null,null,null,null,{"$f":"ROW()","v":81},"PVC","IPS (DR)",12,"12","160 psi   DR-26",26,{"$f":"VLOOKUP(K81,Tables!$C$17:$D$34,2,FALSE)","v":160},12.75,"OD",0.15,0.49,5.8999999999999997E-2,{"$f":"VLOOKUP(F81,Tables!$G$5:$H$14,2,FALSE)*(M81-(P81+Q81*Tables!$C$6))*(P81+Q81*Tables!$C$6)*1.36136","v":12.109627534003996},"Controlled OD (DR-26) Iron Pipe Size","ASTM D2241"]
[null,null,null,null,{"$f":"ROW()","v":82},"PVC","IPS (DR)",12,"12","200 psi   DR-21",21,{"$f":"VLOOKUP(K82,Tables!$C$17:$D$34,2,FALSE)","v":200},12.75,"OD",0.15,0.60599999999999998,7.2999999999999995E-2,{"$f":"VLOOKUP(F82,Tables!$G$5:$H$14,2,FALSE)*(M82-(P82+Q82*Tables!$C$6))*(P82+Q82*Tables!$C$6)*1.36136","v":14.826158246899995},"Controlled OD (DR-21) Iron Pipe Size","ASTM D2241"]
[null,null,null,null,{"$f":"ROW()","v":83},"PVC","IPS (DR)",12,"12","250 psi   DR-17",17,{"$f":"VLOOKUP(K83,Tables!$C$17:$D$34,2,FALSE)","v":250},12.75,"OD",0.1,0.75,0.09,{"$f":"VLOOKUP(F83,Tables!$G$5:$H$14,2,FALSE)*(M83-(P83+Q83*Tables!$C$6))*(P83+Q83*Tables!$C$6)*1.36136","v":18.114140444399997},"Controlled OD (DR-17) Iron Pipe Size","ASTM D2241"]
[null,null,null,null,{"$f":"ROW()","v":84},"PVC","IPS (DR)",14,"14","100 psi   DR-41",41,{"$f":"VLOOKUP(K84,Tables!$C$17:$D$34,2,FALSE)","v":100},14,"OD",0.2,0.34100000000000003,4.8000000000000001E-2,{"$f":"VLOOKUP(F84,Tables!$G$5:$H$14,2,FALSE)*(M84-(P84+Q84*Tables!$C$6))*(P84+Q84*Tables!$C$6)*1.36136","v":9.4852553795999999},"Controlled OD (DR-41) Iron Pipe Size","ASTM D2241"]
[null,null,null,null,{"$f":"ROW()","v":85},"PVC","IPS (DR)",14,"14","125 psi   DR-32.5",32.5,{"$f":"VLOOKUP(K85,Tables!$C$17:$D$34,2,FALSE)","v":125},14,"OD",0.2,0.43,5.1999999999999998E-2,{"$f":"VLOOKUP(F85,Tables!$G$5:$H$14,2,FALSE)*(M85-(P85+Q85*Tables!$C$6))*(P85+Q85*Tables!$C$6)*1.36136","v":11.770985081856001},"Controlled OD (DR-32.5) Iron Pipe Size","ASTM D2241"]
[null,null,null,null,{"$f":"ROW()","v":86},"PVC","IPS (DR)",14,"14","160 psi   DR-26",26,{"$f":"VLOOKUP(K86,Tables!$C$17:$D$34,2,FALSE)","v":160},14,"OD",0.2,0.53800000000000003,6.4000000000000001E-2,{"$f":"VLOOKUP(F86,Tables!$G$5:$H$14,2,FALSE)*(M86-(P86+Q86*Tables!$C$6))*(P86+Q86*Tables!$C$6)*1.36136","v":14.589885710399999},"Controlled OD (DR-26) Iron Pipe Size","ASTM D2241"]
[null,null,null,null,{"$f":"ROW()","v":87},"PVC","IPS (DR)",14,"14","200 psi   DR-21",21,{"$f":"VLOOKUP(K87,Tables!$C$17:$D$34,2,FALSE)","v":200},14,"OD",0.2,0.66600000000000004,0.08,{"$f":"VLOOKUP(F87,Tables!$G$5:$H$14,2,FALSE)*(M87-(P87+Q87*Tables!$C$6))*(P87+Q87*Tables!$C$6)*1.36136","v":17.887983969855998},"Controlled OD (DR-21) Iron Pipe Size","ASTM D2241"]
[null,null,null,null,{"$f":"ROW()","v":88},"PVC","IPS (DR)",14,"14","250 psi   DR-17",17,{"$f":"VLOOKUP(K88,Tables!$C$17:$D$34,2,FALSE)","v":250},14,"OD",0.15,0.82299999999999995,9.9000000000000005E-2,{"$f":"VLOOKUP(F88,Tables!$G$5:$H$14,2,FALSE)*(M88-(P88+Q88*Tables!$C$6))*(P88+Q88*Tables!$C$6)*1.36136","v":21.829736028099997},"Controlled OD (DR-17) Iron Pipe Size","ASTM D2241"]
[null,null,null,null,{"$f":"ROW()","v":89},"PVC","IPS (DR)",16,"16","100 psi   DR-41",41,{"$f":"VLOOKUP(K89,Tables!$C$17:$D$34,2,FALSE)","v":100},16,"OD",0.32,0.39,5.5E-2,{"$f":"VLOOKUP(F89,Tables!$G$5:$H$14,2,FALSE)*(M89-(P89+Q89*Tables!$C$6))*(P89+Q89*Tables!$C$6)*1.36136","v":12.399227740899997},"Controlled OD (DR-41) Iron Pipe Size","ASTM D2241"]
[null,null,null,null,{"$f":"ROW()","v":90},"PVC","IPS (DR)",16,"16","125 psi   DR-32.5",32.5,{"$f":"VLOOKUP(K90,Tables!$C$17:$D$34,2,FALSE)","v":125},16,"OD",0.32,0.49199999999999999,5.8999999999999997E-2,{"$f":"VLOOKUP(F90,Tables!$G$5:$H$14,2,FALSE)*(M90-(P90+Q90*Tables!$C$6))*(P90+Q90*Tables!$C$6)*1.36136","v":15.384529035875996},"Controlled OD (DR-32.5) Iron Pipe Size","ASTM D2241"]
[null,null,null,null,{"$f":"ROW()","v":91},"PVC","IPS (DR)",16,"16","160 psi   DR-26",26,{"$f":"VLOOKUP(K91,Tables!$C$17:$D$34,2,FALSE)","v":160},16,"OD",0.32,0.61499999999999999,7.3999999999999996E-2,{"$f":"VLOOKUP(F91,Tables!$G$5:$H$14,2,FALSE)*(M91-(P91+Q91*Tables!$C$6))*(P91+Q91*Tables!$C$6)*1.36136","v":19.072183113984003},"Controlled OD (DR-26) Iron Pipe Size","ASTM D2241"]
[null,null,null,null,{"$f":"ROW()","v":92},"PVC","IPS (DR)",16,"16","200 psi   DR-21",21,{"$f":"VLOOKUP(K92,Tables!$C$17:$D$34,2,FALSE)","v":200},16,"OD",0.32,0.76200000000000001,9.0999999999999998E-2,{"$f":"VLOOKUP(F92,Tables!$G$5:$H$14,2,FALSE)*(M92-(P92+Q92*Tables!$C$6))*(P92+Q92*Tables!$C$6)*1.36136","v":23.381523064899998},"Controlled OD (DR-21) Iron Pipe Size","ASTM D2241"]
[null,null,null,null,{"$f":"ROW()","v":93},"PVC","IPS (DR)",16,"16","250 psi   DR-17",17,{"$f":"VLOOKUP(K93,Tables!$C$17:$D$34,2,FALSE)","v":250},16,"OD",0.16,0.94099999999999995,0.113,{"$f":"VLOOKUP(F93,Tables!$G$5:$H$14,2,FALSE)*(M93-(P93+Q93*Tables!$C$6))*(P93+Q93*Tables!$C$6)*1.36136","v":28.521841448099995},"Controlled OD (DR-17) Iron Pipe Size","ASTM D2241"]
[null,null,null,null,{"$f":"ROW()","v":94},"PVC","IPS (DR)",18,"18","100 psi   DR-41",41,{"$f":"VLOOKUP(K94,Tables!$C$17:$D$34,2,FALSE)","v":100},18,"OD",0.36,0.439,6.0999999999999999E-2,{"$f":"VLOOKUP(F94,Tables!$G$5:$H$14,2,FALSE)*(M94-(P94+Q94*Tables!$C$6))*(P94+Q94*Tables!$C$6)*1.36136","v":15.686675808804001},"Controlled OD (DR-41) Iron Pipe Size","ASTM D2241"]
[null,null,null,null,{"$f":"ROW()","v":95},"PVC","IPS (DR)",18,"18","125 psi   DR-32.5",32.5,{"$f":"VLOOKUP(K95,Tables!$C$17:$D$34,2,FALSE)","v":125},18,"OD",0.36,0.55400000000000005,6.6000000000000003E-2,{"$f":"VLOOKUP(F95,Tables!$G$5:$H$14,2,FALSE)*(M95-(P95+Q95*Tables!$C$6))*(P95+Q95*Tables!$C$6)*1.36136","v":19.481066228624002},"Controlled OD (DR-32.5) Iron Pipe Size","ASTM D2241"]
[null,null,null,null,{"$f":"ROW()","v":96},"PVC","IPS (DR)",18,"18","160 psi   DR-26",26,{"$f":"VLOOKUP(K96,Tables!$C$17:$D$34,2,FALSE)","v":160},18,"OD",0.36,0.69199999999999995,8.3000000000000004E-2,{"$f":"VLOOKUP(F96,Tables!$G$5:$H$14,2,FALSE)*(M96-(P96+Q96*Tables!$C$6))*(P96+Q96*Tables!$C$6)*1.36136","v":24.138231753635992},"Controlled OD (DR-26) Iron Pipe Size","ASTM D2241"]
[null,null,null,null,{"$f":"ROW()","v":97},"PVC","IPS (DR)",18,"18","200 psi   DR-21",21,{"$f":"VLOOKUP(K97,Tables!$C$17:$D$34,2,FALSE)","v":200},18,"OD",0.36,0.85699999999999998,0.10299999999999999,{"$f":"VLOOKUP(F97,Tables!$G$5:$H$14,2,FALSE)*(M97-(P97+Q97*Tables!$C$6))*(P97+Q97*Tables!$C$6)*1.36136","v":29.594167839235993},"Controlled OD (DR-21) Iron Pipe Size","ASTM D2241"]
[null,null,null,null,{"$f":"ROW()","v":98},"PVC","IPS (DR)",18,"18","250 psi   DR-17",17,{"$f":"VLOOKUP(K98,Tables!$C$17:$D$34,2,FALSE)","v":250},18,"OD",0.18,1.0589999999999999,0.127,{"$f":"VLOOKUP(F98,Tables!$G$5:$H$14,2,FALSE)*(M98-(P98+Q98*Tables!$C$6))*(P98+Q98*Tables!$C$6)*1.36136","v":36.1073393681},"Controlled OD (DR-17) Iron Pipe Size","ASTM D2241"]
[null,null,null,null,{"$f":"ROW()","v":99},"PVC","IPS (DR)",20,"20","100 psi   DR-41",41,{"$f":"VLOOKUP(K99,Tables!$C$17:$D$34,2,FALSE)","v":100},20,"OD",0.4,0.48799999999999999,6.8000000000000005E-2,{"$f":"VLOOKUP(F99,Tables!$G$5:$H$14,2,FALSE)*(M99-(P99+Q99*Tables!$C$6))*(P99+Q99*Tables!$C$6)*1.36136","v":19.378309414463999},"Controlled OD (DR-41) Iron Pipe Size","ASTM D2241"]
[null,null,null,null,{"$f":"ROW()","v":100},"PVC","IPS (DR)",20,"20","125 psi   DR-32.5",32.5,{"$f":"VLOOKUP(K100,Tables!$C$17:$D$34,2,FALSE)","v":125},20,"OD",0.4,0.61499999999999999,7.3999999999999996E-2,{"$f":"VLOOKUP(F100,Tables!$G$5:$H$14,2,FALSE)*(M100-(P100+Q100*Tables!$C$6))*(P100+Q100*Tables!$C$6)*1.36136","v":24.042780745983997},"Controlled OD (DR-32.5) Iron Pipe Size","ASTM D2241"]
[null,null,null,null,{"$f":"ROW()","v":101},"PVC","IPS (DR)",20,"20","160 psi   DR-26",26,{"$f":"VLOOKUP(K101,Tables!$C$17:$D$34,2,FALSE)","v":160},20,"OD",0.4,0.76900000000000002,9.1999999999999998E-2,{"$f":"VLOOKUP(F101,Tables!$G$5:$H$14,2,FALSE)*(M101-(P101+Q101*Tables!$C$6))*(P101+Q101*Tables!$C$6)*1.36136","v":29.800286115599995},"Controlled OD (DR-26) Iron Pipe Size","ASTM D2241"]
[null,null,null,null,{"$f":"ROW()","v":102},"PVC","IPS (DR)",20,"20","200 psi   DR-21",21,{"$f":"VLOOKUP(K102,Tables!$C$17:$D$34,2,FALSE)","v":200},20,"OD",0.4,0.95199999999999996,0.114,{"$f":"VLOOKUP(F102,Tables!$G$5:$H$14,2,FALSE)*(M102-(P102+Q102*Tables!$C$6))*(P102+Q102*Tables!$C$6)*1.36136","v":36.520778069775993},"Controlled OD (DR-21) Iron Pipe Size","ASTM D2241"]
[null,null,null,null,{"$f":"ROW()","v":103},"PVC","IPS (DR)",20,"20","250 psi   DR-17",17,{"$f":"VLOOKUP(K103,Tables!$C$17:$D$34,2,FALSE)","v":250},20,"OD",0.2,1.1759999999999999,0.14099999999999999,{"$f":"VLOOKUP(F103,Tables!$G$5:$H$14,2,FALSE)*(M103-(P103+Q103*Tables!$C$6))*(P103+Q103*Tables!$C$6)*1.36136","v":44.552865032675982},"Controlled OD (DR-17) Iron Pipe Size","ASTM D2241"]
[null,null,null,null,{"$f":"ROW()","v":104},"PVC","IPS (DR)",24,"24","100 psi   DR-41",41,{"$f":"VLOOKUP(K104,Tables!$C$17:$D$34,2,FALSE)","v":100},24,"OD",0.48,0.58499999999999996,8.2000000000000003E-2,{"$f":"VLOOKUP(F104,Tables!$G$5:$H$14,2,FALSE)*(M104-(P104+Q104*Tables!$C$6))*(P104+Q104*Tables!$C$6)*1.36136","v":27.887423660095997},"Controlled OD (DR-41) Iron Pipe Size","ASTM D2241"]
[null,null,null,null,{"$f":"ROW()","v":105},"PVC","IPS (DR)",24,"24","125 psi   DR-32.5",32.5,{"$f":"VLOOKUP(K105,Tables!$C$17:$D$34,2,FALSE)","v":125},24,"OD",0.48,0.73799999999999999,8.7999999999999995E-2,{"$f":"VLOOKUP(F105,Tables!$G$5:$H$14,2,FALSE)*(M105-(P105+Q105*Tables!$C$6))*(P105+Q105*Tables!$C$6)*1.36136","v":34.604500234303998},"Controlled OD (DR-32.5) Iron Pipe Size","ASTM D2241"]
[null,null,null,null,{"$f":"ROW()","v":106},"PVC","IPS (DR)",24,"24","160 psi   DR-26",26,{"$f":"VLOOKUP(K106,Tables!$C$17:$D$34,2,FALSE)","v":160},24,"OD",0.48,0.92300000000000004,0.111,{"$f":"VLOOKUP(F106,Tables!$G$5:$H$14,2,FALSE)*(M106-(P106+Q106*Tables!$C$6))*(P106+Q106*Tables!$C$6)*1.36136","v":42.933418403875997},"Controlled OD (DR-26) Iron Pipe Size","ASTM D2241"]
[null,null,null,null,{"$f":"ROW()","v":107},"PVC","IPS (DR)",24,"24","200 psi   DR-21",21,{"$f":"VLOOKUP(K107,Tables!$C$17:$D$34,2,FALSE)","v":200},24,"OD",0.48,1.143,0.13700000000000001,{"$f":"VLOOKUP(F107,Tables!$G$5:$H$14,2,FALSE)*(M107-(P107+Q107*Tables!$C$6))*(P107+Q107*Tables!$C$6)*1.36136","v":52.618707937795989},"Controlled OD (DR-21) Iron Pipe Size","ASTM D2241"]
[null,null,null,null,{"$f":"ROW()","v":108},"PVC","IPS (DR)",24,"24","250 psi   DR-17",17,{"$f":"VLOOKUP(K108,Tables!$C$17:$D$34,2,FALSE)","v":250},24,"OD",0.24,1.4119999999999999,0.16900000000000001,{"$f":"VLOOKUP(F108,Tables!$G$5:$H$14,2,FALSE)*(M108-(P108+Q108*Tables!$C$6))*(P108+Q108*Tables!$C$6)*1.36136","v":64.184152708675981},"Controlled OD (DR-17) Iron Pipe Size","ASTM D2241"]
[null,null,null,null,{"$f":"ROW()","v":109},"PVC","IPS (DR)",30,"30","100 psi   DR-41",41,{"$f":"VLOOKUP(K109,Tables!$C$17:$D$34,2,FALSE)","v":100},30,"OD",0.6,0.73199999999999998,0.10199999999999999,{"$f":"VLOOKUP(F109,Tables!$G$5:$H$14,2,FALSE)*(M109-(P109+Q109*Tables!$C$6))*(P109+Q109*Tables!$C$6)*1.36136","v":43.601196182543994},"Controlled OD (DR-41) Iron Pipe Size","ASTM D2241"]
[null,null,null,null,{"$f":"ROW()","v":110},"PVC","IPS (DR)",30,"30","125 psi   DR-32.5",32.5,{"$f":"VLOOKUP(K110,Tables!$C$17:$D$34,2,FALSE)","v":125},30,"OD",0.6,0.92300000000000004,0.111,{"$f":"VLOOKUP(F110,Tables!$G$5:$H$14,2,FALSE)*(M110-(P110+Q110*Tables!$C$6))*(P110+Q110*Tables!$C$6)*1.36136","v":54.122980787875996},"Controlled OD (DR-32.5) Iron Pipe Size","ASTM D2241"]
[null,null,null,null,{"$f":"ROW()","v":111},"PVC","IPS (DR)",30,"30","160 psi   DR-26",26,{"$f":"VLOOKUP(K111,Tables!$C$17:$D$34,2,FALSE)","v":160},30,"OD",0.6,1.1539999999999999,0.13800000000000001,{"$f":"VLOOKUP(F111,Tables!$G$5:$H$14,2,FALSE)*(M111-(P111+Q111*Tables!$C$6))*(P111+Q111*Tables!$C$6)*1.36136","v":67.076901875983978},"Controlled OD (DR-26) Iron Pipe Size","ASTM D2241"]
[null,null,null,null,{"$f":"ROW()","v":112},"PVC","IPS (DR)",30,"30","200 psi   DR-21",21,{"$f":"VLOOKUP(K112,Tables!$C$17:$D$34,2,FALSE)","v":200},30,"OD",0.6,1.4279999999999999,0.17100000000000001,{"$f":"VLOOKUP(F112,Tables!$G$5:$H$14,2,FALSE)*(M112-(P112+Q112*Tables!$C$6))*(P112+Q112*Tables!$C$6)*1.36136","v":82.171750656995982},"Controlled OD (DR-21) Iron Pipe Size","ASTM D2241"]
[null,null,null,null,{"$f":"ROW()","v":113},"PVC","IPS (DR)",30,"30","250 psi   DR-17",17,{"$f":"VLOOKUP(K113,Tables!$C$17:$D$34,2,FALSE)","v":250},30,"OD",0.3,1.7649999999999999,0.21199999999999999,{"$f":"VLOOKUP(F113,Tables!$G$5:$H$14,2,FALSE)*(M113-(P113+Q113*Tables!$C$6))*(P113+Q113*Tables!$C$6)*1.36136","v":100.306505835536},"Controlled OD (DR-17) Iron Pipe Size","ASTM D2241"]
[null,null,null,null,{"$f":"ROW()","v":114},"PVC","IPS (DR)",36,"36","100 psi   DR-41",41,{"$f":"VLOOKUP(K114,Tables!$C$17:$D$34,2,FALSE)","v":100},36,"OD",0.72,0.878,0.123,{"$f":"VLOOKUP(F114,Tables!$G$5:$H$14,2,FALSE)*(M114-(P114+Q114*Tables!$C$6))*(P114+Q114*Tables!$C$6)*1.36136","v":62.779219386883987},"Controlled OD (DR-41) Iron Pipe Size","ASTM D2241"]
[null,null,null,null,{"$f":"ROW()","v":115},"PVC","IPS (DR)",36,"36","125 psi   DR-32.5",32.5,{"$f":"VLOOKUP(K115,Tables!$C$17:$D$34,2,FALSE)","v":125},36,"OD",0.72,1.1080000000000001,0.13300000000000001,{"$f":"VLOOKUP(F115,Tables!$G$5:$H$14,2,FALSE)*(M115-(P115+Q115*Tables!$C$6))*(P115+Q115*Tables!$C$6)*1.36136","v":77.956333178723995},"Controlled OD (DR-32.5) Iron Pipe Size","ASTM D2241"]
[null,null,null,null,{"$f":"ROW()","v":116},"PVC","IPS (DR)",36,"36","160 psi   DR-26",26,{"$f":"VLOOKUP(K116,Tables!$C$17:$D$34,2,FALSE)","v":160},36,"OD",0.72,1.385,0.16600000000000001,{"$f":"VLOOKUP(F116,Tables!$G$5:$H$14,2,FALSE)*(M116-(P116+Q116*Tables!$C$6))*(P116+Q116*Tables!$C$6)*1.36136","v":96.615945730303963},"Controlled OD (DR-26) Iron Pipe Size","ASTM D2241"]
[null,null,null,null,{"$f":"ROW()","v":117},"PVC","IPS (DR)",36,"36","200 psi   DR-21",21,{"$f":"VLOOKUP(K117,Tables!$C$17:$D$34,2,FALSE)","v":200},36,"OD",0.72,1.714,0.20499999999999999,{"$f":"VLOOKUP(F117,Tables!$G$5:$H$14,2,FALSE)*(M117-(P117+Q117*Tables!$C$6))*(P117+Q117*Tables!$C$6)*1.36136","v":118.34582763603599},"Controlled OD (DR-21) Iron Pipe Size","ASTM D2241"]
[null,null,null,null,{"$f":"ROW()","v":118},"PVC","IPS (DR)",36,"36","250 psi   DR-17",17,{"$f":"VLOOKUP(K118,Tables!$C$17:$D$34,2,FALSE)","v":250},36,"OD",0.36,2.1179999999999999,0.254,{"$f":"VLOOKUP(F118,Tables!$G$5:$H$14,2,FALSE)*(M118-(P118+Q118*Tables!$C$6))*(P118+Q118*Tables!$C$6)*1.36136","v":144.4293574724},"Controlled OD (DR-17) Iron Pipe Size","ASTM D2241"]
[null,null,null,1,{"$f":"ROW()","v":119},"PVC","CIOD (DR)-C900",4,"4","150 psi   DR-27.5",27.5,{"$f":"VLOOKUP(K119,Tables!$C$17:$D$34,2,FALSE)","v":150},4.8,"OD",0.1,0.17599999999999999,2.1000000000000001E-2,{"$f":"VLOOKUP(F119,Tables!$G$5:$H$14,2,FALSE)*(M119-(P119+Q119*Tables!$C$6))*(P119+Q119*Tables!$C$6)*1.36136","v":1.6398736313959998},{"$f":"\"Controlled OD (DR-\"&K119&\") Cast Iron OD\"","v":"Controlled OD (DR-27.5) Cast Iron OD"},"AWWA C900"]
[null,null,null,null,{"$f":"ROW()","v":120},"PVC","CIOD (DR)-C900",4,"4","165 psi   DR-25",25,{"$f":"VLOOKUP(K120,Tables!$C$17:$D$34,2,FALSE)","v":165},4.8,"OD",0.1,0.192,2.3E-2,{"$f":"VLOOKUP(F120,Tables!$G$5:$H$14,2,FALSE)*(M120-(P120+Q120*Tables!$C$6))*(P120+Q120*Tables!$C$6)*1.36136","v":1.7827592542759998},{"$f":"\"Controlled OD (DR-\"&K120&\") Cast Iron OD\"","v":"Controlled OD (DR-25) Cast Iron OD"},"AWWA C900"]
[null,null,null,null,{"$f":"ROW()","v":121},"PVC","CIOD (DR)-C900",4,"4","200 psi   DR-21",21,{"$f":"VLOOKUP(K121,Tables!$C$17:$D$34,2,FALSE)","v":200},4.8,"OD",0.1,0.22900000000000001,2.7E-2,{"$f":"VLOOKUP(F121,Tables!$G$5:$H$14,2,FALSE)*(M121-(P121+Q121*Tables!$C$6))*(P121+Q121*Tables!$C$6)*1.36136","v":2.1063931888999998},"Controlled OD (DR-21) Cast Iron OD","AWWA C900"]
[null,null,null,null,{"$f":"ROW()","v":122},"PVC","CIOD (DR)-C900",4,"4","235 psi   DR-18",18,{"$f":"VLOOKUP(K122,Tables!$C$17:$D$34,2,FALSE)","v":235},4.8,"OD",0.1,0.26700000000000002,3.2000000000000001E-2,{"$f":"VLOOKUP(F122,Tables!$G$5:$H$14,2,FALSE)*(M122-(P122+Q122*Tables!$C$6))*(P122+Q122*Tables!$C$6)*1.36136","v":2.4363380481439996},"Controlled OD (DR-18) Cast Iron OD","AWWA C900"]
[null,null,null,null,{"$f":"ROW()","v":123},"PVC","CIOD (DR)-C900",4,"4","250 psi   DR-17",17,{"$f":"VLOOKUP(K123,Tables!$C$17:$D$34,2,FALSE)","v":250},4.8,"OD",0.1,0.28199999999999997,3.4000000000000002E-2,{"$f":"VLOOKUP(F123,Tables!$G$5:$H$14,2,FALSE)*(M123-(P123+Q123*Tables!$C$6))*(P123+Q123*Tables!$C$6)*1.36136","v":2.5649636972959993},"Controlled OD (DR-17) Cast Iron OD","AWWA C900"]
[null,null,null,null,{"$f":"ROW()","v":124},"PVC","CIOD (DR)-C900",4,"4",{"$f":"L124&\" psi   DR-\"&K124","v":"305 psi   DR-14"},14,{"$f":"VLOOKUP(K124,Tables!$C$17:$D$34,2,FALSE)","v":305},4.8,"OD",0.1,0.34300000000000003,4.1000000000000002E-2,{"$f":"VLOOKUP(F124,Tables!$G$5:$H$14,2,FALSE)*(M124-(P124+Q124*Tables!$C$6))*(P124+Q124*Tables!$C$6)*1.36136","v":3.0735899153959996},"Controlled OD (DR-14) Cast Iron OD","AWWA C900"]
[null,null,null,null,{"$f":"ROW()","v":125},"PVC","CIOD (DR)-C900",6,"6","150 psi   DR-27.5",27.5,{"$f":"VLOOKUP(K125,Tables!$C$17:$D$34,2,FALSE)","v":150},6.9,"OD",0.12,0.251,0.03,{"$f":"VLOOKUP(F125,Tables!$G$5:$H$14,2,FALSE)*(M125-(P125+Q125*Tables!$C$6))*(P125+Q125*Tables!$C$6)*1.36136","v":3.3632420581759996},"Controlled OD (DR-27.5) Cast Iron OD","AWWA C900"]
[null,null,null,null,{"$f":"ROW()","v":126},"PVC","CIOD (DR)-C900",6,"6","165 psi   DR-25",25,{"$f":"VLOOKUP(K126,Tables!$C$17:$D$34,2,FALSE)","v":165},6.9,"OD",0.12,0.27600000000000002,3.3000000000000002E-2,{"$f":"VLOOKUP(F126,Tables!$G$5:$H$14,2,FALSE)*(M126-(P126+Q126*Tables!$C$6))*(P126+Q126*Tables!$C$6)*1.36136","v":3.6835287489000001},"Controlled OD (DR-25) Cast Iron OD","AWWA C900"]
[null,null,null,null,{"$f":"ROW()","v":127},"PVC","CIOD (DR)-C900",6,"6","200 psi   DR-21",21,{"$f":"VLOOKUP(K127,Tables!$C$17:$D$34,2,FALSE)","v":200},6.9,"OD",0.12,0.32900000000000001,3.9E-2,{"$f":"VLOOKUP(F127,Tables!$G$5:$H$14,2,FALSE)*(M127-(P127+Q127*Tables!$C$6))*(P127+Q127*Tables!$C$6)*1.36136","v":4.3515557245160004},"Controlled OD (DR-21) Cast Iron OD","AWWA C900"]
[null,null,null,null,{"$f":"ROW()","v":128},"PVC","CIOD (DR)-C900",6,"6","235 psi   DR-18",18,{"$f":"VLOOKUP(K128,Tables!$C$17:$D$34,2,FALSE)","v":235},6.9,"OD",0.12,0.38300000000000001,4.5999999999999999E-2,{"$f":"VLOOKUP(F128,Tables!$G$5:$H$14,2,FALSE)*(M128-(P128+Q128*Tables!$C$6))*(P128+Q128*Tables!$C$6)*1.36136","v":5.0250378738559993},"Controlled OD (DR-18) Cast Iron OD","AWWA C900"]
[null,null,null,null,{"$f":"ROW()","v":129},"PVC","CIOD (DR)-C900",6,"6","250 psi   DR-17",17,{"$f":"VLOOKUP(K129,Tables!$C$17:$D$34,2,FALSE)","v":250},6.9,"OD",0.12,0.40600000000000003,4.9000000000000002E-2,{"$f":"VLOOKUP(F129,Tables!$G$5:$H$14,2,FALSE)*(M129-(P129+Q129*Tables!$C$6))*(P129+Q129*Tables!$C$6)*1.36136","v":5.3081708720040002},"Controlled OD (DR-17) Cast Iron OD","AWWA C900"]
[null,null,null,null,{"$f":"ROW()","v":130},"PVC","CIOD (DR)-C900",6,"6","305 psi   DR-14",14,{"$f":"VLOOKUP(K130,Tables!$C$17:$D$34,2,FALSE)","v":305},6.9,"OD",0.12,0.49299999999999999,5.8999999999999997E-2,{"$f":"VLOOKUP(F130,Tables!$G$5:$H$14,2,FALSE)*(M130-(P130+Q130*Tables!$C$6))*(P130+Q130*Tables!$C$6)*1.36136","v":6.3509366920999986},"Controlled OD (DR-14) Cast Iron OD","AWWA C900"]
[null,null,null,null,{"$f":"ROW()","v":131},"PVC","CIOD (DR)-C900",8,"8","150 psi   DR-27.5",27.5,{"$f":"VLOOKUP(K131,Tables!$C$17:$D$34,2,FALSE)","v":150},9.0500000000000007,"OD",0.16,0.32900000000000001,3.9E-2,{"$f":"VLOOKUP(F131,Tables!$G$5:$H$14,2,FALSE)*(M131-(P131+Q131*Tables!$C$6))*(P131+Q131*Tables!$C$6)*1.36136","v":5.7796019441160009},"Controlled OD (DR-27.5) Cast Iron OD","AWWA C900"]
[null,null,null,null,{"$f":"ROW()","v":132},"PVC","CIOD (DR)-C900",8,"8","165 psi   DR-25",25,{"$f":"VLOOKUP(K132,Tables!$C$17:$D$34,2,FALSE)","v":165},9.0500000000000007,"OD",0.16,0.36199999999999999,4.2999999999999997E-2,{"$f":"VLOOKUP(F132,Tables!$G$5:$H$14,2,FALSE)*(M132-(P132+Q132*Tables!$C$6))*(P132+Q132*Tables!$C$6)*1.36136","v":6.3344677756359999},"Controlled OD (DR-25) Cast Iron OD","AWWA C900"]
[null,null,null,null,{"$f":"ROW()","v":133},"PVC","CIOD (DR)-C900",8,"8","200 psi   DR-21",21,{"$f":"VLOOKUP(K133,Tables!$C$17:$D$34,2,FALSE)","v":200},9.0500000000000007,"OD",0.16,0.43099999999999999,5.1999999999999998E-2,{"$f":"VLOOKUP(F133,Tables!$G$5:$H$14,2,FALSE)*(M133-(P133+Q133*Tables!$C$6))*(P133+Q133*Tables!$C$6)*1.36136","v":7.4844869139039982},"Controlled OD (DR-21) Cast Iron OD","AWWA C900"]
[null,null,null,null,{"$f":"ROW()","v":134},"PVC","CIOD (DR)-C900",8,"8","235 psi   DR-18",18,{"$f":"VLOOKUP(K134,Tables!$C$17:$D$34,2,FALSE)","v":235},9.0500000000000007,"OD",0.16,0.503,0.06,{"$f":"VLOOKUP(F134,Tables!$G$5:$H$14,2,FALSE)*(M134-(P134+Q134*Tables!$C$6))*(P134+Q134*Tables!$C$6)*1.36136","v":8.6519674681440009},"Controlled OD (DR-18) Cast Iron OD","AWWA C900"]
[null,null,null,null,{"$f":"ROW()","v":135},"PVC","CIOD (DR)-C900",8,"8","250 psi   DR-17",17,{"$f":"VLOOKUP(K135,Tables!$C$17:$D$34,2,FALSE)","v":250},9.0500000000000007,"OD",0.16,0.53200000000000003,6.4000000000000001E-2,{"$f":"VLOOKUP(F135,Tables!$G$5:$H$14,2,FALSE)*(M135-(P135+Q135*Tables!$C$6))*(P135+Q135*Tables!$C$6)*1.36136","v":9.121854758016001},"Controlled OD (DR-17) Cast Iron OD","AWWA C900"]
[null,null,null,null,{"$f":"ROW()","v":136},"PVC","CIOD (DR)-C900",8,"8","305 psi   DR-14",14,{"$f":"VLOOKUP(K136,Tables!$C$17:$D$34,2,FALSE)","v":305},9.0500000000000007,"OD",0.16,0.64600000000000002,7.8E-2,{"$f":"VLOOKUP(F136,Tables!$G$5:$H$14,2,FALSE)*(M136-(P136+Q136*Tables!$C$6))*(P136+Q136*Tables!$C$6)*1.36136","v":10.9208775676},"Controlled OD (DR-14) Cast Iron OD","AWWA C900"]
[null,null,null,null,{"$f":"ROW()","v":137},"PVC","CIOD (DR)-C900",10,"10","150 psi   DR-27.5",27.5,{"$f":"VLOOKUP(K137,Tables!$C$17:$D$34,2,FALSE)","v":150},11.1,"OD",0.2,0.40400000000000003,4.8000000000000001E-2,{"$f":"VLOOKUP(F137,Tables!$G$5:$H$14,2,FALSE)*(M137-(P137+Q137*Tables!$C$6))*(P137+Q137*Tables!$C$6)*1.36136","v":8.7054376048639988},"Controlled OD (DR-27.5) Cast Iron OD","AWWA C900"]
[null,null,null,null,{"$f":"ROW()","v":138},"PVC","CIOD (DR)-C900",10,"10","165 psi   DR-25",25,{"$f":"VLOOKUP(K138,Tables!$C$17:$D$34,2,FALSE)","v":165},11.1,"OD",0.2,0.44400000000000001,5.2999999999999999E-2,{"$f":"VLOOKUP(F138,Tables!$G$5:$H$14,2,FALSE)*(M138-(P138+Q138*Tables!$C$6))*(P138+Q138*Tables!$C$6)*1.36136","v":9.5317684902439996},"Controlled OD (DR-25) Cast Iron OD","AWWA C900"]
[null,null,null,null,{"$f":"ROW()","v":139},"PVC","CIOD (DR)-C900",10,"10","200 psi   DR-21",21,{"$f":"VLOOKUP(K139,Tables!$C$17:$D$34,2,FALSE)","v":200},11.1,"OD",0.2,0.52900000000000003,6.3E-2,{"$f":"VLOOKUP(F139,Tables!$G$5:$H$14,2,FALSE)*(M139-(P139+Q139*Tables!$C$6))*(P139+Q139*Tables!$C$6)*1.36136","v":11.258917754083999},"Controlled OD (DR-21) Cast Iron OD","AWWA C900"]
[null,null,null,null,{"$f":"ROW()","v":140},"PVC","CIOD (DR)-C900",10,"10","235 psi   DR-18",18,{"$f":"VLOOKUP(K140,Tables!$C$17:$D$34,2,FALSE)","v":235},11.1,"OD",0.2,0.61699999999999999,7.3999999999999996E-2,{"$f":"VLOOKUP(F140,Tables!$G$5:$H$14,2,FALSE)*(M140-(P140+Q140*Tables!$C$6))*(P140+Q140*Tables!$C$6)*1.36136","v":13.020533862335999},"Controlled OD (DR-18) Cast Iron OD","AWWA C900"]
[null,null,null,null,{"$f":"ROW()","v":141},"PVC","CIOD (DR)-C900",10,"10","250 psi   DR-17",17,{"$f":"VLOOKUP(K141,Tables!$C$17:$D$34,2,FALSE)","v":250},11.1,"OD",0.2,0.65300000000000002,7.8E-2,{"$f":"VLOOKUP(F141,Tables!$G$5:$H$14,2,FALSE)*(M141-(P141+Q141*Tables!$C$6))*(P141+Q141*Tables!$C$6)*1.36136","v":13.726960991743999},"Controlled OD (DR-17) Cast Iron OD","AWWA C900"]
[null,null,null,null,{"$f":"ROW()","v":142},"PVC","CIOD (DR)-C900",10,"10","305 psi   DR-14",14,{"$f":"VLOOKUP(K142,Tables!$C$17:$D$34,2,FALSE)","v":305},11.1,"OD",0.2,0.79300000000000004,9.5000000000000001E-2,{"$f":"VLOOKUP(F142,Tables!$G$5:$H$14,2,FALSE)*(M142-(P142+Q142*Tables!$C$6))*(P142+Q142*Tables!$C$6)*1.36136","v":16.434819364963996},"Controlled OD (DR-14) Cast Iron OD","AWWA C900"]
[null,null,null,null,{"$f":"ROW()","v":143},"PVC","CIOD (DR)-C900",12,"12","150 psi   DR-27.5",27.5,{"$f":"VLOOKUP(K143,Tables!$C$17:$D$34,2,FALSE)","v":150},13.2,"OD",0.24,0.48,5.8000000000000003E-2,{"$f":"VLOOKUP(F143,Tables!$G$5:$H$14,2,FALSE)*(M143-(P143+Q143*Tables!$C$6))*(P143+Q143*Tables!$C$6)*1.36136","v":12.311604280975997},"Controlled OD (DR-27.5) Cast Iron OD","AWWA C900"]
[null,null,null,null,{"$f":"ROW()","v":144},"PVC","CIOD (DR)-C900",12,"12","165 psi   DR-25",25,{"$f":"VLOOKUP(K144,Tables!$C$17:$D$34,2,FALSE)","v":165},13.2,"OD",0.24,0.52800000000000002,6.3E-2,{"$f":"VLOOKUP(F144,Tables!$G$5:$H$14,2,FALSE)*(M144-(P144+Q144*Tables!$C$6))*(P144+Q144*Tables!$C$6)*1.36136","v":13.479238736963996},"Controlled OD (DR-25) Cast Iron OD","AWWA C900"]
[null,null,null,null,{"$f":"ROW()","v":145},"PVC","CIOD (DR)-C900",12,"12","200 psi   DR-21",21,{"$f":"VLOOKUP(K145,Tables!$C$17:$D$34,2,FALSE)","v":200},13.2,"OD",0.24,0.629,7.4999999999999997E-2,{"$f":"VLOOKUP(F145,Tables!$G$5:$H$14,2,FALSE)*(M145-(P145+Q145*Tables!$C$6))*(P145+Q145*Tables!$C$6)*1.36136","v":15.921117248035994},"Controlled OD (DR-21) Cast Iron OD","AWWA C900"]
[null,null,null,null,{"$f":"ROW()","v":146},"PVC","CIOD (DR)-C900",12,"12","235 psi   DR-18",18,{"$f":"VLOOKUP(K146,Tables!$C$17:$D$34,2,FALSE)","v":235},13.2,"OD",0.24,0.73299999999999998,8.7999999999999995E-2,{"$f":"VLOOKUP(F146,Tables!$G$5:$H$14,2,FALSE)*(M146-(P146+Q146*Tables!$C$6))*(P146+Q146*Tables!$C$6)*1.36136","v":18.397064269584},"Controlled OD (DR-18) Cast Iron OD","AWWA C900"]
[null,null,null,null,{"$f":"ROW()","v":147},"PVC","CIOD (DR)-C900",12,"12","250 psi   DR-17",17,{"$f":"VLOOKUP(K147,Tables!$C$17:$D$34,2,FALSE)","v":250},13.2,"OD",0.24,0.77600000000000002,9.2999999999999999E-2,{"$f":"VLOOKUP(F147,Tables!$G$5:$H$14,2,FALSE)*(M147-(P147+Q147*Tables!$C$6))*(P147+Q147*Tables!$C$6)*1.36136","v":19.403043760099997},"Controlled OD (DR-17) Cast Iron OD","AWWA C900"]
[null,null,null,null,{"$f":"ROW()","v":148},"PVC","CIOD (DR)-C900",12,"12","305 psi   DR-14",14,{"$f":"VLOOKUP(K148,Tables!$C$17:$D$34,2,FALSE)","v":305},13.2,"OD",0.24,0.94299999999999995,0.113,{"$f":"VLOOKUP(F148,Tables!$G$5:$H$14,2,FALSE)*(M148-(P148+Q148*Tables!$C$6))*(P148+Q148*Tables!$C$6)*1.36136","v":23.241355261123999},"Controlled OD (DR-14) Cast Iron OD","AWWA C900"]
[null,null,null,null,{"$f":"ROW()","v":149},"PVC","CIOD (DR)-C900",14,"14","100 psi   DR-41",41,{"$f":"VLOOKUP(K149,Tables!$C$17:$D$34,2,FALSE)","v":100},15.3,"OD",0.3,0.373,5.1999999999999998E-2,{"$f":"VLOOKUP(F149,Tables!$G$5:$H$14,2,FALSE)*(M149-(P149+Q149*Tables!$C$6))*(P149+Q149*Tables!$C$6)*1.36136","v":11.331550326096},"Controlled OD (DR-41) Cast Iron OD","AWWA C900"]
[null,null,null,null,{"$f":"ROW()","v":150},"PVC","CIOD (DR)-C900",14,"14","125 psi   DR-32.5",32.5,{"$f":"VLOOKUP(K150,Tables!$C$17:$D$34,2,FALSE)","v":125},15.3,"OD",0.3,0.47099999999999997,5.6000000000000001E-2,{"$f":"VLOOKUP(F150,Tables!$G$5:$H$14,2,FALSE)*(M150-(P150+Q150*Tables!$C$6))*(P150+Q150*Tables!$C$6)*1.36136","v":14.076433266896},"Controlled OD (DR-32.5) Cast Iron OD","AWWA C900"]
[null,null,null,null,{"$f":"ROW()","v":151},"PVC","CIOD (DR)-C900",14,"14","150 psi   DR-27.5",27.5,{"$f":"VLOOKUP(K151,Tables!$C$17:$D$34,2,FALSE)","v":150},15.3,"OD",0.3,0.55600000000000005,6.7000000000000004E-2,{"$f":"VLOOKUP(F151,Tables!$G$5:$H$14,2,FALSE)*(M151-(P151+Q151*Tables!$C$6))*(P151+Q151*Tables!$C$6)*1.36136","v":16.527694066883999},"Controlled OD (DR-27.5) Cast Iron OD","AWWA C900"]
[null,null,null,null,{"$f":"ROW()","v":152},"PVC","CIOD (DR)-C900",14,"14","165 psi   DR-25",25,{"$f":"VLOOKUP(K152,Tables!$C$17:$D$34,2,FALSE)","v":165},15.3,"OD",0.3,0.61199999999999999,7.2999999999999995E-2,{"$f":"VLOOKUP(F152,Tables!$G$5:$H$14,2,FALSE)*(M152-(P152+Q152*Tables!$C$6))*(P152+Q152*Tables!$C$6)*1.36136","v":18.108942567715999},"Controlled OD (DR-25) Cast Iron OD","AWWA C900"]
[null,null,null,null,{"$f":"ROW()","v":153},"PVC","CIOD (DR)-C900",14,"14","200 psi   DR-21",21,{"$f":"VLOOKUP(K153,Tables!$C$17:$D$34,2,FALSE)","v":200},15.3,"OD",0.3,0.72899999999999998,8.7999999999999995E-2,{"$f":"VLOOKUP(F153,Tables!$G$5:$H$14,2,FALSE)*(M153-(P153+Q153*Tables!$C$6))*(P153+Q153*Tables!$C$6)*1.36136","v":21.402103106384001},"Controlled OD (DR-21) Cast Iron OD","AWWA C900"]
[null,null,null,null,{"$f":"ROW()","v":154},"PVC","CIOD (DR)-C900",14,"14","235 psi   DR-18",18,{"$f":"VLOOKUP(K154,Tables!$C$17:$D$34,2,FALSE)","v":235},15.3,"OD",0.3,0.85,0.10199999999999999,{"$f":"VLOOKUP(F154,Tables!$G$5:$H$14,2,FALSE)*(M154-(P154+Q154*Tables!$C$6))*(P154+Q154*Tables!$C$6)*1.36136","v":24.726243638096001},"Controlled OD (DR-18) Cast Iron OD","AWWA C900"]
[null,null,null,null,{"$f":"ROW()","v":155},"PVC","CIOD (DR)-C900",14,"14","250 psi   DR-17",17,{"$f":"VLOOKUP(K155,Tables!$C$17:$D$34,2,FALSE)","v":250},15.3,"OD",0.2,0.9,0.108,{"$f":"VLOOKUP(F155,Tables!$G$5:$H$14,2,FALSE)*(M155-(P155+Q155*Tables!$C$6))*(P155+Q155*Tables!$C$6)*1.36136","v":26.084362239935995},"Controlled OD (DR-17) Cast Iron OD","AWWA C900"]
[null,null,null,null,{"$f":"ROW()","v":156},"PVC","CIOD (DR)-C900",14,"14","305 psi   DR-14",14,{"$f":"VLOOKUP(K156,Tables!$C$17:$D$34,2,FALSE)","v":305},15.3,"OD",0.2,1.093,0.13100000000000001,{"$f":"VLOOKUP(F156,Tables!$G$5:$H$14,2,FALSE)*(M156-(P156+Q156*Tables!$C$6))*(P156+Q156*Tables!$C$6)*1.36136","v":31.224287530435998},"Controlled OD (DR-14) Cast Iron OD","AWWA C900"]
[null,null,null,null,{"$f":"ROW()","v":157},"PVC","CIOD (DR)-C900",16,"16","100 psi   DR-41",41,{"$f":"VLOOKUP(K157,Tables!$C$17:$D$34,2,FALSE)","v":100},17.399999999999999,"OD",0.32,0.42399999999999999,5.8999999999999997E-2,{"$f":"VLOOKUP(F157,Tables!$G$5:$H$14,2,FALSE)*(M157-(P157+Q157*Tables!$C$6))*(P157+Q157*Tables!$C$6)*1.36136","v":14.647325368675999},"Controlled OD (DR-41) Cast Iron OD","AWWA C900"]
[null,null,null,null,{"$f":"ROW()","v":158},"PVC","CIOD (DR)-C900",16,"16","125 psi   DR-32.5",32.5,{"$f":"VLOOKUP(K158,Tables!$C$17:$D$34,2,FALSE)","v":125},17.399999999999999,"OD",0.32,0.53500000000000003,6.4000000000000001E-2,{"$f":"VLOOKUP(F158,Tables!$G$5:$H$14,2,FALSE)*(M158-(P158+Q158*Tables!$C$6))*(P158+Q158*Tables!$C$6)*1.36136","v":18.190540512143997},"Controlled OD (DR-32.5) Cast Iron OD","AWWA C900"]
[null,null,null,null,{"$f":"ROW()","v":159},"PVC","CIOD (DR)-C900",16,"16","150 psi   DR-27.5",27.5,{"$f":"VLOOKUP(K159,Tables!$C$17:$D$34,2,FALSE)","v":150},17.399999999999999,"OD",0.32,0.63300000000000001,7.5999999999999998E-2,{"$f":"VLOOKUP(F159,Tables!$G$5:$H$14,2,FALSE)*(M159-(P159+Q159*Tables!$C$6))*(P159+Q159*Tables!$C$6)*1.36136","v":21.394075438735996},"Controlled OD (DR-27.5) Cast Iron OD","AWWA C900"]
[null,null,null,null,{"$f":"ROW()","v":160},"PVC","CIOD (DR)-C900",16,"16","165 psi   DR-25",25,{"$f":"VLOOKUP(K160,Tables!$C$17:$D$34,2,FALSE)","v":165},17.399999999999999,"OD",0.32,0.69599999999999995,8.4000000000000005E-2,{"$f":"VLOOKUP(F160,Tables!$G$5:$H$14,2,FALSE)*(M160-(P160+Q160*Tables!$C$6))*(P160+Q160*Tables!$C$6)*1.36136","v":23.436055266623999},"Controlled OD (DR-25) Cast Iron OD","AWWA C900"]
[null,null,null,null,{"$f":"ROW()","v":161},"PVC","CIOD (DR)-C900",16,"16","200 psi   DR-21",21,{"$f":"VLOOKUP(K161,Tables!$C$17:$D$34,2,FALSE)","v":200},17.399999999999999,"OD",0.32,0.82899999999999996,0.1,{"$f":"VLOOKUP(F161,Tables!$G$5:$H$14,2,FALSE)*(M161-(P161+Q161*Tables!$C$6))*(P161+Q161*Tables!$C$6)*1.36136","v":27.677459745935991},"Controlled OD (DR-21) Cast Iron OD","AWWA C900"]
[null,null,null,null,{"$f":"ROW()","v":162},"PVC","CIOD (DR)-C900",16,"16","235 psi   DR-18",18,{"$f":"VLOOKUP(K162,Tables!$C$17:$D$34,2,FALSE)","v":235},17.399999999999999,"OD",0.32,0.96699999999999997,0.11600000000000001,{"$f":"VLOOKUP(F162,Tables!$G$5:$H$14,2,FALSE)*(M162-(P162+Q162*Tables!$C$6))*(P162+Q162*Tables!$C$6)*1.36136","v":31.989407449999991},"Controlled OD (DR-18) Cast Iron OD","AWWA C900"]
[null,null,null,null,{"$f":"ROW()","v":163},"PVC","CIOD (DR)-C900",16,"16","250 psi   DR-17",17,{"$f":"VLOOKUP(K163,Tables!$C$17:$D$34,2,FALSE)","v":250},17.399999999999999,"OD",0.32,1.024,0.123,{"$f":"VLOOKUP(F163,Tables!$G$5:$H$14,2,FALSE)*(M163-(P163+Q163*Tables!$C$6))*(P163+Q163*Tables!$C$6)*1.36136","v":33.752396762083997},"Controlled OD (DR-17) Cast Iron OD","AWWA C900"]
[null,null,null,null,{"$f":"ROW()","v":164},"PVC","CIOD (DR)-C900",16,"16","305 psi   DR-14",14,{"$f":"VLOOKUP(K164,Tables!$C$17:$D$34,2,FALSE)","v":305},17.399999999999999,"OD",0.32,1.2430000000000001,0.14899999999999999,{"$f":"VLOOKUP(F164,Tables!$G$5:$H$14,2,FALSE)*(M164-(P164+Q164*Tables!$C$6))*(P164+Q164*Tables!$C$6)*1.36136","v":40.383616172899998},"Controlled OD (DR-14) Cast Iron OD","AWWA C900"]
[null,null,null,null,{"$f":"ROW()","v":165},"PVC","CIOD (DR)-C900",18,"18",{"$f":"\" \"&L165&\" psi   DR-\"&K165","v":" 80 psi   DR-51"},51,{"$f":"VLOOKUP(K165,Tables!$C$17:$D$34,2,FALSE)","v":80},19.5,"OD",0.36,0.38200000000000001,5.2999999999999999E-2,{"$f":"VLOOKUP(F165,Tables!$G$5:$H$14,2,FALSE)*(M165-(P165+Q165*Tables!$C$6))*(P165+Q165*Tables!$C$6)*1.36136","v":14.863912299235999},"Controlled OD (DR-51) Cast Iron OD","AWWA C900"]
[null,null,null,null,{"$f":"ROW()","v":166},"PVC","CIOD (DR)-C900",18,"18","100 psi   DR-41",41,{"$f":"VLOOKUP(K166,Tables!$C$17:$D$34,2,FALSE)","v":100},19.5,"OD",0.36,0.47599999999999998,6.7000000000000004E-2,{"$f":"VLOOKUP(F166,Tables!$G$5:$H$14,2,FALSE)*(M166-(P166+Q166*Tables!$C$6))*(P166+Q166*Tables!$C$6)*1.36136","v":18.440878620163996},"Controlled OD (DR-41) Cast Iron OD","AWWA C900"]
[null,null,null,null,{"$f":"ROW()","v":167},"PVC","CIOD (DR)-C900",18,"18","125 psi   DR-32.5",32.5,{"$f":"VLOOKUP(K167,Tables!$C$17:$D$34,2,FALSE)","v":125},19.5,"OD",0.36,0.6,7.1999999999999995E-2,{"$f":"VLOOKUP(F167,Tables!$G$5:$H$14,2,FALSE)*(M167-(P167+Q167*Tables!$C$6))*(P167+Q167*Tables!$C$6)*1.36136","v":22.866090863615998},"Controlled OD (DR-32.5) Cast Iron OD","AWWA C900"]
[null,null,null,null,{"$f":"ROW()","v":168},"PVC","CIOD (DR)-C900",18,"18","150 psi   DR-27.5",27.5,{"$f":"VLOOKUP(K168,Tables!$C$17:$D$34,2,FALSE)","v":150},19.5,"OD",0.36,0.70899999999999996,8.5000000000000006E-2,{"$f":"VLOOKUP(F168,Tables!$G$5:$H$14,2,FALSE)*(M168-(P168+Q168*Tables!$C$6))*(P168+Q168*Tables!$C$6)*1.36136","v":26.853230119715992},"Controlled OD (DR-27.5) Cast Iron OD","AWWA C900"]
[null,null,null,null,{"$f":"ROW()","v":169},"PVC","CIOD (DR)-C900",18,"18","165 psi   DR-25",25,{"$f":"VLOOKUP(K169,Tables!$C$17:$D$34,2,FALSE)","v":165},19.5,"OD",0.36,0.78,9.4E-2,{"$f":"VLOOKUP(F169,Tables!$G$5:$H$14,2,FALSE)*(M169-(P169+Q169*Tables!$C$6))*(P169+Q169*Tables!$C$6)*1.36136","v":29.432057839183997},"Controlled OD (DR-25) Cast Iron OD","AWWA C900"]
[null,null,null,null,{"$f":"ROW()","v":170},"PVC","CIOD (DR)-C900",18,"18","200 psi   DR-21",21,{"$f":"VLOOKUP(K170,Tables!$C$17:$D$34,2,FALSE)","v":200},19.5,"OD",0.36,0.92900000000000005,0.111,{"$f":"VLOOKUP(F170,Tables!$G$5:$H$14,2,FALSE)*(M170-(P170+Q170*Tables!$C$6))*(P170+Q170*Tables!$C$6)*1.36136","v":34.741789646563994},"Controlled OD (DR-21) Cast Iron OD","AWWA C900"]
[null,null,null,null,{"$f":"ROW()","v":171},"PVC","CIOD (DR)-C900",18,"18","235 psi   DR-18",18,{"$f":"VLOOKUP(K171,Tables!$C$17:$D$34,2,FALSE)","v":235},19.5,"OD",0.36,1.083,0.13,{"$f":"VLOOKUP(F171,Tables!$G$5:$H$14,2,FALSE)*(M171-(P171+Q171*Tables!$C$6))*(P171+Q171*Tables!$C$6)*1.36136","v":40.153768438783992},"Controlled OD (DR-18) Cast Iron OD","AWWA C900"]
[null,null,null,null,{"$f":"ROW()","v":172},"PVC","CIOD (DR)-C900",18,"18","250 psi   DR-17",17,{"$f":"VLOOKUP(K172,Tables!$C$17:$D$34,2,FALSE)","v":250},19.5,"OD",0.36,1.147,0.13800000000000001,{"$f":"VLOOKUP(F172,Tables!$G$5:$H$14,2,FALSE)*(M172-(P172+Q172*Tables!$C$6))*(P172+Q172*Tables!$C$6)*1.36136","v":42.37461926297599},"Controlled OD (DR-17) Cast Iron OD","AWWA C900"]
[null,null,null,null,{"$f":"ROW()","v":173},"PVC","CIOD (DR)-C900",18,"18","305 psi   DR-14",14,{"$f":"VLOOKUP(K173,Tables!$C$17:$D$34,2,FALSE)","v":305},19.5,"OD",0.36,1.393,0.16700000000000001,{"$f":"VLOOKUP(F173,Tables!$G$5:$H$14,2,FALSE)*(M173-(P173+Q173*Tables!$C$6))*(P173+Q173*Tables!$C$6)*1.36136","v":50.71934118851599},"Controlled OD (DR-14) Cast Iron OD","AWWA C900"]
[null,null,null,null,{"$f":"ROW()","v":174},"PVC","CIOD (DR)-C900",20,"20",{"$f":"\" \"&L174&\" psi   DR-\"&K174","v":" 80 psi   DR-51"},51,{"$f":"VLOOKUP(K174,Tables!$C$17:$D$34,2,FALSE)","v":80},21.6,"OD",0.4,0.42399999999999999,5.8999999999999997E-2,{"$f":"VLOOKUP(F174,Tables!$G$5:$H$14,2,FALSE)*(M174-(P174+Q174*Tables!$C$6))*(P174+Q174*Tables!$C$6)*1.36136","v":18.277500717476002},"Controlled OD (DR-51) Cast Iron OD","AWWA C900"]
[null,null,null,null,{"$f":"ROW()","v":175},"PVC","CIOD (DR)-C900",20,"20","100 psi   DR-41",41,{"$f":"VLOOKUP(K175,Tables!$C$17:$D$34,2,FALSE)","v":100},21.6,"OD",0.4,0.52700000000000002,7.3999999999999996E-2,{"$f":"VLOOKUP(F175,Tables!$G$5:$H$14,2,FALSE)*(M175-(P175+Q175*Tables!$C$6))*(P175+Q175*Tables!$C$6)*1.36136","v":22.612224450815997},"Controlled OD (DR-41) Cast Iron OD","AWWA C900"]
[null,null,null,null,{"$f":"ROW()","v":176},"PVC","CIOD (DR)-C900",20,"20","125 psi   DR-32.5",32.5,{"$f":"VLOOKUP(K176,Tables!$C$17:$D$34,2,FALSE)","v":125},21.6,"OD",0.4,0.66500000000000004,0.08,{"$f":"VLOOKUP(F176,Tables!$G$5:$H$14,2,FALSE)*(M176-(P176+Q176*Tables!$C$6))*(P176+Q176*Tables!$C$6)*1.36136","v":28.075824176400001},"Controlled OD (DR-32.5) Cast Iron OD","AWWA C900"]
[null,null,null,null,{"$f":"ROW()","v":177},"PVC","CIOD (DR)-C900",20,"20","150 psi   DR-27.5",27.5,{"$f":"VLOOKUP(K177,Tables!$C$17:$D$34,2,FALSE)","v":150},21.6,"OD",0.4,0.78500000000000003,9.4E-2,{"$f":"VLOOKUP(F177,Tables!$G$5:$H$14,2,FALSE)*(M177-(P177+Q177*Tables!$C$6))*(P177+Q177*Tables!$C$6)*1.36136","v":32.932069474304001},"Controlled OD (DR-27.5) Cast Iron OD","AWWA C900"]
[null,null,null,null,{"$f":"ROW()","v":178},"PVC","CIOD (DR)-C900",20,"20","165 psi   DR-25",25,{"$f":"VLOOKUP(K178,Tables!$C$17:$D$34,2,FALSE)","v":165},21.6,"OD",0.4,0.86399999999999999,0.104,{"$f":"VLOOKUP(F178,Tables!$G$5:$H$14,2,FALSE)*(M178-(P178+Q178*Tables!$C$6))*(P178+Q178*Tables!$C$6)*1.36136","v":36.110293995775997},"Controlled OD (DR-25) Cast Iron OD","AWWA C900"]
[null,null,null,null,{"$f":"ROW()","v":179},"PVC","CIOD (DR)-C900",20,"20","200 psi   DR-21",21,{"$f":"VLOOKUP(K179,Tables!$C$17:$D$34,2,FALSE)","v":200},21.6,"OD",0.4,1.0289999999999999,0.123,{"$f":"VLOOKUP(F179,Tables!$G$5:$H$14,2,FALSE)*(M179-(P179+Q179*Tables!$C$6))*(P179+Q179*Tables!$C$6)*1.36136","v":42.626705084963994},"Controlled OD (DR-21) Cast Iron OD","AWWA C900"]
[null,null,null,null,{"$f":"ROW()","v":180},"PVC","CIOD (DR)-C900",20,"20","235 psi   DR-18",18,{"$f":"VLOOKUP(K180,Tables!$C$17:$D$34,2,FALSE)","v":235},21.6,"OD",0.4,1.2,0.14399999999999999,{"$f":"VLOOKUP(F180,Tables!$G$5:$H$14,2,FALSE)*(M180-(P180+Q180*Tables!$C$6))*(P180+Q180*Tables!$C$6)*1.36136","v":49.281371403264004},"Controlled OD (DR-18) Cast Iron OD","AWWA C900"]
[null,null,null,null,{"$f":"ROW()","v":181},"PVC","CIOD (DR)-C900",20,"20","250 psi   DR-17",17,{"$f":"VLOOKUP(K181,Tables!$C$17:$D$34,2,FALSE)","v":250},21.6,"OD",0.4,1.2709999999999999,0.153,{"$f":"VLOOKUP(F181,Tables!$G$5:$H$14,2,FALSE)*(M181-(P181+Q181*Tables!$C$6))*(P181+Q181*Tables!$C$6)*1.36136","v":52.012584724099995},"Controlled OD (DR-17) Cast Iron OD","AWWA C900"]
[null,null,null,null,{"$f":"ROW()","v":182},"PVC","CIOD (DR)-C900",20,"20","305 psi   DR-14",14,{"$f":"VLOOKUP(K182,Tables!$C$17:$D$34,2,FALSE)","v":305},21.6,"OD",0.4,1.5429999999999999,0.185,{"$f":"VLOOKUP(F182,Tables!$G$5:$H$14,2,FALSE)*(M182-(P182+Q182*Tables!$C$6))*(P182+Q182*Tables!$C$6)*1.36136","v":62.231462577283999},"Controlled OD (DR-14) Cast Iron OD","AWWA C900"]
[null,null,null,null,{"$f":"ROW()","v":183},"PVC","CIOD (DR)-C900",24,"24",{"$f":"\" \"&L183&\" psi   DR-\"&K183","v":" 80 psi   DR-51"},51,{"$f":"VLOOKUP(K183,Tables!$C$17:$D$34,2,FALSE)","v":80},25.8,"OD",0.48,0.50600000000000001,7.0999999999999994E-2,{"$f":"VLOOKUP(F183,Tables!$G$5:$H$14,2,FALSE)*(M183-(P183+Q183*Tables!$C$6))*(P183+Q183*Tables!$C$6)*1.36136","v":26.067959553635994},"Controlled OD (DR-51) Cast Iron OD","AWWA C900"]
[null,null,null,null,{"$f":"ROW()","v":184},"PVC","CIOD (DR)-C900",24,"24","100 psi   DR-41",41,{"$f":"VLOOKUP(K184,Tables!$C$17:$D$34,2,FALSE)","v":100},25.8,"OD",0.48,0.629,8.7999999999999995E-2,{"$f":"VLOOKUP(F184,Tables!$G$5:$H$14,2,FALSE)*(M184-(P184+Q184*Tables!$C$6))*(P184+Q184*Tables!$C$6)*1.36136","v":32.229734320783997},{"$f":"\"Controlled OD (DR-\"&K184&\") Cast Iron OD\"","v":"Controlled OD (DR-41) Cast Iron OD"},"AWWA C900"]
[null,null,null,null,{"$f":"ROW()","v":185},"PVC","CIOD (DR)-C900",24,"24","125 psi   DR-32.5",32.5,{"$f":"VLOOKUP(K185,Tables!$C$17:$D$34,2,FALSE)","v":125},25.8,"OD",0.48,0.79400000000000004,9.5000000000000001E-2,{"$f":"VLOOKUP(F185,Tables!$G$5:$H$14,2,FALSE)*(M185-(P185+Q185*Tables!$C$6))*(P185+Q185*Tables!$C$6)*1.36136","v":40.028896944035992},"Controlled OD (DR-32.5) Cast Iron OD","AWWA C900"]
[null,null,null,null,{"$f":"ROW()","v":186},"PVC","CIOD (DR)-C900",24,"24","150 psi   DR-27.5",27.5,{"$f":"VLOOKUP(K186,Tables!$C$17:$D$34,2,FALSE)","v":150},25.8,"OD",0.48,0.93799999999999994,0.113,{"$f":"VLOOKUP(F186,Tables!$G$5:$H$14,2,FALSE)*(M186-(P186+Q186*Tables!$C$6))*(P186+Q186*Tables!$C$6)*1.36136","v":47.016878712803987},"Controlled OD (DR-27.5) Cast Iron OD","AWWA C900"]
[null,null,null,null,{"$f":"ROW()","v":187},"PVC","CIOD (DR)-C900",24,"24","165 psi   DR-25",25,{"$f":"VLOOKUP(K187,Tables!$C$17:$D$34,2,FALSE)","v":165},25.8,"OD",0.48,1.032,0.124,{"$f":"VLOOKUP(F187,Tables!$G$5:$H$14,2,FALSE)*(M187-(P187+Q187*Tables!$C$6))*(P187+Q187*Tables!$C$6)*1.36136","v":51.513467061056005},"Controlled OD (DR-25) Cast Iron OD","AWWA C900"]
[null,null,null,null,{"$f":"ROW()","v":188},"PVC","CIOD (DR)-C900",24,"24",{"$f":"L188&\" psi   DR-\"&K188","v":"200 psi   DR-21"},21,{"$f":"VLOOKUP(K188,Tables!$C$17:$D$34,2,FALSE)","v":200},25.8,"OD",0.48,1.2290000000000001,0.14699999999999999,{"$f":"VLOOKUP(F188,Tables!$G$5:$H$14,2,FALSE)*(M188-(P188+Q188*Tables!$C$6))*(P188+Q188*Tables!$C$6)*1.36136","v":60.813572920099993},"Controlled OD (DR-21) Cast Iron OD","AWWA C900"]
[null,null,null,null,{"$f":"ROW()","v":189},"PVC","CIOD (DR)-C900",24,"24","235 psi   DR-18",18,{"$f":"VLOOKUP(K189,Tables!$C$17:$D$34,2,FALSE)","v":235},25.8,"OD",0.48,1.4330000000000001,0.17199999999999999,{"$f":"VLOOKUP(F189,Tables!$G$5:$H$14,2,FALSE)*(M189-(P189+Q189*Tables!$C$6))*(P189+Q189*Tables!$C$6)*1.36136","v":70.295150381455997},"Controlled OD (DR-18) Cast Iron OD","AWWA C900"]
[null,null,null,null,{"$f":"ROW()","v":190},"PVC","CIOD (DR)-C900",24,"24","250 psi   DR-17",17,{"$f":"VLOOKUP(K190,Tables!$C$17:$D$34,2,FALSE)","v":250},25.8,"OD",0.48,1.518,0.182,{"$f":"VLOOKUP(F190,Tables!$G$5:$H$14,2,FALSE)*(M190-(P190+Q190*Tables!$C$6))*(P190+Q190*Tables!$C$6)*1.36136","v":74.184109375376011},"Controlled OD (DR-17) Cast Iron OD","AWWA C900"]
[null,null,null,null,{"$f":"ROW()","v":191},"PVC","CIOD (DR)-C900",24,"24","305 psi   DR-14",14,{"$f":"VLOOKUP(K191,Tables!$C$17:$D$34,2,FALSE)","v":305},25.8,"OD",0.48,1.843,0.221,{"$f":"VLOOKUP(F191,Tables!$G$5:$H$14,2,FALSE)*(M191-(P191+Q191*Tables!$C$6))*(P191+Q191*Tables!$C$6)*1.36136","v":88.784894474275987},"Controlled OD (DR-14) Cast Iron OD","AWWA C900"]
[null,null,null,null,{"$f":"ROW()","v":192},"PVC","CIOD (DR)-C900",30,"30",{"$f":"\" \"&L192&\" psi   DR-\"&K192","v":" 80 psi   DR-51"},51,{"$f":"VLOOKUP(K192,Tables!$C$17:$D$34,2,FALSE)","v":80},32,"OD",0.6,0.627,8.7999999999999995E-2,{"$f":"VLOOKUP(F192,Tables!$G$5:$H$14,2,FALSE)*(M192-(P192+Q192*Tables!$C$6))*(P192+Q192*Tables!$C$6)*1.36136","v":40.065454565136001},"Controlled OD (DR-51) Cast Iron OD","AWWA C900"]
[null,null,null,null,{"$f":"ROW()","v":193},"PVC","CIOD (DR)-C900",30,"30","100 psi   DR-41",41,{"$f":"VLOOKUP(K193,Tables!$C$17:$D$34,2,FALSE)","v":100},32,"OD",0.6,0.78,0.109,{"$f":"VLOOKUP(F193,Tables!$G$5:$H$14,2,FALSE)*(M193-(P193+Q193*Tables!$C$6))*(P193+Q193*Tables!$C$6)*1.36136","v":49.568007452963997},"Controlled OD (DR-41) Cast Iron OD","AWWA C900"]
[null,null,null,null,{"$f":"ROW()","v":194},"PVC","CIOD (DR)-C900",30,"30","125 psi   DR-32.5",32.5,{"$f":"VLOOKUP(K194,Tables!$C$17:$D$34,2,FALSE)","v":125},32,"OD",0.6,0.98499999999999999,0.11799999999999999,{"$f":"VLOOKUP(F194,Tables!$G$5:$H$14,2,FALSE)*(M194-(P194+Q194*Tables!$C$6))*(P194+Q194*Tables!$C$6)*1.36136","v":61.595127449855994},"Controlled OD (DR-32.5) Cast Iron OD","AWWA C900"]
[null,null,null,null,{"$f":"ROW()","v":195},"PVC","CIOD (DR)-C900",30,"30","150 psi   DR-27.5",27.5,{"$f":"VLOOKUP(K195,Tables!$C$17:$D$34,2,FALSE)","v":150},32,"OD",0.6,1.1639999999999999,0.14000000000000001,{"$f":"VLOOKUP(F195,Tables!$G$5:$H$14,2,FALSE)*(M195-(P195+Q195*Tables!$C$6))*(P195+Q195*Tables!$C$6)*1.36136","v":72.358110400575981},"Controlled OD (DR-27.5) Cast Iron OD","AWWA C900"]
[null,null,null,null,{"$f":"ROW()","v":196},"PVC","CIOD (DR)-C900",30,"30","165 psi   DR-25",25,{"$f":"VLOOKUP(K196,Tables!$C$17:$D$34,2,FALSE)","v":165},32,"OD",0.6,1.28,0.154,{"$f":"VLOOKUP(F196,Tables!$G$5:$H$14,2,FALSE)*(M196-(P196+Q196*Tables!$C$6))*(P196+Q196*Tables!$C$6)*1.36136","v":79.252350281103986},"Controlled OD (DR-25) Cast Iron OD","AWWA C900"]
[null,null,null,null,{"$f":"ROW()","v":197},"PVC","CIOD (DR)-C900",30,"30","200 psi   DR-21",21,{"$f":"VLOOKUP(K197,Tables!$C$17:$D$34,2,FALSE)","v":200},32,"OD",0.6,1.524,0.183,{"$f":"VLOOKUP(F197,Tables!$G$5:$H$14,2,FALSE)*(M197-(P197+Q197*Tables!$C$6))*(P197+Q197*Tables!$C$6)*1.36136","v":93.55350821216399},"Controlled OD (DR-21) Cast Iron OD","AWWA C900"]
[null,null,null,null,{"$f":"ROW()","v":198},"PVC","CIOD (DR)-C900",30,"30","235 psi   DR-18",18,{"$f":"VLOOKUP(K198,Tables!$C$17:$D$34,2,FALSE)","v":235},32,"OD",0.6,1.778,0.21299999999999999,{"$f":"VLOOKUP(F198,Tables!$G$5:$H$14,2,FALSE)*(M198-(P198+Q198*Tables!$C$6))*(P198+Q198*Tables!$C$6)*1.36136","v":108.165121228164},"Controlled OD (DR-18) Cast Iron OD","AWWA C900"]
[null,null,null,null,{"$f":"ROW()","v":199},"PVC","CIOD (DR)-C900",30,"30","250 psi   DR-17",17,{"$f":"VLOOKUP(K199,Tables!$C$17:$D$34,2,FALSE)","v":250},32,"OD",0.6,1.8819999999999999,0.22600000000000001,{"$f":"VLOOKUP(F199,Tables!$G$5:$H$14,2,FALSE)*(M199-(P199+Q199*Tables!$C$6))*(P199+Q199*Tables!$C$6)*1.36136","v":114.08736579239998},"Controlled OD (DR-17) Cast Iron OD","AWWA C900"]
[null,null,null,null,{"$f":"ROW()","v":200},"PVC","CIOD (DR)-C900",36,"36",{"$f":"\" \"&L200&\" psi   DR-\"&K200","v":" 80 psi   DR-51"},51,{"$f":"VLOOKUP(K200,Tables!$C$17:$D$34,2,FALSE)","v":80},38.299999999999997,"OD",0.72,0.751,0.105,{"$f":"VLOOKUP(F200,Tables!$G$5:$H$14,2,FALSE)*(M200-(P200+Q200*Tables!$C$6))*(P200+Q200*Tables!$C$6)*1.36136","v":57.421910021475995},"Controlled OD (DR-51) Cast Iron OD","AWWA C900"]
[null,null,null,null,{"$f":"ROW()","v":201},"PVC","CIOD (DR)-C900",36,"36","100 psi   DR-41",41,{"$f":"VLOOKUP(K201,Tables!$C$17:$D$34,2,FALSE)","v":100},38.299999999999997,"OD",0.72,0.93400000000000005,0.13100000000000001,{"$f":"VLOOKUP(F201,Tables!$G$5:$H$14,2,FALSE)*(M201-(P201+Q201*Tables!$C$6))*(P201+Q201*Tables!$C$6)*1.36136","v":71.055626565923987},"Controlled OD (DR-41) Cast Iron OD","AWWA C900"]
[null,null,null,null,{"$f":"ROW()","v":202},"PVC","CIOD (DR)-C900",36,"36","125 psi   DR-32.5",32.5,{"$f":"VLOOKUP(K202,Tables!$C$17:$D$34,2,FALSE)","v":125},38.299999999999997,"OD",0.72,1.1779999999999999,0.14099999999999999,{"$f":"VLOOKUP(F202,Tables!$G$5:$H$14,2,FALSE)*(M202-(P202+Q202*Tables!$C$6))*(P202+Q202*Tables!$C$6)*1.36136","v":88.164827666915983},"Controlled OD (DR-32.5) Cast Iron OD","AWWA C900"]
[null,null,null,null,{"$f":"ROW()","v":203},"PVC","CIOD (DR)-C900",36,"36","150 psi   DR-27.5",27.5,{"$f":"VLOOKUP(K203,Tables!$C$17:$D$34,2,FALSE)","v":150},38.299999999999997,"OD",0.72,1.393,0.16700000000000001,{"$f":"VLOOKUP(F203,Tables!$G$5:$H$14,2,FALSE)*(M203-(P203+Q203*Tables!$C$6))*(P203+Q203*Tables!$C$6)*1.36136","v":103.62380560131596},"Controlled OD (DR-27.5) Cast Iron OD","AWWA C900"]
[null,null,null,null,{"$f":"ROW()","v":204},"PVC","CIOD (DR)-C900",36,"36","165 psi   DR-25",25,{"$f":"VLOOKUP(K204,Tables!$C$17:$D$34,2,FALSE)","v":165},38.299999999999997,"OD",0.72,1.532,0.184,{"$f":"VLOOKUP(F204,Tables!$G$5:$H$14,2,FALSE)*(M204-(P204+Q204*Tables!$C$6))*(P204+Q204*Tables!$C$6)*1.36136","v":113.51911860889597},"Controlled OD (DR-25) Cast Iron OD","AWWA C900"]
[null,null,null,null,{"$f":"ROW()","v":205},"PVC","CIOD (DR)-C900",36,"36","200 psi   DR-21",21,{"$f":"VLOOKUP(K205,Tables!$C$17:$D$34,2,FALSE)","v":200},38.299999999999997,"OD",0.72,1.8240000000000001,0.219,{"$f":"VLOOKUP(F205,Tables!$G$5:$H$14,2,FALSE)*(M205-(P205+Q205*Tables!$C$6))*(P205+Q205*Tables!$C$6)*1.36136","v":134.01293028723597},"Controlled OD (DR-21) Cast Iron OD","AWWA C900"]
[null,null,null,null,{"$f":"ROW()","v":206},"PVC","CIOD (DR)-C900",36,"36","235 psi   DR-18",18,{"$f":"VLOOKUP(K206,Tables!$C$17:$D$34,2,FALSE)","v":235},38.299999999999997,"OD",0.72,2.1280000000000001,0.255,{"$f":"VLOOKUP(F206,Tables!$G$5:$H$14,2,FALSE)*(M206-(P206+Q206*Tables!$C$6))*(P206+Q206*Tables!$C$6)*1.36136","v":154.946888100004},"Controlled OD (DR-18) Cast Iron OD","AWWA C900"]
[null,null,null,null,{"$f":"ROW()","v":207},"PVC","CIOD (DR)-C900",42,"42",{"$f":"\" \"&L207&\" psi   DR-\"&K207","v":" 80 psi   DR-51"},51,{"$f":"VLOOKUP(K207,Tables!$C$17:$D$34,2,FALSE)","v":80},44.5,"OD",0.84,0.872,0.122,{"$f":"VLOOKUP(F207,Tables!$G$5:$H$14,2,FALSE)*(M207-(P207+Q207*Tables!$C$6))*(P207+Q207*Tables!$C$6)*1.36136","v":77.471206756943985},"Controlled OD (DR-51) Cast Iron OD","AWWA C900"]
[null,null,null,null,{"$f":"ROW()","v":208},"PVC","CIOD (DR)-C900",42,"42","100 psi   DR-41",41,{"$f":"VLOOKUP(K208,Tables!$C$17:$D$34,2,FALSE)","v":100},44.5,"OD",0.84,1.085,0.152,{"$f":"VLOOKUP(F208,Tables!$G$5:$H$14,2,FALSE)*(M208-(P208+Q208*Tables!$C$6))*(P208+Q208*Tables!$C$6)*1.36136","v":95.898569182415969},"Controlled OD (DR-41) Cast Iron OD","AWWA C900"]
[null,null,null,null,{"$f":"ROW()","v":209},"PVC","CIOD (DR)-C900",42,"42","125 psi   DR-32.5",32.5,{"$f":"VLOOKUP(K209,Tables!$C$17:$D$34,2,FALSE)","v":125},44.5,"OD",0.84,1.369,0.16400000000000001,{"$f":"VLOOKUP(F209,Tables!$G$5:$H$14,2,FALSE)*(M209-(P209+Q209*Tables!$C$6))*(P209+Q209*Tables!$C$6)*1.36136","v":119.05057614049598},"Controlled OD (DR-32.5) Cast Iron OD","AWWA C900"]
[null,null,null,null,{"$f":"ROW()","v":210},"PVC","CIOD (DR)-C900",42,"42","150 psi   DR-27.5",27.5,{"$f":"VLOOKUP(K210,Tables!$C$17:$D$34,2,FALSE)","v":150},44.5,"OD",0.84,1.6180000000000001,0.19400000000000001,{"$f":"VLOOKUP(F210,Tables!$G$5:$H$14,2,FALSE)*(M210-(P210+Q210*Tables!$C$6))*(P210+Q210*Tables!$C$6)*1.36136","v":139.84813602759999},"Controlled OD (DR-27.5) Cast Iron OD","AWWA C900"]
[null,null,null,null,{"$f":"ROW()","v":211},"PVC","CIOD (DR)-C900",42,"42","165 psi   DR-25",25,{"$f":"VLOOKUP(K211,Tables!$C$17:$D$34,2,FALSE)","v":165},44.5,"OD",0.84,1.78,0.214,{"$f":"VLOOKUP(F211,Tables!$G$5:$H$14,2,FALSE)*(M211-(P211+Q211*Tables!$C$6))*(P211+Q211*Tables!$C$6)*1.36136","v":153.25513385582397},"Controlled OD (DR-25) Cast Iron OD","AWWA C900"]
[null,null,null,null,{"$f":"ROW()","v":212},"PVC","CIOD (DR)-C900",42,"42","200 psi   DR-21",21,{"$f":"VLOOKUP(K212,Tables!$C$17:$D$34,2,FALSE)","v":200},44.5,"OD",0.84,2.1190000000000002,0.254,{"$f":"VLOOKUP(F212,Tables!$G$5:$H$14,2,FALSE)*(M212-(P212+Q212*Tables!$C$6))*(P212+Q212*Tables!$C$6)*1.36136","v":180.87502386553601},"Controlled OD (DR-21) Cast Iron OD","AWWA C900"]
[null,null,null,null,{"$f":"ROW()","v":213},"PVC","CIOD (DR)-C900",48,"48",{"$f":"\" \"&L213&\" psi   DR-\"&K213","v":" 80 psi   DR-51"},51,{"$f":"VLOOKUP(K213,Tables!$C$17:$D$34,2,FALSE)","v":80},50.8,"OD",0.96,0.996,0.13900000000000001,{"$f":"VLOOKUP(F213,Tables!$G$5:$H$14,2,FALSE)*(M213-(P213+Q213*Tables!$C$6))*(P213+Q213*Tables!$C$6)*1.36136","v":100.997873940964},"Controlled OD (DR-51) Cast Iron OD","AWWA C900"]
[null,null,null,null,{"$f":"ROW()","v":214},"PVC","CIOD (DR)-C900",48,"48","100 psi   DR-41",41,{"$f":"VLOOKUP(K214,Tables!$C$17:$D$34,2,FALSE)","v":100},50.8,"OD",0.96,1.2390000000000001,0.17299999999999999,{"$f":"VLOOKUP(F214,Tables!$G$5:$H$14,2,FALSE)*(M214-(P214+Q214*Tables!$C$6))*(P214+Q214*Tables!$C$6)*1.36136","v":124.98622969232399},"Controlled OD (DR-41) Cast Iron OD","AWWA C900"]
[null,null,null,null,{"$f":"ROW()","v":215},"PVC","CIOD (DR)-C900",48,"48","125 psi   DR-32.5",32.5,{"$f":"VLOOKUP(K215,Tables!$C$17:$D$34,2,FALSE)","v":125},50.8,"OD",0.96,1.5629999999999999,0.188,{"$f":"VLOOKUP(F215,Tables!$G$5:$H$14,2,FALSE)*(M215-(P215+Q215*Tables!$C$6))*(P215+Q215*Tables!$C$6)*1.36136","v":155.19766933070397},"Controlled OD (DR-32.5) Cast Iron OD","AWWA C900"]
[null,null,null,null,{"$f":"ROW()","v":216},"PVC","CIOD (DR)-C900",48,"48","150 psi   DR-27.5",27.5,{"$f":"VLOOKUP(K216,Tables!$C$17:$D$34,2,FALSE)","v":150},50.8,"OD",0.96,1.847,0.222,{"$f":"VLOOKUP(F216,Tables!$G$5:$H$14,2,FALSE)*(M216-(P216+Q216*Tables!$C$6))*(P216+Q216*Tables!$C$6)*1.36136","v":182.26662348294397},"Controlled OD (DR-27.5) Cast Iron OD","AWWA C900"]
[null,null,null,null,{"$f":"ROW()","v":217},"PVC","CIOD (DR)-C900",48,"48","165 psi   DR-25",25,{"$f":"VLOOKUP(K217,Tables!$C$17:$D$34,2,FALSE)","v":165},50.8,"OD",0.96,2.032,0.24399999999999999,{"$f":"VLOOKUP(F217,Tables!$G$5:$H$14,2,FALSE)*(M217-(P217+Q217*Tables!$C$6))*(P217+Q217*Tables!$C$6)*1.36136","v":199.70726128953598},"Controlled OD (DR-25) Cast Iron OD","AWWA C900"]
[null,null,null,null,{"$f":"ROW()","v":218},"PVC","CIOD (DR)-C900",54,"54",{"$f":"\" \"&L218&\" psi   DR-\"&K218","v":" 80 psi   DR-51"},51,{"$f":"VLOOKUP(K218,Tables!$C$17:$D$34,2,FALSE)","v":80},57.56,"OD",1.0900000000000001,1.1279999999999999,0.158,{"$f":"VLOOKUP(F218,Tables!$G$5:$H$14,2,FALSE)*(M218-(P218+Q218*Tables!$C$6))*(P218+Q218*Tables!$C$6)*1.36136","v":129.63591359118396},"Controlled OD (DR-51) Cast Iron OD","AWWA C900"]
[null,null,null,null,{"$f":"ROW()","v":219},"PVC","CIOD (DR)-C900",54,"54","100 psi   DR-41",41,{"$f":"VLOOKUP(K219,Tables!$C$17:$D$34,2,FALSE)","v":100},57.56,"OD",1.0900000000000001,1.4039999999999999,0.19700000000000001,{"$f":"VLOOKUP(F219,Tables!$G$5:$H$14,2,FALSE)*(M219-(P219+Q219*Tables!$C$6))*(P219+Q219*Tables!$C$6)*1.36136","v":160.5274207537},"Controlled OD (DR-41) Cast Iron OD","AWWA C900"]
[null,null,null,null,{"$f":"ROW()","v":220},"PVC","CIOD (DR)-C900",54,"54","125 psi   DR-32.5",32.5,{"$f":"VLOOKUP(K220,Tables!$C$17:$D$34,2,FALSE)","v":125},57.56,"OD",1.0900000000000001,1.7709999999999999,0.21299999999999999,{"$f":"VLOOKUP(F220,Tables!$G$5:$H$14,2,FALSE)*(M220-(P220+Q220*Tables!$C$6))*(P220+Q220*Tables!$C$6)*1.36136","v":199.25062527369997},"Controlled OD (DR-32.5) Cast Iron OD","AWWA C900"]
[null,null,null,null,{"$f":"ROW()","v":221},"PVC","CIOD (DR)-C900",54,"54","150 psi   DR-27.5",27.5,{"$f":"VLOOKUP(K221,Tables!$C$17:$D$34,2,FALSE)","v":150},57.56,"OD",1.0900000000000001,2.093,0.251,{"$f":"VLOOKUP(F221,Tables!$G$5:$H$14,2,FALSE)*(M221-(P221+Q221*Tables!$C$6))*(P221+Q221*Tables!$C$6)*1.36136","v":233.99758802019599},"Controlled OD (DR-27.5) Cast Iron OD","AWWA C900"]
[null,null,null,null,{"$f":"ROW()","v":222},"PVC","CIOD (DR)-C900",54,"54","165 psi   DR-25",25,{"$f":"VLOOKUP(K222,Tables!$C$17:$D$34,2,FALSE)","v":165},57.56,"OD",1.0900000000000001,2.302,0.27600000000000002,{"$f":"VLOOKUP(F222,Tables!$G$5:$H$14,2,FALSE)*(M222-(P222+Q222*Tables!$C$6))*(P222+Q222*Tables!$C$6)*1.36136","v":256.33036549120004},"Controlled OD (DR-25) Cast Iron OD","AWWA C900"]
[null,null,null,null,{"$f":"ROW()","v":223},"PVC","CIOD (DR)-C900",60,"60",{"$f":"\" \"&L223&\" psi   DR-\"&K223","v":" 80 psi   DR-51"},51,{"$f":"VLOOKUP(K223,Tables!$C$17:$D$34,2,FALSE)","v":80},61.61,"OD",1.17,1.208,0.16800000000000001,{"$f":"VLOOKUP(F223,Tables!$G$5:$H$14,2,FALSE)*(M223-(P223+Q223*Tables!$C$6))*(P223+Q223*Tables!$C$6)*1.36136","v":148.52873017382396},"Controlled OD (DR-51) Cast Iron OD","AWWA C900"]
[null,null,null,null,{"$f":"ROW()","v":224},"PVC","CIOD (DR)-C900",60,"60","100 psi   DR-41",41,{"$f":"VLOOKUP(K224,Tables!$C$17:$D$34,2,FALSE)","v":100},61.61,"OD",1.17,1.502,0.21,{"$f":"VLOOKUP(F224,Tables!$G$5:$H$14,2,FALSE)*(M224-(P224+Q224*Tables!$C$6))*(P224+Q224*Tables!$C$6)*1.36136","v":183.77645204318398},"Controlled OD (DR-41) Cast Iron OD","AWWA C900"]
[null,null,null,null,{"$f":"ROW()","v":225},"PVC","CIOD (DR)-C900",60,"60","125 psi   DR-32.5",32.5,{"$f":"VLOOKUP(K225,Tables!$C$17:$D$34,2,FALSE)","v":125},61.61,"OD",1.17,1.8959999999999999,0.22700000000000001,{"$f":"VLOOKUP(F225,Tables!$G$5:$H$14,2,FALSE)*(M225-(P225+Q225*Tables!$C$6))*(P225+Q225*Tables!$C$6)*1.36136","v":228.26479460184396},"Controlled OD (DR-32.5) Cast Iron OD","AWWA C900"]
[null,null,null,null,{"$f":"ROW()","v":226},"PVC","CIOD (DR)-C900",60,"60","150 psi   DR-27.5",27.5,{"$f":"VLOOKUP(K226,Tables!$C$17:$D$34,2,FALSE)","v":150},61.61,"OD",1.17,2.2400000000000002,0.26900000000000002,{"$f":"VLOOKUP(F226,Tables!$G$5:$H$14,2,FALSE)*(M226-(P226+Q226*Tables!$C$6))*(P226+Q226*Tables!$C$6)*1.36136","v":268.07434534280401},"Controlled OD (DR-27.5) Cast Iron OD","AWWA C900"]
[null,null,null,null,{"$f":"ROW()","v":227},"PVC","CIOD (DR)-C900",60,"60","165 psi   DR-25",25,{"$f":"VLOOKUP(K227,Tables!$C$17:$D$34,2,FALSE)","v":165},61.61,"OD",1.17,2.464,0.29499999999999998,{"$f":"VLOOKUP(F227,Tables!$G$5:$H$14,2,FALSE)*(M227-(P227+Q227*Tables!$C$6))*(P227+Q227*Tables!$C$6)*1.36136","v":293.65136356155597},"Controlled OD (DR-25) Cast Iron OD","AWWA C900"]
[null,null,null,1,{"$f":"ROW()","v":228},"PVC","PIP (DR)",4,"4",{"$f":"\" \"&L228&\" psi   50FT HD\"","v":" 22 psi   50FT HD"},"LH",22,4.1340000000000003,"OD",null,6.5000000000000002E-2,0.02,{"$f":"VLOOKUP(F228,Tables!$G$5:$H$14,2,FALSE)*(M228-(P228+Q228*Tables!$C$6))*(P228+Q228*Tables!$C$6)*1.36136","v":0.58020482519999994},{"$f":"\"Controlled OD (50FT Hd) Plastic Irr. Pipe\"","v":"Controlled OD (50FT Hd) Plastic Irr. Pipe"},"ASABE S376.3"]
[null,null,null,null,{"$f":"ROW()","v":229},"PVC","PIP (DR)",4,"4",{"$f":"\" \"&L229&\" psi   DR-\"&K229","v":" 50 psi   DR-81"},81,{"$f":"VLOOKUP(K229,Tables!$C$17:$D$34,2,FALSE)","v":50},4.1340000000000003,"OD",null,6.5000000000000002E-2,0.02,{"$f":"VLOOKUP(F229,Tables!$G$5:$H$14,2,FALSE)*(M229-(P229+Q229*Tables!$C$6))*(P229+Q229*Tables!$C$6)*1.36136","v":0.58020482519999994},{"$f":"\"Controlled OD (DR-\"&K229&\") Plastic Irr. Pipe\"","v":"Controlled OD (DR-81) Plastic Irr. Pipe"},"ASABE S376.3"]
[null,null,null,null,{"$f":"ROW()","v":230},"PVC","PIP (DR)",4,"4",{"$f":"\" \"&L230&\" psi   DR-\"&K230","v":" 80 psi   DR-51"},51,{"$f":"VLOOKUP(K230,Tables!$C$17:$D$34,2,FALSE)","v":80},4.1340000000000003,"OD",null,8.1000000000000003E-2,0.02,{"$f":"VLOOKUP(F230,Tables!$G$5:$H$14,2,FALSE)*(M230-(P230+Q230*Tables!$C$6))*(P230+Q230*Tables!$C$6)*1.36136","v":0.70120685835199981},{"$f":"\"Controlled OD (DR-\"&K230&\") Plastic Irr. Pipe\"","v":"Controlled OD (DR-51) Plastic Irr. Pipe"},"ASABE S376.3"]
[null,null,null,null,{"$f":"ROW()","v":231},"PVC","PIP (DR)",4,"4",{"$f":"L231&\" psi   DR-\"&K231","v":"100 psi   DR-41"},41,{"$f":"VLOOKUP(K231,Tables!$C$17:$D$34,2,FALSE)","v":100},4.1340000000000003,"OD",null,0.10100000000000001,0.02,{"$f":"VLOOKUP(F231,Tables!$G$5:$H$14,2,FALSE)*(M231-(P231+Q231*Tables!$C$6))*(P231+Q231*Tables!$C$6)*1.36136","v":0.85108714891199999},"Controlled OD (DR-41) Plastic Irr. Pipe","ASABE S376.3"]
[null,null,null,null,{"$f":"ROW()","v":232},"PVC","PIP (DR)",4,"4",{"$f":"L232&\" psi   DR-\"&K232","v":"125 psi   DR-32.5"},32.5,{"$f":"VLOOKUP(K232,Tables!$C$17:$D$34,2,FALSE)","v":125},4.1340000000000003,"OD",null,0.127,0.02,{"$f":"VLOOKUP(F232,Tables!$G$5:$H$14,2,FALSE)*(M232-(P232+Q232*Tables!$C$6))*(P232+Q232*Tables!$C$6)*1.36136","v":1.043652065456},{"$f":"\"Controlled OD (DR-\"&K232&\") Plastic Irr. Pipe\"","v":"Controlled OD (DR-32.5) Plastic Irr. Pipe"},"ASABE S376.3"]
[null,null,null,null,{"$f":"ROW()","v":233},"PVC","PIP (DR)",6,"6",{"$f":"\" \"&L233&\" psi   50FT HD\"","v":" 22 psi   50FT HD"},"LH",22,6.14,"OD",0.1,7.0000000000000007E-2,0.02,{"$f":"VLOOKUP(F233,Tables!$G$5:$H$14,2,FALSE)*(M233-(P233+Q233*Tables!$C$6))*(P233+Q233*Tables!$C$6)*1.36136","v":0.92398225919999977},{"$f":"\"Controlled OD (50FT Hd) Plastic Irr. Pipe\"","v":"Controlled OD (50FT Hd) Plastic Irr. Pipe"},"ASABE S376.3"]
[null,null,null,null,{"$f":"ROW()","v":234},"PVC","PIP (DR)",6,"6",{"$f":"\" \"&L234&\" psi   100FT HD\"","v":" 44 psi   100FT HD"},"LH",44,6.14,"OD",0.1,7.0000000000000007E-2,0.02,{"$f":"VLOOKUP(F234,Tables!$G$5:$H$14,2,FALSE)*(M234-(P234+Q234*Tables!$C$6))*(P234+Q234*Tables!$C$6)*1.36136","v":0.92398225919999977},{"$f":"\"Controlled OD (100FT Hd) Plastic Irr. Pipe\"","v":"Controlled OD (100FT Hd) Plastic Irr. Pipe"},"ASABE S376.3"]
[null,null,null,null,{"$f":"ROW()","v":235},"PVC","PIP (DR)",6,"6",{"$f":"\" \"&L235&\" psi   DR-\"&K235","v":" 50 psi   DR-81"},81,{"$f":"VLOOKUP(K235,Tables!$C$17:$D$34,2,FALSE)","v":50},6.14,"OD",0.1,7.5999999999999998E-2,0.02,{"$f":"VLOOKUP(F235,Tables!$G$5:$H$14,2,FALSE)*(M235-(P235+Q235*Tables!$C$6))*(P235+Q235*Tables!$C$6)*1.36136","v":0.99229748217599967},{"$f":"\"Controlled OD (DR-\"&K235&\") Plastic Irr. Pipe\"","v":"Controlled OD (DR-81) Plastic Irr. Pipe"},"ASTM D2241"]
[null,null,null,null,{"$f":"ROW()","v":236},"PVC","PIP (DR)",6,"6"," 80 psi   DR-51",51,{"$f":"VLOOKUP(K236,Tables!$C$17:$D$34,2,FALSE)","v":80},6.14,"OD",0.1,0.12,0.02,{"$f":"VLOOKUP(F236,Tables!$G$5:$H$14,2,FALSE)*(M236-(P236+Q236*Tables!$C$6))*(P236+Q236*Tables!$C$6)*1.36136","v":1.4890827951999999},"Controlled OD (DR-51) Plastic Irr. Pipe","ASTM D2241"]
[null,null,null,null,{"$f":"ROW()","v":237},"PVC","PIP (DR)",6,"6",{"$f":"L237&\" psi   DR-\"&K237","v":"100 psi   DR-41"},41,{"$f":"VLOOKUP(K237,Tables!$C$17:$D$34,2,FALSE)","v":100},6.14,"OD",0.1,0.15,0.02,{"$f":"VLOOKUP(F237,Tables!$G$5:$H$14,2,FALSE)*(M237-(P237+Q237*Tables!$C$6))*(P237+Q237*Tables!$C$6)*1.36136","v":1.8235689471999996},"Controlled OD (DR-41) Plastic Irr. Pipe","ASTM D2241"]
[null,null,null,null,{"$f":"ROW()","v":238},"PVC","PIP (DR)",6,"6","125 psi   DR-32.5",32.5,{"$f":"VLOOKUP(K238,Tables!$C$17:$D$34,2,FALSE)","v":125},6.14,"OD",0.1,0.189,2.3E-2,{"$f":"VLOOKUP(F238,Tables!$G$5:$H$14,2,FALSE)*(M238-(P238+Q238*Tables!$C$6))*(P238+Q238*Tables!$C$6)*1.36136","v":2.2696834200039997},"Controlled OD (DR-32.5) Plastic Irr. Pipe","ASTM D2241"]
[null,null,null,null,{"$f":"ROW()","v":239},"PVC","PIP (DR)",8,"8",{"$f":"\" \"&L239&\" psi   50FT HD\"","v":" 22 psi   50FT HD"},"LH",22,8.16,"OD",0.15,0.08,0.02,{"$f":"VLOOKUP(F239,Tables!$G$5:$H$14,2,FALSE)*(M239-(P239+Q239*Tables!$C$6))*(P239+Q239*Tables!$C$6)*1.36136","v":1.3842580752},{"$f":"\"Controlled OD (50FT Hd) Plastic Irr. Pipe\"","v":"Controlled OD (50FT Hd) Plastic Irr. Pipe"},"ASABE S376.3"]
[null,null,null,null,{"$f":"ROW()","v":240},"PVC","PIP (DR)",8,"8",{"$f":"\" \"&L240&\" psi   100FT HD\"","v":" 44 psi   100FT HD"},"LH",44,8.16,"OD",0.15,8.6999999999999994E-2,0.02,{"$f":"VLOOKUP(F240,Tables!$G$5:$H$14,2,FALSE)*(M240-(P240+Q240*Tables!$C$6))*(P240+Q240*Tables!$C$6)*1.36136","v":1.4906284833439998},{"$f":"\"Controlled OD (100FT Hd) Plastic Irr. Pipe\"","v":"Controlled OD (100FT Hd) Plastic Irr. Pipe"},"ASABE S376.3"]
[null,null,null,null,{"$f":"ROW()","v":241},"PVC","PIP (DR)",8,"8",{"$f":"\" \"&L241&\" psi   DR-\"&K241","v":" 50 psi   DR-81"},81,{"$f":"VLOOKUP(K241,Tables!$C$17:$D$34,2,FALSE)","v":50},8.16,"OD",0.15,0.10100000000000001,0.02,{"$f":"VLOOKUP(F241,Tables!$G$5:$H$14,2,FALSE)*(M241-(P241+Q241*Tables!$C$6))*(P241+Q241*Tables!$C$6)*1.36136","v":1.7028089638559998},{"$f":"\"Controlled OD (DR-\"&K241&\") Plastic Irr. Pipe\"","v":"Controlled OD (DR-81) Plastic Irr. Pipe"},"ASTM D2241"]
[null,null,null,null,{"$f":"ROW()","v":242},"PVC","PIP (DR)",8,"8"," 80 psi   DR-51",51,{"$f":"VLOOKUP(K242,Tables!$C$17:$D$34,2,FALSE)","v":80},8.16,"OD",0.15,0.16,0.02,{"$f":"VLOOKUP(F242,Tables!$G$5:$H$14,2,FALSE)*(M242-(P242+Q242*Tables!$C$6))*(P242+Q242*Tables!$C$6)*1.36136","v":2.5887894031999998},"Controlled OD (DR-51) Plastic Irr. Pipe","ASTM D2241"]
[null,null,null,null,{"$f":"ROW()","v":243},"PVC","PIP (DR)",8,"8",{"$f":"L243&\" psi   DR-\"&K243","v":"100 psi   DR-41"},41,{"$f":"VLOOKUP(K243,Tables!$C$17:$D$34,2,FALSE)","v":100},8.16,"OD",0.15,0.19900000000000001,2.4E-2,{"$f":"VLOOKUP(F243,Tables!$G$5:$H$14,2,FALSE)*(M243-(P243+Q243*Tables!$C$6))*(P243+Q243*Tables!$C$6)*1.36136","v":3.1966565190559995},"Controlled OD (DR-41) Plastic Irr. Pipe","ASTM D2241"]
[null,null,null,null,{"$f":"ROW()","v":244},"PVC","PIP (DR)",8,"8","125 psi   DR-32.5",32.5,{"$f":"VLOOKUP(K244,Tables!$C$17:$D$34,2,FALSE)","v":125},8.16,"OD",0.15,0.251,0.03,{"$f":"VLOOKUP(F244,Tables!$G$5:$H$14,2,FALSE)*(M244-(P244+Q244*Tables!$C$6))*(P244+Q244*Tables!$C$6)*1.36136","v":4.0020248428159988},"Controlled OD (DR-32.5) Plastic Irr. Pipe","ASTM D2241"]
[null,null,null,null,{"$f":"ROW()","v":245},"PVC","PIP (DR)",10,"10",{"$f":"\" \"&L245&\" psi   50FT HD\"","v":" 22 psi   50FT HD"},"LH",22,10.199999999999999,"OD",0.15,0.1,0.02,{"$f":"VLOOKUP(F245,Tables!$G$5:$H$14,2,FALSE)*(M245-(P245+Q245*Tables!$C$6))*(P245+Q245*Tables!$C$6)*1.36136","v":2.1153628495999999},{"$f":"\"Controlled OD (50FT Hd) Plastic Irr. Pipe\"","v":"Controlled OD (50FT Hd) Plastic Irr. Pipe"},"ASABE S376.3"]
[null,null,null,null,{"$f":"ROW()","v":246},"PVC","PIP (DR)",10,"10",{"$f":"\" \"&L246&\" psi   100FT HD\"","v":" 44 psi   100FT HD"},"LH",44,10.199999999999999,"OD",0.15,0.109,0.02,{"$f":"VLOOKUP(F246,Tables!$G$5:$H$14,2,FALSE)*(M246-(P246+Q246*Tables!$C$6))*(P246+Q246*Tables!$C$6)*1.36136","v":2.2863967686559996},{"$f":"\"Controlled OD (100FT Hd) Plastic Irr. Pipe\"","v":"Controlled OD (100FT Hd) Plastic Irr. Pipe"},"ASABE S376.3"]
[null,null,null,null,{"$f":"ROW()","v":247},"PVC","PIP (DR)",10,"10",{"$f":"\" \"&L247&\" psi   DR-\"&K247","v":" 50 psi   DR-81"},81,{"$f":"VLOOKUP(K247,Tables!$C$17:$D$34,2,FALSE)","v":50},10.199999999999999,"OD",0.15,0.126,0.02,{"$f":"VLOOKUP(F247,Tables!$G$5:$H$14,2,FALSE)*(M247-(P247+Q247*Tables!$C$6))*(P247+Q247*Tables!$C$6)*1.36136","v":2.6086184284159999},{"$f":"\"Controlled OD (DR-\"&K247&\") Plastic Irr. Pipe\"","v":"Controlled OD (DR-81) Plastic Irr. Pipe"},"ASTM D2241"]
[null,null,null,null,{"$f":"ROW()","v":248},"PVC","PIP (DR)",10,"10"," 80 psi   DR-51",51,{"$f":"VLOOKUP(K248,Tables!$C$17:$D$34,2,FALSE)","v":80},10.199999999999999,"OD",0.15,0.2,2.4E-2,{"$f":"VLOOKUP(F248,Tables!$G$5:$H$14,2,FALSE)*(M248-(P248+Q248*Tables!$C$6))*(P248+Q248*Tables!$C$6)*1.36136","v":4.0356678602239997},"Controlled OD (DR-51) Plastic Irr. Pipe","ASTM D2241"]
[null,null,null,null,{"$f":"ROW()","v":249},"PVC","PIP (DR)",10,"10",{"$f":"L249&\" psi   DR-\"&K249","v":"100 psi   DR-41"},41,{"$f":"VLOOKUP(K249,Tables!$C$17:$D$34,2,FALSE)","v":100},10.199999999999999,"OD",0.15,0.249,0.03,{"$f":"VLOOKUP(F249,Tables!$G$5:$H$14,2,FALSE)*(M249-(P249+Q249*Tables!$C$6))*(P249+Q249*Tables!$C$6)*1.36136","v":4.9993844060159995},"Controlled OD (DR-41) Plastic Irr. Pipe","ASTM D2241"]
[null,null,null,null,{"$f":"ROW()","v":250},"PVC","PIP (DR)",10,"10","125 psi   DR-32.5",32.5,{"$f":"VLOOKUP(K250,Tables!$C$17:$D$34,2,FALSE)","v":125},10.199999999999999,"OD",0.15,0.314,3.7999999999999999E-2,{"$f":"VLOOKUP(F250,Tables!$G$5:$H$14,2,FALSE)*(M250-(P250+Q250*Tables!$C$6))*(P250+Q250*Tables!$C$6)*1.36136","v":6.2622497377439998},"Controlled OD (DR-32.5) Plastic Irr. Pipe","ASTM D2241"]
[null,null,null,null,{"$f":"ROW()","v":251},"PVC","PIP (DR)",12,"12",{"$f":"\" \"&L251&\" psi   50FT HD\"","v":" 22 psi   50FT HD"},"LH",22,12.24,"OD",0.15,0.12,0.02,{"$f":"VLOOKUP(F251,Tables!$G$5:$H$14,2,FALSE)*(M251-(P251+Q251*Tables!$C$6))*(P251+Q251*Tables!$C$6)*1.36136","v":3.0004646671999997},{"$f":"\"Controlled OD (50FT Hd) Plastic Irr. Pipe\"","v":"Controlled OD (50FT Hd) Plastic Irr. Pipe"},"ASABE S376.3"]
[null,null,null,null,{"$f":"ROW()","v":252},"PVC","PIP (DR)",12,"12",{"$f":"\" \"&L252&\" psi   100FT HD\"","v":" 44 psi   100FT HD"},"LH",44,12.24,"OD",0.15,0.13100000000000001,0.02,{"$f":"VLOOKUP(F252,Tables!$G$5:$H$14,2,FALSE)*(M252-(P252+Q252*Tables!$C$6))*(P252+Q252*Tables!$C$6)*1.36136","v":3.2513940819360001},{"$f":"\"Controlled OD (100FT Hd) Plastic Irr. Pipe\"","v":"Controlled OD (100FT Hd) Plastic Irr. Pipe"},"ASABE S376.3"]
[null,null,null,null,{"$f":"ROW()","v":253},"PVC","PIP (DR)",12,"12",{"$f":"\" \"&L253&\" psi   DR-\"&K253","v":" 50 psi   DR-81"},81,{"$f":"VLOOKUP(K253,Tables!$C$17:$D$34,2,FALSE)","v":50},12.24,"OD",0.15,0.151,0.02,{"$f":"VLOOKUP(F253,Tables!$G$5:$H$14,2,FALSE)*(M253-(P253+Q253*Tables!$C$6))*(P253+Q253*Tables!$C$6)*1.36136","v":3.7064477209759996},{"$f":"\"Controlled OD (DR-\"&K253&\") Plastic Irr. Pipe\"","v":"Controlled OD (DR-81) Plastic Irr. Pipe"},"ASTM D2241"]
[null,null,null,null,{"$f":"ROW()","v":254},"PVC","PIP (DR)",12,"12"," 80 psi   DR-51",51,{"$f":"VLOOKUP(K254,Tables!$C$17:$D$34,2,FALSE)","v":80},12.24,"OD",0.15,0.24,2.9000000000000001E-2,{"$f":"VLOOKUP(F254,Tables!$G$5:$H$14,2,FALSE)*(M254-(P254+Q254*Tables!$C$6))*(P254+Q254*Tables!$C$6)*1.36136","v":5.8135975537639988},"Controlled OD (DR-51) Plastic Irr. Pipe","ASTM D2241"]
[null,null,null,null,{"$f":"ROW()","v":255},"PVC","PIP (DR)",12,"12",{"$f":"L255&\" psi   DR-\"&K255","v":"100 psi   DR-41"},41,{"$f":"VLOOKUP(K255,Tables!$C$17:$D$34,2,FALSE)","v":100},12.24,"OD",0.15,0.29899999999999999,3.5999999999999997E-2,{"$f":"VLOOKUP(F255,Tables!$G$5:$H$14,2,FALSE)*(M255-(P255+Q255*Tables!$C$6))*(P255+Q255*Tables!$C$6)*1.36136","v":7.2035376052639997},"Controlled OD (DR-41) Plastic Irr. Pipe","ASTM D2241"]
[null,null,null,null,{"$f":"ROW()","v":256},"PVC","PIP (DR)",12,"12","125 psi   DR-32.5",32.5,{"$f":"VLOOKUP(K256,Tables!$C$17:$D$34,2,FALSE)","v":125},12.24,"OD",0.15,0.377,4.4999999999999998E-2,{"$f":"VLOOKUP(F256,Tables!$G$5:$H$14,2,FALSE)*(M256-(P256+Q256*Tables!$C$6))*(P256+Q256*Tables!$C$6)*1.36136","v":9.0154590966439994},"Controlled OD (DR-32.5) Plastic Irr. Pipe","ASTM D2241"]
[null,null,null,null,{"$f":"ROW()","v":257},"PVC","PIP (DR)",15,"15",{"$f":"\" \"&L257&\" psi   50FT HD\"","v":" 22 psi   50FT HD"},"LH",22,15.3,"OD",0.29399999999999998,0.15,0.02,{"$f":"VLOOKUP(F257,Tables!$G$5:$H$14,2,FALSE)*(M257-(P257+Q257*Tables!$C$6))*(P257+Q257*Tables!$C$6)*1.36136","v":4.6168618495999993},{"$f":"\"Controlled OD (50FT Hd) Plastic Irr. Pipe\"","v":"Controlled OD (50FT Hd) Plastic Irr. Pipe"},"ASABE S376.3"]
[null,null,null,null,{"$f":"ROW()","v":258},"PVC","PIP (DR)",15,"15",{"$f":"\" \"&L258&\" psi   100FT HD\"","v":" 44 psi   100FT HD"},"LH",44,15.3,"OD",0.29399999999999998,0.16400000000000001,0.02,{"$f":"VLOOKUP(F258,Tables!$G$5:$H$14,2,FALSE)*(M258-(P258+Q258*Tables!$C$6))*(P258+Q258*Tables!$C$6)*1.36136","v":5.0161944792960007},{"$f":"\"Controlled OD (100FT Hd) Plastic Irr. Pipe\"","v":"Controlled OD (100FT Hd) Plastic Irr. Pipe"},"ASABE S376.3"]
[null,null,null,null,{"$f":"ROW()","v":259},"PVC","PIP (DR)",15,"15",{"$f":"\" \"&L259&\" psi   DR-\"&K259","v":" 50 psi   DR-81"},81,{"$f":"VLOOKUP(K259,Tables!$C$17:$D$34,2,FALSE)","v":50},15.3,"OD",0.29399999999999998,0.189,2.3E-2,{"$f":"VLOOKUP(F259,Tables!$G$5:$H$14,2,FALSE)*(M259-(P259+Q259*Tables!$C$6))*(P259+Q259*Tables!$C$6)*1.36136","v":5.7700285883239992},{"$f":"\"Controlled OD (DR-\"&K259&\") Plastic Irr. Pipe\"","v":"Controlled OD (DR-81) Plastic Irr. Pipe"},"ASTM D2241"]
[null,null,null,null,{"$f":"ROW()","v":260},"PVC","PIP (DR)",15,"15"," 80 psi   DR-51",51,{"$f":"VLOOKUP(K260,Tables!$C$17:$D$34,2,FALSE)","v":80},15.3,"OD",0.29399999999999998,0.3,4.2000000000000003E-2,{"$f":"VLOOKUP(F260,Tables!$G$5:$H$14,2,FALSE)*(M260-(P260+Q260*Tables!$C$6))*(P260+Q260*Tables!$C$6)*1.36136","v":9.1640800611359996},"Controlled OD (DR-51) Plastic Irr. Pipe","ASTM D2241"]
[null,null,null,null,{"$f":"ROW()","v":261},"PVC","PIP (DR)",15,"15"," 100 psi   DR-41",41,{"$f":"VLOOKUP(K261,Tables!$C$17:$D$34,2,FALSE)","v":100},15.3,"OD",0.29399999999999998,0.373,5.1999999999999998E-2,{"$f":"VLOOKUP(F261,Tables!$G$5:$H$14,2,FALSE)*(M261-(P261+Q261*Tables!$C$6))*(P261+Q261*Tables!$C$6)*1.36136","v":11.331550326096},"Controlled OD (DR-41) Plastic Irr. Pipe","ASTM D2241"]
[null,null,null,null,{"$f":"ROW()","v":262},"PVC","PIP (DR)",15,"15","118 psi   DR-35",35,{"$f":"VLOOKUP(K262,Tables!$C$17:$D$34,2,FALSE)","v":118},15.3,"OD",0.29399999999999998,0.437,5.1999999999999998E-2,{"$f":"VLOOKUP(F262,Tables!$G$5:$H$14,2,FALSE)*(M262-(P262+Q262*Tables!$C$6))*(P262+Q262*Tables!$C$6)*1.36136","v":13.092666611024001},"Controlled OD (DR-35) Plastic Irr. Pipe","ASTM D2241"]
[null,null,null,null,{"$f":"ROW()","v":263},"PVC","PIP (DR)",15,"15","125 psi   DR-32.5",32.5,{"$f":"VLOOKUP(K263,Tables!$C$17:$D$34,2,FALSE)","v":125},15.3,"OD",0.29399999999999998,0.47099999999999997,5.6000000000000001E-2,{"$f":"VLOOKUP(F263,Tables!$G$5:$H$14,2,FALSE)*(M263-(P263+Q263*Tables!$C$6))*(P263+Q263*Tables!$C$6)*1.36136","v":14.076433266896},"Controlled OD (DR-32.5) Plastic Irr. Pipe","ASTM D2241"]
[null,null,null,null,{"$f":"ROW()","v":264},"PVC","PIP (DR)",15,"15","160 psi   DR-26",26,{"$f":"VLOOKUP(K264,Tables!$C$17:$D$34,2,FALSE)","v":160},15.3,"OD",0.29399999999999998,0.58799999999999997,7.0000000000000007E-2,{"$f":"VLOOKUP(F264,Tables!$G$5:$H$14,2,FALSE)*(M264-(P264+Q264*Tables!$C$6))*(P264+Q264*Tables!$C$6)*1.36136","v":17.427149723984002},"Controlled OD (DR-26) Plastic Irr. Pipe","ASTM D2241"]
[null,null,null,null,{"$f":"ROW()","v":265},"PVC","PIP (DR)",15,"15","200 psi   DR-21",21,{"$f":"VLOOKUP(K265,Tables!$C$17:$D$34,2,FALSE)","v":200},15.3,"OD",0.29399999999999998,0.72799999999999998,8.6999999999999994E-2,{"$f":"VLOOKUP(F265,Tables!$G$5:$H$14,2,FALSE)*(M265-(P265+Q265*Tables!$C$6))*(P265+Q265*Tables!$C$6)*1.36136","v":21.362778112675997},"Controlled OD (DR-21) Plastic Irr. Pipe","ASTM D2241"]
[null,null,null,null,{"$f":"ROW()","v":266},"PVC","PIP (DR)",18,"18",{"$f":"\" \"&L266&\" psi   100FT HD\"","v":" 44 psi   100FT HD"},"LH",44,18.701000000000001,"OD",0.36,0.2,2.4E-2,{"$f":"VLOOKUP(F266,Tables!$G$5:$H$14,2,FALSE)*(M266-(P266+Q266*Tables!$C$6))*(P266+Q266*Tables!$C$6)*1.36136","v":7.470510919871999},{"$f":"\"Controlled OD (100FT Hd) Plastic Irr. Pipe\"","v":"Controlled OD (100FT Hd) Plastic Irr. Pipe"},"ASABE S376.3"]
[null,null,null,null,{"$f":"ROW()","v":267},"PVC","PIP (DR)",18,"18",{"$f":"\" \"&L267&\" psi   DR-\"&K267","v":" 80 psi   DR-51"},51,{"$f":"VLOOKUP(K267,Tables!$C$17:$D$34,2,FALSE)","v":80},18.701000000000001,"OD",0.36,0.36599999999999999,5.0999999999999997E-2,{"$f":"VLOOKUP(F267,Tables!$G$5:$H$14,2,FALSE)*(M267-(P267+Q267*Tables!$C$6))*(P267+Q267*Tables!$C$6)*1.36136","v":13.661842446251999},{"$f":"\"Controlled OD (DR-\"&K267&\") Plastic Irr. Pipe\"","v":"Controlled OD (DR-51) Plastic Irr. Pipe"},"ASTM D2241"]
[null,null,null,null,{"$f":"ROW()","v":268},"PVC","PIP (DR)",18,"18","100 psi   DR-41",41,{"$f":"VLOOKUP(K268,Tables!$C$17:$D$34,2,FALSE)","v":100},18.701000000000001,"OD",0.36,0.45600000000000002,6.4000000000000001E-2,{"$f":"VLOOKUP(F268,Tables!$G$5:$H$14,2,FALSE)*(M268-(P268+Q268*Tables!$C$6))*(P268+Q268*Tables!$C$6)*1.36136","v":16.939568021375997},"Controlled OD (DR-41) Plastic Irr. Pipe","ASTM D2241"]
[null,null,null,null,{"$f":"ROW()","v":269},"PVC","PIP (DR)",18,"18","118 psi   DR-35",35,{"$f":"VLOOKUP(K269,Tables!$C$17:$D$34,2,FALSE)","v":118},18.701000000000001,"OD",0.36,0.53400000000000003,6.4000000000000001E-2,{"$f":"VLOOKUP(F269,Tables!$G$5:$H$14,2,FALSE)*(M269-(P269+Q269*Tables!$C$6))*(P269+Q269*Tables!$C$6)*1.36136","v":19.562980076639999},"Controlled OD (DR-35) Plastic Irr. Pipe","ASTM D2241"]
[null,null,null,null,{"$f":"ROW()","v":270},"PVC","PIP (DR)",18,"18","125 psi   DR-32.5",32.5,{"$f":"VLOOKUP(K270,Tables!$C$17:$D$34,2,FALSE)","v":125},18.701000000000001,"OD",0.36,0.57499999999999996,6.9000000000000006E-2,{"$f":"VLOOKUP(F270,Tables!$G$5:$H$14,2,FALSE)*(M270-(P270+Q270*Tables!$C$6))*(P270+Q270*Tables!$C$6)*1.36136","v":21.015963620651995},"Controlled OD (DR-32.5) Plastic Irr. Pipe","ASTM D2241"]
[null,null,null,null,{"$f":"ROW()","v":271},"PVC","PIP (DR)",18,"18","160 psi   DR-26",26,{"$f":"VLOOKUP(K271,Tables!$C$17:$D$34,2,FALSE)","v":160},18.701000000000001,"OD",0.36,0.71899999999999997,8.5999999999999993E-2,{"$f":"VLOOKUP(F271,Tables!$G$5:$H$14,2,FALSE)*(M271-(P271+Q271*Tables!$C$6))*(P271+Q271*Tables!$C$6)*1.36136","v":26.052789034271996},"Controlled OD (DR-26) Plastic Irr. Pipe","ASTM D2241"]
[null,null,null,null,{"$f":"ROW()","v":272},"PVC","PIP (DR)",21,"21",{"$f":"\" \"&L272&\" psi   100FT HD\"","v":" 44 psi   100FT HD"},"LH",44,22.047000000000001,"OD",0.42,0.23599999999999999,2.8000000000000001E-2,{"$f":"VLOOKUP(F272,Tables!$G$5:$H$14,2,FALSE)*(M272-(P272+Q272*Tables!$C$6))*(P272+Q272*Tables!$C$6)*1.36136","v":10.385747371999999},{"$f":"\"Controlled OD (100FT Hd) Plastic Irr. Pipe\"","v":"Controlled OD (100FT Hd) Plastic Irr. Pipe"},"ASABE S376.3"]
[null,null,null,null,{"$f":"ROW()","v":273},"PVC","PIP (DR)",18,"18",{"$f":"\" \"&L273&\" psi   DR-\"&K273","v":" 50 psi   DR-81"},81,{"$f":"VLOOKUP(K273,Tables!$C$17:$D$34,2,FALSE)","v":50},18.701000000000001,"OD",0.42,0.23100000000000001,2.8000000000000001E-2,{"$f":"VLOOKUP(F273,Tables!$G$5:$H$14,2,FALSE)*(M273-(P273+Q273*Tables!$C$6))*(P273+Q273*Tables!$C$6)*1.36136","v":8.6179642348799987},{"$f":"\"Controlled OD (DR-\"&K273&\") Plastic Irr. Pipe\"","v":"Controlled OD (DR-81) Plastic Irr. Pipe"},"ASTM D2241"]
[null,null,null,null,{"$f":"ROW()","v":274},"PVC","PIP (DR)",21,"21",{"$f":"\" \"&L274&\" psi   DR-\"&K274","v":" 80 psi   DR-51"},51,{"$f":"VLOOKUP(K274,Tables!$C$17:$D$34,2,FALSE)","v":80},22.047000000000001,"OD",0.42,0.432,0.06,{"$f":"VLOOKUP(F274,Tables!$G$5:$H$14,2,FALSE)*(M274-(P274+Q274*Tables!$C$6))*(P274+Q274*Tables!$C$6)*1.36136","v":19.006189282079998},"Controlled OD (DR-51) Plastic Irr. Pipe","ASTM D2241"]
[null,null,null,null,{"$f":"ROW()","v":275},"PVC","PIP (DR)",21,"21","100 psi   DR-41",41,{"$f":"VLOOKUP(K275,Tables!$C$17:$D$34,2,FALSE)","v":100},22.047000000000001,"OD",0.42,0.53800000000000003,7.4999999999999997E-2,{"$f":"VLOOKUP(F275,Tables!$G$5:$H$14,2,FALSE)*(M275-(P275+Q275*Tables!$C$6))*(P275+Q275*Tables!$C$6)*1.36136","v":23.550966507067997},"Controlled OD (DR-41) Plastic Irr. Pipe","ASTM D2241"]
[null,null,null,null,{"$f":"ROW()","v":276},"PVC","PIP (DR)",21,"21","118 psi   DR-35",35,{"$f":"VLOOKUP(K276,Tables!$C$17:$D$34,2,FALSE)","v":118},22.047000000000001,"OD",0.42,0.63,7.5999999999999998E-2,{"$f":"VLOOKUP(F276,Tables!$G$5:$H$14,2,FALSE)*(M276-(P276+Q276*Tables!$C$6))*(P276+Q276*Tables!$C$6)*1.36136","v":27.218542839487998},"Controlled OD (DR-35) Plastic Irr. Pipe","ASTM D2241"]
[null,null,null,null,{"$f":"ROW()","v":277},"PVC","PIP (DR)",21,"21","125 psi   DR-32.5",32.5,{"$f":"VLOOKUP(K277,Tables!$C$17:$D$34,2,FALSE)","v":125},22.047000000000001,"OD",0.42,0.67800000000000005,8.1000000000000003E-2,{"$f":"VLOOKUP(F277,Tables!$G$5:$H$14,2,FALSE)*(M277-(P277+Q277*Tables!$C$6))*(P277+Q277*Tables!$C$6)*1.36136","v":29.207077783883999},"Controlled OD (DR-32.5) Plastic Irr. Pipe","ASTM D2241"]
[null,null,null,null,{"$f":"ROW()","v":278},"PVC","PIP (DR)",21,"21","160 psi   DR-26",26,{"$f":"VLOOKUP(K278,Tables!$C$17:$D$34,2,FALSE)","v":160},22.047000000000001,"OD",0.42,0.84799999999999998,0.10199999999999999,{"$f":"VLOOKUP(F278,Tables!$G$5:$H$14,2,FALSE)*(M278-(P278+Q278*Tables!$C$6))*(P278+Q278*Tables!$C$6)*1.36136","v":36.235145955007994},"Controlled OD (DR-26) Plastic Irr. Pipe","ASTM D2241"]
[null,null,null,null,{"$f":"ROW()","v":279},"PVC","PIP (DR)",24,"24",{"$f":"\" \"&L279&\" psi   100FT HD\"","v":" 44 psi   100FT HD"},"LH",44,24.803000000000001,"OD",0.48,0.26600000000000001,3.2000000000000001E-2,{"$f":"VLOOKUP(F279,Tables!$G$5:$H$14,2,FALSE)*(M279-(P279+Q279*Tables!$C$6))*(P279+Q279*Tables!$C$6)*1.36136","v":13.179177499487999},{"$f":"\"Controlled OD (100FT Hd) Plastic Irr. Pipe\"","v":"Controlled OD (100FT Hd) Plastic Irr. Pipe"},"ASABE S376.3"]
[null,null,null,null,{"$f":"ROW()","v":280},"PVC","PIP (DR)",24,"24",{"$f":"\" \"&L280&\" psi   DR-\"&K280","v":" 80 psi   DR-51"},51,{"$f":"VLOOKUP(K280,Tables!$C$17:$D$34,2,FALSE)","v":80},24.803000000000001,"OD",0.48,0.48599999999999999,6.8000000000000005E-2,{"$f":"VLOOKUP(F280,Tables!$G$5:$H$14,2,FALSE)*(M280-(P280+Q280*Tables!$C$6))*(P280+Q280*Tables!$C$6)*1.36136","v":24.066154752639999},{"$f":"\"Controlled OD (DR-\"&K280&\") Plastic Irr. Pipe\"","v":"Controlled OD (DR-51) Plastic Irr. Pipe"},"ASTM D2241"]
[null,null,null,null,{"$f":"ROW()","v":281},"PVC","PIP (DR)",24,"24","100 psi   DR-41",41,{"$f":"VLOOKUP(K281,Tables!$C$17:$D$34,2,FALSE)","v":100},24.803000000000001,"OD",0.48,0.60499999999999998,8.5000000000000006E-2,{"$f":"VLOOKUP(F281,Tables!$G$5:$H$14,2,FALSE)*(M281-(P281+Q281*Tables!$C$6))*(P281+Q281*Tables!$C$6)*1.36136","v":29.80964648661999},"Controlled OD (DR-41) Plastic Irr. Pipe","ASTM D2241"]
[null,null,null,null,{"$f":"ROW()","v":282},"PVC","PIP (DR)",24,"24","118 psi   DR-35",35,{"$f":"VLOOKUP(K282,Tables!$C$17:$D$34,2,FALSE)","v":118},24.803000000000001,"OD",0.48,0.70899999999999996,8.5000000000000006E-2,{"$f":"VLOOKUP(F282,Tables!$G$5:$H$14,2,FALSE)*(M282-(P282+Q282*Tables!$C$6))*(P282+Q282*Tables!$C$6)*1.36136","v":34.448647317083996},"Controlled OD (DR-35) Plastic Irr. Pipe","ASTM D2241"]
[null,null,null,null,{"$f":"ROW()","v":283},"PVC","PIP (DR)",24,"24","125 psi   DR-32.5",32.5,{"$f":"VLOOKUP(K283,Tables!$C$17:$D$34,2,FALSE)","v":125},24.803000000000001,"OD",0.48,0.76300000000000001,9.1999999999999998E-2,{"$f":"VLOOKUP(F283,Tables!$G$5:$H$14,2,FALSE)*(M283-(P283+Q283*Tables!$C$6))*(P283+Q283*Tables!$C$6)*1.36136","v":36.995780805983998},"Controlled OD (DR-32.5) Plastic Irr. Pipe","ASTM D2241"]
[null,null,null,null,{"$f":"ROW()","v":284},"PVC","PIP (DR)",24,"24","160 psi   DR-26",26,{"$f":"VLOOKUP(K284,Tables!$C$17:$D$34,2,FALSE)","v":160},24.803000000000001,"OD",0.48,0.95399999999999996,0.115,{"$f":"VLOOKUP(F284,Tables!$G$5:$H$14,2,FALSE)*(M284-(P284+Q284*Tables!$C$6))*(P284+Q284*Tables!$C$6)*1.36136","v":45.865774638683988},"Controlled OD (DR-26) Plastic Irr. Pipe","ASTM D2241"]
[null,null,null,null,{"$f":"ROW()","v":285},"PVC","PIP (DR)",24,"24",{"$f":"\" \"&L285&\" psi   DR-\"&K285","v":" 50 psi   DR-81"},81,{"$f":"VLOOKUP(K285,Tables!$C$17:$D$34,2,FALSE)","v":50},24.803000000000001,"OD",0.54,0.30599999999999999,3.6999999999999998E-2,{"$f":"VLOOKUP(F285,Tables!$G$5:$H$14,2,FALSE)*(M285-(P285+Q285*Tables!$C$6))*(P285+Q285*Tables!$C$6)*1.36136","v":15.139116260267999},"Controlled OD (DR-81) Plastic Irr. Pipe","ASTM D2241"]
[null,null,null,null,{"$f":"ROW()","v":286},"PVC","PIP (DR)",27,"27"," 80 psi   DR-51",51,{"$f":"VLOOKUP(K286,Tables!$C$17:$D$34,2,FALSE)","v":80},27.952999999999999,"OD",0.54,0.54800000000000004,7.6999999999999999E-2,{"$f":"VLOOKUP(F286,Tables!$G$5:$H$14,2,FALSE)*(M286-(P286+Q286*Tables!$C$6))*(P286+Q286*Tables!$C$6)*1.36136","v":30.590621145084},"Controlled OD (DR-51) Plastic Irr. Pipe","ASTM D2241"]
[null,null,null,null,{"$f":"ROW()","v":287},"PVC","PIP (DR)",27,"27","100 psi   DR-41",41,{"$f":"VLOOKUP(K287,Tables!$C$17:$D$34,2,FALSE)","v":100},27.952999999999999,"OD",0.54,0.68200000000000005,9.5000000000000001E-2,{"$f":"VLOOKUP(F287,Tables!$G$5:$H$14,2,FALSE)*(M287-(P287+Q287*Tables!$C$6))*(P287+Q287*Tables!$C$6)*1.36136","v":37.850382918347997},"Controlled OD (DR-41) Plastic Irr. Pipe","ASTM D2241"]
[null,null,null,null,{"$f":"ROW()","v":288},"PVC","PIP (DR)",27,"27","118 psi   DR-35",35,{"$f":"VLOOKUP(K288,Tables!$C$17:$D$34,2,FALSE)","v":118},27.952999999999999,"OD",0.54,0.79900000000000004,9.6000000000000002E-2,{"$f":"VLOOKUP(F288,Tables!$G$5:$H$14,2,FALSE)*(M288-(P288+Q288*Tables!$C$6))*(P288+Q288*Tables!$C$6)*1.36136","v":43.757234448927989},"Controlled OD (DR-35) Plastic Irr. Pipe","ASTM D2241"]
[null,null,null,null,{"$f":"ROW()","v":289},"PVC","PIP (DR)",27,"27","125 psi   DR-32.5",32.5,{"$f":"VLOOKUP(K289,Tables!$C$17:$D$34,2,FALSE)","v":125},27.952999999999999,"OD",0.54,0.86,0.10299999999999999,{"$f":"VLOOKUP(F289,Tables!$G$5:$H$14,2,FALSE)*(M289-(P289+Q289*Tables!$C$6))*(P289+Q289*Tables!$C$6)*1.36136","v":46.977345499083981},"Controlled OD (DR-32.5) Plastic Irr. Pipe","ASTM D2241"]
[null,null,null,null,{"$f":"ROW()","v":290},"PVC","PIP (DR)",27,"27","160 psi   DR-26",26,{"$f":"VLOOKUP(K290,Tables!$C$17:$D$34,2,FALSE)","v":160},27.952999999999999,"OD",0.54,1.075,0.129,{"$f":"VLOOKUP(F290,Tables!$G$5:$H$14,2,FALSE)*(M290-(P290+Q290*Tables!$C$6))*(P290+Q290*Tables!$C$6)*1.36136","v":58.23295889210798},"Controlled OD (DR-26) Plastic Irr. Pipe","ASTM D2241"]
[null,null,null,1,{"$f":"ROW()","v":291},"PVC","IPS (SCH)",0.125,"1/8",{"$f":"\" \"&L291&\" psi   SCH \"&K291","v":" 810 psi   SCH 40"},40,{"$f":"VLOOKUP(H291,Tables!$P$7:$S$29,IF(RAW!K291=120,4,IF(RAW!K291=80,3,2)),FALSE)","v":810},0.40500000000000003,"OD",1.6E-2,6.8000000000000005E-2,0.02,{"$f":"VLOOKUP(F291,Tables!$G$5:$H$14,2,FALSE)*(M291-(P291+Q291*Tables!$C$6))*(P291+Q291*Tables!$C$6)*1.36136","v":4.8611987423999997E-2},{"$f":"\"Controlled OD (SCH\"&K291&\") Schedule Pipe\"","v":"Controlled OD (SCH40) Schedule Pipe"},"ASTM D1785"]
[null,null,null,null,{"$f":"ROW()","v":292},"PVC","IPS (SCH)",0.125,"1/8",{"$f":"L292&\" psi   SCH \"&K292","v":"1230 psi   SCH 80"},80,{"$f":"VLOOKUP(H292,Tables!$P$7:$S$29,IF(RAW!K292=120,4,IF(RAW!K292=80,3,2)),FALSE)","v":1230},0.40500000000000003,"OD",1.6E-2,9.5000000000000001E-2,0.02,{"$f":"VLOOKUP(F292,Tables!$G$5:$H$14,2,FALSE)*(M292-(P292+Q292*Tables!$C$6))*(P292+Q292*Tables!$C$6)*1.36136","v":6.0035975999999998E-2},{"$f":"\"Controlled OD (SCH\"&K292&\") Schedule Pipe\"","v":"Controlled OD (SCH80) Schedule Pipe"},"ASTM D1785"]
[null,null,null,null,{"$f":"ROW()","v":293},"PVC","IPS (SCH)",0.25,"1/4",{"$f":"\" \"&L293&\" psi   SCH \"&K293","v":" 780 psi   SCH 40"},40,{"$f":"VLOOKUP(H293,Tables!$P$7:$S$29,IF(RAW!K293=120,4,IF(RAW!K293=80,3,2)),FALSE)","v":780},0.54,"OD",1.6E-2,8.7999999999999995E-2,0.02,{"$f":"VLOOKUP(F293,Tables!$G$5:$H$14,2,FALSE)*(M293-(P293+Q293*Tables!$C$6))*(P293+Q293*Tables!$C$6)*1.36136","v":8.2556137663999982E-2},"Controlled OD (SCH40) Schedule Pipe","ASTM D1785"]
[null,null,null,null,{"$f":"ROW()","v":294},"PVC","IPS (SCH)",0.25,"1/4","1130 psi   SCH 80",80,{"$f":"VLOOKUP(H294,Tables!$P$7:$S$29,IF(RAW!K294=120,4,IF(RAW!K294=80,3,2)),FALSE)","v":1130},0.54,"OD",1.6E-2,0.11899999999999999,0.02,{"$f":"VLOOKUP(F294,Tables!$G$5:$H$14,2,FALSE)*(M294-(P294+Q294*Tables!$C$6))*(P294+Q294*Tables!$C$6)*1.36136","v":0.101049124176},"Controlled OD (SCH80) Schedule Pipe","ASTM D1785"]
[null,null,null,null,{"$f":"ROW()","v":295},"PVC","IPS (SCH)",0.375,"3/8",{"$f":"\" \"&L295&\" psi   SCH \"&K295","v":" 620 psi   SCH 40"},40,{"$f":"VLOOKUP(H295,Tables!$P$7:$S$29,IF(RAW!K295=120,4,IF(RAW!K295=80,3,2)),FALSE)","v":620},0.67500000000000004,"OD",1.6E-2,9.0999999999999998E-2,0.02,{"$f":"VLOOKUP(F295,Tables!$G$5:$H$14,2,FALSE)*(M295-(P295+Q295*Tables!$C$6))*(P295+Q295*Tables!$C$6)*1.36136","v":0.11049287849599999},"Controlled OD (SCH40) Schedule Pipe","ASTM D1785"]
[null,null,null,null,{"$f":"ROW()","v":296},"PVC","IPS (SCH)",0.375,"3/8"," 920 psi   SCH 80",80,{"$f":"VLOOKUP(H296,Tables!$P$7:$S$29,IF(RAW!K296=120,4,IF(RAW!K296=80,3,2)),FALSE)","v":920},0.67500000000000004,"OD",1.6E-2,0.126,0.02,{"$f":"VLOOKUP(F296,Tables!$G$5:$H$14,2,FALSE)*(M296-(P296+Q296*Tables!$C$6))*(P296+Q296*Tables!$C$6)*1.36136","v":0.13971038681600001},"Controlled OD (SCH80) Schedule Pipe","ASTM D1785"]
[null,null,null,null,{"$f":"ROW()","v":297},"PVC","IPS (SCH)",0.5,"1/2"," 600 psi   SCH 40",40,{"$f":"VLOOKUP(H297,Tables!$P$7:$S$29,IF(RAW!K297=120,4,IF(RAW!K297=80,3,2)),FALSE)","v":600},0.84,"OD",1.6E-2,0.109,0.02,{"$f":"VLOOKUP(F297,Tables!$G$5:$H$14,2,FALSE)*(M297-(P297+Q297*Tables!$C$6))*(P297+Q297*Tables!$C$6)*1.36136","v":0.16352465729599996},"Controlled OD (SCH40) Schedule Pipe","ASTM D1785"]
[null,null,null,null,{"$f":"ROW()","v":298},"PVC","IPS (SCH)",0.5,"1/2"," 850 psi   SCH 80",80,{"$f":"VLOOKUP(H298,Tables!$P$7:$S$29,IF(RAW!K298=120,4,IF(RAW!K298=80,3,2)),FALSE)","v":850},0.84,"OD",1.6E-2,0.14699999999999999,0.02,{"$f":"VLOOKUP(F298,Tables!$G$5:$H$14,2,FALSE)*(M298-(P298+Q298*Tables!$C$6))*(P298+Q298*Tables!$C$6)*1.36136","v":0.20437199182399993},"Controlled OD (SCH80) Schedule Pipe","ASTM D1785"]
[null,null,null,null,{"$f":"ROW()","v":299},"PVC","IPS (SCH)",0.5,"1/2","1010 psi   SCH 120",120,{"$f":"VLOOKUP(H299,Tables!$P$7:$S$29,IF(RAW!K299=120,4,IF(RAW!K299=80,3,2)),FALSE)","v":1010},0.84,"OD",1.6E-2,0.17,0.02,{"$f":"VLOOKUP(F299,Tables!$G$5:$H$14,2,FALSE)*(M299-(P299+Q299*Tables!$C$6))*(P299+Q299*Tables!$C$6)*1.36136","v":0.22642139519999999},"Controlled OD (SCH120) Schedule Pipe","ASTM D1785"]
[null,null,null,null,{"$f":"ROW()","v":300},"PVC","IPS (SCH)",0.75,"3/4",{"$f":"\" \"&L300&\" psi   SCH \"&K300","v":" 480 psi   SCH 40"},40,{"$f":"VLOOKUP(H300,Tables!$P$7:$S$29,IF(RAW!K300=120,4,IF(RAW!K300=80,3,2)),FALSE)","v":480},1.05,"OD",0.02,0.113,0.02,{"$f":"VLOOKUP(F300,Tables!$G$5:$H$14,2,FALSE)*(M300-(P300+Q300*Tables!$C$6))*(P300+Q300*Tables!$C$6)*1.36136","v":0.21731307998399998},"Controlled OD (SCH40) Schedule Pipe","ASTM D1785"]
[null,null,null,null,{"$f":"ROW()","v":301},"PVC","IPS (SCH)",0.75,"3/4"," 690 psi   SCH 80",80,{"$f":"VLOOKUP(H301,Tables!$P$7:$S$29,IF(RAW!K301=120,4,IF(RAW!K301=80,3,2)),FALSE)","v":690},1.05,"OD",0.02,0.154,0.02,{"$f":"VLOOKUP(F301,Tables!$G$5:$H$14,2,FALSE)*(M301-(P301+Q301*Tables!$C$6))*(P301+Q301*Tables!$C$6)*1.36136","v":0.276935474816},"Controlled OD (SCH80) Schedule Pipe","ASTM D1785"]
[null,null,null,null,{"$f":"ROW()","v":302},"PVC","IPS (SCH)",0.75,"3/4"," 770 psi   SCH 120",120,{"$f":"VLOOKUP(H302,Tables!$P$7:$S$29,IF(RAW!K302=120,4,IF(RAW!K302=80,3,2)),FALSE)","v":770},1.05,"OD",0.02,0.17,0.02,{"$f":"VLOOKUP(F302,Tables!$G$5:$H$14,2,FALSE)*(M302-(P302+Q302*Tables!$C$6))*(P302+Q302*Tables!$C$6)*1.36136","v":0.29846456640000002},"Controlled OD (SCH120) Schedule Pipe","ASTM D1785"]
[null,null,null,null,{"$f":"ROW()","v":303},"PVC","IPS (SCH)",1,"1"," 450 psi   SCH 40",40,{"$f":"VLOOKUP(H303,Tables!$P$7:$S$29,IF(RAW!K303=120,4,IF(RAW!K303=80,3,2)),FALSE)","v":450},1.3149999999999999,"OD",0.02,0.13300000000000001,0.02,{"$f":"VLOOKUP(F303,Tables!$G$5:$H$14,2,FALSE)*(M303-(P303+Q303*Tables!$C$6))*(P303+Q303*Tables!$C$6)*1.36136","v":0.31942188678399996},"Controlled OD (SCH40) Schedule Pipe","ASTM D1785"]
[null,null,null,null,{"$f":"ROW()","v":304},"PVC","IPS (SCH)",1,"1"," 630 psi   SCH 80",80,{"$f":"VLOOKUP(H304,Tables!$P$7:$S$29,IF(RAW!K304=120,4,IF(RAW!K304=80,3,2)),FALSE)","v":630},1.3149999999999999,"OD",0.02,0.17899999999999999,2.1000000000000001E-2,{"$f":"VLOOKUP(F304,Tables!$G$5:$H$14,2,FALSE)*(M304-(P304+Q304*Tables!$C$6))*(P304+Q304*Tables!$C$6)*1.36136","v":0.40649549340399993},"Controlled OD (SCH80) Schedule Pipe","ASTM D1785"]
[null,null,null,null,{"$f":"ROW()","v":305},"PVC","IPS (SCH)",1,"1"," 720 psi   SCH 120",120,{"$f":"VLOOKUP(H305,Tables!$P$7:$S$29,IF(RAW!K305=120,4,IF(RAW!K305=80,3,2)),FALSE)","v":720},1.3149999999999999,"OD",0.02,0.2,2.4E-2,{"$f":"VLOOKUP(F305,Tables!$G$5:$H$14,2,FALSE)*(M305-(P305+Q305*Tables!$C$6))*(P305+Q305*Tables!$C$6)*1.36136","v":0.445668967744},"Controlled OD (SCH120) Schedule Pipe","ASTM D1785"]
[null,null,null,null,{"$f":"ROW()","v":306},"PVC","IPS (SCH)",1.25,"1 1/4"," 370 psi   SCH 40",40,{"$f":"VLOOKUP(H306,Tables!$P$7:$S$29,IF(RAW!K306=120,4,IF(RAW!K306=80,3,2)),FALSE)","v":370},1.66,"OD",2.4E-2,0.14000000000000001,0.02,{"$f":"VLOOKUP(F306,Tables!$G$5:$H$14,2,FALSE)*(M306-(P306+Q306*Tables!$C$6))*(P306+Q306*Tables!$C$6)*1.36136","v":0.43168725599999991},"Controlled OD (SCH40) Schedule Pipe","ASTM D1785"]
[null,null,null,null,{"$f":"ROW()","v":307},"PVC","IPS (SCH)",1.25,"1 1/4"," 520 psi   SCH 80",80,{"$f":"VLOOKUP(H307,Tables!$P$7:$S$29,IF(RAW!K307=120,4,IF(RAW!K307=80,3,2)),FALSE)","v":520},1.66,"OD",2.4E-2,0.191,2.3E-2,{"$f":"VLOOKUP(F307,Tables!$G$5:$H$14,2,FALSE)*(M307-(P307+Q307*Tables!$C$6))*(P307+Q307*Tables!$C$6)*1.36136","v":0.5625156536999999},"Controlled OD (SCH80) Schedule Pipe","ASTM D1785"]
[null,null,null,null,{"$f":"ROW()","v":308},"PVC","IPS (SCH)",1.25,"1 1/4"," 600 psi   SCH 120",120,{"$f":"VLOOKUP(H308,Tables!$P$7:$S$29,IF(RAW!K308=120,4,IF(RAW!K308=80,3,2)),FALSE)","v":600},1.66,"OD",2.4E-2,0.215,2.5999999999999999E-2,{"$f":"VLOOKUP(F308,Tables!$G$5:$H$14,2,FALSE)*(M308-(P308+Q308*Tables!$C$6))*(P308+Q308*Tables!$C$6)*1.36136","v":0.62227003238400003},"Controlled OD (SCH120) Schedule Pipe","ASTM D1785"]
[null,null,null,null,{"$f":"ROW()","v":309},"PVC","IPS (SCH)",1.5,"1 1/2"," 330 psi   SCH 40",40,{"$f":"VLOOKUP(H309,Tables!$P$7:$S$29,IF(RAW!K309=120,4,IF(RAW!K309=80,3,2)),FALSE)","v":330},1.9,"OD",2.4E-2,0.14499999999999999,0.02,{"$f":"VLOOKUP(F309,Tables!$G$5:$H$14,2,FALSE)*(M309-(P309+Q309*Tables!$C$6))*(P309+Q309*Tables!$C$6)*1.36136","v":0.51549938439999987},"Controlled OD (SCH40) Schedule Pipe","ASTM D1785"]
[null,null,null,null,{"$f":"ROW()","v":310},"PVC","IPS (SCH)",1.5,"1 1/2"," 470 psi   SCH 80",80,{"$f":"VLOOKUP(H310,Tables!$P$7:$S$29,IF(RAW!K310=120,4,IF(RAW!K310=80,3,2)),FALSE)","v":470},1.9,"OD",2.4E-2,0.2,2.4E-2,{"$f":"VLOOKUP(F310,Tables!$G$5:$H$14,2,FALSE)*(M310-(P310+Q310*Tables!$C$6))*(P310+Q310*Tables!$C$6)*1.36136","v":0.68203918182400003},"Controlled OD (SCH80) Schedule Pipe","ASTM D1785"]
[null,null,null,null,{"$f":"ROW()","v":311},"PVC","IPS (SCH)",1.5,"1 1/2"," 540 psi   SCH 120",120,{"$f":"VLOOKUP(H311,Tables!$P$7:$S$29,IF(RAW!K311=120,4,IF(RAW!K311=80,3,2)),FALSE)","v":540},1.9,"OD",2.4E-2,0.22500000000000001,2.7E-2,{"$f":"VLOOKUP(F311,Tables!$G$5:$H$14,2,FALSE)*(M311-(P311+Q311*Tables!$C$6))*(P311+Q311*Tables!$C$6)*1.36136","v":0.75524828979600001},"Controlled OD (SCH120) Schedule Pipe","ASTM D1785"]
[null,null,null,null,{"$f":"ROW()","v":312},"PVC","IPS (SCH)",2,"2"," 280 psi   SCH 40",40,{"$f":"VLOOKUP(H312,Tables!$P$7:$S$29,IF(RAW!K312=120,4,IF(RAW!K312=80,3,2)),FALSE)","v":280},2.375,"OD",2.4E-2,0.154,0.02,{"$f":"VLOOKUP(F312,Tables!$G$5:$H$14,2,FALSE)*(M312-(P312+Q312*Tables!$C$6))*(P312+Q312*Tables!$C$6)*1.36136","v":0.69108841401599985},"Controlled OD (SCH40) Schedule Pipe","ASTM D1785"]
[null,null,null,null,{"$f":"ROW()","v":313},"PVC","IPS (SCH)",2,"2"," 400 psi   SCH 80",80,{"$f":"VLOOKUP(H313,Tables!$P$7:$S$29,IF(RAW!K313=120,4,IF(RAW!K313=80,3,2)),FALSE)","v":400},2.375,"OD",2.4E-2,0.218,2.5999999999999999E-2,{"$f":"VLOOKUP(F313,Tables!$G$5:$H$14,2,FALSE)*(M313-(P313+Q313*Tables!$C$6))*(P313+Q313*Tables!$C$6)*1.36136","v":0.94392563865599999},"Controlled OD (SCH80) Schedule Pipe","ASTM D1785"]
[null,null,null,null,{"$f":"ROW()","v":314},"PVC","IPS (SCH)",2,"2"," 470 psi   SCH 120",120,{"$f":"VLOOKUP(H314,Tables!$P$7:$S$29,IF(RAW!K314=120,4,IF(RAW!K314=80,3,2)),FALSE)","v":470},2.375,"OD",2.4E-2,0.25,0.03,{"$f":"VLOOKUP(F314,Tables!$G$5:$H$14,2,FALSE)*(M314-(P314+Q314*Tables!$C$6))*(P314+Q314*Tables!$C$6)*1.36136","v":1.0656862216},"Controlled OD (SCH120) Schedule Pipe","ASTM D1785"]
[null,null,null,null,{"$f":"ROW()","v":315},"PVC","IPS (SCH)",2.5,"2 1/2"," 300 psi   SCH 40",40,{"$f":"VLOOKUP(H315,Tables!$P$7:$S$29,IF(RAW!K315=120,4,IF(RAW!K315=80,3,2)),FALSE)","v":300},2.875,"OD",0.03,0.20300000000000001,2.4E-2,{"$f":"VLOOKUP(F315,Tables!$G$5:$H$14,2,FALSE)*(M315-(P315+Q315*Tables!$C$6))*(P315+Q315*Tables!$C$6)*1.36136","v":1.0899864976},"Controlled OD (SCH40) Schedule Pipe","ASTM D1785"]
[null,null,null,null,{"$f":"ROW()","v":316},"PVC","IPS (SCH)",2.5,"2 1/2"," 420 psi   SCH 80",80,{"$f":"VLOOKUP(H316,Tables!$P$7:$S$29,IF(RAW!K316=120,4,IF(RAW!K316=80,3,2)),FALSE)","v":420},2.875,"OD",0.03,0.27600000000000002,3.3000000000000002E-2,{"$f":"VLOOKUP(F316,Tables!$G$5:$H$14,2,FALSE)*(M316-(P316+Q316*Tables!$C$6))*(P316+Q316*Tables!$C$6)*1.36136","v":1.4396841459},"Controlled OD (SCH80) Schedule Pipe","ASTM D1785"]
[null,null,null,null,{"$f":"ROW()","v":317},"PVC","IPS (SCH)",2.5,"2 1/2"," 470 psi   SCH 120",120,{"$f":"VLOOKUP(H317,Tables!$P$7:$S$29,IF(RAW!K317=120,4,IF(RAW!K317=80,3,2)),FALSE)","v":470},2.875,"OD",0.03,0.3,3.5999999999999997E-2,{"$f":"VLOOKUP(F317,Tables!$G$5:$H$14,2,FALSE)*(M317-(P317+Q317*Tables!$C$6))*(P317+Q317*Tables!$C$6)*1.36136","v":1.5497400959039997},"Controlled OD (SCH120) Schedule Pipe","ASTM D1785"]
[null,null,null,null,{"$f":"ROW()","v":318},"PVC","IPS (SCH)",3,"3"," 260 psi   SCH 40",40,{"$f":"VLOOKUP(H318,Tables!$P$7:$S$29,IF(RAW!K318=120,4,IF(RAW!K318=80,3,2)),FALSE)","v":260},3.5,"OD",0.03,0.216,2.5999999999999999E-2,{"$f":"VLOOKUP(F318,Tables!$G$5:$H$14,2,FALSE)*(M318-(P318+Q318*Tables!$C$6))*(P318+Q318*Tables!$C$6)*1.36136","v":1.4276345443359999},"Controlled OD (SCH40) Schedule Pipe","ASTM D1785"]
[null,null,null,null,{"$f":"ROW()","v":319},"PVC","IPS (SCH)",3,"3"," 370 psi   SCH 80",80,{"$f":"VLOOKUP(H319,Tables!$P$7:$S$29,IF(RAW!K319=120,4,IF(RAW!K319=80,3,2)),FALSE)","v":370},3.5,"OD",0.03,0.3,3.5999999999999997E-2,{"$f":"VLOOKUP(F319,Tables!$G$5:$H$14,2,FALSE)*(M319-(P319+Q319*Tables!$C$6))*(P319+Q319*Tables!$C$6)*1.36136","v":1.9285385159039998},"Controlled OD (SCH80) Schedule Pipe","ASTM D1785"]
[null,null,null,null,{"$f":"ROW()","v":320},"PVC","IPS (SCH)",3,"3"," 440 psi   SCH 120",120,{"$f":"VLOOKUP(H320,Tables!$P$7:$S$29,IF(RAW!K320=120,4,IF(RAW!K320=80,3,2)),FALSE)","v":440},3.5,"OD",0.03,0.35,4.2000000000000003E-2,{"$f":"VLOOKUP(F320,Tables!$G$5:$H$14,2,FALSE)*(M320-(P320+Q320*Tables!$C$6))*(P320+Q320*Tables!$C$6)*1.36136","v":2.2124858115359993},"Controlled OD (SCH120) Schedule Pipe","ASTM D1785"]
[null,null,null,null,{"$f":"ROW()","v":321},"PVC","IPS (SCH)",3.5,"3 1/2"," 240 psi   SCH 40",40,{"$f":"VLOOKUP(H321,Tables!$P$7:$S$29,IF(RAW!K321=120,4,IF(RAW!K321=80,3,2)),FALSE)","v":240},4,"OD",0.1,0.22600000000000001,2.7E-2,{"$f":"VLOOKUP(F321,Tables!$G$5:$H$14,2,FALSE)*(M321-(P321+Q321*Tables!$C$6))*(P321+Q321*Tables!$C$6)*1.36136","v":1.7165329020839997},"Controlled OD (SCH40) Schedule Pipe","ASTM D1785"]
[null,null,null,null,{"$f":"ROW()","v":322},"PVC","IPS (SCH)",3.5,"3 1/2"," 350 psi   SCH 80",80,{"$f":"VLOOKUP(H322,Tables!$P$7:$S$29,IF(RAW!K322=120,4,IF(RAW!K322=80,3,2)),FALSE)","v":350},4,"OD",0.03,0.318,3.7999999999999999E-2,{"$f":"VLOOKUP(F322,Tables!$G$5:$H$14,2,FALSE)*(M322-(P322+Q322*Tables!$C$6))*(P322+Q322*Tables!$C$6)*1.36136","v":2.3527069806239997},"Controlled OD (SCH80) Schedule Pipe","ASTM D1785"]
[null,null,null,null,{"$f":"ROW()","v":323},"PVC","IPS (SCH)",3.5,"3 1/2"," 380 psi   SCH 120",120,{"$f":"VLOOKUP(H323,Tables!$P$7:$S$29,IF(RAW!K323=120,4,IF(RAW!K323=80,3,2)),FALSE)","v":380},4,"OD",0.03,0.35,4.2000000000000003E-2,{"$f":"VLOOKUP(F323,Tables!$G$5:$H$14,2,FALSE)*(M323-(P323+Q323*Tables!$C$6))*(P323+Q323*Tables!$C$6)*1.36136","v":2.5660310035359997},"Controlled OD (SCH120) Schedule Pipe","ASTM D1785"]
[null,null,null,null,{"$f":"ROW()","v":324},"PVC","IPS (SCH)",4,"4"," 220 psi   SCH 40",40,{"$f":"VLOOKUP(H324,Tables!$P$7:$S$29,IF(RAW!K324=120,4,IF(RAW!K324=80,3,2)),FALSE)","v":220},4.5,"OD",0.1,0.23699999999999999,2.8000000000000001E-2,{"$f":"VLOOKUP(F324,Tables!$G$5:$H$14,2,FALSE)*(M324-(P324+Q324*Tables!$C$6))*(P324+Q324*Tables!$C$6)*1.36136","v":2.0326447100959997},"Controlled OD (SCH40) Schedule Pipe","ASTM D1785"]
[null,null,null,null,{"$f":"ROW()","v":325},"PVC","IPS (SCH)",4,"4"," 320 psi   SCH 80",80,{"$f":"VLOOKUP(H325,Tables!$P$7:$S$29,IF(RAW!K325=120,4,IF(RAW!K325=80,3,2)),FALSE)","v":320},4.5,"OD",0.03,0.33700000000000002,0.04,{"$f":"VLOOKUP(F325,Tables!$G$5:$H$14,2,FALSE)*(M325-(P325+Q325*Tables!$C$6))*(P325+Q325*Tables!$C$6)*1.36136","v":2.8189292171039999},"Controlled OD (SCH80) Schedule Pipe","ASTM D1785"]
[null,null,null,null,{"$f":"ROW()","v":326},"PVC","IPS (SCH)",4,"4"," 430 psi   SCH 120",120,{"$f":"VLOOKUP(H326,Tables!$P$7:$S$29,IF(RAW!K326=120,4,IF(RAW!K326=80,3,2)),FALSE)","v":430},4.5,"OD",0.03,0.437,5.1999999999999998E-2,{"$f":"VLOOKUP(F326,Tables!$G$5:$H$14,2,FALSE)*(M326-(P326+Q326*Tables!$C$6))*(P326+Q326*Tables!$C$6)*1.36136","v":3.5623842494239999},"Controlled OD (SCH120) Schedule Pipe","ASTM D1785"]
[null,null,null,null,{"$f":"ROW()","v":327},"PVC","IPS (SCH)",5,"5"," 190 psi   SCH 40",40,{"$f":"VLOOKUP(H327,Tables!$P$7:$S$29,IF(RAW!K327=120,4,IF(RAW!K327=80,3,2)),FALSE)","v":190},5.5629999999999997,"OD",0.1,0.25800000000000001,3.1E-2,{"$f":"VLOOKUP(F327,Tables!$G$5:$H$14,2,FALSE)*(M327-(P327+Q327*Tables!$C$6))*(P327+Q327*Tables!$C$6)*1.36136","v":2.7572298633879995},"Controlled OD (SCH40) Schedule Pipe","ASTM D1785"]
[null,null,null,null,{"$f":"ROW()","v":328},"PVC","IPS (SCH)",5,"5"," 290 psi   SCH 80",80,{"$f":"VLOOKUP(H328,Tables!$P$7:$S$29,IF(RAW!K328=120,4,IF(RAW!K328=80,3,2)),FALSE)","v":290},5.5629999999999997,"OD",0.06,0.375,4.4999999999999998E-2,{"$f":"VLOOKUP(F328,Tables!$G$5:$H$14,2,FALSE)*(M328-(P328+Q328*Tables!$C$6))*(P328+Q328*Tables!$C$6)*1.36136","v":3.9133664770199994},"Controlled OD (SCH80) Schedule Pipe","ASTM D1785"]
[null,null,null,null,{"$f":"ROW()","v":329},"PVC","IPS (SCH)",5,"5"," 400 psi   SCH 120",120,{"$f":"VLOOKUP(H329,Tables!$P$7:$S$29,IF(RAW!K329=120,4,IF(RAW!K329=80,3,2)),FALSE)","v":400},5.5629999999999997,"OD",0.06,0.5,0.06,{"$f":"VLOOKUP(F329,Tables!$G$5:$H$14,2,FALSE)*(M329-(P329+Q329*Tables!$C$6))*(P329+Q329*Tables!$C$6)*1.36136","v":5.0839798609599987},"Controlled OD (SCH120) Schedule Pipe","ASTM D1785"]
[null,null,null,null,{"$f":"ROW()","v":330},"PVC","IPS (SCH)",6,"6"," 180 psi   SCH 40",40,{"$f":"VLOOKUP(H330,Tables!$P$7:$S$29,IF(RAW!K330=120,4,IF(RAW!K330=80,3,2)),FALSE)","v":180},6.625,"OD",0.1,0.28000000000000003,3.4000000000000002E-2,{"$f":"VLOOKUP(F330,Tables!$G$5:$H$14,2,FALSE)*(M330-(P330+Q330*Tables!$C$6))*(P330+Q330*Tables!$C$6)*1.36136","v":3.581986472064},"Controlled OD (SCH40) Schedule Pipe","ASTM D1785"]
[null,null,null,null,{"$f":"ROW()","v":331},"PVC","IPS (SCH)",6,"6"," 280 psi   SCH 80",80,{"$f":"VLOOKUP(H331,Tables!$P$7:$S$29,IF(RAW!K331=120,4,IF(RAW!K331=80,3,2)),FALSE)","v":280},6.625,"OD",7.0000000000000007E-2,0.432,5.1999999999999998E-2,{"$f":"VLOOKUP(F331,Tables!$G$5:$H$14,2,FALSE)*(M331-(P331+Q331*Tables!$C$6))*(P331+Q331*Tables!$C$6)*1.36136","v":5.3831991653439992},"Controlled OD (SCH80) Schedule Pipe","ASTM D1785"]
[null,null,null,null,{"$f":"ROW()","v":332},"PVC","IPS (SCH)",6,"6"," 370 psi   SCH 120",120,{"$f":"VLOOKUP(H332,Tables!$P$7:$S$29,IF(RAW!K332=120,4,IF(RAW!K332=80,3,2)),FALSE)","v":370},6.625,"OD",7.0000000000000007E-2,0.56200000000000006,6.7000000000000004E-2,{"$f":"VLOOKUP(F332,Tables!$G$5:$H$14,2,FALSE)*(M332-(P332+Q332*Tables!$C$6))*(P332+Q332*Tables!$C$6)*1.36136","v":6.8432764840439981},"Controlled OD (SCH120) Schedule Pipe","ASTM D1785"]
[null,null,null,null,{"$f":"ROW()","v":333},"PVC","IPS (SCH)",8,"8"," 160 psi   SCH 40",40,{"$f":"VLOOKUP(H333,Tables!$P$7:$S$29,IF(RAW!K333=120,4,IF(RAW!K333=80,3,2)),FALSE)","v":160},8.625,"OD",0.15,0.32200000000000001,3.9E-2,{"$f":"VLOOKUP(F333,Tables!$G$5:$H$14,2,FALSE)*(M333-(P333+Q333*Tables!$C$6))*(P333+Q333*Tables!$C$6)*1.36136","v":5.3914503002359995},"Controlled OD (SCH40) Schedule Pipe","ASTM D1785"]
[null,null,null,null,{"$f":"ROW()","v":334},"PVC","IPS (SCH)",8,"8"," 250 psi   SCH 80",80,{"$f":"VLOOKUP(H334,Tables!$P$7:$S$29,IF(RAW!K334=120,4,IF(RAW!K334=80,3,2)),FALSE)","v":250},8.625,"OD",0.15,0.5,0.06,{"$f":"VLOOKUP(F334,Tables!$G$5:$H$14,2,FALSE)*(M334-(P334+Q334*Tables!$C$6))*(P334+Q334*Tables!$C$6)*1.36136","v":8.176995226399999},"Controlled OD (SCH80) Schedule Pipe","ASTM D1785"]
[null,null,null,null,{"$f":"ROW()","v":335},"PVC","IPS (SCH)",8,"8"," 380 psi   SCH 120",120,{"$f":"VLOOKUP(H335,Tables!$P$7:$S$29,IF(RAW!K335=120,4,IF(RAW!K335=80,3,2)),FALSE)","v":380},8.625,"OD",0.09,0.71799999999999997,8.5999999999999993E-2,{"$f":"VLOOKUP(F335,Tables!$G$5:$H$14,2,FALSE)*(M335-(P335+Q335*Tables!$C$6))*(P335+Q335*Tables!$C$6)*1.36136","v":11.405890111615998},"Controlled OD (SCH120) Schedule Pipe","ASTM D1785"]
[null,null,null,null,{"$f":"ROW()","v":336},"PVC","IPS (SCH)",10,"10"," 140 psi   SCH 40",40,{"$f":"VLOOKUP(H336,Tables!$P$7:$S$29,IF(RAW!K336=120,4,IF(RAW!K336=80,3,2)),FALSE)","v":140},10.75,"OD",0.15,0.36499999999999999,4.3999999999999997E-2,{"$f":"VLOOKUP(F336,Tables!$G$5:$H$14,2,FALSE)*(M336-(P336+Q336*Tables!$C$6))*(P336+Q336*Tables!$C$6)*1.36136","v":7.6435917798239998},"Controlled OD (SCH40) Schedule Pipe","ASTM D1785"]
[null,null,null,null,{"$f":"ROW()","v":337},"PVC","IPS (SCH)",10,"10"," 230 psi   SCH 80",80,{"$f":"VLOOKUP(H337,Tables!$P$7:$S$29,IF(RAW!K337=120,4,IF(RAW!K337=80,3,2)),FALSE)","v":230},10.75,"OD",0.15,0.59299999999999997,7.0999999999999994E-2,{"$f":"VLOOKUP(F337,Tables!$G$5:$H$14,2,FALSE)*(M337-(P337+Q337*Tables!$C$6))*(P337+Q337*Tables!$C$6)*1.36136","v":12.124146710675998},"Controlled OD (SCH80) Schedule Pipe","ASTM D1785"]
[null,null,null,null,{"$f":"ROW()","v":338},"PVC","IPS (SCH)",10,"10"," 370 psi   SCH 120",120,{"$f":"VLOOKUP(H338,Tables!$P$7:$S$29,IF(RAW!K338=120,4,IF(RAW!K338=80,3,2)),FALSE)","v":370},10.75,"OD",0.1,0.84299999999999997,0.10100000000000001,{"$f":"VLOOKUP(F338,Tables!$G$5:$H$14,2,FALSE)*(M338-(P338+Q338*Tables!$C$6))*(P338+Q338*Tables!$C$6)*1.36136","v":16.784882470355999},"Controlled OD (SCH120) Schedule Pipe","ASTM D1785"]
[null,null,null,null,{"$f":"ROW()","v":339},"PVC","IPS (SCH)",12,"12"," 130 psi   SCH 40",40,{"$f":"VLOOKUP(H339,Tables!$P$7:$S$29,IF(RAW!K339=120,4,IF(RAW!K339=80,3,2)),FALSE)","v":130},12.75,"OD",0.15,0.40600000000000003,4.9000000000000002E-2,{"$f":"VLOOKUP(F339,Tables!$G$5:$H$14,2,FALSE)*(M339-(P339+Q339*Tables!$C$6))*(P339+Q339*Tables!$C$6)*1.36136","v":10.108047153204},"Controlled OD (SCH40) Schedule Pipe","ASTM D1785"]
[null,null,null,null,{"$f":"ROW()","v":340},"PVC","IPS (SCH)",12,"12"," 230 psi   SCH 80",80,{"$f":"VLOOKUP(H340,Tables!$P$7:$S$29,IF(RAW!K340=120,4,IF(RAW!K340=80,3,2)),FALSE)","v":230},12.75,"OD",0.15,0.68700000000000006,8.2000000000000003E-2,{"$f":"VLOOKUP(F340,Tables!$G$5:$H$14,2,FALSE)*(M340-(P340+Q340*Tables!$C$6))*(P340+Q340*Tables!$C$6)*1.36136","v":16.680502302463999},"Controlled OD (SCH80) Schedule Pipe","ASTM D1785"]
[null,null,null,null,{"$f":"ROW()","v":341},"PVC","IPS (SCH)",12,"12"," 340 psi   SCH 120",120,{"$f":"VLOOKUP(H341,Tables!$P$7:$S$29,IF(RAW!K341=120,4,IF(RAW!K341=80,3,2)),FALSE)","v":340},12.75,"OD",0.12,1,0.12,{"$f":"VLOOKUP(F341,Tables!$G$5:$H$14,2,FALSE)*(M341-(P341+Q341*Tables!$C$6))*(P341+Q341*Tables!$C$6)*1.36136","v":23.616818825599999},"Controlled OD (SCH120) Schedule Pipe","ASTM D1785"]
[null,null,null,null,{"$f":"ROW()","v":342},"PVC","IPS (SCH)",14,"14"," 130 psi   SCH 40",40,{"$f":"VLOOKUP(H342,Tables!$P$7:$S$29,IF(RAW!K342=120,4,IF(RAW!K342=80,3,2)),FALSE)","v":130},14,"OD",0.2,0.437,5.2999999999999999E-2,{"$f":"VLOOKUP(F342,Tables!$G$5:$H$14,2,FALSE)*(M342-(P342+Q342*Tables!$C$6))*(P342+Q342*Tables!$C$6)*1.36136","v":11.957961411395999},"Controlled OD (SCH40) Schedule Pipe","ASTM D1785"]
[null,null,null,null,{"$f":"ROW()","v":343},"PVC","IPS (SCH)",14,"14"," 220 psi   SCH 80",80,{"$f":"VLOOKUP(H343,Tables!$P$7:$S$29,IF(RAW!K343=120,4,IF(RAW!K343=80,3,2)),FALSE)","v":220},14,"OD",0.2,0.75,0.09,{"$f":"VLOOKUP(F343,Tables!$G$5:$H$14,2,FALSE)*(M343-(P343+Q343*Tables!$C$6))*(P343+Q343*Tables!$C$6)*1.36136","v":20.008132544399999},"Controlled OD (SCH80) Schedule Pipe","ASTM D1785"]
[null,null,null,null,{"$f":"ROW()","v":344},"PVC","IPS (SCH)",16,"16"," 130 psi   SCH 40",40,{"$f":"VLOOKUP(H344,Tables!$P$7:$S$29,IF(RAW!K344=120,4,IF(RAW!K344=80,3,2)),FALSE)","v":130},16,"OD",0.32,0.5,0.06,{"$f":"VLOOKUP(F344,Tables!$G$5:$H$14,2,FALSE)*(M344-(P344+Q344*Tables!$C$6))*(P344+Q344*Tables!$C$6)*1.36136","v":15.626697486400001},"Controlled OD (SCH40) Schedule Pipe","ASTM D1785"]
[null,null,null,null,{"$f":"ROW()","v":345},"PVC","IPS (SCH)",16,"16"," 220 psi   SCH 80",80,{"$f":"VLOOKUP(H345,Tables!$P$7:$S$29,IF(RAW!K345=120,4,IF(RAW!K345=80,3,2)),FALSE)","v":220},16,"OD",0.32,0.84299999999999997,0.10100000000000001,{"$f":"VLOOKUP(F345,Tables!$G$5:$H$14,2,FALSE)*(M345-(P345+Q345*Tables!$C$6))*(P345+Q345*Tables!$C$6)*1.36136","v":25.725239896356001},"Controlled OD (SCH80) Schedule Pipe","ASTM D1785"]
[null,null,null,null,{"$f":"ROW()","v":346},"PVC","IPS (SCH)",18,"18"," 130 psi   SCH 40",40,{"$f":"VLOOKUP(H346,Tables!$P$7:$S$29,IF(RAW!K346=120,4,IF(RAW!K346=80,3,2)),FALSE)","v":130},18,"OD",0.36,0.56200000000000006,6.7000000000000004E-2,{"$f":"VLOOKUP(F346,Tables!$G$5:$H$14,2,FALSE)*(M346-(P346+Q346*Tables!$C$6))*(P346+Q346*Tables!$C$6)*1.36136","v":19.753512823043994},"Controlled OD (SCH40) Schedule Pipe","ASTM D1785"]
[null,null,null,null,{"$f":"ROW()","v":347},"PVC","IPS (SCH)",18,"18"," 220 psi   SCH 80",80,{"$f":"VLOOKUP(H347,Tables!$P$7:$S$29,IF(RAW!K347=120,4,IF(RAW!K347=80,3,2)),FALSE)","v":220},18,"OD",0.36,0.93700000000000006,0.112,{"$f":"VLOOKUP(F347,Tables!$G$5:$H$14,2,FALSE)*(M347-(P347+Q347*Tables!$C$6))*(P347+Q347*Tables!$C$6)*1.36136","v":32.186813362704001},"Controlled OD (SCH80) Schedule Pipe","ASTM D1785"]
[null,null,null,null,{"$f":"ROW()","v":348},"PVC","IPS (SCH)",20,"20"," 120 psi   SCH 40",40,{"$f":"VLOOKUP(H348,Tables!$P$7:$S$29,IF(RAW!K348=120,4,IF(RAW!K348=80,3,2)),FALSE)","v":120},20,"OD",0.4,0.59299999999999997,7.0999999999999994E-2,{"$f":"VLOOKUP(F348,Tables!$G$5:$H$14,2,FALSE)*(M348-(P348+Q348*Tables!$C$6))*(P348+Q348*Tables!$C$6)*1.36136","v":23.204357852675997},"Controlled OD (SCH40) Schedule Pipe","ASTM D1785"]
[null,null,null,null,{"$f":"ROW()","v":349},"PVC","IPS (SCH)",20,"20"," 220 psi   SCH 80",80,{"$f":"VLOOKUP(H349,Tables!$P$7:$S$29,IF(RAW!K349=120,4,IF(RAW!K349=80,3,2)),FALSE)","v":220},20,"OD",0.4,1.0309999999999999,0.124,{"$f":"VLOOKUP(F349,Tables!$G$5:$H$14,2,FALSE)*(M349-(P349+Q349*Tables!$C$6))*(P349+Q349*Tables!$C$6)*1.36136","v":39.386175132303997},"Controlled OD (SCH80) Schedule Pipe","ASTM D1785"]
[null,null,null,null,{"$f":"ROW()","v":350},"PVC","IPS (SCH)",24,"24"," 120 psi   SCH 40",40,{"$f":"VLOOKUP(H350,Tables!$P$7:$S$29,IF(RAW!K350=120,4,IF(RAW!K350=80,3,2)),FALSE)","v":120},24,"OD",0.48,0.68700000000000006,8.2000000000000003E-2,{"$f":"VLOOKUP(F350,Tables!$G$5:$H$14,2,FALSE)*(M350-(P350+Q350*Tables!$C$6))*(P350+Q350*Tables!$C$6)*1.36136","v":32.289856062463997},"Controlled OD (SCH40) Schedule Pipe","ASTM D1785"]
[null,null,null,null,{"$f":"ROW()","v":351},"PVC","IPS (SCH)",24,"24"," 210 psi   SCH 80",80,{"$f":"VLOOKUP(H351,Tables!$P$7:$S$29,IF(RAW!K351=120,4,IF(RAW!K351=80,3,2)),FALSE)","v":210},24,"OD",0.48,1.218,0.14599999999999999,{"$f":"VLOOKUP(F351,Tables!$G$5:$H$14,2,FALSE)*(M351-(P351+Q351*Tables!$C$6))*(P351+Q351*Tables!$C$6)*1.36136","v":55.875995551375986},"Controlled OD (SCH80) Schedule Pipe","ASTM D1785"]
[null,null,null,1,{"$f":"ROW()","v":352},"PVC","PSM (DR)",3,"3",{"$f":"L352&\" psi   DR-\"&K352","v":"118 psi   DR-35"},35,{"$f":"VLOOKUP(K352,Tables!$C$17:$D$34,2,FALSE)","v":118},3.25,"OD",null,9.2999999999999999E-2,8.0000000000000002E-3,{"$f":"VLOOKUP(F352,Tables!$G$5:$H$14,2,FALSE)*(M352-(P352+Q352*Tables!$C$6))*(P352+Q352*Tables!$C$6)*1.36136","v":0.58290358526399999},{"$f":"\"Controlled OD (DR-\"&K352&\") Sewer Pipe\"","v":"Controlled OD (DR-35) Sewer Pipe"},"ASTM D3034"]
[null,null,null,null,{"$f":"ROW()","v":353},"PVC","PSM (DR)",3,"3","160 psi   DR-26",26,{"$f":"VLOOKUP(K353,Tables!$C$17:$D$34,2,FALSE)","v":160},3.25,"OD",null,0.125,8.0000000000000002E-3,{"$f":"VLOOKUP(F353,Tables!$G$5:$H$14,2,FALSE)*(M353-(P353+Q353*Tables!$C$6))*(P353+Q353*Tables!$C$6)*1.36136","v":0.76733410353599985},{"$f":"\"Controlled OD (DR-\"&K353&\") Sewer Pipe\"","v":"Controlled OD (DR-26) Sewer Pipe"},"ASTM D3034"]
[null,null,null,null,{"$f":"ROW()","v":354},"PVC","PSM (DR)",3,"3","178 psi   DR-23.5",23.5,{"$f":"VLOOKUP(K354,Tables!$C$17:$D$34,2,FALSE)","v":178},3.25,"OD",null,0.13800000000000001,8.0000000000000002E-3,{"$f":"VLOOKUP(F354,Tables!$G$5:$H$14,2,FALSE)*(M354-(P354+Q354*Tables!$C$6))*(P354+Q354*Tables!$C$6)*1.36136","v":0.84114404774399998},"Controlled OD (DR-23.5) Sewer Pipe","ASTM D3034"]
[null,null,null,null,{"$f":"ROW()","v":355},"PVC","PSM (DR)",4,"4","118 psi   DR-35",35,{"$f":"VLOOKUP(K355,Tables!$C$17:$D$34,2,FALSE)","v":118},4.2149999999999999,"OD",null,0.12,8.9999999999999993E-3,{"$f":"VLOOKUP(F355,Tables!$G$5:$H$14,2,FALSE)*(M355-(P355+Q355*Tables!$C$6))*(P355+Q355*Tables!$C$6)*1.36136","v":0.9706144888439997},"Controlled OD (DR-35) Sewer Pipe","ASTM D3034"]
[null,null,null,null,{"$f":"ROW()","v":356},"PVC","PSM (DR)",4,"4","160 psi   DR-26",26,{"$f":"VLOOKUP(K356,Tables!$C$17:$D$34,2,FALSE)","v":160},4.2149999999999999,"OD",null,0.16200000000000001,8.9999999999999993E-3,{"$f":"VLOOKUP(F356,Tables!$G$5:$H$14,2,FALSE)*(M356-(P356+Q356*Tables!$C$6))*(P356+Q356*Tables!$C$6)*1.36136","v":1.2847227152759999},"Controlled OD (DR-26) Sewer Pipe","ASTM D3034"]
[null,null,null,null,{"$f":"ROW()","v":357},"PVC","PSM (DR)",4,"4","178 psi   DR-23.5",23.5,{"$f":"VLOOKUP(K357,Tables!$C$17:$D$34,2,FALSE)","v":178},4.2149999999999999,"OD",null,0.17799999999999999,8.9999999999999993E-3,{"$f":"VLOOKUP(F357,Tables!$G$5:$H$14,2,FALSE)*(M357-(P357+Q357*Tables!$C$6))*(P357+Q357*Tables!$C$6)*1.36136","v":1.4026143130999997},"Controlled OD (DR-23.5) Sewer Pipe","ASTM D3034"]
[null,null,null,null,{"$f":"ROW()","v":358},"PVC","PSM (DR)",6,"6","100 psi   DR-41",41,{"$f":"VLOOKUP(K358,Tables!$C$17:$D$34,2,FALSE)","v":100},6.2750000000000004,"OD",null,0.153,1.0999999999999999E-2,{"$f":"VLOOKUP(F358,Tables!$G$5:$H$14,2,FALSE)*(M358-(P358+Q358*Tables!$C$6))*(P358+Q358*Tables!$C$6)*1.36136","v":1.8477076978360001},"Controlled OD (DR-41) Sewer Pipe","ASTM D3034"]
[null,null,null,null,{"$f":"ROW()","v":359},"PVC","PSM (DR)",6,"6","118 psi   DR-35",35,{"$f":"VLOOKUP(K359,Tables!$C$17:$D$34,2,FALSE)","v":118},6.2750000000000004,"OD",null,0.18,1.0999999999999999E-2,{"$f":"VLOOKUP(F359,Tables!$G$5:$H$14,2,FALSE)*(M359-(P359+Q359*Tables!$C$6))*(P359+Q359*Tables!$C$6)*1.36136","v":2.1529134466839999},"Controlled OD (DR-35) Sewer Pipe","ASTM D3034"]
[null,null,null,null,{"$f":"ROW()","v":360},"PVC","PSM (DR)",6,"6","160 psi   DR-26",26,{"$f":"VLOOKUP(K360,Tables!$C$17:$D$34,2,FALSE)","v":160},6.2750000000000004,"OD",null,0.24099999999999999,1.0999999999999999E-2,{"$f":"VLOOKUP(F360,Tables!$G$5:$H$14,2,FALSE)*(M360-(P360+Q360*Tables!$C$6))*(P360+Q360*Tables!$C$6)*1.36136","v":2.8322214680759998},"Controlled OD (DR-26) Sewer Pipe","ASTM D3034"]
[null,null,null,null,{"$f":"ROW()","v":361},"PVC","PSM (DR)",6,"6","178 psi   DR-23.5",23.5,{"$f":"VLOOKUP(K361,Tables!$C$17:$D$34,2,FALSE)","v":178},6.2750000000000004,"OD",null,0.26500000000000001,1.0999999999999999E-2,{"$f":"VLOOKUP(F361,Tables!$G$5:$H$14,2,FALSE)*(M361-(P361+Q361*Tables!$C$6))*(P361+Q361*Tables!$C$6)*1.36136","v":3.0956021536439997},"Controlled OD (DR-23.5) Sewer Pipe","ASTM D3034"]
[null,null,null,null,{"$f":"ROW()","v":362},"PVC","PSM (DR)",8,"8","100 psi   DR-41",41,{"$f":"VLOOKUP(K362,Tables!$C$17:$D$34,2,FALSE)","v":100},8.4,"OD",null,0.20499999999999999,1.2E-2,{"$f":"VLOOKUP(F362,Tables!$G$5:$H$14,2,FALSE)*(M362-(P362+Q362*Tables!$C$6))*(P362+Q362*Tables!$C$6)*1.36136","v":3.2931714976159991},"Controlled OD (DR-41) Sewer Pipe","ASTM D3034"]
[null,null,null,null,{"$f":"ROW()","v":363},"PVC","PSM (DR)",8,"8","118 psi   DR-35",35,{"$f":"VLOOKUP(K363,Tables!$C$17:$D$34,2,FALSE)","v":118},8.4,"OD",null,0.24,1.2E-2,{"$f":"VLOOKUP(F363,Tables!$G$5:$H$14,2,FALSE)*(M363-(P363+Q363*Tables!$C$6))*(P363+Q363*Tables!$C$6)*1.36136","v":3.8230223391359996},"Controlled OD (DR-35) Sewer Pipe","ASTM D3034"]
[null,null,null,null,{"$f":"ROW()","v":364},"PVC","PSM (DR)",8,"8","160 psi   DR-26",26,{"$f":"VLOOKUP(K364,Tables!$C$17:$D$34,2,FALSE)","v":160},8.4,"OD",null,0.32300000000000001,1.2E-2,{"$f":"VLOOKUP(F364,Tables!$G$5:$H$14,2,FALSE)*(M364-(P364+Q364*Tables!$C$6))*(P364+Q364*Tables!$C$6)*1.36136","v":5.0608593395359991},"Controlled OD (DR-26) Sewer Pipe","ASTM D3034"]
[null,null,null,null,{"$f":"ROW()","v":365},"PVC","PSM (DR)",10,"10","100 psi   DR-41",41,{"$f":"VLOOKUP(K365,Tables!$C$17:$D$34,2,FALSE)","v":100},10.5,"OD",null,0.25600000000000001,1.4999999999999999E-2,{"$f":"VLOOKUP(F365,Tables!$G$5:$H$14,2,FALSE)*(M365-(P365+Q365*Tables!$C$6))*(P365+Q365*Tables!$C$6)*1.36136","v":5.1408286889959989},"Controlled OD (DR-41) Sewer Pipe","ASTM D3034"]
[null,null,null,null,{"$f":"ROW()","v":366},"PVC","PSM (DR)",10,"10","118 psi   DR-35",35,{"$f":"VLOOKUP(K366,Tables!$C$17:$D$34,2,FALSE)","v":118},10.5,"OD",null,0.3,1.4999999999999999E-2,{"$f":"VLOOKUP(F366,Tables!$G$5:$H$14,2,FALSE)*(M366-(P366+Q366*Tables!$C$6))*(P366+Q366*Tables!$C$6)*1.36136","v":5.9734724048999999},"Controlled OD (DR-35) Sewer Pipe","ASTM D3034"]
[null,null,null,null,{"$f":"ROW()","v":367},"PVC","PSM (DR)",10,"10","160 psi   DR-26",26,{"$f":"VLOOKUP(K367,Tables!$C$17:$D$34,2,FALSE)","v":160},10.5,"OD",null,0.40400000000000003,1.4999999999999999E-2,{"$f":"VLOOKUP(F367,Tables!$G$5:$H$14,2,FALSE)*(M367-(P367+Q367*Tables!$C$6))*(P367+Q367*Tables!$C$6)*1.36136","v":7.9122036953959993},"Controlled OD (DR-26) Sewer Pipe","ASTM D3034"]
[null,null,null,null,{"$f":"ROW()","v":368},"PVC","PSM (DR)",12,"12","100 psi   DR-41",41,{"$f":"VLOOKUP(K368,Tables!$C$17:$D$34,2,FALSE)","v":100},12.5,"OD",null,0.30499999999999999,1.7999999999999999E-2,{"$f":"VLOOKUP(F368,Tables!$G$5:$H$14,2,FALSE)*(M368-(P368+Q368*Tables!$C$6))*(P368+Q368*Tables!$C$6)*1.36136","v":7.292758689215999},"Controlled OD (DR-41) Sewer Pipe","ASTM D3034"]
[null,null,null,null,{"$f":"ROW()","v":369},"PVC","PSM (DR)",12,"12","118 psi   DR-35",35,{"$f":"VLOOKUP(K369,Tables!$C$17:$D$34,2,FALSE)","v":118},12.5,"OD",null,0.36,1.7999999999999999E-2,{"$f":"VLOOKUP(F369,Tables!$G$5:$H$14,2,FALSE)*(M369-(P369+Q369*Tables!$C$6))*(P369+Q369*Tables!$C$6)*1.36136","v":8.5314724054559985},"Controlled OD (DR-35) Sewer Pipe","ASTM D3034"]
[null,null,null,null,{"$f":"ROW()","v":370},"PVC","PSM (DR)",12,"12","160 psi   DR-26",26,{"$f":"VLOOKUP(K370,Tables!$C$17:$D$34,2,FALSE)","v":160},12.5,"OD",null,0.48099999999999998,1.7999999999999999E-2,{"$f":"VLOOKUP(F370,Tables!$G$5:$H$14,2,FALSE)*(M370-(P370+Q370*Tables!$C$6))*(P370+Q370*Tables!$C$6)*1.36136","v":11.2160544496},"Controlled OD (DR-26) Sewer Pipe","ASTM D3034"]
[null,null,null,null,{"$f":"ROW()","v":371},"PVC","PSM (DR)",15,"15","100 psi   DR-41",41,{"$f":"VLOOKUP(K371,Tables!$C$17:$D$34,2,FALSE)","v":100},15.3,"OD",null,0.375,2.3E-2,{"$f":"VLOOKUP(F371,Tables!$G$5:$H$14,2,FALSE)*(M371-(P371+Q371*Tables!$C$6))*(P371+Q371*Tables!$C$6)*1.36136","v":10.985759780996},"Controlled OD (DR-41) Sewer Pipe","ASTM D3034"]
[null,null,null,null,{"$f":"ROW()","v":372},"PVC","PSM (DR)",15,"15","118 psi   DR-35",35,{"$f":"VLOOKUP(K372,Tables!$C$17:$D$34,2,FALSE)","v":118},15.3,"OD",null,0.437,2.3E-2,{"$f":"VLOOKUP(F372,Tables!$G$5:$H$14,2,FALSE)*(M372-(P372+Q372*Tables!$C$6))*(P372+Q372*Tables!$C$6)*1.36136","v":12.695031665316},"Controlled OD (DR-35) Sewer Pipe","ASTM D3034"]
[null,null,null,null,{"$f":"ROW()","v":373},"PVC","PSM (DR)",15,"15","160 psi   DR-26",26,{"$f":"VLOOKUP(K373,Tables!$C$17:$D$34,2,FALSE)","v":160},15.3,"OD",null,0.58799999999999997,2.3E-2,{"$f":"VLOOKUP(F373,Tables!$G$5:$H$14,2,FALSE)*(M373-(P373+Q373*Tables!$C$6))*(P373+Q373*Tables!$C$6)*1.36136","v":16.796636180323997},"Controlled OD (DR-26) Sewer Pipe","ASTM D3034"]
[null,null,null,1,{"$f":"ROW()","v":374},"PVC","PIP (Gated)",6,"6",{"$f":"\"Heavy Wall 30' - WT = \"&K374","v":"Heavy Wall 30' - WT = 0.12"},0.12,"Gated",6,"OD",null,0.12,null,1.54,"Heavy wall 30 foot section","ASTM D2241"]
[null,null,null,null,{"$f":"ROW()","v":375},"PVC","PIP (Gated)",8,"8",{"$f":"\"Heavy Wall 30' - WT = \"&K375","v":"Heavy Wall 30' - WT = 0.12"},0.12,"Gated",8,"OD",null,0.12,null,2.06,"Heavy wall 30 foot section","ASTM D2241"]
[null,null,null,null,{"$f":"ROW()","v":376},"PVC","PIP (Gated)",10,"10","Heavy Wall 30' - WT = 0.12",0.12,"Gated",10,"OD",null,0.12,null,2.59,"Heavy wall 30 foot section","ASTM D2241"]
[null,null,null,null,{"$f":"ROW()","v":377},"PVC","PIP (Gated)",12,"12","Heavy Wall 30' - WT = 0.12",0.12,"Gated",12,"OD",null,0.12,null,3.11,"Heavy wall 30 foot section","ASTM D2241"]
[null,null,null,null,{"$f":"ROW()","v":378},"PVC","PIP (Gated)",6,"6",{"$f":"\"Light Wall 30' - WT = \"&K378","v":"Light Wall 30' - WT = 0.09"},0.09,"Gated",6,"OD",null,0.09,null,1.1599999999999999,"Light wall 30 foot section","ASTM D2241"]
[null,null,null,null,{"$f":"ROW()","v":379},"PVC","PIP (Gated)",8,"8",{"$f":"\"Light Wall 30' - WT = \"&K379","v":"Light Wall 30' - WT = 0.1"},0.1,"Gated",8,"OD",null,0.1,null,1.72,"Light wall 30 foot section","ASTM D2241"]
[null,null,null,null,{"$f":"ROW()","v":380},"PVC","PIP (Gated)",10,"10","Light Wall 30' - WT = 0.11",0.11,"Gated",10,"OD",null,0.11,null,2.37,"Light wall 30 foot section","ASTM D2241"]
[null,null,null,null,{"$f":"ROW()","v":381},"PVC","PIP (Gated)",6,"6",{"$f":"\"Light Wall 20' - WT = \"&K381","v":"Light Wall 20' - WT = 0.09"},0.09,"Gated",6,"OD",null,0.09,null,1.18,"Light wall 20 foot section","ASTM D2241"]
[null,null,null,null,{"$f":"ROW()","v":382},"PVC","PIP (Gated)",8,"8",{"$f":"\"Light Wall 20' - WT = \"&K382","v":"Light Wall 20' - WT = 0.1"},0.1,"Gated",8,"OD",null,0.1,null,1.75,"Light wall 20 foot section","ASTM D2241"]
[null,null,null,1,{"$f":"ROW()","v":383},"PVC (Layflat)","Layflat",0.75,0.75,{"$f":"L383&\" psi    WT = \"&ROUND(P383,3)","v":"140 psi    WT = 0.048"},null,140,0.79,"ID"," ",4.8000000000000001E-2,null,0.08,"Layflat Pipe (PVC) - WT=0.048","MFR Layflat (PVC)"]
[null,null,null,null,{"$f":"ROW()","v":384},"PVC (Layflat)","Layflat",1,1,{"$f":"L384&\" psi    WT = \"&ROUND(P384,3)","v":"110 psi    WT = 0.052"},null,110,1.04,"ID"," ",5.1999999999999998E-2,null,0.11,"Layflat Pipe (PVC) - WT=0.052","MFR Layflat (PVC)"]
[null,null,null,null,{"$f":"ROW()","v":385},"PVC (Layflat)","Layflat",1.25,1.25,{"$f":"\" \"&L385&\" psi    WT = \"&ROUND(P385,3)","v":" 80 psi    WT = 0.056"},null,80,1.3,"ID"," ",5.6000000000000001E-2,null,0.14000000000000001,"Layflat Pipe (PVC) - WT=0.056","MFR Layflat (PVC)"]
[null,null,null,null,{"$f":"ROW()","v":386},"PVC (Layflat)","Layflat",1.5,1.5,{"$f":"\" \"&L386&\" psi    WT = \"&ROUND(P386,3)","v":" 80 psi    WT = 0.059"},null,80,1.61,"ID"," ",5.8999999999999997E-2,null,0.19,"Layflat Pipe (PVC) - WT=0.059","MFR Layflat (PVC)"]
[null,null,null,null,{"$f":"ROW()","v":387},"PVC (Layflat)","Layflat",2,2," 80 psi    WT = 0.059",null,80,2.09,"ID"," ",5.8999999999999997E-2,null,0.25,"Layflat Pipe (PVC) - WT=0.059","MFR Layflat (PVC)"]
[null,null,null,null,{"$f":"ROW()","v":388},"PVC (Layflat)","Layflat",2.5,2.5," 65 psi    WT = 0.059",null,65,2.56,"ID"," ",5.8999999999999997E-2,null,0.3,"Layflat Pipe (PVC) - WT=0.059","MFR Layflat (PVC)"]
[null,null,null,null,{"$f":"ROW()","v":389},"PVC (Layflat)","Layflat",3,3," 80 psi    WT = 0.063",null,80,3.07,"ID"," ",6.3E-2,null,0.36,"Layflat Pipe (PVC) - WT=0.063","MFR Layflat (PVC)"]
[null,null,null,null,{"$f":"ROW()","v":390},"PVC (Layflat)","Layflat",4,4," 70 psi    WT = 0.067",null,70,4.13,"ID"," ",6.7000000000000004E-2,null,0.53,"Layflat Pipe (PVC) - WT=0.067","MFR Layflat (PVC)"]
[null,null,null,null,{"$f":"ROW()","v":391},"PVC (Layflat)","Layflat",5,5," 40 psi    WT = 0.071",null,40,5.07,"ID"," ",7.0999999999999994E-2,null,0.64,"Layflat Pipe (PVC) - WT=0.071","MFR Layflat (PVC)"]
[null,null,null,null,{"$f":"ROW()","v":392},"PVC (Layflat)","Layflat",6,6," 60 psi    WT = 0.075",null,60,6.16,"ID"," ",7.4999999999999997E-2,null,0.87,"Layflat Pipe (PVC) - WT=0.075","MFR Layflat (PVC)"]
[null,null,null,null,{"$f":"ROW()","v":393},"PVC (Layflat)","Layflat",8,8," 35 psi    WT = 0.087",null,35,8.15,"ID"," ",8.6999999999999994E-2,null,1.3,"Layflat Pipe (PVC) - WT=0.087","MFR Layflat (PVC)"]
[null,null,null,null,{"$f":"ROW()","v":394},"PVC (Layflat)","Layflat",10,10," 35 psi    WT = 0.111",null,35,10.199999999999999,"ID"," ",0.111,null,1.88,"Layflat Pipe (PVC) - WT=0.111","MFR Layflat (PVC)"]
[null,null,null,null,{"$f":"ROW()","v":395},"PVC (Layflat)","Layflat",12,12," 35 psi    WT = 0.118",null,35,12.13,"ID"," ",0.11799999999999999,null,2.44,"Layflat Pipe (PVC) - WT=0.118","MFR Layflat (PVC)"]
[null,null,null,null,{"$f":"ROW()","v":396},"PVC (Layflat)","Layflat",14,14," 30 psi    WT = 0.118",null,30,14.14,"ID"," ",0.11799999999999999,null,2.7,"Layflat Pipe (PVC) - WT=0.118","MFR Layflat (PVC)"]
[null,null,null,null,{"$f":"ROW()","v":397},"PVC (Layflat)","Layflat",16,16," 30 psi    WT = 0.118",null,30,16.14,"ID"," ",0.11799999999999999,null,3.08,"Layflat Pipe (PVC) - WT=0.118","MFR Layflat (PVC)"]
[null,null,null,null,{"$f":"ROW()","v":398},"PVC (Layflat)","Layflat",0.75,0.75,{"$f":"L398&\" psi    WT = \"&ROUND(P398,3)","v":"105 psi    WT = 0.053"},null,105,0.75,"ID"," ",5.2999999999999999E-2,null,7.3999999999999996E-2,"Layflat Pipe (PVC) - WT=0.053","MFR Layflat (PVC1)"]
[null,null,null,null,{"$f":"ROW()","v":399},"PVC (Layflat)","Layflat",1,1,"105 psi    WT = 0.051",null,105,1,"ID"," ",5.0999999999999997E-2,null,0.108,"Layflat Pipe (PVC) - WT=0.051","MFR Layflat (PVC1)"]
[null,null,null,null,{"$f":"ROW()","v":400},"PVC (Layflat)","Layflat",1.25,1.25,"105 psi    WT = 0.047",null,105,1.25,"ID"," ",4.7E-2,null,0.128,"Layflat Pipe (PVC) - WT=0.047","MFR Layflat (PVC1)"]
[null,null,null,null,{"$f":"ROW()","v":401},"PVC (Layflat)","Layflat",1.5,1.5,"150 psi    WT = 0.079",null,150,1.61,"ID"," ",7.9000000000000001E-2,null,0.26700000000000002,"Layflat Pipe (PVC) - WT=0.079","MFR Layflat (PVC)"]
[null,null,null,null,{"$f":"ROW()","v":402},"PVC (Layflat)","Layflat",2,2,"150 psi    WT = 0.087",null,150,2.09,"ID"," ",8.6999999999999994E-2,null,0.34300000000000003,"Layflat Pipe (PVC) - WT=0.087","MFR Layflat (PVC)"]
[null,null,null,null,{"$f":"ROW()","v":403},"PVC (Layflat)","Layflat",2.5,2.5,"150 psi    WT = 0.091",null,150,2.56,"ID"," ",9.0999999999999998E-2,null,0.41299999999999998,"Layflat Pipe (PVC) - WT=0.091","MFR Layflat (PVC)"]
[null,null,null,null,{"$f":"ROW()","v":404},"PVC (Layflat)","Layflat",3,3,"150 psi    WT = 0.095",null,150,3.07,"ID"," ",9.5000000000000001E-2,null,0.54700000000000004,"Layflat Pipe (PVC) - WT=0.095","MFR Layflat (PVC)"]
[null,null,null,null,{"$f":"ROW()","v":405},"PVC (Layflat)","Layflat",4,4,"150 psi    WT = 0.102",null,150,4.13,"ID"," ",0.10199999999999999,null,0.84699999999999998,"Layflat Pipe (PVC) - WT=0.102","MFR Layflat (PVC)"]
[null,null,null,null,{"$f":"ROW()","v":406},"PVC (Layflat)","Layflat",5,5,{"$f":"\" \"&L406&\" psi    WT = \"&ROUND(P406,3)","v":" 90 psi    WT = 0.079"},null,90,5,"ID"," ",7.9000000000000001E-2,null,0.72599999999999998,"Layflat Pipe (PVC) - WT=0.079","MFR Layflat (PVC1)"]
[null,null,null,null,{"$f":"ROW()","v":407},"PVC (Layflat)","Layflat",6,6,{"$f":"L407&\" psi    WT = \"&ROUND(P407,3)","v":"150 psi    WT = 0.119"},null,150,6.18,"ID"," ",0.11899999999999999,null,1.333,"Layflat Pipe (PVC) - WT=0.119","MFR Layflat (PVC)"]
[null,null,null,null,{"$f":"ROW()","v":408},"PVC (Layflat)","Layflat",8,8,{"$f":"\" \"&L408&\" psi    WT = \"&ROUND(P408,3)","v":" 90 psi    WT = 0.102"},null,90,8,"ID"," ",0.10199999999999999,null,1.478,"Layflat Pipe (PVC) - WT=0.102","MFR Layflat (PVC1)"]
[null,null,null,null,{"$f":"ROW()","v":409},"PVC (Layflat)","Layflat",0.75,0.75,{"$f":"L409&\" psi    WT = \"&ROUND(P409,3)","v":"250 psi    WT = 0.11"},null,250,0.75,"ID"," ",0.11,null,0.1,"Layflat Pipe (PVC) - WT=0.11","MFR Layflat (PVC)"]
[null,null,null,null,{"$f":"ROW()","v":410},"PVC (Layflat)","Layflat",1,1,"250 psi    WT = 0.11",null,250,1,"ID"," ",0.11,null,0.14000000000000001,"Layflat Pipe (PVC) - WT=0.11","MFR Layflat (PVC)"]
[null,null,null,null,{"$f":"ROW()","v":411},"PVC (Layflat)","Layflat",1.25,1.25,"150 psi    WT = 0.059",null,150,1.25,"ID"," ",5.8999999999999997E-2,null,0.14099999999999999,"Layflat Pipe (PVC) - WT=0.059","MFR Layflat (PVC1)"]
[null,null,null,null,{"$f":"ROW()","v":412},"PVC (Layflat)","Layflat",1.5,1.5,"250 psi    WT = 0.11",null,250,1.5,"ID"," ",0.11,null,0.26,"Layflat Pipe (PVC) - WT=0.11","MFR Layflat (PVC)"]
[null,null,null,null,{"$f":"ROW()","v":413},"PVC (Layflat)","Layflat",2,2,"250 psi    WT = 0.11",null,250,2,"ID"," ",0.11,null,0.34,"Layflat Pipe (PVC) - WT=0.11","MFR Layflat (PVC)"]
[null,null,null,null,{"$f":"ROW()","v":414},"PVC (Layflat)","Layflat",2.5,2.5,"250 psi    WT = 0.11",null,250,2.5,"ID"," ",0.11,null,0.47,"Layflat Pipe (PVC) - WT=0.11","MFR Layflat (PVC)"]
[null,null,null,null,{"$f":"ROW()","v":415},"PVC (Layflat)","Layflat",3,3,"250 psi    WT = 0.11",null,250,3,"ID"," ",0.11,null,0.65,"Layflat Pipe (PVC) - WT=0.11","MFR Layflat (PVC)"]
[null,null,null,null,{"$f":"ROW()","v":416},"PVC (Layflat)","Layflat",4,4,"250 psi    WT = 0.11",null,250,4,"ID"," ",0.11,null,0.83,"Layflat Pipe (PVC) - WT=0.11","MFR Layflat (PVC)"]
[null,null,null,null,{"$f":"ROW()","v":417},"PVC (Layflat)","Layflat",6,6,"150 psi    WT = 0.11",null,150,6,"ID"," ",0.11,null,1.6,"Layflat Pipe (PVC) - WT=0.11","MFR Layflat (PVC)"]
[null,null,null,null,{"$f":"ROW()","v":418},"PVC (Layflat)","Layflat",8,8,{"$f":"\" \"&L418&\" psi    WT = \"&ROUND(P418,3)","v":" 90 psi    WT = 0.126"},null,90,8,"ID"," ",0.126,null,1.8819999999999999,"Layflat Pipe (PVC) - WT=0.126","MFR Layflat (PVC1)"]
[null,null,null,1,{"$f":"ROW()","v":419},"PE (Layflat)","Layflat",2,2,{"$f":"L419&\"     WT = \"&P419","v":"6 mil     WT = 0.006"},null,"6 mil",2,"ID",null,6.0000000000000001E-3,null,1.4999999999999999E-2,"Layflat Pipe (PE) - WT=0.006","MFR Layflat (PE)"]
[null,null,null,null,{"$f":"ROW()","v":420},"PE (Layflat)","Layflat",3,3,{"$f":"L420&\"     WT = \"&P420","v":"6 mil     WT = 0.006"},null,"6 mil",3,"ID",null,6.0000000000000001E-3,null,2.3E-2,"Layflat Pipe (PE) - WT=0.006","MFR Layflat (PE)"]
[null,null,null,null,{"$f":"ROW()","v":421},"PE (Layflat)","Layflat",4,4,"6 mil     WT = 0.006",null,"6 mil",4,"ID",null,6.0000000000000001E-3,null,0.03,"Layflat Pipe (PE) - WT=0.006","MFR Layflat (PE)"]
[null,null,null,null,{"$f":"ROW()","v":422},"PE (Layflat)","Layflat",5,5,"6 mil     WT = 0.006",null,"6 mil",5,"ID",null,6.0000000000000001E-3,null,3.7999999999999999E-2,"Layflat Pipe (PE) - WT=0.006","MFR Layflat (PE)"]
[null,null,null,null,{"$f":"ROW()","v":423},"PE (Layflat)","Layflat",6,6,"6 mil     WT = 0.006",null,"6 mil",6,"ID",null,6.0000000000000001E-3,null,4.4999999999999998E-2,"Layflat Pipe (PE) - WT=0.006","MFR Layflat (PE)"]
[null,null,null,null,{"$f":"ROW()","v":424},"PE (Layflat)","Layflat",7,7,"6 mil     WT = 0.006",null,"6 mil",7,"ID",null,6.0000000000000001E-3,null,5.2999999999999999E-2,"Layflat Pipe (PE) - WT=0.006","MFR Layflat (PE)"]
[null,null,null,null,{"$f":"ROW()","v":425},"PE (Layflat)","Layflat",8,8,"6 mil     WT = 0.006",null,"6 mil",8,"ID",null,6.0000000000000001E-3,null,0.06,"Layflat Pipe (PE) - WT=0.006","MFR Layflat (PE)"]
[null,null,null,null,{"$f":"ROW()","v":426},"PE (Layflat)","Layflat",9,9,"6 mil     WT = 0.006",null,"6 mil",9,"ID",null,6.0000000000000001E-3,null,6.8000000000000005E-2,"Layflat Pipe (PE) - WT=0.006","MFR Layflat (PE)"]
[null,null,null,null,{"$f":"ROW()","v":427},"PE (Layflat)","Layflat",10,10,"6 mil     WT = 0.006",null,"6 mil",10,"ID",null,6.0000000000000001E-3,null,7.4999999999999997E-2,"Layflat Pipe (PE) - WT=0.006","MFR Layflat (PE)"]
[null,null,null,null,{"$f":"ROW()","v":428},"PE (Layflat)","Layflat",12,12,"6 mil     WT = 0.006",null,"6 mil",12,"ID",null,6.0000000000000001E-3,null,0.09,"Layflat Pipe (PE) - WT=0.006","MFR Layflat (PE)"]
[null,null,null,null,{"$f":"ROW()","v":429},"PE (Layflat)","Layflat",15,15,"6 mil     WT = 0.006",null,"6 mil",15,"ID",null,6.0000000000000001E-3,null,0.113,"Layflat Pipe (PE) - WT=0.006","MFR Layflat (PE)"]
[null,null,null,null,{"$f":"ROW()","v":430},"PE (Layflat)","Layflat",18,18,"6 mil     WT = 0.006",null,"6 mil",18,"ID",null,6.0000000000000001E-3,null,0.13600000000000001,"Layflat Pipe (PE) - WT=0.006","MFR Layflat (PE)"]
[null,null,null,null,{"$f":"ROW()","v":431},"PE (Layflat)","Layflat",21,21,"6 mil     WT = 0.006",null,"6 mil",21,"ID",null,6.0000000000000001E-3,null,0.158,"Layflat Pipe (PE) - WT=0.006","MFR Layflat (PE)"]
[null,null,null,null,{"$f":"ROW()","v":432},"PE (Layflat)","Layflat",24,24,"6 mil     WT = 0.006",null,"6 mil",24,"ID",null,6.0000000000000001E-3,null,0.18099999999999999,"Layflat Pipe (PE) - WT=0.006","MFR Layflat (PE)"]
[null,null,null,null,{"$f":"ROW()","v":433},"PE (Layflat)","Layflat",2,2,"7 mil     WT = 0.007",null,"7 mil",2,"ID",null,7.0000000000000001E-3,null,1.7999999999999999E-2,"Layflat Pipe (PE) - WT=0.007","MFR Layflat (PE)"]
[null,null,null,null,{"$f":"ROW()","v":434},"PE (Layflat)","Layflat",3,3,"7 mil     WT = 0.007",null,"7 mil",3,"ID",null,7.0000000000000001E-3,null,2.5999999999999999E-2,"Layflat Pipe (PE) - WT=0.007","MFR Layflat (PE)"]
[null,null,null,null,{"$f":"ROW()","v":435},"PE (Layflat)","Layflat",4,4,"7 mil     WT = 0.007",null,"7 mil",4,"ID",null,7.0000000000000001E-3,null,3.5000000000000003E-2,"Layflat Pipe (PE) - WT=0.007","MFR Layflat (PE)"]
[null,null,null,null,{"$f":"ROW()","v":436},"PE (Layflat)","Layflat",5,5,"7 mil     WT = 0.007",null,"7 mil",5,"ID",null,7.0000000000000001E-3,null,4.3999999999999997E-2,"Layflat Pipe (PE) - WT=0.007","MFR Layflat (PE)"]
[null,null,null,null,{"$f":"ROW()","v":437},"PE (Layflat)","Layflat",6,6,"7 mil     WT = 0.007",null,"7 mil",6,"ID",null,7.0000000000000001E-3,null,5.2999999999999999E-2,"Layflat Pipe (PE) - WT=0.007","MFR Layflat (PE)"]
[null,null,null,null,{"$f":"ROW()","v":438},"PE (Layflat)","Layflat",7,7,"7 mil     WT = 0.007",null,"7 mil",7,"ID",null,7.0000000000000001E-3,null,6.2E-2,"Layflat Pipe (PE) - WT=0.007","MFR Layflat (PE)"]
[null,null,null,null,{"$f":"ROW()","v":439},"PE (Layflat)","Layflat",8,8,"7 mil     WT = 0.007",null,"7 mil",8,"ID",null,7.0000000000000001E-3,null,7.0000000000000007E-2,"Layflat Pipe (PE) - WT=0.007","MFR Layflat (PE)"]
[null,null,null,null,{"$f":"ROW()","v":440},"PE (Layflat)","Layflat",9,9,"7 mil     WT = 0.007",null,"7 mil",9,"ID",null,7.0000000000000001E-3,null,7.9000000000000001E-2,"Layflat Pipe (PE) - WT=0.007","MFR Layflat (PE)"]
[null,null,null,null,{"$f":"ROW()","v":441},"PE (Layflat)","Layflat",10,10,"7 mil     WT = 0.007",null,"7 mil",10,"ID",null,7.0000000000000001E-3,null,8.7999999999999995E-2,"Layflat Pipe (PE) - WT=0.007","MFR Layflat (PE)"]
[null,null,null,null,{"$f":"ROW()","v":442},"PE (Layflat)","Layflat",12,12,"7 mil     WT = 0.007",null,"7 mil",12,"ID",null,7.0000000000000001E-3,null,0.106,"Layflat Pipe (PE) - WT=0.007","MFR Layflat (PE)"]
[null,null,null,null,{"$f":"ROW()","v":443},"PE (Layflat)","Layflat",15,15,"7 mil     WT = 0.007",null,"7 mil",15,"ID",null,7.0000000000000001E-3,null,0.13200000000000001,"Layflat Pipe (PE) - WT=0.007","MFR Layflat (PE)"]
[null,null,null,null,{"$f":"ROW()","v":444},"PE (Layflat)","Layflat",18,18,"7 mil     WT = 0.007",null,"7 mil",18,"ID",null,7.0000000000000001E-3,null,0.158,"Layflat Pipe (PE) - WT=0.007","MFR Layflat (PE)"]
[null,null,null,null,{"$f":"ROW()","v":445},"PE (Layflat)","Layflat",21,21,"7 mil     WT = 0.007",null,"7 mil",21,"ID",null,7.0000000000000001E-3,null,0.185,"Layflat Pipe (PE) - WT=0.007","MFR Layflat (PE)"]
[null,null,null,null,{"$f":"ROW()","v":446},"PE (Layflat)","Layflat",24,24,"7 mil     WT = 0.007",null,"7 mil",24,"ID",null,7.0000000000000001E-3,null,0.21099999999999999,"Layflat Pipe (PE) - WT=0.007","MFR Layflat (PE)"]
[null,null,null,null,{"$f":"ROW()","v":447},"PE (Layflat)","Layflat",2,2,"8 mil     WT = 0.008",null,"8 mil",2,"ID",null,8.0000000000000002E-3,null,0.02,"Layflat Pipe (PE) - WT=0.008","MFR Layflat (PE)"]
[null,null,null,null,{"$f":"ROW()","v":448},"PE (Layflat)","Layflat",3,3,"8 mil     WT = 0.008",null,"8 mil",3,"ID",null,8.0000000000000002E-3,null,0.03,"Layflat Pipe (PE) - WT=0.008","MFR Layflat (PE)"]
[null,null,null,null,{"$f":"ROW()","v":449},"PE (Layflat)","Layflat",4,4,"8 mil     WT = 0.008",null,"8 mil",4,"ID",null,8.0000000000000002E-3,null,0.04,"Layflat Pipe (PE) - WT=0.008","MFR Layflat (PE)"]
[null,null,null,null,{"$f":"ROW()","v":450},"PE (Layflat)","Layflat",5,5,"8 mil     WT = 0.008",null,"8 mil",5,"ID",null,8.0000000000000002E-3,null,0.05,"Layflat Pipe (PE) - WT=0.008","MFR Layflat (PE)"]
[null,null,null,null,{"$f":"ROW()","v":451},"PE (Layflat)","Layflat",6,6,"8 mil     WT = 0.008",null,"8 mil",6,"ID",null,8.0000000000000002E-3,null,0.06,"Layflat Pipe (PE) - WT=0.008","MFR Layflat (PE)"]
[null,null,null,null,{"$f":"ROW()","v":452},"PE (Layflat)","Layflat",7,7,"8 mil     WT = 0.008",null,"8 mil",7,"ID",null,8.0000000000000002E-3,null,7.0000000000000007E-2,"Layflat Pipe (PE) - WT=0.008","MFR Layflat (PE)"]
[null,null,null,null,{"$f":"ROW()","v":453},"PE (Layflat)","Layflat",8,8,"8 mil     WT = 0.008",null,"8 mil",8,"ID",null,8.0000000000000002E-3,null,0.08,"Layflat Pipe (PE) - WT=0.008","MFR Layflat (PE)"]
[null,null,null,null,{"$f":"ROW()","v":454},"PE (Layflat)","Layflat",9,9,"8 mil     WT = 0.008",null,"8 mil",9,"ID",null,8.0000000000000002E-3,null,0.09,"Layflat Pipe (PE) - WT=0.008","MFR Layflat (PE)"]
[null,null,null,null,{"$f":"ROW()","v":455},"PE (Layflat)","Layflat",10,10,"8 mil     WT = 0.008",null,"8 mil",10,"ID",null,8.0000000000000002E-3,null,0.10100000000000001,"Layflat Pipe (PE) - WT=0.008","MFR Layflat (PE)"]
[null,null,null,null,{"$f":"ROW()","v":456},"PE (Layflat)","Layflat",12,12,"8 mil     WT = 0.008",null,"8 mil",12,"ID",null,8.0000000000000002E-3,null,0.121,"Layflat Pipe (PE) - WT=0.008","MFR Layflat (PE)"]
[null,null,null,null,{"$f":"ROW()","v":457},"PE (Layflat)","Layflat",15,15,"8 mil     WT = 0.008",null,"8 mil",15,"ID",null,8.0000000000000002E-3,null,0.151,"Layflat Pipe (PE) - WT=0.008","MFR Layflat (PE)"]
[null,null,null,null,{"$f":"ROW()","v":458},"PE (Layflat)","Layflat",18,18,"8 mil     WT = 0.008",null,"8 mil",18,"ID",null,8.0000000000000002E-3,null,0.18099999999999999,"Layflat Pipe (PE) - WT=0.008","MFR Layflat (PE)"]
[null,null,null,null,{"$f":"ROW()","v":459},"PE (Layflat)","Layflat",21,21,"8 mil     WT = 0.008",null,"8 mil",21,"ID",null,8.0000000000000002E-3,null,0.21099999999999999,"Layflat Pipe (PE) - WT=0.008","MFR Layflat (PE)"]
[null,null,null,null,{"$f":"ROW()","v":460},"PE (Layflat)","Layflat",24,24,"8 mil     WT = 0.008",null,"8 mil",24,"ID",null,8.0000000000000002E-3,null,0.24099999999999999,"Layflat Pipe (PE) - WT=0.008","MFR Layflat (PE)"]
[null,null,null,1,{"$f":"ROW()","v":461},"PE","CTS (Tubing)",0.5,"1/2",{"$f":"L461&\" psi   DR-\"&K461&\" - Tubing\"","v":"317 psi   DR-7.3 - Tubing"},7.3,{"$f":"VLOOKUP(K461,Tables!$C$42:$G$58,IF(Tables!$C$5=4710,IF(N461=\"ID\",5,3),IF(N461=\"ID\",4,2)),FALSE)","v":317},0.625,"OD",0.03,8.5999999999999993E-2,0.01,{"$f":"VLOOKUP(F461,Tables!$G$5:$H$14,2,FALSE)*(M461-(P461+Q461*Tables!$C$6))*(P461+Q461*Tables!$C$6)*1.36136","v":6.3375462870720004E-2},{"$f":"\"Controlled OD (DR-\"&K461&\") Copper Tubing Size\"","v":"Controlled OD (DR-7.3) Copper Tubing Size"},"ASTM D2737"]
[null,null,null,null,{"$f":"ROW()","v":462},"PE","CTS (Tubing)",0.5,"1/2",{"$f":"L462&\" psi   DR-\"&K462&\" - Tubing\"","v":"250 psi   DR-9 - Tubing"},9,{"$f":"VLOOKUP(K462,Tables!$C$42:$G$58,IF(Tables!$C$5=4710,IF(N462=\"ID\",5,3),IF(N462=\"ID\",4,2)),FALSE)","v":250},0.625,"OD",0.03,6.9000000000000006E-2,0.01,{"$f":"VLOOKUP(F462,Tables!$G$5:$H$14,2,FALSE)*(M462-(P462+Q462*Tables!$C$6))*(P462+Q462*Tables!$C$6)*1.36136","v":5.3176752749120003E-2},{"$f":"\"Controlled OD (DR-\"&K462&\") Copper Tubing Size\"","v":"Controlled OD (DR-9) Copper Tubing Size"},"ASTM D2737"]
[null,null,null,null,{"$f":"ROW()","v":463},"PE","CTS (Tubing)",0.5,"1/2","200 psi   DR-11 - Tubing",11,{"$f":"VLOOKUP(K463,Tables!$C$42:$G$58,IF(Tables!$C$5=4710,IF(N463=\"ID\",5,3),IF(N463=\"ID\",4,2)),FALSE)","v":200},0.625,"OD",0.03,6.2E-2,0.01,{"$f":"VLOOKUP(F463,Tables!$G$5:$H$14,2,FALSE)*(M463-(P463+Q463*Tables!$C$6))*(P463+Q463*Tables!$C$6)*1.36136","v":4.8758181151680006E-2},{"$f":"\"Controlled OD (DR-\"&K463&\") Copper Tubing Size\"","v":"Controlled OD (DR-11) Copper Tubing Size"},"ASTM D2737"]
[null,null,null,null,{"$f":"ROW()","v":464},"PE","CTS (Tubing)",0.625,"5/8","317 psi   DR-7.3 - Tubing",7.3,{"$f":"VLOOKUP(K464,Tables!$C$42:$G$58,IF(Tables!$C$5=4710,IF(N464=\"ID\",5,3),IF(N464=\"ID\",4,2)),FALSE)","v":317},0.75,"OD",0.03,0.10299999999999999,0.01,{"$f":"VLOOKUP(F464,Tables!$G$5:$H$14,2,FALSE)*(M464-(P464+Q464*Tables!$C$6))*(P464+Q464*Tables!$C$6)*1.36136","v":9.0426824167679998E-2},"Controlled OD (DR-7.3) Copper Tubing Size","ASTM D2737"]
[null,null,null,null,{"$f":"ROW()","v":465},"PE","CTS (Tubing)",0.625,"5/8","250 psi   DR-9 - Tubing",9,{"$f":"VLOOKUP(K465,Tables!$C$42:$G$58,IF(Tables!$C$5=4710,IF(N465=\"ID\",5,3),IF(N465=\"ID\",4,2)),FALSE)","v":250},0.75,"OD",0.03,8.3000000000000004E-2,0.01,{"$f":"VLOOKUP(F465,Tables!$G$5:$H$14,2,FALSE)*(M465-(P465+Q465*Tables!$C$6))*(P465+Q465*Tables!$C$6)*1.36136","v":7.5976477857279998E-2},"Controlled OD (DR-9) Copper Tubing Size","ASTM D2737"]
[null,null,null,null,{"$f":"ROW()","v":466},"PE","CTS (Tubing)",0.625,"5/8","200 psi   DR-11 - Tubing",11,{"$f":"VLOOKUP(K466,Tables!$C$42:$G$58,IF(Tables!$C$5=4710,IF(N466=\"ID\",5,3),IF(N466=\"ID\",4,2)),FALSE)","v":200},0.75,"OD",0.03,6.8000000000000005E-2,0.01,{"$f":"VLOOKUP(F466,Tables!$G$5:$H$14,2,FALSE)*(M466-(P466+Q466*Tables!$C$6))*(P466+Q466*Tables!$C$6)*1.36136","v":6.4454022112479997E-2},"Controlled OD (DR-11) Copper Tubing Size","ASTM D2737"]
[null,null,null,null,{"$f":"ROW()","v":467},"PE","CTS (Tubing)",0.75,"3/4","317 psi   DR-7.3 - Tubing",7.3,{"$f":"VLOOKUP(K467,Tables!$C$42:$G$58,IF(Tables!$C$5=4710,IF(N467=\"ID\",5,3),IF(N467=\"ID\",4,2)),FALSE)","v":317},0.875,"OD",0.03,0.12,1.2E-2,{"$f":"VLOOKUP(F467,Tables!$G$5:$H$14,2,FALSE)*(M467-(P467+Q467*Tables!$C$6))*(P467+Q467*Tables!$C$6)*1.36136","v":0.12308095511712},"Controlled OD (DR-7.3) Copper Tubing Size","ASTM D2737"]
[null,null,null,null,{"$f":"ROW()","v":468},"PE","CTS (Tubing)",0.75,"3/4","250 psi   DR-9 - Tubing",9,{"$f":"VLOOKUP(K468,Tables!$C$42:$G$58,IF(Tables!$C$5=4710,IF(N468=\"ID\",5,3),IF(N468=\"ID\",4,2)),FALSE)","v":250},0.875,"OD",0.03,9.7000000000000003E-2,0.01,{"$f":"VLOOKUP(F468,Tables!$G$5:$H$14,2,FALSE)*(M468-(P468+Q468*Tables!$C$6))*(P468+Q468*Tables!$C$6)*1.36136","v":0.10282960335648},"Controlled OD (DR-9) Copper Tubing Size","ASTM D2737"]
[null,null,null,null,{"$f":"ROW()","v":469},"PE","CTS (Tubing)",0.75,"3/4","200 psi   DR-11 - Tubing",11,{"$f":"VLOOKUP(K469,Tables!$C$42:$G$58,IF(Tables!$C$5=4710,IF(N469=\"ID\",5,3),IF(N469=\"ID\",4,2)),FALSE)","v":200},0.875,"OD",0.03,0.08,0.01,{"$f":"VLOOKUP(F469,Tables!$G$5:$H$14,2,FALSE)*(M469-(P469+Q469*Tables!$C$6))*(P469+Q469*Tables!$C$6)*1.36136","v":8.7575880391999997E-2},"Controlled OD (DR-11) Copper Tubing Size","ASTM D2737"]
[null,null,null,null,{"$f":"ROW()","v":470},"PE","CTS (Tubing)",1,1,"317 psi   DR-7.3 - Tubing",7.3,{"$f":"VLOOKUP(K470,Tables!$C$42:$G$58,IF(Tables!$C$5=4710,IF(N470=\"ID\",5,3),IF(N470=\"ID\",4,2)),FALSE)","v":317},1.125,"OD",0.03,0.154,1.4999999999999999E-2,{"$f":"VLOOKUP(F470,Tables!$G$5:$H$14,2,FALSE)*(M470-(P470+Q470*Tables!$C$6))*(P470+Q470*Tables!$C$6)*1.36136","v":0.20293770308811998},"Controlled OD (DR-7.3) Copper Tubing Size","ASTM D2737"]
[null,null,null,null,{"$f":"ROW()","v":471},"PE","CTS (Tubing)",1,1,"250 psi   DR-9 - Tubing",9,{"$f":"VLOOKUP(K471,Tables!$C$42:$G$58,IF(Tables!$C$5=4710,IF(N471=\"ID\",5,3),IF(N471=\"ID\",4,2)),FALSE)","v":250},1.125,"OD",0.03,0.125,1.2E-2,{"$f":"VLOOKUP(F471,Tables!$G$5:$H$14,2,FALSE)*(M471-(P471+Q471*Tables!$C$6))*(P471+Q471*Tables!$C$6)*1.36136","v":0.16982286953632},"Controlled OD (DR-9) Copper Tubing Size","ASTM D2737"]
[null,null,null,null,{"$f":"ROW()","v":472},"PE","CTS (Tubing)",1,1,"200 psi   DR-11 - Tubing",11,{"$f":"VLOOKUP(K472,Tables!$C$42:$G$58,IF(Tables!$C$5=4710,IF(N472=\"ID\",5,3),IF(N472=\"ID\",4,2)),FALSE)","v":200},1.125,"OD",0.03,0.10199999999999999,0.01,{"$f":"VLOOKUP(F472,Tables!$G$5:$H$14,2,FALSE)*(M472-(P472+Q472*Tables!$C$6))*(P472+Q472*Tables!$C$6)*1.36136","v":0.14205942438687999},"Controlled OD (DR-11) Copper Tubing Size","ASTM D2737"]
[null,null,null,null,{"$f":"ROW()","v":473},"PE","CTS (Tubing)",1.25,"1 1/4","317 psi   DR-7.3 - Tubing",7.3,{"$f":"VLOOKUP(K473,Tables!$C$42:$G$58,IF(Tables!$C$5=4710,IF(N473=\"ID\",5,3),IF(N473=\"ID\",4,2)),FALSE)","v":317},1.375,"OD",0.03,0.188,1.9E-2,{"$f":"VLOOKUP(F473,Tables!$G$5:$H$14,2,FALSE)*(M473-(P473+Q473*Tables!$C$6))*(P473+Q473*Tables!$C$6)*1.36136","v":0.30329587988699996},"Controlled OD (DR-7.3) Copper Tubing Size","ASTM D2737"]
[null,null,null,null,{"$f":"ROW()","v":474},"PE","CTS (Tubing)",1.25,"1 1/4","250 psi   DR-9 - Tubing",9,{"$f":"VLOOKUP(K474,Tables!$C$42:$G$58,IF(Tables!$C$5=4710,IF(N474=\"ID\",5,3),IF(N474=\"ID\",4,2)),FALSE)","v":250},1.375,"OD",0.03,0.153,1.4999999999999999E-2,{"$f":"VLOOKUP(F474,Tables!$G$5:$H$14,2,FALSE)*(M474-(P474+Q474*Tables!$C$6))*(P474+Q474*Tables!$C$6)*1.36136","v":0.25422078229547995},"Controlled OD (DR-9) Copper Tubing Size","ASTM D2737"]
[null,null,null,null,{"$f":"ROW()","v":475},"PE","CTS (Tubing)",1.25,"1 1/4","200 psi   DR-11 - Tubing",11,{"$f":"VLOOKUP(K475,Tables!$C$42:$G$58,IF(Tables!$C$5=4710,IF(N475=\"ID\",5,3),IF(N475=\"ID\",4,2)),FALSE)","v":200},1.375,"OD",0.03,0.125,1.2E-2,{"$f":"VLOOKUP(F475,Tables!$G$5:$H$14,2,FALSE)*(M475-(P475+Q475*Tables!$C$6))*(P475+Q475*Tables!$C$6)*1.36136","v":0.21253485885631998},"Controlled OD (DR-11) Copper Tubing Size","ASTM D2737"]
[null,null,null,null,{"$f":"ROW()","v":476},"PE","CTS (Tubing)",1.5,"1 1/2","317 psi   DR-7.3 - Tubing",7.3,{"$f":"VLOOKUP(K476,Tables!$C$42:$G$58,IF(Tables!$C$5=4710,IF(N476=\"ID\",5,3),IF(N476=\"ID\",4,2)),FALSE)","v":317},1.625,"OD",0.03,0.23300000000000001,2.1999999999999999E-2,{"$f":"VLOOKUP(F476,Tables!$G$5:$H$14,2,FALSE)*(M476-(P476+Q476*Tables!$C$6))*(P476+Q476*Tables!$C$6)*1.36136","v":0.43946267997631999},"Controlled OD (DR-7.3) Copper Tubing Size","ASTM D2737"]
[null,null,null,null,{"$f":"ROW()","v":477},"PE","CTS (Tubing)",1.5,"1 1/2","250 psi   DR-9 - Tubing",9,{"$f":"VLOOKUP(K477,Tables!$C$42:$G$58,IF(Tables!$C$5=4710,IF(N477=\"ID\",5,3),IF(N477=\"ID\",4,2)),FALSE)","v":250},1.625,"OD",0.03,0.18099999999999999,1.7999999999999999E-2,{"$f":"VLOOKUP(F477,Tables!$G$5:$H$14,2,FALSE)*(M477-(P477+Q477*Tables!$C$6))*(P477+Q477*Tables!$C$6)*1.36136","v":0.35558546223199999},"Controlled OD (DR-9) Copper Tubing Size","ASTM D2737"]
[null,null,null,null,{"$f":"ROW()","v":478},"PE","CTS (Tubing)",1.5,"1 1/2","200 psi   DR-11 - Tubing",11,{"$f":"VLOOKUP(K478,Tables!$C$42:$G$58,IF(Tables!$C$5=4710,IF(N478=\"ID\",5,3),IF(N478=\"ID\",4,2)),FALSE)","v":200},1.625,"OD",0.03,0.14799999999999999,1.4999999999999999E-2,{"$f":"VLOOKUP(F478,Tables!$G$5:$H$14,2,FALSE)*(M478-(P478+Q478*Tables!$C$6))*(P478+Q478*Tables!$C$6)*1.36136","v":0.29801524340587993},"Controlled OD (DR-11) Copper Tubing Size","ASTM D2737"]
[null,null,null,null,{"$f":"ROW()","v":479},"PE","CTS (Tubing)",2,2,"317 psi   DR-7.3 - Tubing",7.3,{"$f":"VLOOKUP(K479,Tables!$C$42:$G$58,IF(Tables!$C$5=4710,IF(N479=\"ID\",5,3),IF(N479=\"ID\",4,2)),FALSE)","v":317},2.125,"OD",0.03,0.29099999999999998,2.9000000000000001E-2,{"$f":"VLOOKUP(F479,Tables!$G$5:$H$14,2,FALSE)*(M479-(P479+Q479*Tables!$C$6))*(P479+Q479*Tables!$C$6)*1.36136","v":0.72493950917388006},"Controlled OD (DR-7.3) Copper Tubing Size","ASTM D2737"]
[null,null,null,null,{"$f":"ROW()","v":480},"PE","CTS (Tubing)",2,2,"250 psi   DR-9 - Tubing",9,{"$f":"VLOOKUP(K480,Tables!$C$42:$G$58,IF(Tables!$C$5=4710,IF(N480=\"ID\",5,3),IF(N480=\"ID\",4,2)),FALSE)","v":250},2.125,"OD",0.03,0.23599999999999999,2.4E-2,{"$f":"VLOOKUP(F480,Tables!$G$5:$H$14,2,FALSE)*(M480-(P480+Q480*Tables!$C$6))*(P480+Q480*Tables!$C$6)*1.36136","v":0.60709191390847994},"Controlled OD (DR-9) Copper Tubing Size","ASTM D2737"]
[null,null,null,null,{"$f":"ROW()","v":481},"PE","CTS (Tubing)",2,2,"200 psi   DR-11 - Tubing",11,{"$f":"VLOOKUP(K481,Tables!$C$42:$G$58,IF(Tables!$C$5=4710,IF(N481=\"ID\",5,3),IF(N481=\"ID\",4,2)),FALSE)","v":200},2.125,"OD",0.03,0.193,1.9E-2,{"$f":"VLOOKUP(F481,Tables!$G$5:$H$14,2,FALSE)*(M481-(P481+Q481*Tables!$C$6))*(P481+Q481*Tables!$C$6)*1.36136","v":0.50772654632699998},"Controlled OD (DR-11) Copper Tubing Size","ASTM D2737"]
[null,null,null,1,{"$f":"ROW()","v":482},"PE","(SIDR)",0.5,"1/2",{"$f":"L482&\" psi   SIDR-\"&K482","v":"315 psi   SIDR-5.3"},5.3,{"$f":"VLOOKUP(K482,Tables!$C$42:$G$58,IF(Tables!$C$5=4710,IF(N482=\"ID\",5,3),IF(N482=\"ID\",4,2)),FALSE)","v":315},0.622,"ID",null,0.11700000000000001,0.02,{"$f":"VLOOKUP(F482,Tables!$G$5:$H$14,2,FALSE)*(M482+(P482+Q482*Tables!$C$6))*(P482+Q482*Tables!$C$6)*1.36136","v":0.12405778809423999},{"$f":"\"Controlled ID (SIDR-\"&K482&\") Iron Pipe Size\"","v":"Controlled ID (SIDR-5.3) Iron Pipe Size"},"ASTM D2239"]
[null,null,null,null,{"$f":"ROW()","v":483},"PE","(SIDR)",0.75,"3/4","315 psi   SIDR-5.3",5.3,{"$f":"VLOOKUP(K483,Tables!$C$42:$G$58,IF(Tables!$C$5=4710,IF(N483=\"ID\",5,3),IF(N483=\"ID\",4,2)),FALSE)","v":315},0.82399999999999995,"ID",null,0.155,0.02,{"$f":"VLOOKUP(F483,Tables!$G$5:$H$14,2,FALSE)*(M483+(P483+Q483*Tables!$C$6))*(P483+Q483*Tables!$C$6)*1.36136","v":0.21282308327279997},{"$f":"\"Controlled ID (SIDR-\"&K483&\") Iron Pipe Size\"","v":"Controlled ID (SIDR-5.3) Iron Pipe Size"},"ASTM D2239"]
[null,null,null,null,{"$f":"ROW()","v":484},"PE","(SIDR)",1,"1","315 psi   SIDR-5.3",5.3,{"$f":"VLOOKUP(K484,Tables!$C$42:$G$58,IF(Tables!$C$5=4710,IF(N484=\"ID\",5,3),IF(N484=\"ID\",4,2)),FALSE)","v":315},1.0489999999999999,"ID",null,0.19800000000000001,2.4E-2,{"$f":"VLOOKUP(F484,Tables!$G$5:$H$14,2,FALSE)*(M484+(P484+Q484*Tables!$C$6))*(P484+Q484*Tables!$C$6)*1.36136","v":0.34481291164319994},"Controlled ID (SIDR-5.3) Iron Pipe Size","ASTM D2239"]
[null,null,null,null,{"$f":"ROW()","v":485},"PE","(SIDR)",1.25,"1 1/4","315 psi   SIDR-5.3",5.3,{"$f":"VLOOKUP(K485,Tables!$C$42:$G$58,IF(Tables!$C$5=4710,IF(N485=\"ID\",5,3),IF(N485=\"ID\",4,2)),FALSE)","v":315},1.38,"ID",null,0.26,3.1E-2,{"$f":"VLOOKUP(F485,Tables!$G$5:$H$14,2,FALSE)*(M485+(P485+Q485*Tables!$C$6))*(P485+Q485*Tables!$C$6)*1.36136","v":0.59482509578492004},"Controlled ID (SIDR-5.3) Iron Pipe Size","ASTM D2239"]
[null,null,null,null,{"$f":"ROW()","v":486},"PE","(SIDR)",1.5,"1 1/2","315 psi   SIDR-5.3",5.3,{"$f":"VLOOKUP(K486,Tables!$C$42:$G$58,IF(Tables!$C$5=4710,IF(N486=\"ID\",5,3),IF(N486=\"ID\",4,2)),FALSE)","v":315},1.61,"ID",null,0.30399999999999999,3.5999999999999997E-2,{"$f":"VLOOKUP(F486,Tables!$G$5:$H$14,2,FALSE)*(M486+(P486+Q486*Tables!$C$6))*(P486+Q486*Tables!$C$6)*1.36136","v":0.81133738637952002},"Controlled ID (SIDR-5.3) Iron Pipe Size","ASTM D2239"]
[null,null,null,null,{"$f":"ROW()","v":487},"PE","(SIDR)",2,"2","315 psi   SIDR-5.3",5.3,{"$f":"VLOOKUP(K487,Tables!$C$42:$G$58,IF(Tables!$C$5=4710,IF(N487=\"ID\",5,3),IF(N487=\"ID\",4,2)),FALSE)","v":315},2.0670000000000002,"ID",null,0.39,4.7E-2,{"$f":"VLOOKUP(F487,Tables!$G$5:$H$14,2,FALSE)*(M487+(P487+Q487*Tables!$C$6))*(P487+Q487*Tables!$C$6)*1.36136","v":1.3376830995928399},"Controlled ID (SIDR-5.3) Iron Pipe Size","ASTM D2239"]
[null,null,null,null,{"$f":"ROW()","v":488},"PE","(SIDR)",0.5,"1/2","250 psi   SIDR-7",7,{"$f":"VLOOKUP(K488,Tables!$C$42:$G$58,IF(Tables!$C$5=4710,IF(N488=\"ID\",5,3),IF(N488=\"ID\",4,2)),FALSE)","v":250},0.622,"ID",null,8.8999999999999996E-2,0.02,{"$f":"VLOOKUP(F488,Tables!$G$5:$H$14,2,FALSE)*(M488+(P488+Q488*Tables!$C$6))*(P488+Q488*Tables!$C$6)*1.36136","v":9.3091269791519965E-2},"Controlled ID (SIDR-7) Iron Pipe Size","ASTM D2239"]
[null,null,null,null,{"$f":"ROW()","v":489},"PE","(SIDR)",0.75,"3/4","250 psi   SIDR-7",7,{"$f":"VLOOKUP(K489,Tables!$C$42:$G$58,IF(Tables!$C$5=4710,IF(N489=\"ID\",5,3),IF(N489=\"ID\",4,2)),FALSE)","v":250},0.82399999999999995,"ID",null,0.11799999999999999,0.02,{"$f":"VLOOKUP(F489,Tables!$G$5:$H$14,2,FALSE)*(M489+(P489+Q489*Tables!$C$6))*(P489+Q489*Tables!$C$6)*1.36136","v":0.15892250902527999},"Controlled ID (SIDR-7) Iron Pipe Size","ASTM D2239"]
[null,null,null,null,{"$f":"ROW()","v":490},"PE","(SIDR)",1,"1","250 psi   SIDR-7",7,{"$f":"VLOOKUP(K490,Tables!$C$42:$G$58,IF(Tables!$C$5=4710,IF(N490=\"ID\",5,3),IF(N490=\"ID\",4,2)),FALSE)","v":250},1.0489999999999999,"ID",null,0.15,0.02,{"$f":"VLOOKUP(F490,Tables!$G$5:$H$14,2,FALSE)*(M490+(P490+Q490*Tables!$C$6))*(P490+Q490*Tables!$C$6)*1.36136","v":0.25228113630719995},"Controlled ID (SIDR-7) Iron Pipe Size","ASTM D2239"]
[null,null,null,null,{"$f":"ROW()","v":491},"PE","(SIDR)",1.25,"1 1/4","250 psi   SIDR-7",7,{"$f":"VLOOKUP(K491,Tables!$C$42:$G$58,IF(Tables!$C$5=4710,IF(N491=\"ID\",5,3),IF(N491=\"ID\",4,2)),FALSE)","v":250},1.38,"ID",null,0.19700000000000001,2.4E-2,{"$f":"VLOOKUP(F491,Tables!$G$5:$H$14,2,FALSE)*(M491+(P491+Q491*Tables!$C$6))*(P491+Q491*Tables!$C$6)*1.36136","v":0.43312043863088001},"Controlled ID (SIDR-7) Iron Pipe Size","ASTM D2239"]
[null,null,null,null,{"$f":"ROW()","v":492},"PE","(SIDR)",1.5,"1 1/2","250 psi   SIDR-7",7,{"$f":"VLOOKUP(K492,Tables!$C$42:$G$58,IF(Tables!$C$5=4710,IF(N492=\"ID\",5,3),IF(N492=\"ID\",4,2)),FALSE)","v":250},1.61,"ID",null,0.23,2.8000000000000001E-2,{"$f":"VLOOKUP(F492,Tables!$G$5:$H$14,2,FALSE)*(M492+(P492+Q492*Tables!$C$6))*(P492+Q492*Tables!$C$6)*1.36136","v":0.58998103452287998},"Controlled ID (SIDR-7) Iron Pipe Size","ASTM D2239"]
[null,null,null,null,{"$f":"ROW()","v":493},"PE","(SIDR)",2,"2","250 psi   SIDR-7",7,{"$f":"VLOOKUP(K493,Tables!$C$42:$G$58,IF(Tables!$C$5=4710,IF(N493=\"ID\",5,3),IF(N493=\"ID\",4,2)),FALSE)","v":250},2.0670000000000002,"ID",null,0.29499999999999998,3.5000000000000003E-2,{"$f":"VLOOKUP(F493,Tables!$G$5:$H$14,2,FALSE)*(M493+(P493+Q493*Tables!$C$6))*(P493+Q493*Tables!$C$6)*1.36136","v":0.96978223842500011},"Controlled ID (SIDR-7) Iron Pipe Size","ASTM D2239"]
[null,null,null,null,{"$f":"ROW()","v":494},"PE","(SIDR)",0.5,"1/2","200 psi   SIDR-9",9,{"$f":"VLOOKUP(K494,Tables!$C$42:$G$58,IF(Tables!$C$5=4710,IF(N494=\"ID\",5,3),IF(N494=\"ID\",4,2)),FALSE)","v":200},0.622,"ID",null,6.9000000000000006E-2,0.02,{"$f":"VLOOKUP(F494,Tables!$G$5:$H$14,2,FALSE)*(M494+(P494+Q494*Tables!$C$6))*(P494+Q494*Tables!$C$6)*1.36136","v":7.2224343711519978E-2},"Controlled ID (SIDR-9) Iron Pipe Size","ASTM D2239"]
[null,null,null,null,{"$f":"ROW()","v":495},"PE","(SIDR)",0.75,"3/4","200 psi   SIDR-9",9,{"$f":"VLOOKUP(K495,Tables!$C$42:$G$58,IF(Tables!$C$5=4710,IF(N495=\"ID\",5,3),IF(N495=\"ID\",4,2)),FALSE)","v":200},0.82399999999999995,"ID",null,9.1999999999999998E-2,0.02,{"$f":"VLOOKUP(F495,Tables!$G$5:$H$14,2,FALSE)*(M495+(P495+Q495*Tables!$C$6))*(P495+Q495*Tables!$C$6)*1.36136","v":0.12318268138175997},"Controlled ID (SIDR-9) Iron Pipe Size","ASTM D2239"]
[null,null,null,null,{"$f":"ROW()","v":496},"PE","(SIDR)",1,"1",{"$f":"L496&\" psi   SIDR-\"&K496","v":"200 psi   SIDR-9"},9,{"$f":"VLOOKUP(K496,Tables!$C$42:$G$58,IF(Tables!$C$5=4710,IF(N496=\"ID\",5,3),IF(N496=\"ID\",4,2)),FALSE)","v":200},1.0489999999999999,"ID",null,0.11700000000000001,0.02,{"$f":"VLOOKUP(F496,Tables!$G$5:$H$14,2,FALSE)*(M496+(P496+Q496*Tables!$C$6))*(P496+Q496*Tables!$C$6)*1.36136","v":0.19478232149375996},"Controlled ID (SIDR-9) Iron Pipe Size","ASTM D2239"]
[null,null,null,null,{"$f":"ROW()","v":497},"PE","(SIDR)",1.25,"1 1/4",{"$f":"L497&\" psi   SIDR-\"&K497","v":"200 psi   SIDR-9"},9,{"$f":"VLOOKUP(K497,Tables!$C$42:$G$58,IF(Tables!$C$5=4710,IF(N497=\"ID\",5,3),IF(N497=\"ID\",4,2)),FALSE)","v":200},1.38,"ID",null,0.153,0.02,{"$f":"VLOOKUP(F497,Tables!$G$5:$H$14,2,FALSE)*(M497+(P497+Q497*Tables!$C$6))*(P497+Q497*Tables!$C$6)*1.36136","v":0.32801373196591993},"Controlled ID (SIDR-9) Iron Pipe Size","ASTM D2239"]
[null,null,null,null,{"$f":"ROW()","v":498},"PE","(SIDR)",1.5,"1 1/2","200 psi   SIDR-9",9,{"$f":"VLOOKUP(K498,Tables!$C$42:$G$58,IF(Tables!$C$5=4710,IF(N498=\"ID\",5,3),IF(N498=\"ID\",4,2)),FALSE)","v":200},1.61,"ID",null,0.17899999999999999,0.02,{"$f":"VLOOKUP(F498,Tables!$G$5:$H$14,2,FALSE)*(M498+(P498+Q498*Tables!$C$6))*(P498+Q498*Tables!$C$6)*1.36136","v":0.44343652521167998},"Controlled ID (SIDR-9) Iron Pipe Size","ASTM D2239"]
[null,null,null,null,{"$f":"ROW()","v":499},"PE","(SIDR)",2,"2","200 psi   SIDR-9",9,{"$f":"VLOOKUP(K499,Tables!$C$42:$G$58,IF(Tables!$C$5=4710,IF(N499=\"ID\",5,3),IF(N499=\"ID\",4,2)),FALSE)","v":200},2.0670000000000002,"ID",null,0.23,2.8000000000000001E-2,{"$f":"VLOOKUP(F499,Tables!$G$5:$H$14,2,FALSE)*(M499+(P499+Q499*Tables!$C$6))*(P499+Q499*Tables!$C$6)*1.36136","v":0.7354078591059201},"Controlled ID (SIDR-9) Iron Pipe Size","ASTM D2239"]
[null,null,null,null,{"$f":"ROW()","v":500},"PE","(SIDR)",0.5,"1/2","160 psi   SIDR-11.5",11.5,{"$f":"VLOOKUP(K500,Tables!$C$42:$G$58,IF(Tables!$C$5=4710,IF(N500=\"ID\",5,3),IF(N500=\"ID\",4,2)),FALSE)","v":160},0.622,"ID",null,0.06,0.02,{"$f":"VLOOKUP(F500,Tables!$G$5:$H$14,2,FALSE)*(M500+(P500+Q500*Tables!$C$6))*(P500+Q500*Tables!$C$6)*1.36136","v":6.3174618707199981E-2},"Controlled ID (SIDR-11.5) Iron Pipe Size","ASTM D2239"]
[null,null,null,null,{"$f":"ROW()","v":501},"PE","(SIDR)",0.75,"3/4","160 psi   SIDR-11.5",11.5,{"$f":"VLOOKUP(K501,Tables!$C$42:$G$58,IF(Tables!$C$5=4710,IF(N501=\"ID\",5,3),IF(N501=\"ID\",4,2)),FALSE)","v":160},0.82399999999999995,"ID",null,7.1999999999999995E-2,0.02,{"$f":"VLOOKUP(F501,Tables!$G$5:$H$14,2,FALSE)*(M501+(P501+Q501*Tables!$C$6))*(P501+Q501*Tables!$C$6)*1.36136","v":9.6890354520959954E-2},"Controlled ID (SIDR-11.5) Iron Pipe Size","ASTM D2239"]
[null,null,null,null,{"$f":"ROW()","v":502},"PE","(SIDR)",1,"1","160 psi   SIDR-11.5",11.5,{"$f":"VLOOKUP(K502,Tables!$C$42:$G$58,IF(Tables!$C$5=4710,IF(N502=\"ID\",5,3),IF(N502=\"ID\",4,2)),FALSE)","v":160},1.0489999999999999,"ID",null,9.0999999999999998E-2,0.02,{"$f":"VLOOKUP(F502,Tables!$G$5:$H$14,2,FALSE)*(M502+(P502+Q502*Tables!$C$6))*(P502+Q502*Tables!$C$6)*1.36136","v":0.15148084151199998},"Controlled ID (SIDR-11.5) Iron Pipe Size","ASTM D2239"]
[null,null,null,null,{"$f":"ROW()","v":503},"PE","(SIDR)",1.25,"1 1/4","160 psi   SIDR-11.5",11.5,{"$f":"VLOOKUP(K503,Tables!$C$42:$G$58,IF(Tables!$C$5=4710,IF(N503=\"ID\",5,3),IF(N503=\"ID\",4,2)),FALSE)","v":160},1.38,"ID",null,0.12,0.02,{"$f":"VLOOKUP(F503,Tables!$G$5:$H$14,2,FALSE)*(M503+(P503+Q503*Tables!$C$6))*(P503+Q503*Tables!$C$6)*1.36136","v":0.25601109934399996},"Controlled ID (SIDR-11.5) Iron Pipe Size","ASTM D2239"]
[null,null,null,null,{"$f":"ROW()","v":504},"PE","(SIDR)",1.5,"1 1/2","160 psi   SIDR-11.5",11.5,{"$f":"VLOOKUP(K504,Tables!$C$42:$G$58,IF(Tables!$C$5=4710,IF(N504=\"ID\",5,3),IF(N504=\"ID\",4,2)),FALSE)","v":160},1.61,"ID",null,0.14000000000000001,0.02,{"$f":"VLOOKUP(F504,Tables!$G$5:$H$14,2,FALSE)*(M504+(P504+Q504*Tables!$C$6))*(P504+Q504*Tables!$C$6)*1.36136","v":0.3443042803200001},"Controlled ID (SIDR-11.5) Iron Pipe Size","ASTM D2239"]
[null,null,null,null,{"$f":"ROW()","v":505},"PE","(SIDR)",2,"2","160 psi   SIDR-11.5",11.5,{"$f":"VLOOKUP(K505,Tables!$C$42:$G$58,IF(Tables!$C$5=4710,IF(N505=\"ID\",5,3),IF(N505=\"ID\",4,2)),FALSE)","v":160},2.0670000000000002,"ID",null,0.18,2.1999999999999999E-2,{"$f":"VLOOKUP(F505,Tables!$G$5:$H$14,2,FALSE)*(M505+(P505+Q505*Tables!$C$6))*(P505+Q505*Tables!$C$6)*1.36136","v":0.56246538412063996},"Controlled ID (SIDR-11.5) Iron Pipe Size","ASTM D2239"]
[null,null,null,null,{"$f":"ROW()","v":506},"PE","(SIDR)",3,"3","160 psi   SIDR-11.5",11.5,{"$f":"VLOOKUP(K506,Tables!$C$42:$G$58,IF(Tables!$C$5=4710,IF(N506=\"ID\",5,3),IF(N506=\"ID\",4,2)),FALSE)","v":160},3.0680000000000001,"ID",null,0.26700000000000002,3.2000000000000001E-2,{"$f":"VLOOKUP(F506,Tables!$G$5:$H$14,2,FALSE)*(M506+(P506+Q506*Tables!$C$6))*(P506+Q506*Tables!$C$6)*1.36136","v":1.2367996631390401},"Controlled ID (SIDR-11.5) Iron Pipe Size","ASTM D2239"]
[null,null,null,null,{"$f":"ROW()","v":507},"PE","(SIDR)",0.5,"1/2","125 psi   SIDR-15",15,{"$f":"VLOOKUP(K507,Tables!$C$42:$G$58,IF(Tables!$C$5=4710,IF(N507=\"ID\",5,3),IF(N507=\"ID\",4,2)),FALSE)","v":125},0.622,"ID",null,0.06,0.02,{"$f":"VLOOKUP(F507,Tables!$G$5:$H$14,2,FALSE)*(M507+(P507+Q507*Tables!$C$6))*(P507+Q507*Tables!$C$6)*1.36136","v":6.3174618707199981E-2},"Controlled ID (SIDR-15) Iron Pipe Size","ASTM D2239"]
[null,null,null,null,{"$f":"ROW()","v":508},"PE","(SIDR)",0.75,"3/4","125 psi   SIDR-15",15,{"$f":"VLOOKUP(K508,Tables!$C$42:$G$58,IF(Tables!$C$5=4710,IF(N508=\"ID\",5,3),IF(N508=\"ID\",4,2)),FALSE)","v":125},0.82399999999999995,"ID",null,0.06,0.02,{"$f":"VLOOKUP(F508,Tables!$G$5:$H$14,2,FALSE)*(M508+(P508+Q508*Tables!$C$6))*(P508+Q508*Tables!$C$6)*1.36136","v":8.1615764630399976E-2},"Controlled ID (SIDR-15) Iron Pipe Size","ASTM D2239"]
[null,null,null,null,{"$f":"ROW()","v":509},"PE","(SIDR)",1,"1","125 psi   SIDR-15",15,{"$f":"VLOOKUP(K509,Tables!$C$42:$G$58,IF(Tables!$C$5=4710,IF(N509=\"ID\",5,3),IF(N509=\"ID\",4,2)),FALSE)","v":125},1.0489999999999999,"ID",null,7.0000000000000007E-2,0.02,{"$f":"VLOOKUP(F509,Tables!$G$5:$H$14,2,FALSE)*(M509+(P509+Q509*Tables!$C$6))*(P509+Q509*Tables!$C$6)*1.36136","v":0.11779379772159999},"Controlled ID (SIDR-15) Iron Pipe Size","ASTM D2239"]
[null,null,null,null,{"$f":"ROW()","v":510},"PE","(SIDR)",1.25,"1 1/4","125 psi   SIDR-15",15,{"$f":"VLOOKUP(K510,Tables!$C$42:$G$58,IF(Tables!$C$5=4710,IF(N510=\"ID\",5,3),IF(N510=\"ID\",4,2)),FALSE)","v":125},1.38,"ID",null,9.1999999999999998E-2,0.02,{"$f":"VLOOKUP(F510,Tables!$G$5:$H$14,2,FALSE)*(M510+(P510+Q510*Tables!$C$6))*(P510+Q510*Tables!$C$6)*1.36136","v":0.19714550087231997},"Controlled ID (SIDR-15) Iron Pipe Size","ASTM D2239"]
[null,null,null,null,{"$f":"ROW()","v":511},"PE","(SIDR)",1.5,"1 1/2","125 psi   SIDR-15",15,{"$f":"VLOOKUP(K511,Tables!$C$42:$G$58,IF(Tables!$C$5=4710,IF(N511=\"ID\",5,3),IF(N511=\"ID\",4,2)),FALSE)","v":125},1.61,"ID",null,0.107,0.02,{"$f":"VLOOKUP(F511,Tables!$G$5:$H$14,2,FALSE)*(M511+(P511+Q511*Tables!$C$6))*(P511+Q511*Tables!$C$6)*1.36136","v":0.26352188854991998},"Controlled ID (SIDR-15) Iron Pipe Size","ASTM D2239"]
[null,null,null,null,{"$f":"ROW()","v":512},"PE","(SIDR)",2,"2","125 psi   SIDR-15",15,{"$f":"VLOOKUP(K512,Tables!$C$42:$G$58,IF(Tables!$C$5=4710,IF(N512=\"ID\",5,3),IF(N512=\"ID\",4,2)),FALSE)","v":125},2.0670000000000002,"ID",null,0.13800000000000001,0.02,{"$f":"VLOOKUP(F512,Tables!$G$5:$H$14,2,FALSE)*(M512+(P512+Q512*Tables!$C$6))*(P512+Q512*Tables!$C$6)*1.36136","v":0.42753723172160008},"Controlled ID (SIDR-15) Iron Pipe Size","ASTM D2239"]
[null,null,null,null,{"$f":"ROW()","v":513},"PE","(SIDR)",3,"3","125 psi   SIDR-15",15,{"$f":"VLOOKUP(K513,Tables!$C$42:$G$58,IF(Tables!$C$5=4710,IF(N513=\"ID\",5,3),IF(N513=\"ID\",4,2)),FALSE)","v":125},3.0680000000000001,"ID",null,0.20499999999999999,0.02,{"$f":"VLOOKUP(F513,Tables!$G$5:$H$14,2,FALSE)*(M513+(P513+Q513*Tables!$C$6))*(P513+Q513*Tables!$C$6)*1.36136","v":0.92055096493359989},"Controlled ID (SIDR-15) Iron Pipe Size","ASTM D2239"]
[null,null,null,null,{"$f":"ROW()","v":514},"PE","(SIDR)",0.5,"1/2","100 psi   SIDR-19",19,{"$f":"VLOOKUP(K514,Tables!$C$42:$G$58,IF(Tables!$C$5=4710,IF(N514=\"ID\",5,3),IF(N514=\"ID\",4,2)),FALSE)","v":100},0.622,"ID",null,0.06,0.02,{"$f":"VLOOKUP(F514,Tables!$G$5:$H$14,2,FALSE)*(M514+(P514+Q514*Tables!$C$6))*(P514+Q514*Tables!$C$6)*1.36136","v":6.3174618707199981E-2},"Controlled ID (SIDR-19) Iron Pipe Size","ASTM D2239"]
[null,null,null,null,{"$f":"ROW()","v":515},"PE","(SIDR)",0.75,"3/4","100 psi   SIDR-19",19,{"$f":"VLOOKUP(K515,Tables!$C$42:$G$58,IF(Tables!$C$5=4710,IF(N515=\"ID\",5,3),IF(N515=\"ID\",4,2)),FALSE)","v":100},0.82399999999999995,"ID",null,0.06,0.02,{"$f":"VLOOKUP(F515,Tables!$G$5:$H$14,2,FALSE)*(M515+(P515+Q515*Tables!$C$6))*(P515+Q515*Tables!$C$6)*1.36136","v":8.1615764630399976E-2},"Controlled ID (SIDR-19) Iron Pipe Size","ASTM D2239"]
[null,null,null,null,{"$f":"ROW()","v":516},"PE","(SIDR)",1,"1","100 psi   SIDR-19",19,{"$f":"VLOOKUP(K516,Tables!$C$42:$G$58,IF(Tables!$C$5=4710,IF(N516=\"ID\",5,3),IF(N516=\"ID\",4,2)),FALSE)","v":100},1.0489999999999999,"ID",null,0.06,0.02,{"$f":"VLOOKUP(F516,Tables!$G$5:$H$14,2,FALSE)*(M516+(P516+Q516*Tables!$C$6))*(P516+Q516*Tables!$C$6)*1.36136","v":0.10215664499039998},"Controlled ID (SIDR-19) Iron Pipe Size","ASTM D2239"]
[null,null,null,null,{"$f":"ROW()","v":517},"PE","(SIDR)",1.25,"1 1/4","100 psi   SIDR-19",19,{"$f":"VLOOKUP(K517,Tables!$C$42:$G$58,IF(Tables!$C$5=4710,IF(N517=\"ID\",5,3),IF(N517=\"ID\",4,2)),FALSE)","v":100},1.38,"ID",null,7.2999999999999995E-2,0.02,{"$f":"VLOOKUP(F517,Tables!$G$5:$H$14,2,FALSE)*(M517+(P517+Q517*Tables!$C$6))*(P517+Q517*Tables!$C$6)*1.36136","v":0.15836562293551995},"Controlled ID (SIDR-19) Iron Pipe Size","ASTM D2239"]
[null,null,null,null,{"$f":"ROW()","v":518},"PE","(SIDR)",1.5,"1 1/2","100 psi   SIDR-19",19,{"$f":"VLOOKUP(K518,Tables!$C$42:$G$58,IF(Tables!$C$5=4710,IF(N518=\"ID\",5,3),IF(N518=\"ID\",4,2)),FALSE)","v":100},1.61,"ID",null,8.5000000000000006E-2,0.02,{"$f":"VLOOKUP(F518,Tables!$G$5:$H$14,2,FALSE)*(M518+(P518+Q518*Tables!$C$6))*(P518+Q518*Tables!$C$6)*1.36136","v":0.21124502198799999},"Controlled ID (SIDR-19) Iron Pipe Size","ASTM D2239"]
[null,null,null,null,{"$f":"ROW()","v":519},"PE","(SIDR)",2,"2","100 psi   SIDR-19",19,{"$f":"VLOOKUP(K519,Tables!$C$42:$G$58,IF(Tables!$C$5=4710,IF(N519=\"ID\",5,3),IF(N519=\"ID\",4,2)),FALSE)","v":100},2.0670000000000002,"ID",null,0.109,0.02,{"$f":"VLOOKUP(F519,Tables!$G$5:$H$14,2,FALSE)*(M519+(P519+Q519*Tables!$C$6))*(P519+Q519*Tables!$C$6)*1.36136","v":0.33926230930591994},"Controlled ID (SIDR-19) Iron Pipe Size","ASTM D2239"]
[null,null,null,1,{"$f":"ROW()","v":520},"PE","IPS (DR)",4,"4",{"$f":"\" \"&L520&\" psi   DR-\"&K520","v":" 50 psi   DR-41"},41,{"$f":"VLOOKUP(K520,Tables!$C$42:$G$58,IF(Tables!$C$5=4710,IF(N520=\"ID\",5,3),IF(N520=\"ID\",4,2)),FALSE)","v":50},4.5,"OD",null,0.11,0.02,{"$f":"VLOOKUP(F520,Tables!$G$5:$H$14,2,FALSE)*(M520-(P520+Q520*Tables!$C$6))*(P520+Q520*Tables!$C$6)*1.36136","v":0.68547852172799995},{"$f":"\"Controlled OD (DR-\"&K520&\") Iron Pipe Size\"","v":"Controlled OD (DR-41) Iron Pipe Size"},"ASTM F714"]
[null,null,null,null,{"$f":"ROW()","v":521},"PE","IPS (DR)",5,"5",{"$f":"\" \"&L521&\" psi   DR-\"&K521","v":" 50 psi   DR-41"},41,{"$f":"VLOOKUP(K521,Tables!$C$42:$G$58,IF(Tables!$C$5=4710,IF(N521=\"ID\",5,3),IF(N521=\"ID\",4,2)),FALSE)","v":50},5.5629999999999997,"OD",null,0.13600000000000001,2.5000000000000001E-2,{"$f":"VLOOKUP(F521,Tables!$G$5:$H$14,2,FALSE)*(M521-(P521+Q521*Tables!$C$6))*(P521+Q521*Tables!$C$6)*1.36136","v":1.04863248325836},{"$f":"\"Controlled OD (DR-\"&K521&\") Iron Pipe Size\"","v":"Controlled OD (DR-41) Iron Pipe Size"},"ASTM F714"]
[null,null,null,null,{"$f":"ROW()","v":522},"PE","IPS (DR)",6,"6"," 50 psi   DR-41",41,{"$f":"VLOOKUP(K522,Tables!$C$42:$G$58,IF(Tables!$C$5=4710,IF(N522=\"ID\",5,3),IF(N522=\"ID\",4,2)),FALSE)","v":50},6.625,"OD",null,0.16200000000000001,0.03,{"$f":"VLOOKUP(F522,Tables!$G$5:$H$14,2,FALSE)*(M522-(P522+Q522*Tables!$C$6))*(P522+Q522*Tables!$C$6)*1.36136","v":1.4884587042124797},{"$f":"\"Controlled OD (DR-\"&K522&\") Iron Pipe Size\"","v":"Controlled OD (DR-41) Iron Pipe Size"},"ASTM F714"]
[null,null,null,null,{"$f":"ROW()","v":523},"PE","IPS (DR)",7,"7"," 50 psi   DR-41",41,{"$f":"VLOOKUP(K523,Tables!$C$42:$G$58,IF(Tables!$C$5=4710,IF(N523=\"ID\",5,3),IF(N523=\"ID\",4,2)),FALSE)","v":50},7.125,"OD",null,0.17399999999999999,3.4000000000000002E-2,{"$f":"VLOOKUP(F523,Tables!$G$5:$H$14,2,FALSE)*(M523-(P523+Q523*Tables!$C$6))*(P523+Q523*Tables!$C$6)*1.36136","v":1.7272519811747198},"Controlled OD (DR-41) Iron Pipe Size","ASTM F714"]
[null,null,null,null,{"$f":"ROW()","v":524},"PE","IPS (DR)",8,"8"," 50 psi   DR-41",41,{"$f":"VLOOKUP(K524,Tables!$C$42:$G$58,IF(Tables!$C$5=4710,IF(N524=\"ID\",5,3),IF(N524=\"ID\",4,2)),FALSE)","v":50},8.625,"OD",null,0.21,3.9E-2,{"$f":"VLOOKUP(F524,Tables!$G$5:$H$14,2,FALSE)*(M524-(P524+Q524*Tables!$C$6))*(P524+Q524*Tables!$C$6)*1.36136","v":2.5128568611946798},"Controlled OD (DR-41) Iron Pipe Size","ASTM F714"]
[null,null,null,null,{"$f":"ROW()","v":525},"PE","IPS (DR)",10,"10"," 50 psi   DR-41",41,{"$f":"VLOOKUP(K525,Tables!$C$42:$G$58,IF(Tables!$C$5=4710,IF(N525=\"ID\",5,3),IF(N525=\"ID\",4,2)),FALSE)","v":50},10.75,"OD",null,0.26200000000000001,4.8000000000000001E-2,{"$f":"VLOOKUP(F525,Tables!$G$5:$H$14,2,FALSE)*(M525-(P525+Q525*Tables!$C$6))*(P525+Q525*Tables!$C$6)*1.36136","v":3.9030333217075199},"Controlled OD (DR-41) Iron Pipe Size","ASTM F714"]
[null,null,null,null,{"$f":"ROW()","v":526},"PE","IPS (DR)",12,"12"," 50 psi   DR-41",41,{"$f":"VLOOKUP(K526,Tables!$C$42:$G$58,IF(Tables!$C$5=4710,IF(N526=\"ID\",5,3),IF(N526=\"ID\",4,2)),FALSE)","v":50},12.75,"OD",null,0.31,5.7000000000000002E-2,{"$f":"VLOOKUP(F526,Tables!$G$5:$H$14,2,FALSE)*(M526-(P526+Q526*Tables!$C$6))*(P526+Q526*Tables!$C$6)*1.36136","v":5.4792540784181201},"Controlled OD (DR-41) Iron Pipe Size","ASTM F714"]
[null,null,null,null,{"$f":"ROW()","v":527},"PE","IPS (DR)",14,"14"," 50 psi   DR-41",41,{"$f":"VLOOKUP(K527,Tables!$C$42:$G$58,IF(Tables!$C$5=4710,IF(N527=\"ID\",5,3),IF(N527=\"ID\",4,2)),FALSE)","v":50},14,"OD",null,0.34100000000000003,6.3E-2,{"$f":"VLOOKUP(F527,Tables!$G$5:$H$14,2,FALSE)*(M527-(P527+Q527*Tables!$C$6))*(P527+Q527*Tables!$C$6)*1.36136","v":6.6203501934569999},"Controlled OD (DR-41) Iron Pipe Size","ASTM F714"]
[null,null,null,null,{"$f":"ROW()","v":528},"PE","IPS (DR)",16,"16"," 50 psi   DR-41",41,{"$f":"VLOOKUP(K528,Tables!$C$42:$G$58,IF(Tables!$C$5=4710,IF(N528=\"ID\",5,3),IF(N528=\"ID\",4,2)),FALSE)","v":50},16,"OD",null,0.39,7.1999999999999995E-2,{"$f":"VLOOKUP(F528,Tables!$G$5:$H$14,2,FALSE)*(M528-(P528+Q528*Tables!$C$6))*(P528+Q528*Tables!$C$6)*1.36136","v":8.6526326177491182},"Controlled OD (DR-41) Iron Pipe Size","ASTM F714"]
[null,null,null,null,{"$f":"ROW()","v":529},"PE","IPS (DR)",18,"18"," 50 psi   DR-41",41,{"$f":"VLOOKUP(K529,Tables!$C$42:$G$58,IF(Tables!$C$5=4710,IF(N529=\"ID\",5,3),IF(N529=\"ID\",4,2)),FALSE)","v":50},18,"OD",null,0.439,8.1000000000000003E-2,{"$f":"VLOOKUP(F529,Tables!$G$5:$H$14,2,FALSE)*(M529-(P529+Q529*Tables!$C$6))*(P529+Q529*Tables!$C$6)*1.36136","v":10.956544383464678},"Controlled OD (DR-41) Iron Pipe Size","ASTM F714"]
[null,null,null,null,{"$f":"ROW()","v":530},"PE","IPS (DR)",20,"20"," 50 psi   DR-41",41,{"$f":"VLOOKUP(K530,Tables!$C$42:$G$58,IF(Tables!$C$5=4710,IF(N530=\"ID\",5,3),IF(N530=\"ID\",4,2)),FALSE)","v":50},20,"OD",null,0.48799999999999999,0.09,{"$f":"VLOOKUP(F530,Tables!$G$5:$H$14,2,FALSE)*(M530-(P530+Q530*Tables!$C$6))*(P530+Q530*Tables!$C$6)*1.36136","v":13.532085490603681},"Controlled OD (DR-41) Iron Pipe Size","ASTM F714"]
[null,null,null,null,{"$f":"ROW()","v":531},"PE","IPS (DR)",22,"22"," 50 psi   DR-41",41,{"$f":"VLOOKUP(K531,Tables!$C$42:$G$58,IF(Tables!$C$5=4710,IF(N531=\"ID\",5,3),IF(N531=\"ID\",4,2)),FALSE)","v":50},22,"OD",null,0.53700000000000003,9.9000000000000005E-2,{"$f":"VLOOKUP(F531,Tables!$G$5:$H$14,2,FALSE)*(M531-(P531+Q531*Tables!$C$6))*(P531+Q531*Tables!$C$6)*1.36136","v":16.379255939166118},"Controlled OD (DR-41) Iron Pipe Size","ASTM F714"]
[null,null,null,null,{"$f":"ROW()","v":532},"PE","IPS (DR)",24,"24"," 50 psi   DR-41",41,{"$f":"VLOOKUP(K532,Tables!$C$42:$G$58,IF(Tables!$C$5=4710,IF(N532=\"ID\",5,3),IF(N532=\"ID\",4,2)),FALSE)","v":50},24,"OD",null,0.58499999999999996,0.108,{"$f":"VLOOKUP(F532,Tables!$G$5:$H$14,2,FALSE)*(M532-(P532+Q532*Tables!$C$6))*(P532+Q532*Tables!$C$6)*1.36136","v":19.46842338993552},"Controlled OD (DR-41) Iron Pipe Size","ASTM F714"]
[null,null,null,null,{"$f":"ROW()","v":533},"PE","IPS (DR)",26,"26"," 50 psi   DR-41",41,{"$f":"VLOOKUP(K533,Tables!$C$42:$G$58,IF(Tables!$C$5=4710,IF(N533=\"ID\",5,3),IF(N533=\"ID\",4,2)),FALSE)","v":50},26,"OD",null,0.63400000000000001,0.11700000000000001,{"$f":"VLOOKUP(F533,Tables!$G$5:$H$14,2,FALSE)*(M533-(P533+Q533*Tables!$C$6))*(P533+Q533*Tables!$C$6)*1.36136","v":22.856383703153},"Controlled OD (DR-41) Iron Pipe Size","ASTM F714"]
[null,null,null,null,{"$f":"ROW()","v":534},"PE","IPS (DR)",28,"28"," 50 psi   DR-41",41,{"$f":"VLOOKUP(K534,Tables!$C$42:$G$58,IF(Tables!$C$5=4710,IF(N534=\"ID\",5,3),IF(N534=\"ID\",4,2)),FALSE)","v":50},28,"OD",null,0.68300000000000005,0.126,{"$f":"VLOOKUP(F534,Tables!$G$5:$H$14,2,FALSE)*(M534-(P534+Q534*Tables!$C$6))*(P534+Q534*Tables!$C$6)*1.36136","v":26.515973357793918},"Controlled OD (DR-41) Iron Pipe Size","ASTM F714"]
[null,null,null,null,{"$f":"ROW()","v":535},"PE","IPS (DR)",30,"30"," 50 psi   DR-41",41,{"$f":"VLOOKUP(K535,Tables!$C$42:$G$58,IF(Tables!$C$5=4710,IF(N535=\"ID\",5,3),IF(N535=\"ID\",4,2)),FALSE)","v":50},30,"OD",null,0.73199999999999998,0.13500000000000001,{"$f":"VLOOKUP(F535,Tables!$G$5:$H$14,2,FALSE)*(M535-(P535+Q535*Tables!$C$6))*(P535+Q535*Tables!$C$6)*1.36136","v":30.447192353858277},"Controlled OD (DR-41) Iron Pipe Size","ASTM F714"]
[null,null,null,null,{"$f":"ROW()","v":536},"PE","IPS (DR)",32,"32"," 50 psi   DR-41",41,{"$f":"VLOOKUP(K536,Tables!$C$42:$G$58,IF(Tables!$C$5=4710,IF(N536=\"ID\",5,3),IF(N536=\"ID\",4,2)),FALSE)","v":50},32,"OD",null,0.78,0.14399999999999999,{"$f":"VLOOKUP(F536,Tables!$G$5:$H$14,2,FALSE)*(M536-(P536+Q536*Tables!$C$6))*(P536+Q536*Tables!$C$6)*1.36136","v":34.610530470996473},"Controlled OD (DR-41) Iron Pipe Size","ASTM F714"]
[null,null,null,null,{"$f":"ROW()","v":537},"PE","IPS (DR)",34,"34"," 50 psi   DR-41",41,{"$f":"VLOOKUP(K537,Tables!$C$42:$G$58,IF(Tables!$C$5=4710,IF(N537=\"ID\",5,3),IF(N537=\"ID\",4,2)),FALSE)","v":50},34,"OD",null,0.82899999999999996,0.153,{"$f":"VLOOKUP(F537,Tables!$G$5:$H$14,2,FALSE)*(M537-(P537+Q537*Tables!$C$6))*(P537+Q537*Tables!$C$6)*1.36136","v":39.082539331715871},"Controlled OD (DR-41) Iron Pipe Size","ASTM F714"]
[null,null,null,null,{"$f":"ROW()","v":538},"PE","IPS (DR)",36,"36"," 50 psi   DR-41",41,{"$f":"VLOOKUP(K538,Tables!$C$42:$G$58,IF(Tables!$C$5=4710,IF(N538=\"ID\",5,3),IF(N538=\"ID\",4,2)),FALSE)","v":50},36,"OD",null,0.878,0.16200000000000001,{"$f":"VLOOKUP(F538,Tables!$G$5:$H$14,2,FALSE)*(M538-(P538+Q538*Tables!$C$6))*(P538+Q538*Tables!$C$6)*1.36136","v":43.826177533858711},"Controlled OD (DR-41) Iron Pipe Size","ASTM F714"]
[null,null,null,null,{"$f":"ROW()","v":539},"PE","IPS (DR)",42,"42"," 50 psi   DR-41",41,{"$f":"VLOOKUP(K539,Tables!$C$42:$G$58,IF(Tables!$C$5=4710,IF(N539=\"ID\",5,3),IF(N539=\"ID\",4,2)),FALSE)","v":50},42,"OD",null,1.024,0.189,{"$f":"VLOOKUP(F539,Tables!$G$5:$H$14,2,FALSE)*(M539-(P539+Q539*Tables!$C$6))*(P539+Q539*Tables!$C$6)*1.36136","v":59.635011269153317},"Controlled OD (DR-41) Iron Pipe Size","ASTM F714"]
[null,null,null,null,{"$f":"ROW()","v":540},"PE","IPS (DR)",48,"48"," 50 psi   DR-41",41,{"$f":"VLOOKUP(K540,Tables!$C$42:$G$58,IF(Tables!$C$5=4710,IF(N540=\"ID\",5,3),IF(N540=\"ID\",4,2)),FALSE)","v":50},48,"OD",null,1.171,0.216,{"$f":"VLOOKUP(F540,Tables!$G$5:$H$14,2,FALSE)*(M540-(P540+Q540*Tables!$C$6))*(P540+Q540*Tables!$C$6)*1.36136","v":77.932959542357921},"Controlled OD (DR-41) Iron Pipe Size","ASTM F714"]
[null,null,null,null,{"$f":"ROW()","v":541},"PE","IPS (DR)",54,"54"," 50 psi   DR-41",41,{"$f":"VLOOKUP(K541,Tables!$C$42:$G$58,IF(Tables!$C$5=4710,IF(N541=\"ID\",5,3),IF(N541=\"ID\",4,2)),FALSE)","v":50},54,"OD",null,1.3169999999999999,0.24299999999999999,{"$f":"VLOOKUP(F541,Tables!$G$5:$H$14,2,FALSE)*(M541-(P541+Q541*Tables!$C$6))*(P541+Q541*Tables!$C$6)*1.36136","v":98.608899451182111},"Controlled OD (DR-41) Iron Pipe Size","ASTM F714"]
[null,null,null,1,{"$f":"ROW()","v":542},"PE","IPS (DR)",1.5,"1 1/2",{"$f":"\" \"&L542&\" psi   DR-\"&K542","v":" 65 psi   DR-32.5"},32.5,{"$f":"VLOOKUP(K542,Tables!$C$42:$G$58,IF(Tables!$C$5=4710,IF(N542=\"ID\",5,3),IF(N542=\"ID\",4,2)),FALSE)","v":65},1.9,"OD",null,6.2E-2,0.02,{"$f":"VLOOKUP(F542,Tables!$G$5:$H$14,2,FALSE)*(M542-(P542+Q542*Tables!$C$6))*(P542+Q542*Tables!$C$6)*1.36136","v":0.17165133393407997},{"$f":"\"Controlled OD (DR-\"&K542&\") Iron Pipe Size\"","v":"Controlled OD (DR-32.5) Iron Pipe Size"},"ASTM D3035"]
[null,null,null,null,{"$f":"ROW()","v":543},"PE","IPS (DR)",2,"2",{"$f":"\" \"&L543&\" psi   DR-\"&K543","v":" 65 psi   DR-32.5"},32.5,{"$f":"VLOOKUP(K543,Tables!$C$42:$G$58,IF(Tables!$C$5=4710,IF(N543=\"ID\",5,3),IF(N543=\"ID\",4,2)),FALSE)","v":65},2.375,"OD",null,7.2999999999999995E-2,0.02,{"$f":"VLOOKUP(F543,Tables!$G$5:$H$14,2,FALSE)*(M543-(P543+Q543*Tables!$C$6))*(P543+Q543*Tables!$C$6)*1.36136","v":0.24810253435967991},{"$f":"\"Controlled OD (DR-\"&K543&\") Iron Pipe Size\"","v":"Controlled OD (DR-32.5) Iron Pipe Size"},"ASTM D3035"]
[null,null,null,null,{"$f":"ROW()","v":544},"PE","IPS (DR)",3,"3"," 65 psi   DR-32.5",32.5,{"$f":"VLOOKUP(K544,Tables!$C$42:$G$58,IF(Tables!$C$5=4710,IF(N544=\"ID\",5,3),IF(N544=\"ID\",4,2)),FALSE)","v":65},3.5,"OD",null,0.108,0.02,{"$f":"VLOOKUP(F544,Tables!$G$5:$H$14,2,FALSE)*(M544-(P544+Q544*Tables!$C$6))*(P544+Q544*Tables!$C$6)*1.36136","v":0.52046808701887992},"Controlled OD (DR-32.5) Iron Pipe Size","ASTM D3035"]
[null,null,null,null,{"$f":"ROW()","v":545},"PE","IPS (DR)",4,"4"," 65 psi   DR-32.5",32.5,{"$f":"VLOOKUP(K545,Tables!$C$42:$G$58,IF(Tables!$C$5=4710,IF(N545=\"ID\",5,3),IF(N545=\"ID\",4,2)),FALSE)","v":65},4.5,"OD",null,0.13800000000000001,0.02,{"$f":"VLOOKUP(F545,Tables!$G$5:$H$14,2,FALSE)*(M545-(P545+Q545*Tables!$C$6))*(P545+Q545*Tables!$C$6)*1.36136","v":0.84001897627648014},"Controlled OD (DR-32.5) Iron Pipe Size","ASTM F714"]
[null,null,null,null,{"$f":"ROW()","v":546},"PE","IPS (DR)",5,"5"," 65 psi   DR-32.5",32.5,{"$f":"VLOOKUP(K546,Tables!$C$42:$G$58,IF(Tables!$C$5=4710,IF(N546=\"ID\",5,3),IF(N546=\"ID\",4,2)),FALSE)","v":65},5.5629999999999997,"OD",null,0.17100000000000001,2.5000000000000001E-2,{"$f":"VLOOKUP(F546,Tables!$G$5:$H$14,2,FALSE)*(M546-(P546+Q546*Tables!$C$6))*(P546+Q546*Tables!$C$6)*1.36136","v":1.2874088058431599},"Controlled OD (DR-32.5) Iron Pipe Size","ASTM F714"]
[null,null,null,null,{"$f":"ROW()","v":547},"PE","IPS (DR)",6,"6"," 65 psi   DR-32.5",32.5,{"$f":"VLOOKUP(K547,Tables!$C$42:$G$58,IF(Tables!$C$5=4710,IF(N547=\"ID\",5,3),IF(N547=\"ID\",4,2)),FALSE)","v":65},6.625,"OD",null,0.20399999999999999,0.03,{"$f":"VLOOKUP(F547,Tables!$G$5:$H$14,2,FALSE)*(M547-(P547+Q547*Tables!$C$6))*(P547+Q547*Tables!$C$6)*1.36136","v":1.8296564209123194},"Controlled OD (DR-32.5) Iron Pipe Size","ASTM F714"]
[null,null,null,null,{"$f":"ROW()","v":548},"PE","IPS (DR)",7,"7"," 65 psi   DR-32.5",32.5,{"$f":"VLOOKUP(K548,Tables!$C$42:$G$58,IF(Tables!$C$5=4710,IF(N548=\"ID\",5,3),IF(N548=\"ID\",4,2)),FALSE)","v":65},7.125,"OD",null,0.219,3.4000000000000002E-2,{"$f":"VLOOKUP(F548,Tables!$G$5:$H$14,2,FALSE)*(M548-(P548+Q548*Tables!$C$6))*(P548+Q548*Tables!$C$6)*1.36136","v":2.1203457430355197},"Controlled OD (DR-32.5) Iron Pipe Size","ASTM F714"]
[null,null,null,null,{"$f":"ROW()","v":549},"PE","IPS (DR)",8,"8"," 65 psi   DR-32.5",32.5,{"$f":"VLOOKUP(K549,Tables!$C$42:$G$58,IF(Tables!$C$5=4710,IF(N549=\"ID\",5,3),IF(N549=\"ID\",4,2)),FALSE)","v":65},8.625,"OD",null,0.26500000000000001,3.9E-2,{"$f":"VLOOKUP(F549,Tables!$G$5:$H$14,2,FALSE)*(M549-(P549+Q549*Tables!$C$6))*(P549+Q549*Tables!$C$6)*1.36136","v":3.0946593648770802},"Controlled OD (DR-32.5) Iron Pipe Size","ASTM F714"]
[null,null,null,null,{"$f":"ROW()","v":550},"PE","IPS (DR)",10,"10"," 65 psi   DR-32.5",32.5,{"$f":"VLOOKUP(K550,Tables!$C$42:$G$58,IF(Tables!$C$5=4710,IF(N550=\"ID\",5,3),IF(N550=\"ID\",4,2)),FALSE)","v":65},10.75,"OD",null,0.33100000000000002,4.8000000000000001E-2,{"$f":"VLOOKUP(F550,Tables!$G$5:$H$14,2,FALSE)*(M550-(P550+Q550*Tables!$C$6))*(P550+Q550*Tables!$C$6)*1.36136","v":4.8127282683479997},"Controlled OD (DR-32.5) Iron Pipe Size","ASTM F714"]
[null,null,null,null,{"$f":"ROW()","v":551},"PE","IPS (DR)",12,"12"," 65 psi   DR-32.5",32.5,{"$f":"VLOOKUP(K551,Tables!$C$42:$G$58,IF(Tables!$C$5=4710,IF(N551=\"ID\",5,3),IF(N551=\"ID\",4,2)),FALSE)","v":65},12.75,"OD",null,0.39200000000000002,5.7000000000000002E-2,{"$f":"VLOOKUP(F551,Tables!$G$5:$H$14,2,FALSE)*(M551-(P551+Q551*Tables!$C$6))*(P551+Q551*Tables!$C$6)*1.36136","v":6.7616075453726801},"Controlled OD (DR-32.5) Iron Pipe Size","ASTM F714"]
[null,null,null,null,{"$f":"ROW()","v":552},"PE","IPS (DR)",14,"14"," 65 psi   DR-32.5",32.5,{"$f":"VLOOKUP(K552,Tables!$C$42:$G$58,IF(Tables!$C$5=4710,IF(N552=\"ID\",5,3),IF(N552=\"ID\",4,2)),FALSE)","v":65},14,"OD",null,0.43099999999999999,6.3E-2,{"$f":"VLOOKUP(F552,Tables!$G$5:$H$14,2,FALSE)*(M552-(P552+Q552*Tables!$C$6))*(P552+Q552*Tables!$C$6)*1.36136","v":8.1656112788249988},"Controlled OD (DR-32.5) Iron Pipe Size","ASTM F714"]
[null,null,null,null,{"$f":"ROW()","v":553},"PE","IPS (DR)",16,"16"," 65 psi   DR-32.5",32.5,{"$f":"VLOOKUP(K553,Tables!$C$42:$G$58,IF(Tables!$C$5=4710,IF(N553=\"ID\",5,3),IF(N553=\"ID\",4,2)),FALSE)","v":65},16,"OD",null,0.49199999999999999,7.1999999999999995E-2,{"$f":"VLOOKUP(F553,Tables!$G$5:$H$14,2,FALSE)*(M553-(P553+Q553*Tables!$C$6))*(P553+Q553*Tables!$C$6)*1.36136","v":10.654151650222079},"Controlled OD (DR-32.5) Iron Pipe Size","ASTM F714"]
[null,null,null,null,{"$f":"ROW()","v":554},"PE","IPS (DR)",18,"18"," 65 psi   DR-32.5",32.5,{"$f":"VLOOKUP(K554,Tables!$C$42:$G$58,IF(Tables!$C$5=4710,IF(N554=\"ID\",5,3),IF(N554=\"ID\",4,2)),FALSE)","v":65},18,"OD",null,0.55400000000000005,8.1000000000000003E-2,{"$f":"VLOOKUP(F554,Tables!$G$5:$H$14,2,FALSE)*(M554-(P554+Q554*Tables!$C$6))*(P554+Q554*Tables!$C$6)*1.36136","v":13.495123317555878},"Controlled OD (DR-32.5) Iron Pipe Size","ASTM F714"]
[null,null,null,null,{"$f":"ROW()","v":555},"PE","IPS (DR)",20,"20"," 65 psi   DR-32.5",32.5,{"$f":"VLOOKUP(K555,Tables!$C$42:$G$58,IF(Tables!$C$5=4710,IF(N555=\"ID\",5,3),IF(N555=\"ID\",4,2)),FALSE)","v":65},20,"OD",null,0.61499999999999999,0.09,{"$f":"VLOOKUP(F555,Tables!$G$5:$H$14,2,FALSE)*(M555-(P555+Q555*Tables!$C$6))*(P555+Q555*Tables!$C$6)*1.36136","v":16.647111953471999},"Controlled OD (DR-32.5) Iron Pipe Size","ASTM F714"]
[null,null,null,null,{"$f":"ROW()","v":556},"PE","IPS (DR)",22,"22"," 65 psi   DR-32.5",32.5,{"$f":"VLOOKUP(K556,Tables!$C$42:$G$58,IF(Tables!$C$5=4710,IF(N556=\"ID\",5,3),IF(N556=\"ID\",4,2)),FALSE)","v":65},22,"OD",null,0.67700000000000005,9.9000000000000005E-2,{"$f":"VLOOKUP(F556,Tables!$G$5:$H$14,2,FALSE)*(M556-(P556+Q556*Tables!$C$6))*(P556+Q556*Tables!$C$6)*1.36136","v":20.156404312564518},"Controlled OD (DR-32.5) Iron Pipe Size","ASTM F714"]
[null,null,null,null,{"$f":"ROW()","v":557},"PE","IPS (DR)",24,"24"," 65 psi   DR-32.5",32.5,{"$f":"VLOOKUP(K557,Tables!$C$42:$G$58,IF(Tables!$C$5=4710,IF(N557=\"ID\",5,3),IF(N557=\"ID\",4,2)),FALSE)","v":65},24,"OD",null,0.73799999999999999,0.108,{"$f":"VLOOKUP(F557,Tables!$G$5:$H$14,2,FALSE)*(M557-(P557+Q557*Tables!$C$6))*(P557+Q557*Tables!$C$6)*1.36136","v":23.971841212999678},"Controlled OD (DR-32.5) Iron Pipe Size","ASTM F714"]
[null,null,null,null,{"$f":"ROW()","v":558},"PE","IPS (DR)",26,"26"," 65 psi   DR-32.5",32.5,{"$f":"VLOOKUP(K558,Tables!$C$42:$G$58,IF(Tables!$C$5=4710,IF(N558=\"ID\",5,3),IF(N558=\"ID\",4,2)),FALSE)","v":65},26,"OD",null,0.8,0.11700000000000001,{"$f":"VLOOKUP(F558,Tables!$G$5:$H$14,2,FALSE)*(M558-(P558+Q558*Tables!$C$6))*(P558+Q558*Tables!$C$6)*1.36136","v":28.14945426385092},"Controlled OD (DR-32.5) Iron Pipe Size","ASTM F714"]
[null,null,null,null,{"$f":"ROW()","v":559},"PE","IPS (DR)",28,"28"," 65 psi   DR-32.5",32.5,{"$f":"VLOOKUP(K559,Tables!$C$42:$G$58,IF(Tables!$C$5=4710,IF(N559=\"ID\",5,3),IF(N559=\"ID\",4,2)),FALSE)","v":65},28,"OD",null,0.86199999999999999,0.126,{"$f":"VLOOKUP(F559,Tables!$G$5:$H$14,2,FALSE)*(M559-(P559+Q559*Tables!$C$6))*(P559+Q559*Tables!$C$6)*1.36136","v":32.662445115299995},"Controlled OD (DR-32.5) Iron Pipe Size","ASTM F714"]
[null,null,null,null,{"$f":"ROW()","v":560},"PE","IPS (DR)",30,"30"," 65 psi   DR-32.5",32.5,{"$f":"VLOOKUP(K560,Tables!$C$42:$G$58,IF(Tables!$C$5=4710,IF(N560=\"ID\",5,3),IF(N560=\"ID\",4,2)),FALSE)","v":65},30,"OD",null,0.92300000000000004,0.13500000000000001,{"$f":"VLOOKUP(F560,Tables!$G$5:$H$14,2,FALSE)*(M560-(P560+Q560*Tables!$C$6))*(P560+Q560*Tables!$C$6)*1.36136","v":37.474273171415078},"Controlled OD (DR-32.5) Iron Pipe Size","ASTM F714"]
[null,null,null,null,{"$f":"ROW()","v":561},"PE","IPS (DR)",32,"32"," 65 psi   DR-32.5",32.5,{"$f":"VLOOKUP(K561,Tables!$C$42:$G$58,IF(Tables!$C$5=4710,IF(N561=\"ID\",5,3),IF(N561=\"ID\",4,2)),FALSE)","v":65},32,"OD",null,0.98499999999999999,0.14399999999999999,{"$f":"VLOOKUP(F561,Tables!$G$5:$H$14,2,FALSE)*(M561-(P561+Q561*Tables!$C$6))*(P561+Q561*Tables!$C$6)*1.36136","v":42.655584714622876},"Controlled OD (DR-32.5) Iron Pipe Size","ASTM F714"]
[null,null,null,null,{"$f":"ROW()","v":562},"PE","IPS (DR)",34,"34"," 65 psi   DR-32.5",32.5,{"$f":"VLOOKUP(K562,Tables!$C$42:$G$58,IF(Tables!$C$5=4710,IF(N562=\"ID\",5,3),IF(N562=\"ID\",4,2)),FALSE)","v":65},34,"OD",null,1.046,0.153,{"$f":"VLOOKUP(F562,Tables!$G$5:$H$14,2,FALSE)*(M562-(P562+Q562*Tables!$C$6))*(P562+Q562*Tables!$C$6)*1.36136","v":48.130861035256991},"Controlled OD (DR-32.5) Iron Pipe Size","ASTM F714"]
[null,null,null,null,{"$f":"ROW()","v":563},"PE","IPS (DR)",36,"36"," 65 psi   DR-32.5",32.5,{"$f":"VLOOKUP(K563,Tables!$C$42:$G$58,IF(Tables!$C$5=4710,IF(N563=\"ID\",5,3),IF(N563=\"ID\",4,2)),FALSE)","v":65},36,"OD",null,1.1080000000000001,0.16200000000000001,{"$f":"VLOOKUP(F563,Tables!$G$5:$H$14,2,FALSE)*(M563-(P563+Q563*Tables!$C$6))*(P563+Q563*Tables!$C$6)*1.36136","v":53.980493270223512},"Controlled OD (DR-32.5) Iron Pipe Size","ASTM F714"]
[null,null,null,null,{"$f":"ROW()","v":564},"PE","IPS (DR)",42,"42"," 65 psi   DR-32.5",32.5,{"$f":"VLOOKUP(K564,Tables!$C$42:$G$58,IF(Tables!$C$5=4710,IF(N564=\"ID\",5,3),IF(N564=\"ID\",4,2)),FALSE)","v":65},42,"OD",null,1.292,0.189,{"$f":"VLOOKUP(F564,Tables!$G$5:$H$14,2,FALSE)*(M564-(P564+Q564*Tables!$C$6))*(P564+Q564*Tables!$C$6)*1.36136","v":73.439343631774122},"Controlled OD (DR-32.5) Iron Pipe Size","ASTM F714"]
[null,null,null,null,{"$f":"ROW()","v":565},"PE","IPS (DR)",48,"48"," 65 psi   DR-32.5",32.5,{"$f":"VLOOKUP(K565,Tables!$C$42:$G$58,IF(Tables!$C$5=4710,IF(N565=\"ID\",5,3),IF(N565=\"ID\",4,2)),FALSE)","v":65},48,"OD",null,1.4770000000000001,0.216,{"$f":"VLOOKUP(F565,Tables!$G$5:$H$14,2,FALSE)*(M565-(P565+Q565*Tables!$C$6))*(P565+Q565*Tables!$C$6)*1.36136","v":95.945832674691999},"Controlled OD (DR-32.5) Iron Pipe Size","ASTM F714"]
[null,null,null,null,{"$f":"ROW()","v":566},"PE","IPS (DR)",54,"54"," 65 psi   DR-32.5",32.5,{"$f":"VLOOKUP(K566,Tables!$C$42:$G$58,IF(Tables!$C$5=4710,IF(N566=\"ID\",5,3),IF(N566=\"ID\",4,2)),FALSE)","v":65},54,"OD",null,1.6619999999999999,0.24299999999999999,{"$f":"VLOOKUP(F566,Tables!$G$5:$H$14,2,FALSE)*(M566-(P566+Q566*Tables!$C$6))*(P566+Q566*Tables!$C$6)*1.36136","v":121.45610985800289},"Controlled OD (DR-32.5) Iron Pipe Size","ASTM F714"]
[null,null,null,null,{"$f":"ROW()","v":567},"PE","IPS (DR)",60,"60"," 65 psi   DR-32.5",32.5,{"$f":"VLOOKUP(K567,Tables!$C$42:$G$58,IF(Tables!$C$5=4710,IF(N567=\"ID\",5,3),IF(N567=\"ID\",4,2)),FALSE)","v":65},60,"OD",null,1.8460000000000001,0.27,{"$f":"VLOOKUP(F567,Tables!$G$5:$H$14,2,FALSE)*(M567-(P567+Q567*Tables!$C$6))*(P567+Q567*Tables!$C$6)*1.36136","v":149.89709268566031},"Controlled OD (DR-32.5) Iron Pipe Size","ASTM F714"]
[null,null,null,null,{"$f":"ROW()","v":568},"PE","IPS (DR)",63,"63"," 65 psi   DR-32.5",32.5,{"$f":"VLOOKUP(K568,Tables!$C$42:$G$58,IF(Tables!$C$5=4710,IF(N568=\"ID\",5,3),IF(N568=\"ID\",4,2)),FALSE)","v":65},63,"OD",null,1.9379999999999999,0.28399999999999997,{"$f":"VLOOKUP(F568,Tables!$G$5:$H$14,2,FALSE)*(M568-(P568+Q568*Tables!$C$6))*(P568+Q568*Tables!$C$6)*1.36136","v":165.25770778316797},"Controlled OD (DR-32.5) Iron Pipe Size","ASTM F714"]
[null,null,null,null,{"$f":"ROW()","v":569},"PE","IPS (DR)",65,"65"," 65 psi   DR-32.5",32.5,{"$f":"VLOOKUP(K569,Tables!$C$42:$G$58,IF(Tables!$C$5=4710,IF(N569=\"ID\",5,3),IF(N569=\"ID\",4,2)),FALSE)","v":65},65,"OD",null,2,0.29299999999999998,{"$f":"VLOOKUP(F569,Tables!$G$5:$H$14,2,FALSE)*(M569-(P569+Q569*Tables!$C$6))*(P569+Q569*Tables!$C$6)*1.36136","v":175.95388248810369},"Controlled OD (DR-32.5) Iron Pipe Size","ASTM F714"]
[null,null,null,null,{"$f":"ROW()","v":570},"PE","IPS (DR)",1,"1"," 80 psi   DR-26",26,{"$f":"VLOOKUP(K570,Tables!$C$42:$G$58,IF(Tables!$C$5=4710,IF(N570=\"ID\",5,3),IF(N570=\"ID\",4,2)),FALSE)","v":80},1.3149999999999999,"OD",null,6.2E-2,0.02,{"$f":"VLOOKUP(F570,Tables!$G$5:$H$14,2,FALSE)*(M570-(P570+Q570*Tables!$C$6))*(P570+Q570*Tables!$C$6)*1.36136","v":0.11671915102847998},"Controlled OD (DR-26) Iron Pipe Size","ASTM D3035"]
[null,null,null,null,{"$f":"ROW()","v":571},"PE","IPS (DR)",1.25,"1 1/4"," 80 psi   DR-26",26,{"$f":"VLOOKUP(K571,Tables!$C$42:$G$58,IF(Tables!$C$5=4710,IF(N571=\"ID\",5,3),IF(N571=\"ID\",4,2)),FALSE)","v":80},1.66,"OD",null,6.4000000000000001E-2,0.02,{"$f":"VLOOKUP(F571,Tables!$G$5:$H$14,2,FALSE)*(M571-(P571+Q571*Tables!$C$6))*(P571+Q571*Tables!$C$6)*1.36136","v":0.15306411952831997},"Controlled OD (DR-26) Iron Pipe Size","ASTM D3035"]
[null,null,null,null,{"$f":"ROW()","v":572},"PE","IPS (DR)",1.5,"1 1/2"," 80 psi   DR-26",26,{"$f":"VLOOKUP(K572,Tables!$C$42:$G$58,IF(Tables!$C$5=4710,IF(N572=\"ID\",5,3),IF(N572=\"ID\",4,2)),FALSE)","v":80},1.9,"OD",null,7.2999999999999995E-2,0.02,{"$f":"VLOOKUP(F572,Tables!$G$5:$H$14,2,FALSE)*(M572-(P572+Q572*Tables!$C$6))*(P572+Q572*Tables!$C$6)*1.36136","v":0.19668512431567994},"Controlled OD (DR-26) Iron Pipe Size","ASTM D3035"]
[null,null,null,null,{"$f":"ROW()","v":573},"PE","IPS (DR)",2,"2"," 80 psi   DR-26",26,{"$f":"VLOOKUP(K573,Tables!$C$42:$G$58,IF(Tables!$C$5=4710,IF(N573=\"ID\",5,3),IF(N573=\"ID\",4,2)),FALSE)","v":80},2.375,"OD",null,9.0999999999999998E-2,0.02,{"$f":"VLOOKUP(F573,Tables!$G$5:$H$14,2,FALSE)*(M573-(P573+Q573*Tables!$C$6))*(P573+Q573*Tables!$C$6)*1.36136","v":0.29953689878111994},"Controlled OD (DR-26) Iron Pipe Size","ASTM D3035"]
[null,null,null,null,{"$f":"ROW()","v":574},"PE","IPS (DR)",3,"3"," 80 psi   DR-26",26,{"$f":"VLOOKUP(K574,Tables!$C$42:$G$58,IF(Tables!$C$5=4710,IF(N574=\"ID\",5,3),IF(N574=\"ID\",4,2)),FALSE)","v":80},3.5,"OD",null,0.13500000000000001,0.02,{"$f":"VLOOKUP(F574,Tables!$G$5:$H$14,2,FALSE)*(M574-(P574+Q574*Tables!$C$6))*(P574+Q574*Tables!$C$6)*1.36136","v":0.63445236654799997},"Controlled OD (DR-26) Iron Pipe Size","ASTM D3035"]
[null,null,null,null,{"$f":"ROW()","v":575},"PE","IPS (DR)",4,"4"," 80 psi   DR-26",26,{"$f":"VLOOKUP(K575,Tables!$C$42:$G$58,IF(Tables!$C$5=4710,IF(N575=\"ID\",5,3),IF(N575=\"ID\",4,2)),FALSE)","v":80},4.5,"OD",null,0.17299999999999999,0.02,{"$f":"VLOOKUP(F575,Tables!$G$5:$H$14,2,FALSE)*(M575-(P575+Q575*Tables!$C$6))*(P575+Q575*Tables!$C$6)*1.36136","v":1.0303188212116798},"Controlled OD (DR-26) Iron Pipe Size","ASTM F714"]
[null,null,null,null,{"$f":"ROW()","v":576},"PE","IPS (DR)",5,"5"," 80 psi   DR-26",26,{"$f":"VLOOKUP(K576,Tables!$C$42:$G$58,IF(Tables!$C$5=4710,IF(N576=\"ID\",5,3),IF(N576=\"ID\",4,2)),FALSE)","v":80},5.5629999999999997,"OD",null,0.214,2.5000000000000001E-2,{"$f":"VLOOKUP(F576,Tables!$G$5:$H$14,2,FALSE)*(M576-(P576+Q576*Tables!$C$6))*(P576+Q576*Tables!$C$6)*1.36136","v":1.5763883442106799},"Controlled OD (DR-26) Iron Pipe Size","ASTM F714"]
[null,null,null,null,{"$f":"ROW()","v":577},"PE","IPS (DR)",6,"6"," 80 psi   DR-26",26,{"$f":"VLOOKUP(K577,Tables!$C$42:$G$58,IF(Tables!$C$5=4710,IF(N577=\"ID\",5,3),IF(N577=\"ID\",4,2)),FALSE)","v":80},6.625,"OD",null,0.255,0.03,{"$f":"VLOOKUP(F577,Tables!$G$5:$H$14,2,FALSE)*(M577-(P577+Q577*Tables!$C$6))*(P577+Q577*Tables!$C$6)*1.36136","v":2.2377821946480001},"Controlled OD (DR-26) Iron Pipe Size","ASTM F714"]
[null,null,null,null,{"$f":"ROW()","v":578},"PE","IPS (DR)",7,"7"," 80 psi   DR-26",26,{"$f":"VLOOKUP(K578,Tables!$C$42:$G$58,IF(Tables!$C$5=4710,IF(N578=\"ID\",5,3),IF(N578=\"ID\",4,2)),FALSE)","v":80},7.125,"OD",null,0.27400000000000002,3.4000000000000002E-2,{"$f":"VLOOKUP(F578,Tables!$G$5:$H$14,2,FALSE)*(M578-(P578+Q578*Tables!$C$6))*(P578+Q578*Tables!$C$6)*1.36136","v":2.59362066835872},"Controlled OD (DR-26) Iron Pipe Size","ASTM F714"]
[null,null,null,null,{"$f":"ROW()","v":579},"PE","IPS (DR)",8,"8"," 80 psi   DR-26",26,{"$f":"VLOOKUP(K579,Tables!$C$42:$G$58,IF(Tables!$C$5=4710,IF(N579=\"ID\",5,3),IF(N579=\"ID\",4,2)),FALSE)","v":80},8.625,"OD",null,0.33200000000000002,3.9E-2,{"$f":"VLOOKUP(F579,Tables!$G$5:$H$14,2,FALSE)*(M579-(P579+Q579*Tables!$C$6))*(P579+Q579*Tables!$C$6)*1.36136","v":3.7927402057745203},"Controlled OD (DR-26) Iron Pipe Size","ASTM F714"]
[null,null,null,null,{"$f":"ROW()","v":580},"PE","IPS (DR)",10,"10"," 80 psi   DR-26",26,{"$f":"VLOOKUP(K580,Tables!$C$42:$G$58,IF(Tables!$C$5=4710,IF(N580=\"ID\",5,3),IF(N580=\"ID\",4,2)),FALSE)","v":80},10.75,"OD",null,0.41299999999999998,4.8000000000000001E-2,{"$f":"VLOOKUP(F580,Tables!$G$5:$H$14,2,FALSE)*(M580-(P580+Q580*Tables!$C$6))*(P580+Q580*Tables!$C$6)*1.36136","v":5.8776666241092794},"Controlled OD (DR-26) Iron Pipe Size","ASTM F714"]
[null,null,null,null,{"$f":"ROW()","v":581},"PE","IPS (DR)",12,"12"," 80 psi   DR-26",26,{"$f":"VLOOKUP(K581,Tables!$C$42:$G$58,IF(Tables!$C$5=4710,IF(N581=\"ID\",5,3),IF(N581=\"ID\",4,2)),FALSE)","v":80},12.75,"OD",null,0.49,5.7000000000000002E-2,{"$f":"VLOOKUP(F581,Tables!$G$5:$H$14,2,FALSE)*(M581-(P581+Q581*Tables!$C$6))*(P581+Q581*Tables!$C$6)*1.36136","v":8.2711705369493185},"Controlled OD (DR-26) Iron Pipe Size","ASTM F714"]
[null,null,null,null,{"$f":"ROW()","v":582},"PE","IPS (DR)",14,"14"," 80 psi   DR-26",26,{"$f":"VLOOKUP(K582,Tables!$C$42:$G$58,IF(Tables!$C$5=4710,IF(N582=\"ID\",5,3),IF(N582=\"ID\",4,2)),FALSE)","v":80},14,"OD",null,0.53800000000000003,6.3E-2,{"$f":"VLOOKUP(F582,Tables!$G$5:$H$14,2,FALSE)*(M582-(P582+Q582*Tables!$C$6))*(P582+Q582*Tables!$C$6)*1.36136","v":9.97526414272388},"Controlled OD (DR-26) Iron Pipe Size","ASTM F714"]
[null,null,null,null,{"$f":"ROW()","v":583},"PE","IPS (DR)",16,"16"," 80 psi   DR-26",26,{"$f":"VLOOKUP(K583,Tables!$C$42:$G$58,IF(Tables!$C$5=4710,IF(N583=\"ID\",5,3),IF(N583=\"ID\",4,2)),FALSE)","v":80},16,"OD",null,0.61499999999999999,7.1999999999999995E-2,{"$f":"VLOOKUP(F583,Tables!$G$5:$H$14,2,FALSE)*(M583-(P583+Q583*Tables!$C$6))*(P583+Q583*Tables!$C$6)*1.36136","v":13.031654869353121},"Controlled OD (DR-26) Iron Pipe Size","ASTM F714"]
[null,null,null,null,{"$f":"ROW()","v":584},"PE","IPS (DR)",18,"18"," 80 psi   DR-26",26,{"$f":"VLOOKUP(K584,Tables!$C$42:$G$58,IF(Tables!$C$5=4710,IF(N584=\"ID\",5,3),IF(N584=\"ID\",4,2)),FALSE)","v":80},18,"OD",null,0.69199999999999995,8.1000000000000003E-2,{"$f":"VLOOKUP(F584,Tables!$G$5:$H$14,2,FALSE)*(M584-(P584+Q584*Tables!$C$6))*(P584+Q584*Tables!$C$6)*1.36136","v":16.495883797392992},"Controlled OD (DR-26) Iron Pipe Size","ASTM F714"]
[null,null,null,null,{"$f":"ROW()","v":585},"PE","IPS (DR)",20,"20"," 80 psi   DR-26",26,{"$f":"VLOOKUP(K585,Tables!$C$42:$G$58,IF(Tables!$C$5=4710,IF(N585=\"ID\",5,3),IF(N585=\"ID\",4,2)),FALSE)","v":80},20,"OD",null,0.76900000000000002,0.09,{"$f":"VLOOKUP(F585,Tables!$G$5:$H$14,2,FALSE)*(M585-(P585+Q585*Tables!$C$6))*(P585+Q585*Tables!$C$6)*1.36136","v":20.36795092684352},"Controlled OD (DR-26) Iron Pipe Size","ASTM F714"]
[null,null,null,null,{"$f":"ROW()","v":586},"PE","IPS (DR)",22,"22"," 80 psi   DR-26",26,{"$f":"VLOOKUP(K586,Tables!$C$42:$G$58,IF(Tables!$C$5=4710,IF(N586=\"ID\",5,3),IF(N586=\"ID\",4,2)),FALSE)","v":80},22,"OD",null,0.84599999999999997,9.9000000000000005E-2,{"$f":"VLOOKUP(F586,Tables!$G$5:$H$14,2,FALSE)*(M586-(P586+Q586*Tables!$C$6))*(P586+Q586*Tables!$C$6)*1.36136","v":24.647856257704678},"Controlled OD (DR-26) Iron Pipe Size","ASTM F714"]
[null,null,null,null,{"$f":"ROW()","v":587},"PE","IPS (DR)",24,"24"," 80 psi   DR-26",26,{"$f":"VLOOKUP(K587,Tables!$C$42:$G$58,IF(Tables!$C$5=4710,IF(N587=\"ID\",5,3),IF(N587=\"ID\",4,2)),FALSE)","v":80},24,"OD",null,0.92300000000000004,0.108,{"$f":"VLOOKUP(F587,Tables!$G$5:$H$14,2,FALSE)*(M587-(P587+Q587*Tables!$C$6))*(P587+Q587*Tables!$C$6)*1.36136","v":29.335599789976484},"Controlled OD (DR-26) Iron Pipe Size","ASTM F714"]
[null,null,null,null,{"$f":"ROW()","v":588},"PE","IPS (DR)",26,"26"," 80 psi   DR-26",26,{"$f":"VLOOKUP(K588,Tables!$C$42:$G$58,IF(Tables!$C$5=4710,IF(N588=\"ID\",5,3),IF(N588=\"ID\",4,2)),FALSE)","v":80},26,"OD",null,1,0.11700000000000001,{"$f":"VLOOKUP(F588,Tables!$G$5:$H$14,2,FALSE)*(M588-(P588+Q588*Tables!$C$6))*(P588+Q588*Tables!$C$6)*1.36136","v":34.431181523658914},"Controlled OD (DR-26) Iron Pipe Size","ASTM F714"]
[null,null,null,null,{"$f":"ROW()","v":589},"PE","IPS (DR)",28,"28"," 80 psi   DR-26",26,{"$f":"VLOOKUP(K589,Tables!$C$42:$G$58,IF(Tables!$C$5=4710,IF(N589=\"ID\",5,3),IF(N589=\"ID\",4,2)),FALSE)","v":80},28,"OD",null,1.077,0.126,{"$f":"VLOOKUP(F589,Tables!$G$5:$H$14,2,FALSE)*(M589-(P589+Q589*Tables!$C$6))*(P589+Q589*Tables!$C$6)*1.36136","v":39.934601458751985},"Controlled OD (DR-26) Iron Pipe Size","ASTM F714"]
[null,null,null,null,{"$f":"ROW()","v":590},"PE","IPS (DR)",30,"30"," 80 psi   DR-26",26,{"$f":"VLOOKUP(K590,Tables!$C$42:$G$58,IF(Tables!$C$5=4710,IF(N590=\"ID\",5,3),IF(N590=\"ID\",4,2)),FALSE)","v":80},30,"OD",null,1.1539999999999999,0.13500000000000001,{"$f":"VLOOKUP(F590,Tables!$G$5:$H$14,2,FALSE)*(M590-(P590+Q590*Tables!$C$6))*(P590+Q590*Tables!$C$6)*1.36136","v":45.84585959525571},"Controlled OD (DR-26) Iron Pipe Size","ASTM F714"]
[null,null,null,null,{"$f":"ROW()","v":591},"PE","IPS (DR)",32,"32"," 80 psi   DR-26",26,{"$f":"VLOOKUP(K591,Tables!$C$42:$G$58,IF(Tables!$C$5=4710,IF(N591=\"ID\",5,3),IF(N591=\"ID\",4,2)),FALSE)","v":80},32,"OD",null,1.2310000000000001,0.14399999999999999,{"$f":"VLOOKUP(F591,Tables!$G$5:$H$14,2,FALSE)*(M591-(P591+Q591*Tables!$C$6))*(P591+Q591*Tables!$C$6)*1.36136","v":52.16495593317007},"Controlled OD (DR-26) Iron Pipe Size","ASTM F714"]
[null,null,null,null,{"$f":"ROW()","v":592},"PE","IPS (DR)",34,"34"," 80 psi   DR-26",26,{"$f":"VLOOKUP(K592,Tables!$C$42:$G$58,IF(Tables!$C$5=4710,IF(N592=\"ID\",5,3),IF(N592=\"ID\",4,2)),FALSE)","v":80},34,"OD",null,1.3080000000000001,0.153,{"$f":"VLOOKUP(F592,Tables!$G$5:$H$14,2,FALSE)*(M592-(P592+Q592*Tables!$C$6))*(P592+Q592*Tables!$C$6)*1.36136","v":58.891890472495071},"Controlled OD (DR-26) Iron Pipe Size","ASTM F714"]
[null,null,null,null,{"$f":"ROW()","v":593},"PE","IPS (DR)",36,"36"," 80 psi   DR-26",26,{"$f":"VLOOKUP(K593,Tables!$C$42:$G$58,IF(Tables!$C$5=4710,IF(N593=\"ID\",5,3),IF(N593=\"ID\",4,2)),FALSE)","v":80},36,"OD",null,1.385,0.16200000000000001,{"$f":"VLOOKUP(F593,Tables!$G$5:$H$14,2,FALSE)*(M593-(P593+Q593*Tables!$C$6))*(P593+Q593*Tables!$C$6)*1.36136","v":66.026663213230705},"Controlled OD (DR-26) Iron Pipe Size","ASTM F714"]
[null,null,null,null,{"$f":"ROW()","v":594},"PE","IPS (DR)",42,"42"," 80 psi   DR-26",26,{"$f":"VLOOKUP(K594,Tables!$C$42:$G$58,IF(Tables!$C$5=4710,IF(N594=\"ID\",5,3),IF(N594=\"ID\",4,2)),FALSE)","v":80},42,"OD",null,1.615,0.189,{"$f":"VLOOKUP(F594,Tables!$G$5:$H$14,2,FALSE)*(M594-(P594+Q594*Tables!$C$6))*(P594+Q594*Tables!$C$6)*1.36136","v":89.827695268391068},"Controlled OD (DR-26) Iron Pipe Size","ASTM F714"]
[null,null,null,null,{"$f":"ROW()","v":595},"PE","IPS (DR)",48,"48"," 80 psi   DR-26",26,{"$f":"VLOOKUP(K595,Tables!$C$42:$G$58,IF(Tables!$C$5=4710,IF(N595=\"ID\",5,3),IF(N595=\"ID\",4,2)),FALSE)","v":80},48,"OD",null,1.8460000000000001,0.216,{"$f":"VLOOKUP(F595,Tables!$G$5:$H$14,2,FALSE)*(M595-(P595+Q595*Tables!$C$6))*(P595+Q595*Tables!$C$6)*1.36136","v":117.34239915990594},"Controlled OD (DR-26) Iron Pipe Size","ASTM F714"]
[null,null,null,null,{"$f":"ROW()","v":596},"PE","IPS (DR)",54,"54"," 80 psi   DR-26",26,{"$f":"VLOOKUP(K596,Tables!$C$42:$G$58,IF(Tables!$C$5=4710,IF(N596=\"ID\",5,3),IF(N596=\"ID\",4,2)),FALSE)","v":80},54,"OD",null,2.077,0.24299999999999999,{"$f":"VLOOKUP(F596,Tables!$G$5:$H$14,2,FALSE)*(M596-(P596+Q596*Tables!$C$6))*(P596+Q596*Tables!$C$6)*1.36136","v":148.52764686411652},"Controlled OD (DR-26) Iron Pipe Size","ASTM F714"]
[null,null,null,null,{"$f":"ROW()","v":597},"PE","IPS (DR)",60,"60"," 80 psi   DR-26",26,{"$f":"VLOOKUP(K597,Tables!$C$42:$G$58,IF(Tables!$C$5=4710,IF(N597=\"ID\",5,3),IF(N597=\"ID\",4,2)),FALSE)","v":80},60,"OD",null,2.3079999999999998,0.27,{"$f":"VLOOKUP(F597,Tables!$G$5:$H$14,2,FALSE)*(M597-(P597+Q597*Tables!$C$6))*(P597+Q597*Tables!$C$6)*1.36136","v":183.38343838102284},"Controlled OD (DR-26) Iron Pipe Size","ASTM F714"]
[null,null,null,null,{"$f":"ROW()","v":598},"PE","IPS (DR)",63,"63"," 80 psi   DR-26",26,{"$f":"VLOOKUP(K598,Tables!$C$42:$G$58,IF(Tables!$C$5=4710,IF(N598=\"ID\",5,3),IF(N598=\"ID\",4,2)),FALSE)","v":80},63,"OD",null,2.423,0.28399999999999997,{"$f":"VLOOKUP(F598,Tables!$G$5:$H$14,2,FALSE)*(M598-(P598+Q598*Tables!$C$6))*(P598+Q598*Tables!$C$6)*1.36136","v":202.16891988493197},"Controlled OD (DR-26) Iron Pipe Size","ASTM F714"]
[null,null,null,null,{"$f":"ROW()","v":599},"PE","IPS (DR)",65,"65"," 80 psi   DR-26",26,{"$f":"VLOOKUP(K599,Tables!$C$42:$G$58,IF(Tables!$C$5=4710,IF(N599=\"ID\",5,3),IF(N599=\"ID\",4,2)),FALSE)","v":80},65,"OD",null,2.5,0.29299999999999998,{"$f":"VLOOKUP(F599,Tables!$G$5:$H$14,2,FALSE)*(M599-(P599+Q599*Tables!$C$6))*(P599+Q599*Tables!$C$6)*1.36136","v":215.21435181618369},"Controlled OD (DR-26) Iron Pipe Size","ASTM F714"]
[null,null,null,null,{"$f":"ROW()","v":600},"PE","IPS (DR)",1,"1",{"$f":"L600&\" psi   DR-\"&K600","v":"100 psi   DR-21"},21,{"$f":"VLOOKUP(K600,Tables!$C$42:$G$58,IF(Tables!$C$5=4710,IF(N600=\"ID\",5,3),IF(N600=\"ID\",4,2)),FALSE)","v":100},1.3149999999999999,"OD",null,6.3E-2,0.02,{"$f":"VLOOKUP(F600,Tables!$G$5:$H$14,2,FALSE)*(M600-(P600+Q600*Tables!$C$6))*(P600+Q600*Tables!$C$6)*1.36136","v":0.11824504499807997},"Controlled OD (DR-21) Iron Pipe Size","ASTM D3035"]
[null,null,null,null,{"$f":"ROW()","v":601},"PE","IPS (DR)",1.25,"1 1/4","100 psi   DR-21",21,{"$f":"VLOOKUP(K601,Tables!$C$42:$G$58,IF(Tables!$C$5=4710,IF(N601=\"ID\",5,3),IF(N601=\"ID\",4,2)),FALSE)","v":100},1.66,"OD",null,7.9000000000000001E-2,0.02,{"$f":"VLOOKUP(F601,Tables!$G$5:$H$14,2,FALSE)*(M601-(P601+Q601*Tables!$C$6))*(P601+Q601*Tables!$C$6)*1.36136","v":0.18234954609871998},"Controlled OD (DR-21) Iron Pipe Size","ASTM D3035"]
[null,null,null,null,{"$f":"ROW()","v":602},"PE","IPS (DR)",1.5,"1 1/2","100 psi   DR-21",21,{"$f":"VLOOKUP(K602,Tables!$C$42:$G$58,IF(Tables!$C$5=4710,IF(N602=\"ID\",5,3),IF(N602=\"ID\",4,2)),FALSE)","v":100},1.9,"OD",null,0.09,0.02,{"$f":"VLOOKUP(F602,Tables!$G$5:$H$14,2,FALSE)*(M602-(P602+Q602*Tables!$C$6))*(P602+Q602*Tables!$C$6)*1.36136","v":0.23475291839999993},"Controlled OD (DR-21) Iron Pipe Size","ASTM D3035"]
[null,null,null,null,{"$f":"ROW()","v":603},"PE","IPS (DR)",2,"2","100 psi   DR-21",21,{"$f":"VLOOKUP(K603,Tables!$C$42:$G$58,IF(Tables!$C$5=4710,IF(N603=\"ID\",5,3),IF(N603=\"ID\",4,2)),FALSE)","v":100},2.375,"OD",null,0.113,0.02,{"$f":"VLOOKUP(F603,Tables!$G$5:$H$14,2,FALSE)*(M603-(P603+Q603*Tables!$C$6))*(P603+Q603*Tables!$C$6)*1.36136","v":0.36125344102847989},"Controlled OD (DR-21) Iron Pipe Size","ASTM D3035"]
[null,null,null,null,{"$f":"ROW()","v":604},"PE","IPS (DR)",3,"3","100 psi   DR-21",21,{"$f":"VLOOKUP(K604,Tables!$C$42:$G$58,IF(Tables!$C$5=4710,IF(N604=\"ID\",5,3),IF(N604=\"ID\",4,2)),FALSE)","v":100},3.5,"OD",null,0.16700000000000001,0.02,{"$f":"VLOOKUP(F604,Tables!$G$5:$H$14,2,FALSE)*(M604-(P604+Q604*Tables!$C$6))*(P604+Q604*Tables!$C$6)*1.36136","v":0.76708254871247994},"Controlled OD (DR-21) Iron Pipe Size","ASTM D3035"]
[null,null,null,null,{"$f":"ROW()","v":605},"PE","IPS (DR)",4,"4","100 psi   DR-21",21,{"$f":"VLOOKUP(K605,Tables!$C$42:$G$58,IF(Tables!$C$5=4710,IF(N605=\"ID\",5,3),IF(N605=\"ID\",4,2)),FALSE)","v":100},4.5,"OD",null,0.214,0.02,{"$f":"VLOOKUP(F605,Tables!$G$5:$H$14,2,FALSE)*(M605-(P605+Q605*Tables!$C$6))*(P605+Q605*Tables!$C$6)*1.36136","v":1.2491776628531197},"Controlled OD (DR-21) Iron Pipe Size","ASTM F714"]
[null,null,null,null,{"$f":"ROW()","v":606},"PE","IPS (DR)",5,"5","100 psi   DR-21",21,{"$f":"VLOOKUP(K606,Tables!$C$42:$G$58,IF(Tables!$C$5=4710,IF(N606=\"ID\",5,3),IF(N606=\"ID\",4,2)),FALSE)","v":100},5.5629999999999997,"OD",null,0.26500000000000001,2.5000000000000001E-2,{"$f":"VLOOKUP(F606,Tables!$G$5:$H$14,2,FALSE)*(M606-(P606+Q606*Tables!$C$6))*(P606+Q606*Tables!$C$6)*1.36136","v":1.9128792648966},"Controlled OD (DR-21) Iron Pipe Size","ASTM F714"]
[null,null,null,null,{"$f":"ROW()","v":607},"PE","IPS (DR)",6,"6","100 psi   DR-21",21,{"$f":"VLOOKUP(K607,Tables!$C$42:$G$58,IF(Tables!$C$5=4710,IF(N607=\"ID\",5,3),IF(N607=\"ID\",4,2)),FALSE)","v":100},6.625,"OD",null,0.315,0.03,{"$f":"VLOOKUP(F607,Tables!$G$5:$H$14,2,FALSE)*(M607-(P607+Q607*Tables!$C$6))*(P607+Q607*Tables!$C$6)*1.36136","v":2.7092443057679998},{"$f":"\"Controlled OD (DR-\"&K607&\") Iron Pipe Size\"","v":"Controlled OD (DR-21) Iron Pipe Size"},"ASTM F714"]
[null,null,null,null,{"$f":"ROW()","v":608},"PE","IPS (DR)",7,"7","100 psi   DR-21",21,{"$f":"VLOOKUP(K608,Tables!$C$42:$G$58,IF(Tables!$C$5=4710,IF(N608=\"ID\",5,3),IF(N608=\"ID\",4,2)),FALSE)","v":100},7.125,"OD",null,0.34,3.4000000000000002E-2,{"$f":"VLOOKUP(F608,Tables!$G$5:$H$14,2,FALSE)*(M608-(P608+Q608*Tables!$C$6))*(P608+Q608*Tables!$C$6)*1.36136","v":3.1511353742668802},"Controlled OD (DR-21) Iron Pipe Size","ASTM F714"]
[null,null,null,null,{"$f":"ROW()","v":609},"PE","IPS (DR)",8,"8","100 psi   DR-21",21,{"$f":"VLOOKUP(K609,Tables!$C$42:$G$58,IF(Tables!$C$5=4710,IF(N609=\"ID\",5,3),IF(N609=\"ID\",4,2)),FALSE)","v":100},8.625,"OD",null,0.41099999999999998,3.9E-2,{"$f":"VLOOKUP(F609,Tables!$G$5:$H$14,2,FALSE)*(M609-(P609+Q609*Tables!$C$6))*(P609+Q609*Tables!$C$6)*1.36136","v":4.6008080056738798},"Controlled OD (DR-21) Iron Pipe Size","ASTM F714"]
[null,null,null,null,{"$f":"ROW()","v":610},"PE","IPS (DR)",10,"10","100 psi   DR-21",21,{"$f":"VLOOKUP(K610,Tables!$C$42:$G$58,IF(Tables!$C$5=4710,IF(N610=\"ID\",5,3),IF(N610=\"ID\",4,2)),FALSE)","v":100},10.75,"OD",null,0.51200000000000001,4.8000000000000001E-2,{"$f":"VLOOKUP(F610,Tables!$G$5:$H$14,2,FALSE)*(M610-(P610+Q610*Tables!$C$6))*(P610+Q610*Tables!$C$6)*1.36136","v":7.1400152298675206},"Controlled OD (DR-21) Iron Pipe Size","ASTM F714"]
[null,null,null,null,{"$f":"ROW()","v":611},"PE","IPS (DR)",12,"12","100 psi   DR-21",21,{"$f":"VLOOKUP(K611,Tables!$C$42:$G$58,IF(Tables!$C$5=4710,IF(N611=\"ID\",5,3),IF(N611=\"ID\",4,2)),FALSE)","v":100},12.75,"OD",null,0.60699999999999998,5.7000000000000002E-2,{"$f":"VLOOKUP(F611,Tables!$G$5:$H$14,2,FALSE)*(M611-(P611+Q611*Tables!$C$6))*(P611+Q611*Tables!$C$6)*1.36136","v":10.040597184097477},"Controlled OD (DR-21) Iron Pipe Size","ASTM F714"]
[null,null,null,null,{"$f":"ROW()","v":612},"PE","IPS (DR)",14,"14","100 psi   DR-21",21,{"$f":"VLOOKUP(K612,Tables!$C$42:$G$58,IF(Tables!$C$5=4710,IF(N612=\"ID\",5,3),IF(N612=\"ID\",4,2)),FALSE)","v":100},14,"OD",null,0.66700000000000004,6.3E-2,{"$f":"VLOOKUP(F612,Tables!$G$5:$H$14,2,FALSE)*(M612-(P612+Q612*Tables!$C$6))*(P612+Q612*Tables!$C$6)*1.36136","v":12.117290621956521},"Controlled OD (DR-21) Iron Pipe Size","ASTM F714"]
[null,null,null,null,{"$f":"ROW()","v":613},"PE","IPS (DR)",16,"16","100 psi   DR-21",21,{"$f":"VLOOKUP(K613,Tables!$C$42:$G$58,IF(Tables!$C$5=4710,IF(N613=\"ID\",5,3),IF(N613=\"ID\",4,2)),FALSE)","v":100},16,"OD",null,0.76200000000000001,7.1999999999999995E-2,{"$f":"VLOOKUP(F613,Tables!$G$5:$H$14,2,FALSE)*(M613-(P613+Q613*Tables!$C$6))*(P613+Q613*Tables!$C$6)*1.36136","v":15.821298137124479},"Controlled OD (DR-21) Iron Pipe Size","ASTM F714"]
[null,null,null,null,{"$f":"ROW()","v":614},"PE","IPS (DR)",18,"18","100 psi   DR-21",21,{"$f":"VLOOKUP(K614,Tables!$C$42:$G$58,IF(Tables!$C$5=4710,IF(N614=\"ID\",5,3),IF(N614=\"ID\",4,2)),FALSE)","v":100},18,"OD",null,0.85699999999999998,8.1000000000000003E-2,{"$f":"VLOOKUP(F614,Tables!$G$5:$H$14,2,FALSE)*(M614-(P614+Q614*Tables!$C$6))*(P614+Q614*Tables!$C$6)*1.36136","v":20.018546965416995},"Controlled OD (DR-21) Iron Pipe Size","ASTM F714"]
[null,null,null,null,{"$f":"ROW()","v":615},"PE","IPS (DR)",20,"20","100 psi   DR-21",21,{"$f":"VLOOKUP(K615,Tables!$C$42:$G$58,IF(Tables!$C$5=4710,IF(N615=\"ID\",5,3),IF(N615=\"ID\",4,2)),FALSE)","v":100},20,"OD",null,0.95199999999999996,0.09,{"$f":"VLOOKUP(F615,Tables!$G$5:$H$14,2,FALSE)*(M615-(P615+Q615*Tables!$C$6))*(P615+Q615*Tables!$C$6)*1.36136","v":24.709037106834081},"Controlled OD (DR-21) Iron Pipe Size","ASTM F714"]
[null,null,null,null,{"$f":"ROW()","v":616},"PE","IPS (DR)",22,"22","100 psi   DR-21",21,{"$f":"VLOOKUP(K616,Tables!$C$42:$G$58,IF(Tables!$C$5=4710,IF(N616=\"ID\",5,3),IF(N616=\"ID\",4,2)),FALSE)","v":100},22,"OD",null,1.048,9.9000000000000005E-2,{"$f":"VLOOKUP(F616,Tables!$G$5:$H$14,2,FALSE)*(M616-(P616+Q616*Tables!$C$6))*(P616+Q616*Tables!$C$6)*1.36136","v":29.918599207496996},"Controlled OD (DR-21) Iron Pipe Size","ASTM F714"]
[null,null,null,null,{"$f":"ROW()","v":617},"PE","IPS (DR)",24,"24","100 psi   DR-21",21,{"$f":"VLOOKUP(K617,Tables!$C$42:$G$58,IF(Tables!$C$5=4710,IF(N617=\"ID\",5,3),IF(N617=\"ID\",4,2)),FALSE)","v":100},24,"OD",null,1.143,0.108,{"$f":"VLOOKUP(F617,Tables!$G$5:$H$14,2,FALSE)*(M617-(P617+Q617*Tables!$C$6))*(P617+Q617*Tables!$C$6)*1.36136","v":35.597920808530077},"Controlled OD (DR-21) Iron Pipe Size","ASTM F714"]
[null,null,null,null,{"$f":"ROW()","v":618},"PE","IPS (DR)",26,"26","100 psi   DR-21",21,{"$f":"VLOOKUP(K618,Tables!$C$42:$G$58,IF(Tables!$C$5=4710,IF(N618=\"ID\",5,3),IF(N618=\"ID\",4,2)),FALSE)","v":100},26,"OD",null,1.238,0.11700000000000001,{"$f":"VLOOKUP(F618,Tables!$G$5:$H$14,2,FALSE)*(M618-(P618+Q618*Tables!$C$6))*(P618+Q618*Tables!$C$6)*1.36136","v":41.770483722687715},"Controlled OD (DR-21) Iron Pipe Size","ASTM F714"]
[null,null,null,null,{"$f":"ROW()","v":619},"PE","IPS (DR)",28,"28","100 psi   DR-21",21,{"$f":"VLOOKUP(K619,Tables!$C$42:$G$58,IF(Tables!$C$5=4710,IF(N619=\"ID\",5,3),IF(N619=\"ID\",4,2)),FALSE)","v":100},28,"OD",null,1.333,0.126,{"$f":"VLOOKUP(F619,Tables!$G$5:$H$14,2,FALSE)*(M619-(P619+Q619*Tables!$C$6))*(P619+Q619*Tables!$C$6)*1.36136","v":48.436287949969909},"Controlled OD (DR-21) Iron Pipe Size","ASTM F714"]
[null,null,null,null,{"$f":"ROW()","v":620},"PE","IPS (DR)",30,"30","100 psi   DR-21",21,{"$f":"VLOOKUP(K620,Tables!$C$42:$G$58,IF(Tables!$C$5=4710,IF(N620=\"ID\",5,3),IF(N620=\"ID\",4,2)),FALSE)","v":100},30,"OD",null,1.429,0.13500000000000001,{"$f":"VLOOKUP(F620,Tables!$G$5:$H$14,2,FALSE)*(M620-(P620+Q620*Tables!$C$6))*(P620+Q620*Tables!$C$6)*1.36136","v":55.630556861599722},"Controlled OD (DR-21) Iron Pipe Size","ASTM F714"]
[null,null,null,null,{"$f":"ROW()","v":621},"PE","IPS (DR)",32,"32","100 psi   DR-21",21,{"$f":"VLOOKUP(K621,Tables!$C$42:$G$58,IF(Tables!$C$5=4710,IF(N621=\"ID\",5,3),IF(N621=\"ID\",4,2)),FALSE)","v":100},32,"OD",null,1.524,0.14399999999999999,{"$f":"VLOOKUP(F621,Tables!$G$5:$H$14,2,FALSE)*(M621-(P621+Q621*Tables!$C$6))*(P621+Q621*Tables!$C$6)*1.36136","v":63.285192548497918},"Controlled OD (DR-21) Iron Pipe Size","ASTM F714"]
[null,null,null,null,{"$f":"ROW()","v":622},"PE","IPS (DR)",34,"34","100 psi   DR-21",21,{"$f":"VLOOKUP(K622,Tables!$C$42:$G$58,IF(Tables!$C$5=4710,IF(N622=\"ID\",5,3),IF(N622=\"ID\",4,2)),FALSE)","v":100},34,"OD",null,1.619,0.153,{"$f":"VLOOKUP(F622,Tables!$G$5:$H$14,2,FALSE)*(M622-(P622+Q622*Tables!$C$6))*(P622+Q622*Tables!$C$6)*1.36136","v":71.433069548520663},"Controlled OD (DR-21) Iron Pipe Size","ASTM F714"]
[null,null,null,null,{"$f":"ROW()","v":623},"PE","IPS (DR)",36,"36","100 psi   DR-21",21,{"$f":"VLOOKUP(K623,Tables!$C$42:$G$58,IF(Tables!$C$5=4710,IF(N623=\"ID\",5,3),IF(N623=\"ID\",4,2)),FALSE)","v":100},36,"OD",null,1.714,0.16200000000000001,{"$f":"VLOOKUP(F623,Tables!$G$5:$H$14,2,FALSE)*(M623-(P623+Q623*Tables!$C$6))*(P623+Q623*Tables!$C$6)*1.36136","v":80.07418786166798},"Controlled OD (DR-21) Iron Pipe Size","ASTM F714"]
[null,null,null,null,{"$f":"ROW()","v":624},"PE","IPS (DR)",42,"42","100 psi   DR-21",21,{"$f":"VLOOKUP(K624,Tables!$C$42:$G$58,IF(Tables!$C$5=4710,IF(N624=\"ID\",5,3),IF(N624=\"ID\",4,2)),FALSE)","v":100},42,"OD",null,2,0.189,{"$f":"VLOOKUP(F624,Tables!$G$5:$H$14,2,FALSE)*(M624-(P624+Q624*Tables!$C$6))*(P624+Q624*Tables!$C$6)*1.36136","v":109.00630444291589},"Controlled OD (DR-21) Iron Pipe Size","ASTM F714"]
[null,null,null,null,{"$f":"ROW()","v":625},"PE","IPS (DR)",48,"48","100 psi   DR-21",21,{"$f":"VLOOKUP(K625,Tables!$C$42:$G$58,IF(Tables!$C$5=4710,IF(N625=\"ID\",5,3),IF(N625=\"ID\",4,2)),FALSE)","v":100},48,"OD",null,2.286,0.216,{"$f":"VLOOKUP(F625,Tables!$G$5:$H$14,2,FALSE)*(M625-(P625+Q625*Tables!$C$6))*(P625+Q625*Tables!$C$6)*1.36136","v":142.39168323412031},"Controlled OD (DR-21) Iron Pipe Size","ASTM F714"]
[null,null,null,null,{"$f":"ROW()","v":626},"PE","IPS (DR)",54,"54","100 psi   DR-21",21,{"$f":"VLOOKUP(K626,Tables!$C$42:$G$58,IF(Tables!$C$5=4710,IF(N626=\"ID\",5,3),IF(N626=\"ID\",4,2)),FALSE)","v":100},54,"OD",null,2.5169999999999999,0.24299999999999999,{"$f":"VLOOKUP(F626,Tables!$G$5:$H$14,2,FALSE)*(M626-(P626+Q626*Tables!$C$6))*(P626+Q626*Tables!$C$6)*1.36136","v":176.7393657530701},"Controlled OD (DR-21) Iron Pipe Size","ASTM F714"]
[null,null,null,null,{"$f":"ROW()","v":627},"PE","IPS (DR)",60,"60","100 psi   DR-21",21,{"$f":"VLOOKUP(K627,Tables!$C$42:$G$58,IF(Tables!$C$5=4710,IF(N627=\"ID\",5,3),IF(N627=\"ID\",4,2)),FALSE)","v":100},60,"OD",null,2.8570000000000002,0.27,{"$f":"VLOOKUP(F627,Tables!$G$5:$H$14,2,FALSE)*(M627-(P627+Q627*Tables!$C$6))*(P627+Q627*Tables!$C$6)*1.36136","v":222.45178200813564},"Controlled OD (DR-21) Iron Pipe Size","ASTM F714"]
[null,null,null,null,{"$f":"ROW()","v":628},"PE","IPS (DR)",63,"63","100 psi   DR-21",21,{"$f":"VLOOKUP(K628,Tables!$C$42:$G$58,IF(Tables!$C$5=4710,IF(N628=\"ID\",5,3),IF(N628=\"ID\",4,2)),FALSE)","v":100},63,"OD",null,3,0.28399999999999997,{"$f":"VLOOKUP(F628,Tables!$G$5:$H$14,2,FALSE)*(M628-(P628+Q628*Tables!$C$6))*(P628+Q628*Tables!$C$6)*1.36136","v":245.28267708712761},"Controlled OD (DR-21) Iron Pipe Size","ASTM F714"]
[null,null,null,null,{"$f":"ROW()","v":629},"PE","IPS (DR)",65,"65","100 psi   DR-21",21,{"$f":"VLOOKUP(K629,Tables!$C$42:$G$58,IF(Tables!$C$5=4710,IF(N629=\"ID\",5,3),IF(N629=\"ID\",4,2)),FALSE)","v":100},65,"OD",null,3.0950000000000002,0.29299999999999998,{"$f":"VLOOKUP(F629,Tables!$G$5:$H$14,2,FALSE)*(M629-(P629+Q629*Tables!$C$6))*(P629+Q629*Tables!$C$6)*1.36136","v":261.08460256570692},"Controlled OD (DR-21) Iron Pipe Size","ASTM F714"]
[null,null,null,null,{"$f":"ROW()","v":630},"PE","IPS (DR)",0.75,"3/4","125 psi   DR-17",17,{"$f":"VLOOKUP(K630,Tables!$C$42:$G$58,IF(Tables!$C$5=4710,IF(N630=\"ID\",5,3),IF(N630=\"ID\",4,2)),FALSE)","v":125},1.05,"OD",null,6.2E-2,0.02,{"$f":"VLOOKUP(F630,Tables!$G$5:$H$14,2,FALSE)*(M630-(P630+Q630*Tables!$C$6))*(P630+Q630*Tables!$C$6)*1.36136","v":9.1835341678079996E-2},"Controlled OD (DR-17) Iron Pipe Size","ASTM F714"]
[null,null,null,null,{"$f":"ROW()","v":631},"PE","IPS (DR)",1,"1","125 psi   DR-17",17,{"$f":"VLOOKUP(K631,Tables!$C$42:$G$58,IF(Tables!$C$5=4710,IF(N631=\"ID\",5,3),IF(N631=\"ID\",4,2)),FALSE)","v":125},1.3149999999999999,"OD",null,7.6999999999999999E-2,0.02,{"$f":"VLOOKUP(F631,Tables!$G$5:$H$14,2,FALSE)*(M631-(P631+Q631*Tables!$C$6))*(P631+Q631*Tables!$C$6)*1.36136","v":0.13933368216767997},"Controlled OD (DR-17) Iron Pipe Size","ASTM D3035"]
[null,null,null,null,{"$f":"ROW()","v":632},"PE","IPS (DR)",1.25,"1 1/4","125 psi   DR-17",17,{"$f":"VLOOKUP(K632,Tables!$C$42:$G$58,IF(Tables!$C$5=4710,IF(N632=\"ID\",5,3),IF(N632=\"ID\",4,2)),FALSE)","v":125},1.66,"OD",null,9.8000000000000004E-2,0.02,{"$f":"VLOOKUP(F632,Tables!$G$5:$H$14,2,FALSE)*(M632-(P632+Q632*Tables!$C$6))*(P632+Q632*Tables!$C$6)*1.36136","v":0.21860191761407993},"Controlled OD (DR-17) Iron Pipe Size","ASTM D3035"]
[null,null,null,null,{"$f":"ROW()","v":633},"PE","IPS (DR)",1.5,"1 1/2","125 psi   DR-17",17,{"$f":"VLOOKUP(K633,Tables!$C$42:$G$58,IF(Tables!$C$5=4710,IF(N633=\"ID\",5,3),IF(N633=\"ID\",4,2)),FALSE)","v":125},1.9,"OD",null,0.112,0.02,{"$f":"VLOOKUP(F633,Tables!$G$5:$H$14,2,FALSE)*(M633-(P633+Q633*Tables!$C$6))*(P633+Q633*Tables!$C$6)*1.36136","v":0.28289813359807997},"Controlled OD (DR-17) Iron Pipe Size","ASTM D3035"]
[null,null,null,null,{"$f":"ROW()","v":634},"PE","IPS (DR)",2,"2","125 psi   DR-17",17,{"$f":"VLOOKUP(K634,Tables!$C$42:$G$58,IF(Tables!$C$5=4710,IF(N634=\"ID\",5,3),IF(N634=\"ID\",4,2)),FALSE)","v":125},2.375,"OD",null,0.14000000000000001,0.02,{"$f":"VLOOKUP(F634,Tables!$G$5:$H$14,2,FALSE)*(M634-(P634+Q634*Tables!$C$6))*(P634+Q634*Tables!$C$6)*1.36136","v":0.43527103620000002},"Controlled OD (DR-17) Iron Pipe Size","ASTM D3035"]
[null,null,null,null,{"$f":"ROW()","v":635},"PE","IPS (DR)",3,"3","125 psi   DR-17",17,{"$f":"VLOOKUP(K635,Tables!$C$42:$G$58,IF(Tables!$C$5=4710,IF(N635=\"ID\",5,3),IF(N635=\"ID\",4,2)),FALSE)","v":125},3.5,"OD",null,0.20599999999999999,2.5000000000000001E-2,{"$f":"VLOOKUP(F635,Tables!$G$5:$H$14,2,FALSE)*(M635-(P635+Q635*Tables!$C$6))*(P635+Q635*Tables!$C$6)*1.36136","v":0.93510923237731991},"Controlled OD (DR-17) Iron Pipe Size","ASTM D3035"]
[null,null,null,null,{"$f":"ROW()","v":636},"PE","IPS (DR)",4,"4","125 psi   DR-17",17,{"$f":"VLOOKUP(K636,Tables!$C$42:$G$58,IF(Tables!$C$5=4710,IF(N636=\"ID\",5,3),IF(N636=\"ID\",4,2)),FALSE)","v":125},4.5,"OD",null,0.26500000000000001,0.02,{"$f":"VLOOKUP(F636,Tables!$G$5:$H$14,2,FALSE)*(M636-(P636+Q636*Tables!$C$6))*(P636+Q636*Tables!$C$6)*1.36136","v":1.5152974836999999},"Controlled OD (DR-17) Iron Pipe Size","ASTM F714"]
[null,null,null,null,{"$f":"ROW()","v":637},"PE","IPS (DR)",5,"5",{"$f":"L637&\" psi   DR-\"&K637","v":"125 psi   DR-17"},17,{"$f":"VLOOKUP(K637,Tables!$C$42:$G$58,IF(Tables!$C$5=4710,IF(N637=\"ID\",5,3),IF(N637=\"ID\",4,2)),FALSE)","v":125},5.5629999999999997,"OD",null,0.32700000000000001,2.5000000000000001E-2,{"$f":"VLOOKUP(F637,Tables!$G$5:$H$14,2,FALSE)*(M637-(P637+Q637*Tables!$C$6))*(P637+Q637*Tables!$C$6)*1.36136","v":2.3128095534143598},"Controlled OD (DR-17) Iron Pipe Size","ASTM F714"]
[null,null,null,null,{"$f":"ROW()","v":638},"PE","IPS (DR)",6,"6","125 psi   DR-17",17,{"$f":"VLOOKUP(K638,Tables!$C$42:$G$58,IF(Tables!$C$5=4710,IF(N638=\"ID\",5,3),IF(N638=\"ID\",4,2)),FALSE)","v":125},6.625,"OD",null,0.39,0.03,{"$f":"VLOOKUP(F638,Tables!$G$5:$H$14,2,FALSE)*(M638-(P638+Q638*Tables!$C$6))*(P638+Q638*Tables!$C$6)*1.36136","v":3.2853670930079999},"Controlled OD (DR-17) Iron Pipe Size","ASTM F714"]
[null,null,null,null,{"$f":"ROW()","v":639},"PE","IPS (DR)",7,"7","125 psi   DR-17",17,{"$f":"VLOOKUP(K639,Tables!$C$42:$G$58,IF(Tables!$C$5=4710,IF(N639=\"ID\",5,3),IF(N639=\"ID\",4,2)),FALSE)","v":125},7.125,"OD",null,0.42,3.4000000000000002E-2,{"$f":"VLOOKUP(F639,Tables!$G$5:$H$14,2,FALSE)*(M639-(P639+Q639*Tables!$C$6))*(P639+Q639*Tables!$C$6)*1.36136","v":3.8116779193292798},"Controlled OD (DR-17) Iron Pipe Size","ASTM F714"]
[null,null,null,null,{"$f":"ROW()","v":640},"PE","IPS (DR)",8,"8","125 psi   DR-17",17,{"$f":"VLOOKUP(K640,Tables!$C$42:$G$58,IF(Tables!$C$5=4710,IF(N640=\"ID\",5,3),IF(N640=\"ID\",4,2)),FALSE)","v":125},8.625,"OD",null,0.50700000000000001,3.9E-2,{"$f":"VLOOKUP(F640,Tables!$G$5:$H$14,2,FALSE)*(M640-(P640+Q640*Tables!$C$6))*(P640+Q640*Tables!$C$6)*1.36136","v":5.5608535407625181},"Controlled OD (DR-17) Iron Pipe Size","ASTM F714"]
[null,null,null,null,{"$f":"ROW()","v":641},"PE","IPS (DR)",10,"10","125 psi   DR-17",17,{"$f":"VLOOKUP(K641,Tables!$C$42:$G$58,IF(Tables!$C$5=4710,IF(N641=\"ID\",5,3),IF(N641=\"ID\",4,2)),FALSE)","v":125},10.75,"OD",null,0.63200000000000001,4.8000000000000001E-2,{"$f":"VLOOKUP(F641,Tables!$G$5:$H$14,2,FALSE)*(M641-(P641+Q641*Tables!$C$6))*(P641+Q641*Tables!$C$6)*1.36136","v":8.6358608259123173},"Controlled OD (DR-17) Iron Pipe Size","ASTM F714"]
[null,null,null,null,{"$f":"ROW()","v":642},"PE","IPS (DR)",12,"12","125 psi   DR-17",17,{"$f":"VLOOKUP(K642,Tables!$C$42:$G$58,IF(Tables!$C$5=4710,IF(N642=\"ID\",5,3),IF(N642=\"ID\",4,2)),FALSE)","v":125},12.75,"OD",null,0.75,5.7000000000000002E-2,{"$f":"VLOOKUP(F642,Tables!$G$5:$H$14,2,FALSE)*(M642-(P642+Q642*Tables!$C$6))*(P642+Q642*Tables!$C$6)*1.36136","v":12.154740233355719},"Controlled OD (DR-17) Iron Pipe Size","ASTM F714"]
[null,null,null,null,{"$f":"ROW()","v":643},"PE","IPS (DR)",14,"14","125 psi   DR-17",17,{"$f":"VLOOKUP(K643,Tables!$C$42:$G$58,IF(Tables!$C$5=4710,IF(N643=\"ID\",5,3),IF(N643=\"ID\",4,2)),FALSE)","v":125},14,"OD",null,0.82399999999999995,6.3E-2,{"$f":"VLOOKUP(F643,Tables!$G$5:$H$14,2,FALSE)*(M643-(P643+Q643*Tables!$C$6))*(P643+Q643*Tables!$C$6)*1.36136","v":14.665692661499877},"Controlled OD (DR-17) Iron Pipe Size","ASTM F714"]
[null,null,null,null,{"$f":"ROW()","v":644},"PE","IPS (DR)",16,"16","125 psi   DR-17",17,{"$f":"VLOOKUP(K644,Tables!$C$42:$G$58,IF(Tables!$C$5=4710,IF(N644=\"ID\",5,3),IF(N644=\"ID\",4,2)),FALSE)","v":125},16,"OD",null,0.94099999999999995,7.1999999999999995E-2,{"$f":"VLOOKUP(F644,Tables!$G$5:$H$14,2,FALSE)*(M644-(P644+Q644*Tables!$C$6))*(P644+Q644*Tables!$C$6)*1.36136","v":19.142106399896477},"Controlled OD (DR-17) Iron Pipe Size","ASTM F714"]
[null,null,null,null,{"$f":"ROW()","v":645},"PE","IPS (DR)",18,"18","125 psi   DR-17",17,{"$f":"VLOOKUP(K645,Tables!$C$42:$G$58,IF(Tables!$C$5=4710,IF(N645=\"ID\",5,3),IF(N645=\"ID\",4,2)),FALSE)","v":125},18,"OD",null,1.0589999999999999,8.1000000000000003E-2,{"$f":"VLOOKUP(F645,Tables!$G$5:$H$14,2,FALSE)*(M645-(P645+Q645*Tables!$C$6))*(P645+Q645*Tables!$C$6)*1.36136","v":24.234456368402277},"Controlled OD (DR-17) Iron Pipe Size","ASTM F714"]
[null,null,null,null,{"$f":"ROW()","v":646},"PE","IPS (DR)",20,"20","125 psi   DR-17",17,{"$f":"VLOOKUP(K646,Tables!$C$42:$G$58,IF(Tables!$C$5=4710,IF(N646=\"ID\",5,3),IF(N646=\"ID\",4,2)),FALSE)","v":125},20,"OD",null,1.1759999999999999,0.09,{"$f":"VLOOKUP(F646,Tables!$G$5:$H$14,2,FALSE)*(M646-(P646+Q646*Tables!$C$6))*(P646+Q646*Tables!$C$6)*1.36136","v":29.903816620597915},"Controlled OD (DR-17) Iron Pipe Size","ASTM F714"]
[null,null,null,null,{"$f":"ROW()","v":647},"PE","IPS (DR)",22,"22","125 psi   DR-17",17,{"$f":"VLOOKUP(K647,Tables!$C$42:$G$58,IF(Tables!$C$5=4710,IF(N647=\"ID\",5,3),IF(N647=\"ID\",4,2)),FALSE)","v":125},22,"OD",null,1.294,9.9000000000000005E-2,{"$f":"VLOOKUP(F647,Tables!$G$5:$H$14,2,FALSE)*(M647-(P647+Q647*Tables!$C$6))*(P647+Q647*Tables!$C$6)*1.36136","v":36.193693393177327},"Controlled OD (DR-17) Iron Pipe Size","ASTM F714"]
[null,null,null,null,{"$f":"ROW()","v":648},"PE","IPS (DR)",24,"24","125 psi   DR-17",17,{"$f":"VLOOKUP(K648,Tables!$C$42:$G$58,IF(Tables!$C$5=4710,IF(N648=\"ID\",5,3),IF(N648=\"ID\",4,2)),FALSE)","v":125},24,"OD",null,1.4119999999999999,0.108,{"$f":"VLOOKUP(F648,Tables!$G$5:$H$14,2,FALSE)*(M648-(P648+Q648*Tables!$C$6))*(P648+Q648*Tables!$C$6)*1.36136","v":43.083477988270715},"Controlled OD (DR-17) Iron Pipe Size","ASTM F714"]
[null,null,null,null,{"$f":"ROW()","v":649},"PE","IPS (DR)",26,"26","125 psi   DR-17",17,{"$f":"VLOOKUP(K649,Tables!$C$42:$G$58,IF(Tables!$C$5=4710,IF(N649=\"ID\",5,3),IF(N649=\"ID\",4,2)),FALSE)","v":125},26,"OD",null,1.5289999999999999,0.11700000000000001,{"$f":"VLOOKUP(F649,Tables!$G$5:$H$14,2,FALSE)*(M649-(P649+Q649*Tables!$C$6))*(P649+Q649*Tables!$C$6)*1.36136","v":50.543403735824988},"Controlled OD (DR-17) Iron Pipe Size","ASTM F714"]
[null,null,null,null,{"$f":"ROW()","v":650},"PE","IPS (DR)",28,"28","125 psi   DR-17",17,{"$f":"VLOOKUP(K650,Tables!$C$42:$G$58,IF(Tables!$C$5=4710,IF(N650=\"ID\",5,3),IF(N650=\"ID\",4,2)),FALSE)","v":125},28,"OD",null,1.647,0.126,{"$f":"VLOOKUP(F650,Tables!$G$5:$H$14,2,FALSE)*(M650-(P650+Q650*Tables!$C$6))*(P650+Q650*Tables!$C$6)*1.36136","v":58.630715134991995},"Controlled OD (DR-17) Iron Pipe Size","ASTM F714"]
[null,null,null,null,{"$f":"ROW()","v":651},"PE","IPS (DR)",30,"30","125 psi   DR-17",17,{"$f":"VLOOKUP(K651,Tables!$C$42:$G$58,IF(Tables!$C$5=4710,IF(N651=\"ID\",5,3),IF(N651=\"ID\",4,2)),FALSE)","v":125},30,"OD",null,1.7649999999999999,0.13500000000000001,{"$f":"VLOOKUP(F651,Tables!$G$5:$H$14,2,FALSE)*(M651-(P651+Q651*Tables!$C$6))*(P651+Q651*Tables!$C$6)*1.36136","v":67.317934356672993},"Controlled OD (DR-17) Iron Pipe Size","ASTM F714"]
[null,null,null,null,{"$f":"ROW()","v":652},"PE","IPS (DR)",32,"32","125 psi   DR-17",17,{"$f":"VLOOKUP(K652,Tables!$C$42:$G$58,IF(Tables!$C$5=4710,IF(N652=\"ID\",5,3),IF(N652=\"ID\",4,2)),FALSE)","v":125},32,"OD",null,1.8819999999999999,0.14399999999999999,{"$f":"VLOOKUP(F652,Tables!$G$5:$H$14,2,FALSE)*(M652-(P652+Q652*Tables!$C$6))*(P652+Q652*Tables!$C$6)*1.36136","v":76.568425599585908},"Controlled OD (DR-17) Iron Pipe Size","ASTM F714"]
[null,null,null,null,{"$f":"ROW()","v":653},"PE","IPS (DR)",34,"34","125 psi   DR-17",17,{"$f":"VLOOKUP(K653,Tables!$C$42:$G$58,IF(Tables!$C$5=4710,IF(N653=\"ID\",5,3),IF(N653=\"ID\",4,2)),FALSE)","v":125},34,"OD",null,2,0.153,{"$f":"VLOOKUP(F653,Tables!$G$5:$H$14,2,FALSE)*(M653-(P653+Q653*Tables!$C$6))*(P653+Q653*Tables!$C$6)*1.36136","v":86.453171625340502},"Controlled OD (DR-17) Iron Pipe Size","ASTM F714"]
[null,null,null,null,{"$f":"ROW()","v":654},"PE","IPS (DR)",36,"36","125 psi   DR-17",17,{"$f":"VLOOKUP(K654,Tables!$C$42:$G$58,IF(Tables!$C$5=4710,IF(N654=\"ID\",5,3),IF(N654=\"ID\",4,2)),FALSE)","v":125},36,"OD",null,2.1179999999999999,0.16200000000000001,{"$f":"VLOOKUP(F654,Tables!$G$5:$H$14,2,FALSE)*(M654-(P654+Q654*Tables!$C$6))*(P654+Q654*Tables!$C$6)*1.36136","v":96.937825473609109},"Controlled OD (DR-17) Iron Pipe Size","ASTM F714"]
[null,null,null,null,{"$f":"ROW()","v":655},"PE","IPS (DR)",42,"42","125 psi   DR-17",17,{"$f":"VLOOKUP(K655,Tables!$C$42:$G$58,IF(Tables!$C$5=4710,IF(N655=\"ID\",5,3),IF(N655=\"ID\",4,2)),FALSE)","v":125},42,"OD",null,2.4710000000000001,0.189,{"$f":"VLOOKUP(F655,Tables!$G$5:$H$14,2,FALSE)*(M655-(P655+Q655*Tables!$C$6))*(P655+Q655*Tables!$C$6)*1.36136","v":131.94315133907907},"Controlled OD (DR-17) Iron Pipe Size","ASTM F714"]
[null,null,null,null,{"$f":"ROW()","v":656},"PE","IPS (DR)",48,"48","125 psi   DR-17",17,{"$f":"VLOOKUP(K656,Tables!$C$42:$G$58,IF(Tables!$C$5=4710,IF(N656=\"ID\",5,3),IF(N656=\"ID\",4,2)),FALSE)","v":125},48,"OD",null,2.8239999999999998,0.216,{"$f":"VLOOKUP(F656,Tables!$G$5:$H$14,2,FALSE)*(M656-(P656+Q656*Tables!$C$6))*(P656+Q656*Tables!$C$6)*1.36136","v":172.33391195308286},"Controlled OD (DR-17) Iron Pipe Size","ASTM F714"]
[null,null,null,null,{"$f":"ROW()","v":657},"PE","IPS (DR)",54,"54","125 psi   DR-17",17,{"$f":"VLOOKUP(K657,Tables!$C$42:$G$58,IF(Tables!$C$5=4710,IF(N657=\"ID\",5,3),IF(N657=\"ID\",4,2)),FALSE)","v":125},54,"OD",null,3.1760000000000002,0.24299999999999999,{"$f":"VLOOKUP(F657,Tables!$G$5:$H$14,2,FALSE)*(M657-(P657+Q657*Tables!$C$6))*(P657+Q657*Tables!$C$6)*1.36136","v":218.04828383037702},"Controlled OD (DR-17) Iron Pipe Size","ASTM F714"]
[null,null,null,null,{"$f":"ROW()","v":658},"PE","IPS (DR)",60,"60","125 psi   DR-17",17,{"$f":"VLOOKUP(K658,Tables!$C$42:$G$58,IF(Tables!$C$5=4710,IF(N658=\"ID\",5,3),IF(N658=\"ID\",4,2)),FALSE)","v":125},60,"OD",null,3.5289999999999999,0.27,{"$f":"VLOOKUP(F658,Tables!$G$5:$H$14,2,FALSE)*(M658-(P658+Q658*Tables!$C$6))*(P658+Q658*Tables!$C$6)*1.36136","v":269.20304481021947},"Controlled OD (DR-17) Iron Pipe Size","ASTM F714"]
[null,null,null,null,{"$f":"ROW()","v":659},"PE","IPS (DR)",63,"63","125 psi   DR-17",17,{"$f":"VLOOKUP(K659,Tables!$C$42:$G$58,IF(Tables!$C$5=4710,IF(N659=\"ID\",5,3),IF(N659=\"ID\",4,2)),FALSE)","v":125},63,"OD",null,3.706,0.28399999999999997,{"$f":"VLOOKUP(F659,Tables!$G$5:$H$14,2,FALSE)*(M659-(P659+Q659*Tables!$C$6))*(P659+Q659*Tables!$C$6)*1.36136","v":296.85405896194044},"Controlled OD (DR-17) Iron Pipe Size","ASTM F714"]
[null,null,null,null,{"$f":"ROW()","v":660},"PE","IPS (DR)",65,"65","125 psi   DR-17",17,{"$f":"VLOOKUP(K660,Tables!$C$42:$G$58,IF(Tables!$C$5=4710,IF(N660=\"ID\",5,3),IF(N660=\"ID\",4,2)),FALSE)","v":125},65,"OD",null,3.8239999999999998,0.29299999999999998,{"$f":"VLOOKUP(F660,Tables!$G$5:$H$14,2,FALSE)*(M660-(P660+Q660*Tables!$C$6))*(P660+Q660*Tables!$C$6)*1.36136","v":316.02650424212862},"Controlled OD (DR-17) Iron Pipe Size","ASTM F714"]
[null,null,null,null,{"$f":"ROW()","v":661},"PE","IPS (DR)",0.75,"3/4","140 psi   DR-15.5",15.5,{"$f":"VLOOKUP(K661,Tables!$C$42:$G$58,IF(Tables!$C$5=4710,IF(N661=\"ID\",5,3),IF(N661=\"ID\",4,2)),FALSE)","v":140},1.05,"OD",null,6.8000000000000005E-2,0.02,{"$f":"VLOOKUP(F661,Tables!$G$5:$H$14,2,FALSE)*(M661-(P661+Q661*Tables!$C$6))*(P661+Q661*Tables!$C$6)*1.36136","v":9.887792923008E-2},"Controlled OD (DR-15.5) Iron Pipe Size","ASTM F714"]
[null,null,null,null,{"$f":"ROW()","v":662},"PE","IPS (DR)",1,"1","140 psi   DR-15.5",15.5,{"$f":"VLOOKUP(K662,Tables!$C$42:$G$58,IF(Tables!$C$5=4710,IF(N662=\"ID\",5,3),IF(N662=\"ID\",4,2)),FALSE)","v":140},1.3149999999999999,"OD",null,8.5000000000000006E-2,0.02,{"$f":"VLOOKUP(F662,Tables!$G$5:$H$14,2,FALSE)*(M662-(P662+Q662*Tables!$C$6))*(P662+Q662*Tables!$C$6)*1.36136","v":0.15115479579199997},"Controlled OD (DR-15.5) Iron Pipe Size","ASTM D3035"]
[null,null,null,null,{"$f":"ROW()","v":663},"PE","IPS (DR)",1.25,"1 1/4","140 psi   DR-15.5",15.5,{"$f":"VLOOKUP(K663,Tables!$C$42:$G$58,IF(Tables!$C$5=4710,IF(N663=\"ID\",5,3),IF(N663=\"ID\",4,2)),FALSE)","v":140},1.66,"OD",null,0.107,0.02,{"$f":"VLOOKUP(F663,Tables!$G$5:$H$14,2,FALSE)*(M663-(P663+Q663*Tables!$C$6))*(P663+Q663*Tables!$C$6)*1.36136","v":0.23544543950927993},"Controlled OD (DR-15.5) Iron Pipe Size","ASTM D3035"]
[null,null,null,null,{"$f":"ROW()","v":664},"PE","IPS (DR)",1.5,"1 1/2","140 psi   DR-15.5",15.5,{"$f":"VLOOKUP(K664,Tables!$C$42:$G$58,IF(Tables!$C$5=4710,IF(N664=\"ID\",5,3),IF(N664=\"ID\",4,2)),FALSE)","v":140},1.9,"OD",null,0.123,0.02,{"$f":"VLOOKUP(F664,Tables!$G$5:$H$14,2,FALSE)*(M664-(P664+Q664*Tables!$C$6))*(P664+Q664*Tables!$C$6)*1.36136","v":0.30649732281167996},"Controlled OD (DR-15.5) Iron Pipe Size","ASTM D3035"]
[null,null,null,null,{"$f":"ROW()","v":665},"PE","IPS (DR)",2,"2","140 psi   DR-15.5",15.5,{"$f":"VLOOKUP(K665,Tables!$C$42:$G$58,IF(Tables!$C$5=4710,IF(N665=\"ID\",5,3),IF(N665=\"ID\",4,2)),FALSE)","v":140},2.375,"OD",null,0.153,0.02,{"$f":"VLOOKUP(F665,Tables!$G$5:$H$14,2,FALSE)*(M665-(P665+Q665*Tables!$C$6))*(P665+Q665*Tables!$C$6)*1.36136","v":0.47023096248128005},"Controlled OD (DR-15.5) Iron Pipe Size","ASTM D3035"]
[null,null,null,null,{"$f":"ROW()","v":666},"PE","IPS (DR)",3,"3","140 psi   DR-15.5",15.5,{"$f":"VLOOKUP(K666,Tables!$C$42:$G$58,IF(Tables!$C$5=4710,IF(N666=\"ID\",5,3),IF(N666=\"ID\",4,2)),FALSE)","v":140},3.5,"OD",null,0.22600000000000001,2.7E-2,{"$f":"VLOOKUP(F666,Tables!$G$5:$H$14,2,FALSE)*(M666-(P666+Q666*Tables!$C$6))*(P666+Q666*Tables!$C$6)*1.36136","v":1.0184230431174799},"Controlled OD (DR-15.5) Iron Pipe Size","ASTM D3035"]
[null,null,null,null,{"$f":"ROW()","v":667},"PE","IPS (DR)",0.5,"1/2","160 psi   DR-13.5",13.5,{"$f":"VLOOKUP(K667,Tables!$C$42:$G$58,IF(Tables!$C$5=4710,IF(N667=\"ID\",5,3),IF(N667=\"ID\",4,2)),FALSE)","v":160},0.84,"OD",null,6.2E-2,0.02,{"$f":"VLOOKUP(F667,Tables!$G$5:$H$14,2,FALSE)*(M667-(P667+Q667*Tables!$C$6))*(P667+Q667*Tables!$C$6)*1.36136","v":7.2116096532479981E-2},"Controlled OD (DR-13.5) Iron Pipe Size","ASTM D3035"]
[null,null,null,null,{"$f":"ROW()","v":668},"PE","IPS (DR)",0.75,"3/4","160 psi   DR-13.5",13.5,{"$f":"VLOOKUP(K668,Tables!$C$42:$G$58,IF(Tables!$C$5=4710,IF(N668=\"ID\",5,3),IF(N668=\"ID\",4,2)),FALSE)","v":160},1.05,"OD",null,7.8E-2,0.02,{"$f":"VLOOKUP(F668,Tables!$G$5:$H$14,2,FALSE)*(M668-(P668+Q668*Tables!$C$6))*(P668+Q668*Tables!$C$6)*1.36136","v":0.11040690588928},"Controlled OD (DR-13.5) Iron Pipe Size","ASTM D3035"]
[null,null,null,null,{"$f":"ROW()","v":669},"PE","IPS (DR)",1,"1","160 psi   DR-13.5",13.5,{"$f":"VLOOKUP(K669,Tables!$C$42:$G$58,IF(Tables!$C$5=4710,IF(N669=\"ID\",5,3),IF(N669=\"ID\",4,2)),FALSE)","v":160},1.3149999999999999,"OD",null,9.7000000000000003E-2,0.02,{"$f":"VLOOKUP(F669,Tables!$G$5:$H$14,2,FALSE)*(M669-(P669+Q669*Tables!$C$6))*(P669+Q669*Tables!$C$6)*1.36136","v":0.16857346233727996},"Controlled OD (DR-13.5) Iron Pipe Size","ASTM D3035"]
[null,null,null,null,{"$f":"ROW()","v":670},"PE","IPS (DR)",1.25,"1 1/4","160 psi   DR-13.5",13.5,{"$f":"VLOOKUP(K670,Tables!$C$42:$G$58,IF(Tables!$C$5=4710,IF(N670=\"ID\",5,3),IF(N670=\"ID\",4,2)),FALSE)","v":160},1.66,"OD",null,0.123,0.02,{"$f":"VLOOKUP(F670,Tables!$G$5:$H$14,2,FALSE)*(M670-(P670+Q670*Tables!$C$6))*(P670+Q670*Tables!$C$6)*1.36136","v":0.26486780528207993},"Controlled OD (DR-13.5) Iron Pipe Size","ASTM D3035"]
[null,null,null,null,{"$f":"ROW()","v":671},"PE","IPS (DR)",1.5,"1 1/2","160 psi   DR-13.5",13.5,{"$f":"VLOOKUP(K671,Tables!$C$42:$G$58,IF(Tables!$C$5=4710,IF(N671=\"ID\",5,3),IF(N671=\"ID\",4,2)),FALSE)","v":160},1.9,"OD",null,0.14099999999999999,0.02,{"$f":"VLOOKUP(F671,Tables!$G$5:$H$14,2,FALSE)*(M671-(P671+Q671*Tables!$C$6))*(P671+Q671*Tables!$C$6)*1.36136","v":0.34443339442511989},{"$f":"\"Controlled OD (DR-\"&K671&\") Iron Pipe Size\"","v":"Controlled OD (DR-13.5) Iron Pipe Size"},"ASTM D3035"]
[null,null,null,null,{"$f":"ROW()","v":672},"PE","IPS (DR)",2,"2","160 psi   DR-13.5",13.5,{"$f":"VLOOKUP(K672,Tables!$C$42:$G$58,IF(Tables!$C$5=4710,IF(N672=\"ID\",5,3),IF(N672=\"ID\",4,2)),FALSE)","v":160},2.375,"OD",null,0.17599999999999999,2.1000000000000001E-2,{"$f":"VLOOKUP(F672,Tables!$G$5:$H$14,2,FALSE)*(M672-(P672+Q672*Tables!$C$6))*(P672+Q672*Tables!$C$6)*1.36136","v":0.53230908943211996},"Controlled OD (DR-13.5) Iron Pipe Size","ASTM D3035"]
[null,null,null,null,{"$f":"ROW()","v":673},"PE","IPS (DR)",3,"3","160 psi   DR-13.5",13.5,{"$f":"VLOOKUP(K673,Tables!$C$42:$G$58,IF(Tables!$C$5=4710,IF(N673=\"ID\",5,3),IF(N673=\"ID\",4,2)),FALSE)","v":160},3.5,"OD",null,0.25900000000000001,3.1E-2,{"$f":"VLOOKUP(F673,Tables!$G$5:$H$14,2,FALSE)*(M673-(P673+Q673*Tables!$C$6))*(P673+Q673*Tables!$C$6)*1.36136","v":1.15472319590628},"Controlled OD (DR-13.5) Iron Pipe Size","ASTM D3035"]
[null,null,null,null,{"$f":"ROW()","v":674},"PE","IPS (DR)",4,"4","160 psi   DR-13.5",13.5,{"$f":"VLOOKUP(K674,Tables!$C$42:$G$58,IF(Tables!$C$5=4710,IF(N674=\"ID\",5,3),IF(N674=\"ID\",4,2)),FALSE)","v":160},4.5,"OD",null,0.33300000000000002,0.02,{"$f":"VLOOKUP(F674,Tables!$G$5:$H$14,2,FALSE)*(M674-(P674+Q674*Tables!$C$6))*(P674+Q674*Tables!$C$6)*1.36136","v":1.8595704636308796},"Controlled OD (DR-13.5) Iron Pipe Size","ASTM F714"]
[null,null,null,null,{"$f":"ROW()","v":675},"PE","IPS (DR)",5,"5","160 psi   DR-13.5",13.5,{"$f":"VLOOKUP(K675,Tables!$C$42:$G$58,IF(Tables!$C$5=4710,IF(N675=\"ID\",5,3),IF(N675=\"ID\",4,2)),FALSE)","v":160},5.5629999999999997,"OD",null,0.41199999999999998,2.5000000000000001E-2,{"$f":"VLOOKUP(F675,Tables!$G$5:$H$14,2,FALSE)*(M675-(P675+Q675*Tables!$C$6))*(P675+Q675*Tables!$C$6)*1.36136","v":2.8448053129095592},"Controlled OD (DR-13.5) Iron Pipe Size","ASTM F714"]
[null,null,null,null,{"$f":"ROW()","v":676},"PE","IPS (DR)",6,"6","160 psi   DR-13.5",13.5,{"$f":"VLOOKUP(K676,Tables!$C$42:$G$58,IF(Tables!$C$5=4710,IF(N676=\"ID\",5,3),IF(N676=\"ID\",4,2)),FALSE)","v":160},6.625,"OD",null,0.49099999999999999,0.03,{"$f":"VLOOKUP(F676,Tables!$G$5:$H$14,2,FALSE)*(M676-(P676+Q676*Tables!$C$6))*(P676+Q676*Tables!$C$6)*1.36136","v":4.0380292916163194},"Controlled OD (DR-13.5) Iron Pipe Size","ASTM F714"]
[null,null,null,null,{"$f":"ROW()","v":677},"PE","IPS (DR)",7,"7","160 psi   DR-13.5",13.5,{"$f":"VLOOKUP(K677,Tables!$C$42:$G$58,IF(Tables!$C$5=4710,IF(N677=\"ID\",5,3),IF(N677=\"ID\",4,2)),FALSE)","v":160},7.125,"OD",null,0.52800000000000002,3.4000000000000002E-2,{"$f":"VLOOKUP(F677,Tables!$G$5:$H$14,2,FALSE)*(M677-(P677+Q677*Tables!$C$6))*(P677+Q677*Tables!$C$6)*1.36136","v":4.6769302259679995},"Controlled OD (DR-13.5) Iron Pipe Size","ASTM F714"]
[null,null,null,null,{"$f":"ROW()","v":678},"PE","IPS (DR)",8,"8","160 psi   DR-13.5",13.5,{"$f":"VLOOKUP(K678,Tables!$C$42:$G$58,IF(Tables!$C$5=4710,IF(N678=\"ID\",5,3),IF(N678=\"ID\",4,2)),FALSE)","v":160},8.625,"OD",null,0.63900000000000001,3.9E-2,{"$f":"VLOOKUP(F678,Tables!$G$5:$H$14,2,FALSE)*(M678-(P678+Q678*Tables!$C$6))*(P678+Q678*Tables!$C$6)*1.36136","v":6.8416654635529195},"Controlled OD (DR-13.5) Iron Pipe Size","ASTM F714"]
[null,null,null,null,{"$f":"ROW()","v":679},"PE","IPS (DR)",10,"10","160 psi   DR-13.5",13.5,{"$f":"VLOOKUP(K679,Tables!$C$42:$G$58,IF(Tables!$C$5=4710,IF(N679=\"ID\",5,3),IF(N679=\"ID\",4,2)),FALSE)","v":160},10.75,"OD",null,0.79600000000000004,4.8000000000000001E-2,{"$f":"VLOOKUP(F679,Tables!$G$5:$H$14,2,FALSE)*(M679-(P679+Q679*Tables!$C$6))*(P679+Q679*Tables!$C$6)*1.36136","v":10.619439518687999},"Controlled OD (DR-13.5) Iron Pipe Size","ASTM F714"]
[null,null,null,null,{"$f":"ROW()","v":680},"PE","IPS (DR)",12,"12","160 psi   DR-13.5",13.5,{"$f":"VLOOKUP(K680,Tables!$C$42:$G$58,IF(Tables!$C$5=4710,IF(N680=\"ID\",5,3),IF(N680=\"ID\",4,2)),FALSE)","v":160},12.75,"OD",null,0.94399999999999995,5.7000000000000002E-2,{"$f":"VLOOKUP(F680,Tables!$G$5:$H$14,2,FALSE)*(M680-(P680+Q680*Tables!$C$6))*(P680+Q680*Tables!$C$6)*1.36136","v":14.937613487796998},"Controlled OD (DR-13.5) Iron Pipe Size","ASTM F714"]
[null,null,null,null,{"$f":"ROW()","v":681},"PE","IPS (DR)",14,"14","160 psi   DR-13.5",13.5,{"$f":"VLOOKUP(K681,Tables!$C$42:$G$58,IF(Tables!$C$5=4710,IF(N681=\"ID\",5,3),IF(N681=\"ID\",4,2)),FALSE)","v":160},14,"OD",null,1.0369999999999999,6.3E-2,{"$f":"VLOOKUP(F681,Tables!$G$5:$H$14,2,FALSE)*(M681-(P681+Q681*Tables!$C$6))*(P681+Q681*Tables!$C$6)*1.36136","v":18.020296215241316},"Controlled OD (DR-13.5) Iron Pipe Size","ASTM F714"]
[null,null,null,null,{"$f":"ROW()","v":682},"PE","IPS (DR)",16,"16","160 psi   DR-13.5",13.5,{"$f":"VLOOKUP(K682,Tables!$C$42:$G$58,IF(Tables!$C$5=4710,IF(N682=\"ID\",5,3),IF(N682=\"ID\",4,2)),FALSE)","v":160},16,"OD",null,1.1850000000000001,7.1999999999999995E-2,{"$f":"VLOOKUP(F682,Tables!$G$5:$H$14,2,FALSE)*(M682-(P682+Q682*Tables!$C$6))*(P682+Q682*Tables!$C$6)*1.36136","v":23.534187434677918},"Controlled OD (DR-13.5) Iron Pipe Size","ASTM F714"]
[null,null,null,null,{"$f":"ROW()","v":683},"PE","IPS (DR)",18,"18","160 psi   DR-13.5",13.5,{"$f":"VLOOKUP(K683,Tables!$C$42:$G$58,IF(Tables!$C$5=4710,IF(N683=\"ID\",5,3),IF(N683=\"ID\",4,2)),FALSE)","v":160},18,"OD",null,1.333,8.1000000000000003E-2,{"$f":"VLOOKUP(F683,Tables!$G$5:$H$14,2,FALSE)*(M683-(P683+Q683*Tables!$C$6))*(P683+Q683*Tables!$C$6)*1.36136","v":29.782969404708513},"Controlled OD (DR-13.5) Iron Pipe Size","ASTM F714"]
[null,null,null,null,{"$f":"ROW()","v":684},"PE","IPS (DR)",20,"20","160 psi   DR-13.5",13.5,{"$f":"VLOOKUP(K684,Tables!$C$42:$G$58,IF(Tables!$C$5=4710,IF(N684=\"ID\",5,3),IF(N684=\"ID\",4,2)),FALSE)","v":160},20,"OD",null,1.4810000000000001,0.09,{"$f":"VLOOKUP(F684,Tables!$G$5:$H$14,2,FALSE)*(M684-(P684+Q684*Tables!$C$6))*(P684+Q684*Tables!$C$6)*1.36136","v":36.766642125333114},"Controlled OD (DR-13.5) Iron Pipe Size","ASTM F714"]
[null,null,null,null,{"$f":"ROW()","v":685},"PE","IPS (DR)",22,"22","160 psi   DR-13.5",13.5,{"$f":"VLOOKUP(K685,Tables!$C$42:$G$58,IF(Tables!$C$5=4710,IF(N685=\"ID\",5,3),IF(N685=\"ID\",4,2)),FALSE)","v":160},22,"OD",null,1.63,9.9000000000000005E-2,{"$f":"VLOOKUP(F685,Tables!$G$5:$H$14,2,FALSE)*(M685-(P685+Q685*Tables!$C$6))*(P685+Q685*Tables!$C$6)*1.36136","v":44.509518173800672},"Controlled OD (DR-13.5) Iron Pipe Size","ASTM F714"]
[null,null,null,null,{"$f":"ROW()","v":686},"PE","IPS (DR)",24,"24","160 psi   DR-13.5",13.5,{"$f":"VLOOKUP(K686,Tables!$C$42:$G$58,IF(Tables!$C$5=4710,IF(N686=\"ID\",5,3),IF(N686=\"ID\",4,2)),FALSE)","v":160},24,"OD",null,1.778,0.108,{"$f":"VLOOKUP(F686,Tables!$G$5:$H$14,2,FALSE)*(M686-(P686+Q686*Tables!$C$6))*(P686+Q686*Tables!$C$6)*1.36136","v":52.965182985594872},"Controlled OD (DR-13.5) Iron Pipe Size","ASTM F714"]
[null,null,null,null,{"$f":"ROW()","v":687},"PE","IPS (DR)",26,"26","160 psi   DR-13.5",13.5,{"$f":"VLOOKUP(K687,Tables!$C$42:$G$58,IF(Tables!$C$5=4710,IF(N687=\"ID\",5,3),IF(N687=\"ID\",4,2)),FALSE)","v":160},26,"OD",null,1.9259999999999999,0.11700000000000001,{"$f":"VLOOKUP(F687,Tables!$G$5:$H$14,2,FALSE)*(M687-(P687+Q687*Tables!$C$6))*(P687+Q687*Tables!$C$6)*1.36136","v":62.15573854798307},"Controlled OD (DR-13.5) Iron Pipe Size","ASTM F714"]
[null,null,null,null,{"$f":"ROW()","v":688},"PE","IPS (DR)",28,"28","160 psi   DR-13.5",13.5,{"$f":"VLOOKUP(K688,Tables!$C$42:$G$58,IF(Tables!$C$5=4710,IF(N688=\"ID\",5,3),IF(N688=\"ID\",4,2)),FALSE)","v":160},28,"OD",null,2.0739999999999998,0.126,{"$f":"VLOOKUP(F688,Tables!$G$5:$H$14,2,FALSE)*(M688-(P688+Q688*Tables!$C$6))*(P688+Q688*Tables!$C$6)*1.36136","v":72.081184860965266},"Controlled OD (DR-13.5) Iron Pipe Size","ASTM F714"]
[null,null,null,null,{"$f":"ROW()","v":689},"PE","IPS (DR)",30,"30","160 psi   DR-13.5",13.5,{"$f":"VLOOKUP(K689,Tables!$C$42:$G$58,IF(Tables!$C$5=4710,IF(N689=\"ID\",5,3),IF(N689=\"ID\",4,2)),FALSE)","v":160},30,"OD",null,2.222,0.13500000000000001,{"$f":"VLOOKUP(F689,Tables!$G$5:$H$14,2,FALSE)*(M689-(P689+Q689*Tables!$C$6))*(P689+Q689*Tables!$C$6)*1.36136","v":82.741521924541459},"Controlled OD (DR-13.5) Iron Pipe Size","ASTM F714"]
[null,null,null,null,{"$f":"ROW()","v":690},"PE","IPS (DR)",32,"32","160 psi   DR-13.5",13.5,{"$f":"VLOOKUP(K690,Tables!$C$42:$G$58,IF(Tables!$C$5=4710,IF(N690=\"ID\",5,3),IF(N690=\"ID\",4,2)),FALSE)","v":160},32,"OD",null,2.37,0.14399999999999999,{"$f":"VLOOKUP(F690,Tables!$G$5:$H$14,2,FALSE)*(M690-(P690+Q690*Tables!$C$6))*(P690+Q690*Tables!$C$6)*1.36136","v":94.136749738711671},"Controlled OD (DR-13.5) Iron Pipe Size","ASTM F714"]
[null,null,null,null,{"$f":"ROW()","v":691},"PE","IPS (DR)",34,"34","160 psi   DR-13.5",13.5,{"$f":"VLOOKUP(K691,Tables!$C$42:$G$58,IF(Tables!$C$5=4710,IF(N691=\"ID\",5,3),IF(N691=\"ID\",4,2)),FALSE)","v":160},34,"OD",null,2.5190000000000001,0.153,{"$f":"VLOOKUP(F691,Tables!$G$5:$H$14,2,FALSE)*(M691-(P691+Q691*Tables!$C$6))*(P691+Q691*Tables!$C$6)*1.36136","v":106.30444181224867},"Controlled OD (DR-13.5) Iron Pipe Size","ASTM F714"]
[null,null,null,null,{"$f":"ROW()","v":692},"PE","IPS (DR)",36,"36","160 psi   DR-13.5",13.5,{"$f":"VLOOKUP(K692,Tables!$C$42:$G$58,IF(Tables!$C$5=4710,IF(N692=\"ID\",5,3),IF(N692=\"ID\",4,2)),FALSE)","v":160},36,"OD",null,2.6669999999999998,0.16200000000000001,{"$f":"VLOOKUP(F692,Tables!$G$5:$H$14,2,FALSE)*(M692-(P692+Q692*Tables!$C$6))*(P692+Q692*Tables!$C$6)*1.36136","v":119.17166171758846},"Controlled OD (DR-13.5) Iron Pipe Size","ASTM F714"]
[null,null,null,null,{"$f":"ROW()","v":693},"PE","IPS (DR)",42,"42","160 psi   DR-13.5",13.5,{"$f":"VLOOKUP(K693,Tables!$C$42:$G$58,IF(Tables!$C$5=4710,IF(N693=\"ID\",5,3),IF(N693=\"ID\",4,2)),FALSE)","v":160},42,"OD",null,3.1110000000000002,0.189,{"$f":"VLOOKUP(F693,Tables!$G$5:$H$14,2,FALSE)*(M693-(P693+Q693*Tables!$C$6))*(P693+Q693*Tables!$C$6)*1.36136","v":162.18266593717186},"Controlled OD (DR-13.5) Iron Pipe Size","ASTM F714"]
[null,null,null,null,{"$f":"ROW()","v":694},"PE","IPS (DR)",48,"48","160 psi   DR-13.5",13.5,{"$f":"VLOOKUP(K694,Tables!$C$42:$G$58,IF(Tables!$C$5=4710,IF(N694=\"ID\",5,3),IF(N694=\"ID\",4,2)),FALSE)","v":160},48,"OD",null,3.556,0.216,{"$f":"VLOOKUP(F694,Tables!$G$5:$H$14,2,FALSE)*(M694-(P694+Q694*Tables!$C$6))*(P694+Q694*Tables!$C$6)*1.36136","v":211.86073194237949},"Controlled OD (DR-13.5) Iron Pipe Size","ASTM F714"]
[null,null,null,null,{"$f":"ROW()","v":695},"PE","IPS (DR)",0.5,"1/2","200 psi   DR-11",11,{"$f":"VLOOKUP(K695,Tables!$C$42:$G$58,IF(Tables!$C$5=4710,IF(N695=\"ID\",5,3),IF(N695=\"ID\",4,2)),FALSE)","v":200},0.84,"OD",null,7.5999999999999998E-2,0.02,{"$f":"VLOOKUP(F695,Tables!$G$5:$H$14,2,FALSE)*(M695-(P695+Q695*Tables!$C$6))*(P695+Q695*Tables!$C$6)*1.36136","v":8.4568434670719991E-2},"Controlled OD (DR-11) Iron Pipe Size","ASTM D3035"]
[null,null,null,null,{"$f":"ROW()","v":696},"PE","IPS (DR)",0.75,"3/4","200 psi   DR-11",11,{"$f":"VLOOKUP(K696,Tables!$C$42:$G$58,IF(Tables!$C$5=4710,IF(N696=\"ID\",5,3),IF(N696=\"ID\",4,2)),FALSE)","v":200},1.05,"OD",null,9.5000000000000001E-2,0.02,{"$f":"VLOOKUP(F696,Tables!$G$5:$H$14,2,FALSE)*(M696-(P696+Q696*Tables!$C$6))*(P696+Q696*Tables!$C$6)*1.36136","v":0.129407546268},"Controlled OD (DR-11) Iron Pipe Size","ASTM D3035"]
[null,null,null,null,{"$f":"ROW()","v":697},"PE","IPS (DR)",1,"1","200 psi   DR-11",11,{"$f":"VLOOKUP(K697,Tables!$C$42:$G$58,IF(Tables!$C$5=4710,IF(N697=\"ID\",5,3),IF(N697=\"ID\",4,2)),FALSE)","v":200},1.3149999999999999,"OD",null,0.12,0.02,{"$f":"VLOOKUP(F697,Tables!$G$5:$H$14,2,FALSE)*(M697-(P697+Q697*Tables!$C$6))*(P697+Q697*Tables!$C$6)*1.36136","v":0.200909372664},"Controlled OD (DR-11) Iron Pipe Size","ASTM D3035"]
[1,null,null,null,{"$f":"ROW()","v":698},"PE","IPS (DR)",1.25,"1 1/4","200 psi   DR-11",11,{"$f":"VLOOKUP(K698,Tables!$C$42:$G$58,IF(Tables!$C$5=4710,IF(N698=\"ID\",5,3),IF(N698=\"ID\",4,2)),FALSE)","v":200},1.66,"OD",null,0.151,0.02,{"$f":"VLOOKUP(F698,Tables!$G$5:$H$14,2,FALSE)*(M698-(P698+Q698*Tables!$C$6))*(P698+Q698*Tables!$C$6)*1.36136","v":0.31475019207631993},"Controlled OD (DR-11) Iron Pipe Size","ASTM D3035"]
[null,null,null,null,{"$f":"ROW()","v":699},"PE","IPS (DR)",1.5,"1 1/2","200 psi   DR-11",11,{"$f":"VLOOKUP(K699,Tables!$C$42:$G$58,IF(Tables!$C$5=4710,IF(N699=\"ID\",5,3),IF(N699=\"ID\",4,2)),FALSE)","v":200},1.9,"OD",null,0.17299999999999999,2.1000000000000001E-2,{"$f":"VLOOKUP(F699,Tables!$G$5:$H$14,2,FALSE)*(M699-(P699+Q699*Tables!$C$6))*(P699+Q699*Tables!$C$6)*1.36136","v":0.41078858913091992},"Controlled OD (DR-11) Iron Pipe Size","ASTM D3035"]
[null,null,null,null,{"$f":"ROW()","v":700},"PE","IPS (DR)",2,"2","200 psi   DR-11",11,{"$f":"VLOOKUP(K700,Tables!$C$42:$G$58,IF(Tables!$C$5=4710,IF(N700=\"ID\",5,3),IF(N700=\"ID\",4,2)),FALSE)","v":200},2.375,"OD",null,0.216,2.5999999999999999E-2,{"$f":"VLOOKUP(F700,Tables!$G$5:$H$14,2,FALSE)*(M700-(P700+Q700*Tables!$C$6))*(P700+Q700*Tables!$C$6)*1.36136","v":0.64091980944992},"Controlled OD (DR-11) Iron Pipe Size","ASTM D3035"]
[null,null,null,null,{"$f":"ROW()","v":701},"PE","IPS (DR)",3,"3",{"$f":"L701&\" psi   DR-\"&K701","v":"200 psi   DR-11"},11,{"$f":"VLOOKUP(K701,Tables!$C$42:$G$58,IF(Tables!$C$5=4710,IF(N701=\"ID\",5,3),IF(N701=\"ID\",4,2)),FALSE)","v":200},3.5,"OD",null,0.318,3.7999999999999999E-2,{"$f":"VLOOKUP(F701,Tables!$G$5:$H$14,2,FALSE)*(M701-(P701+Q701*Tables!$C$6))*(P701+Q701*Tables!$C$6)*1.36136","v":1.3901689614612798},"Controlled OD (DR-11) Iron Pipe Size","ASTM D3035"]
[null,null,null,null,{"$f":"ROW()","v":702},"PE","IPS (DR)",4,"4","200 psi   DR-11",11,{"$f":"VLOOKUP(K702,Tables!$C$42:$G$58,IF(Tables!$C$5=4710,IF(N702=\"ID\",5,3),IF(N702=\"ID\",4,2)),FALSE)","v":200},4.5,"OD",null,0.40899999999999997,0.02,{"$f":"VLOOKUP(F702,Tables!$G$5:$H$14,2,FALSE)*(M702-(P702+Q702*Tables!$C$6))*(P702+Q702*Tables!$C$6)*1.36136","v":2.2300731696443199},"Controlled OD (DR-11) Iron Pipe Size","ASTM F714"]
[null,null,null,null,{"$f":"ROW()","v":703},"PE","IPS (DR)",5,"5","200 psi   DR-11",11,{"$f":"VLOOKUP(K703,Tables!$C$42:$G$58,IF(Tables!$C$5=4710,IF(N703=\"ID\",5,3),IF(N703=\"ID\",4,2)),FALSE)","v":200},5.5629999999999997,"OD",null,0.50600000000000001,2.5000000000000001E-2,{"$f":"VLOOKUP(F703,Tables!$G$5:$H$14,2,FALSE)*(M703-(P703+Q703*Tables!$C$6))*(P703+Q703*Tables!$C$6)*1.36136","v":3.411185854035959},"Controlled OD (DR-11) Iron Pipe Size","ASTM F714"]
[null,null,null,null,{"$f":"ROW()","v":704},"PE","IPS (DR)",6,"6","200 psi   DR-11",11,{"$f":"VLOOKUP(K704,Tables!$C$42:$G$58,IF(Tables!$C$5=4710,IF(N704=\"ID\",5,3),IF(N704=\"ID\",4,2)),FALSE)","v":200},6.625,"OD",null,0.60199999999999998,0.03,{"$f":"VLOOKUP(F704,Tables!$G$5:$H$14,2,FALSE)*(M704-(P704+Q704*Tables!$C$6))*(P704+Q704*Tables!$C$6)*1.36136","v":4.8345224684556793},"Controlled OD (DR-11) Iron Pipe Size","ASTM F714"]
[null,null,null,null,{"$f":"ROW()","v":705},"PE","IPS (DR)",7,"7","200 psi   DR-11",11,{"$f":"VLOOKUP(K705,Tables!$C$42:$G$58,IF(Tables!$C$5=4710,IF(N705=\"ID\",5,3),IF(N705=\"ID\",4,2)),FALSE)","v":200},7.125,"OD",null,0.64800000000000002,3.4000000000000002E-2,{"$f":"VLOOKUP(F705,Tables!$G$5:$H$14,2,FALSE)*(M705-(P705+Q705*Tables!$C$6))*(P705+Q705*Tables!$C$6)*1.36136","v":5.6026392341919999},"Controlled OD (DR-11) Iron Pipe Size","ASTM F714"]
[null,null,null,null,{"$f":"ROW()","v":706},"PE","IPS (DR)",8,"8","200 psi   DR-11",11,{"$f":"VLOOKUP(K706,Tables!$C$42:$G$58,IF(Tables!$C$5=4710,IF(N706=\"ID\",5,3),IF(N706=\"ID\",4,2)),FALSE)","v":200},8.625,"OD",null,0.78400000000000003,3.9E-2,{"$f":"VLOOKUP(F706,Tables!$G$5:$H$14,2,FALSE)*(M706-(P706+Q706*Tables!$C$6))*(P706+Q706*Tables!$C$6)*1.36136","v":8.1962354491217191},"Controlled OD (DR-11) Iron Pipe Size","ASTM F714"]
[null,null,null,null,{"$f":"ROW()","v":707},"PE","IPS (DR)",10,"10","200 psi   DR-11",11,{"$f":"VLOOKUP(K707,Tables!$C$42:$G$58,IF(Tables!$C$5=4710,IF(N707=\"ID\",5,3),IF(N707=\"ID\",4,2)),FALSE)","v":200},10.75,"OD",null,0.97699999999999998,4.8000000000000001E-2,{"$f":"VLOOKUP(F707,Tables!$G$5:$H$14,2,FALSE)*(M707-(P707+Q707*Tables!$C$6))*(P707+Q707*Tables!$C$6)*1.36136","v":12.727193376017118},"Controlled OD (DR-11) Iron Pipe Size","ASTM F714"]
[null,null,null,null,{"$f":"ROW()","v":708},"PE","IPS (DR)",12,"12","200 psi   DR-11",11,{"$f":"VLOOKUP(K708,Tables!$C$42:$G$58,IF(Tables!$C$5=4710,IF(N708=\"ID\",5,3),IF(N708=\"ID\",4,2)),FALSE)","v":200},12.75,"OD",null,1.159,5.7000000000000002E-2,{"$f":"VLOOKUP(F708,Tables!$G$5:$H$14,2,FALSE)*(M708-(P708+Q708*Tables!$C$6))*(P708+Q708*Tables!$C$6)*1.36136","v":17.907042278124997},"Controlled OD (DR-11) Iron Pipe Size","ASTM F714"]
[null,null,null,null,{"$f":"ROW()","v":709},"PE","IPS (DR)",14,"14","200 psi   DR-11",11,{"$f":"VLOOKUP(K709,Tables!$C$42:$G$58,IF(Tables!$C$5=4710,IF(N709=\"ID\",5,3),IF(N709=\"ID\",4,2)),FALSE)","v":200},14,"OD",null,1.2729999999999999,6.3E-2,{"$f":"VLOOKUP(F709,Tables!$G$5:$H$14,2,FALSE)*(M709-(P709+Q709*Tables!$C$6))*(P709+Q709*Tables!$C$6)*1.36136","v":21.598937520840678},"Controlled OD (DR-11) Iron Pipe Size","ASTM F714"]
[null,null,null,null,{"$f":"ROW()","v":710},"PE","IPS (DR)",16,"16","200 psi   DR-11",11,{"$f":"VLOOKUP(K710,Tables!$C$42:$G$58,IF(Tables!$C$5=4710,IF(N710=\"ID\",5,3),IF(N710=\"ID\",4,2)),FALSE)","v":200},16,"OD",null,1.4550000000000001,7.1999999999999995E-2,{"$f":"VLOOKUP(F710,Tables!$G$5:$H$14,2,FALSE)*(M710-(P710+Q710*Tables!$C$6))*(P710+Q710*Tables!$C$6)*1.36136","v":28.213282604226716},"Controlled OD (DR-11) Iron Pipe Size","ASTM F714"]
[null,null,null,null,{"$f":"ROW()","v":711},"PE","IPS (DR)",18,"18","200 psi   DR-11",11,{"$f":"VLOOKUP(K711,Tables!$C$42:$G$58,IF(Tables!$C$5=4710,IF(N711=\"ID\",5,3),IF(N711=\"ID\",4,2)),FALSE)","v":200},18,"OD",null,1.6359999999999999,8.1000000000000003E-2,{"$f":"VLOOKUP(F711,Tables!$G$5:$H$14,2,FALSE)*(M711-(P711+Q711*Tables!$C$6))*(P711+Q711*Tables!$C$6)*1.36136","v":35.690722223676516},"Controlled OD (DR-11) Iron Pipe Size","ASTM F714"]
[null,null,null,null,{"$f":"ROW()","v":712},"PE","IPS (DR)",20,"20","200 psi   DR-11",11,{"$f":"VLOOKUP(K712,Tables!$C$42:$G$58,IF(Tables!$C$5=4710,IF(N712=\"ID\",5,3),IF(N712=\"ID\",4,2)),FALSE)","v":200},20,"OD",null,1.8180000000000001,0.09,{"$f":"VLOOKUP(F712,Tables!$G$5:$H$14,2,FALSE)*(M712-(P712+Q712*Tables!$C$6))*(P712+Q712*Tables!$C$6)*1.36136","v":44.067336598565284},"Controlled OD (DR-11) Iron Pipe Size","ASTM F714"]
[null,null,null,null,{"$f":"ROW()","v":713},"PE","IPS (DR)",22,"22","200 psi   DR-11",11,{"$f":"VLOOKUP(K713,Tables!$C$42:$G$58,IF(Tables!$C$5=4710,IF(N713=\"ID\",5,3),IF(N713=\"ID\",4,2)),FALSE)","v":200},22,"OD",null,2,9.9000000000000005E-2,{"$f":"VLOOKUP(F713,Tables!$G$5:$H$14,2,FALSE)*(M713-(P713+Q713*Tables!$C$6))*(P713+Q713*Tables!$C$6)*1.36136","v":53.326146571978271},"Controlled OD (DR-11) Iron Pipe Size","ASTM F714"]
[null,null,null,null,{"$f":"ROW()","v":714},"PE","IPS (DR)",24,"24","200 psi   DR-11",11,{"$f":"VLOOKUP(K714,Tables!$C$42:$G$58,IF(Tables!$C$5=4710,IF(N714=\"ID\",5,3),IF(N714=\"ID\",4,2)),FALSE)","v":200},24,"OD",null,2.1819999999999999,0.108,{"$f":"VLOOKUP(F714,Tables!$G$5:$H$14,2,FALSE)*(M714-(P714+Q714*Tables!$C$6))*(P714+Q714*Tables!$C$6)*1.36136","v":63.467152143915506},"Controlled OD (DR-11) Iron Pipe Size","ASTM F714"]
[null,null,null,null,{"$f":"ROW()","v":715},"PE","IPS (DR)",26,"26","200 psi   DR-11",11,{"$f":"VLOOKUP(K715,Tables!$C$42:$G$58,IF(Tables!$C$5=4710,IF(N715=\"ID\",5,3),IF(N715=\"ID\",4,2)),FALSE)","v":200},26,"OD",null,2.3639999999999999,0.11700000000000001,{"$f":"VLOOKUP(F715,Tables!$G$5:$H$14,2,FALSE)*(M715-(P715+Q715*Tables!$C$6))*(P715+Q715*Tables!$C$6)*1.36136","v":74.490353314376989},"Controlled OD (DR-11) Iron Pipe Size","ASTM F714"]
[null,null,null,null,{"$f":"ROW()","v":716},"PE","IPS (DR)",28,"28","200 psi   DR-11",11,{"$f":"VLOOKUP(K716,Tables!$C$42:$G$58,IF(Tables!$C$5=4710,IF(N716=\"ID\",5,3),IF(N716=\"ID\",4,2)),FALSE)","v":200},28,"OD",null,2.5449999999999999,0.126,{"$f":"VLOOKUP(F716,Tables!$G$5:$H$14,2,FALSE)*(M716-(P716+Q716*Tables!$C$6))*(P716+Q716*Tables!$C$6)*1.36136","v":86.36603688480767},"Controlled OD (DR-11) Iron Pipe Size","ASTM F714"]
[null,null,null,null,{"$f":"ROW()","v":717},"PE","IPS (DR)",30,"30","200 psi   DR-11",11,{"$f":"VLOOKUP(K717,Tables!$C$42:$G$58,IF(Tables!$C$5=4710,IF(N717=\"ID\",5,3),IF(N717=\"ID\",4,2)),FALSE)","v":200},30,"OD",null,2.7269999999999999,0.13500000000000001,{"$f":"VLOOKUP(F717,Tables!$G$5:$H$14,2,FALSE)*(M717-(P717+Q717*Tables!$C$6))*(P717+Q717*Tables!$C$6)*1.36136","v":99.151507346771865},"Controlled OD (DR-11) Iron Pipe Size","ASTM F714"]
[null,null,null,null,{"$f":"ROW()","v":718},"PE","IPS (DR)",32,"32","200 psi   DR-11",11,{"$f":"VLOOKUP(K718,Tables!$C$42:$G$58,IF(Tables!$C$5=4710,IF(N718=\"ID\",5,3),IF(N718=\"ID\",4,2)),FALSE)","v":200},32,"OD",null,2.9089999999999998,0.14399999999999999,{"$f":"VLOOKUP(F718,Tables!$G$5:$H$14,2,FALSE)*(M718-(P718+Q718*Tables!$C$6))*(P718+Q718*Tables!$C$6)*1.36136","v":112.81917340726029},"Controlled OD (DR-11) Iron Pipe Size","ASTM F714"]
[null,null,null,null,{"$f":"ROW()","v":719},"PE","IPS (DR)",34,"34","200 psi   DR-11",11,{"$f":"VLOOKUP(K719,Tables!$C$42:$G$58,IF(Tables!$C$5=4710,IF(N719=\"ID\",5,3),IF(N719=\"ID\",4,2)),FALSE)","v":200},34,"OD",null,3.0910000000000002,0.153,{"$f":"VLOOKUP(F719,Tables!$G$5:$H$14,2,FALSE)*(M719-(P719+Q719*Tables!$C$6))*(P719+Q719*Tables!$C$6)*1.36136","v":127.36903506627297},"Controlled OD (DR-11) Iron Pipe Size","ASTM F714"]
[null,null,null,null,{"$f":"ROW()","v":720},"PE","IPS (DR)",36,"36","200 psi   DR-11",11,{"$f":"VLOOKUP(K720,Tables!$C$42:$G$58,IF(Tables!$C$5=4710,IF(N720=\"ID\",5,3),IF(N720=\"ID\",4,2)),FALSE)","v":200},36,"OD",null,3.2730000000000001,0.16200000000000001,{"$f":"VLOOKUP(F720,Tables!$G$5:$H$14,2,FALSE)*(M720-(P720+Q720*Tables!$C$6))*(P720+Q720*Tables!$C$6)*1.36136","v":142.80109232380991},"Controlled OD (DR-11) Iron Pipe Size","ASTM F714"]
[null,null,null,null,{"$f":"ROW()","v":721},"PE","IPS (DR)",42,"42","200 psi   DR-11",11,{"$f":"VLOOKUP(K721,Tables!$C$42:$G$58,IF(Tables!$C$5=4710,IF(N721=\"ID\",5,3),IF(N721=\"ID\",4,2)),FALSE)","v":200},42,"OD",null,3.8180000000000001,0.189,{"$f":"VLOOKUP(F721,Tables!$G$5:$H$14,2,FALSE)*(M721-(P721+Q721*Tables!$C$6))*(P721+Q721*Tables!$C$6)*1.36136","v":194.34586854182496},"Controlled OD (DR-11) Iron Pipe Size","ASTM F714"]
[null,null,null,null,{"$f":"ROW()","v":722},"PE","IPS (DR)",0.5,"1/2","250 psi   DR-9",9,{"$f":"VLOOKUP(K722,Tables!$C$42:$G$58,IF(Tables!$C$5=4710,IF(N722=\"ID\",5,3),IF(N722=\"ID\",4,2)),FALSE)","v":250},0.84,"OD",null,9.2999999999999999E-2,0.02,{"$f":"VLOOKUP(F722,Tables!$G$5:$H$14,2,FALSE)*(M722-(P722+Q722*Tables!$C$6))*(P722+Q722*Tables!$C$6)*1.36136","v":9.9001826603679982E-2},"Controlled OD (DR-9) Iron Pipe Size","ASTM D3035"]
[null,null,null,null,{"$f":"ROW()","v":723},"PE","IPS (DR)",0.75,"3/4","250 psi   DR-9",9,{"$f":"VLOOKUP(K723,Tables!$C$42:$G$58,IF(Tables!$C$5=4710,IF(N723=\"ID\",5,3),IF(N723=\"ID\",4,2)),FALSE)","v":250},1.05,"OD",null,0.11700000000000001,0.02,{"$f":"VLOOKUP(F723,Tables!$G$5:$H$14,2,FALSE)*(M723-(P723+Q723*Tables!$C$6))*(P723+Q723*Tables!$C$6)*1.36136","v":0.15287762137647998},"Controlled OD (DR-9) Iron Pipe Size","ASTM D3035"]
[null,null,null,null,{"$f":"ROW()","v":724},"PE","IPS (DR)",1,"1","250 psi   DR-9",9,{"$f":"VLOOKUP(K724,Tables!$C$42:$G$58,IF(Tables!$C$5=4710,IF(N724=\"ID\",5,3),IF(N724=\"ID\",4,2)),FALSE)","v":250},1.3149999999999999,"OD",null,0.14599999999999999,0.02,{"$f":"VLOOKUP(F724,Tables!$G$5:$H$14,2,FALSE)*(M724-(P724+Q724*Tables!$C$6))*(P724+Q724*Tables!$C$6)*1.36136","v":0.23580148143551996},"Controlled OD (DR-9) Iron Pipe Size","ASTM D3035"]
[null,null,null,null,{"$f":"ROW()","v":725},"PE","IPS (DR)",1.25,"1 1/4","250 psi   DR-9",9,{"$f":"VLOOKUP(K725,Tables!$C$42:$G$58,IF(Tables!$C$5=4710,IF(N725=\"ID\",5,3),IF(N725=\"ID\",4,2)),FALSE)","v":250},1.66,"OD",null,0.184,2.1999999999999999E-2,{"$f":"VLOOKUP(F725,Tables!$G$5:$H$14,2,FALSE)*(M725-(P725+Q725*Tables!$C$6))*(P725+Q725*Tables!$C$6)*1.36136","v":0.37257244424399993},"Controlled OD (DR-9) Iron Pipe Size","ASTM D3035"]
[null,null,null,null,{"$f":"ROW()","v":726},"PE","IPS (DR)",1.5,"1 1/2","250 psi   DR-9",9,{"$f":"VLOOKUP(K726,Tables!$C$42:$G$58,IF(Tables!$C$5=4710,IF(N726=\"ID\",5,3),IF(N726=\"ID\",4,2)),FALSE)","v":250},1.9,"OD",null,0.21099999999999999,2.5000000000000001E-2,{"$f":"VLOOKUP(F726,Tables!$G$5:$H$14,2,FALSE)*(M726-(P726+Q726*Tables!$C$6))*(P726+Q726*Tables!$C$6)*1.36136","v":0.48867439072451996},"Controlled OD (DR-9) Iron Pipe Size","ASTM D3035"]
[null,null,null,null,{"$f":"ROW()","v":727},"PE","IPS (DR)",2,"2","250 psi   DR-9",9,{"$f":"VLOOKUP(K727,Tables!$C$42:$G$58,IF(Tables!$C$5=4710,IF(N727=\"ID\",5,3),IF(N727=\"ID\",4,2)),FALSE)","v":250},2.375,"OD",null,0.26400000000000001,3.2000000000000001E-2,{"$f":"VLOOKUP(F727,Tables!$G$5:$H$14,2,FALSE)*(M727-(P727+Q727*Tables!$C$6))*(P727+Q727*Tables!$C$6)*1.36136","v":0.76503367740799988},"Controlled OD (DR-9) Iron Pipe Size","ASTM D3035"]
[null,null,null,null,{"$f":"ROW()","v":728},"PE","IPS (DR)",3,"3","250 psi   DR-9",9,{"$f":"VLOOKUP(K728,Tables!$C$42:$G$58,IF(Tables!$C$5=4710,IF(N728=\"ID\",5,3),IF(N728=\"ID\",4,2)),FALSE)","v":250},3.5,"OD",null,0.38900000000000001,4.7E-2,{"$f":"VLOOKUP(F728,Tables!$G$5:$H$14,2,FALSE)*(M728-(P728+Q728*Tables!$C$6))*(P728+Q728*Tables!$C$6)*1.36136","v":1.6609991648249998},"Controlled OD (DR-9) Iron Pipe Size","ASTM D3035"]
[null,null,null,null,{"$f":"ROW()","v":729},"PE","IPS (DR)",4,"4","250 psi   DR-9",9,{"$f":"VLOOKUP(K729,Tables!$C$42:$G$58,IF(Tables!$C$5=4710,IF(N729=\"ID\",5,3),IF(N729=\"ID\",4,2)),FALSE)","v":250},4.5,"OD",null,0.5,0.02,{"$f":"VLOOKUP(F729,Tables!$G$5:$H$14,2,FALSE)*(M729-(P729+Q729*Tables!$C$6))*(P729+Q729*Tables!$C$6)*1.36136","v":2.653881742512},"Controlled OD (DR-9) Iron Pipe Size","ASTM F714"]
[null,null,null,null,{"$f":"ROW()","v":730},"PE","IPS (DR)",5,"5","250 psi   DR-9",9,{"$f":"VLOOKUP(K730,Tables!$C$42:$G$58,IF(Tables!$C$5=4710,IF(N730=\"ID\",5,3),IF(N730=\"ID\",4,2)),FALSE)","v":250},5.5629999999999997,"OD",null,0.61799999999999999,2.5000000000000001E-2,{"$f":"VLOOKUP(F730,Tables!$G$5:$H$14,2,FALSE)*(M730-(P730+Q730*Tables!$C$6))*(P730+Q730*Tables!$C$6)*1.36136","v":4.0559321360557998},"Controlled OD (DR-9) Iron Pipe Size","ASTM F714"]
[null,null,null,null,{"$f":"ROW()","v":731},"PE","IPS (DR)",6,"6","250 psi   DR-9",9,{"$f":"VLOOKUP(K731,Tables!$C$42:$G$58,IF(Tables!$C$5=4710,IF(N731=\"ID\",5,3),IF(N731=\"ID\",4,2)),FALSE)","v":250},6.625,"OD",null,0.73599999999999999,0.03,{"$f":"VLOOKUP(F731,Tables!$G$5:$H$14,2,FALSE)*(M731-(P731+Q731*Tables!$C$6))*(P731+Q731*Tables!$C$6)*1.36136","v":5.753238448077119},"Controlled OD (DR-9) Iron Pipe Size","ASTM F714"]
[null,null,null,null,{"$f":"ROW()","v":732},"PE","IPS (DR)",7,"7","250 psi   DR-9",9,{"$f":"VLOOKUP(K732,Tables!$C$42:$G$58,IF(Tables!$C$5=4710,IF(N732=\"ID\",5,3),IF(N732=\"ID\",4,2)),FALSE)","v":250},7.125,"OD",null,0.79200000000000004,3.4000000000000002E-2,{"$f":"VLOOKUP(F732,Tables!$G$5:$H$14,2,FALSE)*(M732-(P732+Q732*Tables!$C$6))*(P732+Q732*Tables!$C$6)*1.36136","v":6.6639102276947195},"Controlled OD (DR-9) Iron Pipe Size","ASTM F714"]
[null,null,null,null,{"$f":"ROW()","v":733},"PE","IPS (DR)",8,"8","250 psi   DR-9",9,{"$f":"VLOOKUP(K733,Tables!$C$42:$G$58,IF(Tables!$C$5=4710,IF(N733=\"ID\",5,3),IF(N733=\"ID\",4,2)),FALSE)","v":250},8.625,"OD",null,0.95799999999999996,3.9E-2,{"$f":"VLOOKUP(F733,Tables!$G$5:$H$14,2,FALSE)*(M733-(P733+Q733*Tables!$C$6))*(P733+Q733*Tables!$C$6)*1.36136","v":9.7493294568669988},"Controlled OD (DR-9) Iron Pipe Size","ASTM F714"]
[null,null,null,null,{"$f":"ROW()","v":734},"PE","IPS (DR)",10,"10","250 psi   DR-9",9,{"$f":"VLOOKUP(K734,Tables!$C$42:$G$58,IF(Tables!$C$5=4710,IF(N734=\"ID\",5,3),IF(N734=\"ID\",4,2)),FALSE)","v":250},10.75,"OD",null,1.194,4.8000000000000001E-2,{"$f":"VLOOKUP(F734,Tables!$G$5:$H$14,2,FALSE)*(M734-(P734+Q734*Tables!$C$6))*(P734+Q734*Tables!$C$6)*1.36136","v":15.141531936410878},"Controlled OD (DR-9) Iron Pipe Size","ASTM F714"]
[null,null,null,null,{"$f":"ROW()","v":735},"PE","IPS (DR)",12,"12","250 psi   DR-9",9,{"$f":"VLOOKUP(K735,Tables!$C$42:$G$58,IF(Tables!$C$5=4710,IF(N735=\"ID\",5,3),IF(N735=\"ID\",4,2)),FALSE)","v":250},12.75,"OD",null,1.417,5.7000000000000002E-2,{"$f":"VLOOKUP(F735,Tables!$G$5:$H$14,2,FALSE)*(M735-(P735+Q735*Tables!$C$6))*(P735+Q735*Tables!$C$6)*1.36136","v":21.311202172940678},{"$f":"\"Controlled OD (DR-\"&K735&\") Iron Pipe Size\"","v":"Controlled OD (DR-9) Iron Pipe Size"},"ASTM F714"]
[null,null,null,null,{"$f":"ROW()","v":736},"PE","IPS (DR)",14,"14","250 psi   DR-9",9,{"$f":"VLOOKUP(K736,Tables!$C$42:$G$58,IF(Tables!$C$5=4710,IF(N736=\"ID\",5,3),IF(N736=\"ID\",4,2)),FALSE)","v":250},14,"OD",null,1.556,6.3E-2,{"$f":"VLOOKUP(F736,Tables!$G$5:$H$14,2,FALSE)*(M736-(P736+Q736*Tables!$C$6))*(P736+Q736*Tables!$C$6)*1.36136","v":25.698719871824999},"Controlled OD (DR-9) Iron Pipe Size","ASTM F714"]
[null,null,null,null,{"$f":"ROW()","v":737},"PE","IPS (DR)",16,"16","250 psi   DR-9",9,{"$f":"VLOOKUP(K737,Tables!$C$42:$G$58,IF(Tables!$C$5=4710,IF(N737=\"ID\",5,3),IF(N737=\"ID\",4,2)),FALSE)","v":250},16,"OD",null,1.778,7.1999999999999995E-2,{"$f":"VLOOKUP(F737,Tables!$G$5:$H$14,2,FALSE)*(M737-(P737+Q737*Tables!$C$6))*(P737+Q737*Tables!$C$6)*1.36136","v":33.561064940923515},"Controlled OD (DR-9) Iron Pipe Size","ASTM F714"]
[null,null,null,null,{"$f":"ROW()","v":738},"PE","IPS (DR)",18,"18","250 psi   DR-9",9,{"$f":"VLOOKUP(K738,Tables!$C$42:$G$58,IF(Tables!$C$5=4710,IF(N738=\"ID\",5,3),IF(N738=\"ID\",4,2)),FALSE)","v":250},18,"OD",null,2,8.1000000000000003E-2,{"$f":"VLOOKUP(F738,Tables!$G$5:$H$14,2,FALSE)*(M738-(P738+Q738*Tables!$C$6))*(P738+Q738*Tables!$C$6)*1.36136","v":42.471184666991078},"Controlled OD (DR-9) Iron Pipe Size","ASTM F714"]
[null,null,null,null,{"$f":"ROW()","v":739},"PE","IPS (DR)",20,"20","250 psi   DR-9",9,{"$f":"VLOOKUP(K739,Tables!$C$42:$G$58,IF(Tables!$C$5=4710,IF(N739=\"ID\",5,3),IF(N739=\"ID\",4,2)),FALSE)","v":250},20,"OD",null,2.222,0.09,{"$f":"VLOOKUP(F739,Tables!$G$5:$H$14,2,FALSE)*(M739-(P739+Q739*Tables!$C$6))*(P739+Q739*Tables!$C$6)*1.36136","v":52.429079050027674},"Controlled OD (DR-9) Iron Pipe Size","ASTM F714"]
[null,null,null,null,{"$f":"ROW()","v":740},"PE","IPS (DR)",22,"22","250 psi   DR-9",9,{"$f":"VLOOKUP(K740,Tables!$C$42:$G$58,IF(Tables!$C$5=4710,IF(N740=\"ID\",5,3),IF(N740=\"ID\",4,2)),FALSE)","v":250},22,"OD",null,2.444,9.9000000000000005E-2,{"$f":"VLOOKUP(F740,Tables!$G$5:$H$14,2,FALSE)*(M740-(P740+Q740*Tables!$C$6))*(P740+Q740*Tables!$C$6)*1.36136","v":63.43474809003331},"Controlled OD (DR-9) Iron Pipe Size","ASTM F714"]
[null,null,null,null,{"$f":"ROW()","v":741},"PE","IPS (DR)",24,"24","250 psi   DR-9",9,{"$f":"VLOOKUP(K741,Tables!$C$42:$G$58,IF(Tables!$C$5=4710,IF(N741=\"ID\",5,3),IF(N741=\"ID\",4,2)),FALSE)","v":250},24,"OD",null,2.6669999999999998,0.108,{"$f":"VLOOKUP(F741,Tables!$G$5:$H$14,2,FALSE)*(M741-(P741+Q741*Tables!$C$6))*(P741+Q741*Tables!$C$6)*1.36136","v":75.512396117077913},"Controlled OD (DR-9) Iron Pipe Size","ASTM F714"]
[null,null,null,null,{"$f":"ROW()","v":742},"PE","IPS (DR)",26,"26","250 psi   DR-9",9,{"$f":"VLOOKUP(K742,Tables!$C$42:$G$58,IF(Tables!$C$5=4710,IF(N742=\"ID\",5,3),IF(N742=\"ID\",4,2)),FALSE)","v":250},26,"OD",null,2.8889999999999998,0.11700000000000001,{"$f":"VLOOKUP(F742,Tables!$G$5:$H$14,2,FALSE)*(M742-(P742+Q742*Tables!$C$6))*(P742+Q742*Tables!$C$6)*1.36136","v":88.615632041937005},"Controlled OD (DR-9) Iron Pipe Size","ASTM F714"]
[null,null,null,null,{"$f":"ROW()","v":743},"PE","IPS (DR)",28,"28","250 psi   DR-9",9,{"$f":"VLOOKUP(K743,Tables!$C$42:$G$58,IF(Tables!$C$5=4710,IF(N743=\"ID\",5,3),IF(N743=\"ID\",4,2)),FALSE)","v":250},28,"OD",null,3.1110000000000002,0.126,{"$f":"VLOOKUP(F743,Tables!$G$5:$H$14,2,FALSE)*(M743-(P743+Q743*Tables!$C$6))*(P743+Q743*Tables!$C$6)*1.36136","v":102.76664262376512},"Controlled OD (DR-9) Iron Pipe Size","ASTM F714"]
[null,null,null,null,{"$f":"ROW()","v":744},"PE","IPS (DR)",30,"30","250 psi   DR-9",9,{"$f":"VLOOKUP(K744,Tables!$C$42:$G$58,IF(Tables!$C$5=4710,IF(N744=\"ID\",5,3),IF(N744=\"ID\",4,2)),FALSE)","v":250},30,"OD",null,3.3330000000000002,0.13500000000000001,{"$f":"VLOOKUP(F744,Tables!$G$5:$H$14,2,FALSE)*(M744-(P744+Q744*Tables!$C$6))*(P744+Q744*Tables!$C$6)*1.36136","v":117.96542786256227},"Controlled OD (DR-9) Iron Pipe Size","ASTM F714"]
[null,null,null,null,{"$f":"ROW()","v":745},"PE","IPS (DR)",32,"32","250 psi   DR-9",9,{"$f":"VLOOKUP(K745,Tables!$C$42:$G$58,IF(Tables!$C$5=4710,IF(N745=\"ID\",5,3),IF(N745=\"ID\",4,2)),FALSE)","v":250},32,"OD",null,3.556,0.14399999999999999,{"$f":"VLOOKUP(F745,Tables!$G$5:$H$14,2,FALSE)*(M745-(P745+Q745*Tables!$C$6))*(P745+Q745*Tables!$C$6)*1.36136","v":134.24425976369406},"Controlled OD (DR-9) Iron Pipe Size","ASTM F714"]
[null,null,null,null,{"$f":"ROW()","v":746},"PE","IPS (DR)",34,"34","250 psi   DR-9",9,{"$f":"VLOOKUP(K746,Tables!$C$42:$G$58,IF(Tables!$C$5=4710,IF(N746=\"ID\",5,3),IF(N746=\"ID\",4,2)),FALSE)","v":250},34,"OD",null,3.778,0.153,{"$f":"VLOOKUP(F746,Tables!$G$5:$H$14,2,FALSE)*(M746-(P746+Q746*Tables!$C$6))*(P746+Q746*Tables!$C$6)*1.36136","v":151.54061188734462},"Controlled OD (DR-9) Iron Pipe Size","ASTM F714"]
[null,null,null,null,{"$f":"ROW()","v":747},"PE","IPS (DR)",36,"36","250 psi   DR-9",9,{"$f":"VLOOKUP(K747,Tables!$C$42:$G$58,IF(Tables!$C$5=4710,IF(N747=\"ID\",5,3),IF(N747=\"ID\",4,2)),FALSE)","v":250},36,"OD",null,4,0.16200000000000001,{"$f":"VLOOKUP(F747,Tables!$G$5:$H$14,2,FALSE)*(M747-(P747+Q747*Tables!$C$6))*(P747+Q747*Tables!$C$6)*1.36136","v":169.88473866796431},"Controlled OD (DR-9) Iron Pipe Size","ASTM F714"]
[null,null,null,null,{"$f":"ROW()","v":748},"PE","IPS (DR)",4,"4","317 psi   DR-7.3",7.3,{"$f":"VLOOKUP(K748,Tables!$C$42:$G$58,IF(Tables!$C$5=4710,IF(N748=\"ID\",5,3),IF(N748=\"ID\",4,2)),FALSE)","v":317},4.5,"OD",null,0.61599999999999999,0.02,{"$f":"VLOOKUP(F748,Tables!$G$5:$H$14,2,FALSE)*(M748-(P748+Q748*Tables!$C$6))*(P748+Q748*Tables!$C$6)*1.36136","v":3.1628052026771196},"Controlled OD (DR-7.3) Iron Pipe Size","ASTM F714"]
[null,null,null,null,{"$f":"ROW()","v":749},"PE","IPS (DR)",5,"5","317 psi   DR-7.3",7.3,{"$f":"VLOOKUP(K749,Tables!$C$42:$G$58,IF(Tables!$C$5=4710,IF(N749=\"ID\",5,3),IF(N749=\"ID\",4,2)),FALSE)","v":317},5.5629999999999997,"OD",null,0.76200000000000001,2.5000000000000001E-2,{"$f":"VLOOKUP(F749,Tables!$G$5:$H$14,2,FALSE)*(M749-(P749+Q749*Tables!$C$6))*(P749+Q749*Tables!$C$6)*1.36136","v":4.8368142438215598},"Controlled OD (DR-7.3) Iron Pipe Size","ASTM F714"]
[null,null,null,null,{"$f":"ROW()","v":750},"PE","IPS (DR)",6,"6","317 psi   DR-7.3",7.3,{"$f":"VLOOKUP(K750,Tables!$C$42:$G$58,IF(Tables!$C$5=4710,IF(N750=\"ID\",5,3),IF(N750=\"ID\",4,2)),FALSE)","v":317},6.625,"OD",null,0.90800000000000003,0.03,{"$f":"VLOOKUP(F750,Tables!$G$5:$H$14,2,FALSE)*(M750-(P750+Q750*Tables!$C$6))*(P750+Q750*Tables!$C$6)*1.36136","v":6.86384407156448},"Controlled OD (DR-7.3) Iron Pipe Size","ASTM F714"]
[null,null,null,null,{"$f":"ROW()","v":751},"PE","IPS (DR)",7,"7","317 psi   DR-7.3",7.3,{"$f":"VLOOKUP(K751,Tables!$C$42:$G$58,IF(Tables!$C$5=4710,IF(N751=\"ID\",5,3),IF(N751=\"ID\",4,2)),FALSE)","v":317},7.125,"OD",null,0.97599999999999998,3.4000000000000002E-2,{"$f":"VLOOKUP(F751,Tables!$G$5:$H$14,2,FALSE)*(M751-(P751+Q751*Tables!$C$6))*(P751+Q751*Tables!$C$6)*1.36136","v":7.9412686742188781},"Controlled OD (DR-7.3) Iron Pipe Size","ASTM F714"]
[null,null,null,null,{"$f":"ROW()","v":752},"PE","IPS (DR)",8,"8","317 psi   DR-7.3",7.3,{"$f":"VLOOKUP(K752,Tables!$C$42:$G$58,IF(Tables!$C$5=4710,IF(N752=\"ID\",5,3),IF(N752=\"ID\",4,2)),FALSE)","v":317},8.625,"OD",null,1.1819999999999999,3.9E-2,{"$f":"VLOOKUP(F752,Tables!$G$5:$H$14,2,FALSE)*(M752-(P752+Q752*Tables!$C$6))*(P752+Q752*Tables!$C$6)*1.36136","v":11.632444334030518},"Controlled OD (DR-7.3) Iron Pipe Size","ASTM F714"]
[null,null,null,null,{"$f":"ROW()","v":753},"PE","IPS (DR)",10,"10","317 psi   DR-7.3",7.3,{"$f":"VLOOKUP(K753,Tables!$C$42:$G$58,IF(Tables!$C$5=4710,IF(N753=\"ID\",5,3),IF(N753=\"ID\",4,2)),FALSE)","v":317},10.75,"OD",null,1.4730000000000001,4.8000000000000001E-2,{"$f":"VLOOKUP(F753,Tables!$G$5:$H$14,2,FALSE)*(M753-(P753+Q753*Tables!$C$6))*(P753+Q753*Tables!$C$6)*1.36136","v":18.065203470394081},"Controlled OD (DR-7.3) Iron Pipe Size","ASTM F714"]
[null,null,null,null,{"$f":"ROW()","v":754},"PE","IPS (DR)",12,"12","317 psi   DR-7.3",7.3,{"$f":"VLOOKUP(K754,Tables!$C$42:$G$58,IF(Tables!$C$5=4710,IF(N754=\"ID\",5,3),IF(N754=\"ID\",4,2)),FALSE)","v":317},12.75,"OD",null,1.7470000000000001,5.7000000000000002E-2,{"$f":"VLOOKUP(F754,Tables!$G$5:$H$14,2,FALSE)*(M754-(P754+Q754*Tables!$C$6))*(P754+Q754*Tables!$C$6)*1.36136","v":25.412296531902275},"Controlled OD (DR-7.3) Iron Pipe Size","ASTM F714"]
[null,null,null,null,{"$f":"ROW()","v":755},"PE","IPS (DR)",14,"14","317 psi   DR-7.3",7.3,{"$f":"VLOOKUP(K755,Tables!$C$42:$G$58,IF(Tables!$C$5=4710,IF(N755=\"ID\",5,3),IF(N755=\"ID\",4,2)),FALSE)","v":317},14,"OD",null,1.9179999999999999,6.3E-2,{"$f":"VLOOKUP(F755,Tables!$G$5:$H$14,2,FALSE)*(M755-(P755+Q755*Tables!$C$6))*(P755+Q755*Tables!$C$6)*1.36136","v":30.638450773210277},"Controlled OD (DR-7.3) Iron Pipe Size","ASTM F714"]
[null,null,null,null,{"$f":"ROW()","v":756},"PE","IPS (DR)",16,"16","317 psi   DR-7.3",7.3,{"$f":"VLOOKUP(K756,Tables!$C$42:$G$58,IF(Tables!$C$5=4710,IF(N756=\"ID\",5,3),IF(N756=\"ID\",4,2)),FALSE)","v":317},16,"OD",null,2.1920000000000002,7.1999999999999995E-2,{"$f":"VLOOKUP(F756,Tables!$G$5:$H$14,2,FALSE)*(M756-(P756+Q756*Tables!$C$6))*(P756+Q756*Tables!$C$6)*1.36136","v":40.017568356846077},"Controlled OD (DR-7.3) Iron Pipe Size","ASTM F714"]
[null,null,null,null,{"$f":"ROW()","v":757},"PE","IPS (DR)",18,"18","317 psi   DR-7.3",7.3,{"$f":"VLOOKUP(K757,Tables!$C$42:$G$58,IF(Tables!$C$5=4710,IF(N757=\"ID\",5,3),IF(N757=\"ID\",4,2)),FALSE)","v":317},18,"OD",null,2.4660000000000002,8.1000000000000003E-2,{"$f":"VLOOKUP(F757,Tables!$G$5:$H$14,2,FALSE)*(M757-(P757+Q757*Tables!$C$6))*(P757+Q757*Tables!$C$6)*1.36136","v":50.647234951633315},"Controlled OD (DR-7.3) Iron Pipe Size","ASTM F714"]
[null,null,null,null,{"$f":"ROW()","v":758},"PE","IPS (DR)",0.5,"1/2","335 psi   DR-7",7,{"$f":"VLOOKUP(K758,Tables!$C$42:$G$58,IF(Tables!$C$5=4710,IF(N758=\"ID\",5,3),IF(N758=\"ID\",4,2)),FALSE)","v":335},0.84,"OD",null,0.12,0.02,{"$f":"VLOOKUP(F758,Tables!$G$5:$H$14,2,FALSE)*(M758-(P758+Q758*Tables!$C$6))*(P758+Q758*Tables!$C$6)*1.36136","v":0.12037607982399998},"Controlled OD (DR-7) Iron Pipe Size","ASTM D3035"]
[null,null,null,null,{"$f":"ROW()","v":759},"PE","IPS (DR)",0.75,"3/4","335 psi   DR-7",7,{"$f":"VLOOKUP(K759,Tables!$C$42:$G$58,IF(Tables!$C$5=4710,IF(N759=\"ID\",5,3),IF(N759=\"ID\",4,2)),FALSE)","v":335},1.05,"OD",null,0.15,0.02,{"$f":"VLOOKUP(F759,Tables!$G$5:$H$14,2,FALSE)*(M759-(P759+Q759*Tables!$C$6))*(P759+Q759*Tables!$C$6)*1.36136","v":0.18571564211199998},"Controlled OD (DR-7) Iron Pipe Size","ASTM D3035"]
[null,null,null,null,{"$f":"ROW()","v":760},"PE","IPS (DR)",1,"1","335 psi   DR-7",7,{"$f":"VLOOKUP(K760,Tables!$C$42:$G$58,IF(Tables!$C$5=4710,IF(N760=\"ID\",5,3),IF(N760=\"ID\",4,2)),FALSE)","v":335},1.3149999999999999,"OD",null,0.188,2.3E-2,{"$f":"VLOOKUP(F760,Tables!$G$5:$H$14,2,FALSE)*(M760-(P760+Q760*Tables!$C$6))*(P760+Q760*Tables!$C$6)*1.36136","v":0.29023579252667997},"Controlled OD (DR-7) Iron Pipe Size","ASTM D3035"]
[null,null,null,null,{"$f":"ROW()","v":761},"PE","IPS (DR)",1.25,"1 1/4","335 psi   DR-7",7,{"$f":"VLOOKUP(K761,Tables!$C$42:$G$58,IF(Tables!$C$5=4710,IF(N761=\"ID\",5,3),IF(N761=\"ID\",4,2)),FALSE)","v":335},1.66,"OD",null,0.23699999999999999,2.8000000000000001E-2,{"$f":"VLOOKUP(F761,Tables!$G$5:$H$14,2,FALSE)*(M761-(P761+Q761*Tables!$C$6))*(P761+Q761*Tables!$C$6)*1.36136","v":0.4612360131579199},"Controlled OD (DR-7) Iron Pipe Size","ASTM D3035"]
[null,null,null,null,{"$f":"ROW()","v":762},"PE","IPS (DR)",1.5,"1 1/2","335 psi   DR-7",7,{"$f":"VLOOKUP(K762,Tables!$C$42:$G$58,IF(Tables!$C$5=4710,IF(N762=\"ID\",5,3),IF(N762=\"ID\",4,2)),FALSE)","v":335},1.9,"OD",null,0.27100000000000002,3.3000000000000002E-2,{"$f":"VLOOKUP(F762,Tables!$G$5:$H$14,2,FALSE)*(M762-(P762+Q762*Tables!$C$6))*(P762+Q762*Tables!$C$6)*1.36136","v":0.60461103202499988},"Controlled OD (DR-7) Iron Pipe Size","ASTM D3035"]
[null,null,null,null,{"$f":"ROW()","v":763},"PE","IPS (DR)",2,"2","335 psi   DR-7",7,{"$f":"VLOOKUP(K763,Tables!$C$42:$G$58,IF(Tables!$C$5=4710,IF(N763=\"ID\",5,3),IF(N763=\"ID\",4,2)),FALSE)","v":335},2.375,"OD",null,0.33900000000000002,4.1000000000000002E-2,{"$f":"VLOOKUP(F763,Tables!$G$5:$H$14,2,FALSE)*(M763-(P763+Q763*Tables!$C$6))*(P763+Q763*Tables!$C$6)*1.36136","v":0.94497472377308001},"Controlled OD (DR-7) Iron Pipe Size","ASTM D3035"]
[null,null,null,null,{"$f":"ROW()","v":764},"PE","IPS (DR)",3,"3","335 psi   DR-7",7,{"$f":"VLOOKUP(K764,Tables!$C$42:$G$58,IF(Tables!$C$5=4710,IF(N764=\"ID\",5,3),IF(N764=\"ID\",4,2)),FALSE)","v":335},3.5,"OD",null,0.5,0.06,{"$f":"VLOOKUP(F764,Tables!$G$5:$H$14,2,FALSE)*(M764-(P764+Q764*Tables!$C$6))*(P764+Q764*Tables!$C$6)*1.36136","v":2.052914271408},"Controlled OD (DR-7) Iron Pipe Size","ASTM D3035"]
[null,null,null,null,{"$f":"ROW()","v":765},"PE","IPS (DR)",4,"4",{"$f":"L765&\" psi   DR-\"&K765","v":"335 psi   DR-7"},7,{"$f":"VLOOKUP(K765,Tables!$C$42:$G$58,IF(Tables!$C$5=4710,IF(N765=\"ID\",5,3),IF(N765=\"ID\",4,2)),FALSE)","v":335},4.5,"OD",null,0.64300000000000002,0.02,{"$f":"VLOOKUP(F765,Tables!$G$5:$H$14,2,FALSE)*(M765-(P765+Q765*Tables!$C$6))*(P765+Q765*Tables!$C$6)*1.36136","v":3.2762260752020795},"Controlled OD (DR-7) Iron Pipe Size","ASTM F714"]
[null,null,null,null,{"$f":"ROW()","v":766},"PE","IPS (DR)",5,"5","335 psi   DR-7",7,{"$f":"VLOOKUP(K766,Tables!$C$42:$G$58,IF(Tables!$C$5=4710,IF(N766=\"ID\",5,3),IF(N766=\"ID\",4,2)),FALSE)","v":335},5.5629999999999997,"OD",null,0.79500000000000004,2.5000000000000001E-2,{"$f":"VLOOKUP(F766,Tables!$G$5:$H$14,2,FALSE)*(M766-(P766+Q766*Tables!$C$6))*(P766+Q766*Tables!$C$6)*1.36136","v":5.0081486613157997},"Controlled OD (DR-7) Iron Pipe Size","ASTM F714"]
[null,null,null,null,{"$f":"ROW()","v":767},"PE","IPS (DR)",6,"6","335 psi   DR-7",7,{"$f":"VLOOKUP(K767,Tables!$C$42:$G$58,IF(Tables!$C$5=4710,IF(N767=\"ID\",5,3),IF(N767=\"ID\",4,2)),FALSE)","v":335},6.625,"OD",null,0.94599999999999995,0.03,{"$f":"VLOOKUP(F767,Tables!$G$5:$H$14,2,FALSE)*(M767-(P767+Q767*Tables!$C$6))*(P767+Q767*Tables!$C$6)*1.36136","v":7.0988030508595195},"Controlled OD (DR-7) Iron Pipe Size","ASTM F714"]
[null,null,null,null,{"$f":"ROW()","v":768},"PE","IPS (DR)",7,"7","335 psi   DR-7",7,{"$f":"VLOOKUP(K768,Tables!$C$42:$G$58,IF(Tables!$C$5=4710,IF(N768=\"ID\",5,3),IF(N768=\"ID\",4,2)),FALSE)","v":335},7.125,"OD",null,1.018,3.4000000000000002E-2,{"$f":"VLOOKUP(F768,Tables!$G$5:$H$14,2,FALSE)*(M768-(P768+Q768*Tables!$C$6))*(P768+Q768*Tables!$C$6)*1.36136","v":8.2204603200719983},"Controlled OD (DR-7) Iron Pipe Size","ASTM F714"]
[null,null,null,null,{"$f":"ROW()","v":769},"PE","IPS (DR)",8,"8","335 psi   DR-7",7,{"$f":"VLOOKUP(K769,Tables!$C$42:$G$58,IF(Tables!$C$5=4710,IF(N769=\"ID\",5,3),IF(N769=\"ID\",4,2)),FALSE)","v":335},8.625,"OD",null,1.232,3.9E-2,{"$f":"VLOOKUP(F769,Tables!$G$5:$H$14,2,FALSE)*(M769-(P769+Q769*Tables!$C$6))*(P769+Q769*Tables!$C$6)*1.36136","v":12.034915170798518},"Controlled OD (DR-7) Iron Pipe Size","ASTM F714"]
[null,null,null,null,{"$f":"ROW()","v":770},"PE","IPS (DR)",10,"10","335 psi   DR-7",7,{"$f":"VLOOKUP(K770,Tables!$C$42:$G$58,IF(Tables!$C$5=4710,IF(N770=\"ID\",5,3),IF(N770=\"ID\",4,2)),FALSE)","v":335},10.75,"OD",null,1.536,4.8000000000000001E-2,{"$f":"VLOOKUP(F770,Tables!$G$5:$H$14,2,FALSE)*(M770-(P770+Q770*Tables!$C$6))*(P770+Q770*Tables!$C$6)*1.36136","v":18.697287440832},"Controlled OD (DR-7) Iron Pipe Size","ASTM F714"]
[null,null,null,null,{"$f":"ROW()","v":771},"PE","IPS (DR)",12,"12","335 psi   DR-7",7,{"$f":"VLOOKUP(K771,Tables!$C$42:$G$58,IF(Tables!$C$5=4710,IF(N771=\"ID\",5,3),IF(N771=\"ID\",4,2)),FALSE)","v":335},12.75,"OD",null,1.821,5.7000000000000002E-2,{"$f":"VLOOKUP(F771,Tables!$G$5:$H$14,2,FALSE)*(M771-(P771+Q771*Tables!$C$6))*(P771+Q771*Tables!$C$6)*1.36136","v":26.292946021622274},"Controlled OD (DR-7) Iron Pipe Size","ASTM F714"]
[null,null,null,null,{"$f":"ROW()","v":772},"PE","IPS (DR)",14,"14","335 psi   DR-7",7,{"$f":"VLOOKUP(K772,Tables!$C$42:$G$58,IF(Tables!$C$5=4710,IF(N772=\"ID\",5,3),IF(N772=\"ID\",4,2)),FALSE)","v":335},14,"OD",null,2,6.3E-2,{"$f":"VLOOKUP(F772,Tables!$G$5:$H$14,2,FALSE)*(M772-(P772+Q772*Tables!$C$6))*(P772+Q772*Tables!$C$6)*1.36136","v":31.709912651737316},"Controlled OD (DR-7) Iron Pipe Size","ASTM F714"]
[null,null,null,null,{"$f":"ROW()","v":773},"PE","IPS (DR)",16,"16","335 psi   DR-7",7,{"$f":"VLOOKUP(K773,Tables!$C$42:$G$58,IF(Tables!$C$5=4710,IF(N773=\"ID\",5,3),IF(N773=\"ID\",4,2)),FALSE)","v":335},16,"OD",null,2.286,7.1999999999999995E-2,{"$f":"VLOOKUP(F773,Tables!$G$5:$H$14,2,FALSE)*(M773-(P773+Q773*Tables!$C$6))*(P773+Q773*Tables!$C$6)*1.36136","v":41.421260390590078},"Controlled OD (DR-7) Iron Pipe Size","ASTM F714"]
[null,null,null,null,{"$f":"ROW()","v":774},"PE","IPS (DR)",18,"18","335 psi   DR-7",7,{"$f":"VLOOKUP(K774,Tables!$C$42:$G$58,IF(Tables!$C$5=4710,IF(N774=\"ID\",5,3),IF(N774=\"ID\",4,2)),FALSE)","v":335},18,"OD",null,2.5710000000000002,8.1000000000000003E-2,{"$f":"VLOOKUP(F774,Tables!$G$5:$H$14,2,FALSE)*(M774-(P774+Q774*Tables!$C$6))*(P774+Q774*Tables!$C$6)*1.36136","v":52.411285756950129},"Controlled OD (DR-7) Iron Pipe Size","ASTM F714"]
[null,null,null,null,{"$f":"ROW()","v":775},"PE","IPS (DR)",20,"20","335 psi   DR-7",7,{"$f":"VLOOKUP(K775,Tables!$C$42:$G$58,IF(Tables!$C$5=4710,IF(N775=\"ID\",5,3),IF(N775=\"ID\",4,2)),FALSE)","v":335},20,"OD",null,2.8570000000000002,0.09,{"$f":"VLOOKUP(F775,Tables!$G$5:$H$14,2,FALSE)*(M775-(P775+Q775*Tables!$C$6))*(P775+Q775*Tables!$C$6)*1.36136","v":64.711462596260461},"Controlled OD (DR-7) Iron Pipe Size","ASTM F714"]
[null,null,null,null,{"$f":"ROW()","v":776},"PE","IPS (DR)",22,"22","335 psi   DR-7",7,{"$f":"VLOOKUP(K776,Tables!$C$42:$G$58,IF(Tables!$C$5=4710,IF(N776=\"ID\",5,3),IF(N776=\"ID\",4,2)),FALSE)","v":335},22,"OD",null,3.1429999999999998,9.9000000000000005E-2,{"$f":"VLOOKUP(F776,Tables!$G$5:$H$14,2,FALSE)*(M776-(P776+Q776*Tables!$C$6))*(P776+Q776*Tables!$C$6)*1.36136","v":78.306979303552993},"Controlled OD (DR-7) Iron Pipe Size","ASTM F714"]
[null,null,null,null,{"$f":"ROW()","v":777},"PE","IPS (DR)",24,"24","335 psi   DR-7",7,{"$f":"VLOOKUP(K777,Tables!$C$42:$G$58,IF(Tables!$C$5=4710,IF(N777=\"ID\",5,3),IF(N777=\"ID\",4,2)),FALSE)","v":335},24,"OD",null,3.4289999999999998,0.108,{"$f":"VLOOKUP(F777,Tables!$G$5:$H$14,2,FALSE)*(M777-(P777+Q777*Tables!$C$6))*(P777+Q777*Tables!$C$6)*1.36136","v":93.197835878827661},"Controlled OD (DR-7) Iron Pipe Size","ASTM F714"]
[null,null,null,null,{"$f":"ROW()","v":778},"PE","IPS (DR)",26,"26",{"$f":"L778&\" psi   DR-\"&K778","v":"335 psi   DR-7"},7,{"$f":"VLOOKUP(K778,Tables!$C$42:$G$58,IF(Tables!$C$5=4710,IF(N778=\"ID\",5,3),IF(N778=\"ID\",4,2)),FALSE)","v":335},26,"OD",null,3.714,0.11700000000000001,{"$f":"VLOOKUP(F778,Tables!$G$5:$H$14,2,FALSE)*(M778-(P778+Q778*Tables!$C$6))*(P778+Q778*Tables!$C$6)*1.36136","v":109.35996493121698},"Controlled OD (DR-7) Iron Pipe Size","ASTM F714"]
[null,null,null,null,{"$f":"ROW()","v":779},"PE","IPS (DR)",1.25,"1 1/4","400 psi   DR-6",6,{"$f":"VLOOKUP(K779,Tables!$C$42:$G$58,IF(Tables!$C$5=4710,IF(N779=\"ID\",5,3),IF(N779=\"ID\",4,2)),FALSE)","v":400},1.66,"OD",null,0.27700000000000002,1.6499999999999959E-2,{"$f":"VLOOKUP(F779,Tables!$G$5:$H$14,2,FALSE)*(M779-(P779+Q779*Tables!$C$6))*(P779+Q779*Tables!$C$6)*1.36136","v":0.51143197442336985},"Controlled OD (DR-6) Iron Pipe Size","MFR DR5-6 (PE)"]
[null,null,null,null,{"$f":"ROW()","v":780},"PE","IPS (DR)",1.5,"1 1/2","400 psi   DR-6",6,{"$f":"VLOOKUP(K780,Tables!$C$42:$G$58,IF(Tables!$C$5=4710,IF(N780=\"ID\",5,3),IF(N780=\"ID\",4,2)),FALSE)","v":400},1.9,"OD",null,0.317,1.8499999999999905E-2,{"$f":"VLOOKUP(F780,Tables!$G$5:$H$14,2,FALSE)*(M780-(P780+Q780*Tables!$C$6))*(P780+Q780*Tables!$C$6)*1.36136","v":0.66961435966424976},"Controlled OD (DR-6) Iron Pipe Size","MFR DR5-6 (PE)"]
[null,null,null,null,{"$f":"ROW()","v":781},"PE","IPS (DR)",2,"2","400 psi   DR-6",6,{"$f":"VLOOKUP(K781,Tables!$C$42:$G$58,IF(Tables!$C$5=4710,IF(N781=\"ID\",5,3),IF(N781=\"ID\",4,2)),FALSE)","v":400},2.375,"OD",null,0.39600000000000002,2.3499999999999965E-2,{"$f":"VLOOKUP(F781,Tables!$G$5:$H$14,2,FALSE)*(M781-(P781+Q781*Tables!$C$6))*(P781+Q781*Tables!$C$6)*1.36136","v":1.0461453249947699},"Controlled OD (DR-6) Iron Pipe Size","MFR DR5-6 (PE)"]
[null,null,null,null,{"$f":"ROW()","v":782},"PE","IPS (DR)",3,"3","400 psi   DR-6",6,{"$f":"VLOOKUP(K782,Tables!$C$42:$G$58,IF(Tables!$C$5=4710,IF(N782=\"ID\",5,3),IF(N782=\"ID\",4,2)),FALSE)","v":400},3.5,"OD",null,0.58299999999999996,3.5500000000000087E-2,{"$f":"VLOOKUP(F782,Tables!$G$5:$H$14,2,FALSE)*(M782-(P782+Q782*Tables!$C$6))*(P782+Q782*Tables!$C$6)*1.36136","v":2.27152719306513},"Controlled OD (DR-6) Iron Pipe Size","MFR DR5-6 (PE)"]
[null,null,null,null,{"$f":"ROW()","v":783},"PE","IPS (DR)",1.25,"1 1/4","500 psi   DR-5",5,{"$f":"VLOOKUP(K783,Tables!$C$42:$G$58,IF(Tables!$C$5=4710,IF(N783=\"ID\",5,3),IF(N783=\"ID\",4,2)),FALSE)","v":500},1.66,"OD",null,0.33200000000000002,1.9999999999999962E-2,{"$f":"VLOOKUP(F783,Tables!$G$5:$H$14,2,FALSE)*(M783-(P783+Q783*Tables!$C$6))*(P783+Q783*Tables!$C$6)*1.36136","v":0.58786825825727995},"Controlled OD (DR-5) Iron Pipe Size","MFR DR5-6 (PE)"]
[null,null,null,null,{"$f":"ROW()","v":784},"PE","IPS (DR)",1.5,"1 1/2","500 psi   DR-5",5,{"$f":"VLOOKUP(K784,Tables!$C$42:$G$58,IF(Tables!$C$5=4710,IF(N784=\"ID\",5,3),IF(N784=\"ID\",4,2)),FALSE)","v":500},1.9,"OD",null,0.38,2.2999999999999909E-2,{"$f":"VLOOKUP(F784,Tables!$G$5:$H$14,2,FALSE)*(M784-(P784+Q784*Tables!$C$6))*(P784+Q784*Tables!$C$6)*1.36136","v":0.77022139085891972},"Controlled OD (DR-5) Iron Pipe Size","MFR DR5-6 (PE)"]
[null,null,null,null,{"$f":"ROW()","v":785},"PE","IPS (DR)",2,"2","500 psi   DR-5",5,{"$f":"VLOOKUP(K785,Tables!$C$42:$G$58,IF(Tables!$C$5=4710,IF(N785=\"ID\",5,3),IF(N785=\"ID\",4,2)),FALSE)","v":500},2.375,"OD",null,0.47499999999999998,2.849999999999997E-2,{"$f":"VLOOKUP(F785,Tables!$G$5:$H$14,2,FALSE)*(M785-(P785+Q785*Tables!$C$6))*(P785+Q785*Tables!$C$6)*1.36136","v":1.2032432821709298},"Controlled OD (DR-5) Iron Pipe Size","MFR DR5-6 (PE)"]
[null,null,null,null,{"$f":"ROW()","v":786},"PE","IPS (DR)",3,"3","500 psi   DR-5",5,{"$f":"VLOOKUP(K786,Tables!$C$42:$G$58,IF(Tables!$C$5=4710,IF(N786=\"ID\",5,3),IF(N786=\"ID\",4,2)),FALSE)","v":500},3.5,"OD",null,0.7,4.2000000000000037E-2,{"$f":"VLOOKUP(F786,Tables!$G$5:$H$14,2,FALSE)*(M786-(P786+Q786*Tables!$C$6))*(P786+Q786*Tables!$C$6)*1.36136","v":2.6131377651579197},"Controlled OD (DR-5) Iron Pipe Size","MFR DR5-6 (PE)"]
[null,null,null,1,{"$f":"ROW()","v":787},"PE","DIPS (DR)",3,"3","100 psi   DR-21",21,{"$f":"VLOOKUP(K787,Tables!$C$42:$G$58,IF(Tables!$C$5=4710,IF(N787=\"ID\",5,3),IF(N787=\"ID\",4,2)),FALSE)","v":100},3.96,"OD",null,0.189,1.6999999999999904E-2,{"$f":"VLOOKUP(F787,Tables!$G$5:$H$14,2,FALSE)*(M787-(P787+Q787*Tables!$C$6))*(P787+Q787*Tables!$C$6)*1.36136","v":0.96913014698499966},{"$f":"\"Controlled OD (DR-\"&K787&\") Ductile Iron Pipe Size\"","v":"Controlled OD (DR-21) Ductile Iron Pipe Size"},"ASTM F714"]
[null,null,null,null,{"$f":"ROW()","v":788},"PE","DIPS (DR)",4,"4","100 psi   DR-21",21,{"$f":"VLOOKUP(K788,Tables!$C$42:$G$58,IF(Tables!$C$5=4710,IF(N788=\"ID\",5,3),IF(N788=\"ID\",4,2)),FALSE)","v":100},4.8,"OD",null,0.22900000000000001,2.2000000000000242E-2,{"$f":"VLOOKUP(F788,Tables!$G$5:$H$14,2,FALSE)*(M788-(P788+Q788*Tables!$C$6))*(P788+Q788*Tables!$C$6)*1.36136","v":1.4272977438720003},{"$f":"\"Controlled OD (DR-\"&K788&\") Ductile Iron Pipe Size\"","v":"Controlled OD (DR-21) Ductile Iron Pipe Size"},"ASTM F714"]
[null,null,null,null,{"$f":"ROW()","v":789},"PE","DIPS (DR)",6,"6","100 psi   DR-21",21,{"$f":"VLOOKUP(K789,Tables!$C$42:$G$58,IF(Tables!$C$5=4710,IF(N789=\"ID\",5,3),IF(N789=\"ID\",4,2)),FALSE)","v":100},6.9,"OD",null,0.32900000000000001,3.1000000000000139E-2,{"$f":"VLOOKUP(F789,Tables!$G$5:$H$14,2,FALSE)*(M789-(P789+Q789*Tables!$C$6))*(P789+Q789*Tables!$C$6)*1.36136","v":2.9453271646598802},"Controlled OD (DR-21) Ductile Iron Pipe Size","ASTM F714"]
[null,null,null,null,{"$f":"ROW()","v":790},"PE","DIPS (DR)",8,"8","100 psi   DR-21",21,{"$f":"VLOOKUP(K790,Tables!$C$42:$G$58,IF(Tables!$C$5=4710,IF(N790=\"ID\",5,3),IF(N790=\"ID\",4,2)),FALSE)","v":100},9.0500000000000007,"OD",null,0.43099999999999999,4.0999999999999481E-2,{"$f":"VLOOKUP(F790,Tables!$G$5:$H$14,2,FALSE)*(M790-(P790+Q790*Tables!$C$6))*(P790+Q790*Tables!$C$6)*1.36136","v":5.063128446896517},"Controlled OD (DR-21) Ductile Iron Pipe Size","ASTM F714"]
[null,null,null,null,{"$f":"ROW()","v":791},"PE","DIPS (DR)",10,"10","100 psi   DR-21",21,{"$f":"VLOOKUP(K791,Tables!$C$42:$G$58,IF(Tables!$C$5=4710,IF(N791=\"ID\",5,3),IF(N791=\"ID\",4,2)),FALSE)","v":100},11.1,"OD",null,0.52900000000000003,4.9999999999999822E-2,{"$f":"VLOOKUP(F791,Tables!$G$5:$H$14,2,FALSE)*(M791-(P791+Q791*Tables!$C$6))*(P791+Q791*Tables!$C$6)*1.36136","v":7.6196676094739182},"Controlled OD (DR-21) Ductile Iron Pipe Size","ASTM F714"]
[null,null,null,null,{"$f":"ROW()","v":792},"PE","DIPS (DR)",12,"12","100 psi   DR-21",21,{"$f":"VLOOKUP(K792,Tables!$C$42:$G$58,IF(Tables!$C$5=4710,IF(N792=\"ID\",5,3),IF(N792=\"ID\",4,2)),FALSE)","v":100},13.2,"OD",null,0.629,5.9000000000000163E-2,{"$f":"VLOOKUP(F792,Tables!$G$5:$H$14,2,FALSE)*(M792-(P792+Q792*Tables!$C$6))*(P792+Q792*Tables!$C$6)*1.36136","v":10.77069571469892},"Controlled OD (DR-21) Ductile Iron Pipe Size","ASTM F714"]
[null,null,null,null,{"$f":"ROW()","v":793},"PE","DIPS (DR)",14,"14","100 psi   DR-21",21,{"$f":"VLOOKUP(K793,Tables!$C$42:$G$58,IF(Tables!$C$5=4710,IF(N793=\"ID\",5,3),IF(N793=\"ID\",4,2)),FALSE)","v":100},15.3,"OD",null,0.72899999999999998,6.899999999999995E-2,{"$f":"VLOOKUP(F793,Tables!$G$5:$H$14,2,FALSE)*(M793-(P793+Q793*Tables!$C$6))*(P793+Q793*Tables!$C$6)*1.36136","v":14.474627261214117},"Controlled OD (DR-21) Ductile Iron Pipe Size","ASTM F714"]
[null,null,null,null,{"$f":"ROW()","v":794},"PE","DIPS (DR)",16,"16","100 psi   DR-21",21,{"$f":"VLOOKUP(K794,Tables!$C$42:$G$58,IF(Tables!$C$5=4710,IF(N794=\"ID\",5,3),IF(N794=\"ID\",4,2)),FALSE)","v":100},17.399999999999999,"OD",null,0.82899999999999996,7.800000000000118E-2,{"$f":"VLOOKUP(F794,Tables!$G$5:$H$14,2,FALSE)*(M794-(P794+Q794*Tables!$C$6))*(P794+Q794*Tables!$C$6)*1.36136","v":18.714732191034887},"Controlled OD (DR-21) Ductile Iron Pipe Size","ASTM F714"]
[null,null,null,null,{"$f":"ROW()","v":795},"PE","DIPS (DR)",18,"18","100 psi   DR-21",21,{"$f":"VLOOKUP(K795,Tables!$C$42:$G$58,IF(Tables!$C$5=4710,IF(N795=\"ID\",5,3),IF(N795=\"ID\",4,2)),FALSE)","v":100},19.5,"OD",null,0.92900000000000005,8.8000000000000966E-2,{"$f":"VLOOKUP(F795,Tables!$G$5:$H$14,2,FALSE)*(M795-(P795+Q795*Tables!$C$6))*(P795+Q795*Tables!$C$6)*1.36136","v":23.510206119880493},"Controlled OD (DR-21) Ductile Iron Pipe Size","ASTM F714"]
[null,null,null,null,{"$f":"ROW()","v":796},"PE","DIPS (DR)",20,"20","100 psi   DR-21",21,{"$f":"VLOOKUP(K796,Tables!$C$42:$G$58,IF(Tables!$C$5=4710,IF(N796=\"ID\",5,3),IF(N796=\"ID\",4,2)),FALSE)","v":100},21.6,"OD",null,1.0289999999999999,9.6999999999999531E-2,{"$f":"VLOOKUP(F796,Tables!$G$5:$H$14,2,FALSE)*(M796-(P796+Q796*Tables!$C$6))*(P796+Q796*Tables!$C$6)*1.36136","v":28.839387874296989},"Controlled OD (DR-21) Ductile Iron Pipe Size","ASTM F714"]
[null,null,null,null,{"$f":"ROW()","v":797},"PE","DIPS (DR)",24,"24","100 psi   DR-21",21,{"$f":"VLOOKUP(K797,Tables!$C$42:$G$58,IF(Tables!$C$5=4710,IF(N797=\"ID\",5,3),IF(N797=\"ID\",4,2)),FALSE)","v":100},25.8,"OD",null,1.2290000000000001,0.11599999999999966,{"$f":"VLOOKUP(F797,Tables!$G$5:$H$14,2,FALSE)*(M797-(P797+Q797*Tables!$C$6))*(P797+Q797*Tables!$C$6)*1.36136","v":41.144662764485275},"Controlled OD (DR-21) Ductile Iron Pipe Size","ASTM F714"]
[null,null,null,null,{"$f":"ROW()","v":798},"PE","DIPS (DR)",30,"30","100 psi   DR-21",21,{"$f":"VLOOKUP(K798,Tables!$C$42:$G$58,IF(Tables!$C$5=4710,IF(N798=\"ID\",5,3),IF(N798=\"ID\",4,2)),FALSE)","v":100},32,"OD",null,1.524,0.14399999999999835,{"$f":"VLOOKUP(F798,Tables!$G$5:$H$14,2,FALSE)*(M798-(P798+Q798*Tables!$C$6))*(P798+Q798*Tables!$C$6)*1.36136","v":63.285192548497882},"Controlled OD (DR-21) Ductile Iron Pipe Size","ASTM F714"]
[null,null,null,null,{"$f":"ROW()","v":799},"PE","DIPS (DR)",36,"36","100 psi   DR-21",21,{"$f":"VLOOKUP(K799,Tables!$C$42:$G$58,IF(Tables!$C$5=4710,IF(N799=\"ID\",5,3),IF(N799=\"ID\",4,2)),FALSE)","v":100},38.299999999999997,"OD",null,1.8240000000000001,0.1720000000000006,{"$f":"VLOOKUP(F799,Tables!$G$5:$H$14,2,FALSE)*(M799-(P799+Q799*Tables!$C$6))*(P799+Q799*Tables!$C$6)*1.36136","v":90.647100656112002},"Controlled OD (DR-21) Ductile Iron Pipe Size","ASTM F714"]
[null,null,null,null,{"$f":"ROW()","v":800},"PE","DIPS (DR)",42,"42","100 psi   DR-21",21,{"$f":"VLOOKUP(K800,Tables!$C$42:$G$58,IF(Tables!$C$5=4710,IF(N800=\"ID\",5,3),IF(N800=\"ID\",4,2)),FALSE)","v":100},44.5,"OD",null,2.1190000000000002,0.20000000000000284,{"$f":"VLOOKUP(F800,Tables!$G$5:$H$14,2,FALSE)*(M800-(P800+Q800*Tables!$C$6))*(P800+Q800*Tables!$C$6)*1.36136","v":122.3604449390524},"Controlled OD (DR-21) Ductile Iron Pipe Size","ASTM F714"]
[null,null,null,null,{"$f":"ROW()","v":801},"PE","DIPS (DR)",48,"48","100 psi   DR-21",21,{"$f":"VLOOKUP(K801,Tables!$C$42:$G$58,IF(Tables!$C$5=4710,IF(N801=\"ID\",5,3),IF(N801=\"ID\",4,2)),FALSE)","v":100},50.8,"OD",null,2.419,0.22900000000000276,{"$f":"VLOOKUP(F801,Tables!$G$5:$H$14,2,FALSE)*(M801-(P801+Q801*Tables!$C$6))*(P801+Q801*Tables!$C$6)*1.36136","v":159.47962693354697},"Controlled OD (DR-21) Ductile Iron Pipe Size","ASTM F714"]
[null,null,null,null,{"$f":"ROW()","v":802},"PE","DIPS (DR)",54,"54","100 psi   DR-21",21,{"$f":"VLOOKUP(K802,Tables!$C$42:$G$58,IF(Tables!$C$5=4710,IF(N802=\"ID\",5,3),IF(N802=\"ID\",4,2)),FALSE)","v":100},57.56,"OD",null,2.7410000000000001,0.25900000000000034,{"$f":"VLOOKUP(F802,Tables!$G$5:$H$14,2,FALSE)*(M802-(P802+Q802*Tables!$C$6))*(P802+Q802*Tables!$C$6)*1.36136","v":204.7387271520391},"Controlled OD (DR-21) Ductile Iron Pipe Size","ASTM F714"]
[null,null,null,null,{"$f":"ROW()","v":803},"PE","DIPS (DR)",60,"60","100 psi   DR-21",21,{"$f":"VLOOKUP(K803,Tables!$C$42:$G$58,IF(Tables!$C$5=4710,IF(N803=\"ID\",5,3),IF(N803=\"ID\",4,2)),FALSE)","v":100},61.61,"OD",null,2.9340000000000002,0.27700000000000102,{"$f":"VLOOKUP(F803,Tables!$G$5:$H$14,2,FALSE)*(M803-(P803+Q803*Tables!$C$6))*(P803+Q803*Tables!$C$6)*1.36136","v":234.56572740100503},"Controlled OD (DR-21) Ductile Iron Pipe Size","ASTM F714"]
[null,null,null,null,{"$f":"ROW()","v":804},"PE","DIPS (DR)",3,"3","125 psi   DR-17",17,{"$f":"VLOOKUP(K804,Tables!$C$42:$G$58,IF(Tables!$C$5=4710,IF(N804=\"ID\",5,3),IF(N804=\"ID\",4,2)),FALSE)","v":125},3.96,"OD",null,0.23300000000000001,1.6999999999999904E-2,{"$f":"VLOOKUP(F804,Tables!$G$5:$H$14,2,FALSE)*(M804-(P804+Q804*Tables!$C$6))*(P804+Q804*Tables!$C$6)*1.36136","v":1.1711793754861197},"Controlled OD (DR-17) Ductile Iron Pipe Size","ASTM F714"]
[null,null,null,null,{"$f":"ROW()","v":805},"PE","DIPS (DR)",4,"4","125 psi   DR-17",17,{"$f":"VLOOKUP(K805,Tables!$C$42:$G$58,IF(Tables!$C$5=4710,IF(N805=\"ID\",5,3),IF(N805=\"ID\",4,2)),FALSE)","v":125},4.8,"OD",null,0.28199999999999997,2.2000000000000242E-2,{"$f":"VLOOKUP(F805,Tables!$G$5:$H$14,2,FALSE)*(M805-(P805+Q805*Tables!$C$6))*(P805+Q805*Tables!$C$6)*1.36136","v":1.7222400063668801},"Controlled OD (DR-17) Ductile Iron Pipe Size","ASTM F714"]
[null,null,null,null,{"$f":"ROW()","v":806},"PE","DIPS (DR)",6,"6","125 psi   DR-17",17,{"$f":"VLOOKUP(K806,Tables!$C$42:$G$58,IF(Tables!$C$5=4710,IF(N806=\"ID\",5,3),IF(N806=\"ID\",4,2)),FALSE)","v":125},6.9,"OD",null,0.40600000000000003,3.1000000000000139E-2,{"$f":"VLOOKUP(F806,Tables!$G$5:$H$14,2,FALSE)*(M806-(P806+Q806*Tables!$C$6))*(P806+Q806*Tables!$C$6)*1.36136","v":3.5613162141757209},"Controlled OD (DR-17) Ductile Iron Pipe Size","ASTM F714"]
[null,null,null,null,{"$f":"ROW()","v":807},"PE","DIPS (DR)",8,"8","125 psi   DR-17",17,{"$f":"VLOOKUP(K807,Tables!$C$42:$G$58,IF(Tables!$C$5=4710,IF(N807=\"ID\",5,3),IF(N807=\"ID\",4,2)),FALSE)","v":125},9.0500000000000007,"OD",null,0.53200000000000003,4.0999999999999481E-2,{"$f":"VLOOKUP(F807,Tables!$G$5:$H$14,2,FALSE)*(M807-(P807+Q807*Tables!$C$6))*(P807+Q807*Tables!$C$6)*1.36136","v":6.1229674475969968},"Controlled OD (DR-17) Ductile Iron Pipe Size","ASTM F714"]
[null,null,null,null,{"$f":"ROW()","v":808},"PE","DIPS (DR)",10,"10","125 psi   DR-17",17,{"$f":"VLOOKUP(K808,Tables!$C$42:$G$58,IF(Tables!$C$5=4710,IF(N808=\"ID\",5,3),IF(N808=\"ID\",4,2)),FALSE)","v":125},11.1,"OD",null,0.65300000000000002,4.9999999999999822E-2,{"$f":"VLOOKUP(F808,Tables!$G$5:$H$14,2,FALSE)*(M808-(P808+Q808*Tables!$C$6))*(P808+Q808*Tables!$C$6)*1.36136","v":9.2155075152940782},"Controlled OD (DR-17) Ductile Iron Pipe Size","ASTM F714"]
[null,null,null,null,{"$f":"ROW()","v":809},"PE","DIPS (DR)",12,"12","125 psi   DR-17",17,{"$f":"VLOOKUP(K809,Tables!$C$42:$G$58,IF(Tables!$C$5=4710,IF(N809=\"ID\",5,3),IF(N809=\"ID\",4,2)),FALSE)","v":125},13.2,"OD",null,0.77600000000000002,5.9000000000000163E-2,{"$f":"VLOOKUP(F809,Tables!$G$5:$H$14,2,FALSE)*(M809-(P809+Q809*Tables!$C$6))*(P809+Q809*Tables!$C$6)*1.36136","v":13.020661585811881},"Controlled OD (DR-17) Ductile Iron Pipe Size","ASTM F714"]
[null,null,null,null,{"$f":"ROW()","v":810},"PE","DIPS (DR)",14,"14","125 psi   DR-17",17,{"$f":"VLOOKUP(K810,Tables!$C$42:$G$58,IF(Tables!$C$5=4710,IF(N810=\"ID\",5,3),IF(N810=\"ID\",4,2)),FALSE)","v":125},15.3,"OD",null,0.9,6.899999999999995E-2,{"$f":"VLOOKUP(F810,Tables!$G$5:$H$14,2,FALSE)*(M810-(P810+Q810*Tables!$C$6))*(P810+Q810*Tables!$C$6)*1.36136","v":17.508080997487077},"Controlled OD (DR-17) Ductile Iron Pipe Size","ASTM F714"]
[null,null,null,null,{"$f":"ROW()","v":811},"PE","DIPS (DR)",16,"16","125 psi   DR-17",17,{"$f":"VLOOKUP(K811,Tables!$C$42:$G$58,IF(Tables!$C$5=4710,IF(N811=\"ID\",5,3),IF(N811=\"ID\",4,2)),FALSE)","v":125},17.399999999999999,"OD",null,1.024,7.800000000000118E-2,{"$f":"VLOOKUP(F811,Tables!$G$5:$H$14,2,FALSE)*(M811-(P811+Q811*Tables!$C$6))*(P811+Q811*Tables!$C$6)*1.36136","v":22.648741160325287},"Controlled OD (DR-17) Ductile Iron Pipe Size","ASTM F714"]
[null,null,null,null,{"$f":"ROW()","v":812},"PE","DIPS (DR)",18,"18","125 psi   DR-17",17,{"$f":"VLOOKUP(K812,Tables!$C$42:$G$58,IF(Tables!$C$5=4710,IF(N812=\"ID\",5,3),IF(N812=\"ID\",4,2)),FALSE)","v":125},19.5,"OD",null,1.147,8.8000000000000966E-2,{"$f":"VLOOKUP(F812,Tables!$G$5:$H$14,2,FALSE)*(M812-(P812+Q812*Tables!$C$6))*(P812+Q812*Tables!$C$6)*1.36136","v":28.439036660754731},"Controlled OD (DR-17) Ductile Iron Pipe Size","ASTM F714"]
[null,null,null,null,{"$f":"ROW()","v":813},"PE","DIPS (DR)",20,"20","125 psi   DR-17",17,{"$f":"VLOOKUP(K813,Tables!$C$42:$G$58,IF(Tables!$C$5=4710,IF(N813=\"ID\",5,3),IF(N813=\"ID\",4,2)),FALSE)","v":125},21.6,"OD",null,1.2709999999999999,9.6999999999999531E-2,{"$f":"VLOOKUP(F813,Tables!$G$5:$H$14,2,FALSE)*(M813-(P813+Q813*Tables!$C$6))*(P813+Q813*Tables!$C$6)*1.36136","v":34.900090044699866},"Controlled OD (DR-17) Ductile Iron Pipe Size","ASTM F714"]
[null,null,null,null,{"$f":"ROW()","v":814},"PE","DIPS (DR)",24,"24","125 psi   DR-17",17,{"$f":"VLOOKUP(K814,Tables!$C$42:$G$58,IF(Tables!$C$5=4710,IF(N814=\"ID\",5,3),IF(N814=\"ID\",4,2)),FALSE)","v":125},25.8,"OD",null,1.518,0.11599999999999966,{"$f":"VLOOKUP(F814,Tables!$G$5:$H$14,2,FALSE)*(M814-(P814+Q814*Tables!$C$6))*(P814+Q814*Tables!$C$6)*1.36136","v":49.789821110149113},"Controlled OD (DR-17) Ductile Iron Pipe Size","ASTM F714"]
[null,null,null,null,{"$f":"ROW()","v":815},"PE","DIPS (DR)",30,"30","125 psi   DR-17",17,{"$f":"VLOOKUP(K815,Tables!$C$42:$G$58,IF(Tables!$C$5=4710,IF(N815=\"ID\",5,3),IF(N815=\"ID\",4,2)),FALSE)","v":125},32,"OD",null,1.8819999999999999,0.14399999999999835,{"$f":"VLOOKUP(F815,Tables!$G$5:$H$14,2,FALSE)*(M815-(P815+Q815*Tables!$C$6))*(P815+Q815*Tables!$C$6)*1.36136","v":76.568425599585879},"Controlled OD (DR-17) Ductile Iron Pipe Size","ASTM F714"]
[null,null,null,null,{"$f":"ROW()","v":816},"PE","DIPS (DR)",36,"36","125 psi   DR-17",17,{"$f":"VLOOKUP(K816,Tables!$C$42:$G$58,IF(Tables!$C$5=4710,IF(N816=\"ID\",5,3),IF(N816=\"ID\",4,2)),FALSE)","v":125},38.299999999999997,"OD",null,2.2530000000000001,0.1720000000000006,{"$f":"VLOOKUP(F816,Tables!$G$5:$H$14,2,FALSE)*(M816-(P816+Q816*Tables!$C$6))*(P816+Q816*Tables!$C$6)*1.36136","v":109.69844636102353},"Controlled OD (DR-17) Ductile Iron Pipe Size","ASTM F714"]
[null,null,null,null,{"$f":"ROW()","v":817},"PE","DIPS (DR)",42,"42","125 psi   DR-17",17,{"$f":"VLOOKUP(K817,Tables!$C$42:$G$58,IF(Tables!$C$5=4710,IF(N817=\"ID\",5,3),IF(N817=\"ID\",4,2)),FALSE)","v":125},44.5,"OD",null,2.6179999999999999,0.20000000000000284,{"$f":"VLOOKUP(F817,Tables!$G$5:$H$14,2,FALSE)*(M817-(P817+Q817*Tables!$C$6))*(P817+Q817*Tables!$C$6)*1.36136","v":148.10754119249094},"Controlled OD (DR-17) Ductile Iron Pipe Size","ASTM F714"]
[null,null,null,null,{"$f":"ROW()","v":818},"PE","DIPS (DR)",48,"48","125 psi   DR-17",17,{"$f":"VLOOKUP(K818,Tables!$C$42:$G$58,IF(Tables!$C$5=4710,IF(N818=\"ID\",5,3),IF(N818=\"ID\",4,2)),FALSE)","v":125},50.8,"OD",null,2.988,0.22900000000000276,{"$f":"VLOOKUP(F818,Tables!$G$5:$H$14,2,FALSE)*(M818-(P818+Q818*Tables!$C$6))*(P818+Q818*Tables!$C$6)*1.36136","v":192.99493070557708},"Controlled OD (DR-17) Ductile Iron Pipe Size","ASTM F714"]
[null,null,null,null,{"$f":"ROW()","v":819},"PE","DIPS (DR)",3,"3","160 psi   DR-13.5",13.5,{"$f":"VLOOKUP(K819,Tables!$C$42:$G$58,IF(Tables!$C$5=4710,IF(N819=\"ID\",5,3),IF(N819=\"ID\",4,2)),FALSE)","v":160},3.96,"OD",null,0.29299999999999998,1.6999999999999904E-2,{"$f":"VLOOKUP(F819,Tables!$G$5:$H$14,2,FALSE)*(M819-(P819+Q819*Tables!$C$6))*(P819+Q819*Tables!$C$6)*1.36136","v":1.4385629495437198},"Controlled OD (DR-13.5) Ductile Iron Pipe Size","ASTM F714"]
[null,null,null,null,{"$f":"ROW()","v":820},"PE","DIPS (DR)",4,"4","160 psi   DR-13.5",13.5,{"$f":"VLOOKUP(K820,Tables!$C$42:$G$58,IF(Tables!$C$5=4710,IF(N820=\"ID\",5,3),IF(N820=\"ID\",4,2)),FALSE)","v":160},4.8,"OD",null,0.35599999999999998,2.2000000000000242E-2,{"$f":"VLOOKUP(F820,Tables!$G$5:$H$14,2,FALSE)*(M820-(P820+Q820*Tables!$C$6))*(P820+Q820*Tables!$C$6)*1.36136","v":2.1217894734836804},"Controlled OD (DR-13.5) Ductile Iron Pipe Size","ASTM F714"]
[null,null,null,null,{"$f":"ROW()","v":821},"PE","DIPS (DR)",6,"6","160 psi   DR-13.5",13.5,{"$f":"VLOOKUP(K821,Tables!$C$42:$G$58,IF(Tables!$C$5=4710,IF(N821=\"ID\",5,3),IF(N821=\"ID\",4,2)),FALSE)","v":160},6.9,"OD",null,0.51100000000000001,3.1000000000000139E-2,{"$f":"VLOOKUP(F821,Tables!$G$5:$H$14,2,FALSE)*(M821-(P821+Q821*Tables!$C$6))*(P821+Q821*Tables!$C$6)*1.36136","v":4.3763783468605206},"Controlled OD (DR-13.5) Ductile Iron Pipe Size","ASTM F714"]
[null,null,null,null,{"$f":"ROW()","v":822},"PE","DIPS (DR)",8,"8","160 psi   DR-13.5",13.5,{"$f":"VLOOKUP(K822,Tables!$C$42:$G$58,IF(Tables!$C$5=4710,IF(N822=\"ID\",5,3),IF(N822=\"ID\",4,2)),FALSE)","v":160},9.0500000000000007,"OD",null,0.67,4.0999999999999481E-2,{"$f":"VLOOKUP(F822,Tables!$G$5:$H$14,2,FALSE)*(M822-(P822+Q822*Tables!$C$6))*(P822+Q822*Tables!$C$6)*1.36136","v":7.5280497402910775},"Controlled OD (DR-13.5) Ductile Iron Pipe Size","ASTM F714"]
[null,null,null,null,{"$f":"ROW()","v":823},"PE","DIPS (DR)",10,"10","160 psi   DR-13.5",13.5,{"$f":"VLOOKUP(K823,Tables!$C$42:$G$58,IF(Tables!$C$5=4710,IF(N823=\"ID\",5,3),IF(N823=\"ID\",4,2)),FALSE)","v":160},11.1,"OD",null,0.82199999999999995,4.9999999999999822E-2,{"$f":"VLOOKUP(F823,Tables!$G$5:$H$14,2,FALSE)*(M823-(P823+Q823*Tables!$C$6))*(P823+Q823*Tables!$C$6)*1.36136","v":11.325903647138077},"Controlled OD (DR-13.5) Ductile Iron Pipe Size","ASTM F714"]
[null,null,null,null,{"$f":"ROW()","v":824},"PE","DIPS (DR)",12,"12","160 psi   DR-13.5",13.5,{"$f":"VLOOKUP(K824,Tables!$C$42:$G$58,IF(Tables!$C$5=4710,IF(N824=\"ID\",5,3),IF(N824=\"ID\",4,2)),FALSE)","v":160},13.2,"OD",null,0.97799999999999998,5.9000000000000163E-2,{"$f":"VLOOKUP(F824,Tables!$G$5:$H$14,2,FALSE)*(M824-(P824+Q824*Tables!$C$6))*(P824+Q824*Tables!$C$6)*1.36136","v":16.020509137632995},"Controlled OD (DR-13.5) Ductile Iron Pipe Size","ASTM F714"]
[null,null,null,null,{"$f":"ROW()","v":825},"PE","DIPS (DR)",14,"14","160 psi   DR-13.5",13.5,{"$f":"VLOOKUP(K825,Tables!$C$42:$G$58,IF(Tables!$C$5=4710,IF(N825=\"ID\",5,3),IF(N825=\"ID\",4,2)),FALSE)","v":160},15.3,"OD",null,1.133,6.899999999999995E-2,{"$f":"VLOOKUP(F825,Tables!$G$5:$H$14,2,FALSE)*(M825-(P825+Q825*Tables!$C$6))*(P825+Q825*Tables!$C$6)*1.36136","v":21.518618113993},"Controlled OD (DR-13.5) Ductile Iron Pipe Size","ASTM F714"]
[null,null,null,null,{"$f":"ROW()","v":826},"PE","DIPS (DR)",16,"16","160 psi   DR-13.5",13.5,{"$f":"VLOOKUP(K826,Tables!$C$42:$G$58,IF(Tables!$C$5=4710,IF(N826=\"ID\",5,3),IF(N826=\"ID\",4,2)),FALSE)","v":160},17.399999999999999,"OD",null,1.2889999999999999,7.800000000000118E-2,{"$f":"VLOOKUP(F826,Tables!$G$5:$H$14,2,FALSE)*(M826-(P826+Q826*Tables!$C$6))*(P826+Q826*Tables!$C$6)*1.36136","v":27.835978584494086},"Controlled OD (DR-13.5) Ductile Iron Pipe Size","ASTM F714"]
[null,null,null,null,{"$f":"ROW()","v":827},"PE","DIPS (DR)",18,"18","160 psi   DR-13.5",13.5,{"$f":"VLOOKUP(K827,Tables!$C$42:$G$58,IF(Tables!$C$5=4710,IF(N827=\"ID\",5,3),IF(N827=\"ID\",4,2)),FALSE)","v":160},19.5,"OD",null,1.444,8.8000000000000966E-2,{"$f":"VLOOKUP(F827,Tables!$G$5:$H$14,2,FALSE)*(M827-(P827+Q827*Tables!$C$6))*(P827+Q827*Tables!$C$6)*1.36136","v":34.954521747425289},"Controlled OD (DR-13.5) Ductile Iron Pipe Size","ASTM F714"]
[null,null,null,null,{"$f":"ROW()","v":828},"PE","DIPS (DR)",20,"20","160 psi   DR-13.5",13.5,{"$f":"VLOOKUP(K828,Tables!$C$42:$G$58,IF(Tables!$C$5=4710,IF(N828=\"ID\",5,3),IF(N828=\"ID\",4,2)),FALSE)","v":160},21.6,"OD",null,1.6,9.6999999999999531E-2,{"$f":"VLOOKUP(F828,Tables!$G$5:$H$14,2,FALSE)*(M828-(P828+Q828*Tables!$C$6))*(P828+Q828*Tables!$C$6)*1.36136","v":42.894637197932518},"Controlled OD (DR-13.5) Ductile Iron Pipe Size","ASTM F714"]
[null,null,null,null,{"$f":"ROW()","v":829},"PE","DIPS (DR)",24,"24","160 psi   DR-13.5",13.5,{"$f":"VLOOKUP(K829,Tables!$C$42:$G$58,IF(Tables!$C$5=4710,IF(N829=\"ID\",5,3),IF(N829=\"ID\",4,2)),FALSE)","v":160},25.8,"OD",null,1.911,0.11599999999999966,{"$f":"VLOOKUP(F829,Tables!$G$5:$H$14,2,FALSE)*(M829-(P829+Q829*Tables!$C$6))*(P829+Q829*Tables!$C$6)*1.36136","v":61.196484977948316},"Controlled OD (DR-13.5) Ductile Iron Pipe Size","ASTM F714"]
[null,null,null,null,{"$f":"ROW()","v":830},"PE","DIPS (DR)",30,"30","160 psi   DR-13.5",13.5,{"$f":"VLOOKUP(K830,Tables!$C$42:$G$58,IF(Tables!$C$5=4710,IF(N830=\"ID\",5,3),IF(N830=\"ID\",4,2)),FALSE)","v":160},32,"OD",null,2.37,0.14399999999999835,{"$f":"VLOOKUP(F830,Tables!$G$5:$H$14,2,FALSE)*(M830-(P830+Q830*Tables!$C$6))*(P830+Q830*Tables!$C$6)*1.36136","v":94.136749738711629},"Controlled OD (DR-13.5) Ductile Iron Pipe Size","ASTM F714"]
[null,null,null,null,{"$f":"ROW()","v":831},"PE","DIPS (DR)",36,"36","160 psi   DR-13.5",13.5,{"$f":"VLOOKUP(K831,Tables!$C$42:$G$58,IF(Tables!$C$5=4710,IF(N831=\"ID\",5,3),IF(N831=\"ID\",4,2)),FALSE)","v":160},38.299999999999997,"OD",null,2.8370000000000002,0.1720000000000006,{"$f":"VLOOKUP(F831,Tables!$G$5:$H$14,2,FALSE)*(M831-(P831+Q831*Tables!$C$6))*(P831+Q831*Tables!$C$6)*1.36136","v":134.86160125085644},"Controlled OD (DR-13.5) Ductile Iron Pipe Size","ASTM F714"]
[null,null,null,null,{"$f":"ROW()","v":832},"PE","DIPS (DR)",42,"42","160 psi   DR-13.5",13.5,{"$f":"VLOOKUP(K832,Tables!$C$42:$G$58,IF(Tables!$C$5=4710,IF(N832=\"ID\",5,3),IF(N832=\"ID\",4,2)),FALSE)","v":160},44.5,"OD",null,3.2959999999999998,0.20000000000000284,{"$f":"VLOOKUP(F832,Tables!$G$5:$H$14,2,FALSE)*(M832-(P832+Q832*Tables!$C$6))*(P832+Q832*Tables!$C$6)*1.36136","v":182.04982400596998},"Controlled OD (DR-13.5) Ductile Iron Pipe Size","ASTM F714"]
[null,null,null,null,{"$f":"ROW()","v":833},"PE","DIPS (DR)",48,"48","160 psi   DR-13.5",13.5,{"$f":"VLOOKUP(K833,Tables!$C$42:$G$58,IF(Tables!$C$5=4710,IF(N833=\"ID\",5,3),IF(N833=\"ID\",4,2)),FALSE)","v":160},50.8,"OD",null,3.7629999999999999,0.22900000000000276,{"$f":"VLOOKUP(F833,Tables!$G$5:$H$14,2,FALSE)*(M833-(P833+Q833*Tables!$C$6))*(P833+Q833*Tables!$C$6)*1.36136","v":237.28563340181705},"Controlled OD (DR-13.5) Ductile Iron Pipe Size","ASTM F714"]
[null,null,null,null,{"$f":"ROW()","v":834},"PE","DIPS (DR)",3,"3","200 psi   DR-11",11,{"$f":"VLOOKUP(K834,Tables!$C$42:$G$58,IF(Tables!$C$5=4710,IF(N834=\"ID\",5,3),IF(N834=\"ID\",4,2)),FALSE)","v":200},3.96,"OD",null,0.36,1.6999999999999904E-2,{"$f":"VLOOKUP(F834,Tables!$G$5:$H$14,2,FALSE)*(M834-(P834+Q834*Tables!$C$6))*(P834+Q834*Tables!$C$6)*1.36136","v":1.7260439817821196},"Controlled OD (DR-11) Ductile Iron Pipe Size","ASTM F714"]
[null,null,null,null,{"$f":"ROW()","v":835},"PE","DIPS (DR)",4,"4","200 psi   DR-11",11,{"$f":"VLOOKUP(K835,Tables!$C$42:$G$58,IF(Tables!$C$5=4710,IF(N835=\"ID\",5,3),IF(N835=\"ID\",4,2)),FALSE)","v":200},4.8,"OD",null,0.436,2.2000000000000242E-2,{"$f":"VLOOKUP(F835,Tables!$G$5:$H$14,2,FALSE)*(M835-(P835+Q835*Tables!$C$6))*(P835+Q835*Tables!$C$6)*1.36136","v":2.53766731025808},"Controlled OD (DR-11) Ductile Iron Pipe Size","ASTM F714"]
[null,null,null,null,{"$f":"ROW()","v":836},"PE","DIPS (DR)",6,"6","200 psi   DR-11",11,{"$f":"VLOOKUP(K836,Tables!$C$42:$G$58,IF(Tables!$C$5=4710,IF(N836=\"ID\",5,3),IF(N836=\"ID\",4,2)),FALSE)","v":200},6.9,"OD",null,0.627,3.1000000000000139E-2,{"$f":"VLOOKUP(F836,Tables!$G$5:$H$14,2,FALSE)*(M836-(P836+Q836*Tables!$C$6))*(P836+Q836*Tables!$C$6)*1.36136","v":5.2433939087529993},"Controlled OD (DR-11) Ductile Iron Pipe Size","ASTM F714"]
[null,null,null,null,{"$f":"ROW()","v":837},"PE","DIPS (DR)",8,"8","200 psi   DR-11",11,{"$f":"VLOOKUP(K837,Tables!$C$42:$G$58,IF(Tables!$C$5=4710,IF(N837=\"ID\",5,3),IF(N837=\"ID\",4,2)),FALSE)","v":200},9.0500000000000007,"OD",null,0.82299999999999995,4.0999999999999481E-2,{"$f":"VLOOKUP(F837,Tables!$G$5:$H$14,2,FALSE)*(M837-(P837+Q837*Tables!$C$6))*(P837+Q837*Tables!$C$6)*1.36136","v":9.0277922347813178},"Controlled OD (DR-11) Ductile Iron Pipe Size","ASTM F714"]
[null,null,null,null,{"$f":"ROW()","v":838},"PE","DIPS (DR)",10,"10","200 psi   DR-11",11,{"$f":"VLOOKUP(K838,Tables!$C$42:$G$58,IF(Tables!$C$5=4710,IF(N838=\"ID\",5,3),IF(N838=\"ID\",4,2)),FALSE)","v":200},11.1,"OD",null,1.0089999999999999,4.9999999999999822E-2,{"$f":"VLOOKUP(F838,Tables!$G$5:$H$14,2,FALSE)*(M838-(P838+Q838*Tables!$C$6))*(P838+Q838*Tables!$C$6)*1.36136","v":13.574253635662714},"Controlled OD (DR-11) Ductile Iron Pipe Size","ASTM F714"]
[null,null,null,null,{"$f":"ROW()","v":839},"PE","DIPS (DR)",12,"12","200 psi   DR-11",11,{"$f":"VLOOKUP(K839,Tables!$C$42:$G$58,IF(Tables!$C$5=4710,IF(N839=\"ID\",5,3),IF(N839=\"ID\",4,2)),FALSE)","v":200},13.2,"OD",null,1.2,5.9000000000000163E-2,{"$f":"VLOOKUP(F839,Tables!$G$5:$H$14,2,FALSE)*(M839-(P839+Q839*Tables!$C$6))*(P839+Q839*Tables!$C$6)*1.36136","v":19.194611172416678},"Controlled OD (DR-11) Ductile Iron Pipe Size","ASTM F714"]
[null,null,null,null,{"$f":"ROW()","v":840},"PE","DIPS (DR)",14,"14","200 psi   DR-11",11,{"$f":"VLOOKUP(K840,Tables!$C$42:$G$58,IF(Tables!$C$5=4710,IF(N840=\"ID\",5,3),IF(N840=\"ID\",4,2)),FALSE)","v":200},15.3,"OD",null,1.391,6.899999999999995E-2,{"$f":"VLOOKUP(F840,Tables!$G$5:$H$14,2,FALSE)*(M840-(P840+Q840*Tables!$C$6))*(P840+Q840*Tables!$C$6)*1.36136","v":25.794259092882282},"Controlled OD (DR-11) Ductile Iron Pipe Size","ASTM F714"]
[null,null,null,null,{"$f":"ROW()","v":841},"PE","DIPS (DR)",16,"16","200 psi   DR-11",11,{"$f":"VLOOKUP(K841,Tables!$C$42:$G$58,IF(Tables!$C$5=4710,IF(N841=\"ID\",5,3),IF(N841=\"ID\",4,2)),FALSE)","v":200},17.399999999999999,"OD",null,1.5820000000000001,7.800000000000118E-2,{"$f":"VLOOKUP(F841,Tables!$G$5:$H$14,2,FALSE)*(M841-(P841+Q841*Tables!$C$6))*(P841+Q841*Tables!$C$6)*1.36136","v":33.358075396565923},"Controlled OD (DR-11) Ductile Iron Pipe Size","ASTM F714"]
[null,null,null,null,{"$f":"ROW()","v":842},"PE","DIPS (DR)",18,"18","200 psi   DR-11",11,{"$f":"VLOOKUP(K842,Tables!$C$42:$G$58,IF(Tables!$C$5=4710,IF(N842=\"ID\",5,3),IF(N842=\"ID\",4,2)),FALSE)","v":200},19.5,"OD",null,1.7729999999999999,8.8000000000000966E-2,{"$f":"VLOOKUP(F842,Tables!$G$5:$H$14,2,FALSE)*(M842-(P842+Q842*Tables!$C$6))*(P842+Q842*Tables!$C$6)*1.36136","v":41.903410280411684},"Controlled OD (DR-11) Ductile Iron Pipe Size","ASTM F714"]
[null,null,null,null,{"$f":"ROW()","v":843},"PE","DIPS (DR)",20,"20","200 psi   DR-11",11,{"$f":"VLOOKUP(K843,Tables!$C$42:$G$58,IF(Tables!$C$5=4710,IF(N843=\"ID\",5,3),IF(N843=\"ID\",4,2)),FALSE)","v":200},21.6,"OD",null,1.964,9.6999999999999531E-2,{"$f":"VLOOKUP(F843,Tables!$G$5:$H$14,2,FALSE)*(M843-(P843+Q843*Tables!$C$6))*(P843+Q843*Tables!$C$6)*1.36136","v":51.410685351024995},"Controlled OD (DR-11) Ductile Iron Pipe Size","ASTM F714"]
[null,null,null,null,{"$f":"ROW()","v":844},"PE","DIPS (DR)",24,"24","200 psi   DR-11",11,{"$f":"VLOOKUP(K844,Tables!$C$42:$G$58,IF(Tables!$C$5=4710,IF(N844=\"ID\",5,3),IF(N844=\"ID\",4,2)),FALSE)","v":200},25.8,"OD",null,2.3450000000000002,0.11599999999999966,{"$f":"VLOOKUP(F844,Tables!$G$5:$H$14,2,FALSE)*(M844-(P844+Q844*Tables!$C$6))*(P844+Q844*Tables!$C$6)*1.36136","v":73.325062324594086},"Controlled OD (DR-11) Ductile Iron Pipe Size","ASTM F714"]
[null,null,null,null,{"$f":"ROW()","v":845},"PE","DIPS (DR)",30,"30","200 psi   DR-11",11,{"$f":"VLOOKUP(K845,Tables!$C$42:$G$58,IF(Tables!$C$5=4710,IF(N845=\"ID\",5,3),IF(N845=\"ID\",4,2)),FALSE)","v":200},32,"OD",null,2.9089999999999998,0.14399999999999835,{"$f":"VLOOKUP(F845,Tables!$G$5:$H$14,2,FALSE)*(M845-(P845+Q845*Tables!$C$6))*(P845+Q845*Tables!$C$6)*1.36136","v":112.81917340726028},"Controlled OD (DR-11) Ductile Iron Pipe Size","ASTM F714"]
[null,null,null,null,{"$f":"ROW()","v":846},"PE","DIPS (DR)",36,"36","200 psi   DR-11",11,{"$f":"VLOOKUP(K846,Tables!$C$42:$G$58,IF(Tables!$C$5=4710,IF(N846=\"ID\",5,3),IF(N846=\"ID\",4,2)),FALSE)","v":200},38.299999999999997,"OD",null,3.4820000000000002,0.1720000000000006,{"$f":"VLOOKUP(F846,Tables!$G$5:$H$14,2,FALSE)*(M846-(P846+Q846*Tables!$C$6))*(P846+Q846*Tables!$C$6)*1.36136","v":161.61926708415487},"Controlled OD (DR-11) Ductile Iron Pipe Size","ASTM F714"]
[null,null,null,null,{"$f":"ROW()","v":847},"PE","DIPS (DR)",3,"3","250 psi   DR-9",9,{"$f":"VLOOKUP(K847,Tables!$C$42:$G$58,IF(Tables!$C$5=4710,IF(N847=\"ID\",5,3),IF(N847=\"ID\",4,2)),FALSE)","v":250},3.96,"OD",null,0.44,1.6999999999999904E-2,{"$f":"VLOOKUP(F847,Tables!$G$5:$H$14,2,FALSE)*(M847-(P847+Q847*Tables!$C$6))*(P847+Q847*Tables!$C$6)*1.36136","v":2.0539677251293194},"Controlled OD (DR-9) Ductile Iron Pipe Size","ASTM F714"]
[null,null,null,null,{"$f":"ROW()","v":848},"PE","DIPS (DR)",4,"4","250 psi   DR-9",9,{"$f":"VLOOKUP(K848,Tables!$C$42:$G$58,IF(Tables!$C$5=4710,IF(N848=\"ID\",5,3),IF(N848=\"ID\",4,2)),FALSE)","v":250},4.8,"OD",null,0.53300000000000003,2.2000000000000242E-2,{"$f":"VLOOKUP(F848,Tables!$G$5:$H$14,2,FALSE)*(M848-(P848+Q848*Tables!$C$6))*(P848+Q848*Tables!$C$6)*1.36136","v":3.0195276714803199},"Controlled OD (DR-9) Ductile Iron Pipe Size","ASTM F714"]
[null,null,null,null,{"$f":"ROW()","v":849},"PE","DIPS (DR)",6,"6","250 psi   DR-9",9,{"$f":"VLOOKUP(K849,Tables!$C$42:$G$58,IF(Tables!$C$5=4710,IF(N849=\"ID\",5,3),IF(N849=\"ID\",4,2)),FALSE)","v":250},6.9,"OD",null,0.76700000000000002,3.1000000000000139E-2,{"$f":"VLOOKUP(F849,Tables!$G$5:$H$14,2,FALSE)*(M849-(P849+Q849*Tables!$C$6))*(P849+Q849*Tables!$C$6)*1.36136","v":6.2430500862730005},"Controlled OD (DR-9) Ductile Iron Pipe Size","ASTM F714"]
[null,null,null,null,{"$f":"ROW()","v":850},"PE","DIPS (DR)",8,"8","250 psi   DR-9",9,{"$f":"VLOOKUP(K850,Tables!$C$42:$G$58,IF(Tables!$C$5=4710,IF(N850=\"ID\",5,3),IF(N850=\"ID\",4,2)),FALSE)","v":250},9.0500000000000007,"OD",null,1.006,4.0999999999999481E-2,{"$f":"VLOOKUP(F850,Tables!$G$5:$H$14,2,FALSE)*(M850-(P850+Q850*Tables!$C$6))*(P850+Q850*Tables!$C$6)*1.36136","v":10.741410288128517},"Controlled OD (DR-9) Ductile Iron Pipe Size","ASTM F714"]
[null,null,null,null,{"$f":"ROW()","v":851},"PE","DIPS (DR)",10,"10",{"$f":"L851&\" psi   DR-\"&K851","v":"250 psi   DR-9"},9,{"$f":"VLOOKUP(K851,Tables!$C$42:$G$58,IF(Tables!$C$5=4710,IF(N851=\"ID\",5,3),IF(N851=\"ID\",4,2)),FALSE)","v":250},11.1,"OD",null,1.2330000000000001,4.9999999999999822E-2,{"$f":"VLOOKUP(F851,Tables!$G$5:$H$14,2,FALSE)*(M851-(P851+Q851*Tables!$C$6))*(P851+Q851*Tables!$C$6)*1.36136","v":16.147396024439676},"Controlled OD (DR-9) Ductile Iron Pipe Size","ASTM F714"]
[null,null,null,null,{"$f":"ROW()","v":852},"PE","DIPS (DR)",12,"12","250 psi   DR-9",9,{"$f":"VLOOKUP(K852,Tables!$C$42:$G$58,IF(Tables!$C$5=4710,IF(N852=\"ID\",5,3),IF(N852=\"ID\",4,2)),FALSE)","v":250},13.2,"OD",null,1.4670000000000001,5.9000000000000163E-2,{"$f":"VLOOKUP(F852,Tables!$G$5:$H$14,2,FALSE)*(M852-(P852+Q852*Tables!$C$6))*(P852+Q852*Tables!$C$6)*1.36136","v":22.841834238943715},{"$f":"\"Controlled OD (DR-\"&K852&\") Ductile Iron Pipe Size\"","v":"Controlled OD (DR-9) Ductile Iron Pipe Size"},"ASTM F714"]
[null,null,null,null,{"$f":"ROW()","v":853},"PE","DIPS (DR)",14,"14","250 psi   DR-9",9,{"$f":"VLOOKUP(K853,Tables!$C$42:$G$58,IF(Tables!$C$5=4710,IF(N853=\"ID\",5,3),IF(N853=\"ID\",4,2)),FALSE)","v":250},15.3,"OD",null,1.7,6.899999999999995E-2,{"$f":"VLOOKUP(F853,Tables!$G$5:$H$14,2,FALSE)*(M853-(P853+Q853*Tables!$C$6))*(P853+Q853*Tables!$C$6)*1.36136","v":30.686588163311079},"Controlled OD (DR-9) Ductile Iron Pipe Size","ASTM F714"]
[null,null,null,null,{"$f":"ROW()","v":854},"PE","DIPS (DR)",16,"16","250 psi   DR-9",9,{"$f":"VLOOKUP(K854,Tables!$C$42:$G$58,IF(Tables!$C$5=4710,IF(N854=\"ID\",5,3),IF(N854=\"ID\",4,2)),FALSE)","v":250},17.399999999999999,"OD",null,1.9330000000000001,7.800000000000118E-2,{"$f":"VLOOKUP(F854,Tables!$G$5:$H$14,2,FALSE)*(M854-(P854+Q854*Tables!$C$6))*(P854+Q854*Tables!$C$6)*1.36136","v":39.678480808046082},"Controlled OD (DR-9) Ductile Iron Pipe Size","ASTM F714"]
[null,null,null,null,{"$f":"ROW()","v":855},"PE","DIPS (DR)",18,"18","250 psi   DR-9",9,{"$f":"VLOOKUP(K855,Tables!$C$42:$G$58,IF(Tables!$C$5=4710,IF(N855=\"ID\",5,3),IF(N855=\"ID\",4,2)),FALSE)","v":250},19.5,"OD",null,2.1669999999999998,8.8000000000000966E-2,{"$f":"VLOOKUP(F855,Tables!$G$5:$H$14,2,FALSE)*(M855-(P855+Q855*Tables!$C$6))*(P855+Q855*Tables!$C$6)*1.36136","v":49.853667383039522},"Controlled OD (DR-9) Ductile Iron Pipe Size","ASTM F714"]
[null,null,null,null,{"$f":"ROW()","v":856},"PE","DIPS (DR)",20,"20","250 psi   DR-9",9,{"$f":"VLOOKUP(K856,Tables!$C$42:$G$58,IF(Tables!$C$5=4710,IF(N856=\"ID\",5,3),IF(N856=\"ID\",4,2)),FALSE)","v":250},21.6,"OD",null,2.4,9.6999999999999531E-2,{"$f":"VLOOKUP(F856,Tables!$G$5:$H$14,2,FALSE)*(M856-(P856+Q856*Tables!$C$6))*(P856+Q856*Tables!$C$6)*1.36136","v":61.156327556844509},"Controlled OD (DR-9) Ductile Iron Pipe Size","ASTM F714"]
[null,null,null,null,{"$f":"ROW()","v":857},"PE","DIPS (DR)",24,"24","250 psi   DR-9",9,{"$f":"VLOOKUP(K857,Tables!$C$42:$G$58,IF(Tables!$C$5=4710,IF(N857=\"ID\",5,3),IF(N857=\"ID\",4,2)),FALSE)","v":250},25.8,"OD",null,2.867,0.11599999999999966,{"$f":"VLOOKUP(F857,Tables!$G$5:$H$14,2,FALSE)*(M857-(P857+Q857*Tables!$C$6))*(P857+Q857*Tables!$C$6)*1.36136","v":87.26206138649998},"Controlled OD (DR-9) Ductile Iron Pipe Size","ASTM F714"]
[null,null,null,null,{"$f":"ROW()","v":858},"PE","DIPS (DR)",30,"30","250 psi   DR-9",9,{"$f":"VLOOKUP(K858,Tables!$C$42:$G$58,IF(Tables!$C$5=4710,IF(N858=\"ID\",5,3),IF(N858=\"ID\",4,2)),FALSE)","v":250},32,"OD",null,3.556,0.14399999999999835,{"$f":"VLOOKUP(F858,Tables!$G$5:$H$14,2,FALSE)*(M858-(P858+Q858*Tables!$C$6))*(P858+Q858*Tables!$C$6)*1.36136","v":134.24425976369403},"Controlled OD (DR-9) Ductile Iron Pipe Size","ASTM F714"]
[null,null,null,null,{"$f":"ROW()","v":859},"PE","DIPS (DR)",3,"3","335 psi   DR-7",7,{"$f":"VLOOKUP(K859,Tables!$C$42:$G$58,IF(Tables!$C$5=4710,IF(N859=\"ID\",5,3),IF(N859=\"ID\",4,2)),FALSE)","v":335},3.96,"OD",null,0.60499999999999998,1.6999999999999904E-2,{"$f":"VLOOKUP(F859,Tables!$G$5:$H$14,2,FALSE)*(M859-(P859+Q859*Tables!$C$6))*(P859+Q859*Tables!$C$6)*1.36136","v":2.6775888528589191},"Controlled OD (DR-7) Ductile Iron Pipe Size","ASTM F714"]
[null,null,null,null,{"$f":"ROW()","v":860},"PE","DIPS (DR)",4,"4","335 psi   DR-7",7,{"$f":"VLOOKUP(K860,Tables!$C$42:$G$58,IF(Tables!$C$5=4710,IF(N860=\"ID\",5,3),IF(N860=\"ID\",4,2)),FALSE)","v":335},4.8,"OD",null,0.68600000000000005,2.2000000000000242E-2,{"$f":"VLOOKUP(F860,Tables!$G$5:$H$14,2,FALSE)*(M860-(P860+Q860*Tables!$C$6))*(P860+Q860*Tables!$C$6)*1.36136","v":3.7296904625780805},"Controlled OD (DR-7) Ductile Iron Pipe Size","ASTM F714"]
[null,null,null,null,{"$f":"ROW()","v":861},"PE","DIPS (DR)",6,"6","335 psi   DR-7",7,{"$f":"VLOOKUP(K861,Tables!$C$42:$G$58,IF(Tables!$C$5=4710,IF(N861=\"ID\",5,3),IF(N861=\"ID\",4,2)),FALSE)","v":335},6.9,"OD",null,0.98599999999999999,3.1000000000000139E-2,{"$f":"VLOOKUP(F861,Tables!$G$5:$H$14,2,FALSE)*(M861-(P861+Q861*Tables!$C$6))*(P861+Q861*Tables!$C$6)*1.36136","v":7.7042618017565205},"Controlled OD (DR-7) Ductile Iron Pipe Size","ASTM F714"]
[null,null,null,null,{"$f":"ROW()","v":862},"PE","DIPS (DR)",8,"8","335 psi   DR-7",7,{"$f":"VLOOKUP(K862,Tables!$C$42:$G$58,IF(Tables!$C$5=4710,IF(N862=\"ID\",5,3),IF(N862=\"ID\",4,2)),FALSE)","v":335},9.0500000000000007,"OD",null,1.2929999999999999,4.0999999999999481E-2,{"$f":"VLOOKUP(F862,Tables!$G$5:$H$14,2,FALSE)*(M862-(P862+Q862*Tables!$C$6))*(P862+Q862*Tables!$C$6)*1.36136","v":13.252966552946118},"Controlled OD (DR-7) Ductile Iron Pipe Size","ASTM F714"]
[null,null,null,null,{"$f":"ROW()","v":863},"PE","DIPS (DR)",10,"10","335 psi   DR-7",7,{"$f":"VLOOKUP(K863,Tables!$C$42:$G$58,IF(Tables!$C$5=4710,IF(N863=\"ID\",5,3),IF(N863=\"ID\",4,2)),FALSE)","v":335},11.1,"OD",null,1.5860000000000001,4.9999999999999822E-2,{"$f":"VLOOKUP(F863,Tables!$G$5:$H$14,2,FALSE)*(M863-(P863+Q863*Tables!$C$6))*(P863+Q863*Tables!$C$6)*1.36136","v":19.936755462143516},"Controlled OD (DR-7) Ductile Iron Pipe Size","ASTM F714"]
[null,null,null,null,{"$f":"ROW()","v":864},"PE","DIPS (DR)",12,"12","335 psi   DR-7",7,{"$f":"VLOOKUP(K864,Tables!$C$42:$G$58,IF(Tables!$C$5=4710,IF(N864=\"ID\",5,3),IF(N864=\"ID\",4,2)),FALSE)","v":335},13.2,"OD",null,1.8859999999999999,5.9000000000000163E-2,{"$f":"VLOOKUP(F864,Tables!$G$5:$H$14,2,FALSE)*(M864-(P864+Q864*Tables!$C$6))*(P864+Q864*Tables!$C$6)*1.36136","v":28.190512549279074},"Controlled OD (DR-7) Ductile Iron Pipe Size","ASTM F714"]
[null,null,null,null,{"$f":"ROW()","v":865},"PE","DIPS (DR)",14,"14","335 psi   DR-7",7,{"$f":"VLOOKUP(K865,Tables!$C$42:$G$58,IF(Tables!$C$5=4710,IF(N865=\"ID\",5,3),IF(N865=\"ID\",4,2)),FALSE)","v":335},15.3,"OD",null,2.1859999999999999,6.899999999999995E-2,{"$f":"VLOOKUP(F865,Tables!$G$5:$H$14,2,FALSE)*(M865-(P865+Q865*Tables!$C$6))*(P865+Q865*Tables!$C$6)*1.36136","v":37.877422183280679},"Controlled OD (DR-7) Ductile Iron Pipe Size","ASTM F714"]
[null,null,null,null,{"$f":"ROW()","v":866},"PE","DIPS (DR)",16,"16","335 psi   DR-7",7,{"$f":"VLOOKUP(K866,Tables!$C$42:$G$58,IF(Tables!$C$5=4710,IF(N866=\"ID\",5,3),IF(N866=\"ID\",4,2)),FALSE)","v":335},17.399999999999999,"OD",null,2.4860000000000002,7.800000000000118E-2,{"$f":"VLOOKUP(F866,Tables!$G$5:$H$14,2,FALSE)*(M866-(P866+Q866*Tables!$C$6))*(P866+Q866*Tables!$C$6)*1.36136","v":48.98429385850001},"Controlled OD (DR-7) Ductile Iron Pipe Size","ASTM F714"]
[null,null,null,null,{"$f":"ROW()","v":867},"PE","DIPS (DR)",18,"18","335 psi   DR-7",7,{"$f":"VLOOKUP(K867,Tables!$C$42:$G$58,IF(Tables!$C$5=4710,IF(N867=\"ID\",5,3),IF(N867=\"ID\",4,2)),FALSE)","v":335},19.5,"OD",null,2.7890000000000001,8.8000000000000966E-2,{"$f":"VLOOKUP(F867,Tables!$G$5:$H$14,2,FALSE)*(M867-(P867+Q867*Tables!$C$6))*(P867+Q867*Tables!$C$6)*1.36136","v":61.580399900699675},"Controlled OD (DR-7) Ductile Iron Pipe Size","ASTM F714"]
[null,null,null,null,{"$f":"ROW()","v":868},"PE","DIPS (DR)",20,"20","335 psi   DR-7",7,{"$f":"VLOOKUP(K868,Tables!$C$42:$G$58,IF(Tables!$C$5=4710,IF(N868=\"ID\",5,3),IF(N868=\"ID\",4,2)),FALSE)","v":335},21.6,"OD",null,3.0859999999999999,9.6999999999999531E-2,{"$f":"VLOOKUP(F868,Tables!$G$5:$H$14,2,FALSE)*(M868-(P868+Q868*Tables!$C$6))*(P868+Q868*Tables!$C$6)*1.36136","v":75.486248228471069},"Controlled OD (DR-7) Ductile Iron Pipe Size","ASTM F714"]
[null,null,null,null,{"$f":"ROW()","v":869},"PE","DIPS (DR)",24,"24",{"$f":"L869&\" psi   DR-\"&K869","v":"335 psi   DR-7"},7,{"$f":"VLOOKUP(K869,Tables!$C$42:$G$58,IF(Tables!$C$5=4710,IF(N869=\"ID\",5,3),IF(N869=\"ID\",4,2)),FALSE)","v":335},25.8,"OD",null,3.6859999999999999,0.11599999999999966,{"$f":"VLOOKUP(F869,Tables!$G$5:$H$14,2,FALSE)*(M869-(P869+Q869*Tables!$C$6))*(P869+Q869*Tables!$C$6)*1.36136","v":107.69637565919231},"Controlled OD (DR-7) Ductile Iron Pipe Size","ASTM F714"]
[null,null,null,1,{"$f":"ROW()","v":870},"PE","(Dual Wall)",4,"4",{"$f":"L870&\" - Low Head\"","v":"Dual Wall (10 psi) - Low Head"},"NA","Dual Wall (10 psi)",4.78,"ID",null,null,null,0.45,"Corrugated Dual Wall Drain Pipe","MFR ADS"]
[null,null,null,null,{"$f":"ROW()","v":871},"PE","(Dual Wall)",6,"6","Dual Wall (10 psi) - Low Head","NA","Dual Wall (10 psi)",6.92,"ID",null,null,null,0.85,"Corrugated Dual Wall Drain Pipe","MFR ADS"]
[null,null,null,null,{"$f":"ROW()","v":872},"PE","(Dual Wall)",8,"8","Dual Wall (10 psi) - Low Head","NA","Dual Wall (10 psi)",9.11,"ID",null,null,null,1.54,"Corrugated Dual Wall Drain Pipe","MFR ADS"]
[null,null,null,null,{"$f":"ROW()","v":873},"PE","(Dual Wall)",10,"10","Dual Wall (10 psi) - Low Head","NA","Dual Wall (10 psi)",11.36,"ID",null,null,null,2.31,"Corrugated Dual Wall Drain Pipe","MFR ADS"]
[null,null,null,null,{"$f":"ROW()","v":874},"PE","(Dual Wall)",12,"12","Dual Wall (10 psi) - Low Head","NA","Dual Wall (10 psi)",14.45,"ID",null,null,null,3.26,"Corrugated Dual Wall Drain Pipe","MFR ADS"]
[null,null,null,null,{"$f":"ROW()","v":875},"PE","(Dual Wall)",15,"15","Dual Wall (10 psi) - Low Head","NA","Dual Wall (10 psi)",17.57,"ID",null,null,null,4.63,"Corrugated Dual Wall Drain Pipe","MFR ADS"]
[null,null,null,null,{"$f":"ROW()","v":876},"PE","(Dual Wall)",18,"18","Dual Wall (10 psi) - Low Head","NA","Dual Wall (10 psi)",21.2,"ID",null,null,null,6.43,"Corrugated Dual Wall Drain Pipe","MFR ADS"]
[null,null,null,null,{"$f":"ROW()","v":877},"PE","(Dual Wall)",24,"24","Dual Wall (10 psi) - Low Head","NA","Dual Wall (10 psi)",27.8,"ID",null,null,null,11.02,"Corrugated Dual Wall Drain Pipe","MFR ADS"]
[null,null,null,null,{"$f":"ROW()","v":878},"PE","(Dual Wall)","42S","42 inch Type S","Dual Wall (10 psi) - Low Head","NA","Dual Wall (10 psi)",47.7,"ID",null,null,null,28.51,"Corrugated Dual Wall Drain Pipe","MFR ADS"]
[null,null,null,null,{"$f":"ROW()","v":879},"PE","(Dual Wall)","42D","42 inch Type D","Dual Wall (10 psi) - Low Head","NA","Dual Wall (10 psi)",46.75,"ID",null,null,null,29.74,"Corrugated Dual Wall Drain Pipe","MFR ADS"]
[null,null,null,null,{"$f":"ROW()","v":880},"PE","(Dual Wall)",30,"30","Dual Wall (10 psi) - Low Head","NA","Dual Wall (10 psi)",35.1,"ID",null,null,null,15.43,"Corrugated Dual Wall Drain Pipe","MFR ADS"]
[null,null,null,null,{"$f":"ROW()","v":881},"PE","(Dual Wall)",36,"36","Dual Wall (10 psi) - Low Head","NA","Dual Wall (10 psi)",41.7,"ID",null,null,null,19.84,"Corrugated Dual Wall Drain Pipe","MFR ADS"]
[null,null,null,null,{"$f":"ROW()","v":882},"PE","(Dual Wall)","48 Type S","48 inch Type S","Dual Wall (10 psi) - Low Head","NA","Dual Wall (10 psi)",53.6,"ID",null,null,null,31.25,"Corrugated Dual Wall Drain Pipe","MFR ADS"]
[null,null,null,null,{"$f":"ROW()","v":883},"PE","(Dual Wall)","48 Type D","48 inch Type D","Dual Wall (10 psi) - Low Head","NA","Dual Wall (10 psi)",52.7,"ID",null,null,null,34.14,"Corrugated Dual Wall Drain Pipe","MFR ADS"]
[null,null,null,null,{"$f":"ROW()","v":884},"PE","(Dual Wall)","60 Type S","60 inch Type S","Dual Wall (10 psi) - Low Head","NA","Dual Wall (10 psi)",66.3,"ID",null,null,null,45.2,"Corrugated Dual Wall Drain Pipe","MFR ADS"]
[null,null,null,null,{"$f":"ROW()","v":885},"PE","(Dual Wall)","60 Type D","60 inch Type D","Dual Wall (10 psi) - Low Head","NA","Dual Wall (10 psi)",65.5,"ID",null,null,null,56.17,"Corrugated Dual Wall Drain Pipe","MFR ADS"]
[null,null,null,1,{"$f":"ROW()","v":886},"PE","(Single Wall)",3,3,"Single Wall (10 psi) - Low Head","NA","Single Wall (10 psi)",3.5,"ID",null,null,null,0.21,"Corrugated Single Wall","ASTM F2648"]
[null,null,null,null,{"$f":"ROW()","v":887},"PE","(Single Wall)",4,4,"Single Wall (10 psi) - Low Head","NA","Single Wall (10 psi)",4.5,"ID",null,null,null,0.31,"Corrugated Single Wall","ASTM F2648"]
[null,null,null,null,{"$f":"ROW()","v":888},"PE","(Single Wall)",5,5,"Single Wall (10 psi) - Low Head","NA","Single Wall (10 psi)",5.5,"ID",null,null,null,0.5,"Corrugated Single Wall","ASTM F2648"]
[null,null,null,null,{"$f":"ROW()","v":889},"PE","(Single Wall)",6,6,"Single Wall (10 psi) - Low Head","NA","Single Wall (10 psi)",6.5,"ID",null,null,null,0.65,"Corrugated Single Wall","ASTM F2648"]
[null,null,null,null,{"$f":"ROW()","v":890},"PE","(Single Wall)",8,8,"Single Wall (10 psi) - Low Head","NA","Single Wall (10 psi)",10,"ID",null,null,null,1.23,"Corrugated Single Wall","ASTM F2648"]
[null,null,null,null,{"$f":"ROW()","v":891},"PE","(Single Wall)",10,10,"Single Wall (10 psi) - Low Head","NA","Single Wall (10 psi)",12,"ID",null,null,null,1.67,"Corrugated Single Wall","ASTM F2648"]
[null,null,null,null,{"$f":"ROW()","v":892},"PE","(Single Wall)",12,12,"Single Wall (10 psi) - Low Head","NA","Single Wall (10 psi)",15,"ID",null,null,null,2.92,"Corrugated Single Wall","ASTM F2648"]
[null,null,null,null,{"$f":"ROW()","v":893},"PE","(Single Wall)",15,15,"Single Wall (10 psi) - Low Head","NA","Single Wall (10 psi)",18,"ID",null,null,null,4.09,"Corrugated Single Wall","ASTM F2648"]
[null,null,null,null,{"$f":"ROW()","v":894},"PE","(Single Wall)",18,18,"Single Wall (10 psi) - Low Head","NA","Single Wall (10 psi)",21,"ID",null,null,null,5.6,"Corrugated Single Wall","ASTM F2648"]
[null,null,null,null,{"$f":"ROW()","v":895},"PE","(Single Wall)",21,21,"Single Wall (10 psi) - Low Head","NA","Single Wall (10 psi)",24,"ID",null,null,null,7.58,"Corrugated Single Wall","ASTM F2648"]
[null,null,null,null,{"$f":"ROW()","v":896},"PE","(Single Wall)",24,24,"Single Wall (10 psi) - Low Head","NA","Single Wall (10 psi)",28,"ID",null,null,null,9.92,"Corrugated Single Wall","ASTM F2648"]
[null,null,null,1,{"$f":"ROW()","v":897},"PEX","CTS (DR)",0.5,0.5,{"$f":"L897&\" psi   DR-\"&K897","v":"160 psi   DR-9"},9,160,0.625,"OD",1.6E-2,7.0000000000000007E-2,0.01,{"$f":"VLOOKUP(F897,Tables!$G$5:$H$14,2,FALSE)*(M897-(P897+Q897*Tables!$C$6))*(P897+Q897*Tables!$C$6)*1.36136","v":5.2000548600000009E-2},"Crosslinked Polyethylene (PEX)","ASTM F876"]
[null,null,null,null,{"$f":"ROW()","v":898},"PEX","CTS (DR)",0.75,0.75,"160 psi   DR-9",9,160,0.875,"OD",1.6E-2,9.7000000000000003E-2,0.01,{"$f":"VLOOKUP(F898,Tables!$G$5:$H$14,2,FALSE)*(M898-(P898+Q898*Tables!$C$6))*(P898+Q898*Tables!$C$6)*1.36136","v":9.9394794058559999E-2},"Crosslinked Polyethylene (PEX)","ASTM F876"]
[null,null,null,null,{"$f":"ROW()","v":899},"PEX","CTS (DR)",1,1,"160 psi   DR-9",9,160,1.125,"OD",0.02,0.125,1.2999999999999999E-2,{"$f":"VLOOKUP(F899,Tables!$G$5:$H$14,2,FALSE)*(M899-(P899+Q899*Tables!$C$6))*(P899+Q899*Tables!$C$6)*1.36136","v":0.16469393144204},"Crosslinked Polyethylene (PEX)","ASTM F876"]
[null,null,null,null,{"$f":"ROW()","v":900},"PEX","CTS (DR)",1.25,1.25,"160 psi   DR-9",9,160,1.375,"OD",0.02,0.153,1.4999999999999999E-2,{"$f":"VLOOKUP(F900,Tables!$G$5:$H$14,2,FALSE)*(M900-(P900+Q900*Tables!$C$6))*(P900+Q900*Tables!$C$6)*1.36136","v":0.24572906514155998},"Crosslinked Polyethylene (PEX)","ASTM F876"]
[null,null,null,null,{"$f":"ROW()","v":901},"PEX","CTS (DR)",1.5,1.5,"160 psi   DR-9",9,160,1.625,"OD",2.4E-2,0.18099999999999999,1.9E-2,{"$f":"VLOOKUP(F901,Tables!$G$5:$H$14,2,FALSE)*(M901-(P901+Q901*Tables!$C$6))*(P901+Q901*Tables!$C$6)*1.36136","v":0.34449228890076},"Crosslinked Polyethylene (PEX)","ASTM F876"]
[null,null,null,null,{"$f":"ROW()","v":902},"PEX","CTS (DR)",2,2,"160 psi   DR-9",9,160,2.125,"OD",0.03,0.23599999999999999,2.4E-2,{"$f":"VLOOKUP(F902,Tables!$G$5:$H$14,2,FALSE)*(M902-(P902+Q902*Tables!$C$6))*(P902+Q902*Tables!$C$6)*1.36136","v":0.58681326960255997},"Crosslinked Polyethylene (PEX)","ASTM F876"]
[null,null,null,null,{"$f":"ROW()","v":903},"PEX","CTS (DR)",2.5,2.5,"160 psi   DR-9",9,160,2.625,"OD",3.7999999999999999E-2,0.29199999999999998,0.03,{"$f":"VLOOKUP(F903,Tables!$G$5:$H$14,2,FALSE)*(M903-(P903+Q903*Tables!$C$6))*(P903+Q903*Tables!$C$6)*1.36136","v":0.89708951267935999},"Crosslinked Polyethylene (PEX)","ASTM F876"]
[null,null,null,null,{"$f":"ROW()","v":904},"PEX","CTS (DR)",3,3,"160 psi   DR-9",9,160,3.125,"OD",4.4999999999999998E-2,0.34699999999999998,3.3000000000000002E-2,{"$f":"VLOOKUP(F904,Tables!$G$5:$H$14,2,FALSE)*(M904-(P904+Q904*Tables!$C$6))*(P904+Q904*Tables!$C$6)*1.36136","v":1.2654163318196399},"Crosslinked Polyethylene (PEX)","ASTM F876"]
[null,null,null,null,{"$f":"ROW()","v":905},"PEX","CTS (DR)",3.5,3.5,"160 psi   DR-9",9,160,3.625,"OD",4.5999999999999999E-2,0.40300000000000002,3.5000000000000003E-2,{"$f":"VLOOKUP(F905,Tables!$G$5:$H$14,2,FALSE)*(M905-(P905+Q905*Tables!$C$6))*(P905+Q905*Tables!$C$6)*1.36136","v":1.69867481779996},"Crosslinked Polyethylene (PEX)","ASTM F876"]
[null,null,null,null,{"$f":"ROW()","v":906},"PEX","CTS (DR)",4,4,"160 psi   DR-9",9,160,4.125,"OD",5.1999999999999998E-2,0.45800000000000002,0.04,{"$f":"VLOOKUP(F906,Tables!$G$5:$H$14,2,FALSE)*(M906-(P906+Q906*Tables!$C$6))*(P906+Q906*Tables!$C$6)*1.36136","v":2.1975948692297598},"Crosslinked Polyethylene (PEX)","ASTM F876"]
[null,null,null,null,{"$f":"ROW()","v":907},"PEX","CTS (DR)",4.5,4.5,"160 psi   DR-9",9,160,4.625,"OD",5.8999999999999997E-2,0.51400000000000001,4.4999999999999998E-2,{"$f":"VLOOKUP(F907,Tables!$G$5:$H$14,2,FALSE)*(M907-(P907+Q907*Tables!$C$6))*(P907+Q907*Tables!$C$6)*1.36136","v":2.7651436689276396},"Crosslinked Polyethylene (PEX)","ASTM F876"]
[null,null,null,null,{"$f":"ROW()","v":908},"PEX","CTS (DR)",5,5,"160 psi   DR-9",9,160,5.125,"OD",6.5000000000000002E-2,0.56899999999999995,0.05,{"$f":"VLOOKUP(F908,Tables!$G$5:$H$14,2,FALSE)*(M908-(P908+Q908*Tables!$C$6))*(P908+Q908*Tables!$C$6)*1.36136","v":3.3928485941750393},"Crosslinked Polyethylene (PEX)","ASTM F876"]
[null,null,null,null,{"$f":"ROW()","v":909},"PEX","CTS (DR)",6,6,"160 psi   DR-9",9,160,6.125,"OD",7.1999999999999995E-2,0.68100000000000005,0.06,{"$f":"VLOOKUP(F909,Tables!$G$5:$H$14,2,FALSE)*(M909-(P909+Q909*Tables!$C$6))*(P909+Q909*Tables!$C$6)*1.36136","v":4.8525701758934403},"Crosslinked Polyethylene (PEX)","ASTM F876"]
[null,null,null,1,{"$f":"ROW()","v":910},"ABS","IPS (SCH - OD)",1.25,"1 1/4",{"$f":"L910&\" psi   SCH-\"&K910","v":"870 psi   SCH-40"},40,870,1.66,"OD",2.4E-2,0.14000000000000001,1.4999999999999999E-2,{"$f":"VLOOKUP(F910,Tables!$G$5:$H$14,2,FALSE)*(M910+(P910+Q910*Tables!$C$6))*(P910+Q910*Tables!$C$6)*1.36136","v":0.38109443872500004},{"$f":"\"Controlled OD (SCH-\"&K910&\") Iron Pipe Size\"","v":"Controlled OD (SCH-40) Iron Pipe Size"},"ASTM D2661"]
[null,null,null,null,{"$f":"ROW()","v":911},"ABS","IPS (SCH - OD)",1.5,"1 1/2","630 psi   SCH-40",40,630,1.9,"OD",2.4E-2,0.14499999999999999,1.4999999999999999E-2,{"$f":"VLOOKUP(F911,Tables!$G$5:$H$14,2,FALSE)*(M911+(P911+Q911*Tables!$C$6))*(P911+Q911*Tables!$C$6)*1.36136","v":0.44741989792499992},{"$f":"\"Controlled OD (SCH-\"&K911&\") Iron Pipe Size\"","v":"Controlled OD (SCH-40) Iron Pipe Size"},"ASTM D2661"]
[null,null,null,null,{"$f":"ROW()","v":912},"ABS","IPS (SCH - OD)",2,2,"370 psi   SCH-40",40,370,2.375,"OD",2.4E-2,0.154,1.4999999999999999E-2,{"$f":"VLOOKUP(F912,Tables!$G$5:$H$14,2,FALSE)*(M912+(P912+Q912*Tables!$C$6))*(P912+Q912*Tables!$C$6)*1.36136","v":0.58555767570299999},"Controlled OD (SCH-40) Iron Pipe Size","ASTM D2661"]
[null,null,null,null,{"$f":"ROW()","v":913},"ABS","IPS (SCH - OD)",3,3,"320 psi   SCH-40",40,320,3.5,"OD",0.03,0.216,0.02,{"$f":"VLOOKUP(F913,Tables!$G$5:$H$14,2,FALSE)*(M913+(P913+Q913*Tables!$C$6))*(P913+Q913*Tables!$C$6)*1.36136","v":1.2036870125279999},"Controlled OD (SCH-40) Iron Pipe Size","ASTM D2661"]
[null,null,null,null,{"$f":"ROW()","v":914},"ABS","IPS (SCH - OD)",4,4,"190 psi   SCH-40",40,190,4.5,"OD",0.03,0.23699999999999999,2.4E-2,{"$f":"VLOOKUP(F914,Tables!$G$5:$H$14,2,FALSE)*(M914+(P914+Q914*Tables!$C$6))*(P914+Q914*Tables!$C$6)*1.36136","v":1.6903000394279997},"Controlled OD (SCH-40) Iron Pipe Size","ASTM D2661"]
[null,null,null,null,{"$f":"ROW()","v":915},"ABS","IPS (SCH - OD)",6,6,"95 psi   SCH-40",40,95,6.625,"OD",0.05,2.8,0.03,{"$f":"VLOOKUP(F915,Tables!$G$5:$H$14,2,FALSE)*(M915+(P915+Q915*Tables!$C$6))*(P915+Q915*Tables!$C$6)*1.36136","v":37.985047900799991},"Controlled OD (SCH-40) Iron Pipe Size","ASTM D2661"]
[null,null,null,null,{"$f":"ROW()","v":916},"ABS","IPS (DR)",1,1,{"$f":"L916&\" psi   DR-\"&K916","v":"100 psi   DR-26"},26,100,1.3149999999999999,"OD",0.03,0.06,0.02,{"$f":"VLOOKUP(F916,Tables!$G$5:$H$14,2,FALSE)*(M916+(P916+Q916*Tables!$C$6))*(P916+Q916*Tables!$C$6)*1.36136","v":0.13858304459999998},{"$f":"\"Controlled OD (DR-\"&K916&\") Iron Pipe Size\"","v":"Controlled OD (DR-26) Iron Pipe Size"},"ASTM F2969"]
[null,null,null,null,{"$f":"ROW()","v":917},"ABS","IPS (DR)",1.25,"1 1/4",{"$f":"L917&\" psi   DR-\"&K917","v":"100 psi   DR-26"},26,100,1.66,"OD",0.03,6.4000000000000001E-2,0.02,{"$f":"VLOOKUP(F917,Tables!$G$5:$H$14,2,FALSE)*(M917+(P917+Q917*Tables!$C$6))*(P917+Q917*Tables!$C$6)*1.36136","v":0.18341848324799997},{"$f":"\"Controlled OD (DR-\"&K917&\") Iron Pipe Size\"","v":"Controlled OD (DR-26) Iron Pipe Size"},"ASTM F2969"]
[null,null,null,null,{"$f":"ROW()","v":918},"ABS","IPS (DR)",1.5,"1 1/2","100 psi   DR-26",26,100,1.9,"OD",0.06,7.2999999999999995E-2,0.02,{"$f":"VLOOKUP(F918,Tables!$G$5:$H$14,2,FALSE)*(M918+(P918+Q918*Tables!$C$6))*(P918+Q918*Tables!$C$6)*1.36136","v":0.23526812509199996},"Controlled OD (DR-26) Iron Pipe Size","ASTM F2969"]
[null,null,null,null,{"$f":"ROW()","v":919},"ABS","IPS (DR)",2,2,"100 psi   DR-26",26,100,2.375,"OD",0.06,9.0999999999999998E-2,0.02,{"$f":"VLOOKUP(F919,Tables!$G$5:$H$14,2,FALSE)*(M919+(P919+Q919*Tables!$C$6))*(P919+Q919*Tables!$C$6)*1.36136","v":0.35746563652799995},"Controlled OD (DR-26) Iron Pipe Size","ASTM F2969"]
[null,null,null,null,{"$f":"ROW()","v":920},"ABS","IPS (DR)",3,3,"100 psi   DR-26",26,100,3.5,"OD",0.06,0.13500000000000001,0.02,{"$f":"VLOOKUP(F920,Tables!$G$5:$H$14,2,FALSE)*(M920+(P920+Q920*Tables!$C$6))*(P920+Q920*Tables!$C$6)*1.36136","v":0.75548843370000007},"Controlled OD (DR-26) Iron Pipe Size","ASTM F2969"]
[null,null,null,null,{"$f":"ROW()","v":921},"ABS","IPS (DR)",4,4,"100 psi   DR-26",26,100,4.5,"OD",0.1,0.17299999999999999,2.1000000000000001E-2,{"$f":"VLOOKUP(F921,Tables!$G$5:$H$14,2,FALSE)*(M921+(P921+Q921*Tables!$C$6))*(P921+Q921*Tables!$C$6)*1.36136","v":1.2284822279730001},"Controlled OD (DR-26) Iron Pipe Size","ASTM F2969"]
[null,null,null,null,{"$f":"ROW()","v":922},"ABS","IPS (DR)",6,6,"100 psi   DR-26",26,100,6.625,"OD",0.1,0.255,3.1E-2,{"$f":"VLOOKUP(F922,Tables!$G$5:$H$14,2,FALSE)*(M922+(P922+Q922*Tables!$C$6))*(P922+Q922*Tables!$C$6)*1.36136","v":2.6662159193670001},"Controlled OD (DR-26) Iron Pipe Size","ASTM F2969"]
[null,null,null,null,{"$f":"ROW()","v":923},"ABS","IPS (DR)",8,8,"100 psi   DR-26",26,100,8.625,"OD",0.15,0.33200000000000002,0.04,{"$f":"VLOOKUP(F923,Tables!$G$5:$H$14,2,FALSE)*(M923+(P923+Q923*Tables!$C$6))*(P923+Q923*Tables!$C$6)*1.36136","v":4.5168552549120005},"Controlled OD (DR-26) Iron Pipe Size","ASTM F2969"]
[null,null,null,null,{"$f":"ROW()","v":924},"ABS","IPS (DR)",10,10,"100 psi   DR-26",26,100,10.75,"OD",0.15,0.41299999999999998,0.05,{"$f":"VLOOKUP(F924,Tables!$G$5:$H$14,2,FALSE)*(M924+(P924+Q924*Tables!$C$6))*(P924+Q924*Tables!$C$6)*1.36136","v":7.0046889232319991},"Controlled OD (DR-26) Iron Pipe Size","ASTM F2969"]
[null,null,null,null,{"$f":"ROW()","v":925},"ABS","IPS (DR)",12,12,"100 psi   DR-26",26,100,12.75,"OD",0.15,0.49,5.8999999999999997E-2,{"$f":"VLOOKUP(F925,Tables!$G$5:$H$14,2,FALSE)*(M925+(P925+Q925*Tables!$C$6))*(P925+Q925*Tables!$C$6)*1.36136","v":9.8537694224969989},"Controlled OD (DR-26) Iron Pipe Size","ASTM F2969"]
[null,null,null,null,{"$f":"ROW()","v":926},"ABS","IPS (DR)",0.75,"3/4","125 psi   DR-21",21,125,1.05,"OD",0.03,0.06,0.02,{"$f":"VLOOKUP(F926,Tables!$G$5:$H$14,2,FALSE)*(M926+(P926+Q926*Tables!$C$6))*(P926+Q926*Tables!$C$6)*1.36136","v":0.1120671552},"Controlled OD (DR-21) Iron Pipe Size","ASTM F2969"]
[null,null,null,null,{"$f":"ROW()","v":927},"ABS","IPS (DR)",1,1,"125 psi   DR-21",21,125,1.3149999999999999,"OD",0.03,6.3E-2,0.02,{"$f":"VLOOKUP(F927,Tables!$G$5:$H$14,2,FALSE)*(M927+(P927+Q927*Tables!$C$6))*(P927+Q927*Tables!$C$6)*1.36136","v":0.14483536267199998},"Controlled OD (DR-21) Iron Pipe Size","ASTM F2969"]
[null,null,null,null,{"$f":"ROW()","v":928},"ABS","IPS (DR)",1.25,"1 1/4","125 psi   DR-21",21,125,1.66,"OD",0.03,7.9000000000000001E-2,0.02,{"$f":"VLOOKUP(F928,Tables!$G$5:$H$14,2,FALSE)*(M928+(P928+Q928*Tables!$C$6))*(P928+Q928*Tables!$C$6)*1.36136","v":0.22250619190799995},"Controlled OD (DR-21) Iron Pipe Size","ASTM F2969"]
[null,null,null,null,{"$f":"ROW()","v":929},"ABS","IPS (DR)",1.5,"1 1/2","125 psi   DR-21",21,125,1.9,"OD",0.06,0.09,0.02,{"$f":"VLOOKUP(F929,Tables!$G$5:$H$14,2,FALSE)*(M929+(P929+Q929*Tables!$C$6))*(P929+Q929*Tables!$C$6)*1.36136","v":0.28588559999999996},"Controlled OD (DR-21) Iron Pipe Size","ASTM F2969"]
[null,null,null,null,{"$f":"ROW()","v":930},"ABS","IPS (DR)",2,2,"125 psi   DR-21",21,125,2.375,"OD",0.06,0.113,0.02,{"$f":"VLOOKUP(F930,Tables!$G$5:$H$14,2,FALSE)*(M930+(P930+Q930*Tables!$C$6))*(P930+Q930*Tables!$C$6)*1.36136","v":0.43919747071199999},"Controlled OD (DR-21) Iron Pipe Size","ASTM F2969"]
[null,null,null,null,{"$f":"ROW()","v":931},"ABS","IPS (DR)",3,3,"125 psi   DR-21",21,125,3.5,"OD",0.06,0.16700000000000001,0.02,{"$f":"VLOOKUP(F931,Tables!$G$5:$H$14,2,FALSE)*(M931+(P931+Q931*Tables!$C$6))*(P931+Q931*Tables!$C$6)*1.36136","v":0.930313195812},"Controlled OD (DR-21) Iron Pipe Size","ASTM F2969"]
[null,null,null,null,{"$f":"ROW()","v":932},"ABS","IPS (DR)",4,4,"125 psi   DR-21",21,125,4.5,"OD",0.1,0.214,2.5999999999999999E-2,{"$f":"VLOOKUP(F932,Tables!$G$5:$H$14,2,FALSE)*(M932+(P932+Q932*Tables!$C$6))*(P932+Q932*Tables!$C$6)*1.36136","v":1.5338176974119999},"Controlled OD (DR-21) Iron Pipe Size","ASTM F2969"]
[null,null,null,null,{"$f":"ROW()","v":933},"ABS","IPS (DR)",6,6,"125 psi   DR-21",21,125,6.625,"OD",0.1,0.316,3.7999999999999999E-2,{"$f":"VLOOKUP(F933,Tables!$G$5:$H$14,2,FALSE)*(M933+(P933+Q933*Tables!$C$6))*(P933+Q933*Tables!$C$6)*1.36136","v":3.3328543248},"Controlled OD (DR-21) Iron Pipe Size","ASTM F2969"]
[null,null,null,null,{"$f":"ROW()","v":934},"ABS","IPS (DR)",8,8,"125 psi   DR-21",21,125,8.625,"OD",0.15,0.41,4.9000000000000002E-2,{"$f":"VLOOKUP(F934,Tables!$G$5:$H$14,2,FALSE)*(M934+(P934+Q934*Tables!$C$6))*(P934+Q934*Tables!$C$6)*1.36136","v":5.6267328387269995},"Controlled OD (DR-21) Iron Pipe Size","ASTM F2969"]
[null,null,null,null,{"$f":"ROW()","v":935},"ABS","IPS (DR)",10,10,"125 psi   DR-21",21,125,10.75,"OD",0.15,0.51100000000000001,6.0999999999999999E-2,{"$f":"VLOOKUP(F935,Tables!$G$5:$H$14,2,FALSE)*(M935+(P935+Q935*Tables!$C$6))*(P935+Q935*Tables!$C$6)*1.36136","v":8.7400191608729987},"Controlled OD (DR-21) Iron Pipe Size","ASTM F2969"]
[null,null,null,null,{"$f":"ROW()","v":936},"ABS","IPS (DR)",12,12,"125 psi   DR-21",21,125,12.75,"OD",0.15,0.60599999999999998,7.2999999999999995E-2,{"$f":"VLOOKUP(F936,Tables!$G$5:$H$14,2,FALSE)*(M936+(P936+Q936*Tables!$C$6))*(P936+Q936*Tables!$C$6)*1.36136","v":12.299772309824998},"Controlled OD (DR-21) Iron Pipe Size","ASTM F2969"]
[null,null,null,null,{"$f":"ROW()","v":937},"ABS","IPS (DR)",0.5,"1/2","160 psi   DR-17",17,160,0.84,"OD",0.03,0.06,0.02,{"$f":"VLOOKUP(F937,Tables!$G$5:$H$14,2,FALSE)*(M937+(P937+Q937*Tables!$C$6))*(P937+Q937*Tables!$C$6)*1.36136","v":9.1054563599999971E-2},"Controlled OD (DR-17) Iron Pipe Size","ASTM F2969"]
[null,null,null,null,{"$f":"ROW()","v":938},"ABS","IPS (DR)",0.75,"3/4","160 psi   DR-17",17,160,1.05,"OD",0.03,6.2E-2,0.02,{"$f":"VLOOKUP(F938,Tables!$G$5:$H$14,2,FALSE)*(M938+(P938+Q938*Tables!$C$6))*(P938+Q938*Tables!$C$6)*1.36136","v":0.11547491155199999},"Controlled OD (DR-17) Iron Pipe Size","ASTM F2969"]
[null,null,null,null,{"$f":"ROW()","v":939},"ABS","IPS (DR)",1,1,"160 psi   DR-17",17,160,1.3149999999999999,"OD",0.03,7.6999999999999999E-2,0.02,{"$f":"VLOOKUP(F939,Tables!$G$5:$H$14,2,FALSE)*(M939+(P939+Q939*Tables!$C$6))*(P939+Q939*Tables!$C$6)*1.36136","v":0.17435305087199995},"Controlled OD (DR-17) Iron Pipe Size","ASTM F2969"]
[null,null,null,null,{"$f":"ROW()","v":940},"ABS","IPS (DR)",1.25,"1 1/4","160 psi   DR-17",17,160,1.66,"OD",0.03,9.8000000000000004E-2,0.02,{"$f":"VLOOKUP(F940,Tables!$G$5:$H$14,2,FALSE)*(M940+(P940+Q940*Tables!$C$6))*(P940+Q940*Tables!$C$6)*1.36136","v":0.27294070003199999},"Controlled OD (DR-17) Iron Pipe Size","ASTM F2969"]
[null,null,null,null,{"$f":"ROW()","v":941},"ABS","IPS (DR)",1.5,"1 1/2","160 psi   DR-17",17,160,1.9,"OD",0.06,0.112,0.02,{"$f":"VLOOKUP(F941,Tables!$G$5:$H$14,2,FALSE)*(M941+(P941+Q941*Tables!$C$6))*(P941+Q941*Tables!$C$6)*1.36136","v":0.35261701675199997},"Controlled OD (DR-17) Iron Pipe Size","ASTM F2969"]
[null,null,null,null,{"$f":"ROW()","v":942},"ABS","IPS (DR)",2,2,"160 psi   DR-17",17,160,2.375,"OD",0.06,0.14000000000000001,0.02,{"$f":"VLOOKUP(F942,Tables!$G$5:$H$14,2,FALSE)*(M942+(P942+Q942*Tables!$C$6))*(P942+Q942*Tables!$C$6)*1.36136","v":0.54139585500000009},"Controlled OD (DR-17) Iron Pipe Size","ASTM F2969"]
[null,null,null,null,{"$f":"ROW()","v":943},"ABS","IPS (DR)",3,3,"160 psi   DR-17",17,160,3.5,"OD",0.06,0.20599999999999999,2.5000000000000001E-2,{"$f":"VLOOKUP(F943,Tables!$G$5:$H$14,2,FALSE)*(M943+(P943+Q943*Tables!$C$6))*(P943+Q943*Tables!$C$6)*1.36136","v":1.1613991719329999},"Controlled OD (DR-17) Iron Pipe Size","ASTM F2969"]
[null,null,null,null,{"$f":"ROW()","v":944},"ABS","IPS (DR)",4,4,"160 psi   DR-17",17,160,4.5,"OD",0.1,0.26500000000000001,3.2000000000000001E-2,{"$f":"VLOOKUP(F944,Tables!$G$5:$H$14,2,FALSE)*(M944+(P944+Q944*Tables!$C$6))*(P944+Q944*Tables!$C$6)*1.36136","v":1.920380770308},"Controlled OD (DR-17) Iron Pipe Size","ASTM F2969"]
[null,null,null,null,{"$f":"ROW()","v":945},"ABS","IPS (DR)",6,6,"160 psi   DR-17",17,160,6.625,"OD",0.1,0.39,4.7E-2,{"$f":"VLOOKUP(F945,Tables!$G$5:$H$14,2,FALSE)*(M945+(P945+Q945*Tables!$C$6))*(P945+Q945*Tables!$C$6)*1.36136","v":4.1602354824030003},"Controlled OD (DR-17) Iron Pipe Size","ASTM F2969"]
[null,null,null,null,{"$f":"ROW()","v":946},"ABS","IPS (DR)",0.125,"1/8","200 psi   DR-13.5",13.5,200,0.40500000000000003,"OD",1.4999999999999999E-2,0.06,0.02,{"$f":"VLOOKUP(F946,Tables!$G$5:$H$14,2,FALSE)*(M946+(P946+Q946*Tables!$C$6))*(P946+Q946*Tables!$C$6)*1.36136","v":4.7528480999999997E-2},"Controlled OD (DR-13.5) Iron Pipe Size","ASTM F2969"]
[null,null,null,null,{"$f":"ROW()","v":947},"ABS","IPS (DR)",0.25,"1/4","200 psi   DR-13.5",13.5,200,0.54,"OD",1.4999999999999999E-2,0.06,0.02,{"$f":"VLOOKUP(F947,Tables!$G$5:$H$14,2,FALSE)*(M947+(P947+Q947*Tables!$C$6))*(P947+Q947*Tables!$C$6)*1.36136","v":6.1036575599999983E-2},"Controlled OD (DR-13.5) Iron Pipe Size","ASTM F2969"]
[null,null,null,null,{"$f":"ROW()","v":948},"ABS","IPS (DR)",0.375,"3/8","200 psi   DR-13.5",13.5,200,0.67500000000000004,"OD",1.4999999999999999E-2,0.06,0.02,{"$f":"VLOOKUP(F948,Tables!$G$5:$H$14,2,FALSE)*(M948+(P948+Q948*Tables!$C$6))*(P948+Q948*Tables!$C$6)*1.36136","v":7.4544670199999982E-2},"Controlled OD (DR-13.5) Iron Pipe Size","ASTM F2969"]
[null,null,null,null,{"$f":"ROW()","v":949},"ABS","IPS (DR)",0.5,"1/2","200 psi   DR-13.5",13.5,200,0.84,"OD",0.03,6.2E-2,0.02,{"$f":"VLOOKUP(F949,Tables!$G$5:$H$14,2,FALSE)*(M949+(P949+Q949*Tables!$C$6))*(P949+Q949*Tables!$C$6)*1.36136","v":9.3861960191999994E-2},"Controlled OD (DR-13.5) Iron Pipe Size","ASTM F2969"]
[null,null,null,null,{"$f":"ROW()","v":950},"ABS","IPS (DR)",0.75,"3/4","200 psi   DR-13.5",13.5,200,1.05,"OD",0.03,7.8E-2,0.02,{"$f":"VLOOKUP(F950,Tables!$G$5:$H$14,2,FALSE)*(M950+(P950+Q950*Tables!$C$6))*(P950+Q950*Tables!$C$6)*1.36136","v":0.143148637632},"Controlled OD (DR-13.5) Iron Pipe Size","ASTM F2969"]
[null,null,null,null,{"$f":"ROW()","v":951},"ABS","IPS (DR)",1,1,"200 psi   DR-13.5",13.5,200,1.3149999999999999,"OD",0.03,9.7000000000000003E-2,0.02,{"$f":"VLOOKUP(F951,Tables!$G$5:$H$14,2,FALSE)*(M951+(P951+Q951*Tables!$C$6))*(P951+Q951*Tables!$C$6)*1.36136","v":0.21749318791199998},"Controlled OD (DR-13.5) Iron Pipe Size","ASTM F2969"]
[null,null,null,null,{"$f":"ROW()","v":952},"ABS","IPS (DR)",1.25,"1 1/4","200 psi   DR-13.5",13.5,200,1.66,"OD",0.03,0.123,0.02,{"$f":"VLOOKUP(F952,Tables!$G$5:$H$14,2,FALSE)*(M952+(P952+Q952*Tables!$C$6))*(P952+Q952*Tables!$C$6)*1.36136","v":0.34087426573199997},"Controlled OD (DR-13.5) Iron Pipe Size","ASTM F2969"]
[null,null,null,null,{"$f":"ROW()","v":953},"ABS","IPS (DR)",1.5,"1 1/2","200 psi   DR-13.5",13.5,200,1.9,"OD",0.06,0.14099999999999999,0.02,{"$f":"VLOOKUP(F953,Tables!$G$5:$H$14,2,FALSE)*(M953+(P953+Q953*Tables!$C$6))*(P953+Q953*Tables!$C$6)*1.36136","v":0.44269528102799988},"Controlled OD (DR-13.5) Iron Pipe Size","ASTM F2969"]
[null,null,null,null,{"$f":"ROW()","v":954},"ABS","IPS (DR)",2,2,"200 psi   DR-13.5",13.5,200,2.375,"OD",0.06,0.17599999999999999,2.1000000000000001E-2,{"$f":"VLOOKUP(F954,Tables!$G$5:$H$14,2,FALSE)*(M954+(P954+Q954*Tables!$C$6))*(P954+Q954*Tables!$C$6)*1.36136","v":0.68286598680300004},"Controlled OD (DR-13.5) Iron Pipe Size","ASTM F2969"]
[null,null,null,null,{"$f":"ROW()","v":955},"ABS","IPS (DR)",3,3,"200 psi   DR-13.5",13.5,200,3.5,"OD",0.06,0.25900000000000001,3.1E-2,{"$f":"VLOOKUP(F955,Tables!$G$5:$H$14,2,FALSE)*(M955+(P955+Q955*Tables!$C$6))*(P955+Q955*Tables!$C$6)*1.36136","v":1.4810307081570002},"Controlled OD (DR-13.5) Iron Pipe Size","ASTM F2969"]
[null,null,null,null,{"$f":"ROW()","v":956},"ABS","IPS (DR)",4,4,"200 psi   DR-13.5",13.5,200,4.5,"OD",0.1,0.33300000000000002,0.04,{"$f":"VLOOKUP(F956,Tables!$G$5:$H$14,2,FALSE)*(M956+(P956+Q956*Tables!$C$6))*(P956+Q956*Tables!$C$6)*1.36136","v":2.4487659716520001},"Controlled OD (DR-13.5) Iron Pipe Size","ASTM F2969"]
[null,null,null,null,{"$f":"ROW()","v":957},"ABS","IPS (DR)",6,6,"200 psi   DR-13.5",13.5,200,6.625,"OD",0.1,0.49099999999999999,5.8999999999999997E-2,{"$f":"VLOOKUP(F957,Tables!$G$5:$H$14,2,FALSE)*(M957+(P957+Q957*Tables!$C$6))*(P957+Q957*Tables!$C$6)*1.36136","v":5.3163754313669997},"Controlled OD (DR-13.5) Iron Pipe Size","ASTM F2969"]
[null,null,null,null,{"$f":"ROW()","v":958},"ABS","IPS (DR)",0.125,"1/8","250 psi   DR-11",11,250,0.40500000000000003,"OD",1.4999999999999999E-2,0.06,0.02,{"$f":"VLOOKUP(F958,Tables!$G$5:$H$14,2,FALSE)*(M958+(P958+Q958*Tables!$C$6))*(P958+Q958*Tables!$C$6)*1.36136","v":4.7528480999999997E-2},"Controlled OD (DR-11) Iron Pipe Size","ASTM F2969"]
[null,null,null,null,{"$f":"ROW()","v":959},"ABS","IPS (DR)",0.25,"1/4","250 psi   DR-11",11,250,0.54,"OD",1.4999999999999999E-2,0.06,0.02,{"$f":"VLOOKUP(F959,Tables!$G$5:$H$14,2,FALSE)*(M959+(P959+Q959*Tables!$C$6))*(P959+Q959*Tables!$C$6)*1.36136","v":6.1036575599999983E-2},"Controlled OD (DR-11) Iron Pipe Size","ASTM F2969"]
[null,null,null,null,{"$f":"ROW()","v":960},"ABS","IPS (DR)",0.375,"3/8","250 psi   DR-11",11,250,0.67500000000000004,"OD",1.4999999999999999E-2,6.0999999999999999E-2,0.02,{"$f":"VLOOKUP(F960,Tables!$G$5:$H$14,2,FALSE)*(M960+(P960+Q960*Tables!$C$6))*(P960+Q960*Tables!$C$6)*1.36136","v":7.5711083447999983E-2},"Controlled OD (DR-11) Iron Pipe Size","ASTM F2969"]
[null,null,null,null,{"$f":"ROW()","v":961},"ABS","IPS (DR)",0.5,"1/2","250 psi   DR-11",11,250,0.84,"OD",0.03,7.5999999999999998E-2,0.02,{"$f":"VLOOKUP(F961,Tables!$G$5:$H$14,2,FALSE)*(M961+(P961+Q961*Tables!$C$6))*(P961+Q961*Tables!$C$6)*1.36136","v":0.11383392820799998},"Controlled OD (DR-11) Iron Pipe Size","ASTM F2969"]
[null,null,null,null,{"$f":"ROW()","v":962},"ABS","IPS (DR)",0.75,"3/4","250 psi   DR-11",11,250,1.05,"OD",0.03,9.5000000000000001E-2,0.02,{"$f":"VLOOKUP(F962,Tables!$G$5:$H$14,2,FALSE)*(M962+(P962+Q962*Tables!$C$6))*(P962+Q962*Tables!$C$6)*1.36136","v":0.17335388069999999},"Controlled OD (DR-11) Iron Pipe Size","ASTM F2969"]
[null,null,null,null,{"$f":"ROW()","v":963},"ABS","IPS (DR)",1,1,"250 psi   DR-11",11,250,1.3149999999999999,"OD",0.03,0.12,0.02,{"$f":"VLOOKUP(F963,Tables!$G$5:$H$14,2,FALSE)*(M963+(P963+Q963*Tables!$C$6))*(P963+Q963*Tables!$C$6)*1.36136","v":0.26851804979999999},"Controlled OD (DR-11) Iron Pipe Size","ASTM F2969"]
[null,null,null,null,{"$f":"ROW()","v":964},"ABS","IPS (DR)",1.25,"1 1/4","250 psi   DR-11",11,250,1.66,"OD",0.03,0.151,0.02,{"$f":"VLOOKUP(F964,Tables!$G$5:$H$14,2,FALSE)*(M964+(P964+Q964*Tables!$C$6))*(P964+Q964*Tables!$C$6)*1.36136","v":0.419081130468},"Controlled OD (DR-11) Iron Pipe Size","ASTM F2969"]
[null,null,null,null,{"$f":"ROW()","v":965},"ABS","IPS (DR)",1.5,"1 1/2","250 psi   DR-11",11,250,1.9,"OD",0.06,0.17299999999999999,2.1000000000000001E-2,{"$f":"VLOOKUP(F965,Tables!$G$5:$H$14,2,FALSE)*(M965+(P965+Q965*Tables!$C$6))*(P965+Q965*Tables!$C$6)*1.36136","v":0.5465021291729999},"Controlled OD (DR-11) Iron Pipe Size","ASTM F2969"]
[null,null,null,null,{"$f":"ROW()","v":966},"ABS","IPS (DR)",2,2,"250 psi   DR-11",11,250,2.375,"OD",0.06,0.216,2.5999999999999999E-2,{"$f":"VLOOKUP(F966,Tables!$G$5:$H$14,2,FALSE)*(M966+(P966+Q966*Tables!$C$6))*(P966+Q966*Tables!$C$6)*1.36136","v":0.8523907872480001},"Controlled OD (DR-11) Iron Pipe Size","ASTM F2969"]
[null,null,null,null,{"$f":"ROW()","v":967},"ABS","IPS (DR)",3,3,"250 psi   DR-11",11,250,3.5,"OD",0.06,0.318,3.9E-2,{"$f":"VLOOKUP(F967,Tables!$G$5:$H$14,2,FALSE)*(M967+(P967+Q967*Tables!$C$6))*(P967+Q967*Tables!$C$6)*1.36136","v":1.8513326081250001},"Controlled OD (DR-11) Iron Pipe Size","ASTM F2969"]
[null,null,null,null,{"$f":"ROW()","v":968},"ABS","IPS (DR)",4,4,"250 psi   DR-11",11,250,4.5,"OD",0.1,0.40899999999999997,4.9000000000000002E-2,{"$f":"VLOOKUP(F968,Tables!$G$5:$H$14,2,FALSE)*(M968+(P968+Q968*Tables!$C$6))*(P968+Q968*Tables!$C$6)*1.36136","v":3.0570779969730006},"Controlled OD (DR-11) Iron Pipe Size","ASTM F2969"]
[null,null,null,null,{"$f":"ROW()","v":969},"ABS","IPS (DR)",6,6,"250 psi   DR-11",11,250,6.625,"OD",0.1,0.60199999999999998,7.2999999999999995E-2,{"$f":"VLOOKUP(F969,Tables!$G$5:$H$14,2,FALSE)*(M969+(P969+Q969*Tables!$C$6))*(P969+Q969*Tables!$C$6)*1.36136","v":6.6293222025029985},"Controlled OD (DR-11) Iron Pipe Size","ASTM F2969"]
[null,null,null,null,{"$f":"ROW()","v":970},"ABS","IPS (DR)",0.125,"1/8","315 psi   DR-9",9,315,0.40500000000000003,"OD",1.4999999999999999E-2,4.4999999999999998E-2,0.02,{"$f":"VLOOKUP(F970,Tables!$G$5:$H$14,2,FALSE)*(M970+(P970+Q970*Tables!$C$6))*(P970+Q970*Tables!$C$6)*1.36136","v":3.61645284E-2},"Controlled OD (DR-9) Iron Pipe Size","ASTM F2969"]
[null,null,null,null,{"$f":"ROW()","v":971},"ABS","IPS (DR)",0.25,"1/4","315 psi   DR-9",9,315,0.54,"OD",1.4999999999999999E-2,0.06,0.02,{"$f":"VLOOKUP(F971,Tables!$G$5:$H$14,2,FALSE)*(M971+(P971+Q971*Tables!$C$6))*(P971+Q971*Tables!$C$6)*1.36136","v":6.1036575599999983E-2},"Controlled OD (DR-9) Iron Pipe Size","ASTM F2969"]
[null,null,null,null,{"$f":"ROW()","v":972},"ABS","IPS (DR)",0.375,"3/8","315 psi   DR-9",9,315,0.67500000000000004,"OD",1.4999999999999999E-2,7.4999999999999997E-2,2.5000000000000001E-2,{"$f":"VLOOKUP(F972,Tables!$G$5:$H$14,2,FALSE)*(M972+(P972+Q972*Tables!$C$6))*(P972+Q972*Tables!$C$6)*1.36136","v":9.5369649375000004E-2},"Controlled OD (DR-9) Iron Pipe Size","ASTM F2969"]
[null,null,null,null,{"$f":"ROW()","v":973},"ABS","IPS (DR)",0.5,"1/2","315 psi   DR-9",9,315,0.84,"OD",0.03,9.2999999999999999E-2,2.4E-2,{"$f":"VLOOKUP(F973,Tables!$G$5:$H$14,2,FALSE)*(M973+(P973+Q973*Tables!$C$6))*(P973+Q973*Tables!$C$6)*1.36136","v":0.14183499329999999},"Controlled OD (DR-9) Iron Pipe Size","ASTM F2969"]
[null,null,null,null,{"$f":"ROW()","v":974},"ABS","IPS (DR)",0.75,"3/4","315 psi   DR-9",9,315,1.05,"OD",0.03,0.11700000000000001,2.5000000000000001E-2,{"$f":"VLOOKUP(F974,Tables!$G$5:$H$14,2,FALSE)*(M974+(P974+Q974*Tables!$C$6))*(P974+Q974*Tables!$C$6)*1.36136","v":0.21833833721699997},"Controlled OD (DR-9) Iron Pipe Size","ASTM F2969"]
[null,null,null,null,{"$f":"ROW()","v":975},"ABS","IPS (DR)",1,1,"315 psi   DR-9",9,315,1.3149999999999999,"OD",0.03,0.14599999999999999,2.4E-2,{"$f":"VLOOKUP(F975,Tables!$G$5:$H$14,2,FALSE)*(M975+(P975+Q975*Tables!$C$6))*(P975+Q975*Tables!$C$6)*1.36136","v":0.33267649615199996},"Controlled OD (DR-9) Iron Pipe Size","ASTM F2969"]
[null,null,null,null,{"$f":"ROW()","v":976},"ABS","IPS (DR)",1.25,"1 1/4","315 psi   DR-9",9,315,1.66,"OD",0.03,0.184,2.4E-2,{"$f":"VLOOKUP(F976,Tables!$G$5:$H$14,2,FALSE)*(M976+(P976+Q976*Tables!$C$6))*(P976+Q976*Tables!$C$6)*1.36136","v":0.51999160012799994},"Controlled OD (DR-9) Iron Pipe Size","ASTM F2969"]
[null,null,null,null,{"$f":"ROW()","v":977},"ABS","IPS (DR)",1.5,"1 1/2","315 psi   DR-9",9,315,1.9,"OD",0.06,0.21099999999999999,2.5999999999999999E-2,{"$f":"VLOOKUP(F977,Tables!$G$5:$H$14,2,FALSE)*(M977+(P977+Q977*Tables!$C$6))*(P977+Q977*Tables!$C$6)*1.36136","v":0.6800875361280001},"Controlled OD (DR-9) Iron Pipe Size","ASTM F2969"]
[null,null,null,null,{"$f":"ROW()","v":978},"ABS","IPS (DR)",2,2,"315 psi   DR-9",9,315,2.375,"OD",0.06,0.26400000000000001,3.2000000000000001E-2,{"$f":"VLOOKUP(F978,Tables!$G$5:$H$14,2,FALSE)*(M978+(P978+Q978*Tables!$C$6))*(P978+Q978*Tables!$C$6)*1.36136","v":1.0626367752000001},"Controlled OD (DR-9) Iron Pipe Size","ASTM F2969"]
[null,null,null,null,{"$f":"ROW()","v":979},"ABS","IPS (DR)",3,3,"315 psi   DR-9",9,315,3.5,"OD",0.06,0.38900000000000001,4.8000000000000001E-2,{"$f":"VLOOKUP(F979,Tables!$G$5:$H$14,2,FALSE)*(M979+(P979+Q979*Tables!$C$6))*(P979+Q979*Tables!$C$6)*1.36136","v":2.3100542785320006},"Controlled OD (DR-9) Iron Pipe Size","ASTM F2969"]
[null,null,null,null,{"$f":"ROW()","v":980},"ABS","IPS (DR)",4,4,"315 psi   DR-9",9,315,4.5,"OD",0.1,0.5,0.06,{"$f":"VLOOKUP(F980,Tables!$G$5:$H$14,2,FALSE)*(M980+(P980+Q980*Tables!$C$6))*(P980+Q980*Tables!$C$6)*1.36136","v":3.8107121051999999},"Controlled OD (DR-9) Iron Pipe Size","ASTM F2969"]
[null,null,null,null,{"$f":"ROW()","v":981},"ABS","IPS (DR)",6,6,{"$f":"L981&\" psi   DR-\"&K981","v":"315 psi   DR-9"},9,315,6.625,"OD",0.1,0.73599999999999999,8.8999999999999996E-2,{"$f":"VLOOKUP(F981,Tables!$G$5:$H$14,2,FALSE)*(M981+(P981+Q981*Tables!$C$6))*(P981+Q981*Tables!$C$6)*1.36136","v":8.2620834766469997},{"$f":"\"Controlled OD (DR-\"&K981&\") Iron Pipe Size\"","v":"Controlled OD (DR-9) Iron Pipe Size"},"ASTM F2969"]
[null,null,null,1,{"$f":"ROW()","v":982},"Aluminum","PIP (Al. Irr. Pipe)",2,"2",{"$f":"L982&\" psi - WT = \"&K982","v":"150 psi - WT = 0.051"},5.0999999999999997E-2,150,2,"OD",null,5.0999999999999997E-2,null,{"$f":"VLOOKUP(F982,Tables!$G$5:$H$14,2,FALSE)*(M982-(P982+Q982*Tables!$C$6))*(P982+Q982*Tables!$C$6)*1.36136","v":0.36535812112800004},"Aluminum Irrigation Pipe - WT=0.051","ASTM B241"]
[null,null,null,null,{"$f":"ROW()","v":983},"Aluminum","PIP (Al. Irr. Pipe)",3,"3",{"$f":"L983&\" psi - WT = \"&K983","v":"150 psi - WT = 0.051"},5.0999999999999997E-2,150,3,"OD",null,5.0999999999999997E-2,null,{"$f":"VLOOKUP(F983,Tables!$G$5:$H$14,2,FALSE)*(M983-(P983+Q983*Tables!$C$6))*(P983+Q983*Tables!$C$6)*1.36136","v":0.55281739312799993},"Aluminum Irrigation Pipe - WT=0.051","ASTM B241"]
[null,null,null,null,{"$f":"ROW()","v":984},"Aluminum","PIP (Al. Irr. Pipe)",3,"3","150 psi - WT = 0.065",6.5000000000000002E-2,150,3,"OD",null,6.5000000000000002E-2,null,{"$f":"VLOOKUP(F984,Tables!$G$5:$H$14,2,FALSE)*(M984-(P984+Q984*Tables!$C$6))*(P984+Q984*Tables!$C$6)*1.36136","v":0.70122632579999999},"Aluminum Irrigation Pipe - WT=0.065","ASTM B241"]
[null,null,null,null,{"$f":"ROW()","v":985},"Aluminum","PIP (Al. Irr. Pipe)",4,"4","150 psi - WT = 0.051",5.0999999999999997E-2,150,4,"OD",null,5.0999999999999997E-2,null,{"$f":"VLOOKUP(F985,Tables!$G$5:$H$14,2,FALSE)*(M985-(P985+Q985*Tables!$C$6))*(P985+Q985*Tables!$C$6)*1.36136","v":0.74027666512799994},"Aluminum Irrigation Pipe - WT=0.051","ASTM B241"]
[null,null,null,null,{"$f":"ROW()","v":986},"Aluminum","PIP (Al. Irr. Pipe)",4,"4","150 psi - WT = 0.072",7.1999999999999995E-2,150,4,"OD",null,7.1999999999999995E-2,null,{"$f":"VLOOKUP(F986,Tables!$G$5:$H$14,2,FALSE)*(M986-(P986+Q986*Tables!$C$6))*(P986+Q986*Tables!$C$6)*1.36136","v":1.0395388523519999},"Aluminum Irrigation Pipe - WT=0.072","ASTM B241"]
[null,null,null,null,{"$f":"ROW()","v":987},"Aluminum","PIP (Al. Irr. Pipe)",5,"5","150 psi - WT = 0.051",5.0999999999999997E-2,150,5,"OD",null,5.0999999999999997E-2,null,{"$f":"VLOOKUP(F987,Tables!$G$5:$H$14,2,FALSE)*(M987-(P987+Q987*Tables!$C$6))*(P987+Q987*Tables!$C$6)*1.36136","v":0.92773593712800007},"Aluminum Irrigation Pipe - WT=0.051","ASTM B241"]
[null,null,null,null,{"$f":"ROW()","v":988},"Aluminum","PIP (Al. Irr. Pipe)",5,"5","150 psi - WT = 0.078",7.8E-2,150,5,"OD",null,7.8E-2,null,{"$f":"VLOOKUP(F988,Tables!$G$5:$H$14,2,FALSE)*(M988-(P988+Q988*Tables!$C$6))*(P988+Q988*Tables!$C$6)*1.36136","v":1.4111492915520001},"Aluminum Irrigation Pipe - WT=0.078","ASTM B241"]
[null,null,null,null,{"$f":"ROW()","v":989},"Aluminum","PIP (Al. Irr. Pipe)",5,"5","150 psi - WT = 0.105",0.105,150,5,"OD",null,0.105,null,{"$f":"VLOOKUP(F989,Tables!$G$5:$H$14,2,FALSE)*(M989-(P989+Q989*Tables!$C$6))*(P989+Q989*Tables!$C$6)*1.36136","v":1.8892035161999998},"Aluminum Irrigation Pipe - WT=0.105","ASTM B241"]
[null,null,null,null,{"$f":"ROW()","v":990},"Aluminum","PIP (Al. Irr. Pipe)",6,"6","125 psi - WT = 0.051",5.0999999999999997E-2,125,6,"OD",null,5.0999999999999997E-2,null,{"$f":"VLOOKUP(F990,Tables!$G$5:$H$14,2,FALSE)*(M990-(P990+Q990*Tables!$C$6))*(P990+Q990*Tables!$C$6)*1.36136","v":1.115195209128},"Aluminum Irrigation Pipe - WT=0.051","ASTM B241"]
[null,null,null,null,{"$f":"ROW()","v":991},"Aluminum","PIP (Al. Irr. Pipe)",6,"6","150 psi - WT = 0.058",5.8000000000000003E-2,150,6,"OD",null,5.8000000000000003E-2,null,{"$f":"VLOOKUP(F991,Tables!$G$5:$H$14,2,FALSE)*(M991-(P991+Q991*Tables!$C$6))*(P991+Q991*Tables!$C$6)*1.36136","v":1.2667688953920002},"Aluminum Irrigation Pipe - WT=0.058","ASTM B241"]
[null,null,null,null,{"$f":"ROW()","v":992},"Aluminum","PIP (Al. Irr. Pipe)",6,"6","150 psi - WT = 0.083",8.3000000000000004E-2,150,6,"OD",null,8.3000000000000004E-2,null,{"$f":"VLOOKUP(F992,Tables!$G$5:$H$14,2,FALSE)*(M992-(P992+Q992*Tables!$C$6))*(P992+Q992*Tables!$C$6)*1.36136","v":1.805162951592},"Aluminum Irrigation Pipe - WT=0.083","ASTM B241"]
[null,null,null,null,{"$f":"ROW()","v":993},"Aluminum","PIP (Al. Irr. Pipe)",7,"7","125 psi - WT = 0.06",0.06,125,7,"OD",null,0.06,null,{"$f":"VLOOKUP(F993,Tables!$G$5:$H$14,2,FALSE)*(M993-(P993+Q993*Tables!$C$6))*(P993+Q993*Tables!$C$6)*1.36136","v":1.5305498208000001},"Aluminum Irrigation Pipe - WT=0.06","ASTM B241"]
[null,null,null,null,{"$f":"ROW()","v":994},"Aluminum","PIP (Al. Irr. Pipe)",8,"8","80 psi - WT = 0.051",5.0999999999999997E-2,80,8,"OD",null,5.0999999999999997E-2,null,{"$f":"VLOOKUP(F994,Tables!$G$5:$H$14,2,FALSE)*(M994-(P994+Q994*Tables!$C$6))*(P994+Q994*Tables!$C$6)*1.36136","v":1.490113753128},"Aluminum Irrigation Pipe - WT=0.051","ASTM B241"]
[null,null,null,null,{"$f":"ROW()","v":995},"Aluminum","PIP (Al. Irr. Pipe)",8,"8","100 psi - WT = 0.064",6.4000000000000001E-2,100,8,"OD",null,6.4000000000000001E-2,null,{"$f":"VLOOKUP(F995,Tables!$G$5:$H$14,2,FALSE)*(M995-(P995+Q995*Tables!$C$6))*(P995+Q995*Tables!$C$6)*1.36136","v":1.8668885114880003},"Aluminum Irrigation Pipe - WT=0.064","ASTM B241"]
[null,null,null,null,{"$f":"ROW()","v":996},"Aluminum","PIP (Al. Irr. Pipe)",8,"8","125 psi - WT = 0.083",8.3000000000000004E-2,125,8,"OD",null,8.3000000000000004E-2,null,{"$f":"VLOOKUP(F996,Tables!$G$5:$H$14,2,FALSE)*(M996-(P996+Q996*Tables!$C$6))*(P996+Q996*Tables!$C$6)*1.36136","v":2.4153245035920001},"Aluminum Irrigation Pipe - WT=0.083","ASTM B241"]
[null,null,null,null,{"$f":"ROW()","v":997},"Aluminum","PIP (Al. Irr. Pipe)",8,"8","150 psi - WT = 0.094",9.4E-2,150,8,"OD",null,9.4E-2,null,{"$f":"VLOOKUP(F997,Tables!$G$5:$H$14,2,FALSE)*(M997-(P997+Q997*Tables!$C$6))*(P997+Q997*Tables!$C$6)*1.36136","v":2.7316271062079998},"Aluminum Irrigation Pipe - WT=0.094","ASTM B241"]
[null,null,null,null,{"$f":"ROW()","v":998},"Aluminum","PIP (Al. Irr. Pipe)",9,"9","80 psi - WT = 0.051",5.0999999999999997E-2,80,9,"OD",null,5.0999999999999997E-2,null,{"$f":"VLOOKUP(F998,Tables!$G$5:$H$14,2,FALSE)*(M998-(P998+Q998*Tables!$C$6))*(P998+Q998*Tables!$C$6)*1.36136","v":1.6775730251279999},"Aluminum Irrigation Pipe - WT=0.051","ASTM B241"]
[null,null,null,null,{"$f":"ROW()","v":999},"Aluminum","PIP (Al. Irr. Pipe)",9,"9","100 psi - WT = 0.064",6.4000000000000001E-2,100,9,"OD",null,6.4000000000000001E-2,null,{"$f":"VLOOKUP(F999,Tables!$G$5:$H$14,2,FALSE)*(M999-(P999+Q999*Tables!$C$6))*(P999+Q999*Tables!$C$6)*1.36136","v":2.1021315194880001},"Aluminum Irrigation Pipe - WT=0.064","ASTM B241"]
[null,null,null,null,{"$f":"ROW()","v":1000},"Aluminum","PIP (Al. Irr. Pipe)",10,"10","80 psi - WT = 0.064",6.4000000000000001E-2,80,10,"OD",null,6.4000000000000001E-2,null,{"$f":"VLOOKUP(F1000,Tables!$G$5:$H$14,2,FALSE)*(M1000-(P1000+Q1000*Tables!$C$6))*(P1000+Q1000*Tables!$C$6)*1.36136","v":2.337374527488},"Aluminum Irrigation Pipe - WT=0.064","ASTM B241"]
[null,null,null,null,{"$f":"ROW()","v":1001},"Aluminum","PIP (Al. Irr. Pipe)",10,"10","100 psi - WT = 0.083",8.3000000000000004E-2,100,10,"OD",null,8.3000000000000004E-2,null,{"$f":"VLOOKUP(F1001,Tables!$G$5:$H$14,2,FALSE)*(M1001-(P1001+Q1001*Tables!$C$6))*(P1001+Q1001*Tables!$C$6)*1.36136","v":3.0254860555919998},"Aluminum Irrigation Pipe - WT=0.083","ASTM B241"]
[null,null,null,null,{"$f":"ROW()","v":1002},"Aluminum","PIP (Al. Irr. Pipe)",10,"10","125 psi - WT = 0.094",9.4E-2,125,10,"OD",null,9.4E-2,null,{"$f":"VLOOKUP(F1002,Tables!$G$5:$H$14,2,FALSE)*(M1002-(P1002+Q1002*Tables!$C$6))*(P1002+Q1002*Tables!$C$6)*1.36136","v":3.4226534422079999},"Aluminum Irrigation Pipe - WT=0.094","ASTM B241"]
[null,null,null,null,{"$f":"ROW()","v":1003},"Aluminum","PIP (Al. Irr. Pipe)",12,"12","80 psi - WT = 0.064",6.4000000000000001E-2,80,12,"OD",null,6.4000000000000001E-2,null,{"$f":"VLOOKUP(F1003,Tables!$G$5:$H$14,2,FALSE)*(M1003-(P1003+Q1003*Tables!$C$6))*(P1003+Q1003*Tables!$C$6)*1.36136","v":2.8078605434880002},"Aluminum Irrigation Pipe - WT=0.064","ASTM B241"]
[null,null,null,null,{"$f":"ROW()","v":1004},"Aluminum","PIP (Al. Irr. Pipe)",12,"12","100 psi - WT = 0.094",9.4E-2,100,12,"OD",null,9.4E-2,null,{"$f":"VLOOKUP(F1004,Tables!$G$5:$H$14,2,FALSE)*(M1004-(P1004+Q1004*Tables!$C$6))*(P1004+Q1004*Tables!$C$6)*1.36136","v":4.1136797782079997},"Aluminum Irrigation Pipe - WT=0.094","ASTM B241"]
[null,null,null,1,{"$f":"ROW()","v":1005},"Steel","IPS (SCH)",0.125,"1/8",{"$f":"\" \"&IF(L1005>1000,\"> 1000 \",L1005)&\" psi - \"&G1005&\" \"&K1005","v":" 300 psi - IPS (SCH) 5"},5,300,0.40500000000000003,"OD",null,3.5000000000000003E-2,null,{"$f":"VLOOKUP(F1005,Tables!$G$5:$H$14,2,FALSE)*(M1005-(P1005+Q1005*Tables!$C$6))*(P1005+Q1005*Tables!$C$6)*1.36136","v":0.13821615808000001},{"$f":"\"Controlled OD (SCH \"&K1005&\") Schedule Pipe\"","v":"Controlled OD (SCH 5) Schedule Pipe"},"ASTM A53"]
[null,null,null,null,{"$f":"ROW()","v":1006},"Steel","IPS (SCH)",0.25,"1/4",{"$f":"\" \"&IF(L1006>1000,\"> 1000 \",L1006)&\" psi - \"&G1006&\" \"&K1006","v":" 300 psi - IPS (SCH) 5"},5,300,0.54,"OD",null,4.9000000000000002E-2,null,{"$f":"VLOOKUP(F1006,Tables!$G$5:$H$14,2,FALSE)*(M1006-(P1006+Q1006*Tables!$C$6))*(P1006+Q1006*Tables!$C$6)*1.36136","v":0.25678320828160001},{"$f":"\"Controlled OD (SCH \"&K1006&\") Schedule Pipe\"","v":"Controlled OD (SCH 5) Schedule Pipe"},"ASTM A53"]
[null,null,null,null,{"$f":"ROW()","v":1007},"Steel","IPS (SCH)",0.375,"3/8"," 300 psi - IPS (SCH) 5",5,300,0.67500000000000004,"OD",null,4.9000000000000002E-2,null,{"$f":"VLOOKUP(F1007,Tables!$G$5:$H$14,2,FALSE)*(M1007-(P1007+Q1007*Tables!$C$6))*(P1007+Q1007*Tables!$C$6)*1.36136","v":0.32738551605760002},"Controlled OD (SCH 5) Schedule Pipe","ASTM A53"]
[null,null,null,null,{"$f":"ROW()","v":1008},"Steel","IPS (SCH)",0.5,"1/2"," 400 psi - IPS (SCH) 5",5,400,0.84,"OD",null,6.5000000000000002E-2,null,{"$f":"VLOOKUP(F1008,Tables!$G$5:$H$14,2,FALSE)*(M1008-(P1008+Q1008*Tables!$C$6))*(P1008+Q1008*Tables!$C$6)*1.36136","v":0.53765551840000003},"Controlled OD (SCH 5) Schedule Pipe","ASTM A53"]
[null,null,null,null,{"$f":"ROW()","v":1009},"Steel","IPS (SCH)",0.75,"3/4"," 400 psi - IPS (SCH) 5",5,400,1.05,"OD",null,6.5000000000000002E-2,null,{"$f":"VLOOKUP(F1009,Tables!$G$5:$H$14,2,FALSE)*(M1009-(P1009+Q1009*Tables!$C$6))*(P1009+Q1009*Tables!$C$6)*1.36136","v":0.68334282016000003},"Controlled OD (SCH 5) Schedule Pipe","ASTM A53"]
[null,null,null,null,{"$f":"ROW()","v":1010},"Steel","IPS (SCH)",1,"1"," 400 psi - IPS (SCH) 5",5,400,1.3149999999999999,"OD",null,6.5000000000000002E-2,null,{"$f":"VLOOKUP(F1010,Tables!$G$5:$H$14,2,FALSE)*(M1010-(P1010+Q1010*Tables!$C$6))*(P1010+Q1010*Tables!$C$6)*1.36136","v":0.86718632000000007},"Controlled OD (SCH 5) Schedule Pipe","ASTM A53"]
[null,null,null,null,{"$f":"ROW()","v":1011},"Steel","IPS (SCH)",1.25,"1 1/4"," 500 psi - IPS (SCH) 5",5,500,1.66,"OD",null,6.5000000000000002E-2,null,{"$f":"VLOOKUP(F1011,Tables!$G$5:$H$14,2,FALSE)*(M1011-(P1011+Q1011*Tables!$C$6))*(P1011+Q1011*Tables!$C$6)*1.36136","v":1.10652974432},"Controlled OD (SCH 5) Schedule Pipe","ASTM A53"]
[null,null,null,null,{"$f":"ROW()","v":1012},"Steel","IPS (SCH)",1.5,"1 1/2"," 500 psi - IPS (SCH) 5",5,500,1.9,"OD",null,6.5000000000000002E-2,null,{"$f":"VLOOKUP(F1012,Tables!$G$5:$H$14,2,FALSE)*(M1012-(P1012+Q1012*Tables!$C$6))*(P1012+Q1012*Tables!$C$6)*1.36136","v":1.27302951776},"Controlled OD (SCH 5) Schedule Pipe","ASTM A53"]
[null,null,null,null,{"$f":"ROW()","v":1013},"Steel","IPS (SCH)",2,"2"," 900 psi - IPS (SCH) 5",5,900,2.375,"OD",null,6.5000000000000002E-2,null,{"$f":"VLOOKUP(F1013,Tables!$G$5:$H$14,2,FALSE)*(M1013-(P1013+Q1013*Tables!$C$6))*(P1013+Q1013*Tables!$C$6)*1.36136","v":1.60256031936},"Controlled OD (SCH 5) Schedule Pipe","ASTM A53"]
[null,null,null,null,{"$f":"ROW()","v":1014},"Steel","IPS (SCH)",2.5,"2 1/2"," 900 psi - IPS (SCH) 5",5,900,2.875,"OD",null,8.3000000000000004E-2,null,{"$f":"VLOOKUP(F1014,Tables!$G$5:$H$14,2,FALSE)*(M1014-(P1014+Q1014*Tables!$C$6))*(P1014+Q1014*Tables!$C$6)*1.36136","v":2.4733327883263998},"Controlled OD (SCH 5) Schedule Pipe","ASTM A53"]
[null,null,null,null,{"$f":"ROW()","v":1015},"Steel","IPS (SCH)",3,"3"," 900 psi - IPS (SCH) 5",5,900,3.5,"OD",null,8.3000000000000004E-2,null,{"$f":"VLOOKUP(F1015,Tables!$G$5:$H$14,2,FALSE)*(M1015-(P1015+Q1015*Tables!$C$6))*(P1015+Q1015*Tables!$C$6)*1.36136","v":3.0269979003263998},"Controlled OD (SCH 5) Schedule Pipe","ASTM A53"]
[null,null,null,null,{"$f":"ROW()","v":1016},"Steel","IPS (SCH)",3.5,"3 1/2"," 700 psi - IPS (SCH) 5",5,700,4,"OD",null,8.3000000000000004E-2,null,{"$f":"VLOOKUP(F1016,Tables!$G$5:$H$14,2,FALSE)*(M1016-(P1016+Q1016*Tables!$C$6))*(P1016+Q1016*Tables!$C$6)*1.36136","v":3.4699299899264},"Controlled OD (SCH 5) Schedule Pipe","ASTM A53"]
[null,null,null,null,{"$f":"ROW()","v":1017},"Steel","IPS (SCH)",4,"4"," 600 psi - IPS (SCH) 5",5,600,4.5,"OD",null,8.3000000000000004E-2,null,{"$f":"VLOOKUP(F1017,Tables!$G$5:$H$14,2,FALSE)*(M1017-(P1017+Q1017*Tables!$C$6))*(P1017+Q1017*Tables!$C$6)*1.36136","v":3.9128620795263998},"Controlled OD (SCH 5) Schedule Pipe","ASTM A53"]
[null,null,null,null,{"$f":"ROW()","v":1018},"Steel","IPS (SCH)",5,"5"," 600 psi - IPS (SCH) 5",5,600,5.5629999999999997,"OD",null,0.109,null,{"$f":"VLOOKUP(F1018,Tables!$G$5:$H$14,2,FALSE)*(M1018-(P1018+Q1018*Tables!$C$6))*(P1018+Q1018*Tables!$C$6)*1.36136","v":6.3449861739263991},"Controlled OD (SCH 5) Schedule Pipe","ASTM A53"]
[null,null,null,null,{"$f":"ROW()","v":1019},"Steel","IPS (SCH)",6,"6"," 500 psi - IPS (SCH) 5",5,500,6.625,"OD",null,0.109,null,{"$f":"VLOOKUP(F1019,Tables!$G$5:$H$14,2,FALSE)*(M1019-(P1019+Q1019*Tables!$C$6))*(P1019+Q1019*Tables!$C$6)*1.36136","v":7.5804785312255998},"Controlled OD (SCH 5) Schedule Pipe","ASTM A53"]
[null,null,null,null,{"$f":"ROW()","v":1020},"Steel","IPS (SCH)",8,"8"," 400 psi - IPS (SCH) 5",5,400,8.625,"OD",null,0.109,null,{"$f":"VLOOKUP(F1020,Tables!$G$5:$H$14,2,FALSE)*(M1020-(P1020+Q1020*Tables!$C$6))*(P1020+Q1020*Tables!$C$6)*1.36136","v":9.9072061344255982},"Controlled OD (SCH 5) Schedule Pipe","ASTM A53"]
[null,null,null,null,{"$f":"ROW()","v":1021},"Steel","IPS (SCH)",10,"10"," 400 psi - IPS (SCH) 5",5,400,10.75,"OD",null,0.13400000000000001,null,{"$f":"VLOOKUP(F1021,Tables!$G$5:$H$14,2,FALSE)*(M1021-(P1021+Q1021*Tables!$C$6))*(P1021+Q1021*Tables!$C$6)*1.36136","v":15.182900878745599},"Controlled OD (SCH 5) Schedule Pipe","ASTM A53"]
[null,null,null,null,{"$f":"ROW()","v":1022},"Steel","IPS (SCH)",12,"12"," 400 psi - IPS (SCH) 5",5,400,12.75,"OD",null,0.156,null,{"$f":"VLOOKUP(F1022,Tables!$G$5:$H$14,2,FALSE)*(M1022-(P1022+Q1022*Tables!$C$6))*(P1022+Q1022*Tables!$C$6)*1.36136","v":20.968981467033597},"Controlled OD (SCH 5) Schedule Pipe","ASTM A53"]
[null,null,null,null,{"$f":"ROW()","v":1023},"Steel","IPS (SCH)",14,"14"," 400 psi - IPS (SCH) 5",5,400,14,"OD",null,0.156,null,{"$f":"VLOOKUP(F1023,Tables!$G$5:$H$14,2,FALSE)*(M1023-(P1023+Q1023*Tables!$C$6))*(P1023+Q1023*Tables!$C$6)*1.36136","v":23.050228635033594},"Controlled OD (SCH 5) Schedule Pipe","ASTM A53"]
[null,null,null,null,{"$f":"ROW()","v":1024},"Steel","IPS (SCH)",16,"16"," 400 psi - IPS (SCH) 5",5,400,16,"OD",null,0.16500000000000001,null,{"$f":"VLOOKUP(F1024,Tables!$G$5:$H$14,2,FALSE)*(M1024-(P1024+Q1024*Tables!$C$6))*(P1024+Q1024*Tables!$C$6)*1.36136","v":27.886310612160003},"Controlled OD (SCH 5) Schedule Pipe","ASTM A53"]
[null,null,null,null,{"$f":"ROW()","v":1025},"Steel","IPS (SCH)",18,"18"," 200 psi - IPS (SCH) 5",5,200,18,"OD",null,0.16500000000000001,null,{"$f":"VLOOKUP(F1025,Tables!$G$5:$H$14,2,FALSE)*(M1025-(P1025+Q1025*Tables!$C$6))*(P1025+Q1025*Tables!$C$6)*1.36136","v":31.40842120416},"Controlled OD (SCH 5) Schedule Pipe","ASTM A53"]
[null,null,null,null,{"$f":"ROW()","v":1026},"Steel","IPS (SCH)",20,"20"," 200 psi - IPS (SCH) 5",5,200,20,"OD",null,0.188,null,{"$f":"VLOOKUP(F1026,Tables!$G$5:$H$14,2,FALSE)*(M1026-(P1026+Q1026*Tables!$C$6))*(P1026+Q1026*Tables!$C$6)*1.36136","v":39.753485906534401},"Controlled OD (SCH 5) Schedule Pipe","ASTM A53"]
[null,null,null,null,{"$f":"ROW()","v":1027},"Steel","IPS (SCH)",24,"24"," 200 psi - IPS (SCH) 5",5,200,24,"OD",null,0.218,null,{"$f":"VLOOKUP(F1027,Tables!$G$5:$H$14,2,FALSE)*(M1027-(P1027+Q1027*Tables!$C$6))*(P1027+Q1027*Tables!$C$6)*1.36136","v":55.334235859302389},"Controlled OD (SCH 5) Schedule Pipe","ASTM A53"]
[null,null,null,null,{"$f":"ROW()","v":1028},"Steel","IPS (SCH)",30,"30"," 200 psi - IPS (SCH) 5",5,200,30,"OD",null,0.25,null,{"$f":"VLOOKUP(F1028,Tables!$G$5:$H$14,2,FALSE)*(M1028-(P1028+Q1028*Tables!$C$6))*(P1028+Q1028*Tables!$C$6)*1.36136","v":79.380901600000001},"Controlled OD (SCH 5) Schedule Pipe","ASTM A53"]
[null,null,null,null,{"$f":"ROW()","v":1029},"Steel","IPS (SCH)",0.125,"1/8"," 500 psi - IPS (SCH) 10",10,500,0.40500000000000003,"OD",null,4.9000000000000002E-2,null,{"$f":"VLOOKUP(F1029,Tables!$G$5:$H$14,2,FALSE)*(M1029-(P1029+Q1029*Tables!$C$6))*(P1029+Q1029*Tables!$C$6)*1.36136","v":0.18618090050560002},"Controlled OD (SCH 10) Schedule Pipe","ASTM A53"]
[null,null,null,null,{"$f":"ROW()","v":1030},"Steel","IPS (SCH)",0.25,"1/4"," 500 psi - IPS (SCH) 10",10,500,0.54,"OD",null,6.5000000000000002E-2,null,{"$f":"VLOOKUP(F1030,Tables!$G$5:$H$14,2,FALSE)*(M1030-(P1030+Q1030*Tables!$C$6))*(P1030+Q1030*Tables!$C$6)*1.36136","v":0.32953080160000003},"Controlled OD (SCH 10) Schedule Pipe","ASTM A53"]
[null,null,null,null,{"$f":"ROW()","v":1031},"Steel","IPS (SCH)",0.375,"3/8"," 500 psi - IPS (SCH) 10",10,500,0.67500000000000004,"OD",null,6.5000000000000002E-2,null,{"$f":"VLOOKUP(F1031,Tables!$G$5:$H$14,2,FALSE)*(M1031-(P1031+Q1031*Tables!$C$6))*(P1031+Q1031*Tables!$C$6)*1.36136","v":0.42318692416000009},"Controlled OD (SCH 10) Schedule Pipe","ASTM A53"]
[null,null,null,null,{"$f":"ROW()","v":1032},"Steel","IPS (SCH)",0.5,"1/2"," 500 psi - IPS (SCH) 10",10,500,0.84,"OD",null,8.3000000000000004E-2,null,{"$f":"VLOOKUP(F1032,Tables!$G$5:$H$14,2,FALSE)*(M1032-(P1032+Q1032*Tables!$C$6))*(P1032+Q1032*Tables!$C$6)*1.36136","v":0.67059918365439997},"Controlled OD (SCH 10) Schedule Pipe","ASTM A53"]
[null,null,null,null,{"$f":"ROW()","v":1033},"Steel","IPS (SCH)",0.75,"3/4"," 500 psi - IPS (SCH) 10",10,500,1.05,"OD",null,8.3000000000000004E-2,null,{"$f":"VLOOKUP(F1033,Tables!$G$5:$H$14,2,FALSE)*(M1033-(P1033+Q1033*Tables!$C$6))*(P1033+Q1033*Tables!$C$6)*1.36136","v":0.85663066128640009},"Controlled OD (SCH 10) Schedule Pipe","ASTM A53"]
[null,null,null,null,{"$f":"ROW()","v":1034},"Steel","IPS (SCH)",1,"1",{"$f":"IF(L1034>1000,\"> 1000 \",L1034)&\" psi - \"&G1034&\" \"&K1034","v":"1000 psi - IPS (SCH) 10"},10,1000,1.3149999999999999,"OD",null,0.109,null,{"$f":"VLOOKUP(F1034,Tables!$G$5:$H$14,2,FALSE)*(M1034-(P1034+Q1034*Tables!$C$6))*(P1034+Q1034*Tables!$C$6)*1.36136","v":1.4030167447296},"Controlled OD (SCH 10) Schedule Pipe","ASTM A53"]
[null,null,null,null,{"$f":"ROW()","v":1035},"Steel","IPS (SCH)",1.25,"1 1/4",{"$f":"\" \"&IF(L1035>1000,\"> 1000 \",L1035)&\" psi - \"&G1035&\" \"&K1035","v":" 1000 psi - IPS (SCH) 10"},10,1000,1.66,"OD",null,0.109,null,{"$f":"VLOOKUP(F1035,Tables!$G$5:$H$14,2,FALSE)*(M1035-(P1035+Q1035*Tables!$C$6))*(P1035+Q1035*Tables!$C$6)*1.36136","v":1.8043772562815996},"Controlled OD (SCH 10) Schedule Pipe","ASTM A53"]
[null,null,null,null,{"$f":"ROW()","v":1036},"Steel","IPS (SCH)",1.5,"1 1/2"," 1000 psi - IPS (SCH) 10",10,1000,1.9,"OD",null,0.109,null,{"$f":"VLOOKUP(F1036,Tables!$G$5:$H$14,2,FALSE)*(M1036-(P1036+Q1036*Tables!$C$6))*(P1036+Q1036*Tables!$C$6)*1.36136","v":2.0835845686655996},"Controlled OD (SCH 10) Schedule Pipe","ASTM A53"]
[null,null,null,null,{"$f":"ROW()","v":1037},"Steel","IPS (SCH)",2,"2","> 1000  psi - IPS (SCH) 10",10,1500,2.375,"OD",null,0.109,null,{"$f":"VLOOKUP(F1037,Tables!$G$5:$H$14,2,FALSE)*(M1037-(P1037+Q1037*Tables!$C$6))*(P1037+Q1037*Tables!$C$6)*1.36136","v":2.6361823744255997},"Controlled OD (SCH 10) Schedule Pipe","ASTM A53"]
[null,null,null,null,{"$f":"ROW()","v":1038},"Steel","IPS (SCH)",2.5,"2 1/2","> 1000  psi - IPS (SCH) 10",10,1400,2.875,"OD",null,0.12,null,{"$f":"VLOOKUP(F1038,Tables!$G$5:$H$14,2,FALSE)*(M1038-(P1038+Q1038*Tables!$C$6))*(P1038+Q1038*Tables!$C$6)*1.36136","v":3.5285144294399999},"Controlled OD (SCH 10) Schedule Pipe","ASTM A53"]
[null,null,null,null,{"$f":"ROW()","v":1039},"Steel","IPS (SCH)",3,"3","> 1000  psi - IPS (SCH) 10",10,1200,3.5,"OD",null,0.12,null,{"$f":"VLOOKUP(F1039,Tables!$G$5:$H$14,2,FALSE)*(M1039-(P1039+Q1039*Tables!$C$6))*(P1039+Q1039*Tables!$C$6)*1.36136","v":4.3289941094399991},"Controlled OD (SCH 10) Schedule Pipe","ASTM A53"]
[null,null,null,null,{"$f":"ROW()","v":1040},"Steel","IPS (SCH)",3.5,"3 1/2","> 1000  psi - IPS (SCH) 10",10,1100,4,"OD",null,0.12,null,{"$f":"VLOOKUP(F1040,Tables!$G$5:$H$14,2,FALSE)*(M1040-(P1040+Q1040*Tables!$C$6))*(P1040+Q1040*Tables!$C$6)*1.36136","v":4.9693778534399993},"Controlled OD (SCH 10) Schedule Pipe","ASTM A53"]
[null,null,null,null,{"$f":"ROW()","v":1041},"Steel","IPS (SCH)",4,"4","1000 psi - IPS (SCH) 10",10,1000,4.5,"OD",null,0.12,null,{"$f":"VLOOKUP(F1041,Tables!$G$5:$H$14,2,FALSE)*(M1041-(P1041+Q1041*Tables!$C$6))*(P1041+Q1041*Tables!$C$6)*1.36136","v":5.6097615974399995},"Controlled OD (SCH 10) Schedule Pipe","ASTM A53"]
[null,null,null,null,{"$f":"ROW()","v":1042},"Steel","IPS (SCH)",5,"5",{"$f":"\" \"&IF(L1042>1000,\"> 1000 \",L1042)&\" psi - \"&G1042&\" \"&K1042","v":" 800 psi - IPS (SCH) 10"},10,800,5.5629999999999997,"OD",null,0.13400000000000001,null,{"$f":"VLOOKUP(F1042,Tables!$G$5:$H$14,2,FALSE)*(M1042-(P1042+Q1042*Tables!$C$6))*(P1042+Q1042*Tables!$C$6)*1.36136","v":7.7645034731263989},"Controlled OD (SCH 10) Schedule Pipe","ASTM A53"]
[null,null,null,null,{"$f":"ROW()","v":1043},"Steel","IPS (SCH)",6,"6"," 700 psi - IPS (SCH) 10",10,700,6.625,"OD",null,0.13400000000000001,null,{"$f":"VLOOKUP(F1043,Tables!$G$5:$H$14,2,FALSE)*(M1043-(P1043+Q1043*Tables!$C$6))*(P1043+Q1043*Tables!$C$6)*1.36136","v":9.2833656371455984},"Controlled OD (SCH 10) Schedule Pipe","ASTM A53"]
[null,null,null,null,{"$f":"ROW()","v":1044},"Steel","IPS (SCH)",8,"8"," 600 psi - IPS (SCH) 10",10,600,8.625,"OD",null,0.14799999999999999,null,{"$f":"VLOOKUP(F1044,Tables!$G$5:$H$14,2,FALSE)*(M1044-(P1044+Q1044*Tables!$C$6))*(P1044+Q1044*Tables!$C$6)*1.36136","v":13.390381394790401},"Controlled OD (SCH 10) Schedule Pipe","ASTM A53"]
[null,null,null,null,{"$f":"ROW()","v":1045},"Steel","IPS (SCH)",10,"10"," 500 psi - IPS (SCH) 10",10,500,10.75,"OD",null,0.16500000000000001,null,{"$f":"VLOOKUP(F1045,Tables!$G$5:$H$14,2,FALSE)*(M1045-(P1045+Q1045*Tables!$C$6))*(P1045+Q1045*Tables!$C$6)*1.36136","v":18.64077030816},"Controlled OD (SCH 10) Schedule Pipe","ASTM A53"]
[null,null,null,null,{"$f":"ROW()","v":1046},"Steel","IPS (SCH)",12,"12"," 500 psi - IPS (SCH) 10",10,500,12.75,"OD",null,0.18,null,{"$f":"VLOOKUP(F1046,Tables!$G$5:$H$14,2,FALSE)*(M1046-(P1046+Q1046*Tables!$C$6))*(P1046+Q1046*Tables!$C$6)*1.36136","v":24.148870986239999},"Controlled OD (SCH 10) Schedule Pipe","ASTM A53"]
[null,null,null,null,{"$f":"ROW()","v":1047},"Steel","IPS (SCH)",14,"14"," 500 psi - IPS (SCH) 10",10,500,14,"OD",null,0.25,null,{"$f":"VLOOKUP(F1047,Tables!$G$5:$H$14,2,FALSE)*(M1047-(P1047+Q1047*Tables!$C$6))*(P1047+Q1047*Tables!$C$6)*1.36136","v":36.688651999999998},"Controlled OD (SCH 10) Schedule Pipe","ASTM A53"]
[null,null,null,null,{"$f":"ROW()","v":1048},"Steel","IPS (SCH)",16,"16"," 500 psi - IPS (SCH) 10",10,500,16,"OD",null,0.25,null,{"$f":"VLOOKUP(F1048,Tables!$G$5:$H$14,2,FALSE)*(M1048-(P1048+Q1048*Tables!$C$6))*(P1048+Q1048*Tables!$C$6)*1.36136","v":42.025183200000001},"Controlled OD (SCH 10) Schedule Pipe","ASTM A53"]
[null,null,null,null,{"$f":"ROW()","v":1049},"Steel","IPS (SCH)",18,"18"," 500 psi - IPS (SCH) 10",10,500,18,"OD",null,0.25,null,{"$f":"VLOOKUP(F1049,Tables!$G$5:$H$14,2,FALSE)*(M1049-(P1049+Q1049*Tables!$C$6))*(P1049+Q1049*Tables!$C$6)*1.36136","v":47.361714399999997},"Controlled OD (SCH 10) Schedule Pipe","ASTM A53"]
[null,null,null,null,{"$f":"ROW()","v":1050},"Steel","IPS (SCH)",20,"20"," 400 psi - IPS (SCH) 10",10,400,20,"OD",null,0.25,null,{"$f":"VLOOKUP(F1050,Tables!$G$5:$H$14,2,FALSE)*(M1050-(P1050+Q1050*Tables!$C$6))*(P1050+Q1050*Tables!$C$6)*1.36136","v":52.6982456},"Controlled OD (SCH 10) Schedule Pipe","ASTM A53"]
[null,null,null,null,{"$f":"ROW()","v":1051},"Steel","IPS (SCH)",24,"24"," 400 psi - IPS (SCH) 10",10,400,24,"OD",null,0.25,null,{"$f":"VLOOKUP(F1051,Tables!$G$5:$H$14,2,FALSE)*(M1051-(P1051+Q1051*Tables!$C$6))*(P1051+Q1051*Tables!$C$6)*1.36136","v":63.371307999999992},"Controlled OD (SCH 10) Schedule Pipe","ASTM A53"]
[null,null,null,null,{"$f":"ROW()","v":1052},"Steel","IPS (SCH)",26,"26"," 400 psi - IPS (SCH) 10",10,400,26,"OD",null,0.312,null,{"$f":"VLOOKUP(F1052,Tables!$G$5:$H$14,2,FALSE)*(M1052-(P1052+Q1052*Tables!$C$6))*(P1052+Q1052*Tables!$C$6)*1.36136","v":85.540923602534392},"Controlled OD (SCH 10) Schedule Pipe","ASTM A53"]
[null,null,null,null,{"$f":"ROW()","v":1053},"Steel","IPS (SCH)",28,"28"," 300 psi - IPS (SCH) 10",10,300,28,"OD",null,0.312,null,{"$f":"VLOOKUP(F1053,Tables!$G$5:$H$14,2,FALSE)*(M1053-(P1053+Q1053*Tables!$C$6))*(P1053+Q1053*Tables!$C$6)*1.36136","v":92.200914540134377},"Controlled OD (SCH 10) Schedule Pipe","ASTM A53"]
[null,null,null,null,{"$f":"ROW()","v":1054},"Steel","IPS (SCH)",30,"30"," 300 psi - IPS (SCH) 10",10,300,30,"OD",null,0.312,null,{"$f":"VLOOKUP(F1054,Tables!$G$5:$H$14,2,FALSE)*(M1054-(P1054+Q1054*Tables!$C$6))*(P1054+Q1054*Tables!$C$6)*1.36136","v":98.860905477734391},"Controlled OD (SCH 10) Schedule Pipe","ASTM A53"]
[null,null,null,null,{"$f":"ROW()","v":1055},"Steel","IPS (SCH)",32,"32"," 200 psi - IPS (SCH) 10",10,200,32,"OD",null,0.312,null,{"$f":"VLOOKUP(F1055,Tables!$G$5:$H$14,2,FALSE)*(M1055-(P1055+Q1055*Tables!$C$6))*(P1055+Q1055*Tables!$C$6)*1.36136","v":105.52089641533439},"Controlled OD (SCH 10) Schedule Pipe","ASTM A53"]
[null,null,null,null,{"$f":"ROW()","v":1056},"Steel","IPS (SCH)",34,"34"," 300 psi - IPS (SCH) 10",10,300,34,"OD",null,0.34399999999999997,null,{"$f":"VLOOKUP(F1056,Tables!$G$5:$H$14,2,FALSE)*(M1056-(P1056+Q1056*Tables!$C$6))*(P1056+Q1056*Tables!$C$6)*1.36136","v":123.56913031823359},"Controlled OD (SCH 10) Schedule Pipe","ASTM A53"]
[null,null,null,null,{"$f":"ROW()","v":1057},"Steel","IPS (SCH)",36,"36"," 200 psi - IPS (SCH) 10",10,200,36,"OD",null,0.312,null,{"$f":"VLOOKUP(F1057,Tables!$G$5:$H$14,2,FALSE)*(M1057-(P1057+Q1057*Tables!$C$6))*(P1057+Q1057*Tables!$C$6)*1.36136","v":118.84087829053441},"Controlled OD (SCH 10) Schedule Pipe","ASTM A53"]
[null,null,null,null,{"$f":"ROW()","v":1058},"Steel","IPS (SCH)",8,"8","1000 psi - IPS (SCH) 20",20,1000,8.625,"OD",null,0.25,null,{"$f":"VLOOKUP(F1058,Tables!$G$5:$H$14,2,FALSE)*(M1058-(P1058+Q1058*Tables!$C$6))*(P1058+Q1058*Tables!$C$6)*1.36136","v":22.346724399999996},"Controlled OD (SCH 20) Schedule Pipe","ASTM A53"]
[null,null,null,null,{"$f":"ROW()","v":1059},"Steel","IPS (SCH)",10,"10",{"$f":"\" \"&IF(L1059>1000,\"> 1000 \",L1059)&\" psi - \"&G1059&\" \"&K1059","v":" 800 psi - IPS (SCH) 20"},20,800,10.75,"OD",null,0.25,null,{"$f":"VLOOKUP(F1059,Tables!$G$5:$H$14,2,FALSE)*(M1059-(P1059+Q1059*Tables!$C$6))*(P1059+Q1059*Tables!$C$6)*1.36136","v":28.016788799999997},"Controlled OD (SCH 20) Schedule Pipe","ASTM A53"]
[null,null,null,null,{"$f":"ROW()","v":1060},"Steel","IPS (SCH)",12,"12"," 800 psi - IPS (SCH) 20",20,800,12.75,"OD",null,0.25,null,{"$f":"VLOOKUP(F1060,Tables!$G$5:$H$14,2,FALSE)*(M1060-(P1060+Q1060*Tables!$C$6))*(P1060+Q1060*Tables!$C$6)*1.36136","v":33.353319999999997},"Controlled OD (SCH 20) Schedule Pipe","ASTM A53"]
[null,null,null,null,{"$f":"ROW()","v":1061},"Steel","IPS (SCH)",14,"14"," 800 psi - IPS (SCH) 20",20,800,14,"OD",null,0.312,null,{"$f":"VLOOKUP(F1061,Tables!$G$5:$H$14,2,FALSE)*(M1061-(P1061+Q1061*Tables!$C$6))*(P1061+Q1061*Tables!$C$6)*1.36136","v":45.580977976934392},"Controlled OD (SCH 20) Schedule Pipe","ASTM A53"]
[null,null,null,null,{"$f":"ROW()","v":1062},"Steel","IPS (SCH)",16,"16"," 700 psi - IPS (SCH) 20",20,700,16,"OD",null,0.312,null,{"$f":"VLOOKUP(F1062,Tables!$G$5:$H$14,2,FALSE)*(M1062-(P1062+Q1062*Tables!$C$6))*(P1062+Q1062*Tables!$C$6)*1.36136","v":52.240968914534399},"Controlled OD (SCH 20) Schedule Pipe","ASTM A53"]
[null,null,null,null,{"$f":"ROW()","v":1063},"Steel","IPS (SCH)",18,"18"," 600 psi - IPS (SCH) 20",20,600,18,"OD",null,0.312,null,{"$f":"VLOOKUP(F1063,Tables!$G$5:$H$14,2,FALSE)*(M1063-(P1063+Q1063*Tables!$C$6))*(P1063+Q1063*Tables!$C$6)*1.36136","v":58.900959852134385},"Controlled OD (SCH 20) Schedule Pipe","ASTM A53"]
[null,null,null,null,{"$f":"ROW()","v":1064},"Steel","IPS (SCH)",20,"20"," 600 psi - IPS (SCH) 20",20,600,20,"OD",null,0.375,null,{"$f":"VLOOKUP(F1064,Tables!$G$5:$H$14,2,FALSE)*(M1064-(P1064+Q1064*Tables!$C$6))*(P1064+Q1064*Tables!$C$6)*1.36136","v":78.547068599999989},"Controlled OD (SCH 20) Schedule Pipe","ASTM A53"]
[null,null,null,null,{"$f":"ROW()","v":1065},"Steel","IPS (SCH)",24,"24"," 500 psi - IPS (SCH) 20",20,500,24,"OD",null,0.375,null,{"$f":"VLOOKUP(F1065,Tables!$G$5:$H$14,2,FALSE)*(M1065-(P1065+Q1065*Tables!$C$6))*(P1065+Q1065*Tables!$C$6)*1.36136","v":94.556662199999991},"Controlled OD (SCH 20) Schedule Pipe","ASTM A53"]
[null,null,null,null,{"$f":"ROW()","v":1066},"Steel","IPS (SCH)",26,"26"," 600 psi - IPS (SCH) 20",20,600,26,"OD",null,0.5,null,{"$f":"VLOOKUP(F1066,Tables!$G$5:$H$14,2,FALSE)*(M1066-(P1066+Q1066*Tables!$C$6))*(P1066+Q1066*Tables!$C$6)*1.36136","v":136.08154559999997},"Controlled OD (SCH 20) Schedule Pipe","ASTM A53"]
[null,null,null,null,{"$f":"ROW()","v":1067},"Steel","IPS (SCH)",28,"28"," 500 psi - IPS (SCH) 20",20,500,28,"OD",null,0.5,null,{"$f":"VLOOKUP(F1067,Tables!$G$5:$H$14,2,FALSE)*(M1067-(P1067+Q1067*Tables!$C$6))*(P1067+Q1067*Tables!$C$6)*1.36136","v":146.75460799999999},"Controlled OD (SCH 20) Schedule Pipe","ASTM A53"]
[null,null,null,null,{"$f":"ROW()","v":1068},"Steel","IPS (SCH)",30,"30"," 500 psi - IPS (SCH) 20",20,500,30,"OD",null,0.5,null,{"$f":"VLOOKUP(F1068,Tables!$G$5:$H$14,2,FALSE)*(M1068-(P1068+Q1068*Tables!$C$6))*(P1068+Q1068*Tables!$C$6)*1.36136","v":157.42767039999998},"Controlled OD (SCH 20) Schedule Pipe","ASTM A53"]
[null,null,null,null,{"$f":"ROW()","v":1069},"Steel","IPS (SCH)",32,"32"," 400 psi - IPS (SCH) 20",20,400,32,"OD",null,0.5,null,{"$f":"VLOOKUP(F1069,Tables!$G$5:$H$14,2,FALSE)*(M1069-(P1069+Q1069*Tables!$C$6))*(P1069+Q1069*Tables!$C$6)*1.36136","v":168.1007328},"Controlled OD (SCH 20) Schedule Pipe","ASTM A53"]
[null,null,null,null,{"$f":"ROW()","v":1070},"Steel","IPS (SCH)",34,"34"," 400 psi - IPS (SCH) 20",20,400,34,"OD",null,0.5,null,{"$f":"VLOOKUP(F1070,Tables!$G$5:$H$14,2,FALSE)*(M1070-(P1070+Q1070*Tables!$C$6))*(P1070+Q1070*Tables!$C$6)*1.36136","v":178.77379519999997},{"$f":"\"Controlled OD (SCH \"&K1070&\") Schedule Pipe\"","v":"Controlled OD (SCH 20) Schedule Pipe"},"ASTM A53"]
[null,null,null,null,{"$f":"ROW()","v":1071},"Steel","IPS (SCH)",36,"36"," 400 psi - IPS (SCH) 20",20,400,36,"OD",null,0.5,null,{"$f":"VLOOKUP(F1071,Tables!$G$5:$H$14,2,FALSE)*(M1071-(P1071+Q1071*Tables!$C$6))*(P1071+Q1071*Tables!$C$6)*1.36136","v":189.44685759999999},"Controlled OD (SCH 20) Schedule Pipe","ASTM A53"]
[null,null,null,null,{"$f":"ROW()","v":1072},"Steel","IPS (SCH)",8,"8",{"$f":"IF(L1072>1000,\"> 1000 \",L1072)&\" psi - \"&G1072&\" \"&K1072","v":"> 1000  psi - IPS (SCH) 30"},30,1100,8.625,"OD",null,0.27700000000000002,null,{"$f":"VLOOKUP(F1072,Tables!$G$5:$H$14,2,FALSE)*(M1072-(P1072+Q1072*Tables!$C$6))*(P1072+Q1072*Tables!$C$6)*1.36136","v":24.680346801510407},"Controlled OD (SCH 30) Schedule Pipe","ASTM A53"]
[null,null,null,null,{"$f":"ROW()","v":1073},"Steel","IPS (SCH)",10,"10","1000 psi - IPS (SCH) 30",30,1000,10.75,"OD",null,0.307,null,{"$f":"VLOOKUP(F1073,Tables!$G$5:$H$14,2,FALSE)*(M1073-(P1073+Q1073*Tables!$C$6))*(P1073+Q1073*Tables!$C$6)*1.36136","v":34.217848727462396},"Controlled OD (SCH 30) Schedule Pipe","ASTM A53"]
[null,null,null,null,{"$f":"ROW()","v":1074},"Steel","IPS (SCH)",12,"12",{"$f":"\" \"&IF(L1074>1000,\"> 1000 \",L1074)&\" psi - \"&G1074&\" \"&K1074","v":" 900 psi - IPS (SCH) 30"},30,900,12.75,"OD",null,0.33,null,{"$f":"VLOOKUP(F1074,Tables!$G$5:$H$14,2,FALSE)*(M1074-(P1074+Q1074*Tables!$C$6))*(P1074+Q1074*Tables!$C$6)*1.36136","v":43.744613552639997},"Controlled OD (SCH 30) Schedule Pipe","ASTM A53"]
[null,null,null,null,{"$f":"ROW()","v":1075},"Steel","IPS (SCH)",14,"14"," 900 psi - IPS (SCH) 30",30,900,14,"OD",null,0.375,null,{"$f":"VLOOKUP(F1075,Tables!$G$5:$H$14,2,FALSE)*(M1075-(P1075+Q1075*Tables!$C$6))*(P1075+Q1075*Tables!$C$6)*1.36136","v":54.532678199999992},"Controlled OD (SCH 30) Schedule Pipe","ASTM A53"]
[null,null,null,null,{"$f":"ROW()","v":1076},"Steel","IPS (SCH)",16,"16"," 800 psi - IPS (SCH) 30",30,800,16,"OD",null,0.375,null,{"$f":"VLOOKUP(F1076,Tables!$G$5:$H$14,2,FALSE)*(M1076-(P1076+Q1076*Tables!$C$6))*(P1076+Q1076*Tables!$C$6)*1.36136","v":62.537474999999993},"Controlled OD (SCH 30) Schedule Pipe","ASTM A53"]
[null,null,null,null,{"$f":"ROW()","v":1077},"Steel","IPS (SCH)",18,"18"," 800 psi - IPS (SCH) 30",30,800,18,"OD",null,0.437,null,{"$f":"VLOOKUP(F1077,Tables!$G$5:$H$14,2,FALSE)*(M1077-(P1077+Q1077*Tables!$C$6))*(P1077+Q1077*Tables!$C$6)*1.36136","v":81.916084784934398},"Controlled OD (SCH 30) Schedule Pipe","ASTM A53"]
[null,null,null,null,{"$f":"ROW()","v":1078},"Steel","IPS (SCH)",20,"20"," 800 psi - IPS (SCH) 30",30,800,20,"OD",null,0.5,null,{"$f":"VLOOKUP(F1078,Tables!$G$5:$H$14,2,FALSE)*(M1078-(P1078+Q1078*Tables!$C$6))*(P1078+Q1078*Tables!$C$6)*1.36136","v":104.06235839999999},"Controlled OD (SCH 30) Schedule Pipe","ASTM A53"]
[null,null,null,null,{"$f":"ROW()","v":1079},"Steel","IPS (SCH)",24,"24"," 800 psi - IPS (SCH) 30",30,800,24,"OD",null,0.56200000000000006,null,{"$f":"VLOOKUP(F1079,Tables!$G$5:$H$14,2,FALSE)*(M1079-(P1079+Q1079*Tables!$C$6))*(P1079+Q1079*Tables!$C$6)*1.36136","v":140.58724293053442},"Controlled OD (SCH 30) Schedule Pipe","ASTM A53"]
[null,null,null,null,{"$f":"ROW()","v":1080},"Steel","IPS (SCH)",28,"28"," 600 psi - IPS (SCH) 30",30,600,28,"OD",null,0.625,null,{"$f":"VLOOKUP(F1080,Tables!$G$5:$H$14,2,FALSE)*(M1080-(P1080+Q1080*Tables!$C$6))*(P1080+Q1080*Tables!$C$6)*1.36136","v":182.60942699999998},"Controlled OD (SCH 30) Schedule Pipe","ASTM A53"]
[null,null,null,null,{"$f":"ROW()","v":1081},"Steel","IPS (SCH)",30,"30"," 600 psi - IPS (SCH) 30",30,600,30,"OD",null,0.625,null,{"$f":"VLOOKUP(F1081,Tables!$G$5:$H$14,2,FALSE)*(M1081-(P1081+Q1081*Tables!$C$6))*(P1081+Q1081*Tables!$C$6)*1.36136","v":195.95075499999999},"Controlled OD (SCH 30) Schedule Pipe","ASTM A53"]
[null,null,null,null,{"$f":"ROW()","v":1082},"Steel","IPS (SCH)",32,"32"," 500 psi - IPS (SCH) 30",30,500,32,"OD",null,0.625,null,{"$f":"VLOOKUP(F1082,Tables!$G$5:$H$14,2,FALSE)*(M1082-(P1082+Q1082*Tables!$C$6))*(P1082+Q1082*Tables!$C$6)*1.36136","v":209.29208299999996},"Controlled OD (SCH 30) Schedule Pipe","ASTM A53"]
[null,null,null,null,{"$f":"ROW()","v":1083},"Steel","IPS (SCH)",34,"34"," 500 psi - IPS (SCH) 30",30,500,34,"OD",null,0.625,null,{"$f":"VLOOKUP(F1083,Tables!$G$5:$H$14,2,FALSE)*(M1083-(P1083+Q1083*Tables!$C$6))*(P1083+Q1083*Tables!$C$6)*1.36136","v":222.63341099999994},"Controlled OD (SCH 30) Schedule Pipe","ASTM A53"]
[null,null,null,null,{"$f":"ROW()","v":1084},"Steel","IPS (SCH)",36,"36"," 500 psi - IPS (SCH) 30",30,500,36,"OD",null,0.625,null,{"$f":"VLOOKUP(F1084,Tables!$G$5:$H$14,2,FALSE)*(M1084-(P1084+Q1084*Tables!$C$6))*(P1084+Q1084*Tables!$C$6)*1.36136","v":235.97473899999994},"Controlled OD (SCH 30) Schedule Pipe","ASTM A53"]
[null,null,null,null,{"$f":"ROW()","v":1085},"Steel","IPS (SCH)",0.125,"1/8"," 700 psi - IPS (SCH) 40",40,700,0.40500000000000003,"OD",null,6.8000000000000005E-2,null,{"$f":"VLOOKUP(F1085,Tables!$G$5:$H$14,2,FALSE)*(M1085-(P1085+Q1085*Tables!$C$6))*(P1085+Q1085*Tables!$C$6)*1.36136","v":0.24458389795839999},"Controlled OD (SCH 40) Schedule Pipe","ASTM A53"]
[null,null,null,null,{"$f":"ROW()","v":1086},"Steel","IPS (SCH)",0.25,"1/4"," 700 psi - IPS (SCH) 40",40,700,0.54,"OD",null,8.7999999999999995E-2,null,{"$f":"VLOOKUP(F1086,Tables!$G$5:$H$14,2,FALSE)*(M1086-(P1086+Q1086*Tables!$C$6))*(P1086+Q1086*Tables!$C$6)*1.36136","v":0.42453173002240002},"Controlled OD (SCH 40) Schedule Pipe","ASTM A53"]
[null,null,null,null,{"$f":"ROW()","v":1087},"Steel","IPS (SCH)",0.375,"3/8"," 700 psi - IPS (SCH) 40",40,700,0.67500000000000004,"OD",null,9.0999999999999998E-2,null,{"$f":"VLOOKUP(F1087,Tables!$G$5:$H$14,2,FALSE)*(M1087-(P1087+Q1087*Tables!$C$6))*(P1087+Q1087*Tables!$C$6)*1.36136","v":0.56720922818559993},"Controlled OD (SCH 40) Schedule Pipe","ASTM A53"]
[null,null,null,null,{"$f":"ROW()","v":1088},"Steel","IPS (SCH)",0.5,"1/2"," 700 psi - IPS (SCH) 40",40,700,0.84,"OD",null,0.109,null,{"$f":"VLOOKUP(F1088,Tables!$G$5:$H$14,2,FALSE)*(M1088-(P1088+Q1088*Tables!$C$6))*(P1088+Q1088*Tables!$C$6)*1.36136","v":0.85041893896959997},"Controlled OD (SCH 40) Schedule Pipe","ASTM A53"]
[null,null,null,null,{"$f":"ROW()","v":1089},"Steel","IPS (SCH)",0.75,"3/4"," 700 psi - IPS (SCH) 40",40,700,1.05,"OD",null,0.113,null,{"$f":"VLOOKUP(F1089,Tables!$G$5:$H$14,2,FALSE)*(M1089-(P1089+Q1089*Tables!$C$6))*(P1089+Q1089*Tables!$C$6)*1.36136","v":1.1300745199744},"Controlled OD (SCH 40) Schedule Pipe","ASTM A53"]
[null,null,null,null,{"$f":"ROW()","v":1090},"Steel","IPS (SCH)",1,"1"," 700 psi - IPS (SCH) 40",40,700,1.3149999999999999,"OD",null,0.13300000000000001,null,{"$f":"VLOOKUP(F1090,Tables!$G$5:$H$14,2,FALSE)*(M1090-(P1090+Q1090*Tables!$C$6))*(P1090+Q1090*Tables!$C$6)*1.36136","v":1.6778694476543996},"Controlled OD (SCH 40) Schedule Pipe","ASTM A53"]
[null,null,null,null,{"$f":"ROW()","v":1091},"Steel","IPS (SCH)",1.25,"1 1/4","> 1000  psi - IPS (SCH) 40",40,1200,1.66,"OD",null,0.14000000000000001,null,{"$f":"VLOOKUP(F1091,Tables!$G$5:$H$14,2,FALSE)*(M1091-(P1091+Q1091*Tables!$C$6))*(P1091+Q1091*Tables!$C$6)*1.36136","v":2.2712276787200003},"Controlled OD (SCH 40) Schedule Pipe","ASTM A53"]
[null,null,null,null,{"$f":"ROW()","v":1092},"Steel","IPS (SCH)",1.5,"1 1/2","> 1000  psi - IPS (SCH) 40",40,1200,1.9,"OD",null,0.14499999999999999,null,{"$f":"VLOOKUP(F1092,Tables!$G$5:$H$14,2,FALSE)*(M1092-(P1092+Q1092*Tables!$C$6))*(P1092+Q1092*Tables!$C$6)*1.36136","v":2.7160275542399992},"Controlled OD (SCH 40) Schedule Pipe","ASTM A53"]
[null,null,null,null,{"$f":"ROW()","v":1093},"Steel","IPS (SCH)",2,"2","> 1000  psi - IPS (SCH) 40",40,2300,2.375,"OD",null,0.154,null,{"$f":"VLOOKUP(F1093,Tables!$G$5:$H$14,2,FALSE)*(M1093-(P1093+Q1093*Tables!$C$6))*(P1093+Q1093*Tables!$C$6)*1.36136","v":3.6505502249216},"Controlled OD (SCH 40) Schedule Pipe","ASTM A53"]
[null,null,null,null,{"$f":"ROW()","v":1094},"Steel","IPS (SCH)",2.5,"2 1/2","> 1000  psi - IPS (SCH) 40",40,2500,2.875,"OD",null,0.20300000000000001,null,{"$f":"VLOOKUP(F1094,Tables!$G$5:$H$14,2,FALSE)*(M1094-(P1094+Q1094*Tables!$C$6))*(P1094+Q1094*Tables!$C$6)*1.36136","v":5.7892398147583997},"Controlled OD (SCH 40) Schedule Pipe","ASTM A53"]
[null,null,null,null,{"$f":"ROW()","v":1095},"Steel","IPS (SCH)",3,"3","> 1000  psi - IPS (SCH) 40",40,2200,3.5,"OD",null,0.216,null,{"$f":"VLOOKUP(F1095,Tables!$G$5:$H$14,2,FALSE)*(M1095-(P1095+Q1095*Tables!$C$6))*(P1095+Q1095*Tables!$C$6)*1.36136","v":7.5708727750655989},"Controlled OD (SCH 40) Schedule Pipe","ASTM A53"]
[null,null,null,null,{"$f":"ROW()","v":1096},"Steel","IPS (SCH)",3.5,"3 1/2","> 1000  psi - IPS (SCH) 40",40,2000,4,"OD",null,0.22600000000000001,null,{"$f":"VLOOKUP(F1096,Tables!$G$5:$H$14,2,FALSE)*(M1096-(P1096+Q1096*Tables!$C$6))*(P1096+Q1096*Tables!$C$6)*1.36136","v":9.1033110744575989},"Controlled OD (SCH 40) Schedule Pipe","ASTM A53"]
[null,null,null,null,{"$f":"ROW()","v":1097},"Steel","IPS (SCH)",4,"4","> 1000  psi - IPS (SCH) 40",40,1900,4.5,"OD",null,0.23699999999999999,null,{"$f":"VLOOKUP(F1097,Tables!$G$5:$H$14,2,FALSE)*(M1097-(P1097+Q1097*Tables!$C$6))*(P1097+Q1097*Tables!$C$6)*1.36136","v":10.783325807654398},"Controlled OD (SCH 40) Schedule Pipe","ASTM A53"]
[null,null,null,null,{"$f":"ROW()","v":1098},"Steel","IPS (SCH)",5,"5","> 1000  psi - IPS (SCH) 40",40,1700,5.5629999999999997,"OD",null,0.25800000000000001,null,{"$f":"VLOOKUP(F1098,Tables!$G$5:$H$14,2,FALSE)*(M1098-(P1098+Q1098*Tables!$C$6))*(P1098+Q1098*Tables!$C$6)*1.36136","v":14.608113776255998},"Controlled OD (SCH 40) Schedule Pipe","ASTM A53"]
[null,null,null,null,{"$f":"ROW()","v":1099},"Steel","IPS (SCH)",6,"6","> 1000  psi - IPS (SCH) 40",40,1500,6.625,"OD",null,0.28000000000000003,null,{"$f":"VLOOKUP(F1099,Tables!$G$5:$H$14,2,FALSE)*(M1099-(P1099+Q1099*Tables!$C$6))*(P1099+Q1099*Tables!$C$6)*1.36136","v":18.961762659839998},"Controlled OD (SCH 40) Schedule Pipe","ASTM A53"]
[null,null,null,null,{"$f":"ROW()","v":1100},"Steel","IPS (SCH)",8,"8","> 1000  psi - IPS (SCH) 40",40,1300,8.625,"OD",null,0.32200000000000001,null,{"$f":"VLOOKUP(F1100,Tables!$G$5:$H$14,2,FALSE)*(M1100-(P1100+Q1100*Tables!$C$6))*(P1100+Q1100*Tables!$C$6)*1.36136","v":28.535136748518401},"Controlled OD (SCH 40) Schedule Pipe","ASTM A53"]
[null,null,null,null,{"$f":"ROW()","v":1101},"Steel","IPS (SCH)",10,"10","> 1000  psi - IPS (SCH) 40",40,1200,10.75,"OD",null,0.36499999999999999,null,{"$f":"VLOOKUP(F1101,Tables!$G$5:$H$14,2,FALSE)*(M1101-(P1101+Q1101*Tables!$C$6))*(P1101+Q1101*Tables!$C$6)*1.36136","v":40.456509853759989},"Controlled OD (SCH 40) Schedule Pipe","ASTM A53"]
[null,null,null,null,{"$f":"ROW()","v":1102},"Steel","IPS (SCH)",12,"12","> 1000  psi - IPS (SCH) 40",40,1100,12.75,"OD",null,0.40600000000000003,null,{"$f":"VLOOKUP(F1102,Tables!$G$5:$H$14,2,FALSE)*(M1102-(P1102+Q1102*Tables!$C$6))*(P1102+Q1102*Tables!$C$6)*1.36136","v":53.489802599833588},"Controlled OD (SCH 40) Schedule Pipe","ASTM A53"]
[null,null,null,null,{"$f":"ROW()","v":1103},"Steel","IPS (SCH)",14,"14","> 1000  psi - IPS (SCH) 40",40,1100,14,"OD",null,0.437,null,{"$f":"VLOOKUP(F1103,Tables!$G$5:$H$14,2,FALSE)*(M1103-(P1103+Q1103*Tables!$C$6))*(P1103+Q1103*Tables!$C$6)*1.36136","v":63.259571709734402},"Controlled OD (SCH 40) Schedule Pipe","ASTM A53"]
[null,null,null,null,{"$f":"ROW()","v":1104},"Steel","IPS (SCH)",16,"16","> 1000  psi - IPS (SCH) 40",40,1100,16,"OD",null,0.5,null,{"$f":"VLOOKUP(F1104,Tables!$G$5:$H$14,2,FALSE)*(M1104-(P1104+Q1104*Tables!$C$6))*(P1104+Q1104*Tables!$C$6)*1.36136","v":82.716233599999995},"Controlled OD (SCH 40) Schedule Pipe","ASTM A53"]
[null,null,null,null,{"$f":"ROW()","v":1105},"Steel","IPS (SCH)",18,"18","> 1000  psi - IPS (SCH) 40",40,1100,18,"OD",null,0.56200000000000006,null,{"$f":"VLOOKUP(F1105,Tables!$G$5:$H$14,2,FALSE)*(M1105-(P1105+Q1105*Tables!$C$6))*(P1105+Q1105*Tables!$C$6)*1.36136","v":104.5976765177344},"Controlled OD (SCH 40) Schedule Pipe","ASTM A53"]
[null,null,null,null,{"$f":"ROW()","v":1106},"Steel","IPS (SCH)",20,"20","> 1000  psi - IPS (SCH) 40",40,1100,20,"OD",null,0.59299999999999997,null,{"$f":"VLOOKUP(F1106,Tables!$G$5:$H$14,2,FALSE)*(M1106-(P1106+Q1106*Tables!$C$6))*(P1106+Q1106*Tables!$C$6)*1.36136","v":122.82934834410239},"Controlled OD (SCH 40) Schedule Pipe","ASTM A53"]
[null,null,null,null,{"$f":"ROW()","v":1107},"Steel","IPS (SCH)",24,"24","1000 psi - IPS (SCH) 40",40,1000,24,"OD",null,0.68700000000000006,null,{"$f":"VLOOKUP(F1107,Tables!$G$5:$H$14,2,FALSE)*(M1107-(P1107+Q1107*Tables!$C$6))*(P1107+Q1107*Tables!$C$6)*1.36136","v":170.94009826333439},"Controlled OD (SCH 40) Schedule Pipe","ASTM A53"]
[null,null,null,null,{"$f":"ROW()","v":1108},"Steel","IPS (SCH)",32,"32",{"$f":"\" \"&IF(L1108>1000,\"> 1000 \",L1108)&\" psi - \"&G1108&\" \"&K1108","v":" 600 psi - IPS (SCH) 40"},40,600,32,"OD",null,0.68799999999999994,null,{"$f":"VLOOKUP(F1108,Tables!$G$5:$H$14,2,FALSE)*(M1108-(P1108+Q1108*Tables!$C$6))*(P1108+Q1108*Tables!$C$6)*1.36136","v":229.92611174973436},"Controlled OD (SCH 40) Schedule Pipe","ASTM A53"]
[null,null,null,null,{"$f":"ROW()","v":1109},"Steel","IPS (SCH)",34,"34"," 600 psi - IPS (SCH) 40",40,600,34,"OD",null,0.68799999999999994,null,{"$f":"VLOOKUP(F1109,Tables!$G$5:$H$14,2,FALSE)*(M1109-(P1109+Q1109*Tables!$C$6))*(P1109+Q1109*Tables!$C$6)*1.36136","v":244.61224561213433},"Controlled OD (SCH 40) Schedule Pipe","ASTM A53"]
[null,null,null,null,{"$f":"ROW()","v":1110},"Steel","IPS (SCH)",36,"36"," 600 psi - IPS (SCH) 40",40,600,36,"OD",null,0.75,null,{"$f":"VLOOKUP(F1110,Tables!$G$5:$H$14,2,FALSE)*(M1110-(P1110+Q1110*Tables!$C$6))*(P1110+Q1110*Tables!$C$6)*1.36136","v":282.16908719999998},"Controlled OD (SCH 40) Schedule Pipe","ASTM A53"]
[null,null,null,null,{"$f":"ROW()","v":1111},"Steel","IPS (SCH)",0.125,"1/8"," 700 psi - IPS (SCH) STD","STD",700,0.40500000000000003,"OD",null,6.8000000000000005E-2,null,{"$f":"VLOOKUP(F1111,Tables!$G$5:$H$14,2,FALSE)*(M1111-(P1111+Q1111*Tables!$C$6))*(P1111+Q1111*Tables!$C$6)*1.36136","v":0.24458389795839999},"Controlled OD (SCH STD) Schedule Pipe","ASTM A53"]
[null,null,null,null,{"$f":"ROW()","v":1112},"Steel","IPS (SCH)",0.25,"1/4"," 700 psi - IPS (SCH) STD","STD",700,0.54,"OD",null,8.7999999999999995E-2,null,{"$f":"VLOOKUP(F1112,Tables!$G$5:$H$14,2,FALSE)*(M1112-(P1112+Q1112*Tables!$C$6))*(P1112+Q1112*Tables!$C$6)*1.36136","v":0.42453173002240002},"Controlled OD (SCH STD) Schedule Pipe","ASTM A53"]
[null,null,null,null,{"$f":"ROW()","v":1113},"Steel","IPS (SCH)",0.375,"3/8"," 700 psi - IPS (SCH) STD","STD",700,0.67500000000000004,"OD",null,9.0999999999999998E-2,null,{"$f":"VLOOKUP(F1113,Tables!$G$5:$H$14,2,FALSE)*(M1113-(P1113+Q1113*Tables!$C$6))*(P1113+Q1113*Tables!$C$6)*1.36136","v":0.56720922818559993},"Controlled OD (SCH STD) Schedule Pipe","ASTM A53"]
[null,null,null,null,{"$f":"ROW()","v":1114},"Steel","IPS (SCH)",0.5,"1/2"," 700 psi - IPS (SCH) STD","STD",700,0.84,"OD",null,0.109,null,{"$f":"VLOOKUP(F1114,Tables!$G$5:$H$14,2,FALSE)*(M1114-(P1114+Q1114*Tables!$C$6))*(P1114+Q1114*Tables!$C$6)*1.36136","v":0.85041893896959997},"Controlled OD (SCH STD) Schedule Pipe","ASTM A53"]
[null,null,null,null,{"$f":"ROW()","v":1115},"Steel","IPS (SCH)",0.75,"3/4"," 700 psi - IPS (SCH) STD","STD",700,1.05,"OD",null,0.113,null,{"$f":"VLOOKUP(F1115,Tables!$G$5:$H$14,2,FALSE)*(M1115-(P1115+Q1115*Tables!$C$6))*(P1115+Q1115*Tables!$C$6)*1.36136","v":1.1300745199744},"Controlled OD (SCH STD) Schedule Pipe","ASTM A53"]
[null,null,null,null,{"$f":"ROW()","v":1116},"Steel","IPS (SCH)",1,"1"," 700 psi - IPS (SCH) STD","STD",700,1.3149999999999999,"OD",null,0.13300000000000001,null,{"$f":"VLOOKUP(F1116,Tables!$G$5:$H$14,2,FALSE)*(M1116-(P1116+Q1116*Tables!$C$6))*(P1116+Q1116*Tables!$C$6)*1.36136","v":1.6778694476543996},"Controlled OD (SCH STD) Schedule Pipe","ASTM A53"]
[null,null,null,null,{"$f":"ROW()","v":1117},"Steel","IPS (SCH)",1.25,"1 1/4","> 1000  psi - IPS (SCH) STD","STD",1200,1.66,"OD",null,0.14000000000000001,null,{"$f":"VLOOKUP(F1117,Tables!$G$5:$H$14,2,FALSE)*(M1117-(P1117+Q1117*Tables!$C$6))*(P1117+Q1117*Tables!$C$6)*1.36136","v":2.2712276787200003},"Controlled OD (SCH STD) Schedule Pipe","ASTM A53"]
[null,null,null,null,{"$f":"ROW()","v":1118},"Steel","IPS (SCH)",1.5,"1 1/2","> 1000  psi - IPS (SCH) STD","STD",1200,1.9,"OD",null,0.14499999999999999,null,{"$f":"VLOOKUP(F1118,Tables!$G$5:$H$14,2,FALSE)*(M1118-(P1118+Q1118*Tables!$C$6))*(P1118+Q1118*Tables!$C$6)*1.36136","v":2.7160275542399992},"Controlled OD (SCH STD) Schedule Pipe","ASTM A53"]
[null,null,null,null,{"$f":"ROW()","v":1119},"Steel","IPS (SCH)",2,"2","> 1000  psi - IPS (SCH) STD","STD",2300,2.375,"OD",null,0.154,null,{"$f":"VLOOKUP(F1119,Tables!$G$5:$H$14,2,FALSE)*(M1119-(P1119+Q1119*Tables!$C$6))*(P1119+Q1119*Tables!$C$6)*1.36136","v":3.6505502249216},"Controlled OD (SCH STD) Schedule Pipe","ASTM A53"]
[null,null,null,null,{"$f":"ROW()","v":1120},"Steel","IPS (SCH)",2.5,"2 1/2","> 1000  psi - IPS (SCH) STD","STD",2500,2.875,"OD",null,0.20300000000000001,null,{"$f":"VLOOKUP(F1120,Tables!$G$5:$H$14,2,FALSE)*(M1120-(P1120+Q1120*Tables!$C$6))*(P1120+Q1120*Tables!$C$6)*1.36136","v":5.7892398147583997},"Controlled OD (SCH STD) Schedule Pipe","ASTM A53"]
[null,null,null,null,{"$f":"ROW()","v":1121},"Steel","IPS (SCH)",3,"3","> 1000  psi - IPS (SCH) STD","STD",2200,3.5,"OD",null,0.216,null,{"$f":"VLOOKUP(F1121,Tables!$G$5:$H$14,2,FALSE)*(M1121-(P1121+Q1121*Tables!$C$6))*(P1121+Q1121*Tables!$C$6)*1.36136","v":7.5708727750655989},"Controlled OD (SCH STD) Schedule Pipe","ASTM A53"]
[null,null,null,null,{"$f":"ROW()","v":1122},"Steel","IPS (SCH)",3.5,"3 1/2","> 1000  psi - IPS (SCH) STD","STD",2000,4,"OD",null,0.22600000000000001,null,{"$f":"VLOOKUP(F1122,Tables!$G$5:$H$14,2,FALSE)*(M1122-(P1122+Q1122*Tables!$C$6))*(P1122+Q1122*Tables!$C$6)*1.36136","v":9.1033110744575989},"Controlled OD (SCH STD) Schedule Pipe","ASTM A53"]
[null,null,null,null,{"$f":"ROW()","v":1123},"Steel","IPS (SCH)",4,"4","> 1000  psi - IPS (SCH) STD","STD",1900,4.5,"OD",null,0.23699999999999999,null,{"$f":"VLOOKUP(F1123,Tables!$G$5:$H$14,2,FALSE)*(M1123-(P1123+Q1123*Tables!$C$6))*(P1123+Q1123*Tables!$C$6)*1.36136","v":10.783325807654398},"Controlled OD (SCH STD) Schedule Pipe","ASTM A53"]
[null,null,null,null,{"$f":"ROW()","v":1124},"Steel","IPS (SCH)",4.5,"4 1/2",{"$f":"\" \"&IF(L1124>1000,\"> 1000 \",L1124)&\" psi - \"&G1124&\" \"&K1124","v":" > 1000  psi - IPS (SCH) STD"},"STD",1800,5,"OD",null,0.247,null,{"$f":"VLOOKUP(F1124,Tables!$G$5:$H$14,2,FALSE)*(M1124-(P1124+Q1124*Tables!$C$6))*(P1124+Q1124*Tables!$C$6)*1.36136","v":12.530079200038401},"Controlled OD (SCH STD) Schedule Pipe","ASTM A53"]
[null,null,null,null,{"$f":"ROW()","v":1125},"Steel","IPS (SCH)",5,"5","> 1000  psi - IPS (SCH) STD","STD",1600,5.5629999999999997,"OD",null,0.25800000000000001,null,{"$f":"VLOOKUP(F1125,Tables!$G$5:$H$14,2,FALSE)*(M1125-(P1125+Q1125*Tables!$C$6))*(P1125+Q1125*Tables!$C$6)*1.36136","v":14.608113776255998},"Controlled OD (SCH STD) Schedule Pipe","ASTM A53"]
[null,null,null,null,{"$f":"ROW()","v":1126},"Steel","IPS (SCH)",6,"6","> 1000  psi - IPS (SCH) STD","STD",1500,6.625,"OD",null,0.28000000000000003,null,{"$f":"VLOOKUP(F1126,Tables!$G$5:$H$14,2,FALSE)*(M1126-(P1126+Q1126*Tables!$C$6))*(P1126+Q1126*Tables!$C$6)*1.36136","v":18.961762659839998},"Controlled OD (SCH STD) Schedule Pipe","ASTM A53"]
[null,null,null,null,{"$f":"ROW()","v":1127},"Steel","IPS (SCH)",7,"7",{"$f":"\" \"&IF(L1127>1000,\"> 1000 \",L1127)&\" psi - \"&G1127&\" \"&K1127","v":" > 1000  psi - IPS (SCH) STD"},"STD",1400,7.625,"OD",null,0.30099999999999999,null,{"$f":"VLOOKUP(F1127,Tables!$G$5:$H$14,2,FALSE)*(M1127-(P1127+Q1127*Tables!$C$6))*(P1127+Q1127*Tables!$C$6)*1.36136","v":23.529022214297594},"Controlled OD (SCH STD) Schedule Pipe","ASTM A53"]
[null,null,null,null,{"$f":"ROW()","v":1128},"Steel","IPS (SCH)",8,"8","> 1000  psi - IPS (SCH) STD","STD",1300,8.625,"OD",null,0.32200000000000001,null,{"$f":"VLOOKUP(F1128,Tables!$G$5:$H$14,2,FALSE)*(M1128-(P1128+Q1128*Tables!$C$6))*(P1128+Q1128*Tables!$C$6)*1.36136","v":28.535136748518401},"Controlled OD (SCH STD) Schedule Pipe","ASTM A53"]
[null,null,null,null,{"$f":"ROW()","v":1129},"Steel","IPS (SCH)",10,"10","> 1000  psi - IPS (SCH) STD","STD",1200,10.75,"OD",null,0.36499999999999999,null,{"$f":"VLOOKUP(F1129,Tables!$G$5:$H$14,2,FALSE)*(M1129-(P1129+Q1129*Tables!$C$6))*(P1129+Q1129*Tables!$C$6)*1.36136","v":40.456509853759989},"Controlled OD (SCH STD) Schedule Pipe","ASTM A53"]
[null,null,null,null,{"$f":"ROW()","v":1130},"Steel","IPS (SCH)",11,"11","> 1000  psi - IPS (SCH) STD","STD",1100,11.75,"OD",null,0.375,null,{"$f":"VLOOKUP(F1130,Tables!$G$5:$H$14,2,FALSE)*(M1130-(P1130+Q1130*Tables!$C$6))*(P1130+Q1130*Tables!$C$6)*1.36136","v":45.52728179999999},"Controlled OD (SCH STD) Schedule Pipe","ASTM A53"]
[null,null,null,null,{"$f":"ROW()","v":1131},"Steel","IPS (SCH)",12,"12","1000 psi - IPS (SCH) STD","STD",1000,12.75,"OD",null,0.375,null,{"$f":"VLOOKUP(F1131,Tables!$G$5:$H$14,2,FALSE)*(M1131-(P1131+Q1131*Tables!$C$6))*(P1131+Q1131*Tables!$C$6)*1.36136","v":49.529680199999994},"Controlled OD (SCH STD) Schedule Pipe","ASTM A53"]
[null,null,null,null,{"$f":"ROW()","v":1132},"Steel","IPS (SCH)",14,"14",{"$f":"\" \"&IF(L1132>1000,\"> 1000 \",L1132)&\" psi - \"&G1132&\" \"&K1132","v":" 900 psi - IPS (SCH) STD"},"STD",900,14,"OD",null,0.375,null,{"$f":"VLOOKUP(F1132,Tables!$G$5:$H$14,2,FALSE)*(M1132-(P1132+Q1132*Tables!$C$6))*(P1132+Q1132*Tables!$C$6)*1.36136","v":54.532678199999992},"Controlled OD (SCH STD) Schedule Pipe","ASTM A53"]
[null,null,null,null,{"$f":"ROW()","v":1133},"Steel","IPS (SCH)",16,"16"," 800 psi - IPS (SCH) STD","STD",800,16,"OD",null,0.375,null,{"$f":"VLOOKUP(F1133,Tables!$G$5:$H$14,2,FALSE)*(M1133-(P1133+Q1133*Tables!$C$6))*(P1133+Q1133*Tables!$C$6)*1.36136","v":62.537474999999993},"Controlled OD (SCH STD) Schedule Pipe","ASTM A53"]
[null,null,null,null,{"$f":"ROW()","v":1134},"Steel","IPS (SCH)",18,"18"," 700 psi - IPS (SCH) STD","STD",700,18,"OD",null,0.375,null,{"$f":"VLOOKUP(F1134,Tables!$G$5:$H$14,2,FALSE)*(M1134-(P1134+Q1134*Tables!$C$6))*(P1134+Q1134*Tables!$C$6)*1.36136","v":70.542271799999995},{"$f":"\"Controlled OD (SCH \"&K1134&\") Schedule Pipe\"","v":"Controlled OD (SCH STD) Schedule Pipe"},"ASTM A53"]
[null,null,null,null,{"$f":"ROW()","v":1135},"Steel","IPS (SCH)",20,"20"," 600 psi - IPS (SCH) STD","STD",600,20,"OD",null,0.375,null,{"$f":"VLOOKUP(F1135,Tables!$G$5:$H$14,2,FALSE)*(M1135-(P1135+Q1135*Tables!$C$6))*(P1135+Q1135*Tables!$C$6)*1.36136","v":78.547068599999989},"Controlled OD (SCH STD) Schedule Pipe","ASTM A53"]
[null,null,null,null,{"$f":"ROW()","v":1136},"Steel","IPS (SCH)",24,"24"," 500 psi - IPS (SCH) STD","STD",500,24,"OD",null,0.375,null,{"$f":"VLOOKUP(F1136,Tables!$G$5:$H$14,2,FALSE)*(M1136-(P1136+Q1136*Tables!$C$6))*(P1136+Q1136*Tables!$C$6)*1.36136","v":94.556662199999991},"Controlled OD (SCH STD) Schedule Pipe","ASTM A53"]
[null,null,null,null,{"$f":"ROW()","v":1137},"Steel","IPS (SCH)",26,"26"," 500 psi - IPS (SCH) STD","STD",500,26,"OD",null,0.375,null,{"$f":"VLOOKUP(F1137,Tables!$G$5:$H$14,2,FALSE)*(M1137-(P1137+Q1137*Tables!$C$6))*(P1137+Q1137*Tables!$C$6)*1.36136","v":102.561459},"Controlled OD (SCH STD) Schedule Pipe","ASTM A53"]
[null,null,null,null,{"$f":"ROW()","v":1138},"Steel","IPS (SCH)",28,"28"," 400 psi - IPS (SCH) STD","STD",400,28,"OD",null,0.375,null,{"$f":"VLOOKUP(F1138,Tables!$G$5:$H$14,2,FALSE)*(M1138-(P1138+Q1138*Tables!$C$6))*(P1138+Q1138*Tables!$C$6)*1.36136","v":110.56625579999999},"Controlled OD (SCH STD) Schedule Pipe","ASTM A53"]
[null,null,null,null,{"$f":"ROW()","v":1139},"Steel","IPS (SCH)",30,"30"," 300 psi - IPS (SCH) STD","STD",300,30,"OD",null,0.375,null,{"$f":"VLOOKUP(F1139,Tables!$G$5:$H$14,2,FALSE)*(M1139-(P1139+Q1139*Tables!$C$6))*(P1139+Q1139*Tables!$C$6)*1.36136","v":118.57105259999999},"Controlled OD (SCH STD) Schedule Pipe","ASTM A53"]
[null,null,null,null,{"$f":"ROW()","v":1140},"Steel","IPS (SCH)",32,"32"," 300 psi - IPS (SCH) STD","STD",300,32,"OD",null,0.375,null,{"$f":"VLOOKUP(F1140,Tables!$G$5:$H$14,2,FALSE)*(M1140-(P1140+Q1140*Tables!$C$6))*(P1140+Q1140*Tables!$C$6)*1.36136","v":126.57584939999998},"Controlled OD (SCH STD) Schedule Pipe","ASTM A53"]
[null,null,null,null,{"$f":"ROW()","v":1141},"Steel","IPS (SCH)",34,"34"," 300 psi - IPS (SCH) STD","STD",300,34,"OD",null,0.375,null,{"$f":"VLOOKUP(F1141,Tables!$G$5:$H$14,2,FALSE)*(M1141-(P1141+Q1141*Tables!$C$6))*(P1141+Q1141*Tables!$C$6)*1.36136","v":134.58064619999999},"Controlled OD (SCH STD) Schedule Pipe","ASTM A53"]
[null,null,null,null,{"$f":"ROW()","v":1142},"Steel","IPS (SCH)",36,"36"," 300 psi - IPS (SCH) STD","STD",300,36,"OD",null,0.375,null,{"$f":"VLOOKUP(F1142,Tables!$G$5:$H$14,2,FALSE)*(M1142-(P1142+Q1142*Tables!$C$6))*(P1142+Q1142*Tables!$C$6)*1.36136","v":142.585443},"Controlled OD (SCH STD) Schedule Pipe","ASTM A53"]
[null,null,null,null,{"$f":"ROW()","v":1143},"Steel","IPS (SCH)",42,"42"," 200 psi - IPS (SCH) STD","STD",200,42,"OD",null,0.375,null,{"$f":"VLOOKUP(F1143,Tables!$G$5:$H$14,2,FALSE)*(M1143-(P1143+Q1143*Tables!$C$6))*(P1143+Q1143*Tables!$C$6)*1.36136","v":166.59983339999999},"Controlled OD (SCH STD) Schedule Pipe","ASTM A53"]
[null,null,null,null,{"$f":"ROW()","v":1144},"Steel","IPS (SCH)",48,"48"," 200 psi - IPS (SCH) STD","STD",200,48,"OD",null,0.375,null,{"$f":"VLOOKUP(F1144,Tables!$G$5:$H$14,2,FALSE)*(M1144-(P1144+Q1144*Tables!$C$6))*(P1144+Q1144*Tables!$C$6)*1.36136","v":190.61422379999996},"Controlled OD (SCH STD) Schedule Pipe","ASTM A53"]
[null,null,null,null,{"$f":"ROW()","v":1145},"Steel","IPS (SCH)",4,"4",{"$f":"IF(L1145>1000,\"> 1000 \",L1145)&\" psi - \"&G1145&\" \"&K1145","v":"> 1000  psi - IPS (SCH) 60"},60,2200,4.5,"OD",null,0.28100000000000003,null,{"$f":"VLOOKUP(F1145,Tables!$G$5:$H$14,2,FALSE)*(M1145-(P1145+Q1145*Tables!$C$6))*(P1145+Q1145*Tables!$C$6)*1.36136","v":12.653331724633601},"Controlled OD (SCH 60) Schedule Pipe","ASTM A53"]
[null,null,null,null,{"$f":"ROW()","v":1146},"Steel","IPS (SCH)",8,"8","> 1000  psi - IPS (SCH) 60",60,1700,8.625,"OD",null,0.40600000000000003,null,{"$f":"VLOOKUP(F1146,Tables!$G$5:$H$14,2,FALSE)*(M1146-(P1146+Q1146*Tables!$C$6))*(P1146+Q1146*Tables!$C$6)*1.36136","v":35.615091345433598},"Controlled OD (SCH 60) Schedule Pipe","ASTM A53"]
[null,null,null,null,{"$f":"ROW()","v":1147},"Steel","IPS (SCH)",10,"10","> 1000  psi - IPS (SCH) 60",60,1600,10.75,"OD",null,0.5,null,{"$f":"VLOOKUP(F1147,Tables!$G$5:$H$14,2,FALSE)*(M1147-(P1147+Q1147*Tables!$C$6))*(P1147+Q1147*Tables!$C$6)*1.36136","v":54.699444799999995},"Controlled OD (SCH 60) Schedule Pipe","ASTM A53"]
[null,null,null,null,{"$f":"ROW()","v":1148},"Steel","IPS (SCH)",12,"12","> 1000  psi - IPS (SCH) 60",60,1500,12.75,"OD",null,0.56200000000000006,null,{"$f":"VLOOKUP(F1148,Tables!$G$5:$H$14,2,FALSE)*(M1148-(P1148+Q1148*Tables!$C$6))*(P1148+Q1148*Tables!$C$6)*1.36136","v":73.106805906534404},"Controlled OD (SCH 60) Schedule Pipe","ASTM A53"]
[null,null,null,null,{"$f":"ROW()","v":1149},"Steel","IPS (SCH)",14,"14","> 1000  psi - IPS (SCH) 60",60,1500,14,"OD",null,0.59299999999999997,null,{"$f":"VLOOKUP(F1149,Tables!$G$5:$H$14,2,FALSE)*(M1149-(P1149+Q1149*Tables!$C$6))*(P1149+Q1149*Tables!$C$6)*1.36136","v":84.854592324902384},"Controlled OD (SCH 60) Schedule Pipe","ASTM A53"]
[null,null,null,null,{"$f":"ROW()","v":1150},"Steel","IPS (SCH)",16,"16","> 1000  psi - IPS (SCH) 60",60,1500,16,"OD",null,0.65600000000000003,null,{"$f":"VLOOKUP(F1150,Tables!$G$5:$H$14,2,FALSE)*(M1150-(P1150+Q1150*Tables!$C$6))*(P1150+Q1150*Tables!$C$6)*1.36136","v":107.4314599694336},"Controlled OD (SCH 60) Schedule Pipe","ASTM A53"]
[null,null,null,null,{"$f":"ROW()","v":1151},"Steel","IPS (SCH)",18,"18","> 1000  psi - IPS (SCH) 60",60,1500,18,"OD",null,0.75,null,{"$f":"VLOOKUP(F1151,Tables!$G$5:$H$14,2,FALSE)*(M1151-(P1151+Q1151*Tables!$C$6))*(P1151+Q1151*Tables!$C$6)*1.36136","v":138.0827448},"Controlled OD (SCH 60) Schedule Pipe","ASTM A53"]
[null,null,null,null,{"$f":"ROW()","v":1152},"Steel","IPS (SCH)",20,"20","> 1000  psi - IPS (SCH) 60",60,1400,20,"OD",null,0.81200000000000006,null,{"$f":"VLOOKUP(F1152,Tables!$G$5:$H$14,2,FALSE)*(M1152-(P1152+Q1152*Tables!$C$6))*(P1152+Q1152*Tables!$C$6)*1.36136","v":166.29331372093441},"Controlled OD (SCH 60) Schedule Pipe","ASTM A53"]
[null,null,null,null,{"$f":"ROW()","v":1153},"Steel","IPS (SCH)",24,"24","> 1000  psi - IPS (SCH) 60",60,1400,24,"OD",null,0.96799999999999997,null,{"$f":"VLOOKUP(F1153,Tables!$G$5:$H$14,2,FALSE)*(M1153-(P1153+Q1153*Tables!$C$6))*(P1153+Q1153*Tables!$C$6)*1.36136","v":237.95567005450235},"Controlled OD (SCH 60) Schedule Pipe","ASTM A53"]
[null,null,null,null,{"$f":"ROW()","v":1154},"Steel","IPS (SCH)",0.125,"1/8",{"$f":"\" \"&IF(L1154>1000,\"> 1000 \",L1154)&\" psi - \"&G1154&\" \"&K1154","v":" 800 psi - IPS (SCH) 80"},80,800,0.40500000000000003,"OD",null,9.5000000000000001E-2,null,{"$f":"VLOOKUP(F1154,Tables!$G$5:$H$14,2,FALSE)*(M1154-(P1154+Q1154*Tables!$C$6))*(P1154+Q1154*Tables!$C$6)*1.36136","v":0.31432168768000007},"Controlled OD (SCH 80) Schedule Pipe","ASTM A53"]
[null,null,null,null,{"$f":"ROW()","v":1155},"Steel","IPS (SCH)",0.25,"1/4"," 800 psi - IPS (SCH) 80",80,800,0.54,"OD",null,0.11899999999999999,null,{"$f":"VLOOKUP(F1155,Tables!$G$5:$H$14,2,FALSE)*(M1155-(P1155+Q1155*Tables!$C$6))*(P1155+Q1155*Tables!$C$6)*1.36136","v":0.53470975317760006},"Controlled OD (SCH 80) Schedule Pipe","ASTM A53"]
[null,null,null,null,{"$f":"ROW()","v":1156},"Steel","IPS (SCH)",0.375,"3/8"," 800 psi - IPS (SCH) 80",80,800,0.67500000000000004,"OD",null,0.126,null,{"$f":"VLOOKUP(F1156,Tables!$G$5:$H$14,2,FALSE)*(M1156-(P1156+Q1156*Tables!$C$6))*(P1156+Q1156*Tables!$C$6)*1.36136","v":0.73829841845760003},"Controlled OD (SCH 80) Schedule Pipe","ASTM A53"]
[null,null,null,null,{"$f":"ROW()","v":1157},"Steel","IPS (SCH)",0.5,"1/2"," 800 psi - IPS (SCH) 80",80,800,0.84,"OD",null,0.14699999999999999,null,{"$f":"VLOOKUP(F1157,Tables!$G$5:$H$14,2,FALSE)*(M1157-(P1157+Q1157*Tables!$C$6))*(P1157+Q1157*Tables!$C$6)*1.36136","v":1.0872755397503999},"Controlled OD (SCH 80) Schedule Pipe","ASTM A53"]
[null,null,null,null,{"$f":"ROW()","v":1158},"Steel","IPS (SCH)",0.75,"3/4"," 800 psi - IPS (SCH) 80",80,800,1.05,"OD",null,0.154,null,{"$f":"VLOOKUP(F1158,Tables!$G$5:$H$14,2,FALSE)*(M1158-(P1158+Q1158*Tables!$C$6))*(P1158+Q1158*Tables!$C$6)*1.36136","v":1.4727118422015997},"Controlled OD (SCH 80) Schedule Pipe","ASTM A53"]
[null,null,null,null,{"$f":"ROW()","v":1159},"Steel","IPS (SCH)",1,"1"," 800 psi - IPS (SCH) 80",80,800,1.3149999999999999,"OD",null,0.17899999999999999,null,{"$f":"VLOOKUP(F1159,Tables!$G$5:$H$14,2,FALSE)*(M1159-(P1159+Q1159*Tables!$C$6))*(P1159+Q1159*Tables!$C$6)*1.36136","v":2.1703032006655993},"Controlled OD (SCH 80) Schedule Pipe","ASTM A53"]
[null,null,null,null,{"$f":"ROW()","v":1160},"Steel","IPS (SCH)",1.25,"1 1/4","> 1000  psi - IPS (SCH) 80",80,1800,1.66,"OD",null,0.191,null,{"$f":"VLOOKUP(F1160,Tables!$G$5:$H$14,2,FALSE)*(M1160-(P1160+Q1160*Tables!$C$6))*(P1160+Q1160*Tables!$C$6)*1.36136","v":2.9946371751295993},"Controlled OD (SCH 80) Schedule Pipe","ASTM A53"]
[null,null,null,null,{"$f":"ROW()","v":1161},"Steel","IPS (SCH)",1.5,"1 1/2","> 1000  psi - IPS (SCH) 80",80,1800,1.9,"OD",null,0.2,null,{"$f":"VLOOKUP(F1161,Tables!$G$5:$H$14,2,FALSE)*(M1161-(P1161+Q1161*Tables!$C$6))*(P1161+Q1161*Tables!$C$6)*1.36136","v":3.6288412159999996},"Controlled OD (SCH 80) Schedule Pipe","ASTM A53"]
[null,null,null,null,{"$f":"ROW()","v":1162},"Steel","IPS (SCH)",2,"2","> 1000  psi - IPS (SCH) 80",80,2500,2.375,"OD",null,0.218,null,{"$f":"VLOOKUP(F1162,Tables!$G$5:$H$14,2,FALSE)*(M1162-(P1162+Q1162*Tables!$C$6))*(P1162+Q1162*Tables!$C$6)*1.36136","v":5.0187514401023989},"Controlled OD (SCH 80) Schedule Pipe","ASTM A53"]
[null,null,null,null,{"$f":"ROW()","v":1163},"Steel","IPS (SCH)",2.5,"2 1/2","> 1000  psi - IPS (SCH) 80",80,2500,2.875,"OD",null,0.27600000000000002,null,{"$f":"VLOOKUP(F1163,Tables!$G$5:$H$14,2,FALSE)*(M1163-(P1163+Q1163*Tables!$C$6))*(P1163+Q1163*Tables!$C$6)*1.36136","v":7.6560438130176012},"Controlled OD (SCH 80) Schedule Pipe","ASTM A53"]
[null,null,null,null,{"$f":"ROW()","v":1164},"Steel","IPS (SCH)",3,"3","> 1000  psi - IPS (SCH) 80",80,2500,3.5,"OD",null,0.3,null,{"$f":"VLOOKUP(F1164,Tables!$G$5:$H$14,2,FALSE)*(M1164-(P1164+Q1164*Tables!$C$6))*(P1164+Q1164*Tables!$C$6)*1.36136","v":10.246139904},"Controlled OD (SCH 80) Schedule Pipe","ASTM A53"]
[null,null,null,null,{"$f":"ROW()","v":1165},"Steel","IPS (SCH)",3.5,"3 1/2","> 1000  psi - IPS (SCH) 80",80,2700,4,"OD",null,0.318,null,{"$f":"VLOOKUP(F1165,Tables!$G$5:$H$14,2,FALSE)*(M1165-(P1165+Q1165*Tables!$C$6))*(P1165+Q1165*Tables!$C$6)*1.36136","v":12.4968326106624},"Controlled OD (SCH 80) Schedule Pipe","ASTM A53"]
[null,null,null,null,{"$f":"ROW()","v":1166},"Steel","IPS (SCH)",4,"4","> 1000  psi - IPS (SCH) 80",80,2700,4.5,"OD",null,0.33700000000000002,null,{"$f":"VLOOKUP(F1166,Tables!$G$5:$H$14,2,FALSE)*(M1166-(P1166+Q1166*Tables!$C$6))*(P1166+Q1166*Tables!$C$6)*1.36136","v":14.973570105894401},"Controlled OD (SCH 80) Schedule Pipe","ASTM A53"]
[null,null,null,null,{"$f":"ROW()","v":1167},"Steel","IPS (SCH)",5,"5","> 1000  psi - IPS (SCH) 80",80,2300,5.5629999999999997,"OD",null,0.375,null,{"$f":"VLOOKUP(F1167,Tables!$G$5:$H$14,2,FALSE)*(M1167-(P1167+Q1167*Tables!$C$6))*(P1167+Q1167*Tables!$C$6)*1.36136","v":20.764442899199995},"Controlled OD (SCH 80) Schedule Pipe","ASTM A53"]
[null,null,null,null,{"$f":"ROW()","v":1168},"Steel","IPS (SCH)",6,"6","> 1000  psi - IPS (SCH) 80",80,2300,6.625,"OD",null,0.432,null,{"$f":"VLOOKUP(F1168,Tables!$G$5:$H$14,2,FALSE)*(M1168-(P1168+Q1168*Tables!$C$6))*(P1168+Q1168*Tables!$C$6)*1.36136","v":28.554454991462393},"Controlled OD (SCH 80) Schedule Pipe","ASTM A53"]
[null,null,null,null,{"$f":"ROW()","v":1169},"Steel","IPS (SCH)",8,"8","> 1000  psi - IPS (SCH) 80",80,2000,8.625,"OD",null,0.5,null,{"$f":"VLOOKUP(F1169,Tables!$G$5:$H$14,2,FALSE)*(M1169-(P1169+Q1169*Tables!$C$6))*(P1169+Q1169*Tables!$C$6)*1.36136","v":43.359315999999993},"Controlled OD (SCH 80) Schedule Pipe","ASTM A53"]
[null,null,null,null,{"$f":"ROW()","v":1170},"Steel","IPS (SCH)",10,"10","> 1000  psi - IPS (SCH) 80",80,1900,10.75,"OD",null,0.59299999999999997,null,{"$f":"VLOOKUP(F1170,Tables!$G$5:$H$14,2,FALSE)*(M1170-(P1170+Q1170*Tables!$C$6))*(P1170+Q1170*Tables!$C$6)*1.36136","v":64.284932814502397},"Controlled OD (SCH 80) Schedule Pipe","ASTM A53"]
[null,null,null,null,{"$f":"ROW()","v":1171},"Steel","IPS (SCH)",12,"12","> 1000  psi - IPS (SCH) 80",80,1900,12.75,"OD",null,0.68700000000000006,null,{"$f":"VLOOKUP(F1171,Tables!$G$5:$H$14,2,FALSE)*(M1171-(P1171+Q1171*Tables!$C$6))*(P1171+Q1171*Tables!$C$6)*1.36136","v":88.450667239334408},"Controlled OD (SCH 80) Schedule Pipe","ASTM A53"]
[null,null,null,null,{"$f":"ROW()","v":1172},"Steel","IPS (SCH)",14,"14","> 1000  psi - IPS (SCH) 80",80,1900,14,"OD",null,0.75,null,{"$f":"VLOOKUP(F1172,Tables!$G$5:$H$14,2,FALSE)*(M1172-(P1172+Q1172*Tables!$C$6))*(P1172+Q1172*Tables!$C$6)*1.36136","v":106.06355759999998},"Controlled OD (SCH 80) Schedule Pipe","ASTM A53"]
[null,null,null,null,{"$f":"ROW()","v":1173},"Steel","IPS (SCH)",16,"16","> 1000  psi - IPS (SCH) 80",80,1900,16,"OD",null,0.84299999999999997,null,{"$f":"VLOOKUP(F1173,Tables!$G$5:$H$14,2,FALSE)*(M1173-(P1173+Q1173*Tables!$C$6))*(P1173+Q1173*Tables!$C$6)*1.36136","v":136.37346452970237},"Controlled OD (SCH 80) Schedule Pipe","ASTM A53"]
[null,null,null,null,{"$f":"ROW()","v":1174},"Steel","IPS (SCH)",18,"18","> 1000  psi - IPS (SCH) 80",80,1800,18,"OD",null,0.93700000000000006,null,{"$f":"VLOOKUP(F1174,Tables!$G$5:$H$14,2,FALSE)*(M1174-(P1174+Q1174*Tables!$C$6))*(P1174+Q1174*Tables!$C$6)*1.36136","v":170.64125251613436},"Controlled OD (SCH 80) Schedule Pipe","ASTM A53"]
[null,null,null,null,{"$f":"ROW()","v":1175},"Steel","IPS (SCH)",20,"20","> 1000  psi - IPS (SCH) 80",80,1800,20,"OD",null,1.0309999999999999,null,{"$f":"VLOOKUP(F1175,Tables!$G$5:$H$14,2,FALSE)*(M1175-(P1175+Q1175*Tables!$C$6))*(P1175+Q1175*Tables!$C$6)*1.36136","v":208.73349760623358},"Controlled OD (SCH 80) Schedule Pipe","ASTM A53"]
[null,null,null,null,{"$f":"ROW()","v":1176},"Steel","IPS (SCH)",24,"24","> 1000  psi - IPS (SCH) 80",80,1800,24,"OD",null,1.218,null,{"$f":"VLOOKUP(F1176,Tables!$G$5:$H$14,2,FALSE)*(M1176-(P1176+Q1176*Tables!$C$6))*(P1176+Q1176*Tables!$C$6)*1.36136","v":296.16121585290239},"Controlled OD (SCH 80) Schedule Pipe","ASTM A53"]
[null,null,null,null,{"$f":"ROW()","v":1177},"Steel","IPS (SCH)",0.125,"1/8",{"$f":"\" \"&IF(L1177>1000,\"> 1000 \",L1177)&\" psi - \"&G1177&\" \"&K1177","v":" 800 psi - IPS (SCH) X-Heavy"},"X-Heavy",800,0.40500000000000003,"OD",null,9.5000000000000001E-2,null,{"$f":"VLOOKUP(F1177,Tables!$G$5:$H$14,2,FALSE)*(M1177-(P1177+Q1177*Tables!$C$6))*(P1177+Q1177*Tables!$C$6)*1.36136","v":0.31432168768000007},"Controlled OD (SCH X-Heavy) Schedule Pipe","ASTM A53"]
[null,null,null,null,{"$f":"ROW()","v":1178},"Steel","IPS (SCH)",0.25,"1/4"," 800 psi - IPS (SCH) X-Heavy","X-Heavy",800,0.54,"OD",null,0.11899999999999999,null,{"$f":"VLOOKUP(F1178,Tables!$G$5:$H$14,2,FALSE)*(M1178-(P1178+Q1178*Tables!$C$6))*(P1178+Q1178*Tables!$C$6)*1.36136","v":0.53470975317760006},"Controlled OD (SCH X-Heavy) Schedule Pipe","ASTM A53"]
[null,null,null,null,{"$f":"ROW()","v":1179},"Steel","IPS (SCH)",0.375,"3/8"," 800 psi - IPS (SCH) X-Heavy","X-Heavy",800,0.67500000000000004,"OD",null,0.126,null,{"$f":"VLOOKUP(F1179,Tables!$G$5:$H$14,2,FALSE)*(M1179-(P1179+Q1179*Tables!$C$6))*(P1179+Q1179*Tables!$C$6)*1.36136","v":0.73829841845760003},"Controlled OD (SCH X-Heavy) Schedule Pipe","ASTM A53"]
[null,null,null,null,{"$f":"ROW()","v":1180},"Steel","IPS (SCH)",0.5,"1/2"," 800 psi - IPS (SCH) X-Heavy","X-Heavy",800,0.84,"OD",null,0.14699999999999999,null,{"$f":"VLOOKUP(F1180,Tables!$G$5:$H$14,2,FALSE)*(M1180-(P1180+Q1180*Tables!$C$6))*(P1180+Q1180*Tables!$C$6)*1.36136","v":1.0872755397503999},"Controlled OD (SCH X-Heavy) Schedule Pipe","ASTM A53"]
[null,null,null,null,{"$f":"ROW()","v":1181},"Steel","IPS (SCH)",0.75,"3/4"," 800 psi - IPS (SCH) X-Heavy","X-Heavy",800,1.05,"OD",null,0.154,null,{"$f":"VLOOKUP(F1181,Tables!$G$5:$H$14,2,FALSE)*(M1181-(P1181+Q1181*Tables!$C$6))*(P1181+Q1181*Tables!$C$6)*1.36136","v":1.4727118422015997},"Controlled OD (SCH X-Heavy) Schedule Pipe","ASTM A53"]
[null,null,null,null,{"$f":"ROW()","v":1182},"Steel","IPS (SCH)",1,"1"," 800 psi - IPS (SCH) X-Heavy","X-Heavy",800,1.3149999999999999,"OD",null,0.17899999999999999,null,{"$f":"VLOOKUP(F1182,Tables!$G$5:$H$14,2,FALSE)*(M1182-(P1182+Q1182*Tables!$C$6))*(P1182+Q1182*Tables!$C$6)*1.36136","v":2.1703032006655993},"Controlled OD (SCH X-Heavy) Schedule Pipe","ASTM A53"]
[null,null,null,null,{"$f":"ROW()","v":1183},"Steel","IPS (SCH)",1.25,"1 1/4","> 1000  psi - IPS (SCH) X-Heavy","X-Heavy",1800,1.66,"OD",null,0.191,null,{"$f":"VLOOKUP(F1183,Tables!$G$5:$H$14,2,FALSE)*(M1183-(P1183+Q1183*Tables!$C$6))*(P1183+Q1183*Tables!$C$6)*1.36136","v":2.9946371751295993},"Controlled OD (SCH X-Heavy) Schedule Pipe","ASTM A53"]
[null,null,null,null,{"$f":"ROW()","v":1184},"Steel","IPS (SCH)",1.5,"1 1/2","> 1000  psi - IPS (SCH) X-Heavy","X-Heavy",1800,1.9,"OD",null,0.2,null,{"$f":"VLOOKUP(F1184,Tables!$G$5:$H$14,2,FALSE)*(M1184-(P1184+Q1184*Tables!$C$6))*(P1184+Q1184*Tables!$C$6)*1.36136","v":3.6288412159999996},"Controlled OD (SCH X-Heavy) Schedule Pipe","ASTM A53"]
[null,null,null,null,{"$f":"ROW()","v":1185},"Steel","IPS (SCH)",2,"2","> 1000  psi - IPS (SCH) X-Heavy","X-Heavy",2500,2.375,"OD",null,0.218,null,{"$f":"VLOOKUP(F1185,Tables!$G$5:$H$14,2,FALSE)*(M1185-(P1185+Q1185*Tables!$C$6))*(P1185+Q1185*Tables!$C$6)*1.36136","v":5.0187514401023989},"Controlled OD (SCH X-Heavy) Schedule Pipe","ASTM A53"]
[null,null,null,null,{"$f":"ROW()","v":1186},"Steel","IPS (SCH)",2.5,"2 1/2","> 1000  psi - IPS (SCH) X-Heavy","X-Heavy",2500,2.875,"OD",null,0.27600000000000002,null,{"$f":"VLOOKUP(F1186,Tables!$G$5:$H$14,2,FALSE)*(M1186-(P1186+Q1186*Tables!$C$6))*(P1186+Q1186*Tables!$C$6)*1.36136","v":7.6560438130176012},"Controlled OD (SCH X-Heavy) Schedule Pipe","ASTM A53"]
[null,null,null,null,{"$f":"ROW()","v":1187},"Steel","IPS (SCH)",3,"3","> 1000  psi - IPS (SCH) X-Heavy","X-Heavy",2500,3.5,"OD",null,0.3,null,{"$f":"VLOOKUP(F1187,Tables!$G$5:$H$14,2,FALSE)*(M1187-(P1187+Q1187*Tables!$C$6))*(P1187+Q1187*Tables!$C$6)*1.36136","v":10.246139904},"Controlled OD (SCH X-Heavy) Schedule Pipe","ASTM A53"]
[null,null,null,null,{"$f":"ROW()","v":1188},"Steel","IPS (SCH)",3.5,"3 1/2","> 1000  psi - IPS (SCH) X-Heavy","X-Heavy",2700,4,"OD",null,0.318,null,{"$f":"VLOOKUP(F1188,Tables!$G$5:$H$14,2,FALSE)*(M1188-(P1188+Q1188*Tables!$C$6))*(P1188+Q1188*Tables!$C$6)*1.36136","v":12.4968326106624},"Controlled OD (SCH X-Heavy) Schedule Pipe","ASTM A53"]
[null,null,null,null,{"$f":"ROW()","v":1189},"Steel","IPS (SCH)",4,"4","> 1000  psi - IPS (SCH) X-Heavy","X-Heavy",2700,4.5,"OD",null,0.33700000000000002,null,{"$f":"VLOOKUP(F1189,Tables!$G$5:$H$14,2,FALSE)*(M1189-(P1189+Q1189*Tables!$C$6))*(P1189+Q1189*Tables!$C$6)*1.36136","v":14.973570105894401},"Controlled OD (SCH X-Heavy) Schedule Pipe","ASTM A53"]
[null,null,null,null,{"$f":"ROW()","v":1190},"Steel","IPS (SCH)",4.5,"4 1/2","> 1000  psi - IPS (SCH) X-Heavy","X-Heavy",2800,5,"OD",null,0.35499999999999998,null,{"$f":"VLOOKUP(F1190,Tables!$G$5:$H$14,2,FALSE)*(M1190-(P1190+Q1190*Tables!$C$6))*(P1190+Q1190*Tables!$C$6)*1.36136","v":17.599613071039997},"Controlled OD (SCH X-Heavy) Schedule Pipe","ASTM A53"]
[null,null,null,null,{"$f":"ROW()","v":1191},"Steel","IPS (SCH)",5,"5","> 1000  psi - IPS (SCH) X-Heavy","X-Heavy",2300,5.5629999999999997,"OD",null,0.375,null,{"$f":"VLOOKUP(F1191,Tables!$G$5:$H$14,2,FALSE)*(M1191-(P1191+Q1191*Tables!$C$6))*(P1191+Q1191*Tables!$C$6)*1.36136","v":20.764442899199995},"Controlled OD (SCH X-Heavy) Schedule Pipe","ASTM A53"]
[null,null,null,null,{"$f":"ROW()","v":1192},"Steel","IPS (SCH)",6,"6","> 1000  psi - IPS (SCH) X-Heavy","X-Heavy",2300,6.625,"OD",null,0.432,null,{"$f":"VLOOKUP(F1192,Tables!$G$5:$H$14,2,FALSE)*(M1192-(P1192+Q1192*Tables!$C$6))*(P1192+Q1192*Tables!$C$6)*1.36136","v":28.554454991462393},"Controlled OD (SCH X-Heavy) Schedule Pipe","ASTM A53"]
[null,null,null,null,{"$f":"ROW()","v":1193},"Steel","IPS (SCH)",7,"7","> 1000  psi - IPS (SCH) X-Heavy","X-Heavy",2100,7.625,"OD",null,0.5,null,{"$f":"VLOOKUP(F1193,Tables!$G$5:$H$14,2,FALSE)*(M1193-(P1193+Q1193*Tables!$C$6))*(P1193+Q1193*Tables!$C$6)*1.36136","v":38.022784799999997},"Controlled OD (SCH X-Heavy) Schedule Pipe","ASTM A53"]
[null,null,null,null,{"$f":"ROW()","v":1194},"Steel","IPS (SCH)",8,"8","> 1000  psi - IPS (SCH) X-Heavy","X-Heavy",2000,8.625,"OD",null,0.5,null,{"$f":"VLOOKUP(F1194,Tables!$G$5:$H$14,2,FALSE)*(M1194-(P1194+Q1194*Tables!$C$6))*(P1194+Q1194*Tables!$C$6)*1.36136","v":43.359315999999993},"Controlled OD (SCH X-Heavy) Schedule Pipe","ASTM A53"]
[null,null,null,null,{"$f":"ROW()","v":1195},"Steel","IPS (SCH)",10,"10","> 1000  psi - IPS (SCH) X-Heavy","X-Heavy",1600,10.75,"OD",null,0.5,null,{"$f":"VLOOKUP(F1195,Tables!$G$5:$H$14,2,FALSE)*(M1195-(P1195+Q1195*Tables!$C$6))*(P1195+Q1195*Tables!$C$6)*1.36136","v":54.699444799999995},"Controlled OD (SCH X-Heavy) Schedule Pipe","ASTM A53"]
[null,null,null,null,{"$f":"ROW()","v":1196},"Steel","IPS (SCH)",11,"11","> 1000  psi - IPS (SCH) X-Heavy","X-Heavy",1500,11.75,"OD",null,0.5,null,{"$f":"VLOOKUP(F1196,Tables!$G$5:$H$14,2,FALSE)*(M1196-(P1196+Q1196*Tables!$C$6))*(P1196+Q1196*Tables!$C$6)*1.36136","v":60.035975999999998},"Controlled OD (SCH X-Heavy) Schedule Pipe","ASTM A53"]
[null,null,null,null,{"$f":"ROW()","v":1197},"Steel","IPS (SCH)",12,"12",{"$f":"IF(L1197>1000,\"> 1000 \",L1197)&\" psi - \"&G1197&\" \"&K1197","v":"> 1000  psi - IPS (SCH) X-Heavy"},"X-Heavy",1400,12.75,"OD",null,0.5,null,{"$f":"VLOOKUP(F1197,Tables!$G$5:$H$14,2,FALSE)*(M1197-(P1197+Q1197*Tables!$C$6))*(P1197+Q1197*Tables!$C$6)*1.36136","v":65.372507199999987},"Controlled OD (SCH X-Heavy) Schedule Pipe","ASTM A53"]
[null,null,null,null,{"$f":"ROW()","v":1198},"Steel","IPS (SCH)",14,"14","> 1000  psi - IPS (SCH) X-Heavy","X-Heavy",1200,14,"OD",null,0.5,null,{"$f":"VLOOKUP(F1198,Tables!$G$5:$H$14,2,FALSE)*(M1198-(P1198+Q1198*Tables!$C$6))*(P1198+Q1198*Tables!$C$6)*1.36136","v":72.043171200000003},{"$f":"\"Controlled OD (SCH \"&K1198&\") Schedule Pipe\"","v":"Controlled OD (SCH X-Heavy) Schedule Pipe"},"ASTM A53"]
[null,null,null,null,{"$f":"ROW()","v":1199},"Steel","IPS (SCH)",16,"16","> 1000  psi - IPS (SCH) X-Heavy","X-Heavy",1100,16,"OD",null,0.5,null,{"$f":"VLOOKUP(F1199,Tables!$G$5:$H$14,2,FALSE)*(M1199-(P1199+Q1199*Tables!$C$6))*(P1199+Q1199*Tables!$C$6)*1.36136","v":82.716233599999995},"Controlled OD (SCH X-Heavy) Schedule Pipe","ASTM A53"]
[null,null,null,null,{"$f":"ROW()","v":1200},"Steel","IPS (SCH)",18,"18","1000 psi - IPS (SCH) X-Heavy","X-Heavy",1000,18,"OD",null,0.5,null,{"$f":"VLOOKUP(F1200,Tables!$G$5:$H$14,2,FALSE)*(M1200-(P1200+Q1200*Tables!$C$6))*(P1200+Q1200*Tables!$C$6)*1.36136","v":93.389295999999987},"Controlled OD (SCH X-Heavy) Schedule Pipe","ASTM A53"]
[null,null,null,null,{"$f":"ROW()","v":1201},"Steel","IPS (SCH)",20,"20",{"$f":"\" \"&IF(L1201>1000,\"> 1000 \",L1201)&\" psi - \"&G1201&\" \"&K1201","v":" 900 psi - IPS (SCH) X-Heavy"},"X-Heavy",900,20,"OD",null,0.5,null,{"$f":"VLOOKUP(F1201,Tables!$G$5:$H$14,2,FALSE)*(M1201-(P1201+Q1201*Tables!$C$6))*(P1201+Q1201*Tables!$C$6)*1.36136","v":104.06235839999999},"Controlled OD (SCH X-Heavy) Schedule Pipe","ASTM A53"]
[null,null,null,null,{"$f":"ROW()","v":1202},"Steel","IPS (SCH)",24,"24"," 700 psi - IPS (SCH) X-Heavy","X-Heavy",700,24,"OD",null,0.5,null,{"$f":"VLOOKUP(F1202,Tables!$G$5:$H$14,2,FALSE)*(M1202-(P1202+Q1202*Tables!$C$6))*(P1202+Q1202*Tables!$C$6)*1.36136","v":125.40848319999999},"Controlled OD (SCH X-Heavy) Schedule Pipe","ASTM A53"]
[null,null,null,null,{"$f":"ROW()","v":1203},"Steel","IPS (SCH)",26,"26"," 600 psi - IPS (SCH) X-Heavy","X-Heavy",600,26,"OD",null,0.5,null,{"$f":"VLOOKUP(F1203,Tables!$G$5:$H$14,2,FALSE)*(M1203-(P1203+Q1203*Tables!$C$6))*(P1203+Q1203*Tables!$C$6)*1.36136","v":136.08154559999997},"Controlled OD (SCH X-Heavy) Schedule Pipe","ASTM A53"]
[null,null,null,null,{"$f":"ROW()","v":1204},"Steel","IPS (SCH)",28,"28"," 500 psi - IPS (SCH) X-Heavy","X-Heavy",500,28,"OD",null,0.5,null,{"$f":"VLOOKUP(F1204,Tables!$G$5:$H$14,2,FALSE)*(M1204-(P1204+Q1204*Tables!$C$6))*(P1204+Q1204*Tables!$C$6)*1.36136","v":146.75460799999999},"Controlled OD (SCH X-Heavy) Schedule Pipe","ASTM A53"]
[null,null,null,null,{"$f":"ROW()","v":1205},"Steel","IPS (SCH)",30,"30"," 500 psi - IPS (SCH) X-Heavy","X-Heavy",500,30,"OD",null,0.5,null,{"$f":"VLOOKUP(F1205,Tables!$G$5:$H$14,2,FALSE)*(M1205-(P1205+Q1205*Tables!$C$6))*(P1205+Q1205*Tables!$C$6)*1.36136","v":157.42767039999998},"Controlled OD (SCH X-Heavy) Schedule Pipe","ASTM A53"]
[null,null,null,null,{"$f":"ROW()","v":1206},"Steel","IPS (SCH)",32,"32"," 400 psi - IPS (SCH) X-Heavy","X-Heavy",400,32,"OD",null,0.5,null,{"$f":"VLOOKUP(F1206,Tables!$G$5:$H$14,2,FALSE)*(M1206-(P1206+Q1206*Tables!$C$6))*(P1206+Q1206*Tables!$C$6)*1.36136","v":168.1007328},"Controlled OD (SCH X-Heavy) Schedule Pipe","ASTM A53"]
[null,null,null,null,{"$f":"ROW()","v":1207},"Steel","IPS (SCH)",34,"34"," 400 psi - IPS (SCH) X-Heavy","X-Heavy",400,34,"OD",null,0.5,null,{"$f":"VLOOKUP(F1207,Tables!$G$5:$H$14,2,FALSE)*(M1207-(P1207+Q1207*Tables!$C$6))*(P1207+Q1207*Tables!$C$6)*1.36136","v":178.77379519999997},"Controlled OD (SCH X-Heavy) Schedule Pipe","ASTM A53"]
[null,null,null,null,{"$f":"ROW()","v":1208},"Steel","IPS (SCH)",36,"36"," 400 psi - IPS (SCH) X-Heavy","X-Heavy",400,36,"OD",null,0.5,null,{"$f":"VLOOKUP(F1208,Tables!$G$5:$H$14,2,FALSE)*(M1208-(P1208+Q1208*Tables!$C$6))*(P1208+Q1208*Tables!$C$6)*1.36136","v":189.44685759999999},"Controlled OD (SCH X-Heavy) Schedule Pipe","ASTM A53"]
[null,null,null,null,{"$f":"ROW()","v":1209},"Steel","IPS (SCH)",42,"42"," 300 psi - IPS (SCH) X-Heavy","X-Heavy",300,42,"OD",null,0.5,null,{"$f":"VLOOKUP(F1209,Tables!$G$5:$H$14,2,FALSE)*(M1209-(P1209+Q1209*Tables!$C$6))*(P1209+Q1209*Tables!$C$6)*1.36136","v":221.46604479999999},"Controlled OD (SCH X-Heavy) Schedule Pipe","ASTM A53"]
[null,null,null,null,{"$f":"ROW()","v":1210},"Steel","IPS (SCH)",48,"48"," 300 psi - IPS (SCH) X-Heavy","X-Heavy",300,48,"OD",null,0.5,null,{"$f":"VLOOKUP(F1210,Tables!$G$5:$H$14,2,FALSE)*(M1210-(P1210+Q1210*Tables!$C$6))*(P1210+Q1210*Tables!$C$6)*1.36136","v":253.48523199999997},"Controlled OD (SCH X-Heavy) Schedule Pipe","ASTM A53"]
[null,null,null,null,{"$f":"ROW()","v":1211},"Steel","IPS (SCH)",8,"8","> 1000  psi - IPS (SCH) 100",100,2500,8.625,"OD",null,0.59299999999999997,null,{"$f":"VLOOKUP(F1211,Tables!$G$5:$H$14,2,FALSE)*(M1211-(P1211+Q1211*Tables!$C$6))*(P1211+Q1211*Tables!$C$6)*1.36136","v":50.835540057702396},"Controlled OD (SCH 100) Schedule Pipe","ASTM A53"]
[null,null,null,null,{"$f":"ROW()","v":1212},"Steel","IPS (SCH)",10,"10","> 1000  psi - IPS (SCH) 100",100,2400,10.75,"OD",null,0.71799999999999997,null,{"$f":"VLOOKUP(F1212,Tables!$G$5:$H$14,2,FALSE)*(M1212-(P1212+Q1212*Tables!$C$6))*(P1212+Q1212*Tables!$C$6)*1.36136","v":76.877812313702393},"Controlled OD (SCH 100) Schedule Pipe","ASTM A53"]
[null,null,null,null,{"$f":"ROW()","v":1213},"Steel","IPS (SCH)",12,"12","> 1000  psi - IPS (SCH) 100",100,2300,12.75,"OD",null,0.84299999999999997,null,{"$f":"VLOOKUP(F1213,Tables!$G$5:$H$14,2,FALSE)*(M1213-(P1213+Q1213*Tables!$C$6))*(P1213+Q1213*Tables!$C$6)*1.36136","v":107.13194181930238},"Controlled OD (SCH 100) Schedule Pipe","ASTM A53"]
[null,null,null,null,{"$f":"ROW()","v":1214},"Steel","IPS (SCH)",14,"14","> 1000  psi - IPS (SCH) 100",100,2400,14,"OD",null,0.93700000000000006,null,{"$f":"VLOOKUP(F1214,Tables!$G$5:$H$14,2,FALSE)*(M1214-(P1214+Q1214*Tables!$C$6))*(P1214+Q1214*Tables!$C$6)*1.36136","v":130.63861464093441},"Controlled OD (SCH 100) Schedule Pipe","ASTM A53"]
[null,null,null,null,{"$f":"ROW()","v":1215},"Steel","IPS (SCH)",16,"16","> 1000  psi - IPS (SCH) 100",100,2300,16,"OD",null,1.0309999999999999,null,{"$f":"VLOOKUP(F1215,Tables!$G$5:$H$14,2,FALSE)*(M1215-(P1215+Q1215*Tables!$C$6))*(P1215+Q1215*Tables!$C$6)*1.36136","v":164.71778826863357},"Controlled OD (SCH 100) Schedule Pipe","ASTM A53"]
[null,null,null,null,{"$f":"ROW()","v":1216},"Steel","IPS (SCH)",18,"18","> 1000  psi - IPS (SCH) 100",100,2300,18,"OD",null,1.1559999999999999,null,{"$f":"VLOOKUP(F1216,Tables!$G$5:$H$14,2,FALSE)*(M1216-(P1216+Q1216*Tables!$C$6))*(P1216+Q1216*Tables!$C$6)*1.36136","v":207.82228490383358},"Controlled OD (SCH 100) Schedule Pipe","ASTM A53"]
[null,null,null,null,{"$f":"ROW()","v":1217},"Steel","IPS (SCH)",20,"20","> 1000  psi - IPS (SCH) 100",100,2300,20,"OD",null,1.28,null,{"$f":"VLOOKUP(F1217,Tables!$G$5:$H$14,2,FALSE)*(M1217-(P1217+Q1217*Tables!$C$6))*(P1217+Q1217*Tables!$C$6)*1.36136","v":255.74365200383994},"Controlled OD (SCH 100) Schedule Pipe","ASTM A53"]
[null,null,null,null,{"$f":"ROW()","v":1218},"Steel","IPS (SCH)",24,"24","> 1000  psi - IPS (SCH) 100",100,2300,24,"OD",null,1.5309999999999999,null,{"$f":"VLOOKUP(F1218,Tables!$G$5:$H$14,2,FALSE)*(M1218-(P1218+Q1218*Tables!$C$6))*(P1218+Q1218*Tables!$C$6)*1.36136","v":367.15376280943354},"Controlled OD (SCH 100) Schedule Pipe","ASTM A53"]
[null,null,null,null,{"$f":"ROW()","v":1219},"Steel","IPS (SCH)",4,"4","> 1000  psi - IPS (SCH) 120",120,2800,4.5,"OD",null,0.437,null,{"$f":"VLOOKUP(F1219,Tables!$G$5:$H$14,2,FALSE)*(M1219-(P1219+Q1219*Tables!$C$6))*(P1219+Q1219*Tables!$C$6)*1.36136","v":18.950353156134398},"Controlled OD (SCH 120) Schedule Pipe","ASTM A53"]
[null,null,null,null,{"$f":"ROW()","v":1220},"Steel","IPS (SCH)",5,"5","> 1000  psi - IPS (SCH) 120",120,2800,5.5629999999999997,"OD",null,0.5,null,{"$f":"VLOOKUP(F1220,Tables!$G$5:$H$14,2,FALSE)*(M1220-(P1220+Q1220*Tables!$C$6))*(P1220+Q1220*Tables!$C$6)*1.36136","v":27.018857465599996},"Controlled OD (SCH 120) Schedule Pipe","ASTM A53"]
[null,null,null,null,{"$f":"ROW()","v":1221},"Steel","IPS (SCH)",6,"6","> 1000  psi - IPS (SCH) 120",120,2800,6.625,"OD",null,0.56200000000000006,null,{"$f":"VLOOKUP(F1221,Tables!$G$5:$H$14,2,FALSE)*(M1221-(P1221+Q1221*Tables!$C$6))*(P1221+Q1221*Tables!$C$6)*1.36136","v":36.367456860134396},"Controlled OD (SCH 120) Schedule Pipe","ASTM A53"]
[null,null,null,null,{"$f":"ROW()","v":1222},"Steel","IPS (SCH)",8,"8","> 1000  psi - IPS (SCH) 120",120,2800,8.625,"OD",null,0.71799999999999997,null,{"$f":"VLOOKUP(F1222,Tables!$G$5:$H$14,2,FALSE)*(M1222-(P1222+Q1222*Tables!$C$6))*(P1222+Q1222*Tables!$C$6)*1.36136","v":60.59338735690239},"Controlled OD (SCH 120) Schedule Pipe","ASTM A53"]
[null,null,null,null,{"$f":"ROW()","v":1223},"Steel","IPS (SCH)",10,"10","> 1000  psi - IPS (SCH) 120",120,2800,10.75,"OD",null,0.84299999999999997,null,{"$f":"VLOOKUP(F1223,Tables!$G$5:$H$14,2,FALSE)*(M1223-(P1223+Q1223*Tables!$C$6))*(P1223+Q1223*Tables!$C$6)*1.36136","v":89.137158612902397},"Controlled OD (SCH 120) Schedule Pipe","ASTM A53"]
[null,null,null,null,{"$f":"ROW()","v":1224},"Steel","IPS (SCH)",12,"12","> 1000  psi - IPS (SCH) 120",120,2800,12.75,"OD",null,1,null,{"$f":"VLOOKUP(F1224,Tables!$G$5:$H$14,2,FALSE)*(M1224-(P1224+Q1224*Tables!$C$6))*(P1224+Q1224*Tables!$C$6)*1.36136","v":125.40848319999999},"Controlled OD (SCH 120) Schedule Pipe","ASTM A53"]
[null,null,null,null,{"$f":"ROW()","v":1225},"Steel","IPS (SCH)",14,"14","> 1000  psi - IPS (SCH) 120",120,2800,14,"OD",null,1.093,null,{"$f":"VLOOKUP(F1225,Tables!$G$5:$H$14,2,FALSE)*(M1225-(P1225+Q1225*Tables!$C$6))*(P1225+Q1225*Tables!$C$6)*1.36136","v":150.56863752170239},"Controlled OD (SCH 120) Schedule Pipe","ASTM A53"]
[null,null,null,null,{"$f":"ROW()","v":1226},"Steel","IPS (SCH)",16,"16","> 1000  psi - IPS (SCH) 120",120,2700,16,"OD",null,1.218,null,{"$f":"VLOOKUP(F1226,Tables!$G$5:$H$14,2,FALSE)*(M1226-(P1226+Q1226*Tables!$C$6))*(P1226+Q1226*Tables!$C$6)*1.36136","v":192.16289582730235},"Controlled OD (SCH 120) Schedule Pipe","ASTM A53"]
[null,null,null,null,{"$f":"ROW()","v":1227},"Steel","IPS (SCH)",18,"18","> 1000  psi - IPS (SCH) 120",120,2700,18,"OD",null,1.375,null,{"$f":"VLOOKUP(F1227,Tables!$G$5:$H$14,2,FALSE)*(M1227-(P1227+Q1227*Tables!$C$6))*(P1227+Q1227*Tables!$C$6)*1.36136","v":243.97953579999998},"Controlled OD (SCH 120) Schedule Pipe","ASTM A53"]
[null,null,null,null,{"$f":"ROW()","v":1228},"Steel","IPS (SCH)",20,"20","> 1000  psi - IPS (SCH) 120",120,2700,20,"OD",null,1.5,null,{"$f":"VLOOKUP(F1228,Tables!$G$5:$H$14,2,FALSE)*(M1228-(P1228+Q1228*Tables!$C$6))*(P1228+Q1228*Tables!$C$6)*1.36136","v":296.17748159999996},"Controlled OD (SCH 120) Schedule Pipe","ASTM A53"]
[null,null,null,null,{"$f":"ROW()","v":1229},"Steel","IPS (SCH)",24,"24","> 1000  psi - IPS (SCH) 120",120,2700,24,"OD",null,1.8120000000000001,null,{"$f":"VLOOKUP(F1229,Tables!$G$5:$H$14,2,FALSE)*(M1229-(P1229+Q1229*Tables!$C$6))*(P1229+Q1229*Tables!$C$6)*1.36136","v":429.10680225853434},"Controlled OD (SCH 120) Schedule Pipe","ASTM A53"]
[null,null,null,null,{"$f":"ROW()","v":1230},"Steel","IPS (SCH)",8,"8","> 1000  psi - IPS (SCH) 140",140,2800,8.625,"OD",null,0.81200000000000006,null,{"$f":"VLOOKUP(F1230,Tables!$G$5:$H$14,2,FALSE)*(M1230-(P1230+Q1230*Tables!$C$6))*(P1230+Q1230*Tables!$C$6)*1.36136","v":67.711572863334382},"Controlled OD (SCH 140) Schedule Pipe","ASTM A53"]
[null,null,null,null,{"$f":"ROW()","v":1231},"Steel","IPS (SCH)",10,"10","> 1000  psi - IPS (SCH) 140",140,2800,10.75,"OD",null,1,null,{"$f":"VLOOKUP(F1231,Tables!$G$5:$H$14,2,FALSE)*(M1231-(P1231+Q1231*Tables!$C$6))*(P1231+Q1231*Tables!$C$6)*1.36136","v":104.06235839999999},"Controlled OD (SCH 140) Schedule Pipe","ASTM A53"]
[null,null,null,null,{"$f":"ROW()","v":1232},"Steel","IPS (SCH)",12,"12","> 1000  psi - IPS (SCH) 140",140,2800,12.75,"OD",null,1.125,null,{"$f":"VLOOKUP(F1232,Tables!$G$5:$H$14,2,FALSE)*(M1232-(P1232+Q1232*Tables!$C$6))*(P1232+Q1232*Tables!$C$6)*1.36136","v":139.58364419999998},"Controlled OD (SCH 140) Schedule Pipe","ASTM A53"]
[null,null,null,null,{"$f":"ROW()","v":1233},"Steel","IPS (SCH)",14,"14","> 1000  psi - IPS (SCH) 140",140,2800,14,"OD",null,1.25,null,{"$f":"VLOOKUP(F1233,Tables!$G$5:$H$14,2,FALSE)*(M1233-(P1233+Q1233*Tables!$C$6))*(P1233+Q1233*Tables!$C$6)*1.36136","v":170.10193199999998},"Controlled OD (SCH 140) Schedule Pipe","ASTM A53"]
[null,null,null,null,{"$f":"ROW()","v":1234},"Steel","IPS (SCH)",16,"16","> 1000  psi - IPS (SCH) 140",140,2800,16,"OD",null,1.4370000000000001,null,{"$f":"VLOOKUP(F1234,Tables!$G$5:$H$14,2,FALSE)*(M1234-(P1234+Q1234*Tables!$C$6))*(P1234+Q1234*Tables!$C$6)*1.36136","v":223.35550770973441},"Controlled OD (SCH 140) Schedule Pipe","ASTM A53"]
[null,null,null,null,{"$f":"ROW()","v":1235},"Steel","IPS (SCH)",18,"18","> 1000  psi - IPS (SCH) 140",140,2800,18,"OD",null,1.5620000000000001,null,{"$f":"VLOOKUP(F1235,Tables!$G$5:$H$14,2,FALSE)*(M1235-(P1235+Q1235*Tables!$C$6))*(P1235+Q1235*Tables!$C$6)*1.36136","v":274.04321518013438},"Controlled OD (SCH 140) Schedule Pipe","ASTM A53"]
[null,null,null,null,{"$f":"ROW()","v":1236},"Steel","IPS (SCH)",20,"20","> 1000  psi - IPS (SCH) 140",140,2800,20,"OD",null,1.75,null,{"$f":"VLOOKUP(F1236,Tables!$G$5:$H$14,2,FALSE)*(M1236-(P1236+Q1236*Tables!$C$6))*(P1236+Q1236*Tables!$C$6)*1.36136","v":340.87093039999996},"Controlled OD (SCH 140) Schedule Pipe","ASTM A53"]
[null,null,null,null,{"$f":"ROW()","v":1237},"Steel","IPS (SCH)",24,"24","> 1000  psi - IPS (SCH) 140",140,2800,24,"OD",null,2.0619999999999998,null,{"$f":"VLOOKUP(F1237,Tables!$G$5:$H$14,2,FALSE)*(M1237-(P1237+Q1237*Tables!$C$6))*(P1237+Q1237*Tables!$C$6)*1.36136","v":482.80831572413422},"Controlled OD (SCH 140) Schedule Pipe","ASTM A53"]
[null,null,null,null,{"$f":"ROW()","v":1238},"Steel","IPS (SCH)",0.5,"1/2",{"$f":"\" \"&IF(L1238>1000,\"> 1000 \",L1238)&\" psi - \"&G1238&\" \"&K1238","v":" 900 psi - IPS (SCH) 160"},160,900,0.84,"OD",null,0.187,null,{"$f":"VLOOKUP(F1238,Tables!$G$5:$H$14,2,FALSE)*(M1238-(P1238+Q1238*Tables!$C$6))*(P1238+Q1238*Tables!$C$6)*1.36136","v":1.3032983227264001},"Controlled OD (SCH 160) Schedule Pipe","ASTM A53"]
[null,null,null,null,{"$f":"ROW()","v":1239},"Steel","IPS (SCH)",0.75,"3/4"," 900 psi - IPS (SCH) 160",160,900,1.05,"OD",null,0.218,null,{"$f":"VLOOKUP(F1239,Tables!$G$5:$H$14,2,FALSE)*(M1239-(P1239+Q1239*Tables!$C$6))*(P1239+Q1239*Tables!$C$6)*1.36136","v":1.9358373658624},"Controlled OD (SCH 160) Schedule Pipe","ASTM A53"]
[null,null,null,null,{"$f":"ROW()","v":1240},"Steel","IPS (SCH)",1,"1"," 900 psi - IPS (SCH) 160",160,900,1.3149999999999999,"OD",null,0.25,null,{"$f":"VLOOKUP(F1240,Tables!$G$5:$H$14,2,FALSE)*(M1240-(P1240+Q1240*Tables!$C$6))*(P1240+Q1240*Tables!$C$6)*1.36136","v":2.8417028639999993},"Controlled OD (SCH 160) Schedule Pipe","ASTM A53"]
[null,null,null,null,{"$f":"ROW()","v":1241},"Steel","IPS (SCH)",1.25,"1 1/4","> 1000  psi - IPS (SCH) 160",160,1900,1.66,"OD",null,0.25,null,{"$f":"VLOOKUP(F1241,Tables!$G$5:$H$14,2,FALSE)*(M1241-(P1241+Q1241*Tables!$C$6))*(P1241+Q1241*Tables!$C$6)*1.36136","v":3.7622544959999997},"Controlled OD (SCH 160) Schedule Pipe","ASTM A53"]
[null,null,null,null,{"$f":"ROW()","v":1242},"Steel","IPS (SCH)",1.5,"1 1/2","> 1000  psi - IPS (SCH) 160",160,1900,1.9,"OD",null,0.28100000000000003,null,{"$f":"VLOOKUP(F1242,Tables!$G$5:$H$14,2,FALSE)*(M1242-(P1242+Q1242*Tables!$C$6))*(P1242+Q1242*Tables!$C$6)*1.36136","v":4.8555923351935988},"Controlled OD (SCH 160) Schedule Pipe","ASTM A53"]
[null,null,null,null,{"$f":"ROW()","v":1243},"Steel","IPS (SCH)",2,"2","> 1000  psi - IPS (SCH) 160",160,2500,2.375,"OD",null,0.34300000000000003,null,{"$f":"VLOOKUP(F1243,Tables!$G$5:$H$14,2,FALSE)*(M1243-(P1243+Q1243*Tables!$C$6))*(P1243+Q1243*Tables!$C$6)*1.36136","v":7.4388683393023998},"Controlled OD (SCH 160) Schedule Pipe","ASTM A53"]
[null,null,null,null,{"$f":"ROW()","v":1244},"Steel","IPS (SCH)",2.5,"2 1/2","> 1000  psi - IPS (SCH) 160",160,2500,2.875,"OD",null,0.375,null,{"$f":"VLOOKUP(F1244,Tables!$G$5:$H$14,2,FALSE)*(M1244-(P1244+Q1244*Tables!$C$6))*(P1244+Q1244*Tables!$C$6)*1.36136","v":10.005996},"Controlled OD (SCH 160) Schedule Pipe","ASTM A53"]
[null,null,null,null,{"$f":"ROW()","v":1245},"Steel","IPS (SCH)",3,"3","> 1000  psi - IPS (SCH) 160",160,2500,3.5,"OD",null,0.437,null,{"$f":"VLOOKUP(F1245,Tables!$G$5:$H$14,2,FALSE)*(M1245-(P1245+Q1245*Tables!$C$6))*(P1245+Q1245*Tables!$C$6)*1.36136","v":14.2862248873344},"Controlled OD (SCH 160) Schedule Pipe","ASTM A53"]
[null,null,null,null,{"$f":"ROW()","v":1246},"Steel","IPS (SCH)",4,"4","> 1000  psi - IPS (SCH) 160",160,2800,4.5,"OD",null,0.53100000000000003,null,{"$f":"VLOOKUP(F1246,Tables!$G$5:$H$14,2,FALSE)*(M1246-(P1246+Q1246*Tables!$C$6))*(P1246+Q1246*Tables!$C$6)*1.36136","v":22.4938952574336},"Controlled OD (SCH 160) Schedule Pipe","ASTM A53"]
[null,null,null,null,{"$f":"ROW()","v":1247},"Steel","IPS (SCH)",5,"5","> 1000  psi - IPS (SCH) 160",160,2800,5.5629999999999997,"OD",null,0.625,null,{"$f":"VLOOKUP(F1247,Tables!$G$5:$H$14,2,FALSE)*(M1247-(P1247+Q1247*Tables!$C$6))*(P1247+Q1247*Tables!$C$6)*1.36136","v":32.939738831999996},"Controlled OD (SCH 160) Schedule Pipe","ASTM A53"]
[null,null,null,null,{"$f":"ROW()","v":1248},"Steel","IPS (SCH)",6,"6","> 1000  psi - IPS (SCH) 160",160,2800,6.625,"OD",null,0.71799999999999997,null,{"$f":"VLOOKUP(F1248,Tables!$G$5:$H$14,2,FALSE)*(M1248-(P1248+Q1248*Tables!$C$6))*(P1248+Q1248*Tables!$C$6)*1.36136","v":45.266869750502394},"Controlled OD (SCH 160) Schedule Pipe","ASTM A53"]
[null,null,null,null,{"$f":"ROW()","v":1249},"Steel","IPS (SCH)",8,"8","> 1000  psi - IPS (SCH) 160",160,2800,8.625,"OD",null,0.90600000000000003,null,{"$f":"VLOOKUP(F1249,Tables!$G$5:$H$14,2,FALSE)*(M1249-(P1249+Q1249*Tables!$C$6))*(P1249+Q1249*Tables!$C$6)*1.36136","v":74.641144011033603},"Controlled OD (SCH 160) Schedule Pipe","ASTM A53"]
[null,null,null,null,{"$f":"ROW()","v":1250},"Steel","IPS (SCH)",10,"10","> 1000  psi - IPS (SCH) 160",160,2800,10.75,"OD",null,1.125,null,{"$f":"VLOOKUP(F1250,Tables!$G$5:$H$14,2,FALSE)*(M1250-(P1250+Q1250*Tables!$C$6))*(P1250+Q1250*Tables!$C$6)*1.36136","v":115.56925379999998},"Controlled OD (SCH 160) Schedule Pipe","ASTM A53"]
[null,null,null,null,{"$f":"ROW()","v":1251},"Steel","IPS (SCH)",12,"12","> 1000  psi - IPS (SCH) 160",160,2800,12.75,"OD",null,1.3120000000000001,null,{"$f":"VLOOKUP(F1251,Tables!$G$5:$H$14,2,FALSE)*(M1251-(P1251+Q1251*Tables!$C$6))*(P1251+Q1251*Tables!$C$6)*1.36136","v":160.16697590333442},"Controlled OD (SCH 160) Schedule Pipe","ASTM A53"]
[null,null,null,null,{"$f":"ROW()","v":1252},"Steel","IPS (SCH)",14,"14","> 1000  psi - IPS (SCH) 160",160,2800,14,"OD",null,1.4059999999999999,null,{"$f":"VLOOKUP(F1252,Tables!$G$5:$H$14,2,FALSE)*(M1252-(P1252+Q1252*Tables!$C$6))*(P1252+Q1252*Tables!$C$6)*1.36136","v":188.98966629903359},"Controlled OD (SCH 160) Schedule Pipe","ASTM A53"]
[null,null,null,null,{"$f":"ROW()","v":1253},"Steel","IPS (SCH)",16,"16","> 1000  psi - IPS (SCH) 160",160,2800,16,"OD",null,1.593,null,{"$f":"VLOOKUP(F1253,Tables!$G$5:$H$14,2,FALSE)*(M1253-(P1253+Q1253*Tables!$C$6))*(P1253+Q1253*Tables!$C$6)*1.36136","v":244.95052832490239},"Controlled OD (SCH 160) Schedule Pipe","ASTM A53"]
[null,null,null,null,{"$f":"ROW()","v":1254},"Steel","IPS (SCH)",18,"18","> 1000  psi - IPS (SCH) 160",160,2800,18,"OD",null,1.7809999999999999,null,{"$f":"VLOOKUP(F1254,Tables!$G$5:$H$14,2,FALSE)*(M1254-(P1254+Q1254*Tables!$C$6))*(P1254+Q1254*Tables!$C$6)*1.36136","v":308.30249673583359},"Controlled OD (SCH 160) Schedule Pipe","ASTM A53"]
[null,null,null,null,{"$f":"ROW()","v":1255},"Steel","IPS (SCH)",20,"20","> 1000  psi - IPS (SCH) 160",160,2800,20,"OD",null,1.968,null,{"$f":"VLOOKUP(F1255,Tables!$G$5:$H$14,2,FALSE)*(M1255-(P1255+Q1255*Tables!$C$6))*(P1255+Q1255*Tables!$C$6)*1.36136","v":378.75470923530236},"Controlled OD (SCH 160) Schedule Pipe","ASTM A53"]
[null,null,null,null,{"$f":"ROW()","v":1256},"Steel","IPS (SCH)",24,"24","> 1000  psi - IPS (SCH) 160",160,2800,24,"OD",null,2.343,null,{"$f":"VLOOKUP(F1256,Tables!$G$5:$H$14,2,FALSE)*(M1256-(P1256+Q1256*Tables!$C$6))*(P1256+Q1256*Tables!$C$6)*1.36136","v":541.57627854570228},"Controlled OD (SCH 160) Schedule Pipe","ASTM A53"]
[null,null,null,null,{"$f":"ROW()","v":1257},"Steel","IPS (SCH)",0.5,"1/2","1000 psi - IPS (SCH) XX-Heavy","XX-Heavy",1000,0.84,"OD",null,0.29399999999999998,null,{"$f":"VLOOKUP(F1257,Tables!$G$5:$H$14,2,FALSE)*(M1257-(P1257+Q1257*Tables!$C$6))*(P1257+Q1257*Tables!$C$6)*1.36136","v":1.7132826686975997},"Controlled OD (SCH XX-Heavy) Schedule Pipe","ASTM A53"]
[null,null,null,null,{"$f":"ROW()","v":1258},"Steel","IPS (SCH)",0.75,"3/4","1000 psi - IPS (SCH) XX-Heavy","XX-Heavy",1000,1.05,"OD",null,0.308,null,{"$f":"VLOOKUP(F1258,Tables!$G$5:$H$14,2,FALSE)*(M1258-(P1258+Q1258*Tables!$C$6))*(P1258+Q1258*Tables!$C$6)*1.36136","v":2.4391789886463999},"Controlled OD (SCH XX-Heavy) Schedule Pipe","ASTM A53"]
[null,null,null,null,{"$f":"ROW()","v":1259},"Steel","IPS (SCH)",1,"1","1000 psi - IPS (SCH) XX-Heavy","XX-Heavy",1000,1.3149999999999999,"OD",null,0.35799999999999998,null,{"$f":"VLOOKUP(F1259,Tables!$G$5:$H$14,2,FALSE)*(M1259-(P1259+Q1259*Tables!$C$6))*(P1259+Q1259*Tables!$C$6)*1.36136","v":3.6566552166143991},"Controlled OD (SCH XX-Heavy) Schedule Pipe","ASTM A53"]
[null,null,null,null,{"$f":"ROW()","v":1260},"Steel","IPS (SCH)",1.25,"1 1/4","> 1000  psi - IPS (SCH) XX-Heavy","XX-Heavy",2200,1.66,"OD",null,0.38200000000000001,null,{"$f":"VLOOKUP(F1260,Tables!$G$5:$H$14,2,FALSE)*(M1260-(P1260+Q1260*Tables!$C$6))*(P1260+Q1260*Tables!$C$6)*1.36136","v":5.2105463714303992},"Controlled OD (SCH XX-Heavy) Schedule Pipe","ASTM A53"]
[null,null,null,null,{"$f":"ROW()","v":1261},"Steel","IPS (SCH)",1.5,"1 1/2",{"$f":"IF(L1261>1000,\"> 1000 \",L1261)&\" psi - \"&G1261&\" \"&K1261","v":"> 1000  psi - IPS (SCH) XX-Heavy"},"XX-Heavy",2200,1.9,"OD",null,0.4,null,{"$f":"VLOOKUP(F1261,Tables!$G$5:$H$14,2,FALSE)*(M1261-(P1261+Q1261*Tables!$C$6))*(P1261+Q1261*Tables!$C$6)*1.36136","v":6.4038374399999993},"Controlled OD (SCH XX-Heavy) Schedule Pipe","ASTM A53"]
[null,null,null,null,{"$f":"ROW()","v":1262},"Steel","IPS (SCH)",2,"2","> 1000  psi - IPS (SCH) XX-Heavy","XX-Heavy",2500,2.375,"OD",null,0.436,null,{"$f":"VLOOKUP(F1262,Tables!$G$5:$H$14,2,FALSE)*(M1262-(P1262+Q1262*Tables!$C$6))*(P1262+Q1262*Tables!$C$6)*1.36136","v":9.0230496452095998},{"$f":"\"Controlled OD (SCH \"&K1262&\") Schedule Pipe\"","v":"Controlled OD (SCH XX-Heavy) Schedule Pipe"},"ASTM A53"]
[null,null,null,null,{"$f":"ROW()","v":1263},"Steel","IPS (SCH)",2.5,"2 1/2","> 1000  psi - IPS (SCH) XX-Heavy","XX-Heavy",2500,2.875,"OD",null,0.55200000000000005,null,{"$f":"VLOOKUP(F1263,Tables!$G$5:$H$14,2,FALSE)*(M1263-(P1263+Q1263*Tables!$C$6))*(P1263+Q1263*Tables!$C$6)*1.36136","v":13.686025223270398},"Controlled OD (SCH XX-Heavy) Schedule Pipe","ASTM A53"]
[null,null,null,null,{"$f":"ROW()","v":1264},"Steel","IPS (SCH)",3,"3","> 1000  psi - IPS (SCH) XX-Heavy","XX-Heavy",2500,3.5,"OD",null,0.6,null,{"$f":"VLOOKUP(F1264,Tables!$G$5:$H$14,2,FALSE)*(M1264-(P1264+Q1264*Tables!$C$6))*(P1264+Q1264*Tables!$C$6)*1.36136","v":18.571128576},"Controlled OD (SCH XX-Heavy) Schedule Pipe","ASTM A53"]
[null,null,null,null,{"$f":"ROW()","v":1265},"Steel","IPS (SCH)",3.5,"3 1/2","> 1000  psi - IPS (SCH) XX-Heavy","XX-Heavy",2800,4,"OD",null,0.63600000000000001,null,{"$f":"VLOOKUP(F1265,Tables!$G$5:$H$14,2,FALSE)*(M1265-(P1265+Q1265*Tables!$C$6))*(P1265+Q1265*Tables!$C$6)*1.36136","v":22.835059697049598},"Controlled OD (SCH XX-Heavy) Schedule Pipe","ASTM A53"]
[null,null,null,null,{"$f":"ROW()","v":1266},"Steel","IPS (SCH)",4,"4","> 1000  psi - IPS (SCH) XX-Heavy","XX-Heavy",2800,4.5,"OD",null,0.67400000000000004,null,{"$f":"VLOOKUP(F1266,Tables!$G$5:$H$14,2,FALSE)*(M1266-(P1266+Q1266*Tables!$C$6))*(P1266+Q1266*Tables!$C$6)*1.36136","v":27.522882164377602},"Controlled OD (SCH XX-Heavy) Schedule Pipe","ASTM A53"]
[null,null,null,null,{"$f":"ROW()","v":1267},"Steel","IPS (SCH)",4.5,"4 1/2","> 1000  psi - IPS (SCH) XX-Heavy","XX-Heavy",2800,5,"OD",null,0.71,null,{"$f":"VLOOKUP(F1267,Tables!$G$5:$H$14,2,FALSE)*(M1267-(P1267+Q1267*Tables!$C$6))*(P1267+Q1267*Tables!$C$6)*1.36136","v":32.509080764159997},"Controlled OD (SCH XX-Heavy) Schedule Pipe","ASTM A53"]
[null,null,null,null,{"$f":"ROW()","v":1268},"Steel","IPS (SCH)",5,"5","> 1000  psi - IPS (SCH) XX-Heavy","XX-Heavy",2800,5.5629999999999997,"OD",null,0.75,null,{"$f":"VLOOKUP(F1268,Tables!$G$5:$H$14,2,FALSE)*(M1268-(P1268+Q1268*Tables!$C$6))*(P1268+Q1268*Tables!$C$6)*1.36136","v":38.527086998399994},"Controlled OD (SCH XX-Heavy) Schedule Pipe","ASTM A53"]
[null,null,null,null,{"$f":"ROW()","v":1269},"Steel","IPS (SCH)",6,"6","> 1000  psi - IPS (SCH) XX-Heavy","XX-Heavy",2800,6.625,"OD",null,0.86399999999999999,null,{"$f":"VLOOKUP(F1269,Tables!$G$5:$H$14,2,FALSE)*(M1269-(P1269+Q1269*Tables!$C$6))*(P1269+Q1269*Tables!$C$6)*1.36136","v":53.125210788249603},"Controlled OD (SCH XX-Heavy) Schedule Pipe","ASTM A53"]
[null,null,null,null,{"$f":"ROW()","v":1270},"Steel","IPS (SCH)",7,"7","> 1000  psi - IPS (SCH) XX-Heavy","XX-Heavy",2800,7.625,"OD",null,0.875,null,{"$f":"VLOOKUP(F1270,Tables!$G$5:$H$14,2,FALSE)*(M1270-(P1270+Q1270*Tables!$C$6))*(P1270+Q1270*Tables!$C$6)*1.36136","v":63.037774799999994},"Controlled OD (SCH XX-Heavy) Schedule Pipe","ASTM A53"]
[null,null,null,null,{"$f":"ROW()","v":1271},"Steel","IPS (SCH)",8,"8",{"$f":"IF(L1271>1000,\"> 1000 \",L1271)&\" psi - \"&G1271&\" \"&K1271","v":"> 1000  psi - IPS (SCH) XX-Heavy"},"XX-Heavy",2800,8.625,"OD",null,0.875,null,{"$f":"VLOOKUP(F1271,Tables!$G$5:$H$14,2,FALSE)*(M1271-(P1271+Q1271*Tables!$C$6))*(P1271+Q1271*Tables!$C$6)*1.36136","v":72.376704399999994},"Controlled OD (SCH XX-Heavy) Schedule Pipe","ASTM A53"]
[null,null,null,1,{"$f":"ROW()","v":1272},"Steel","CSP",27,27,{"$f":"K1272&\" Gauge Galv Steel - WT = \"&P1272","v":"16 Gauge Galv Steel - WT = 0.064"},16," CSP",27,"ID",null,6.4000000000000001E-2,null,22,"Corrugated Steel Pipe - 16 gauge","ASTM A796"]
[null,null,null,null,{"$f":"ROW()","v":1273},"Steel","CSP",27,27,{"$f":"K1273&\" Gauge Galv Steel - WT = \"&P1273","v":"14 Gauge Galv Steel - WT = 0.079"},14," CSP",27,"ID",null,7.9000000000000001E-2,null,27,"Corrugated Steel Pipe - 14 gauge","ASTM A796"]
[null,null,null,null,{"$f":"ROW()","v":1274},"Steel","CSP",27,27,{"$f":"K1274&\" Gauge Galv Steel - WT = \"&P1274","v":"12 Gauge Galv Steel - WT = 0.109"},12," CSP",27,"ID",null,0.109,null,37,"Corrugated Steel Pipe - 12 gauge","ASTM A796"]
[null,null,null,null,{"$f":"ROW()","v":1275},"Steel","CSP",27,27,"10 Gauge Galv Steel - WT = 0.138",10," CSP",27,"ID",null,0.13800000000000001,null,47,"Corrugated Steel Pipe - 10 gauge","ASTM A796"]
[null,null,null,null,{"$f":"ROW()","v":1276},"Steel","CSP",12,"12","16 Gauge Galv Steel - WT = 0.064",16," CSP",12,"ID",null,6.4000000000000001E-2,null,10,"Corrugated Steel Pipe - 16 gauge","ASTM A796"]
[null,null,null,null,{"$f":"ROW()","v":1277},"Steel","CSP",12,"12","14 Gauge Galv Steel - WT = 0.079",14," CSP",12,"ID",null,7.9000000000000001E-2,null,12,"Corrugated Steel Pipe - 14 gauge","ASTM A796"]
[null,null,null,null,{"$f":"ROW()","v":1278},"Steel","CSP",12,"12","12 Gauge Galv Steel - WT = 0.109",12," CSP",12,"ID",null,0.109,null,16,"Corrugated Steel Pipe - 12 gauge","ASTM A796"]
[null,null,null,null,{"$f":"ROW()","v":1279},"Steel","CSP",15,"15","16 Gauge Galv Steel - WT = 0.064",16," CSP",15,"ID",null,6.4000000000000001E-2,null,12,"Corrugated Steel Pipe - 16 gauge","ASTM A796"]
[null,null,null,null,{"$f":"ROW()","v":1280},"Steel","CSP",15,"15","14 Gauge Galv Steel - WT = 0.079",14," CSP",15,"ID",null,7.9000000000000001E-2,null,15,"Corrugated Steel Pipe - 14 gauge","ASTM A796"]
[null,null,null,null,{"$f":"ROW()","v":1281},"Steel","CSP",15,"15","12 Gauge Galv Steel - WT = 0.109",12," CSP",15,"ID",null,0.109,null,20,"Corrugated Steel Pipe - 12 gauge","ASTM A796"]
[null,null,null,null,{"$f":"ROW()","v":1282},"Steel","CSP",18,"18","16 Gauge Galv Steel - WT = 0.064",16," CSP",18,"ID",null,6.4000000000000001E-2,null,15,"Corrugated Steel Pipe - 16 gauge","ASTM A796"]
[null,null,null,null,{"$f":"ROW()","v":1283},"Steel","CSP",18,"18","14 Gauge Galv Steel - WT = 0.079",14," CSP",18,"ID",null,7.9000000000000001E-2,null,18,"Corrugated Steel Pipe - 14 gauge","ASTM A796"]
[null,null,null,null,{"$f":"ROW()","v":1284},"Steel","CSP",18,"18","12 Gauge Galv Steel - WT = 0.109",12," CSP",18,"ID",null,0.109,null,24,"Corrugated Steel Pipe - 12 gauge","ASTM A796"]
[null,null,null,null,{"$f":"ROW()","v":1285},"Steel","CSP",21,"21","16 Gauge Galv Steel - WT = 0.064",16," CSP",21,"ID",null,6.4000000000000001E-2,null,17,"Corrugated Steel Pipe - 16 gauge","ASTM A796"]
[null,null,null,null,{"$f":"ROW()","v":1286},"Steel","CSP",21,"21","14 Gauge Galv Steel - WT = 0.079",14," CSP",21,"ID",null,7.9000000000000001E-2,null,21,"Corrugated Steel Pipe - 14 gauge","ASTM A796"]
[null,null,null,null,{"$f":"ROW()","v":1287},"Steel","CSP",21,"21","12 Gauge Galv Steel - WT = 0.109",12," CSP",21,"ID",null,0.109,null,29,"Corrugated Steel Pipe - 12 gauge","ASTM A796"]
[null,null,null,null,{"$f":"ROW()","v":1288},"Steel","CSP",24,"24","16 Gauge Galv Steel - WT = 0.064",16," CSP",24,"ID",null,6.4000000000000001E-2,null,19,"Corrugated Steel Pipe - 16 gauge","ASTM A796"]
[null,null,null,null,{"$f":"ROW()","v":1289},"Steel","CSP",24,"24","14 Gauge Galv Steel - WT = 0.079",14," CSP",24,"ID",null,7.9000000000000001E-2,null,24,"Corrugated Steel Pipe - 14 gauge","ASTM A796"]
[null,null,null,null,{"$f":"ROW()","v":1290},"Steel","CSP",24,"24","12 Gauge Galv Steel - WT = 0.109",12," CSP",24,"ID",null,0.109,null,33,"Corrugated Steel Pipe - 12 gauge","ASTM A796"]
[null,null,null,null,{"$f":"ROW()","v":1291},"Steel","CSP",24,"24","10 Gauge Galv Steel - WT = 0.138",10," CSP",24,"ID",null,0.13800000000000001,null,41,"Corrugated Steel Pipe - 10 gauge","ASTM A796"]
[null,null,null,null,{"$f":"ROW()","v":1292},"Steel","CSP",30,"30","16 Gauge Galv Steel - WT = 0.064",16," CSP",30,"ID",null,6.4000000000000001E-2,null,24,"Corrugated Steel Pipe - 16 gauge","ASTM A796"]
[null,null,null,null,{"$f":"ROW()","v":1293},"Steel","CSP",30,"30","14 Gauge Galv Steel - WT = 0.079",14," CSP",30,"ID",null,7.9000000000000001E-2,null,30,"Corrugated Steel Pipe - 14 gauge","ASTM A796"]
[null,null,null,null,{"$f":"ROW()","v":1294},"Steel","CSP",30,"30","12 Gauge Galv Steel - WT = 0.109",12," CSP",30,"ID",null,0.109,null,41,"Corrugated Steel Pipe - 12 gauge","ASTM A796"]
[null,null,null,null,{"$f":"ROW()","v":1295},"Steel","CSP",30,"30","10 Gauge Galv Steel - WT = 0.138",10," CSP",30,"ID",null,0.13800000000000001,null,52,"Corrugated Steel Pipe - 10 gauge","ASTM A796"]
[null,null,null,null,{"$f":"ROW()","v":1296},"Steel","CSP",36,"36","16 Gauge Galv Steel - WT = 0.064",16," CSP",36,"ID",null,6.4000000000000001E-2,null,29,"Corrugated Steel Pipe - 16 gauge","ASTM A796"]
[null,null,null,null,{"$f":"ROW()","v":1297},"Steel","CSP",36,"36","14 Gauge Galv Steel - WT = 0.079",14," CSP",36,"ID",null,7.9000000000000001E-2,null,36,"Corrugated Steel Pipe - 14 gauge","ASTM A796"]
[null,null,null,null,{"$f":"ROW()","v":1298},"Steel","CSP",36,"36","12 Gauge Galv Steel - WT = 0.109",12," CSP",36,"ID",null,0.109,null,49,"Corrugated Steel Pipe - 12 gauge","ASTM A796"]
[null,null,null,null,{"$f":"ROW()","v":1299},"Steel","CSP",36,"36","10 Gauge Galv Steel - WT = 0.138",10," CSP",36,"ID",null,0.13800000000000001,null,62,"Corrugated Steel Pipe - 10 gauge","ASTM A796"]
[null,null,null,null,{"$f":"ROW()","v":1300},"Steel","CSP",36,"36","8 Gauge Galv Steel - WT = 0.168",8," CSP",36,"ID",null,0.16800000000000001,null,75,"Corrugated Steel Pipe - 8 gauge","ASTM A796"]
[null,null,null,null,{"$f":"ROW()","v":1301},"Steel","CSP",42,"42","16 Gauge Galv Steel - WT = 0.064",16," CSP",42,"ID",null,6.4000000000000001E-2,null,34,"Corrugated Steel Pipe - 16 gauge","ASTM A796"]
[null,null,null,null,{"$f":"ROW()","v":1302},"Steel","CSP",42,"42","14 Gauge Galv Steel - WT = 0.079",14," CSP",42,"ID",null,7.9000000000000001E-2,null,42,"Corrugated Steel Pipe - 14 gauge","ASTM A796"]
[null,null,null,null,{"$f":"ROW()","v":1303},"Steel","CSP",42,"42","12 Gauge Galv Steel - WT = 0.109",12," CSP",42,"ID",null,0.109,null,57,"Corrugated Steel Pipe - 12 gauge","ASTM A796"]
[null,null,null,null,{"$f":"ROW()","v":1304},"Steel","CSP",42,"42","10 Gauge Galv Steel - WT = 0.138",10," CSP",42,"ID",null,0.13800000000000001,null,72,"Corrugated Steel Pipe - 10 gauge","ASTM A796"]
[null,null,null,null,{"$f":"ROW()","v":1305},"Steel","CSP",42,"42","8 Gauge Galv Steel - WT = 0.168",8," CSP",42,"ID",null,0.16800000000000001,null,87,"Corrugated Steel Pipe - 8 gauge","ASTM A796"]
[null,null,null,null,{"$f":"ROW()","v":1306},"Steel","CSP",48,"48","16 Gauge Galv Steel - WT = 0.064",16," CSP",48,"ID",null,6.4000000000000001E-2,null,38,"Corrugated Steel Pipe - 16 gauge","ASTM A796"]
[null,null,null,null,{"$f":"ROW()","v":1307},"Steel","CSP",48,"48","14 Gauge Galv Steel - WT = 0.079",14," CSP",48,"ID",null,7.9000000000000001E-2,null,48,"Corrugated Steel Pipe - 14 gauge","ASTM A796"]
[null,null,null,null,{"$f":"ROW()","v":1308},"Steel","CSP",48,"48","12 Gauge Galv Steel - WT = 0.109",12," CSP",48,"ID",null,0.109,null,65,"Corrugated Steel Pipe - 12 gauge","ASTM A796"]
[null,null,null,null,{"$f":"ROW()","v":1309},"Steel","CSP",48,"48","10 Gauge Galv Steel - WT = 0.138",10," CSP",48,"ID",null,0.13800000000000001,null,82,"Corrugated Steel Pipe - 10 gauge","ASTM A796"]
[null,null,null,null,{"$f":"ROW()","v":1310},"Steel","CSP",48,"48","8 Gauge Galv Steel - WT = 0.168",8," CSP",48,"ID",null,0.16800000000000001,null,100,"Corrugated Steel Pipe - 8 gauge","ASTM A796"]
[null,null,null,null,{"$f":"ROW()","v":1311},"Steel","CSP",54,"54","14 Gauge Galv Steel - WT = 0.079",14," CSP",54,"ID",null,7.9000000000000001E-2,null,54,"Corrugated Steel Pipe - 14 gauge","ASTM A796"]
[null,null,null,null,{"$f":"ROW()","v":1312},"Steel","CSP",54,"54","12 Gauge Galv Steel - WT = 0.109",12," CSP",54,"ID",null,0.109,null,73,"Corrugated Steel Pipe - 12 gauge","ASTM A796"]
[null,null,null,null,{"$f":"ROW()","v":1313},"Steel","CSP",54,"54","10 Gauge Galv Steel - WT = 0.138",10," CSP",54,"ID",null,0.13800000000000001,null,92,"Corrugated Steel Pipe - 10 gauge","ASTM A796"]
[null,null,null,null,{"$f":"ROW()","v":1314},"Steel","CSP",54,"54","8 Gauge Galv Steel - WT = 0.168",8," CSP",54,"ID",null,0.16800000000000001,null,112,"Corrugated Steel Pipe - 8 gauge","ASTM A796"]
[null,null,null,null,{"$f":"ROW()","v":1315},"Steel","CSP",60,"60","14 Gauge Galv Steel - WT = 0.079",14," CSP",60,"ID",null,7.9000000000000001E-2,null,60,"Corrugated Steel Pipe - 14 gauge","ASTM A796"]
[null,null,null,null,{"$f":"ROW()","v":1316},"Steel","CSP",60,"60","12 Gauge Galv Steel - WT = 0.109",12," CSP",60,"ID",null,0.109,null,81,"Corrugated Steel Pipe - 12 gauge","ASTM A796"]
[null,null,null,null,{"$f":"ROW()","v":1317},"Steel","CSP",60,"60","10 Gauge Galv Steel - WT = 0.138",10," CSP",60,"ID",null,0.13800000000000001,null,103,"Corrugated Steel Pipe - 10 gauge","ASTM A796"]
[null,null,null,null,{"$f":"ROW()","v":1318},"Steel","CSP",60,"60","8 Gauge Galv Steel - WT = 0.168",8," CSP",60,"ID",null,0.16800000000000001,null,124,"Corrugated Steel Pipe - 8 gauge","ASTM A796"]
[null,null,null,null,{"$f":"ROW()","v":1319},"Steel","CSP",66,"66","14 Gauge Galv Steel - WT = 0.079",14," CSP",66,"ID",null,7.9000000000000001E-2,null,65,"Corrugated Steel Pipe - 14 gauge","ASTM A796"]
[null,null,null,null,{"$f":"ROW()","v":1320},"Steel","CSP",66,"66","12 Gauge Galv Steel - WT = 0.109",12," CSP",66,"ID",null,0.109,null,89,"Corrugated Steel Pipe - 12 gauge","ASTM A796"]
[null,null,null,null,{"$f":"ROW()","v":1321},"Steel","CSP",66,"66","10 Gauge Galv Steel - WT = 0.138",10," CSP",66,"ID",null,0.13800000000000001,null,113,"Corrugated Steel Pipe - 10 gauge","ASTM A796"]
[null,null,null,null,{"$f":"ROW()","v":1322},"Steel","CSP",66,"66","8 Gauge Galv Steel - WT = 0.168",8," CSP",66,"ID",null,0.16800000000000001,null,137,"Corrugated Steel Pipe - 8 gauge","ASTM A796"]
[null,null,null,null,{"$f":"ROW()","v":1323},"Steel","CSP",72,"72","12 Gauge Galv Steel - WT = 0.109",12," CSP",72,"ID",null,0.109,null,98,"Corrugated Steel Pipe - 12 gauge","ASTM A796"]
[null,null,null,null,{"$f":"ROW()","v":1324},"Steel","CSP",72,"72","10 Gauge Galv Steel - WT = 0.138",10," CSP",72,"ID",null,0.13800000000000001,null,123,"Corrugated Steel Pipe - 10 gauge","ASTM A796"]
[null,null,null,null,{"$f":"ROW()","v":1325},"Steel","CSP",72,"72","8 Gauge Galv Steel - WT = 0.168",8," CSP",72,"ID",null,0.16800000000000001,null,149,"Corrugated Steel Pipe - 8 gauge","ASTM A796"]
[null,null,null,1,{"$f":"ROW()","v":1326},"Steel","IPS (Tubing)",1,"1",{"$f":"K1326&\" Ga. - \"&IF(L1326>1000,\" > 1000 \",L1326)&\" psi - WT = \"&P1326","v":"16 Ga. -  > 1000  psi - WT = 0.0598"},16,1300,1.3149999999999999,"OD",null,5.9799999999999999E-2,null,{"$f":"VLOOKUP(F1326,Tables!$G$5:$H$14,2,FALSE)*(M1326-(P1326+Q1326*Tables!$C$6))*(P1326+Q1326*Tables!$C$6)*1.36136","v":0.80113030988390388},"Sheet Steel Tubing - 16 gauge","ASTM A500"]
[null,null,null,null,{"$f":"ROW()","v":1327},"Steel","IPS (Tubing)",1.25,"1 1/4",{"$f":"K1327&\" Ga. - \"&IF(L1327>1000,\" > 1000 \",L1327)&\" psi - WT = \"&P1327","v":"16 Ga. - 1000 psi - WT = 0.0598"},16,1000,1.66,"OD",null,5.9799999999999999E-2,null,{"$f":"VLOOKUP(F1327,Tables!$G$5:$H$14,2,FALSE)*(M1327-(P1327+Q1327*Tables!$C$6))*(P1327+Q1327*Tables!$C$6)*1.36136","v":1.0213262602583038},"Sheet Steel Tubing - 16 gauge","ASTM A500"]
[null,null,null,null,{"$f":"ROW()","v":1328},"Steel","IPS (Tubing)",1.5,"1 1/2","16 Ga. - 900 psi - WT = 0.0598",16,900,1.9,"OD",null,5.9799999999999999E-2,null,{"$f":"VLOOKUP(F1328,Tables!$G$5:$H$14,2,FALSE)*(M1328-(P1328+Q1328*Tables!$C$6))*(P1328+Q1328*Tables!$C$6)*1.36136","v":1.1745060518231039},"Sheet Steel Tubing - 16 gauge","ASTM A500"]
[null,null,null,null,{"$f":"ROW()","v":1329},"Steel","IPS (Tubing)",2,"2","16 Ga. - 700 psi - WT = 0.0598",16,700,2.375,"OD",null,5.9799999999999999E-2,null,{"$f":"VLOOKUP(F1329,Tables!$G$5:$H$14,2,FALSE)*(M1329-(P1329+Q1329*Tables!$C$6))*(P1329+Q1329*Tables!$C$6)*1.36136","v":1.4776743892951039},"Sheet Steel Tubing - 16 gauge","ASTM A500"]
[null,null,null,null,{"$f":"ROW()","v":1330},"Steel","IPS (Tubing)",2.5,"2 1/2","16 Ga. - 600 psi - WT = 0.0598",16,600,2.875,"OD",null,5.9799999999999999E-2,null,{"$f":"VLOOKUP(F1330,Tables!$G$5:$H$14,2,FALSE)*(M1330-(P1330+Q1330*Tables!$C$6))*(P1330+Q1330*Tables!$C$6)*1.36136","v":1.796798955055104},"Sheet Steel Tubing - 16 gauge","ASTM A500"]
[null,null,null,null,{"$f":"ROW()","v":1331},"Steel","IPS (Tubing)",3,"3","16 Ga. - 500 psi - WT = 0.0598",16,500,3.5,"OD",null,5.9799999999999999E-2,null,{"$f":"VLOOKUP(F1331,Tables!$G$5:$H$14,2,FALSE)*(M1331-(P1331+Q1331*Tables!$C$6))*(P1331+Q1331*Tables!$C$6)*1.36136","v":2.1957046622551037},"Sheet Steel Tubing - 16 gauge","ASTM A500"]
[null,null,null,null,{"$f":"ROW()","v":1332},"Steel","IPS (Tubing)",3.5,"3 1/2","16 Ga. - 400 psi - WT = 0.0598",16,400,4,"OD",null,5.9799999999999999E-2,null,{"$f":"VLOOKUP(F1332,Tables!$G$5:$H$14,2,FALSE)*(M1332-(P1332+Q1332*Tables!$C$6))*(P1332+Q1332*Tables!$C$6)*1.36136","v":2.5148292280151039},"Sheet Steel Tubing - 16 gauge","ASTM A500"]
[null,null,null,null,{"$f":"ROW()","v":1333},"Steel","IPS (Tubing)",4,"4","16 Ga. - 300 psi - WT = 0.0598",16,300,4.5,"OD",null,5.9799999999999999E-2,null,{"$f":"VLOOKUP(F1333,Tables!$G$5:$H$14,2,FALSE)*(M1333-(P1333+Q1333*Tables!$C$6))*(P1333+Q1333*Tables!$C$6)*1.36136","v":2.833953793775104},"Sheet Steel Tubing - 16 gauge","ASTM A500"]
[null,null,null,null,{"$f":"ROW()","v":1334},"Steel","IPS (Tubing)",5,"5","16 Ga. - 300 psi - WT = 0.0598",16,300,5.5629999999999997,"OD",null,5.9799999999999999E-2,null,{"$f":"VLOOKUP(F1334,Tables!$G$5:$H$14,2,FALSE)*(M1334-(P1334+Q1334*Tables!$C$6))*(P1334+Q1334*Tables!$C$6)*1.36136","v":3.512412620580863},"Sheet Steel Tubing - 16 gauge","ASTM A500"]
[null,null,null,null,{"$f":"ROW()","v":1335},"Steel","IPS (Tubing)",6,"6","16 Ga. - 200 psi - WT = 0.0598",16,200,6.625,"OD",null,5.9799999999999999E-2,null,{"$f":"VLOOKUP(F1335,Tables!$G$5:$H$14,2,FALSE)*(M1335-(P1335+Q1335*Tables!$C$6))*(P1335+Q1335*Tables!$C$6)*1.36136","v":4.1902331982551031},"Sheet Steel Tubing - 16 gauge","ASTM A500"]
[null,null,null,null,{"$f":"ROW()","v":1336},"Steel","IPS (Tubing)",8,"8","16 Ga. - 200 psi - WT = 0.0598",16,200,8.625,"OD",null,5.9799999999999999E-2,null,{"$f":"VLOOKUP(F1336,Tables!$G$5:$H$14,2,FALSE)*(M1336-(P1336+Q1336*Tables!$C$6))*(P1336+Q1336*Tables!$C$6)*1.36136","v":5.4667314612951037},"Sheet Steel Tubing - 16 gauge","ASTM A500"]
[null,null,null,null,{"$f":"ROW()","v":1337},"Steel","IPS (Tubing)",10,"10","16 Ga. - 100 psi - WT = 0.0598",16,100,10.75,"OD",null,5.9799999999999999E-2,null,{"$f":"VLOOKUP(F1337,Tables!$G$5:$H$14,2,FALSE)*(M1337-(P1337+Q1337*Tables!$C$6))*(P1337+Q1337*Tables!$C$6)*1.36136","v":6.8230108657751041},"Sheet Steel Tubing - 16 gauge","ASTM A500"]
[null,null,null,null,{"$f":"ROW()","v":1338},"Steel","IPS (Tubing)",12,"12","16 Ga. - 100 psi - WT = 0.0598",16,100,12.75,"OD",null,5.9799999999999999E-2,null,{"$f":"VLOOKUP(F1338,Tables!$G$5:$H$14,2,FALSE)*(M1338-(P1338+Q1338*Tables!$C$6))*(P1338+Q1338*Tables!$C$6)*1.36136","v":8.099509128815102},"Sheet Steel Tubing - 16 gauge","ASTM A500"]
[null,null,null,null,{"$f":"ROW()","v":1339},"Steel","IPS (Tubing)",14,"14","16 Ga. - 100 psi - WT = 0.0598",16,100,14,"OD",null,5.9799999999999999E-2,null,{"$f":"VLOOKUP(F1339,Tables!$G$5:$H$14,2,FALSE)*(M1339-(P1339+Q1339*Tables!$C$6))*(P1339+Q1339*Tables!$C$6)*1.36136","v":8.8973205432151037},"Sheet Steel Tubing - 16 gauge","ASTM A500"]
[null,null,null,null,{"$f":"ROW()","v":1340},"Steel","IPS (Tubing)",16,"16","16 Ga. - 100 psi - WT = 0.0598",16,100,16,"OD",null,5.9799999999999999E-2,null,{"$f":"VLOOKUP(F1340,Tables!$G$5:$H$14,2,FALSE)*(M1340-(P1340+Q1340*Tables!$C$6))*(P1340+Q1340*Tables!$C$6)*1.36136","v":10.173818806255102},"Sheet Steel Tubing - 16 gauge","ASTM A500"]
[null,null,null,null,{"$f":"ROW()","v":1341},"Steel","IPS (Tubing)",18,"18","16 Ga. - 100 psi - WT = 0.0598",16,100,18,"OD",null,5.9799999999999999E-2,null,{"$f":"VLOOKUP(F1341,Tables!$G$5:$H$14,2,FALSE)*(M1341-(P1341+Q1341*Tables!$C$6))*(P1341+Q1341*Tables!$C$6)*1.36136","v":11.450317069295103},"Sheet Steel Tubing - 16 gauge","ASTM A500"]
[null,null,null,null,{"$f":"ROW()","v":1342},"Steel","IPS (Tubing)",20,"20","16 Ga. - 90 psi - WT = 0.0598",16,90,20,"OD",null,5.9799999999999999E-2,null,{"$f":"VLOOKUP(F1342,Tables!$G$5:$H$14,2,FALSE)*(M1342-(P1342+Q1342*Tables!$C$6))*(P1342+Q1342*Tables!$C$6)*1.36136","v":12.726815332335102},"Sheet Steel Tubing - 16 gauge","ASTM A500"]
[null,null,null,null,{"$f":"ROW()","v":1343},"Steel","IPS (Tubing)",24,"24","16 Ga. - 75 psi - WT = 0.0598",16,75,24,"OD",null,5.9799999999999999E-2,null,{"$f":"VLOOKUP(F1343,Tables!$G$5:$H$14,2,FALSE)*(M1343-(P1343+Q1343*Tables!$C$6))*(P1343+Q1343*Tables!$C$6)*1.36136","v":15.279811858415101},"Sheet Steel Tubing - 16 gauge","ASTM A500"]
[null,null,null,null,{"$f":"ROW()","v":1344},"Steel","IPS (Tubing)",1,"1","14 Ga. -  > 1000  psi - WT = 0.0747",14,1700,1.3149999999999999,"OD",null,7.4700000000000003E-2,null,{"$f":"VLOOKUP(F1344,Tables!$G$5:$H$14,2,FALSE)*(M1344-(P1344+Q1344*Tables!$C$6))*(P1344+Q1344*Tables!$C$6)*1.36136","v":0.98886360731558387},"Sheet Steel Tubing - 14 gauge","ASTM A500"]
[null,null,null,null,{"$f":"ROW()","v":1345},"Steel","IPS (Tubing)",1.25,"1 1/4","14 Ga. -  > 1000  psi - WT = 0.0747",14,1300,1.66,"OD",null,7.4700000000000003E-2,null,{"$f":"VLOOKUP(F1345,Tables!$G$5:$H$14,2,FALSE)*(M1345-(P1345+Q1345*Tables!$C$6))*(P1345+Q1345*Tables!$C$6)*1.36136","v":1.2639244349571839},"Sheet Steel Tubing - 14 gauge","ASTM A500"]
[null,null,null,null,{"$f":"ROW()","v":1346},"Steel","IPS (Tubing)",1.5,"1 1/2","14 Ga. -  > 1000  psi - WT = 0.0747",14,1100,1.9,"OD",null,7.4700000000000003E-2,null,{"$f":"VLOOKUP(F1346,Tables!$G$5:$H$14,2,FALSE)*(M1346-(P1346+Q1346*Tables!$C$6))*(P1346+Q1346*Tables!$C$6)*1.36136","v":1.4552710976643839},"Sheet Steel Tubing - 14 gauge","ASTM A500"]
[null,null,null,null,{"$f":"ROW()","v":1347},"Steel","IPS (Tubing)",2,"2","14 Ga. - 900 psi - WT = 0.0747",14,900,2.375,"OD",null,7.4700000000000003E-2,null,{"$f":"VLOOKUP(F1347,Tables!$G$5:$H$14,2,FALSE)*(M1347-(P1347+Q1347*Tables!$C$6))*(P1347+Q1347*Tables!$C$6)*1.36136","v":1.8339780342723837},"Sheet Steel Tubing - 14 gauge","ASTM A500"]
[null,null,null,null,{"$f":"ROW()","v":1348},"Steel","IPS (Tubing)",2.5,"2 1/2","14 Ga. - 700 psi - WT = 0.0747",14,700,2.875,"OD",null,7.4700000000000003E-2,null,{"$f":"VLOOKUP(F1348,Tables!$G$5:$H$14,2,FALSE)*(M1348-(P1348+Q1348*Tables!$C$6))*(P1348+Q1348*Tables!$C$6)*1.36136","v":2.2326169149123838},"Sheet Steel Tubing - 14 gauge","ASTM A500"]
[null,null,null,null,{"$f":"ROW()","v":1349},"Steel","IPS (Tubing)",3,"3","14 Ga. - 600 psi - WT = 0.0747",14,600,3.5,"OD",null,7.4700000000000003E-2,null,{"$f":"VLOOKUP(F1349,Tables!$G$5:$H$14,2,FALSE)*(M1349-(P1349+Q1349*Tables!$C$6))*(P1349+Q1349*Tables!$C$6)*1.36136","v":2.7309155157123839},"Sheet Steel Tubing - 14 gauge","ASTM A500"]
[null,null,null,null,{"$f":"ROW()","v":1350},"Steel","IPS (Tubing)",3.5,"3 1/2","14 Ga. - 500 psi - WT = 0.0747",14,500,4,"OD",null,7.4700000000000003E-2,null,{"$f":"VLOOKUP(F1350,Tables!$G$5:$H$14,2,FALSE)*(M1350-(P1350+Q1350*Tables!$C$6))*(P1350+Q1350*Tables!$C$6)*1.36136","v":3.129554396352384},"Sheet Steel Tubing - 14 gauge","ASTM A500"]
[null,null,null,null,{"$f":"ROW()","v":1351},"Steel","IPS (Tubing)",4,"4","14 Ga. - 400 psi - WT = 0.0747",14,400,4.5,"OD",null,7.4700000000000003E-2,null,{"$f":"VLOOKUP(F1351,Tables!$G$5:$H$14,2,FALSE)*(M1351-(P1351+Q1351*Tables!$C$6))*(P1351+Q1351*Tables!$C$6)*1.36136","v":3.5281932769923841},"Sheet Steel Tubing - 14 gauge","ASTM A500"]
[null,null,null,null,{"$f":"ROW()","v":1352},"Steel","IPS (Tubing)",5,"5","14 Ga. - 400 psi - WT = 0.0747",14,400,5.5629999999999997,"OD",null,7.4700000000000003E-2,null,{"$f":"VLOOKUP(F1352,Tables!$G$5:$H$14,2,FALSE)*(M1352-(P1352+Q1352*Tables!$C$6))*(P1352+Q1352*Tables!$C$6)*1.36136","v":4.3756995372330234},"Sheet Steel Tubing - 14 gauge","ASTM A500"]
[null,null,null,null,{"$f":"ROW()","v":1353},"Steel","IPS (Tubing)",6,"6","14 Ga. - 300 psi - WT = 0.0747",14,300,6.625,"OD",null,7.4700000000000003E-2,null,{"$f":"VLOOKUP(F1353,Tables!$G$5:$H$14,2,FALSE)*(M1353-(P1353+Q1353*Tables!$C$6))*(P1353+Q1353*Tables!$C$6)*1.36136","v":5.2224085197123831},"Sheet Steel Tubing - 14 gauge","ASTM A500"]
[null,null,null,null,{"$f":"ROW()","v":1354},"Steel","IPS (Tubing)",8,"8","14 Ga. - 200 psi - WT = 0.0747",14,200,8.625,"OD",null,7.4700000000000003E-2,null,{"$f":"VLOOKUP(F1354,Tables!$G$5:$H$14,2,FALSE)*(M1354-(P1354+Q1354*Tables!$C$6))*(P1354+Q1354*Tables!$C$6)*1.36136","v":6.8169640422723834},"Sheet Steel Tubing - 14 gauge","ASTM A500"]
[null,null,null,null,{"$f":"ROW()","v":1355},"Steel","IPS (Tubing)",10,"10","14 Ga. - 200 psi - WT = 0.0747",14,200,10.75,"OD",null,7.4700000000000003E-2,null,{"$f":"VLOOKUP(F1355,Tables!$G$5:$H$14,2,FALSE)*(M1355-(P1355+Q1355*Tables!$C$6))*(P1355+Q1355*Tables!$C$6)*1.36136","v":8.511179284992382},"Sheet Steel Tubing - 14 gauge","ASTM A500"]
[null,null,null,null,{"$f":"ROW()","v":1356},"Steel","IPS (Tubing)",12,"12","14 Ga. - 100 psi - WT = 0.0747",14,100,12.75,"OD",null,7.4700000000000003E-2,null,{"$f":"VLOOKUP(F1356,Tables!$G$5:$H$14,2,FALSE)*(M1356-(P1356+Q1356*Tables!$C$6))*(P1356+Q1356*Tables!$C$6)*1.36136","v":10.105734807552384},"Sheet Steel Tubing - 14 gauge","ASTM A500"]
[null,null,null,null,{"$f":"ROW()","v":1357},"Steel","IPS (Tubing)",14,"14","14 Ga. - 100 psi - WT = 0.0747",14,100,14,"OD",null,7.4700000000000003E-2,null,{"$f":"VLOOKUP(F1357,Tables!$G$5:$H$14,2,FALSE)*(M1357-(P1357+Q1357*Tables!$C$6))*(P1357+Q1357*Tables!$C$6)*1.36136","v":11.102332009152384},"Sheet Steel Tubing - 14 gauge","ASTM A500"]
[null,null,null,null,{"$f":"ROW()","v":1358},"Steel","IPS (Tubing)",16,"16","14 Ga. - 100 psi - WT = 0.0747",14,100,16,"OD",null,7.4700000000000003E-2,null,{"$f":"VLOOKUP(F1358,Tables!$G$5:$H$14,2,FALSE)*(M1358-(P1358+Q1358*Tables!$C$6))*(P1358+Q1358*Tables!$C$6)*1.36136","v":12.696887531712381},"Sheet Steel Tubing - 14 gauge","ASTM A500"]
[null,null,null,null,{"$f":"ROW()","v":1359},"Steel","IPS (Tubing)",18,"18","14 Ga. - 100 psi - WT = 0.0747",14,100,18,"OD",null,7.4700000000000003E-2,null,{"$f":"VLOOKUP(F1359,Tables!$G$5:$H$14,2,FALSE)*(M1359-(P1359+Q1359*Tables!$C$6))*(P1359+Q1359*Tables!$C$6)*1.36136","v":14.291443054272381},"Sheet Steel Tubing - 14 gauge","ASTM A500"]
[null,null,null,null,{"$f":"ROW()","v":1360},"Steel","IPS (Tubing)",20,"20","14 Ga. - 100 psi - WT = 0.0747",14,100,20,"OD",null,7.4700000000000003E-2,null,{"$f":"VLOOKUP(F1360,Tables!$G$5:$H$14,2,FALSE)*(M1360-(P1360+Q1360*Tables!$C$6))*(P1360+Q1360*Tables!$C$6)*1.36136","v":15.885998576832382},"Sheet Steel Tubing - 14 gauge","ASTM A500"]
[null,null,null,null,{"$f":"ROW()","v":1361},"Steel","IPS (Tubing)",24,"24","14 Ga. - 90 psi - WT = 0.0747",14,90,24,"OD",null,7.4700000000000003E-2,null,{"$f":"VLOOKUP(F1361,Tables!$G$5:$H$14,2,FALSE)*(M1361-(P1361+Q1361*Tables!$C$6))*(P1361+Q1361*Tables!$C$6)*1.36136","v":19.075109621952382},"Sheet Steel Tubing - 14 gauge","ASTM A500"]
[null,null,null,null,{"$f":"ROW()","v":1362},"Steel","IPS (Tubing)",1,"1","12 Ga. -  > 1000  psi - WT = 0.1046",12,2300,1.3149999999999999,"OD",null,0.1046,null,{"$f":"VLOOKUP(F1362,Tables!$G$5:$H$14,2,FALSE)*(M1362-(P1362+Q1362*Tables!$C$6))*(P1362+Q1362*Tables!$C$6)*1.36136","v":1.3512933766492159},"Sheet Steel Tubing - 12 gauge","ASTM A500"]
[null,null,null,null,{"$f":"ROW()","v":1363},"Steel","IPS (Tubing)",1.25,"1 1/4","12 Ga. -  > 1000  psi - WT = 0.1046",12,1800,1.66,"OD",null,0.1046,null,{"$f":"VLOOKUP(F1363,Tables!$G$5:$H$14,2,FALSE)*(M1363-(P1363+Q1363*Tables!$C$6))*(P1363+Q1363*Tables!$C$6)*1.36136","v":1.7364521794780154},"Sheet Steel Tubing - 12 gauge","ASTM A500"]
[null,null,null,null,{"$f":"ROW()","v":1364},"Steel","IPS (Tubing)",1.5,"1 1/2","12 Ga. -  > 1000  psi - WT = 0.1046",12,1600,1.9,"OD",null,0.1046,null,{"$f":"VLOOKUP(F1364,Tables!$G$5:$H$14,2,FALSE)*(M1364-(P1364+Q1364*Tables!$C$6))*(P1364+Q1364*Tables!$C$6)*1.36136","v":2.004388737967616},"Sheet Steel Tubing - 12 gauge","ASTM A500"]
[null,null,null,null,{"$f":"ROW()","v":1365},"Steel","IPS (Tubing)",2,"2","12 Ga. -  > 1000  psi - WT = 0.1046",12,1300,2.375,"OD",null,0.1046,null,{"$f":"VLOOKUP(F1365,Tables!$G$5:$H$14,2,FALSE)*(M1365-(P1365+Q1365*Tables!$C$6))*(P1365+Q1365*Tables!$C$6)*1.36136","v":2.5346798433116158},"Sheet Steel Tubing - 12 gauge","ASTM A500"]
[null,null,null,null,{"$f":"ROW()","v":1366},"Steel","IPS (Tubing)",2.5,"2 1/2","12 Ga. - 1000 psi - WT = 0.1046",12,1000,2.875,"OD",null,0.1046,null,{"$f":"VLOOKUP(F1366,Tables!$G$5:$H$14,2,FALSE)*(M1366-(P1366+Q1366*Tables!$C$6))*(P1366+Q1366*Tables!$C$6)*1.36136","v":3.0928810068316155},"Sheet Steel Tubing - 12 gauge","ASTM A500"]
[null,null,null,null,{"$f":"ROW()","v":1367},"Steel","IPS (Tubing)",3,"3","12 Ga. - 800 psi - WT = 0.1046",12,800,3.5,"OD",null,0.1046,null,{"$f":"VLOOKUP(F1367,Tables!$G$5:$H$14,2,FALSE)*(M1367-(P1367+Q1367*Tables!$C$6))*(P1367+Q1367*Tables!$C$6)*1.36136","v":3.7906324612316156},"Sheet Steel Tubing - 12 gauge","ASTM A500"]
[null,null,null,null,{"$f":"ROW()","v":1368},"Steel","IPS (Tubing)",3.5,"3 1/2","12 Ga. - 700 psi - WT = 0.1046",12,700,4,"OD",null,0.1046,null,{"$f":"VLOOKUP(F1368,Tables!$G$5:$H$14,2,FALSE)*(M1368-(P1368+Q1368*Tables!$C$6))*(P1368+Q1368*Tables!$C$6)*1.36136","v":4.3488336247516157},"Sheet Steel Tubing - 12 gauge","ASTM A500"]
[null,null,null,null,{"$f":"ROW()","v":1369},"Steel","IPS (Tubing)",4,"4","12 Ga. - 600 psi - WT = 0.1046",12,600,4.5,"OD",null,0.1046,null,{"$f":"VLOOKUP(F1369,Tables!$G$5:$H$14,2,FALSE)*(M1369-(P1369+Q1369*Tables!$C$6))*(P1369+Q1369*Tables!$C$6)*1.36136","v":4.9070347882716163},"Sheet Steel Tubing - 12 gauge","ASTM A500"]
[null,null,null,null,{"$f":"ROW()","v":1370},"Steel","IPS (Tubing)",5,"5","12 Ga. - 500 psi - WT = 0.1046",12,500,5.5629999999999997,"OD",null,0.1046,null,{"$f":"VLOOKUP(F1370,Tables!$G$5:$H$14,2,FALSE)*(M1370-(P1370+Q1370*Tables!$C$6))*(P1370+Q1370*Tables!$C$6)*1.36136","v":6.0937704619151356},"Sheet Steel Tubing - 12 gauge","ASTM A500"]
[null,null,null,null,{"$f":"ROW()","v":1371},"Steel","IPS (Tubing)",6,"6","12 Ga. - 400 psi - WT = 0.1046",12,400,6.625,"OD",null,0.1046,null,{"$f":"VLOOKUP(F1371,Tables!$G$5:$H$14,2,FALSE)*(M1371-(P1371+Q1371*Tables!$C$6))*(P1371+Q1371*Tables!$C$6)*1.36136","v":7.2793897332316151},"Sheet Steel Tubing - 12 gauge","ASTM A500"]
[null,null,null,null,{"$f":"ROW()","v":1372},"Steel","IPS (Tubing)",8,"8","12 Ga. - 300 psi - WT = 0.1046",12,300,8.625,"OD",null,0.1046,null,{"$f":"VLOOKUP(F1372,Tables!$G$5:$H$14,2,FALSE)*(M1372-(P1372+Q1372*Tables!$C$6))*(P1372+Q1372*Tables!$C$6)*1.36136","v":9.5121943873116166},"Sheet Steel Tubing - 12 gauge","ASTM A500"]
[null,null,null,null,{"$f":"ROW()","v":1373},"Steel","IPS (Tubing)",10,"10","12 Ga. - 200 psi - WT = 0.1046",12,200,10.75,"OD",null,0.1046,null,{"$f":"VLOOKUP(F1373,Tables!$G$5:$H$14,2,FALSE)*(M1373-(P1373+Q1373*Tables!$C$6))*(P1373+Q1373*Tables!$C$6)*1.36136","v":11.884549332271614},"Sheet Steel Tubing - 12 gauge","ASTM A500"]
[null,null,null,null,{"$f":"ROW()","v":1374},"Steel","IPS (Tubing)",12,"12","12 Ga. - 200 psi - WT = 0.1046",12,200,12.75,"OD",null,0.1046,null,{"$f":"VLOOKUP(F1374,Tables!$G$5:$H$14,2,FALSE)*(M1374-(P1374+Q1374*Tables!$C$6))*(P1374+Q1374*Tables!$C$6)*1.36136","v":14.117353986351615},"Sheet Steel Tubing - 12 gauge","ASTM A500"]
[null,null,null,null,{"$f":"ROW()","v":1375},"Steel","IPS (Tubing)",14,"14","12 Ga. - 200 psi - WT = 0.1046",12,200,14,"OD",null,0.1046,null,{"$f":"VLOOKUP(F1375,Tables!$G$5:$H$14,2,FALSE)*(M1375-(P1375+Q1375*Tables!$C$6))*(P1375+Q1375*Tables!$C$6)*1.36136","v":15.512856895151614},"Sheet Steel Tubing - 12 gauge","ASTM A500"]
[null,null,null,null,{"$f":"ROW()","v":1376},"Steel","IPS (Tubing)",16,"16","12 Ga. - 100 psi - WT = 0.1046",12,100,16,"OD",null,0.1046,null,{"$f":"VLOOKUP(F1376,Tables!$G$5:$H$14,2,FALSE)*(M1376-(P1376+Q1376*Tables!$C$6))*(P1376+Q1376*Tables!$C$6)*1.36136","v":17.745661549231613},"Sheet Steel Tubing - 12 gauge","ASTM A500"]
[null,null,null,null,{"$f":"ROW()","v":1377},"Steel","IPS (Tubing)",18,"18","12 Ga. - 100 psi - WT = 0.1046",12,100,18,"OD",null,0.1046,null,{"$f":"VLOOKUP(F1377,Tables!$G$5:$H$14,2,FALSE)*(M1377-(P1377+Q1377*Tables!$C$6))*(P1377+Q1377*Tables!$C$6)*1.36136","v":19.978466203311612},"Sheet Steel Tubing - 12 gauge","ASTM A500"]
[null,null,null,null,{"$f":"ROW()","v":1378},"Steel","IPS (Tubing)",20,"20","12 Ga. - 100 psi - WT = 0.1046",12,100,20,"OD",null,0.1046,null,{"$f":"VLOOKUP(F1378,Tables!$G$5:$H$14,2,FALSE)*(M1378-(P1378+Q1378*Tables!$C$6))*(P1378+Q1378*Tables!$C$6)*1.36136","v":22.211270857391611},"Sheet Steel Tubing - 12 gauge","ASTM A500"]
[null,null,null,null,{"$f":"ROW()","v":1379},"Steel","IPS (Tubing)",24,"24","12 Ga. - 100 psi - WT = 0.1046",12,100,24,"OD",null,0.1046,null,{"$f":"VLOOKUP(F1379,Tables!$G$5:$H$14,2,FALSE)*(M1379-(P1379+Q1379*Tables!$C$6))*(P1379+Q1379*Tables!$C$6)*1.36136","v":26.676880165551612},"Sheet Steel Tubing - 12 gauge","ASTM A500"]
[null,null,null,null,{"$f":"ROW()","v":1380},"Steel","IPS (Tubing)",1,"1","10 Ga. -  > 1000  psi - WT = 0.1345",10,3000,1.3149999999999999,"OD",null,0.13450000000000001,null,{"$f":"VLOOKUP(F1380,Tables!$G$5:$H$14,2,FALSE)*(M1380-(P1380+Q1380*Tables!$C$6))*(P1380+Q1380*Tables!$C$6)*1.36136","v":1.6946394969503999},"Sheet Steel Tubing - 10 gauge","ASTM A500"]
[null,null,null,null,{"$f":"ROW()","v":1381},"Steel","IPS (Tubing)",1.25,"1 1/4","10 Ga. -  > 1000  psi - WT = 0.1345",10,2400,1.66,"OD",null,0.13450000000000001,null,{"$f":"VLOOKUP(F1381,Tables!$G$5:$H$14,2,FALSE)*(M1381-(P1381+Q1381*Tables!$C$6))*(P1381+Q1381*Tables!$C$6)*1.36136","v":2.1898962749663995},"Sheet Steel Tubing - 10 gauge","ASTM A500"]
[null,null,null,null,{"$f":"ROW()","v":1382},"Steel","IPS (Tubing)",1.5,"1 1/2","10 Ga. -  > 1000  psi - WT = 0.1345",10,2100,1.9,"OD",null,0.13450000000000001,null,{"$f":"VLOOKUP(F1382,Tables!$G$5:$H$14,2,FALSE)*(M1382-(P1382+Q1382*Tables!$C$6))*(P1382+Q1382*Tables!$C$6)*1.36136","v":2.5344227292384001},"Sheet Steel Tubing - 10 gauge","ASTM A500"]
[null,null,null,null,{"$f":"ROW()","v":1383},"Steel","IPS (Tubing)",2,"2","10 Ga. -  > 1000  psi - WT = 0.1345",10,1600,2.375,"OD",null,0.13450000000000001,null,{"$f":"VLOOKUP(F1383,Tables!$G$5:$H$14,2,FALSE)*(M1383-(P1383+Q1383*Tables!$C$6))*(P1383+Q1383*Tables!$C$6)*1.36136","v":3.2162980033183999},"Sheet Steel Tubing - 10 gauge","ASTM A500"]
[null,null,null,null,{"$f":"ROW()","v":1384},"Steel","IPS (Tubing)",2.5,"2 1/2","10 Ga. -  > 1000  psi - WT = 0.1345",10,1400,2.875,"OD",null,0.13450000000000001,null,{"$f":"VLOOKUP(F1384,Tables!$G$5:$H$14,2,FALSE)*(M1384-(P1384+Q1384*Tables!$C$6))*(P1384+Q1384*Tables!$C$6)*1.36136","v":3.9340614497183997},"Sheet Steel Tubing - 10 gauge","ASTM A500"]
[null,null,null,null,{"$f":"ROW()","v":1385},"Steel","IPS (Tubing)",3,"3","10 Ga. -  > 1000  psi - WT = 0.1345",10,1100,3.5,"OD",null,0.13450000000000001,null,{"$f":"VLOOKUP(F1385,Tables!$G$5:$H$14,2,FALSE)*(M1385-(P1385+Q1385*Tables!$C$6))*(P1385+Q1385*Tables!$C$6)*1.36136","v":4.8312657577184002},"Sheet Steel Tubing - 10 gauge","ASTM A500"]
[null,null,null,null,{"$f":"ROW()","v":1386},"Steel","IPS (Tubing)",3.5,"3 1/2","10 Ga. - 1000 psi - WT = 0.1345",10,1000,4,"OD",null,0.13450000000000001,null,{"$f":"VLOOKUP(F1386,Tables!$G$5:$H$14,2,FALSE)*(M1386-(P1386+Q1386*Tables!$C$6))*(P1386+Q1386*Tables!$C$6)*1.36136","v":5.5490292041183995},"Sheet Steel Tubing - 10 gauge","ASTM A500"]
[null,null,null,null,{"$f":"ROW()","v":1387},"Steel","IPS (Tubing)",4,"4","10 Ga. - 800 psi - WT = 0.1345",10,800,4.5,"OD",null,0.13450000000000001,null,{"$f":"VLOOKUP(F1387,Tables!$G$5:$H$14,2,FALSE)*(M1387-(P1387+Q1387*Tables!$C$6))*(P1387+Q1387*Tables!$C$6)*1.36136","v":6.2667926505183997},"Sheet Steel Tubing - 10 gauge","ASTM A500"]
[null,null,null,null,{"$f":"ROW()","v":1388},"Steel","IPS (Tubing)",5,"5","10 Ga. - 700 psi - WT = 0.1345",10,700,5.5629999999999997,"OD",null,0.13450000000000001,null,{"$f":"VLOOKUP(F1388,Tables!$G$5:$H$14,2,FALSE)*(M1388-(P1388+Q1388*Tables!$C$6))*(P1388+Q1388*Tables!$C$6)*1.36136","v":7.7927577375647994},"Sheet Steel Tubing - 10 gauge","ASTM A500"]
[null,null,null,null,{"$f":"ROW()","v":1389},"Steel","IPS (Tubing)",6,"6","10 Ga. - 600 psi - WT = 0.1345",10,600,6.625,"OD",null,0.13450000000000001,null,{"$f":"VLOOKUP(F1389,Tables!$G$5:$H$14,2,FALSE)*(M1389-(P1389+Q1389*Tables!$C$6))*(P1389+Q1389*Tables!$C$6)*1.36136","v":9.3172872977183996},"Sheet Steel Tubing - 10 gauge","ASTM A500"]
[null,null,null,null,{"$f":"ROW()","v":1390},"Steel","IPS (Tubing)",8,"8","10 Ga. - 400 psi - WT = 0.1345",10,400,8.625,"OD",null,0.13450000000000001,null,{"$f":"VLOOKUP(F1390,Tables!$G$5:$H$14,2,FALSE)*(M1390-(P1390+Q1390*Tables!$C$6))*(P1390+Q1390*Tables!$C$6)*1.36136","v":12.188341083318402},"Sheet Steel Tubing - 10 gauge","ASTM A500"]
[null,null,null,null,{"$f":"ROW()","v":1391},"Steel","IPS (Tubing)",10,"10",{"$f":"K1391&\" Ga. - \"&IF(L1391>1000,\" > 1000 \",L1391)&\" psi - WT = \"&P1391","v":"10 Ga. - 300 psi - WT = 0.1345"},10,300,10.75,"OD",null,0.13450000000000001,null,{"$f":"VLOOKUP(F1391,Tables!$G$5:$H$14,2,FALSE)*(M1391-(P1391+Q1391*Tables!$C$6))*(P1391+Q1391*Tables!$C$6)*1.36136","v":15.238835730518401},"Sheet Steel Tubing - 10 gauge","ASTM A500"]
[null,null,null,null,{"$f":"ROW()","v":1392},"Steel","IPS (Tubing)",12,"12","10 Ga. - 300 psi - WT = 0.1345",10,300,12.75,"OD",null,0.13450000000000001,null,{"$f":"VLOOKUP(F1392,Tables!$G$5:$H$14,2,FALSE)*(M1392-(P1392+Q1392*Tables!$C$6))*(P1392+Q1392*Tables!$C$6)*1.36136","v":18.109889516118404},"Sheet Steel Tubing - 10 gauge","ASTM A500"]
[null,null,null,null,{"$f":"ROW()","v":1393},"Steel","IPS (Tubing)",14,"14","10 Ga. - 200 psi - WT = 0.1345",10,200,14,"OD",null,0.13450000000000001,null,{"$f":"VLOOKUP(F1393,Tables!$G$5:$H$14,2,FALSE)*(M1393-(P1393+Q1393*Tables!$C$6))*(P1393+Q1393*Tables!$C$6)*1.36136","v":19.904298132118402},"Sheet Steel Tubing - 10 gauge","ASTM A500"]
[null,null,null,null,{"$f":"ROW()","v":1394},"Steel","IPS (Tubing)",16,"16","10 Ga. - 200 psi - WT = 0.1345",10,200,16,"OD",null,0.13450000000000001,null,{"$f":"VLOOKUP(F1394,Tables!$G$5:$H$14,2,FALSE)*(M1394-(P1394+Q1394*Tables!$C$6))*(P1394+Q1394*Tables!$C$6)*1.36136","v":22.7753519177184},"Sheet Steel Tubing - 10 gauge","ASTM A500"]
[null,null,null,null,{"$f":"ROW()","v":1395},"Steel","IPS (Tubing)",18,"18","10 Ga. - 200 psi - WT = 0.1345",10,200,18,"OD",null,0.13450000000000001,null,{"$f":"VLOOKUP(F1395,Tables!$G$5:$H$14,2,FALSE)*(M1395-(P1395+Q1395*Tables!$C$6))*(P1395+Q1395*Tables!$C$6)*1.36136","v":25.646405703318401},"Sheet Steel Tubing - 10 gauge","ASTM A500"]
[null,null,null,null,{"$f":"ROW()","v":1396},"Steel","IPS (Tubing)",20,"20","10 Ga. - 200 psi - WT = 0.1345",10,200,20,"OD",null,0.13450000000000001,null,{"$f":"VLOOKUP(F1396,Tables!$G$5:$H$14,2,FALSE)*(M1396-(P1396+Q1396*Tables!$C$6))*(P1396+Q1396*Tables!$C$6)*1.36136","v":28.517459488918401},"Sheet Steel Tubing - 10 gauge","ASTM A500"]
[null,null,null,null,{"$f":"ROW()","v":1397},"Steel","IPS (Tubing)",24,"24","10 Ga. - 100 psi - WT = 0.1345",10,100,24,"OD",null,0.13450000000000001,null,{"$f":"VLOOKUP(F1397,Tables!$G$5:$H$14,2,FALSE)*(M1397-(P1397+Q1397*Tables!$C$6))*(P1397+Q1397*Tables!$C$6)*1.36136","v":34.259567060118407},"Sheet Steel Tubing - 10 gauge","ASTM A500"]
[null,null,null,null,{"$f":"ROW()","v":1398},"Steel","IPS (Tubing)",1,"1","8 Ga. -  > 1000  psi - WT = 0.1644",8,3700,1.3149999999999999,"OD",null,0.16439999999999999,null,{"$f":"VLOOKUP(F1398,Tables!$G$5:$H$14,2,FALSE)*(M1398-(P1398+Q1398*Tables!$C$6))*(P1398+Q1398*Tables!$C$6)*1.36136","v":2.0189019682191351},"Sheet Steel Tubing - 8 gauge","ASTM A500"]
[null,null,null,null,{"$f":"ROW()","v":1399},"Steel","IPS (Tubing)",1.25,"1 1/4","8 Ga. -  > 1000  psi - WT = 0.1644",8,2900,1.66,"OD",null,0.16439999999999999,null,{"$f":"VLOOKUP(F1399,Tables!$G$5:$H$14,2,FALSE)*(M1399-(P1399+Q1399*Tables!$C$6))*(P1399+Q1399*Tables!$C$6)*1.36136","v":2.6242567214223356},"Sheet Steel Tubing - 8 gauge","ASTM A500"]
[null,null,null,null,{"$f":"ROW()","v":1400},"Steel","IPS (Tubing)",1.5,"1 1/2","8 Ga. -  > 1000  psi - WT = 0.1644",8,2500,1.9,"OD",null,0.16439999999999999,null,{"$f":"VLOOKUP(F1400,Tables!$G$5:$H$14,2,FALSE)*(M1400-(P1400+Q1400*Tables!$C$6))*(P1400+Q1400*Tables!$C$6)*1.36136","v":3.0453730714767349},"Sheet Steel Tubing - 8 gauge","ASTM A500"]
[null,null,null,null,{"$f":"ROW()","v":1401},"Steel","IPS (Tubing)",2,"2","8 Ga. -  > 1000  psi - WT = 0.1644",8,2000,2.375,"OD",null,0.16439999999999999,null,{"$f":"VLOOKUP(F1401,Tables!$G$5:$H$14,2,FALSE)*(M1401-(P1401+Q1401*Tables!$C$6))*(P1401+Q1401*Tables!$C$6)*1.36136","v":3.8788325142927356},"Sheet Steel Tubing - 8 gauge","ASTM A500"]
[null,null,null,null,{"$f":"ROW()","v":1402},"Steel","IPS (Tubing)",2.5,"2 1/2","8 Ga. -  > 1000  psi - WT = 0.1644",8,1700,2.875,"OD",null,0.16439999999999999,null,{"$f":"VLOOKUP(F1402,Tables!$G$5:$H$14,2,FALSE)*(M1402-(P1402+Q1402*Tables!$C$6))*(P1402+Q1402*Tables!$C$6)*1.36136","v":4.7561582435727345},"Sheet Steel Tubing - 8 gauge","ASTM A500"]
[null,null,null,null,{"$f":"ROW()","v":1403},"Steel","IPS (Tubing)",3,"3","8 Ga. -  > 1000  psi - WT = 0.1644",8,1400,3.5,"OD",null,0.16439999999999999,null,{"$f":"VLOOKUP(F1403,Tables!$G$5:$H$14,2,FALSE)*(M1403-(P1403+Q1403*Tables!$C$6))*(P1403+Q1403*Tables!$C$6)*1.36136","v":5.852815405172735},"Sheet Steel Tubing - 8 gauge","ASTM A500"]
[null,null,null,null,{"$f":"ROW()","v":1404},"Steel","IPS (Tubing)",3.5,"3 1/2","8 Ga. -  > 1000  psi - WT = 0.1644",8,1200,4,"OD",null,0.16439999999999999,null,{"$f":"VLOOKUP(F1404,Tables!$G$5:$H$14,2,FALSE)*(M1404-(P1404+Q1404*Tables!$C$6))*(P1404+Q1404*Tables!$C$6)*1.36136","v":6.7301411344527349},"Sheet Steel Tubing - 8 gauge","ASTM A500"]
[null,null,null,null,{"$f":"ROW()","v":1405},"Steel","IPS (Tubing)",4,"4","8 Ga. - 1000 psi - WT = 0.1644",8,1000,4.5,"OD",null,0.16439999999999999,null,{"$f":"VLOOKUP(F1405,Tables!$G$5:$H$14,2,FALSE)*(M1405-(P1405+Q1405*Tables!$C$6))*(P1405+Q1405*Tables!$C$6)*1.36136","v":7.6074668637327356},"Sheet Steel Tubing - 8 gauge","ASTM A500"]
[null,null,null,null,{"$f":"ROW()","v":1406},"Steel","IPS (Tubing)",5,"5","8 Ga. - 800 psi - WT = 0.1644",8,800,5.5629999999999997,"OD",null,0.16439999999999999,null,{"$f":"VLOOKUP(F1406,Tables!$G$5:$H$14,2,FALSE)*(M1406-(P1406+Q1406*Tables!$C$6))*(P1406+Q1406*Tables!$C$6)*1.36136","v":9.4726613641820148},"Sheet Steel Tubing - 8 gauge","ASTM A500"]
[null,null,null,null,{"$f":"ROW()","v":1407},"Steel","IPS (Tubing)",6,"6","8 Ga. - 700 psi - WT = 0.1644",8,700,6.625,"OD",null,0.16439999999999999,null,{"$f":"VLOOKUP(F1407,Tables!$G$5:$H$14,2,FALSE)*(M1407-(P1407+Q1407*Tables!$C$6))*(P1407+Q1407*Tables!$C$6)*1.36136","v":11.336101213172736},"Sheet Steel Tubing - 8 gauge","ASTM A500"]
[null,null,null,null,{"$f":"ROW()","v":1408},"Steel","IPS (Tubing)",8,"8","8 Ga. - 500 psi - WT = 0.1644",8,500,8.625,"OD",null,0.16439999999999999,null,{"$f":"VLOOKUP(F1408,Tables!$G$5:$H$14,2,FALSE)*(M1408-(P1408+Q1408*Tables!$C$6))*(P1408+Q1408*Tables!$C$6)*1.36136","v":14.845404130292733},"Sheet Steel Tubing - 8 gauge","ASTM A500"]
[null,null,null,null,{"$f":"ROW()","v":1409},"Steel","IPS (Tubing)",10,"10","8 Ga. - 400 psi - WT = 0.1644",8,400,10.75,"OD",null,0.16439999999999999,null,{"$f":"VLOOKUP(F1409,Tables!$G$5:$H$14,2,FALSE)*(M1409-(P1409+Q1409*Tables!$C$6))*(P1409+Q1409*Tables!$C$6)*1.36136","v":18.574038479732732},"Sheet Steel Tubing - 8 gauge","ASTM A500"]
[null,null,null,null,{"$f":"ROW()","v":1410},"Steel","IPS (Tubing)",12,"12","8 Ga. - 300 psi - WT = 0.1644",8,300,12.75,"OD",null,0.16439999999999999,null,{"$f":"VLOOKUP(F1410,Tables!$G$5:$H$14,2,FALSE)*(M1410-(P1410+Q1410*Tables!$C$6))*(P1410+Q1410*Tables!$C$6)*1.36136","v":22.083341396852735},"Sheet Steel Tubing - 8 gauge","ASTM A500"]
[null,null,null,null,{"$f":"ROW()","v":1411},"Steel","IPS (Tubing)",14,"14","8 Ga. - 300 psi - WT = 0.1644",8,300,14,"OD",null,0.16439999999999999,null,{"$f":"VLOOKUP(F1411,Tables!$G$5:$H$14,2,FALSE)*(M1411-(P1411+Q1411*Tables!$C$6))*(P1411+Q1411*Tables!$C$6)*1.36136","v":24.276655720052734},"Sheet Steel Tubing - 8 gauge","ASTM A500"]
[null,null,null,null,{"$f":"ROW()","v":1412},"Steel","IPS (Tubing)",16,"16","8 Ga. - 300 psi - WT = 0.1644",8,300,16,"OD",null,0.16439999999999999,null,{"$f":"VLOOKUP(F1412,Tables!$G$5:$H$14,2,FALSE)*(M1412-(P1412+Q1412*Tables!$C$6))*(P1412+Q1412*Tables!$C$6)*1.36136","v":27.78595863717273},"Sheet Steel Tubing - 8 gauge","ASTM A500"]
[null,null,null,null,{"$f":"ROW()","v":1413},"Steel","IPS (Tubing)",18,"18","8 Ga. - 200 psi - WT = 0.1644",8,200,18,"OD",null,0.16439999999999999,null,{"$f":"VLOOKUP(F1413,Tables!$G$5:$H$14,2,FALSE)*(M1413-(P1413+Q1413*Tables!$C$6))*(P1413+Q1413*Tables!$C$6)*1.36136","v":31.295261554292729},"Sheet Steel Tubing - 8 gauge","ASTM A500"]
[null,null,null,null,{"$f":"ROW()","v":1414},"Steel","IPS (Tubing)",20,"20","8 Ga. - 200 psi - WT = 0.1644",8,200,20,"OD",null,0.16439999999999999,null,{"$f":"VLOOKUP(F1414,Tables!$G$5:$H$14,2,FALSE)*(M1414-(P1414+Q1414*Tables!$C$6))*(P1414+Q1414*Tables!$C$6)*1.36136","v":34.804564471412732},"Sheet Steel Tubing - 8 gauge","ASTM A500"]
[null,null,null,null,{"$f":"ROW()","v":1415},"Steel","IPS (Tubing)",24,"24","8 Ga. - 200 psi - WT = 0.1644",8,200,24,"OD",null,0.16439999999999999,null,{"$f":"VLOOKUP(F1415,Tables!$G$5:$H$14,2,FALSE)*(M1415-(P1415+Q1415*Tables!$C$6))*(P1415+Q1415*Tables!$C$6)*1.36136","v":41.823170305652731},"Sheet Steel Tubing - 8 gauge","ASTM A500"]
[null,null,null,1,{"$f":"ROW()","v":1416},"Concrete RCP","(Conc. Cyl. Pipe)",12,"12","Concrete Cylinder Pipe","NA","CCP",12.75,"ID",null,null,null,119,"Cylinder Pipe","AgPipe Old PWC"]
[null,null,null,null,{"$f":"ROW()","v":1417},"Concrete RCP","(Conc. Cyl. Pipe)",15,"15","Concrete Cylinder Pipe","NA","CCP",15,"ID",null,null,null,157,"Cylinder Pipe","AgPipe Old PWC"]
[null,null,null,null,{"$f":"ROW()","v":1418},"Concrete RCP","(Conc. Cyl. Pipe)",18,"18","Concrete Cylinder Pipe","NA","CCP",18,"ID",null,null,null,191,"Cylinder Pipe","AgPipe Old PWC"]
[null,null,null,null,{"$f":"ROW()","v":1419},"Concrete RCP","(Conc. Cyl. Pipe)",21,"21","Concrete Cylinder Pipe","NA","CCP",21,"ID",null,null,null,238,"Cylinder Pipe","AgPipe Old PWC"]
[null,null,null,null,{"$f":"ROW()","v":1420},"Concrete RCP","(Conc. Cyl. Pipe)",24,"24","Concrete Cylinder Pipe","NA","CCP",24,"ID",null,null,null,291,"Cylinder Pipe","AgPipe Old PWC"]
[null,null,null,null,{"$f":"ROW()","v":1421},"Concrete RCP","(Conc. Cyl. Pipe)",27,"27","Concrete Cylinder Pipe","NA","CCP",27,"ID",null,null,null,427,"Cylinder Pipe","AgPipe Old PWC"]
[null,null,null,null,{"$f":"ROW()","v":1422},"Concrete RCP","(Conc. Cyl. Pipe)",30,"30","Concrete Cylinder Pipe","NA","CCP",30,"ID",null,null,null,482,"Cylinder Pipe","AgPipe Old PWC"]
[null,null,null,null,{"$f":"ROW()","v":1423},"Concrete RCP","(Conc. Cyl. Pipe)",36,"36","Concrete Cylinder Pipe","NA","CCP",36,"ID",null,null,null,639,"Cylinder Pipe","AgPipe Old PWC"]
[null,null,null,null,{"$f":"ROW()","v":1424},"Concrete RCP","(Conc. Cyl. Pipe)",42,"42","Concrete Cylinder Pipe","NA","CCP",42,"ID",null,null,null,685,"Cylinder Pipe","AgPipe Old PWC"]
[null,null,null,null,{"$f":"ROW()","v":1425},"Concrete RCP","(Conc. Cyl. Pipe)",48,"48","Concrete Cylinder Pipe","NA","CCP",48,"ID",null,null,null,863,"Cylinder Pipe","AgPipe Old PWC"]
[null,null,null,null,{"$f":"ROW()","v":1426},"Concrete RCP","(Conc. Cyl. Pipe)",54,"54","Concrete Cylinder Pipe","NA","CCP",54,"ID",null,null,null,1071,"Cylinder Pipe","AgPipe Old PWC"]
[null,null,null,null,{"$f":"ROW()","v":1427},"Concrete RCP","(Conc. Cyl. Pipe)",60,"60","Concrete Cylinder Pipe","NA","CCP",60,"ID",null,null,null,1296,"Cylinder Pipe","AgPipe Old PWC"]
[null,null,null,null,{"$f":"ROW()","v":1428},"Concrete RCP","(Conc. Cyl. Pipe)",66,"66","Concrete Cylinder Pipe","NA","CCP",66,"ID",null,null,null,1738,"Cylinder Pipe","AgPipe Old PWC"]
[null,null,null,null,{"$f":"ROW()","v":1429},"Concrete RCP","(Conc. Cyl. Pipe)",72,"72","Concrete Cylinder Pipe","NA","CCP",72,"ID",null,null,null,2023,"Cylinder Pipe","AgPipe Old PWC"]
[null,null,null,1,{"$f":"ROW()","v":1430},"Concrete RCP","(RCP Drainage)",12,12,{"$f":"\"WT = \"&P1430&\"in - \"&L1430","v":"WT = 1.75in - Low Hd (10psi)"},"Concrete-Reinforced","Low Hd (10psi)",11.76,"ID",null,1.75,{"$f":"MAX(P1430*0.05,3/16)","v":0.1875},{"$f":"ROUND(VLOOKUP(F1430,Tables!$G$5:$H$14,2,FALSE)*(M1430+(P1430+Q1430*Tables!$C$6))*(P1430+Q1430*Tables!$C$6)*1.36136,0)","v":93},"Reinforced Concrete Pipe - 4ksi Conc. - WT=1.75","ASTM C76"]
[null,null,null,null,{"$f":"ROW()","v":1431},"Concrete RCP","(RCP Drainage)",15,15,{"$f":"\"WT = \"&P1431&\"in - \"&L1431","v":"WT = 1.875in - Low Hd (10psi)"},"Concrete-Reinforced","Low Hd (10psi)",14.718999999999999,"ID",null,{"$f":"1+7/8","v":1.875},{"$f":"MAX(P1431*0.05,3/16)","v":0.1875},{"$f":"ROUND(VLOOKUP(F1431,Tables!$G$5:$H$14,2,FALSE)*(M1431+(P1431+Q1431*Tables!$C$6))*(P1431+Q1431*Tables!$C$6)*1.36136,0)","v":122},"Reinforced Concrete Pipe - 4ksi Conc. - WT=1.875","ASTM C76"]
[null,null,null,null,{"$f":"ROW()","v":1432},"Concrete RCP","(RCP Drainage)",18,18,"WT = 2in - Low Hd (10psi)","Concrete-Reinforced","Low Hd (10psi)",17.684999999999999,"ID",null,2,0.1875,{"$f":"ROUND(VLOOKUP(F1432,Tables!$G$5:$H$14,2,FALSE)*(M1432+(P1432+Q1432*Tables!$C$6))*(P1432+Q1432*Tables!$C$6)*1.36136,0)","v":153},"Reinforced Concrete Pipe - 4ksi Conc. - WT=2","ASTM C76"]
[null,null,null,null,{"$f":"ROW()","v":1433},"Concrete RCP","(RCP Drainage)",21,21,"WT = 2.25in - Low Hd (10psi)","Concrete-Reinforced","Low Hd (10psi)",20.658999999999999,"ID",null,2.25,0.1875,{"$f":"ROUND(VLOOKUP(F1433,Tables!$G$5:$H$14,2,FALSE)*(M1433+(P1433+Q1433*Tables!$C$6))*(P1433+Q1433*Tables!$C$6)*1.36136,0)","v":200},"Reinforced Concrete Pipe - 4ksi Conc. - WT=2.25","ASTM C76"]
[null,null,null,null,{"$f":"ROW()","v":1434},"Concrete RCP","(RCP Drainage)",24,24,"WT = 2.5in - Low Hd (10psi)","Concrete-Reinforced","Low Hd (10psi)",23.64,"ID",null,2.5,0.1875,{"$f":"ROUND(VLOOKUP(F1434,Tables!$G$5:$H$14,2,FALSE)*(M1434+(P1434+Q1434*Tables!$C$6))*(P1434+Q1434*Tables!$C$6)*1.36136,0)","v":252},"Reinforced Concrete Pipe - 4ksi Conc. - WT=2.5","ASTM C76"]
[null,null,null,null,{"$f":"ROW()","v":1435},"Concrete RCP","(RCP Drainage)",27,27,"WT = 2.625in - Low Hd (10psi)","Concrete-Reinforced","Low Hd (10psi)",26.625,"ID",null,{"$f":"2+5/8","v":2.625},0.1875,{"$f":"ROUND(VLOOKUP(F1435,Tables!$G$5:$H$14,2,FALSE)*(M1435+(P1435+Q1435*Tables!$C$6))*(P1435+Q1435*Tables!$C$6)*1.36136,0)","v":295},"Reinforced Concrete Pipe - 4ksi Conc. - WT=2.625","ASTM C76"]
[null,null,null,null,{"$f":"ROW()","v":1436},"Concrete RCP","(RCP Drainage)",30,30,"WT = 2.75in - Low Hd (10psi)","Concrete-Reinforced","Low Hd (10psi)",29.625,"ID",null,2.75,0.1875,{"$f":"ROUND(VLOOKUP(F1436,Tables!$G$5:$H$14,2,FALSE)*(M1436+(P1436+Q1436*Tables!$C$6))*(P1436+Q1436*Tables!$C$6)*1.36136,0)","v":342},"Reinforced Concrete Pipe - 4ksi Conc. - WT=2.75","ASTM C76"]
[null,null,null,null,{"$f":"ROW()","v":1437},"Concrete RCP","(RCP Drainage)",33,33,"WT = 2.875in - Low Hd (10psi)","Concrete-Reinforced","Low Hd (10psi)",32.625,"ID",null,{"$f":"2+7/8","v":2.875},0.1875,{"$f":"ROUND(VLOOKUP(F1437,Tables!$G$5:$H$14,2,FALSE)*(M1437+(P1437+Q1437*Tables!$C$6))*(P1437+Q1437*Tables!$C$6)*1.36136,0)","v":391},"Reinforced Concrete Pipe - 4ksi Conc. - WT=2.875","ASTM C76"]
[null,null,null,null,{"$f":"ROW()","v":1438},"Concrete RCP","(RCP Drainage)",36,36,"WT = 3in - Low Hd (10psi)","Concrete-Reinforced","Low Hd (10psi)",35.625,"ID",null,3,0.1875,{"$f":"ROUND(VLOOKUP(F1438,Tables!$G$5:$H$14,2,FALSE)*(M1438+(P1438+Q1438*Tables!$C$6))*(P1438+Q1438*Tables!$C$6)*1.36136,0)","v":444},"Reinforced Concrete Pipe - 4ksi Conc. - WT=3","ASTM C76"]
[null,null,null,null,{"$f":"ROW()","v":1439},"Concrete RCP","(RCP Drainage)",42,42,"WT = 3.5in - Low Hd (10psi)","Concrete-Reinforced","Low Hd (10psi)",41.58,"ID",null,3.5,0.1875,{"$f":"ROUND(VLOOKUP(F1439,Tables!$G$5:$H$14,2,FALSE)*(M1439+(P1439+Q1439*Tables!$C$6))*(P1439+Q1439*Tables!$C$6)*1.36136,0)","v":601},"Reinforced Concrete Pipe - 4ksi Conc. - WT=3.5","ASTM C76"]
[null,null,null,null,{"$f":"ROW()","v":1440},"Concrete RCP","(RCP Drainage)",48,48,"WT = 4in - Low Hd (10psi)","Concrete-Reinforced","Low Hd (10psi)",47.52,"ID",null,4,0.2,{"$f":"ROUND(VLOOKUP(F1440,Tables!$G$5:$H$14,2,FALSE)*(M1440+(P1440+Q1440*Tables!$C$6))*(P1440+Q1440*Tables!$C$6)*1.36136,0)","v":784},"Reinforced Concrete Pipe - 4ksi Conc. - WT=4","ASTM C76"]
[null,null,null,null,{"$f":"ROW()","v":1441},"Concrete RCP","(RCP Drainage)",54,54,"WT = 4.5in - Low Hd (10psi)","Concrete-Reinforced","Low Hd (10psi)",53.46,"ID",null,4.5,0.22500000000000001,{"$f":"ROUND(VLOOKUP(F1441,Tables!$G$5:$H$14,2,FALSE)*(M1441+(P1441+Q1441*Tables!$C$6))*(P1441+Q1441*Tables!$C$6)*1.36136,0)","v":992},"Reinforced Concrete Pipe - 4ksi Conc. - WT=4.5","ASTM C76"]
[null,null,null,null,{"$f":"ROW()","v":1442},"Concrete RCP","(RCP Drainage)",60,60,"WT = 5in - Low Hd (10psi)","Concrete-Reinforced","Low Hd (10psi)",59.4,"ID",null,5,0.25,{"$f":"ROUND(VLOOKUP(F1442,Tables!$G$5:$H$14,2,FALSE)*(M1442+(P1442+Q1442*Tables!$C$6))*(P1442+Q1442*Tables!$C$6)*1.36136,0)","v":1225},"Reinforced Concrete Pipe - 4ksi Conc. - WT=5","ASTM C76"]
[null,null,null,null,{"$f":"ROW()","v":1443},"Concrete RCP","(RCP Drainage)",66,66,"WT = 5.5in - Low Hd (10psi)","Concrete-Reinforced","Low Hd (10psi)",65.34,"ID",null,5.5,0.27500000000000002,{"$f":"ROUND(VLOOKUP(F1443,Tables!$G$5:$H$14,2,FALSE)*(M1443+(P1443+Q1443*Tables!$C$6))*(P1443+Q1443*Tables!$C$6)*1.36136,0)","v":1482},"Reinforced Concrete Pipe - 4ksi Conc. - WT=5.5","ASTM C76"]
[null,null,null,null,{"$f":"ROW()","v":1444},"Concrete RCP","(RCP Drainage)",72,72,"WT = 6in - Low Hd (10psi)","Concrete-Reinforced","Low Hd (10psi)",71.28,"ID",null,6,0.30000000000000004,{"$f":"ROUND(VLOOKUP(F1444,Tables!$G$5:$H$14,2,FALSE)*(M1444+(P1444+Q1444*Tables!$C$6))*(P1444+Q1444*Tables!$C$6)*1.36136,0)","v":1763},"Reinforced Concrete Pipe - 4ksi Conc. - WT=6","ASTM C76"]
[null,null,null,null,{"$f":"ROW()","v":1445},"Concrete RCP","(RCP Drainage)",78,78,"WT = 6.5in - Low Hd (10psi)","Concrete-Reinforced","Low Hd (10psi)",77.22,"ID",null,6.5,0.32500000000000001,{"$f":"ROUND(VLOOKUP(F1445,Tables!$G$5:$H$14,2,FALSE)*(M1445+(P1445+Q1445*Tables!$C$6))*(P1445+Q1445*Tables!$C$6)*1.36136,0)","v":2069},"Reinforced Concrete Pipe - 4 to 5ksi Conc. - WT=6.5","ASTM C76"]
[null,null,null,null,{"$f":"ROW()","v":1446},"Concrete RCP","(RCP Drainage)",84,84,"WT = 7in - Low Hd (10psi)","Concrete-Reinforced","Low Hd (10psi)",83.16,"ID",null,7,0.35000000000000003,{"$f":"ROUND(VLOOKUP(F1446,Tables!$G$5:$H$14,2,FALSE)*(M1446+(P1446+Q1446*Tables!$C$6))*(P1446+Q1446*Tables!$C$6)*1.36136,0)","v":2400},"Reinforced Concrete Pipe - 4 to 5ksi Conc. - WT=7","ASTM C76"]
[null,null,null,null,{"$f":"ROW()","v":1447},"Concrete RCP","(RCP Drainage)",90,90,"WT = 7.5in - Low Hd (10psi)","Concrete-Reinforced","Low Hd (10psi)",89.1,"ID",null,7.5,0.375,{"$f":"ROUND(VLOOKUP(F1447,Tables!$G$5:$H$14,2,FALSE)*(M1447+(P1447+Q1447*Tables!$C$6))*(P1447+Q1447*Tables!$C$6)*1.36136,0)","v":2755},"Reinforced Concrete Pipe - 4ksi Conc. - WT=7.5","ASTM C76"]
[null,null,null,null,{"$f":"ROW()","v":1448},"Concrete RCP","(RCP Drainage)",96,96,"WT = 8in - Low Hd (10psi)","Concrete-Reinforced","Low Hd (10psi)",95.04,"ID",null,8,0.4,{"$f":"ROUND(VLOOKUP(F1448,Tables!$G$5:$H$14,2,FALSE)*(M1448+(P1448+Q1448*Tables!$C$6))*(P1448+Q1448*Tables!$C$6)*1.36136,0)","v":3135},"Reinforced Concrete Pipe - 4ksi Conc. - WT=8","ASTM C76"]
[null,null,null,null,{"$f":"ROW()","v":1449},"Concrete RCP","(RCP Drainage)",102,102,"WT = 8.5in - Low Hd (10psi)","Concrete-Reinforced","Low Hd (10psi)",100.98,"ID",null,8.5,0.42500000000000004,{"$f":"ROUND(VLOOKUP(F1449,Tables!$G$5:$H$14,2,FALSE)*(M1449+(P1449+Q1449*Tables!$C$6))*(P1449+Q1449*Tables!$C$6)*1.36136,0)","v":3539},"Reinforced Concrete Pipe - 5ksi Conc. - WT=8.5","ASTM C76"]
[null,null,null,null,{"$f":"ROW()","v":1450},"Concrete RCP","(RCP Drainage)",108,108,"WT = 9in - Low Hd (10psi)","Concrete-Reinforced","Low Hd (10psi)",106.92,"ID",null,9,0.45,{"$f":"ROUND(VLOOKUP(F1450,Tables!$G$5:$H$14,2,FALSE)*(M1450+(P1450+Q1450*Tables!$C$6))*(P1450+Q1450*Tables!$C$6)*1.36136,0)","v":3967},"Reinforced Concrete Pipe - 5ksi Conc. - WT=9","ASTM C76"]
[null,null,null,null,{"$f":"ROW()","v":1451},"Concrete RCP","(RCP Drainage)",12,12,"WT = 2in - Low Hd (10psi)","Concrete-Reinforced","Low Hd (10psi)",11.76,"ID",null,2,0.1875,{"$f":"ROUND(VLOOKUP(F1451,Tables!$G$5:$H$14,2,FALSE)*(M1451+(P1451+Q1451*Tables!$C$6))*(P1451+Q1451*Tables!$C$6)*1.36136,0)","v":107},"Reinforced Concrete Pipe - 4 to 6ksi Conc. - WT=2","ASTM C76"]
[null,null,null,null,{"$f":"ROW()","v":1452},"Concrete RCP","(RCP Drainage)",15,15,"WT = 2.25in - Low Hd (10psi)","Concrete-Reinforced","Low Hd (10psi)",14.718999999999999,"ID",null,2.25,0.1875,{"$f":"ROUND(VLOOKUP(F1452,Tables!$G$5:$H$14,2,FALSE)*(M1452+(P1452+Q1452*Tables!$C$6))*(P1452+Q1452*Tables!$C$6)*1.36136,0)","v":148},"Reinforced Concrete Pipe - 4 to 6ksi Conc. - WT=2.25","ASTM C76"]
[null,null,null,null,{"$f":"ROW()","v":1453},"Concrete RCP","(RCP Drainage)",18,18,"WT = 2.5in - Low Hd (10psi)","Concrete-Reinforced","Low Hd (10psi)",17.684999999999999,"ID",null,2.5,0.1875,{"$f":"ROUND(VLOOKUP(F1453,Tables!$G$5:$H$14,2,FALSE)*(M1453+(P1453+Q1453*Tables!$C$6))*(P1453+Q1453*Tables!$C$6)*1.36136,0)","v":195},"Reinforced Concrete Pipe - 4ksi Conc. - WT=2.5","ASTM C76"]
[null,null,null,null,{"$f":"ROW()","v":1454},"Concrete RCP","(RCP Drainage)",21,21,"WT = 2.75in - Low Hd (10psi)","Concrete-Reinforced","Low Hd (10psi)",20.658999999999999,"ID",null,2.75,0.1875,{"$f":"ROUND(VLOOKUP(F1454,Tables!$G$5:$H$14,2,FALSE)*(M1454+(P1454+Q1454*Tables!$C$6))*(P1454+Q1454*Tables!$C$6)*1.36136,0)","v":247},"Reinforced Concrete Pipe - 4 to 6ksi Conc. - WT=2.75","ASTM C76"]
[null,null,null,null,{"$f":"ROW()","v":1455},"Concrete RCP","(RCP Drainage)",24,24,"WT = 3in - Low Hd (10psi)","Concrete-Reinforced","Low Hd (10psi)",23.64,"ID",null,3,0.1875,{"$f":"ROUND(VLOOKUP(F1455,Tables!$G$5:$H$14,2,FALSE)*(M1455+(P1455+Q1455*Tables!$C$6))*(P1455+Q1455*Tables!$C$6)*1.36136,0)","v":306},"Reinforced Concrete Pipe - 4 to 6ksi Conc. - WT=3","ASTM C76"]
[null,null,null,null,{"$f":"ROW()","v":1456},"Concrete RCP","(RCP Drainage)",27,27,"WT = 3.25in - Low Hd (10psi)","Concrete-Reinforced","Low Hd (10psi)",26.625,"ID",null,3.25,0.1875,{"$f":"ROUND(VLOOKUP(F1456,Tables!$G$5:$H$14,2,FALSE)*(M1456+(P1456+Q1456*Tables!$C$6))*(P1456+Q1456*Tables!$C$6)*1.36136,0)","v":371},"Reinforced Concrete Pipe - 4 to 6ksi Conc. - WT=3.25","ASTM C76"]
[null,null,null,null,{"$f":"ROW()","v":1457},"Concrete RCP","(RCP Drainage)",30,30,"WT = 3.5in - Low Hd (10psi)","Concrete-Reinforced","Low Hd (10psi)",29.625,"ID",null,3.5,0.1875,{"$f":"ROUND(VLOOKUP(F1457,Tables!$G$5:$H$14,2,FALSE)*(M1457+(P1457+Q1457*Tables!$C$6))*(P1457+Q1457*Tables!$C$6)*1.36136,0)","v":442},"Reinforced Concrete Pipe - 4 to 6ksi Conc. - WT=3.5","ASTM C76"]
[null,null,null,null,{"$f":"ROW()","v":1458},"Concrete RCP","(RCP Drainage)",33,33,"WT = 3.75in - Low Hd (10psi)","Concrete-Reinforced","Low Hd (10psi)",32.625,"ID",null,3.75,0.1875,{"$f":"ROUND(VLOOKUP(F1458,Tables!$G$5:$H$14,2,FALSE)*(M1458+(P1458+Q1458*Tables!$C$6))*(P1458+Q1458*Tables!$C$6)*1.36136,0)","v":519},"Reinforced Concrete Pipe - 4 to 6ksi Conc. - WT=3.75","ASTM C76"]
[null,null,null,null,{"$f":"ROW()","v":1459},"Concrete RCP","(RCP Drainage)",36,36,"WT = 4in - Low Hd (10psi)","Concrete-Reinforced","Low Hd (10psi)",35.625,"ID",null,4,0.2,{"$f":"ROUND(VLOOKUP(F1459,Tables!$G$5:$H$14,2,FALSE)*(M1459+(P1459+Q1459*Tables!$C$6))*(P1459+Q1459*Tables!$C$6)*1.36136,0)","v":603},"Reinforced Concrete Pipe - 4 to 6ksi Conc. - WT=4","ASTM C76"]
[null,null,null,null,{"$f":"ROW()","v":1460},"Concrete RCP","(RCP Drainage)",42,42,"WT = 4.5in - Low Hd (10psi)","Concrete-Reinforced","Low Hd (10psi)",41.58,"ID",null,4.5,0.22500000000000001,{"$f":"ROUND(VLOOKUP(F1460,Tables!$G$5:$H$14,2,FALSE)*(M1460+(P1460+Q1460*Tables!$C$6))*(P1460+Q1460*Tables!$C$6)*1.36136,0)","v":789},"Reinforced Concrete Pipe - 4 to 6ksi Conc. - WT=4.5","ASTM C76"]
[null,null,null,null,{"$f":"ROW()","v":1461},"Concrete RCP","(RCP Drainage)",48,48,"WT = 5in - Low Hd (10psi)","Concrete-Reinforced","Low Hd (10psi)",47.52,"ID",null,5,0.25,{"$f":"ROUND(VLOOKUP(F1461,Tables!$G$5:$H$14,2,FALSE)*(M1461+(P1461+Q1461*Tables!$C$6))*(P1461+Q1461*Tables!$C$6)*1.36136,0)","v":999},"Reinforced Concrete Pipe - 4 to 6ksi Conc. - WT=5","ASTM C76"]
[null,null,null,null,{"$f":"ROW()","v":1462},"Concrete RCP","(RCP Drainage)",54,54,"WT = 5.5in - Low Hd (10psi)","Concrete-Reinforced","Low Hd (10psi)",53.46,"ID",null,5.5,0.27500000000000002,{"$f":"ROUND(VLOOKUP(F1462,Tables!$G$5:$H$14,2,FALSE)*(M1462+(P1462+Q1462*Tables!$C$6))*(P1462+Q1462*Tables!$C$6)*1.36136,0)","v":1234},"Reinforced Concrete Pipe - 4ksi Conc. - WT=5.5","ASTM C76"]
[null,null,null,null,{"$f":"ROW()","v":1463},"Concrete RCP","(RCP Drainage)",60,60,"WT = 6in - Low Hd (10psi)","Concrete-Reinforced","Low Hd (10psi)",59.4,"ID",null,6,0.30000000000000004,{"$f":"ROUND(VLOOKUP(F1463,Tables!$G$5:$H$14,2,FALSE)*(M1463+(P1463+Q1463*Tables!$C$6))*(P1463+Q1463*Tables!$C$6)*1.36136,0)","v":1493},"Reinforced Concrete Pipe - 4 to 5ksi Conc. - WT=6","ASTM C76"]
[null,null,null,null,{"$f":"ROW()","v":1464},"Concrete RCP","(RCP Drainage)",66,66,"WT = 6.5in - Low Hd (10psi)","Concrete-Reinforced","Low Hd (10psi)",65.34,"ID",null,6.5,0.32500000000000001,{"$f":"ROUND(VLOOKUP(F1464,Tables!$G$5:$H$14,2,FALSE)*(M1464+(P1464+Q1464*Tables!$C$6))*(P1464+Q1464*Tables!$C$6)*1.36136,0)","v":1776},"Reinforced Concrete Pipe - 4 to 5ksi Conc. - WT=6.5","ASTM C76"]
[null,null,null,null,{"$f":"ROW()","v":1465},"Concrete RCP","(RCP Drainage)",72,72,"WT = 7in - Low Hd (10psi)","Concrete-Reinforced","Low Hd (10psi)",71.28,"ID",null,7,0.35000000000000003,{"$f":"ROUND(VLOOKUP(F1465,Tables!$G$5:$H$14,2,FALSE)*(M1465+(P1465+Q1465*Tables!$C$6))*(P1465+Q1465*Tables!$C$6)*1.36136,0)","v":2084},"Reinforced Concrete Pipe - 4 to 5ksi Conc. - WT=7","ASTM C76"]
[null,null,null,null,{"$f":"ROW()","v":1466},"Concrete RCP","(RCP Drainage)",78,78,"WT = 7.5in - Low Hd (10psi)","Concrete-Reinforced","Low Hd (10psi)",77.22,"ID",null,7.5,0.375,{"$f":"ROUND(VLOOKUP(F1466,Tables!$G$5:$H$14,2,FALSE)*(M1466+(P1466+Q1466*Tables!$C$6))*(P1466+Q1466*Tables!$C$6)*1.36136,0)","v":2417},"Reinforced Concrete Pipe - 4ksi Conc. - WT=7.5","ASTM C76"]
[null,null,null,null,{"$f":"ROW()","v":1467},"Concrete RCP","(RCP Drainage)",84,84,"WT = 8in - Low Hd (10psi)","Concrete-Reinforced","Low Hd (10psi)",83.16,"ID",null,8,0.4,{"$f":"ROUND(VLOOKUP(F1467,Tables!$G$5:$H$14,2,FALSE)*(M1467+(P1467+Q1467*Tables!$C$6))*(P1467+Q1467*Tables!$C$6)*1.36136,0)","v":2774},"Reinforced Concrete Pipe - 4ksi Conc. - WT=8","ASTM C76"]
[null,null,null,null,{"$f":"ROW()","v":1468},"Concrete RCP","(RCP Drainage)",90,90,"WT = 8.5in - Low Hd (10psi)","Concrete-Reinforced","Low Hd (10psi)",89.1,"ID",null,8.5,0.42500000000000004,{"$f":"ROUND(VLOOKUP(F1468,Tables!$G$5:$H$14,2,FALSE)*(M1468+(P1468+Q1468*Tables!$C$6))*(P1468+Q1468*Tables!$C$6)*1.36136,0)","v":3156},"Reinforced Concrete Pipe - 4 to 5ksi Conc. - WT=8.5","ASTM C76"]
[null,null,null,null,{"$f":"ROW()","v":1469},"Concrete RCP","(RCP Drainage)",96,96,"WT = 9in - Low Hd (10psi)","Concrete-Reinforced","Low Hd (10psi)",95.04,"ID",null,9,0.45,{"$f":"ROUND(VLOOKUP(F1469,Tables!$G$5:$H$14,2,FALSE)*(M1469+(P1469+Q1469*Tables!$C$6))*(P1469+Q1469*Tables!$C$6)*1.36136,0)","v":3562},"Reinforced Concrete Pipe - 4 to 5ksi Conc. - WT=9","ASTM C76"]
[null,null,null,null,{"$f":"ROW()","v":1470},"Concrete RCP","(RCP Drainage)",102,102,"WT = 9.5in - Low Hd (10psi)","Concrete-Reinforced","Low Hd (10psi)",100.98,"ID",null,9.5,0.47500000000000003,{"$f":"ROUND(VLOOKUP(F1470,Tables!$G$5:$H$14,2,FALSE)*(M1470+(P1470+Q1470*Tables!$C$6))*(P1470+Q1470*Tables!$C$6)*1.36136,0)","v":3992},"Reinforced Concrete Pipe - 5ksi Conc. - WT=9.5","ASTM C76"]
[null,null,null,null,{"$f":"ROW()","v":1471},"Concrete RCP","(RCP Drainage)",108,108,"WT = 10in - Low Hd (10psi)","Concrete-Reinforced","Low Hd (10psi)",106.92,"ID",null,10,0.5,{"$f":"ROUND(VLOOKUP(F1471,Tables!$G$5:$H$14,2,FALSE)*(M1471+(P1471+Q1471*Tables!$C$6))*(P1471+Q1471*Tables!$C$6)*1.36136,0)","v":4447},"Reinforced Concrete Pipe - 5ksi Conc. - WT=10","ASTM C76"]
[null,null,null,null,{"$f":"ROW()","v":1472},"Concrete RCP","(RCP Drainage)",12,12,"WT = 2.75in - Low Hd (10psi)","Concrete-Reinforced","Low Hd (10psi)",11.76,"ID",null,2.75,0.1875,{"$f":"ROUND(VLOOKUP(F1472,Tables!$G$5:$H$14,2,FALSE)*(M1472+(P1472+Q1472*Tables!$C$6))*(P1472+Q1472*Tables!$C$6)*1.36136,0)","v":154},"Reinforced Concrete Pipe - 4ksi Conc. - WT=2.75","ASTM C76"]
[null,null,null,null,{"$f":"ROW()","v":1473},"Concrete RCP","(RCP Drainage)",15,15,"WT = 3in - Low Hd (10psi)","Concrete-Reinforced","Low Hd (10psi)",14.718999999999999,"ID",null,3,0.1875,{"$f":"ROUND(VLOOKUP(F1473,Tables!$G$5:$H$14,2,FALSE)*(M1473+(P1473+Q1473*Tables!$C$6))*(P1473+Q1473*Tables!$C$6)*1.36136,0)","v":204},"Reinforced Concrete Pipe - 4 to 6ksi Conc. - WT=3","ASTM C76"]
[null,null,null,null,{"$f":"ROW()","v":1474},"Concrete RCP","(RCP Drainage)",18,18,"WT = 3.25in - Low Hd (10psi)","Concrete-Reinforced","Low Hd (10psi)",17.684999999999999,"ID",null,3.25,0.1875,{"$f":"ROUND(VLOOKUP(F1474,Tables!$G$5:$H$14,2,FALSE)*(M1474+(P1474+Q1474*Tables!$C$6))*(P1474+Q1474*Tables!$C$6)*1.36136,0)","v":260},"Reinforced Concrete Pipe - 4 to 6ksi Conc. - WT=3.25","ASTM C76"]
[null,null,null,null,{"$f":"ROW()","v":1475},"Concrete RCP","(RCP Drainage)",21,21,"WT = 3.5in - Low Hd (10psi)","Concrete-Reinforced","Low Hd (10psi)",20.658999999999999,"ID",null,3.5,0.1875,{"$f":"ROUND(VLOOKUP(F1475,Tables!$G$5:$H$14,2,FALSE)*(M1475+(P1475+Q1475*Tables!$C$6))*(P1475+Q1475*Tables!$C$6)*1.36136,0)","v":323},"Reinforced Concrete Pipe - 4 to 6ksi Conc. - WT=3.5","ASTM C76"]
[null,null,null,null,{"$f":"ROW()","v":1476},"Concrete RCP","(RCP Drainage)",24,24,"WT = 3.75in - Low Hd (10psi)","Concrete-Reinforced","Low Hd (10psi)",23.64,"ID",null,3.75,0.1875,{"$f":"ROUND(VLOOKUP(F1476,Tables!$G$5:$H$14,2,FALSE)*(M1476+(P1476+Q1476*Tables!$C$6))*(P1476+Q1476*Tables!$C$6)*1.36136,0)","v":391},"Reinforced Concrete Pipe - 4 to 6ksi Conc. - WT=3.75","ASTM C76"]
[null,null,null,null,{"$f":"ROW()","v":1477},"Concrete RCP","(RCP Drainage)",27,27,"WT = 4in - Low Hd (10psi)","Concrete-Reinforced","Low Hd (10psi)",26.625,"ID",null,4,0.2,{"$f":"ROUND(VLOOKUP(F1477,Tables!$G$5:$H$14,2,FALSE)*(M1477+(P1477+Q1477*Tables!$C$6))*(P1477+Q1477*Tables!$C$6)*1.36136,0)","v":466},"Reinforced Concrete Pipe - 4 to 6ksi Conc. - WT=4","ASTM C76"]
[null,null,null,null,{"$f":"ROW()","v":1478},"Concrete RCP","(RCP Drainage)",30,30,"WT = 4.25in - Low Hd (10psi)","Concrete-Reinforced","Low Hd (10psi)",29.625,"ID",null,4.25,0.21250000000000002,{"$f":"ROUND(VLOOKUP(F1478,Tables!$G$5:$H$14,2,FALSE)*(M1478+(P1478+Q1478*Tables!$C$6))*(P1478+Q1478*Tables!$C$6)*1.36136,0)","v":548},"Reinforced Concrete Pipe - 4 to 6ksi Conc. - WT=4.25","ASTM C76"]
[null,null,null,null,{"$f":"ROW()","v":1479},"Concrete RCP","(RCP Drainage)",33,33,"WT = 4.5in - Low Hd (10psi)","Concrete-Reinforced","Low Hd (10psi)",32.625,"ID",null,4.5,0.22500000000000001,{"$f":"ROUND(VLOOKUP(F1479,Tables!$G$5:$H$14,2,FALSE)*(M1479+(P1479+Q1479*Tables!$C$6))*(P1479+Q1479*Tables!$C$6)*1.36136,0)","v":636},"Reinforced Concrete Pipe - 4 to 6ksi Conc. - WT=4.5","ASTM C76"]
[null,null,null,null,{"$f":"ROW()","v":1480},"Concrete RCP","(RCP Drainage)",36,36,"WT = 4.75in - Low Hd (10psi)","Concrete-Reinforced","Low Hd (10psi)",35.625,"ID",null,4.75,0.23750000000000002,{"$f":"ROUND(VLOOKUP(F1480,Tables!$G$5:$H$14,2,FALSE)*(M1480+(P1480+Q1480*Tables!$C$6))*(P1480+Q1480*Tables!$C$6)*1.36136,0)","v":730},"Reinforced Concrete Pipe - 4 to 6ksi Conc. - WT=4.75","ASTM C76"]
[null,null,null,null,{"$f":"ROW()","v":1481},"Concrete RCP","(RCP Drainage)",42,42,"WT = 5.25in - Low Hd (10psi)","Concrete-Reinforced","Low Hd (10psi)",41.58,"ID",null,5.25,0.26250000000000001,{"$f":"ROUND(VLOOKUP(F1481,Tables!$G$5:$H$14,2,FALSE)*(M1481+(P1481+Q1481*Tables!$C$6))*(P1481+Q1481*Tables!$C$6)*1.36136,0)","v":936},"Reinforced Concrete Pipe - 4 to 6ksi Conc. - WT=5.25","ASTM C76"]
[null,null,null,null,{"$f":"ROW()","v":1482},"Concrete RCP","(RCP Drainage)",48,48,"WT = 5.75in - Low Hd (10psi)","Concrete-Reinforced","Low Hd (10psi)",47.52,"ID",null,5.75,0.28750000000000003,{"$f":"ROUND(VLOOKUP(F1482,Tables!$G$5:$H$14,2,FALSE)*(M1482+(P1482+Q1482*Tables!$C$6))*(P1482+Q1482*Tables!$C$6)*1.36136,0)","v":1166},"Reinforced Concrete Pipe - 4 to 6ksi Conc. - WT=5.75","ASTM C76"]
[null,null,null,null,{"$f":"ROW()","v":1483},"Concrete RCP","(RCP Drainage)",54,54,"WT = 6.25in - Low Hd (10psi)","Concrete-Reinforced","Low Hd (10psi)",53.46,"ID",null,6.25,0.3125,{"$f":"ROUND(VLOOKUP(F1483,Tables!$G$5:$H$14,2,FALSE)*(M1483+(P1483+Q1483*Tables!$C$6))*(P1483+Q1483*Tables!$C$6)*1.36136,0)","v":1420},"Reinforced Concrete Pipe - 4 to 6ksi Conc. - WT=6.25","ASTM C76"]
[null,null,null,null,{"$f":"ROW()","v":1484},"Concrete RCP","(RCP Drainage)",60,60,"WT = 6.75in - Low Hd (10psi)","Concrete-Reinforced","Low Hd (10psi)",59.4,"ID",null,6.75,0.33750000000000002,{"$f":"ROUND(VLOOKUP(F1484,Tables!$G$5:$H$14,2,FALSE)*(M1484+(P1484+Q1484*Tables!$C$6))*(P1484+Q1484*Tables!$C$6)*1.36136,0)","v":1699},"Reinforced Concrete Pipe - 4 to 6ksi Conc. - WT=6.75","ASTM C76"]
[null,null,null,null,{"$f":"ROW()","v":1485},"Concrete RCP","(RCP Drainage)",66,66,"WT = 7.25in - Low Hd (10psi)","Concrete-Reinforced","Low Hd (10psi)",65.34,"ID",null,7.25,0.36250000000000004,{"$f":"ROUND(VLOOKUP(F1485,Tables!$G$5:$H$14,2,FALSE)*(M1485+(P1485+Q1485*Tables!$C$6))*(P1485+Q1485*Tables!$C$6)*1.36136,0)","v":2002},"Reinforced Concrete Pipe - 4 to 6ksi Conc. - WT=7.25","ASTM C76"]
[null,null,null,null,{"$f":"ROW()","v":1486},"Concrete RCP","(RCP Drainage)",72,72,"WT = 7.75in - Low Hd (10psi)","Concrete-Reinforced","Low Hd (10psi)",71.28,"ID",null,7.75,0.38750000000000001,{"$f":"ROUND(VLOOKUP(F1486,Tables!$G$5:$H$14,2,FALSE)*(M1486+(P1486+Q1486*Tables!$C$6))*(P1486+Q1486*Tables!$C$6)*1.36136,0)","v":2330},"Reinforced Concrete Pipe - 4 to 6ksi Conc. - WT=7.75","ASTM C76"]
[null,null,null,null,{"$f":"ROW()","v":1487},"Concrete RCP","(RCP Drainage)",78,78,"WT = 8.25in - Low Hd (10psi)","Concrete-Reinforced","Low Hd (10psi)",77.22,"ID",null,8.25,0.41250000000000003,{"$f":"ROUND(VLOOKUP(F1487,Tables!$G$5:$H$14,2,FALSE)*(M1487+(P1487+Q1487*Tables!$C$6))*(P1487+Q1487*Tables!$C$6)*1.36136,0)","v":2683},"Reinforced Concrete Pipe - 4 to 5ksi Conc. - WT=8.25","ASTM C76"]
[null,null,null,null,{"$f":"ROW()","v":1488},"Concrete RCP","(RCP Drainage)",84,84,"WT = 8.75in - Low Hd (10psi)","Concrete-Reinforced","Low Hd (10psi)",83.16,"ID",null,8.75,0.4375,{"$f":"ROUND(VLOOKUP(F1488,Tables!$G$5:$H$14,2,FALSE)*(M1488+(P1488+Q1488*Tables!$C$6))*(P1488+Q1488*Tables!$C$6)*1.36136,0)","v":3060},"Reinforced Concrete Pipe - 4 to 5ksi Conc. - WT=8.75","ASTM C76"]
[null,null,null,null,{"$f":"ROW()","v":1489},"Concrete RCP","(RCP Drainage)",90,90,"WT = 9.25in - Low Hd (10psi)","Concrete-Reinforced","Low Hd (10psi)",89.1,"ID",null,9.25,0.46250000000000002,{"$f":"ROUND(VLOOKUP(F1489,Tables!$G$5:$H$14,2,FALSE)*(M1489+(P1489+Q1489*Tables!$C$6))*(P1489+Q1489*Tables!$C$6)*1.36136,0)","v":3461},"Reinforced Concrete Pipe - 4ksi Conc. - WT=9.25","ASTM C76"]
[null,null,null,null,{"$f":"ROW()","v":1490},"Concrete RCP","(RCP Drainage)",96,96,"WT = 9.75in - Low Hd (10psi)","Concrete-Reinforced","Low Hd (10psi)",95.04,"ID",null,9.75,0.48750000000000004,{"$f":"ROUND(VLOOKUP(F1490,Tables!$G$5:$H$14,2,FALSE)*(M1490+(P1490+Q1490*Tables!$C$6))*(P1490+Q1490*Tables!$C$6)*1.36136,0)","v":3887},"Reinforced Concrete Pipe - 4ksi Conc. - WT=9.75","ASTM C76"]
[null,null,null,null,{"$f":"ROW()","v":1491},"Concrete RCP","(RCP Drainage)",102,102,"WT = 10.25in - Low Hd (10psi)","Concrete-Reinforced","Low Hd (10psi)",100.98,"ID",null,10.25,0.51250000000000007,{"$f":"ROUND(VLOOKUP(F1491,Tables!$G$5:$H$14,2,FALSE)*(M1491+(P1491+Q1491*Tables!$C$6))*(P1491+Q1491*Tables!$C$6)*1.36136,0)","v":4337},"Reinforced Concrete Pipe - 5ksi Conc. - WT=10.25","ASTM C76"]
[null,null,null,null,{"$f":"ROW()","v":1492},"Concrete RCP","(RCP Drainage)",108,108,"WT = 10.75in - Low Hd (10psi)","Concrete-Reinforced","Low Hd (10psi)",106.92,"ID",null,10.75,0.53749999999999998,{"$f":"ROUND(VLOOKUP(F1492,Tables!$G$5:$H$14,2,FALSE)*(M1492+(P1492+Q1492*Tables!$C$6))*(P1492+Q1492*Tables!$C$6)*1.36136,0)","v":4812},"Reinforced Concrete Pipe - 5ksi Conc. - WT=10.75","ASTM C76"]
[null,null,null,1,{"$f":"ROW()","v":1493},"Concrete NRCP","(NRCP Irrigation)",6,6,{"$f":"\"WT = \"&P1493&\"in - \"&L1493&\" psi\"","v":"WT = 0.875in - 30 psi"},"Concrete-Nonreinforced",30,5.8129999999999997,"ID",null,0.875,6.25E-2,{"$f":"ROUND(VLOOKUP(F1493,Tables!$G$5:$H$14,2,FALSE)*(M1493+(P1493+Q1493*Tables!$C$6))*(P1493+Q1493*Tables!$C$6)*1.36136,0)","v":21},"Nonreinforced Concrete Pipe - Irrigation","ASTM C118"]
[null,null,null,null,{"$f":"ROW()","v":1494},"Concrete NRCP","(NRCP Irrigation)",8,8,{"$f":"\"WT = \"&P1494&\"in - \"&L1494&\" psi\"","v":"WT = 1in - 30 psi"},"Concrete-Nonreinforced",30,7.8129999999999997,"ID",null,1,6.25E-2,{"$f":"ROUND(VLOOKUP(F1494,Tables!$G$5:$H$14,2,FALSE)*(M1494+(P1494+Q1494*Tables!$C$6))*(P1494+Q1494*Tables!$C$6)*1.36136,0)","v":32},"Nonreinforced Concrete Pipe - Irrigation","ASTM C118"]
[null,null,null,null,{"$f":"ROW()","v":1495},"Concrete NRCP","(NRCP Irrigation)",10,10,"WT = 1.125in - 30 psi","Concrete-Nonreinforced",30,9.75,"ID",null,1.125,6.25E-2,{"$f":"ROUND(VLOOKUP(F1495,Tables!$G$5:$H$14,2,FALSE)*(M1495+(P1495+Q1495*Tables!$C$6))*(P1495+Q1495*Tables!$C$6)*1.36136,0)","v":44},"Nonreinforced Concrete Pipe - Irrigation","ASTM C118"]
[null,null,null,null,{"$f":"ROW()","v":1496},"Concrete NRCP","(NRCP Irrigation)",12,12,"WT = 1.25in - 25 psi","Concrete-Nonreinforced",25,11.75,"ID",null,1.25,6.25E-2,{"$f":"ROUND(VLOOKUP(F1496,Tables!$G$5:$H$14,2,FALSE)*(M1496+(P1496+Q1496*Tables!$C$6))*(P1496+Q1496*Tables!$C$6)*1.36136,0)","v":58},"Nonreinforced Concrete Pipe - Irrigation","ASTM C118"]
[null,null,null,null,{"$f":"ROW()","v":1497},"Concrete NRCP","(NRCP Irrigation)",14,14,"WT = 1.375in - 25 psi","Concrete-Nonreinforced",25,13.75,"ID",null,1.375,6.8750000000000006E-2,{"$f":"ROUND(VLOOKUP(F1497,Tables!$G$5:$H$14,2,FALSE)*(M1497+(P1497+Q1497*Tables!$C$6))*(P1497+Q1497*Tables!$C$6)*1.36136,0)","v":74},"Nonreinforced Concrete Pipe - Irrigation","ASTM C118"]
[null,null,null,null,{"$f":"ROW()","v":1498},"Concrete NRCP","(NRCP Irrigation)",15,15,"WT = 1.5in - 25 psi","Concrete-Nonreinforced",25,14.75,"ID",null,1.5,7.5000000000000011E-2,{"$f":"ROUND(VLOOKUP(F1498,Tables!$G$5:$H$14,2,FALSE)*(M1498+(P1498+Q1498*Tables!$C$6))*(P1498+Q1498*Tables!$C$6)*1.36136,0)","v":87},"Nonreinforced Concrete Pipe - Irrigation","ASTM C118"]
[null,null,null,null,{"$f":"ROW()","v":1499},"Concrete NRCP","(NRCP Irrigation)",16,16,"WT = 1.5in - 25 psi","Concrete-Nonreinforced",25,15.75,"ID",null,1.5,7.5000000000000011E-2,{"$f":"ROUND(VLOOKUP(F1499,Tables!$G$5:$H$14,2,FALSE)*(M1499+(P1499+Q1499*Tables!$C$6))*(P1499+Q1499*Tables!$C$6)*1.36136,0)","v":93},"Nonreinforced Concrete Pipe - Irrigation","ASTM C118"]
[null,null,null,null,{"$f":"ROW()","v":1500},"Concrete NRCP","(NRCP Irrigation)",18,18,"WT = 1.75in - 25 psi","Concrete-Nonreinforced",25,17.75,"ID",null,1.75,8.7500000000000008E-2,{"$f":"ROUND(VLOOKUP(F1500,Tables!$G$5:$H$14,2,FALSE)*(M1500+(P1500+Q1500*Tables!$C$6))*(P1500+Q1500*Tables!$C$6)*1.36136,0)","v":122},"Nonreinforced Concrete Pipe - Irrigation","ASTM C118"]
[null,null,null,null,{"$f":"ROW()","v":1501},"Concrete NRCP","(NRCP Irrigation)",20,20,"WT = 2in - 25 psi","Concrete-Nonreinforced",25,19.687999999999999,"ID",null,2,0.1,{"$f":"ROUND(VLOOKUP(F1501,Tables!$G$5:$H$14,2,FALSE)*(M1501+(P1501+Q1501*Tables!$C$6))*(P1501+Q1501*Tables!$C$6)*1.36136,0)","v":155},"Nonreinforced Concrete Pipe - Irrigation","ASTM C118"]
[null,null,null,null,{"$f":"ROW()","v":1502},"Concrete NRCP","(NRCP Irrigation)",21,21,"WT = 2.125in - 25 psi","Concrete-Nonreinforced",25,20.687999999999999,"ID",null,2.125,0.10625000000000001,{"$f":"ROUND(VLOOKUP(F1502,Tables!$G$5:$H$14,2,FALSE)*(M1502+(P1502+Q1502*Tables!$C$6))*(P1502+Q1502*Tables!$C$6)*1.36136,0)","v":174},"Nonreinforced Concrete Pipe - Irrigation","ASTM C118"]
[null,null,null,null,{"$f":"ROW()","v":1503},"Concrete NRCP","(NRCP Irrigation)",24,24,"WT = 2.25in - 25 psi","Concrete-Nonreinforced",25,23.687999999999999,"ID",null,2.25,0.1125,{"$f":"ROUND(VLOOKUP(F1503,Tables!$G$5:$H$14,2,FALSE)*(M1503+(P1503+Q1503*Tables!$C$6))*(P1503+Q1503*Tables!$C$6)*1.36136,0)","v":209},"Nonreinforced Concrete Pipe - Irrigation","ASTM C118"]
[null,null,null,null,{"$f":"ROW()","v":1504},"Concrete NRCP","(NRCP Drainage)",4,4,"WT = 0.75in - 30 psi","Concrete-Nonreinforced",30,3.8130000000000002,"ID",null,0.75,6.25E-2,{"$f":"ROUND(VLOOKUP(F1504,Tables!$G$5:$H$14,2,FALSE)*(M1504+(P1504+Q1504*Tables!$C$6))*(P1504+Q1504*Tables!$C$6)*1.36136,0)","v":13},"Nonreinforced Concrete Pipe - Drainage Std Wall","ASTM C118"]
[null,null,null,null,{"$f":"ROW()","v":1505},"Concrete NRCP","(NRCP Drainage)",5,5,"WT = 0.75in - 30 psi","Concrete-Nonreinforced",30,4.8129999999999997,"ID",null,0.75,6.25E-2,{"$f":"ROUND(VLOOKUP(F1505,Tables!$G$5:$H$14,2,FALSE)*(M1505+(P1505+Q1505*Tables!$C$6))*(P1505+Q1505*Tables!$C$6)*1.36136,0)","v":15},"Nonreinforced Concrete Pipe - Drainage Std Wall","ASTM C118"]
[null,null,null,null,{"$f":"ROW()","v":1506},"Concrete NRCP","(NRCP Drainage)",6,6,"WT = 0.875in - 30 psi","Concrete-Nonreinforced",30,5.8129999999999997,"ID",null,0.875,6.25E-2,{"$f":"ROUND(VLOOKUP(F1506,Tables!$G$5:$H$14,2,FALSE)*(M1506+(P1506+Q1506*Tables!$C$6))*(P1506+Q1506*Tables!$C$6)*1.36136,0)","v":21},"Nonreinforced Concrete Pipe - Drainage Std Wall","ASTM C118"]
[null,null,null,null,{"$f":"ROW()","v":1507},"Concrete NRCP","(NRCP Drainage)",8,8,"WT = 1in - 30 psi","Concrete-Nonreinforced",30,7.8129999999999997,"ID",null,1,6.25E-2,{"$f":"ROUND(VLOOKUP(F1507,Tables!$G$5:$H$14,2,FALSE)*(M1507+(P1507+Q1507*Tables!$C$6))*(P1507+Q1507*Tables!$C$6)*1.36136,0)","v":32},"Nonreinforced Concrete Pipe - Drainage Std Wall","ASTM C118"]
[null,null,null,null,{"$f":"ROW()","v":1508},"Concrete NRCP","(NRCP Drainage)",10,10,"WT = 1.125in - 30 psi","Concrete-Nonreinforced",30,9.75,"ID",null,1.125,6.25E-2,{"$f":"ROUND(VLOOKUP(F1508,Tables!$G$5:$H$14,2,FALSE)*(M1508+(P1508+Q1508*Tables!$C$6))*(P1508+Q1508*Tables!$C$6)*1.36136,0)","v":44},"Nonreinforced Concrete Pipe - Drainage Std Wall","ASTM C118"]
[null,null,null,null,{"$f":"ROW()","v":1509},"Concrete NRCP","(NRCP Drainage)",12,12,"WT = 1.25in - 25 psi","Concrete-Nonreinforced",25,11.75,"ID",null,1.25,6.25E-2,{"$f":"ROUND(VLOOKUP(F1509,Tables!$G$5:$H$14,2,FALSE)*(M1509+(P1509+Q1509*Tables!$C$6))*(P1509+Q1509*Tables!$C$6)*1.36136,0)","v":58},"Nonreinforced Concrete Pipe - Drainage Std Wall","ASTM C118"]
[null,null,null,null,{"$f":"ROW()","v":1510},"Concrete NRCP","(NRCP Drainage)",14,14,"WT = 1.375in - 25 psi","Concrete-Nonreinforced",25,13.75,"ID",null,1.375,6.8750000000000006E-2,{"$f":"ROUND(VLOOKUP(F1510,Tables!$G$5:$H$14,2,FALSE)*(M1510+(P1510+Q1510*Tables!$C$6))*(P1510+Q1510*Tables!$C$6)*1.36136,0)","v":74},"Nonreinforced Concrete Pipe - Drainage Std Wall","ASTM C118"]
[null,null,null,null,{"$f":"ROW()","v":1511},"Concrete NRCP","(NRCP Drainage)",15,15,"WT = 1.5in - 25 psi","Concrete-Nonreinforced",25,14.75,"ID",null,1.5,7.5000000000000011E-2,{"$f":"ROUND(VLOOKUP(F1511,Tables!$G$5:$H$14,2,FALSE)*(M1511+(P1511+Q1511*Tables!$C$6))*(P1511+Q1511*Tables!$C$6)*1.36136,0)","v":87},"Nonreinforced Concrete Pipe - Drainage Std Wall","ASTM C118"]
[null,null,null,null,{"$f":"ROW()","v":1512},"Concrete NRCP","(NRCP Drainage)",16,16,"WT = 1.5in - 25 psi","Concrete-Nonreinforced",25,15.75,"ID",null,1.5,7.5000000000000011E-2,{"$f":"ROUND(VLOOKUP(F1512,Tables!$G$5:$H$14,2,FALSE)*(M1512+(P1512+Q1512*Tables!$C$6))*(P1512+Q1512*Tables!$C$6)*1.36136,0)","v":93},"Nonreinforced Concrete Pipe - Drainage Std Wall","ASTM C118"]
[null,null,null,null,{"$f":"ROW()","v":1513},"Concrete NRCP","(NRCP Drainage)",18,18,"WT = 1.75in - 25 psi","Concrete-Nonreinforced",25,17.75,"ID",null,1.75,8.7500000000000008E-2,{"$f":"ROUND(VLOOKUP(F1513,Tables!$G$5:$H$14,2,FALSE)*(M1513+(P1513+Q1513*Tables!$C$6))*(P1513+Q1513*Tables!$C$6)*1.36136,0)","v":122},"Nonreinforced Concrete Pipe - Drainage Std Wall","ASTM C118"]
[null,null,null,null,{"$f":"ROW()","v":1514},"Concrete NRCP","(NRCP Drainage)",20,20,"WT = 2in - 25 psi","Concrete-Nonreinforced",25,19.687999999999999,"ID",null,2,0.1,{"$f":"ROUND(VLOOKUP(F1514,Tables!$G$5:$H$14,2,FALSE)*(M1514+(P1514+Q1514*Tables!$C$6))*(P1514+Q1514*Tables!$C$6)*1.36136,0)","v":155},"Nonreinforced Concrete Pipe - Drainage Std Wall","ASTM C118"]
[null,null,null,null,{"$f":"ROW()","v":1515},"Concrete NRCP","(NRCP Drainage)",21,21,"WT = 2.125in - 25 psi","Concrete-Nonreinforced",25,20.687999999999999,"ID",null,2.125,0.10625000000000001,{"$f":"ROUND(VLOOKUP(F1515,Tables!$G$5:$H$14,2,FALSE)*(M1515+(P1515+Q1515*Tables!$C$6))*(P1515+Q1515*Tables!$C$6)*1.36136,0)","v":174},"Nonreinforced Concrete Pipe - Drainage Std Wall","ASTM C118"]
[null,null,null,null,{"$f":"ROW()","v":1516},"Concrete NRCP","(NRCP Drainage)",24,24,"WT = 2.25in - 25 psi","Concrete-Nonreinforced",25,23.687999999999999,"ID",null,2.25,0.1125,{"$f":"ROUND(VLOOKUP(F1516,Tables!$G$5:$H$14,2,FALSE)*(M1516+(P1516+Q1516*Tables!$C$6))*(P1516+Q1516*Tables!$C$6)*1.36136,0)","v":209},"Nonreinforced Concrete Pipe - Drainage Std Wall","ASTM C118"]
[null,null,null,null,{"$f":"ROW()","v":1517},"Concrete NRCP","(NRCP Drain Heavy W.)",4,4,"WT = 0.75in - 30 psi",null,30,3.8130000000000002,"ID",null,0.75,6.25E-2,{"$f":"ROUND(VLOOKUP(F1517,Tables!$G$5:$H$14,2,FALSE)*(M1517+(P1517+Q1517*Tables!$C$6))*(P1517+Q1517*Tables!$C$6)*1.36136,0)","v":13},"Nonreinforced Concrete Pipe - Drainage Heavy W.","ASTM C118"]
[null,null,null,null,{"$f":"ROW()","v":1518},"Concrete NRCP","(NRCP Drain Heavy W.)",5,5,"WT = 0.75in - 30 psi",null,30,4.8129999999999997,"ID",null,0.75,6.25E-2,{"$f":"ROUND(VLOOKUP(F1518,Tables!$G$5:$H$14,2,FALSE)*(M1518+(P1518+Q1518*Tables!$C$6))*(P1518+Q1518*Tables!$C$6)*1.36136,0)","v":15},"Nonreinforced Concrete Pipe - Drainage Heavy W.","ASTM C118"]
[null,null,null,null,{"$f":"ROW()","v":1519},"Concrete NRCP","(NRCP Drain Heavy W.)",6,6,"WT = 0.875in - 30 psi",null,30,5.8129999999999997,"ID",null,0.875,6.25E-2,{"$f":"ROUND(VLOOKUP(F1519,Tables!$G$5:$H$14,2,FALSE)*(M1519+(P1519+Q1519*Tables!$C$6))*(P1519+Q1519*Tables!$C$6)*1.36136,0)","v":21},"Nonreinforced Concrete Pipe - Drainage Heavy W.","ASTM C118"]
[null,null,null,null,{"$f":"ROW()","v":1520},"Concrete NRCP","(NRCP Drain Heavy W.)",8,8,"WT = 1in - 30 psi",null,30,7.8129999999999997,"ID",null,1,6.25E-2,{"$f":"ROUND(VLOOKUP(F1520,Tables!$G$5:$H$14,2,FALSE)*(M1520+(P1520+Q1520*Tables!$C$6))*(P1520+Q1520*Tables!$C$6)*1.36136,0)","v":32},"Nonreinforced Concrete Pipe - Drainage Heavy W.","ASTM C118"]
[null,null,null,null,{"$f":"ROW()","v":1521},"Concrete NRCP","(NRCP Drain Heavy W.)",10,10,"WT = 1.125in - 30 psi",null,30,9.75,"ID",null,1.125,6.25E-2,{"$f":"ROUND(VLOOKUP(F1521,Tables!$G$5:$H$14,2,FALSE)*(M1521+(P1521+Q1521*Tables!$C$6))*(P1521+Q1521*Tables!$C$6)*1.36136,0)","v":44},"Nonreinforced Concrete Pipe - Drainage Heavy W.","ASTM C118"]
[null,null,null,null,{"$f":"ROW()","v":1522},"Concrete NRCP","(NRCP Drain Heavy W.)",12,12,"WT = 1.25in - 25 psi",null,25,11.75,"ID",null,1.25,6.25E-2,{"$f":"ROUND(VLOOKUP(F1522,Tables!$G$5:$H$14,2,FALSE)*(M1522+(P1522+Q1522*Tables!$C$6))*(P1522+Q1522*Tables!$C$6)*1.36136,0)","v":58},"Nonreinforced Concrete Pipe - Drainage Heavy W.","ASTM C118"]
[null,null,null,null,{"$f":"ROW()","v":1523},"Concrete NRCP","(NRCP Drain Heavy W.)",14,14,"WT = 1.5in - 25 psi",null,25,13.75,"ID",null,1.5,6.8750000000000006E-2,{"$f":"ROUND(VLOOKUP(F1523,Tables!$G$5:$H$14,2,FALSE)*(M1523+(P1523+Q1523*Tables!$C$6))*(P1523+Q1523*Tables!$C$6)*1.36136,0)","v":82},"Nonreinforced Concrete Pipe - Drainage Heavy W.","ASTM C118"]
[null,null,null,null,{"$f":"ROW()","v":1524},"Concrete NRCP","(NRCP Drain Heavy W.)",15,15,"WT = 1.5in - 25 psi",null,25,14.75,"ID",null,1.5,7.5000000000000011E-2,{"$f":"ROUND(VLOOKUP(F1524,Tables!$G$5:$H$14,2,FALSE)*(M1524+(P1524+Q1524*Tables!$C$6))*(P1524+Q1524*Tables!$C$6)*1.36136,0)","v":87},"Nonreinforced Concrete Pipe - Drainage Heavy W.","ASTM C118"]
[null,null,null,null,{"$f":"ROW()","v":1525},"Concrete NRCP","(NRCP Drain Heavy W.)",16,16,"WT = 1.75in - 25 psi",null,25,15.75,"ID",null,1.75,7.5000000000000011E-2,{"$f":"ROUND(VLOOKUP(F1525,Tables!$G$5:$H$14,2,FALSE)*(M1525+(P1525+Q1525*Tables!$C$6))*(P1525+Q1525*Tables!$C$6)*1.36136,0)","v":109},"Nonreinforced Concrete Pipe - Drainage Heavy W.","ASTM C118"]
[null,null,null,null,{"$f":"ROW()","v":1526},"Concrete NRCP","(NRCP Drain Heavy W.)",18,18,"WT = 2in - 25 psi",null,25,17.75,"ID",null,2,8.7500000000000008E-2,{"$f":"ROUND(VLOOKUP(F1526,Tables!$G$5:$H$14,2,FALSE)*(M1526+(P1526+Q1526*Tables!$C$6))*(P1526+Q1526*Tables!$C$6)*1.36136,0)","v":141},"Nonreinforced Concrete Pipe - Drainage Heavy W.","ASTM C118"]
[null,null,null,null,{"$f":"ROW()","v":1527},"Concrete NRCP","(NRCP Drain Heavy W.)",20,20,"WT = 2.25in - 25 psi",null,25,19.687999999999999,"ID",null,2.25,0.1,{"$f":"ROUND(VLOOKUP(F1527,Tables!$G$5:$H$14,2,FALSE)*(M1527+(P1527+Q1527*Tables!$C$6))*(P1527+Q1527*Tables!$C$6)*1.36136,0)","v":176},"Nonreinforced Concrete Pipe - Drainage Heavy W.","ASTM C118"]
[null,null,null,null,{"$f":"ROW()","v":1528},"Concrete NRCP","(NRCP Drain Heavy W.)",21,21,"WT = 2.25in - 25 psi",null,25,20.687999999999999,"ID",null,2.25,0.10625000000000001,{"$f":"ROUND(VLOOKUP(F1528,Tables!$G$5:$H$14,2,FALSE)*(M1528+(P1528+Q1528*Tables!$C$6))*(P1528+Q1528*Tables!$C$6)*1.36136,0)","v":185},"Nonreinforced Concrete Pipe - Drainage Heavy W.","ASTM C118"]
[null,null,null,null,{"$f":"ROW()","v":1529},"Concrete NRCP","(NRCP Drain Heavy W.)",24,24,"WT = 2.5in - 25 psi",null,25,23.687999999999999,"ID",null,2.5,0.1125,{"$f":"ROUND(VLOOKUP(F1529,Tables!$G$5:$H$14,2,FALSE)*(M1529+(P1529+Q1529*Tables!$C$6))*(P1529+Q1529*Tables!$C$6)*1.36136,0)","v":234},"Nonreinforced Concrete Pipe - Drainage Heavy W.","ASTM C118"]
[null,null,null,1,{"$f":"ROW()","v":1530},"Concrete RCP","(RCP Gasket)",6,6,"WT = 0.75in - 30 psi","Concrete-Reinforced",30,5.8129999999999997,"ID",null,0.75,{"$f":"MIN(0.05*P1530, 1/16)","v":3.7500000000000006E-2},{"$f":"ROUND(VLOOKUP(F1530,Tables!$G$5:$H$14,2,FALSE)*(M1530+(P1530+Q1530*Tables!$C$6))*(P1530+Q1530*Tables!$C$6)*1.36136,0)","v":19},"Reinforced Concrete Pipe (Gasket)","ASTM C505"]
[null,null,null,null,{"$f":"ROW()","v":1531},"Concrete RCP","(RCP Gasket)",8,8,"WT = 1in - 30 psi","Concrete-Reinforced",30,7.8129999999999997,"ID",null,1,0.05,{"$f":"ROUND(VLOOKUP(F1531,Tables!$G$5:$H$14,2,FALSE)*(M1531+(P1531+Q1531*Tables!$C$6))*(P1531+Q1531*Tables!$C$6)*1.36136,0)","v":34},"Reinforced Concrete Pipe (Gasket)","ASTM C505"]
[null,null,null,null,{"$f":"ROW()","v":1532},"Concrete RCP","(RCP Gasket)",10,10,"WT = 1.25in - 30 psi","Concrete-Reinforced",30,9.8130000000000006,"ID",null,1.25,6.25E-2,{"$f":"ROUND(VLOOKUP(F1532,Tables!$G$5:$H$14,2,FALSE)*(M1532+(P1532+Q1532*Tables!$C$6))*(P1532+Q1532*Tables!$C$6)*1.36136,0)","v":53},"Reinforced Concrete Pipe (Gasket)","ASTM C505"]
[null,null,null,null,{"$f":"ROW()","v":1533},"Concrete RCP","(RCP Gasket)",12,12,"WT = 1.5in - 30 psi","Concrete-Reinforced",30,11.813000000000001,"ID",null,1.5,6.25E-2,{"$f":"ROUND(VLOOKUP(F1533,Tables!$G$5:$H$14,2,FALSE)*(M1533+(P1533+Q1533*Tables!$C$6))*(P1533+Q1533*Tables!$C$6)*1.36136,0)","v":76},"Reinforced Concrete Pipe (Gasket)","ASTM C505"]
[null,null,null,null,{"$f":"ROW()","v":1534},"Concrete RCP","(RCP Gasket)",15,15,"WT = 1.875in - 30 psi","Concrete-Reinforced",30,14.775,"ID",null,{"$f":"1+7/8","v":1.875},6.25E-2,{"$f":"ROUND(VLOOKUP(F1534,Tables!$G$5:$H$14,2,FALSE)*(M1534+(P1534+Q1534*Tables!$C$6))*(P1534+Q1534*Tables!$C$6)*1.36136,0)","v":118},"Reinforced Concrete Pipe (Gasket)","ASTM C505"]
[null,null,null,null,{"$f":"ROW()","v":1535},"Concrete RCP","(RCP Gasket)",18,18,"WT = 2.25in - 30 psi","Concrete-Reinforced",30,17.73,"ID",null,2.25,6.25E-2,{"$f":"ROUND(VLOOKUP(F1535,Tables!$G$5:$H$14,2,FALSE)*(M1535+(P1535+Q1535*Tables!$C$6))*(P1535+Q1535*Tables!$C$6)*1.36136,0)","v":169},"Reinforced Concrete Pipe (Gasket)","ASTM C505"]
[null,null,null,null,{"$f":"ROW()","v":1536},"Concrete RCP","(RCP Gasket)",21,21,"WT = 2.625in - 30 psi","Concrete-Reinforced",30,20.684999999999999,"ID",null,{"$f":"2+5/8","v":2.625},6.25E-2,{"$f":"ROUND(VLOOKUP(F1536,Tables!$G$5:$H$14,2,FALSE)*(M1536+(P1536+Q1536*Tables!$C$6))*(P1536+Q1536*Tables!$C$6)*1.36136,0)","v":230},"Reinforced Concrete Pipe (Gasket)","ASTM C505"]
[null,null,null,null,{"$f":"ROW()","v":1537},"Concrete RCP","(RCP Gasket)",24,24,"WT = 3in - 30 psi","Concrete-Reinforced",30,23.64,"ID",null,3,6.25E-2,{"$f":"ROUND(VLOOKUP(F1537,Tables!$G$5:$H$14,2,FALSE)*(M1537+(P1537+Q1537*Tables!$C$6))*(P1537+Q1537*Tables!$C$6)*1.36136,0)","v":299},"Reinforced Concrete Pipe (Gasket)","ASTM C505"]
[null,null,null,1,{"$f":"ROW()","v":1538},"Concrete RCP","(CPP Noncylinder)",12,{"$f":"H1538","v":12},"WT = 2in - 55 psi","Concrete-Reinforced",55,11.75,"ID",null,2,{"$f":"1/8","v":0.125},{"$f":"ROUND(VLOOKUP(F1538,Tables!$G$5:$H$14,2,FALSE)*(M1538+(P1538+Q1538*Tables!$C$6))*(P1538+Q1538*Tables!$C$6)*1.36136,0)","v":105},"Reinforced Concrete Noncylinder Pipe","AWWA C302"]
[null,null,null,null,{"$f":"ROW()","v":1539},"Concrete RCP","(CPP Noncylinder)",15,{"$f":"H1539","v":15},"WT = 2in - 55 psi","Concrete-Reinforced",55,14.75,"ID",null,2,{"$f":"1/8","v":0.125},{"$f":"ROUND(VLOOKUP(F1539,Tables!$G$5:$H$14,2,FALSE)*(M1539+(P1539+Q1539*Tables!$C$6))*(P1539+Q1539*Tables!$C$6)*1.36136,0)","v":128},"Reinforced Concrete Noncylinder Pipe","AWWA C302"]
[null,null,null,null,{"$f":"ROW()","v":1540},"Concrete RCP","(CPP Noncylinder)",16,16,"WT = 2.125in - 55 psi","Concrete-Reinforced",55,15.75,"ID",null,2.125,0.125,{"$f":"ROUND(VLOOKUP(F1540,Tables!$G$5:$H$14,2,FALSE)*(M1540+(P1540+Q1540*Tables!$C$6))*(P1540+Q1540*Tables!$C$6)*1.36136,0)","v":145},"Reinforced Concrete Noncylinder Pipe","AWWA C302"]
[null,null,null,null,{"$f":"ROW()","v":1541},"Concrete RCP","(CPP Noncylinder)",18,18,"WT = 2.25in - 55 psi","Concrete-Reinforced",55,17.75,"ID",null,2.25,0.125,{"$f":"ROUND(VLOOKUP(F1541,Tables!$G$5:$H$14,2,FALSE)*(M1541+(P1541+Q1541*Tables!$C$6))*(P1541+Q1541*Tables!$C$6)*1.36136,0)","v":172},"Reinforced Concrete Noncylinder Pipe","AWWA C302"]
[null,null,null,null,{"$f":"ROW()","v":1542},"Concrete RCP","(CPP Noncylinder)",20,20,"WT = 2.375in - 55 psi","Concrete-Reinforced",55,19.75,"ID",null,{"$f":"2+3/8","v":2.375},0.125,{"$f":"ROUND(VLOOKUP(F1542,Tables!$G$5:$H$14,2,FALSE)*(M1542+(P1542+Q1542*Tables!$C$6))*(P1542+Q1542*Tables!$C$6)*1.36136,0)","v":200},"Reinforced Concrete Noncylinder Pipe","AWWA C302"]
[null,null,null,null,{"$f":"ROW()","v":1543},"Concrete RCP","(CPP Noncylinder)",21,21,"WT = 2.375in - 55 psi","Concrete-Reinforced",55,20.75,"ID",null,{"$f":"2+3/8","v":2.375},0.125,{"$f":"ROUND(VLOOKUP(F1543,Tables!$G$5:$H$14,2,FALSE)*(M1543+(P1543+Q1543*Tables!$C$6))*(P1543+Q1543*Tables!$C$6)*1.36136,0)","v":209},"Reinforced Concrete Noncylinder Pipe","AWWA C302"]
[null,null,null,null,{"$f":"ROW()","v":1544},"Concrete RCP","(CPP Noncylinder)",24,24,"WT = 2.5in - 55 psi","Concrete-Reinforced",55,23.75,"ID",null,2.5,0.125,{"$f":"ROUND(VLOOKUP(F1544,Tables!$G$5:$H$14,2,FALSE)*(M1544+(P1544+Q1544*Tables!$C$6))*(P1544+Q1544*Tables!$C$6)*1.36136,0)","v":250},"Reinforced Concrete Noncylinder Pipe","AWWA C302"]
[null,null,null,null,{"$f":"ROW()","v":1545},"Concrete RCP","(CPP Noncylinder)",27,27,"WT = 2.625in - 55 psi","Concrete-Reinforced",55,26.75,"ID",null,{"$f":"2+5/8","v":2.625},0.125,{"$f":"ROUND(VLOOKUP(F1545,Tables!$G$5:$H$14,2,FALSE)*(M1545+(P1545+Q1545*Tables!$C$6))*(P1545+Q1545*Tables!$C$6)*1.36136,0)","v":293},"Reinforced Concrete Noncylinder Pipe","AWWA C302"]
[null,null,null,null,{"$f":"ROW()","v":1546},"Concrete RCP","(CPP Noncylinder)",30,30,"WT = 2.75in - 55 psi","Concrete-Reinforced",55,29.75,"ID",null,2.75,0.125,{"$f":"ROUND(VLOOKUP(F1546,Tables!$G$5:$H$14,2,FALSE)*(M1546+(P1546+Q1546*Tables!$C$6))*(P1546+Q1546*Tables!$C$6)*1.36136,0)","v":339},"Reinforced Concrete Noncylinder Pipe","AWWA C302"]
[null,null,null,null,{"$f":"ROW()","v":1547},"Concrete RCP","(CPP Noncylinder)",33,33,"WT = 2.875in - 55 psi","Concrete-Reinforced",55,32.75,"ID",null,{"$f":"2+7/8","v":2.875},0.125,{"$f":"ROUND(VLOOKUP(F1547,Tables!$G$5:$H$14,2,FALSE)*(M1547+(P1547+Q1547*Tables!$C$6))*(P1547+Q1547*Tables!$C$6)*1.36136,0)","v":388},"Reinforced Concrete Noncylinder Pipe","AWWA C302"]
[null,null,null,null,{"$f":"ROW()","v":1548},"Concrete RCP","(CPP Noncylinder)",36,36,"WT = 3in - 55 psi","Concrete-Reinforced",55,35.75,"ID",null,3,0.125,{"$f":"ROUND(VLOOKUP(F1548,Tables!$G$5:$H$14,2,FALSE)*(M1548+(P1548+Q1548*Tables!$C$6))*(P1548+Q1548*Tables!$C$6)*1.36136,0)","v":440},"Reinforced Concrete Noncylinder Pipe","AWWA C302"]
[null,null,null,null,{"$f":"ROW()","v":1549},"Concrete RCP","(CPP Noncylinder)",39,39,"WT = 3.25in - 55 psi","Concrete-Reinforced",55,38.625,"ID",null,3.25,{"$f":"3/16","v":0.1875},{"$f":"ROUND(VLOOKUP(F1549,Tables!$G$5:$H$14,2,FALSE)*(M1549+(P1549+Q1549*Tables!$C$6))*(P1549+Q1549*Tables!$C$6)*1.36136,0)","v":520},"Reinforced Concrete Noncylinder Pipe","AWWA C302"]
[null,null,null,null,{"$f":"ROW()","v":1550},"Concrete RCP","(CPP Noncylinder)",42,42,"WT = 3.5in - 55 psi","Concrete-Reinforced",55,41.625,"ID",null,3.5,{"$f":"3/16","v":0.1875},{"$f":"ROUND(VLOOKUP(F1550,Tables!$G$5:$H$14,2,FALSE)*(M1550+(P1550+Q1550*Tables!$C$6))*(P1550+Q1550*Tables!$C$6)*1.36136,0)","v":602},"Reinforced Concrete Noncylinder Pipe","AWWA C302"]
[null,null,null,null,{"$f":"ROW()","v":1551},"Concrete RCP","(CPP Noncylinder)",48,48,"WT = 4in - 55 psi","Concrete-Reinforced",55,47.625,"ID",null,4,0.1875,{"$f":"ROUND(VLOOKUP(F1551,Tables!$G$5:$H$14,2,FALSE)*(M1551+(P1551+Q1551*Tables!$C$6))*(P1551+Q1551*Tables!$C$6)*1.36136,0)","v":784},"Reinforced Concrete Noncylinder Pipe","AWWA C302"]
[null,null,null,null,{"$f":"ROW()","v":1552},"Concrete RCP","(CPP Noncylinder)",54,54,"WT = 4.5in - 55 psi","Concrete-Reinforced",55,53.5,"ID",null,4.5,0.25,{"$f":"ROUND(VLOOKUP(F1552,Tables!$G$5:$H$14,2,FALSE)*(M1552+(P1552+Q1552*Tables!$C$6))*(P1552+Q1552*Tables!$C$6)*1.36136,0)","v":995},"Reinforced Concrete Noncylinder Pipe","AWWA C302"]
[null,null,null,null,{"$f":"ROW()","v":1553},"Concrete RCP","(CPP Noncylinder)",60,60,"WT = 5in - 55 psi","Concrete-Reinforced",55,59.5,"ID",null,5,0.25,{"$f":"ROUND(VLOOKUP(F1553,Tables!$G$5:$H$14,2,FALSE)*(M1553+(P1553+Q1553*Tables!$C$6))*(P1553+Q1553*Tables!$C$6)*1.36136,0)","v":1226},"Reinforced Concrete Noncylinder Pipe","AWWA C302"]
[null,null,null,null,{"$f":"ROW()","v":1554},"Concrete RCP","(CPP Noncylinder)",66,66,"WT = 5.5in - 55 psi","Concrete-Reinforced",55,65.5,"ID",null,5.5,0.25,{"$f":"ROUND(VLOOKUP(F1554,Tables!$G$5:$H$14,2,FALSE)*(M1554+(P1554+Q1554*Tables!$C$6))*(P1554+Q1554*Tables!$C$6)*1.36136,0)","v":1481},"Reinforced Concrete Noncylinder Pipe","AWWA C302"]
[null,null,null,null,{"$f":"ROW()","v":1555},"Concrete RCP","(CPP Noncylinder)",72,72,"WT = 6in - 55 psi","Concrete-Reinforced",55,71.5,"ID",null,6,0.25,{"$f":"ROUND(VLOOKUP(F1555,Tables!$G$5:$H$14,2,FALSE)*(M1555+(P1555+Q1555*Tables!$C$6))*(P1555+Q1555*Tables!$C$6)*1.36136,0)","v":1761},"Reinforced Concrete Noncylinder Pipe","AWWA C302"]
[null,null,null,null,{"$f":"ROW()","v":1556},"Concrete RCP","(CPP Noncylinder)",78,78,"WT = 6.5in - 55 psi","Concrete-Reinforced",55,77.25,"ID",null,6.5,{"$f":"3/8","v":0.375},{"$f":"ROUND(VLOOKUP(F1556,Tables!$G$5:$H$14,2,FALSE)*(M1556+(P1556+Q1556*Tables!$C$6))*(P1556+Q1556*Tables!$C$6)*1.36136,0)","v":2079},"Reinforced Concrete Noncylinder Pipe","AWWA C302"]
[null,null,null,null,{"$f":"ROW()","v":1557},"Concrete RCP","(CPP Noncylinder)",84,84,"WT = 7in - 55 psi","Concrete-Reinforced",55,83.25,"ID",null,7,{"$f":"3/8","v":0.375},{"$f":"ROUND(VLOOKUP(F1557,Tables!$G$5:$H$14,2,FALSE)*(M1557+(P1557+Q1557*Tables!$C$6))*(P1557+Q1557*Tables!$C$6)*1.36136,0)","v":2407},"Reinforced Concrete Noncylinder Pipe","AWWA C302"]
[null,null,null,null,{"$f":"ROW()","v":1558},"Concrete RCP","(CPP Noncylinder)",90,90,"WT = 7.5in - 55 psi","Concrete-Reinforced",55,89.25,"ID",null,7.5,0.375,{"$f":"ROUND(VLOOKUP(F1558,Tables!$G$5:$H$14,2,FALSE)*(M1558+(P1558+Q1558*Tables!$C$6))*(P1558+Q1558*Tables!$C$6)*1.36136,0)","v":2759},"Reinforced Concrete Noncylinder Pipe","AWWA C302"]
[null,null,null,null,{"$f":"ROW()","v":1559},"Concrete RCP","(CPP Noncylinder)",96,96,"WT = 8in - 55 psi","Concrete-Reinforced",55,95.25,"ID",null,8,0.375,{"$f":"ROUND(VLOOKUP(F1559,Tables!$G$5:$H$14,2,FALSE)*(M1559+(P1559+Q1559*Tables!$C$6))*(P1559+Q1559*Tables!$C$6)*1.36136,0)","v":3136},"Reinforced Concrete Noncylinder Pipe","AWWA C302"]
[null,null,null,null,{"$f":"ROW()","v":1560},"Concrete RCP","(CPP Noncylinder)",102,102,"WT = 8.5in - 55 psi","Concrete-Reinforced",55,101.25,"ID",null,8.5,0.375,{"$f":"ROUND(VLOOKUP(F1560,Tables!$G$5:$H$14,2,FALSE)*(M1560+(P1560+Q1560*Tables!$C$6))*(P1560+Q1560*Tables!$C$6)*1.36136,0)","v":3537},"Reinforced Concrete Noncylinder Pipe","AWWA C302"]
[null,null,null,null,{"$f":"ROW()","v":1561},"Concrete RCP","(CPP Noncylinder)",108,108,"WT = 9in - 55 psi","Concrete-Reinforced",55,107.25,"ID",null,9,0.375,{"$f":"ROUND(VLOOKUP(F1561,Tables!$G$5:$H$14,2,FALSE)*(M1561+(P1561+Q1561*Tables!$C$6))*(P1561+Q1561*Tables!$C$6)*1.36136,0)","v":3961},"Reinforced Concrete Noncylinder Pipe","AWWA C302"]
[null,null,null,null,{"$f":"ROW()","v":1562},"Concrete RCP","(CPP Noncylinder)",114,114,"WT = 9.5in - 55 psi","Concrete-Reinforced",55,113.25,"ID",null,9.5,0.375,{"$f":"ROUND(VLOOKUP(F1562,Tables!$G$5:$H$14,2,FALSE)*(M1562+(P1562+Q1562*Tables!$C$6))*(P1562+Q1562*Tables!$C$6)*1.36136,0)","v":4410},"Reinforced Concrete Noncylinder Pipe","AWWA C302"]
[null,null,null,null,{"$f":"ROW()","v":1563},"Concrete RCP","(CPP Noncylinder)",120,120,"WT = 10in - 55 psi","Concrete-Reinforced",55,119.25,"ID",null,10,0.375,{"$f":"ROUND(VLOOKUP(F1563,Tables!$G$5:$H$14,2,FALSE)*(M1563+(P1563+Q1563*Tables!$C$6))*(P1563+Q1563*Tables!$C$6)*1.36136,0)","v":4883},"Reinforced Concrete Noncylinder Pipe","AWWA C302"]
[null,null,null,null,{"$f":"ROW()","v":1564},"Concrete RCP","(CPP Noncylinder)",132,132,"WT = 11in - 55 psi","Concrete-Reinforced",55,131.25,"ID",null,11,0.375,{"$f":"ROUND(VLOOKUP(F1564,Tables!$G$5:$H$14,2,FALSE)*(M1564+(P1564+Q1564*Tables!$C$6))*(P1564+Q1564*Tables!$C$6)*1.36136,0)","v":5901},"Reinforced Concrete Noncylinder Pipe","AWWA C302"]
[null,null,null,null,{"$f":"ROW()","v":1565},"Concrete RCP","(CPP Noncylinder)",144,144,"WT = 12in - 55 psi","Concrete-Reinforced",55,143.25,"ID",null,12,0.375,{"$f":"ROUND(VLOOKUP(F1565,Tables!$G$5:$H$14,2,FALSE)*(M1565+(P1565+Q1565*Tables!$C$6))*(P1565+Q1565*Tables!$C$6)*1.36136,0)","v":7015},"Reinforced Concrete Noncylinder Pipe","AWWA C302"]
[null,null,null,1,{"$f":"ROW()","v":1566}," Typical Scenario (PE)","IPS (DR)",4,"4",{"$f":"\" \"&L1566&\" psi   DR-\"&K1566","v":" 50 psi   DR-41"},41,{"$f":"VLOOKUP(K1566,Tables!$C$42:$G$58,IF(Tables!$C$5=4710,IF(N1566=\"ID\",5,3),IF(N1566=\"ID\",4,2)),FALSE)","v":50},4.5,"OD",null,0.11,0.02,{"$f":"VLOOKUP(F1566,Tables!$G$5:$H$14,2,FALSE)*(M1566-(P1566+Q1566*Tables!$C$6))*(P1566+Q1566*Tables!$C$6)*1.36136","v":0.68547852172799995},{"$f":"\"Controlled OD (DR-\"&K1566&\") Iron Pipe Size\"","v":"Controlled OD (DR-41) Iron Pipe Size"},"ASTM F714"]
[null,null,null,null,{"$f":"ROW()","v":1567}," Typical Scenario (PE)","IPS (DR)",5,"5",{"$f":"\" \"&L1567&\" psi   DR-\"&K1567","v":" 50 psi   DR-41"},41,{"$f":"VLOOKUP(K1567,Tables!$C$42:$G$58,IF(Tables!$C$5=4710,IF(N1567=\"ID\",5,3),IF(N1567=\"ID\",4,2)),FALSE)","v":50},5.5629999999999997,"OD",null,0.13600000000000001,2.5000000000000001E-2,{"$f":"VLOOKUP(F1567,Tables!$G$5:$H$14,2,FALSE)*(M1567-(P1567+Q1567*Tables!$C$6))*(P1567+Q1567*Tables!$C$6)*1.36136","v":1.04863248325836},{"$f":"\"Controlled OD (DR-\"&K1567&\") Iron Pipe Size\"","v":"Controlled OD (DR-41) Iron Pipe Size"},"ASTM F714"]
[null,null,null,null,{"$f":"ROW()","v":1568}," Typical Scenario (PE)","IPS (DR)",6,"6"," 50 psi   DR-41",41,{"$f":"VLOOKUP(K1568,Tables!$C$42:$G$58,IF(Tables!$C$5=4710,IF(N1568=\"ID\",5,3),IF(N1568=\"ID\",4,2)),FALSE)","v":50},6.625,"OD",null,0.16200000000000001,0.03,{"$f":"VLOOKUP(F1568,Tables!$G$5:$H$14,2,FALSE)*(M1568-(P1568+Q1568*Tables!$C$6))*(P1568+Q1568*Tables!$C$6)*1.36136","v":1.4884587042124797},"Controlled OD (DR-41) Iron Pipe Size","ASTM F714"]
[null,null,null,null,{"$f":"ROW()","v":1569}," Typical Scenario (PE)","IPS (DR)",7,"7"," 50 psi   DR-41",41,{"$f":"VLOOKUP(K1569,Tables!$C$42:$G$58,IF(Tables!$C$5=4710,IF(N1569=\"ID\",5,3),IF(N1569=\"ID\",4,2)),FALSE)","v":50},7.125,"OD",null,0.17399999999999999,3.4000000000000002E-2,{"$f":"VLOOKUP(F1569,Tables!$G$5:$H$14,2,FALSE)*(M1569-(P1569+Q1569*Tables!$C$6))*(P1569+Q1569*Tables!$C$6)*1.36136","v":1.7272519811747198},"Controlled OD (DR-41) Iron Pipe Size","ASTM F714"]
[null,null,null,null,{"$f":"ROW()","v":1570}," Typical Scenario (PE)","IPS (DR)",8,"8"," 50 psi   DR-41",41,{"$f":"VLOOKUP(K1570,Tables!$C$42:$G$58,IF(Tables!$C$5=4710,IF(N1570=\"ID\",5,3),IF(N1570=\"ID\",4,2)),FALSE)","v":50},8.625,"OD",null,0.21,3.9E-2,{"$f":"VLOOKUP(F1570,Tables!$G$5:$H$14,2,FALSE)*(M1570-(P1570+Q1570*Tables!$C$6))*(P1570+Q1570*Tables!$C$6)*1.36136","v":2.5128568611946798},"Controlled OD (DR-41) Iron Pipe Size","ASTM F714"]
[null,null,null,null,{"$f":"ROW()","v":1571}," Typical Scenario (PE)","IPS (DR)",10,"10"," 50 psi   DR-41",41,{"$f":"VLOOKUP(K1571,Tables!$C$42:$G$58,IF(Tables!$C$5=4710,IF(N1571=\"ID\",5,3),IF(N1571=\"ID\",4,2)),FALSE)","v":50},10.75,"OD",null,0.26200000000000001,4.8000000000000001E-2,{"$f":"VLOOKUP(F1571,Tables!$G$5:$H$14,2,FALSE)*(M1571-(P1571+Q1571*Tables!$C$6))*(P1571+Q1571*Tables!$C$6)*1.36136","v":3.9030333217075199},"Controlled OD (DR-41) Iron Pipe Size","ASTM F714"]
[null,null,null,null,{"$f":"ROW()","v":1572}," Typical Scenario (PE)","IPS (DR)",12,"12"," 50 psi   DR-41",41,{"$f":"VLOOKUP(K1572,Tables!$C$42:$G$58,IF(Tables!$C$5=4710,IF(N1572=\"ID\",5,3),IF(N1572=\"ID\",4,2)),FALSE)","v":50},12.75,"OD",null,0.31,5.7000000000000002E-2,{"$f":"VLOOKUP(F1572,Tables!$G$5:$H$14,2,FALSE)*(M1572-(P1572+Q1572*Tables!$C$6))*(P1572+Q1572*Tables!$C$6)*1.36136","v":5.4792540784181201},"Controlled OD (DR-41) Iron Pipe Size","ASTM F714"]
[null,null,null,null,{"$f":"ROW()","v":1573}," Typical Scenario (PE)","IPS (DR)",14,"14"," 50 psi   DR-41",41,{"$f":"VLOOKUP(K1573,Tables!$C$42:$G$58,IF(Tables!$C$5=4710,IF(N1573=\"ID\",5,3),IF(N1573=\"ID\",4,2)),FALSE)","v":50},14,"OD",null,0.34100000000000003,6.3E-2,{"$f":"VLOOKUP(F1573,Tables!$G$5:$H$14,2,FALSE)*(M1573-(P1573+Q1573*Tables!$C$6))*(P1573+Q1573*Tables!$C$6)*1.36136","v":6.6203501934569999},"Controlled OD (DR-41) Iron Pipe Size","ASTM F714"]
[null,null,null,null,{"$f":"ROW()","v":1574}," Typical Scenario (PE)","IPS (DR)",16,"16"," 50 psi   DR-41",41,{"$f":"VLOOKUP(K1574,Tables!$C$42:$G$58,IF(Tables!$C$5=4710,IF(N1574=\"ID\",5,3),IF(N1574=\"ID\",4,2)),FALSE)","v":50},16,"OD",null,0.39,7.1999999999999995E-2,{"$f":"VLOOKUP(F1574,Tables!$G$5:$H$14,2,FALSE)*(M1574-(P1574+Q1574*Tables!$C$6))*(P1574+Q1574*Tables!$C$6)*1.36136","v":8.6526326177491182},"Controlled OD (DR-41) Iron Pipe Size","ASTM F714"]
[null,null,null,null,{"$f":"ROW()","v":1575}," Typical Scenario (PE)","IPS (DR)",18,"18"," 50 psi   DR-41",41,{"$f":"VLOOKUP(K1575,Tables!$C$42:$G$58,IF(Tables!$C$5=4710,IF(N1575=\"ID\",5,3),IF(N1575=\"ID\",4,2)),FALSE)","v":50},18,"OD",null,0.439,8.1000000000000003E-2,{"$f":"VLOOKUP(F1575,Tables!$G$5:$H$14,2,FALSE)*(M1575-(P1575+Q1575*Tables!$C$6))*(P1575+Q1575*Tables!$C$6)*1.36136","v":10.956544383464678},"Controlled OD (DR-41) Iron Pipe Size","ASTM F714"]
[null,null,null,null,{"$f":"ROW()","v":1576}," Typical Scenario (PE)","IPS (DR)",20,"20"," 50 psi   DR-41",41,{"$f":"VLOOKUP(K1576,Tables!$C$42:$G$58,IF(Tables!$C$5=4710,IF(N1576=\"ID\",5,3),IF(N1576=\"ID\",4,2)),FALSE)","v":50},20,"OD",null,0.48799999999999999,0.09,{"$f":"VLOOKUP(F1576,Tables!$G$5:$H$14,2,FALSE)*(M1576-(P1576+Q1576*Tables!$C$6))*(P1576+Q1576*Tables!$C$6)*1.36136","v":13.532085490603681},"Controlled OD (DR-41) Iron Pipe Size","ASTM F714"]
[null,null,null,null,{"$f":"ROW()","v":1577}," Typical Scenario (PE)","IPS (DR)",22,"22"," 50 psi   DR-41",41,{"$f":"VLOOKUP(K1577,Tables!$C$42:$G$58,IF(Tables!$C$5=4710,IF(N1577=\"ID\",5,3),IF(N1577=\"ID\",4,2)),FALSE)","v":50},22,"OD",null,0.53700000000000003,9.9000000000000005E-2,{"$f":"VLOOKUP(F1577,Tables!$G$5:$H$14,2,FALSE)*(M1577-(P1577+Q1577*Tables!$C$6))*(P1577+Q1577*Tables!$C$6)*1.36136","v":16.379255939166118},"Controlled OD (DR-41) Iron Pipe Size","ASTM F714"]
[null,null,null,null,{"$f":"ROW()","v":1578}," Typical Scenario (PE)","IPS (DR)",24,"24"," 50 psi   DR-41",41,{"$f":"VLOOKUP(K1578,Tables!$C$42:$G$58,IF(Tables!$C$5=4710,IF(N1578=\"ID\",5,3),IF(N1578=\"ID\",4,2)),FALSE)","v":50},24,"OD",null,0.58499999999999996,0.108,{"$f":"VLOOKUP(F1578,Tables!$G$5:$H$14,2,FALSE)*(M1578-(P1578+Q1578*Tables!$C$6))*(P1578+Q1578*Tables!$C$6)*1.36136","v":19.46842338993552},"Controlled OD (DR-41) Iron Pipe Size","ASTM F714"]
[null,null,null,null,{"$f":"ROW()","v":1579}," Typical Scenario (PE)","IPS (DR)",26,"26"," 50 psi   DR-41",41,{"$f":"VLOOKUP(K1579,Tables!$C$42:$G$58,IF(Tables!$C$5=4710,IF(N1579=\"ID\",5,3),IF(N1579=\"ID\",4,2)),FALSE)","v":50},26,"OD",null,0.63400000000000001,0.11700000000000001,{"$f":"VLOOKUP(F1579,Tables!$G$5:$H$14,2,FALSE)*(M1579-(P1579+Q1579*Tables!$C$6))*(P1579+Q1579*Tables!$C$6)*1.36136","v":22.856383703153},"Controlled OD (DR-41) Iron Pipe Size","ASTM F714"]
[null,null,null,null,{"$f":"ROW()","v":1580}," Typical Scenario (PE)","IPS (DR)",28,"28"," 50 psi   DR-41",41,{"$f":"VLOOKUP(K1580,Tables!$C$42:$G$58,IF(Tables!$C$5=4710,IF(N1580=\"ID\",5,3),IF(N1580=\"ID\",4,2)),FALSE)","v":50},28,"OD",null,0.68300000000000005,0.126,{"$f":"VLOOKUP(F1580,Tables!$G$5:$H$14,2,FALSE)*(M1580-(P1580+Q1580*Tables!$C$6))*(P1580+Q1580*Tables!$C$6)*1.36136","v":26.515973357793918},"Controlled OD (DR-41) Iron Pipe Size","ASTM F714"]
[null,null,null,null,{"$f":"ROW()","v":1581}," Typical Scenario (PE)","IPS (DR)",30,"30"," 50 psi   DR-41",41,{"$f":"VLOOKUP(K1581,Tables!$C$42:$G$58,IF(Tables!$C$5=4710,IF(N1581=\"ID\",5,3),IF(N1581=\"ID\",4,2)),FALSE)","v":50},30,"OD",null,0.73199999999999998,0.13500000000000001,{"$f":"VLOOKUP(F1581,Tables!$G$5:$H$14,2,FALSE)*(M1581-(P1581+Q1581*Tables!$C$6))*(P1581+Q1581*Tables!$C$6)*1.36136","v":30.447192353858277},"Controlled OD (DR-41) Iron Pipe Size","ASTM F714"]
[null,null,null,null,{"$f":"ROW()","v":1582}," Typical Scenario (PE)","IPS (DR)",32,"32"," 50 psi   DR-41",41,{"$f":"VLOOKUP(K1582,Tables!$C$42:$G$58,IF(Tables!$C$5=4710,IF(N1582=\"ID\",5,3),IF(N1582=\"ID\",4,2)),FALSE)","v":50},32,"OD",null,0.78,0.14399999999999999,{"$f":"VLOOKUP(F1582,Tables!$G$5:$H$14,2,FALSE)*(M1582-(P1582+Q1582*Tables!$C$6))*(P1582+Q1582*Tables!$C$6)*1.36136","v":34.610530470996473},"Controlled OD (DR-41) Iron Pipe Size","ASTM F714"]
[null,null,null,null,{"$f":"ROW()","v":1583}," Typical Scenario (PE)","IPS (DR)",34,"34"," 50 psi   DR-41",41,{"$f":"VLOOKUP(K1583,Tables!$C$42:$G$58,IF(Tables!$C$5=4710,IF(N1583=\"ID\",5,3),IF(N1583=\"ID\",4,2)),FALSE)","v":50},34,"OD",null,0.82899999999999996,0.153,{"$f":"VLOOKUP(F1583,Tables!$G$5:$H$14,2,FALSE)*(M1583-(P1583+Q1583*Tables!$C$6))*(P1583+Q1583*Tables!$C$6)*1.36136","v":39.082539331715871},"Controlled OD (DR-41) Iron Pipe Size","ASTM F714"]
[null,null,null,null,{"$f":"ROW()","v":1584}," Typical Scenario (PE)","IPS (DR)",36,"36"," 50 psi   DR-41",41,{"$f":"VLOOKUP(K1584,Tables!$C$42:$G$58,IF(Tables!$C$5=4710,IF(N1584=\"ID\",5,3),IF(N1584=\"ID\",4,2)),FALSE)","v":50},36,"OD",null,0.878,0.16200000000000001,{"$f":"VLOOKUP(F1584,Tables!$G$5:$H$14,2,FALSE)*(M1584-(P1584+Q1584*Tables!$C$6))*(P1584+Q1584*Tables!$C$6)*1.36136","v":43.826177533858711},"Controlled OD (DR-41) Iron Pipe Size","ASTM F714"]
[null,null,null,null,{"$f":"ROW()","v":1585}," Typical Scenario (PE)","IPS (DR)",42,"42"," 50 psi   DR-41",41,{"$f":"VLOOKUP(K1585,Tables!$C$42:$G$58,IF(Tables!$C$5=4710,IF(N1585=\"ID\",5,3),IF(N1585=\"ID\",4,2)),FALSE)","v":50},42,"OD",null,1.024,0.189,{"$f":"VLOOKUP(F1585,Tables!$G$5:$H$14,2,FALSE)*(M1585-(P1585+Q1585*Tables!$C$6))*(P1585+Q1585*Tables!$C$6)*1.36136","v":59.635011269153317},"Controlled OD (DR-41) Iron Pipe Size","ASTM F714"]
[null,null,null,null,{"$f":"ROW()","v":1586}," Typical Scenario (PE)","IPS (DR)",48,"48"," 50 psi   DR-41",41,{"$f":"VLOOKUP(K1586,Tables!$C$42:$G$58,IF(Tables!$C$5=4710,IF(N1586=\"ID\",5,3),IF(N1586=\"ID\",4,2)),FALSE)","v":50},48,"OD",null,1.171,0.216,{"$f":"VLOOKUP(F1586,Tables!$G$5:$H$14,2,FALSE)*(M1586-(P1586+Q1586*Tables!$C$6))*(P1586+Q1586*Tables!$C$6)*1.36136","v":77.932959542357921},"Controlled OD (DR-41) Iron Pipe Size","ASTM F714"]
[null,null,null,null,{"$f":"ROW()","v":1587}," Typical Scenario (PE)","IPS (DR)",54,"54"," 50 psi   DR-41",41,{"$f":"VLOOKUP(K1587,Tables!$C$42:$G$58,IF(Tables!$C$5=4710,IF(N1587=\"ID\",5,3),IF(N1587=\"ID\",4,2)),FALSE)","v":50},54,"OD",null,1.3169999999999999,0.24299999999999999,{"$f":"VLOOKUP(F1587,Tables!$G$5:$H$14,2,FALSE)*(M1587-(P1587+Q1587*Tables!$C$6))*(P1587+Q1587*Tables!$C$6)*1.36136","v":98.608899451182111},"Controlled OD (DR-41) Iron Pipe Size","ASTM F714"]
[null,null,null,null,{"$f":"ROW()","v":1588}," Typical Scenario (PE)","IPS (DR)",1.5,"1 1/2"," 65 psi   DR-32.5",32.5,{"$f":"VLOOKUP(K1588,Tables!$C$42:$G$58,IF(Tables!$C$5=4710,IF(N1588=\"ID\",5,3),IF(N1588=\"ID\",4,2)),FALSE)","v":65},1.9,"OD",null,6.2E-2,0.02,{"$f":"VLOOKUP(F1588,Tables!$G$5:$H$14,2,FALSE)*(M1588-(P1588+Q1588*Tables!$C$6))*(P1588+Q1588*Tables!$C$6)*1.36136","v":0.17165133393407997},"Controlled OD (DR-32.5) Iron Pipe Size","ASTM D3035"]
[null,null,null,null,{"$f":"ROW()","v":1589}," Typical Scenario (PE)","IPS (DR)",2,"2"," 65 psi   DR-32.5",32.5,{"$f":"VLOOKUP(K1589,Tables!$C$42:$G$58,IF(Tables!$C$5=4710,IF(N1589=\"ID\",5,3),IF(N1589=\"ID\",4,2)),FALSE)","v":65},2.375,"OD",null,7.2999999999999995E-2,0.02,{"$f":"VLOOKUP(F1589,Tables!$G$5:$H$14,2,FALSE)*(M1589-(P1589+Q1589*Tables!$C$6))*(P1589+Q1589*Tables!$C$6)*1.36136","v":0.24810253435967991},"Controlled OD (DR-32.5) Iron Pipe Size","ASTM D3035"]
[null,null,null,null,{"$f":"ROW()","v":1590}," Typical Scenario (PE)","IPS (DR)",3,"3"," 65 psi   DR-32.5",32.5,{"$f":"VLOOKUP(K1590,Tables!$C$42:$G$58,IF(Tables!$C$5=4710,IF(N1590=\"ID\",5,3),IF(N1590=\"ID\",4,2)),FALSE)","v":65},3.5,"OD",null,0.108,0.02,{"$f":"VLOOKUP(F1590,Tables!$G$5:$H$14,2,FALSE)*(M1590-(P1590+Q1590*Tables!$C$6))*(P1590+Q1590*Tables!$C$6)*1.36136","v":0.52046808701887992},"Controlled OD (DR-32.5) Iron Pipe Size","ASTM D3035"]
[null,null,null,null,{"$f":"ROW()","v":1591}," Typical Scenario (PE)","IPS (DR)",4,"4"," 65 psi   DR-32.5",32.5,{"$f":"VLOOKUP(K1591,Tables!$C$42:$G$58,IF(Tables!$C$5=4710,IF(N1591=\"ID\",5,3),IF(N1591=\"ID\",4,2)),FALSE)","v":65},4.5,"OD",null,0.13800000000000001,0.02,{"$f":"VLOOKUP(F1591,Tables!$G$5:$H$14,2,FALSE)*(M1591-(P1591+Q1591*Tables!$C$6))*(P1591+Q1591*Tables!$C$6)*1.36136","v":0.84001897627648014},"Controlled OD (DR-32.5) Iron Pipe Size","ASTM F714"]
[null,null,null,null,{"$f":"ROW()","v":1592}," Typical Scenario (PE)","IPS (DR)",5,"5"," 65 psi   DR-32.5",32.5,{"$f":"VLOOKUP(K1592,Tables!$C$42:$G$58,IF(Tables!$C$5=4710,IF(N1592=\"ID\",5,3),IF(N1592=\"ID\",4,2)),FALSE)","v":65},5.5629999999999997,"OD",null,0.17100000000000001,2.5000000000000001E-2,{"$f":"VLOOKUP(F1592,Tables!$G$5:$H$14,2,FALSE)*(M1592-(P1592+Q1592*Tables!$C$6))*(P1592+Q1592*Tables!$C$6)*1.36136","v":1.2874088058431599},"Controlled OD (DR-32.5) Iron Pipe Size","ASTM F714"]
[null,null,null,null,{"$f":"ROW()","v":1593}," Typical Scenario (PE)","IPS (DR)",6,"6"," 65 psi   DR-32.5",32.5,{"$f":"VLOOKUP(K1593,Tables!$C$42:$G$58,IF(Tables!$C$5=4710,IF(N1593=\"ID\",5,3),IF(N1593=\"ID\",4,2)),FALSE)","v":65},6.625,"OD",null,0.20399999999999999,0.03,{"$f":"VLOOKUP(F1593,Tables!$G$5:$H$14,2,FALSE)*(M1593-(P1593+Q1593*Tables!$C$6))*(P1593+Q1593*Tables!$C$6)*1.36136","v":1.8296564209123194},"Controlled OD (DR-32.5) Iron Pipe Size","ASTM F714"]
[null,null,null,null,{"$f":"ROW()","v":1594}," Typical Scenario (PE)","IPS (DR)",7,"7"," 65 psi   DR-32.5",32.5,{"$f":"VLOOKUP(K1594,Tables!$C$42:$G$58,IF(Tables!$C$5=4710,IF(N1594=\"ID\",5,3),IF(N1594=\"ID\",4,2)),FALSE)","v":65},7.125,"OD",null,0.219,3.4000000000000002E-2,{"$f":"VLOOKUP(F1594,Tables!$G$5:$H$14,2,FALSE)*(M1594-(P1594+Q1594*Tables!$C$6))*(P1594+Q1594*Tables!$C$6)*1.36136","v":2.1203457430355197},"Controlled OD (DR-32.5) Iron Pipe Size","ASTM F714"]
[null,null,null,null,{"$f":"ROW()","v":1595}," Typical Scenario (PE)","IPS (DR)",8,"8"," 65 psi   DR-32.5",32.5,{"$f":"VLOOKUP(K1595,Tables!$C$42:$G$58,IF(Tables!$C$5=4710,IF(N1595=\"ID\",5,3),IF(N1595=\"ID\",4,2)),FALSE)","v":65},8.625,"OD",null,0.26500000000000001,3.9E-2,{"$f":"VLOOKUP(F1595,Tables!$G$5:$H$14,2,FALSE)*(M1595-(P1595+Q1595*Tables!$C$6))*(P1595+Q1595*Tables!$C$6)*1.36136","v":3.0946593648770802},"Controlled OD (DR-32.5) Iron Pipe Size","ASTM F714"]
[null,null,null,null,{"$f":"ROW()","v":1596}," Typical Scenario (PE)","IPS (DR)",10,"10"," 65 psi   DR-32.5",32.5,{"$f":"VLOOKUP(K1596,Tables!$C$42:$G$58,IF(Tables!$C$5=4710,IF(N1596=\"ID\",5,3),IF(N1596=\"ID\",4,2)),FALSE)","v":65},10.75,"OD",null,0.33100000000000002,4.8000000000000001E-2,{"$f":"VLOOKUP(F1596,Tables!$G$5:$H$14,2,FALSE)*(M1596-(P1596+Q1596*Tables!$C$6))*(P1596+Q1596*Tables!$C$6)*1.36136","v":4.8127282683479997},"Controlled OD (DR-32.5) Iron Pipe Size","ASTM F714"]
[null,null,null,null,{"$f":"ROW()","v":1597}," Typical Scenario (PE)","IPS (DR)",12,"12"," 65 psi   DR-32.5",32.5,{"$f":"VLOOKUP(K1597,Tables!$C$42:$G$58,IF(Tables!$C$5=4710,IF(N1597=\"ID\",5,3),IF(N1597=\"ID\",4,2)),FALSE)","v":65},12.75,"OD",null,0.39200000000000002,5.7000000000000002E-2,{"$f":"VLOOKUP(F1597,Tables!$G$5:$H$14,2,FALSE)*(M1597-(P1597+Q1597*Tables!$C$6))*(P1597+Q1597*Tables!$C$6)*1.36136","v":6.7616075453726801},"Controlled OD (DR-32.5) Iron Pipe Size","ASTM F714"]
[null,null,null,null,{"$f":"ROW()","v":1598}," Typical Scenario (PE)","IPS (DR)",14,"14"," 65 psi   DR-32.5",32.5,{"$f":"VLOOKUP(K1598,Tables!$C$42:$G$58,IF(Tables!$C$5=4710,IF(N1598=\"ID\",5,3),IF(N1598=\"ID\",4,2)),FALSE)","v":65},14,"OD",null,0.43099999999999999,6.3E-2,{"$f":"VLOOKUP(F1598,Tables!$G$5:$H$14,2,FALSE)*(M1598-(P1598+Q1598*Tables!$C$6))*(P1598+Q1598*Tables!$C$6)*1.36136","v":8.1656112788249988},"Controlled OD (DR-32.5) Iron Pipe Size","ASTM F714"]
[null,null,null,null,{"$f":"ROW()","v":1599}," Typical Scenario (PE)","IPS (DR)",16,"16"," 65 psi   DR-32.5",32.5,{"$f":"VLOOKUP(K1599,Tables!$C$42:$G$58,IF(Tables!$C$5=4710,IF(N1599=\"ID\",5,3),IF(N1599=\"ID\",4,2)),FALSE)","v":65},16,"OD",null,0.49199999999999999,7.1999999999999995E-2,{"$f":"VLOOKUP(F1599,Tables!$G$5:$H$14,2,FALSE)*(M1599-(P1599+Q1599*Tables!$C$6))*(P1599+Q1599*Tables!$C$6)*1.36136","v":10.654151650222079},"Controlled OD (DR-32.5) Iron Pipe Size","ASTM F714"]
[null,null,null,null,{"$f":"ROW()","v":1600}," Typical Scenario (PE)","IPS (DR)",18,"18"," 65 psi   DR-32.5",32.5,{"$f":"VLOOKUP(K1600,Tables!$C$42:$G$58,IF(Tables!$C$5=4710,IF(N1600=\"ID\",5,3),IF(N1600=\"ID\",4,2)),FALSE)","v":65},18,"OD",null,0.55400000000000005,8.1000000000000003E-2,{"$f":"VLOOKUP(F1600,Tables!$G$5:$H$14,2,FALSE)*(M1600-(P1600+Q1600*Tables!$C$6))*(P1600+Q1600*Tables!$C$6)*1.36136","v":13.495123317555878},"Controlled OD (DR-32.5) Iron Pipe Size","ASTM F714"]
[null,null,null,null,{"$f":"ROW()","v":1601}," Typical Scenario (PE)","IPS (DR)",20,"20"," 65 psi   DR-32.5",32.5,{"$f":"VLOOKUP(K1601,Tables!$C$42:$G$58,IF(Tables!$C$5=4710,IF(N1601=\"ID\",5,3),IF(N1601=\"ID\",4,2)),FALSE)","v":65},20,"OD",null,0.61499999999999999,0.09,{"$f":"VLOOKUP(F1601,Tables!$G$5:$H$14,2,FALSE)*(M1601-(P1601+Q1601*Tables!$C$6))*(P1601+Q1601*Tables!$C$6)*1.36136","v":16.647111953471999},"Controlled OD (DR-32.5) Iron Pipe Size","ASTM F714"]
[null,null,null,null,{"$f":"ROW()","v":1602}," Typical Scenario (PE)","IPS (DR)",22,"22"," 65 psi   DR-32.5",32.5,{"$f":"VLOOKUP(K1602,Tables!$C$42:$G$58,IF(Tables!$C$5=4710,IF(N1602=\"ID\",5,3),IF(N1602=\"ID\",4,2)),FALSE)","v":65},22,"OD",null,0.67700000000000005,9.9000000000000005E-2,{"$f":"VLOOKUP(F1602,Tables!$G$5:$H$14,2,FALSE)*(M1602-(P1602+Q1602*Tables!$C$6))*(P1602+Q1602*Tables!$C$6)*1.36136","v":20.156404312564518},"Controlled OD (DR-32.5) Iron Pipe Size","ASTM F714"]
[null,null,null,null,{"$f":"ROW()","v":1603}," Typical Scenario (PE)","IPS (DR)",24,"24"," 65 psi   DR-32.5",32.5,{"$f":"VLOOKUP(K1603,Tables!$C$42:$G$58,IF(Tables!$C$5=4710,IF(N1603=\"ID\",5,3),IF(N1603=\"ID\",4,2)),FALSE)","v":65},24,"OD",null,0.73799999999999999,0.108,{"$f":"VLOOKUP(F1603,Tables!$G$5:$H$14,2,FALSE)*(M1603-(P1603+Q1603*Tables!$C$6))*(P1603+Q1603*Tables!$C$6)*1.36136","v":23.971841212999678},"Controlled OD (DR-32.5) Iron Pipe Size","ASTM F714"]
[null,null,null,null,{"$f":"ROW()","v":1604}," Typical Scenario (PE)","IPS (DR)",26,"26"," 65 psi   DR-32.5",32.5,{"$f":"VLOOKUP(K1604,Tables!$C$42:$G$58,IF(Tables!$C$5=4710,IF(N1604=\"ID\",5,3),IF(N1604=\"ID\",4,2)),FALSE)","v":65},26,"OD",null,0.8,0.11700000000000001,{"$f":"VLOOKUP(F1604,Tables!$G$5:$H$14,2,FALSE)*(M1604-(P1604+Q1604*Tables!$C$6))*(P1604+Q1604*Tables!$C$6)*1.36136","v":28.14945426385092},"Controlled OD (DR-32.5) Iron Pipe Size","ASTM F714"]
[null,null,null,null,{"$f":"ROW()","v":1605}," Typical Scenario (PE)","IPS (DR)",28,"28"," 65 psi   DR-32.5",32.5,{"$f":"VLOOKUP(K1605,Tables!$C$42:$G$58,IF(Tables!$C$5=4710,IF(N1605=\"ID\",5,3),IF(N1605=\"ID\",4,2)),FALSE)","v":65},28,"OD",null,0.86199999999999999,0.126,{"$f":"VLOOKUP(F1605,Tables!$G$5:$H$14,2,FALSE)*(M1605-(P1605+Q1605*Tables!$C$6))*(P1605+Q1605*Tables!$C$6)*1.36136","v":32.662445115299995},"Controlled OD (DR-32.5) Iron Pipe Size","ASTM F714"]
[null,null,null,null,{"$f":"ROW()","v":1606}," Typical Scenario (PE)","IPS (DR)",30,"30"," 65 psi   DR-32.5",32.5,{"$f":"VLOOKUP(K1606,Tables!$C$42:$G$58,IF(Tables!$C$5=4710,IF(N1606=\"ID\",5,3),IF(N1606=\"ID\",4,2)),FALSE)","v":65},30,"OD",null,0.92300000000000004,0.13500000000000001,{"$f":"VLOOKUP(F1606,Tables!$G$5:$H$14,2,FALSE)*(M1606-(P1606+Q1606*Tables!$C$6))*(P1606+Q1606*Tables!$C$6)*1.36136","v":37.474273171415078},"Controlled OD (DR-32.5) Iron Pipe Size","ASTM F714"]
[null,null,null,null,{"$f":"ROW()","v":1607}," Typical Scenario (PE)","IPS (DR)",32,"32"," 65 psi   DR-32.5",32.5,{"$f":"VLOOKUP(K1607,Tables!$C$42:$G$58,IF(Tables!$C$5=4710,IF(N1607=\"ID\",5,3),IF(N1607=\"ID\",4,2)),FALSE)","v":65},32,"OD",null,0.98499999999999999,0.14399999999999999,{"$f":"VLOOKUP(F1607,Tables!$G$5:$H$14,2,FALSE)*(M1607-(P1607+Q1607*Tables!$C$6))*(P1607+Q1607*Tables!$C$6)*1.36136","v":42.655584714622876},"Controlled OD (DR-32.5) Iron Pipe Size","ASTM F714"]
[null,null,null,null,{"$f":"ROW()","v":1608}," Typical Scenario (PE)","IPS (DR)",34,"34"," 65 psi   DR-32.5",32.5,{"$f":"VLOOKUP(K1608,Tables!$C$42:$G$58,IF(Tables!$C$5=4710,IF(N1608=\"ID\",5,3),IF(N1608=\"ID\",4,2)),FALSE)","v":65},34,"OD",null,1.046,0.153,{"$f":"VLOOKUP(F1608,Tables!$G$5:$H$14,2,FALSE)*(M1608-(P1608+Q1608*Tables!$C$6))*(P1608+Q1608*Tables!$C$6)*1.36136","v":48.130861035256991},"Controlled OD (DR-32.5) Iron Pipe Size","ASTM F714"]
[null,null,null,null,{"$f":"ROW()","v":1609}," Typical Scenario (PE)","IPS (DR)",36,"36"," 65 psi   DR-32.5",32.5,{"$f":"VLOOKUP(K1609,Tables!$C$42:$G$58,IF(Tables!$C$5=4710,IF(N1609=\"ID\",5,3),IF(N1609=\"ID\",4,2)),FALSE)","v":65},36,"OD",null,1.1080000000000001,0.16200000000000001,{"$f":"VLOOKUP(F1609,Tables!$G$5:$H$14,2,FALSE)*(M1609-(P1609+Q1609*Tables!$C$6))*(P1609+Q1609*Tables!$C$6)*1.36136","v":53.980493270223512},"Controlled OD (DR-32.5) Iron Pipe Size","ASTM F714"]
[null,null,null,null,{"$f":"ROW()","v":1610}," Typical Scenario (PE)","IPS (DR)",42,"42"," 65 psi   DR-32.5",32.5,{"$f":"VLOOKUP(K1610,Tables!$C$42:$G$58,IF(Tables!$C$5=4710,IF(N1610=\"ID\",5,3),IF(N1610=\"ID\",4,2)),FALSE)","v":65},42,"OD",null,1.292,0.189,{"$f":"VLOOKUP(F1610,Tables!$G$5:$H$14,2,FALSE)*(M1610-(P1610+Q1610*Tables!$C$6))*(P1610+Q1610*Tables!$C$6)*1.36136","v":73.439343631774122},"Controlled OD (DR-32.5) Iron Pipe Size","ASTM F714"]
[null,null,null,null,{"$f":"ROW()","v":1611}," Typical Scenario (PE)","IPS (DR)",48,"48"," 65 psi   DR-32.5",32.5,{"$f":"VLOOKUP(K1611,Tables!$C$42:$G$58,IF(Tables!$C$5=4710,IF(N1611=\"ID\",5,3),IF(N1611=\"ID\",4,2)),FALSE)","v":65},48,"OD",null,1.4770000000000001,0.216,{"$f":"VLOOKUP(F1611,Tables!$G$5:$H$14,2,FALSE)*(M1611-(P1611+Q1611*Tables!$C$6))*(P1611+Q1611*Tables!$C$6)*1.36136","v":95.945832674691999},"Controlled OD (DR-32.5) Iron Pipe Size","ASTM F714"]
[null,null,null,null,{"$f":"ROW()","v":1612}," Typical Scenario (PE)","IPS (DR)",54,"54"," 65 psi   DR-32.5",32.5,{"$f":"VLOOKUP(K1612,Tables!$C$42:$G$58,IF(Tables!$C$5=4710,IF(N1612=\"ID\",5,3),IF(N1612=\"ID\",4,2)),FALSE)","v":65},54,"OD",null,1.6619999999999999,0.24299999999999999,{"$f":"VLOOKUP(F1612,Tables!$G$5:$H$14,2,FALSE)*(M1612-(P1612+Q1612*Tables!$C$6))*(P1612+Q1612*Tables!$C$6)*1.36136","v":121.45610985800289},"Controlled OD (DR-32.5) Iron Pipe Size","ASTM F714"]
[null,null,null,null,{"$f":"ROW()","v":1613}," Typical Scenario (PE)","IPS (DR)",60,"60"," 65 psi   DR-32.5",32.5,{"$f":"VLOOKUP(K1613,Tables!$C$42:$G$58,IF(Tables!$C$5=4710,IF(N1613=\"ID\",5,3),IF(N1613=\"ID\",4,2)),FALSE)","v":65},60,"OD",null,1.8460000000000001,0.27,{"$f":"VLOOKUP(F1613,Tables!$G$5:$H$14,2,FALSE)*(M1613-(P1613+Q1613*Tables!$C$6))*(P1613+Q1613*Tables!$C$6)*1.36136","v":149.89709268566031},"Controlled OD (DR-32.5) Iron Pipe Size","ASTM F714"]
[null,null,null,null,{"$f":"ROW()","v":1614}," Typical Scenario (PE)","IPS (DR)",63,"63"," 65 psi   DR-32.5",32.5,{"$f":"VLOOKUP(K1614,Tables!$C$42:$G$58,IF(Tables!$C$5=4710,IF(N1614=\"ID\",5,3),IF(N1614=\"ID\",4,2)),FALSE)","v":65},63,"OD",null,1.9379999999999999,0.28399999999999997,{"$f":"VLOOKUP(F1614,Tables!$G$5:$H$14,2,FALSE)*(M1614-(P1614+Q1614*Tables!$C$6))*(P1614+Q1614*Tables!$C$6)*1.36136","v":165.25770778316797},"Controlled OD (DR-32.5) Iron Pipe Size","ASTM F714"]
[null,null,null,null,{"$f":"ROW()","v":1615}," Typical Scenario (PE)","IPS (DR)",65,"65"," 65 psi   DR-32.5",32.5,{"$f":"VLOOKUP(K1615,Tables!$C$42:$G$58,IF(Tables!$C$5=4710,IF(N1615=\"ID\",5,3),IF(N1615=\"ID\",4,2)),FALSE)","v":65},65,"OD",null,2,0.29299999999999998,{"$f":"VLOOKUP(F1615,Tables!$G$5:$H$14,2,FALSE)*(M1615-(P1615+Q1615*Tables!$C$6))*(P1615+Q1615*Tables!$C$6)*1.36136","v":175.95388248810369},"Controlled OD (DR-32.5) Iron Pipe Size","ASTM F714"]
[null,null,null,null,{"$f":"ROW()","v":1616}," Typical Scenario (PE)","IPS (DR)",1,"1"," 80 psi   DR-26",26,{"$f":"VLOOKUP(K1616,Tables!$C$42:$G$58,IF(Tables!$C$5=4710,IF(N1616=\"ID\",5,3),IF(N1616=\"ID\",4,2)),FALSE)","v":80},1.3149999999999999,"OD",null,6.2E-2,0.02,{"$f":"VLOOKUP(F1616,Tables!$G$5:$H$14,2,FALSE)*(M1616-(P1616+Q1616*Tables!$C$6))*(P1616+Q1616*Tables!$C$6)*1.36136","v":0.11671915102847998},"Controlled OD (DR-26) Iron Pipe Size","ASTM D3035"]
[null,null,null,null,{"$f":"ROW()","v":1617}," Typical Scenario (PE)","IPS (DR)",1.25,"1 1/4"," 80 psi   DR-26",26,{"$f":"VLOOKUP(K1617,Tables!$C$42:$G$58,IF(Tables!$C$5=4710,IF(N1617=\"ID\",5,3),IF(N1617=\"ID\",4,2)),FALSE)","v":80},1.66,"OD",null,6.4000000000000001E-2,0.02,{"$f":"VLOOKUP(F1617,Tables!$G$5:$H$14,2,FALSE)*(M1617-(P1617+Q1617*Tables!$C$6))*(P1617+Q1617*Tables!$C$6)*1.36136","v":0.15306411952831997},"Controlled OD (DR-26) Iron Pipe Size","ASTM D3035"]
[null,null,null,null,{"$f":"ROW()","v":1618}," Typical Scenario (PE)","IPS (DR)",1.5,"1 1/2"," 80 psi   DR-26",26,{"$f":"VLOOKUP(K1618,Tables!$C$42:$G$58,IF(Tables!$C$5=4710,IF(N1618=\"ID\",5,3),IF(N1618=\"ID\",4,2)),FALSE)","v":80},1.9,"OD",null,7.2999999999999995E-2,0.02,{"$f":"VLOOKUP(F1618,Tables!$G$5:$H$14,2,FALSE)*(M1618-(P1618+Q1618*Tables!$C$6))*(P1618+Q1618*Tables!$C$6)*1.36136","v":0.19668512431567994},"Controlled OD (DR-26) Iron Pipe Size","ASTM D3035"]
[null,null,null,null,{"$f":"ROW()","v":1619}," Typical Scenario (PE)","IPS (DR)",2,"2"," 80 psi   DR-26",26,{"$f":"VLOOKUP(K1619,Tables!$C$42:$G$58,IF(Tables!$C$5=4710,IF(N1619=\"ID\",5,3),IF(N1619=\"ID\",4,2)),FALSE)","v":80},2.375,"OD",null,9.0999999999999998E-2,0.02,{"$f":"VLOOKUP(F1619,Tables!$G$5:$H$14,2,FALSE)*(M1619-(P1619+Q1619*Tables!$C$6))*(P1619+Q1619*Tables!$C$6)*1.36136","v":0.29953689878111994},"Controlled OD (DR-26) Iron Pipe Size","ASTM D3035"]
[null,null,null,null,{"$f":"ROW()","v":1620}," Typical Scenario (PE)","IPS (DR)",3,"3"," 80 psi   DR-26",26,{"$f":"VLOOKUP(K1620,Tables!$C$42:$G$58,IF(Tables!$C$5=4710,IF(N1620=\"ID\",5,3),IF(N1620=\"ID\",4,2)),FALSE)","v":80},3.5,"OD",null,0.13500000000000001,0.02,{"$f":"VLOOKUP(F1620,Tables!$G$5:$H$14,2,FALSE)*(M1620-(P1620+Q1620*Tables!$C$6))*(P1620+Q1620*Tables!$C$6)*1.36136","v":0.63445236654799997},"Controlled OD (DR-26) Iron Pipe Size","ASTM D3035"]
[null,null,null,null,{"$f":"ROW()","v":1621}," Typical Scenario (PE)","IPS (DR)",4,"4"," 80 psi   DR-26",26,{"$f":"VLOOKUP(K1621,Tables!$C$42:$G$58,IF(Tables!$C$5=4710,IF(N1621=\"ID\",5,3),IF(N1621=\"ID\",4,2)),FALSE)","v":80},4.5,"OD",null,0.17299999999999999,0.02,{"$f":"VLOOKUP(F1621,Tables!$G$5:$H$14,2,FALSE)*(M1621-(P1621+Q1621*Tables!$C$6))*(P1621+Q1621*Tables!$C$6)*1.36136","v":1.0303188212116798},"Controlled OD (DR-26) Iron Pipe Size","ASTM F714"]
[null,null,null,null,{"$f":"ROW()","v":1622}," Typical Scenario (PE)","IPS (DR)",5,"5"," 80 psi   DR-26",26,{"$f":"VLOOKUP(K1622,Tables!$C$42:$G$58,IF(Tables!$C$5=4710,IF(N1622=\"ID\",5,3),IF(N1622=\"ID\",4,2)),FALSE)","v":80},5.5629999999999997,"OD",null,0.214,2.5000000000000001E-2,{"$f":"VLOOKUP(F1622,Tables!$G$5:$H$14,2,FALSE)*(M1622-(P1622+Q1622*Tables!$C$6))*(P1622+Q1622*Tables!$C$6)*1.36136","v":1.5763883442106799},"Controlled OD (DR-26) Iron Pipe Size","ASTM F714"]
[null,null,null,null,{"$f":"ROW()","v":1623}," Typical Scenario (PE)","IPS (DR)",6,"6"," 80 psi   DR-26",26,{"$f":"VLOOKUP(K1623,Tables!$C$42:$G$58,IF(Tables!$C$5=4710,IF(N1623=\"ID\",5,3),IF(N1623=\"ID\",4,2)),FALSE)","v":80},6.625,"OD",null,0.255,0.03,{"$f":"VLOOKUP(F1623,Tables!$G$5:$H$14,2,FALSE)*(M1623-(P1623+Q1623*Tables!$C$6))*(P1623+Q1623*Tables!$C$6)*1.36136","v":2.2377821946480001},"Controlled OD (DR-26) Iron Pipe Size","ASTM F714"]
[null,null,null,null,{"$f":"ROW()","v":1624}," Typical Scenario (PE)","IPS (DR)",7,"7"," 80 psi   DR-26",26,{"$f":"VLOOKUP(K1624,Tables!$C$42:$G$58,IF(Tables!$C$5=4710,IF(N1624=\"ID\",5,3),IF(N1624=\"ID\",4,2)),FALSE)","v":80},7.125,"OD",null,0.27400000000000002,3.4000000000000002E-2,{"$f":"VLOOKUP(F1624,Tables!$G$5:$H$14,2,FALSE)*(M1624-(P1624+Q1624*Tables!$C$6))*(P1624+Q1624*Tables!$C$6)*1.36136","v":2.59362066835872},"Controlled OD (DR-26) Iron Pipe Size","ASTM F714"]
[null,null,null,null,{"$f":"ROW()","v":1625}," Typical Scenario (PE)","IPS (DR)",8,"8"," 80 psi   DR-26",26,{"$f":"VLOOKUP(K1625,Tables!$C$42:$G$58,IF(Tables!$C$5=4710,IF(N1625=\"ID\",5,3),IF(N1625=\"ID\",4,2)),FALSE)","v":80},8.625,"OD",null,0.33200000000000002,3.9E-2,{"$f":"VLOOKUP(F1625,Tables!$G$5:$H$14,2,FALSE)*(M1625-(P1625+Q1625*Tables!$C$6))*(P1625+Q1625*Tables!$C$6)*1.36136","v":3.7927402057745203},"Controlled OD (DR-26) Iron Pipe Size","ASTM F714"]
[null,null,null,null,{"$f":"ROW()","v":1626}," Typical Scenario (PE)","IPS (DR)",10,"10"," 80 psi   DR-26",26,{"$f":"VLOOKUP(K1626,Tables!$C$42:$G$58,IF(Tables!$C$5=4710,IF(N1626=\"ID\",5,3),IF(N1626=\"ID\",4,2)),FALSE)","v":80},10.75,"OD",null,0.41299999999999998,4.8000000000000001E-2,{"$f":"VLOOKUP(F1626,Tables!$G$5:$H$14,2,FALSE)*(M1626-(P1626+Q1626*Tables!$C$6))*(P1626+Q1626*Tables!$C$6)*1.36136","v":5.8776666241092794},"Controlled OD (DR-26) Iron Pipe Size","ASTM F714"]
[null,null,null,null,{"$f":"ROW()","v":1627}," Typical Scenario (PE)","IPS (DR)",12,"12"," 80 psi   DR-26",26,{"$f":"VLOOKUP(K1627,Tables!$C$42:$G$58,IF(Tables!$C$5=4710,IF(N1627=\"ID\",5,3),IF(N1627=\"ID\",4,2)),FALSE)","v":80},12.75,"OD",null,0.49,5.7000000000000002E-2,{"$f":"VLOOKUP(F1627,Tables!$G$5:$H$14,2,FALSE)*(M1627-(P1627+Q1627*Tables!$C$6))*(P1627+Q1627*Tables!$C$6)*1.36136","v":8.2711705369493185},"Controlled OD (DR-26) Iron Pipe Size","ASTM F714"]
[null,null,null,null,{"$f":"ROW()","v":1628}," Typical Scenario (PE)","IPS (DR)",14,"14"," 80 psi   DR-26",26,{"$f":"VLOOKUP(K1628,Tables!$C$42:$G$58,IF(Tables!$C$5=4710,IF(N1628=\"ID\",5,3),IF(N1628=\"ID\",4,2)),FALSE)","v":80},14,"OD",null,0.53800000000000003,6.3E-2,{"$f":"VLOOKUP(F1628,Tables!$G$5:$H$14,2,FALSE)*(M1628-(P1628+Q1628*Tables!$C$6))*(P1628+Q1628*Tables!$C$6)*1.36136","v":9.97526414272388},"Controlled OD (DR-26) Iron Pipe Size","ASTM F714"]
[null,null,null,null,{"$f":"ROW()","v":1629}," Typical Scenario (PE)","IPS (DR)",16,"16"," 80 psi   DR-26",26,{"$f":"VLOOKUP(K1629,Tables!$C$42:$G$58,IF(Tables!$C$5=4710,IF(N1629=\"ID\",5,3),IF(N1629=\"ID\",4,2)),FALSE)","v":80},16,"OD",null,0.61499999999999999,7.1999999999999995E-2,{"$f":"VLOOKUP(F1629,Tables!$G$5:$H$14,2,FALSE)*(M1629-(P1629+Q1629*Tables!$C$6))*(P1629+Q1629*Tables!$C$6)*1.36136","v":13.031654869353121},"Controlled OD (DR-26) Iron Pipe Size","ASTM F714"]
[null,null,null,null,{"$f":"ROW()","v":1630}," Typical Scenario (PE)","IPS (DR)",18,"18"," 80 psi   DR-26",26,{"$f":"VLOOKUP(K1630,Tables!$C$42:$G$58,IF(Tables!$C$5=4710,IF(N1630=\"ID\",5,3),IF(N1630=\"ID\",4,2)),FALSE)","v":80},18,"OD",null,0.69199999999999995,8.1000000000000003E-2,{"$f":"VLOOKUP(F1630,Tables!$G$5:$H$14,2,FALSE)*(M1630-(P1630+Q1630*Tables!$C$6))*(P1630+Q1630*Tables!$C$6)*1.36136","v":16.495883797392992},"Controlled OD (DR-26) Iron Pipe Size","ASTM F714"]
[null,null,null,null,{"$f":"ROW()","v":1631}," Typical Scenario (PE)","IPS (DR)",20,"20",{"$f":"\" \"&L1631&\" psi   DR-\"&K1631","v":" 80 psi   DR-26"},26,{"$f":"VLOOKUP(K1631,Tables!$C$42:$G$58,IF(Tables!$C$5=4710,IF(N1631=\"ID\",5,3),IF(N1631=\"ID\",4,2)),FALSE)","v":80},20,"OD",null,0.76900000000000002,0.09,{"$f":"VLOOKUP(F1631,Tables!$G$5:$H$14,2,FALSE)*(M1631-(P1631+Q1631*Tables!$C$6))*(P1631+Q1631*Tables!$C$6)*1.36136","v":20.36795092684352},{"$f":"\"Controlled OD (DR-\"&K1631&\") Iron Pipe Size\"","v":"Controlled OD (DR-26) Iron Pipe Size"},"ASTM F714"]
[null,null,null,null,{"$f":"ROW()","v":1632}," Typical Scenario (PE)","IPS (DR)",22,"22"," 80 psi   DR-26",26,{"$f":"VLOOKUP(K1632,Tables!$C$42:$G$58,IF(Tables!$C$5=4710,IF(N1632=\"ID\",5,3),IF(N1632=\"ID\",4,2)),FALSE)","v":80},22,"OD",null,0.84599999999999997,9.9000000000000005E-2,{"$f":"VLOOKUP(F1632,Tables!$G$5:$H$14,2,FALSE)*(M1632-(P1632+Q1632*Tables!$C$6))*(P1632+Q1632*Tables!$C$6)*1.36136","v":24.647856257704678},"Controlled OD (DR-26) Iron Pipe Size","ASTM F714"]
[null,null,null,null,{"$f":"ROW()","v":1633}," Typical Scenario (PE)","IPS (DR)",24,"24"," 80 psi   DR-26",26,{"$f":"VLOOKUP(K1633,Tables!$C$42:$G$58,IF(Tables!$C$5=4710,IF(N1633=\"ID\",5,3),IF(N1633=\"ID\",4,2)),FALSE)","v":80},24,"OD",null,0.92300000000000004,0.108,{"$f":"VLOOKUP(F1633,Tables!$G$5:$H$14,2,FALSE)*(M1633-(P1633+Q1633*Tables!$C$6))*(P1633+Q1633*Tables!$C$6)*1.36136","v":29.335599789976484},"Controlled OD (DR-26) Iron Pipe Size","ASTM F714"]
[null,null,null,null,{"$f":"ROW()","v":1634}," Typical Scenario (PE)","IPS (DR)",26,"26"," 80 psi   DR-26",26,{"$f":"VLOOKUP(K1634,Tables!$C$42:$G$58,IF(Tables!$C$5=4710,IF(N1634=\"ID\",5,3),IF(N1634=\"ID\",4,2)),FALSE)","v":80},26,"OD",null,1,0.11700000000000001,{"$f":"VLOOKUP(F1634,Tables!$G$5:$H$14,2,FALSE)*(M1634-(P1634+Q1634*Tables!$C$6))*(P1634+Q1634*Tables!$C$6)*1.36136","v":34.431181523658914},"Controlled OD (DR-26) Iron Pipe Size","ASTM F714"]
[null,null,null,null,{"$f":"ROW()","v":1635}," Typical Scenario (PE)","IPS (DR)",28,"28"," 80 psi   DR-26",26,{"$f":"VLOOKUP(K1635,Tables!$C$42:$G$58,IF(Tables!$C$5=4710,IF(N1635=\"ID\",5,3),IF(N1635=\"ID\",4,2)),FALSE)","v":80},28,"OD",null,1.077,0.126,{"$f":"VLOOKUP(F1635,Tables!$G$5:$H$14,2,FALSE)*(M1635-(P1635+Q1635*Tables!$C$6))*(P1635+Q1635*Tables!$C$6)*1.36136","v":39.934601458751985},"Controlled OD (DR-26) Iron Pipe Size","ASTM F714"]
[null,null,null,null,{"$f":"ROW()","v":1636}," Typical Scenario (PE)","IPS (DR)",30,"30"," 80 psi   DR-26",26,{"$f":"VLOOKUP(K1636,Tables!$C$42:$G$58,IF(Tables!$C$5=4710,IF(N1636=\"ID\",5,3),IF(N1636=\"ID\",4,2)),FALSE)","v":80},30,"OD",null,1.1539999999999999,0.13500000000000001,{"$f":"VLOOKUP(F1636,Tables!$G$5:$H$14,2,FALSE)*(M1636-(P1636+Q1636*Tables!$C$6))*(P1636+Q1636*Tables!$C$6)*1.36136","v":45.84585959525571},"Controlled OD (DR-26) Iron Pipe Size","ASTM F714"]
[null,null,null,null,{"$f":"ROW()","v":1637}," Typical Scenario (PE)","IPS (DR)",32,"32"," 80 psi   DR-26",26,{"$f":"VLOOKUP(K1637,Tables!$C$42:$G$58,IF(Tables!$C$5=4710,IF(N1637=\"ID\",5,3),IF(N1637=\"ID\",4,2)),FALSE)","v":80},32,"OD",null,1.2310000000000001,0.14399999999999999,{"$f":"VLOOKUP(F1637,Tables!$G$5:$H$14,2,FALSE)*(M1637-(P1637+Q1637*Tables!$C$6))*(P1637+Q1637*Tables!$C$6)*1.36136","v":52.16495593317007},"Controlled OD (DR-26) Iron Pipe Size","ASTM F714"]
[null,null,null,null,{"$f":"ROW()","v":1638}," Typical Scenario (PE)","IPS (DR)",34,"34"," 80 psi   DR-26",26,{"$f":"VLOOKUP(K1638,Tables!$C$42:$G$58,IF(Tables!$C$5=4710,IF(N1638=\"ID\",5,3),IF(N1638=\"ID\",4,2)),FALSE)","v":80},34,"OD",null,1.3080000000000001,0.153,{"$f":"VLOOKUP(F1638,Tables!$G$5:$H$14,2,FALSE)*(M1638-(P1638+Q1638*Tables!$C$6))*(P1638+Q1638*Tables!$C$6)*1.36136","v":58.891890472495071},"Controlled OD (DR-26) Iron Pipe Size","ASTM F714"]
[null,null,null,null,{"$f":"ROW()","v":1639}," Typical Scenario (PE)","IPS (DR)",36,"36"," 80 psi   DR-26",26,{"$f":"VLOOKUP(K1639,Tables!$C$42:$G$58,IF(Tables!$C$5=4710,IF(N1639=\"ID\",5,3),IF(N1639=\"ID\",4,2)),FALSE)","v":80},36,"OD",null,1.385,0.16200000000000001,{"$f":"VLOOKUP(F1639,Tables!$G$5:$H$14,2,FALSE)*(M1639-(P1639+Q1639*Tables!$C$6))*(P1639+Q1639*Tables!$C$6)*1.36136","v":66.026663213230705},"Controlled OD (DR-26) Iron Pipe Size","ASTM F714"]
[null,null,null,null,{"$f":"ROW()","v":1640}," Typical Scenario (PE)","IPS (DR)",42,"42"," 80 psi   DR-26",26,{"$f":"VLOOKUP(K1640,Tables!$C$42:$G$58,IF(Tables!$C$5=4710,IF(N1640=\"ID\",5,3),IF(N1640=\"ID\",4,2)),FALSE)","v":80},42,"OD",null,1.615,0.189,{"$f":"VLOOKUP(F1640,Tables!$G$5:$H$14,2,FALSE)*(M1640-(P1640+Q1640*Tables!$C$6))*(P1640+Q1640*Tables!$C$6)*1.36136","v":89.827695268391068},"Controlled OD (DR-26) Iron Pipe Size","ASTM F714"]
[null,null,null,null,{"$f":"ROW()","v":1641}," Typical Scenario (PE)","IPS (DR)",48,"48"," 80 psi   DR-26",26,{"$f":"VLOOKUP(K1641,Tables!$C$42:$G$58,IF(Tables!$C$5=4710,IF(N1641=\"ID\",5,3),IF(N1641=\"ID\",4,2)),FALSE)","v":80},48,"OD",null,1.8460000000000001,0.216,{"$f":"VLOOKUP(F1641,Tables!$G$5:$H$14,2,FALSE)*(M1641-(P1641+Q1641*Tables!$C$6))*(P1641+Q1641*Tables!$C$6)*1.36136","v":117.34239915990594},"Controlled OD (DR-26) Iron Pipe Size","ASTM F714"]
[null,null,null,null,{"$f":"ROW()","v":1642}," Typical Scenario (PE)","IPS (DR)",54,"54"," 80 psi   DR-26",26,{"$f":"VLOOKUP(K1642,Tables!$C$42:$G$58,IF(Tables!$C$5=4710,IF(N1642=\"ID\",5,3),IF(N1642=\"ID\",4,2)),FALSE)","v":80},54,"OD",null,2.077,0.24299999999999999,{"$f":"VLOOKUP(F1642,Tables!$G$5:$H$14,2,FALSE)*(M1642-(P1642+Q1642*Tables!$C$6))*(P1642+Q1642*Tables!$C$6)*1.36136","v":148.52764686411652},"Controlled OD (DR-26) Iron Pipe Size","ASTM F714"]
[null,null,null,null,{"$f":"ROW()","v":1643}," Typical Scenario (PE)","IPS (DR)",60,"60"," 80 psi   DR-26",26,{"$f":"VLOOKUP(K1643,Tables!$C$42:$G$58,IF(Tables!$C$5=4710,IF(N1643=\"ID\",5,3),IF(N1643=\"ID\",4,2)),FALSE)","v":80},60,"OD",null,2.3079999999999998,0.27,{"$f":"VLOOKUP(F1643,Tables!$G$5:$H$14,2,FALSE)*(M1643-(P1643+Q1643*Tables!$C$6))*(P1643+Q1643*Tables!$C$6)*1.36136","v":183.38343838102284},"Controlled OD (DR-26) Iron Pipe Size","ASTM F714"]
[null,null,null,null,{"$f":"ROW()","v":1644}," Typical Scenario (PE)","IPS (DR)",63,"63"," 80 psi   DR-26",26,{"$f":"VLOOKUP(K1644,Tables!$C$42:$G$58,IF(Tables!$C$5=4710,IF(N1644=\"ID\",5,3),IF(N1644=\"ID\",4,2)),FALSE)","v":80},63,"OD",null,2.423,0.28399999999999997,{"$f":"VLOOKUP(F1644,Tables!$G$5:$H$14,2,FALSE)*(M1644-(P1644+Q1644*Tables!$C$6))*(P1644+Q1644*Tables!$C$6)*1.36136","v":202.16891988493197},"Controlled OD (DR-26) Iron Pipe Size","ASTM F714"]
[null,null,null,null,{"$f":"ROW()","v":1645}," Typical Scenario (PE)","IPS (DR)",65,"65"," 80 psi   DR-26",26,{"$f":"VLOOKUP(K1645,Tables!$C$42:$G$58,IF(Tables!$C$5=4710,IF(N1645=\"ID\",5,3),IF(N1645=\"ID\",4,2)),FALSE)","v":80},65,"OD",null,2.5,0.29299999999999998,{"$f":"VLOOKUP(F1645,Tables!$G$5:$H$14,2,FALSE)*(M1645-(P1645+Q1645*Tables!$C$6))*(P1645+Q1645*Tables!$C$6)*1.36136","v":215.21435181618369},"Controlled OD (DR-26) Iron Pipe Size","ASTM F714"]
[null,null,null,null,{"$f":"ROW()","v":1646}," Typical Scenario (PE)","IPS (DR)",1,"1",{"$f":"L1646&\" psi   DR-\"&K1646","v":"100 psi   DR-21"},21,{"$f":"VLOOKUP(K1646,Tables!$C$42:$G$58,IF(Tables!$C$5=4710,IF(N1646=\"ID\",5,3),IF(N1646=\"ID\",4,2)),FALSE)","v":100},1.3149999999999999,"OD",null,6.3E-2,0.02,{"$f":"VLOOKUP(F1646,Tables!$G$5:$H$14,2,FALSE)*(M1646-(P1646+Q1646*Tables!$C$6))*(P1646+Q1646*Tables!$C$6)*1.36136","v":0.11824504499807997},"Controlled OD (DR-21) Iron Pipe Size","ASTM D3035"]
[null,null,null,null,{"$f":"ROW()","v":1647}," Typical Scenario (PE)","IPS (DR)",1.25,"1 1/4","100 psi   DR-21",21,{"$f":"VLOOKUP(K1647,Tables!$C$42:$G$58,IF(Tables!$C$5=4710,IF(N1647=\"ID\",5,3),IF(N1647=\"ID\",4,2)),FALSE)","v":100},1.66,"OD",null,7.9000000000000001E-2,0.02,{"$f":"VLOOKUP(F1647,Tables!$G$5:$H$14,2,FALSE)*(M1647-(P1647+Q1647*Tables!$C$6))*(P1647+Q1647*Tables!$C$6)*1.36136","v":0.18234954609871998},"Controlled OD (DR-21) Iron Pipe Size","ASTM D3035"]
[null,null,null,null,{"$f":"ROW()","v":1648}," Typical Scenario (PE)","IPS (DR)",1.5,"1 1/2","100 psi   DR-21",21,{"$f":"VLOOKUP(K1648,Tables!$C$42:$G$58,IF(Tables!$C$5=4710,IF(N1648=\"ID\",5,3),IF(N1648=\"ID\",4,2)),FALSE)","v":100},1.9,"OD",null,0.09,0.02,{"$f":"VLOOKUP(F1648,Tables!$G$5:$H$14,2,FALSE)*(M1648-(P1648+Q1648*Tables!$C$6))*(P1648+Q1648*Tables!$C$6)*1.36136","v":0.23475291839999993},"Controlled OD (DR-21) Iron Pipe Size","ASTM D3035"]
[null,null,null,null,{"$f":"ROW()","v":1649}," Typical Scenario (PE)","IPS (DR)",2,"2","100 psi   DR-21",21,{"$f":"VLOOKUP(K1649,Tables!$C$42:$G$58,IF(Tables!$C$5=4710,IF(N1649=\"ID\",5,3),IF(N1649=\"ID\",4,2)),FALSE)","v":100},2.375,"OD",null,0.113,0.02,{"$f":"VLOOKUP(F1649,Tables!$G$5:$H$14,2,FALSE)*(M1649-(P1649+Q1649*Tables!$C$6))*(P1649+Q1649*Tables!$C$6)*1.36136","v":0.36125344102847989},"Controlled OD (DR-21) Iron Pipe Size","ASTM D3035"]
[null,null,null,null,{"$f":"ROW()","v":1650}," Typical Scenario (PE)","IPS (DR)",3,"3","100 psi   DR-21",21,{"$f":"VLOOKUP(K1650,Tables!$C$42:$G$58,IF(Tables!$C$5=4710,IF(N1650=\"ID\",5,3),IF(N1650=\"ID\",4,2)),FALSE)","v":100},3.5,"OD",null,0.16700000000000001,0.02,{"$f":"VLOOKUP(F1650,Tables!$G$5:$H$14,2,FALSE)*(M1650-(P1650+Q1650*Tables!$C$6))*(P1650+Q1650*Tables!$C$6)*1.36136","v":0.76708254871247994},"Controlled OD (DR-21) Iron Pipe Size","ASTM D3035"]
[null,null,null,null,{"$f":"ROW()","v":1651}," Typical Scenario (PE)","IPS (DR)",4,"4","100 psi   DR-21",21,{"$f":"VLOOKUP(K1651,Tables!$C$42:$G$58,IF(Tables!$C$5=4710,IF(N1651=\"ID\",5,3),IF(N1651=\"ID\",4,2)),FALSE)","v":100},4.5,"OD",null,0.214,0.02,{"$f":"VLOOKUP(F1651,Tables!$G$5:$H$14,2,FALSE)*(M1651-(P1651+Q1651*Tables!$C$6))*(P1651+Q1651*Tables!$C$6)*1.36136","v":1.2491776628531197},"Controlled OD (DR-21) Iron Pipe Size","ASTM F714"]
[null,null,null,null,{"$f":"ROW()","v":1652}," Typical Scenario (PE)","IPS (DR)",5,"5","100 psi   DR-21",21,{"$f":"VLOOKUP(K1652,Tables!$C$42:$G$58,IF(Tables!$C$5=4710,IF(N1652=\"ID\",5,3),IF(N1652=\"ID\",4,2)),FALSE)","v":100},5.5629999999999997,"OD",null,0.26500000000000001,2.5000000000000001E-2,{"$f":"VLOOKUP(F1652,Tables!$G$5:$H$14,2,FALSE)*(M1652-(P1652+Q1652*Tables!$C$6))*(P1652+Q1652*Tables!$C$6)*1.36136","v":1.9128792648966},"Controlled OD (DR-21) Iron Pipe Size","ASTM F714"]
[null,null,null,null,{"$f":"ROW()","v":1653}," Typical Scenario (PE)","IPS (DR)",6,"6","100 psi   DR-21",21,{"$f":"VLOOKUP(K1653,Tables!$C$42:$G$58,IF(Tables!$C$5=4710,IF(N1653=\"ID\",5,3),IF(N1653=\"ID\",4,2)),FALSE)","v":100},6.625,"OD",null,0.315,0.03,{"$f":"VLOOKUP(F1653,Tables!$G$5:$H$14,2,FALSE)*(M1653-(P1653+Q1653*Tables!$C$6))*(P1653+Q1653*Tables!$C$6)*1.36136","v":2.7092443057679998},"Controlled OD (DR-21) Iron Pipe Size","ASTM F714"]
[null,null,null,null,{"$f":"ROW()","v":1654}," Typical Scenario (PE)","IPS (DR)",7,"7","100 psi   DR-21",21,{"$f":"VLOOKUP(K1654,Tables!$C$42:$G$58,IF(Tables!$C$5=4710,IF(N1654=\"ID\",5,3),IF(N1654=\"ID\",4,2)),FALSE)","v":100},7.125,"OD",null,0.34,3.4000000000000002E-2,{"$f":"VLOOKUP(F1654,Tables!$G$5:$H$14,2,FALSE)*(M1654-(P1654+Q1654*Tables!$C$6))*(P1654+Q1654*Tables!$C$6)*1.36136","v":3.1511353742668802},"Controlled OD (DR-21) Iron Pipe Size","ASTM F714"]
[null,null,null,null,{"$f":"ROW()","v":1655}," Typical Scenario (PE)","IPS (DR)",8,"8","100 psi   DR-21",21,{"$f":"VLOOKUP(K1655,Tables!$C$42:$G$58,IF(Tables!$C$5=4710,IF(N1655=\"ID\",5,3),IF(N1655=\"ID\",4,2)),FALSE)","v":100},8.625,"OD",null,0.41099999999999998,3.9E-2,{"$f":"VLOOKUP(F1655,Tables!$G$5:$H$14,2,FALSE)*(M1655-(P1655+Q1655*Tables!$C$6))*(P1655+Q1655*Tables!$C$6)*1.36136","v":4.6008080056738798},"Controlled OD (DR-21) Iron Pipe Size","ASTM F714"]
[null,null,null,null,{"$f":"ROW()","v":1656}," Typical Scenario (PE)","IPS (DR)",10,"10","100 psi   DR-21",21,{"$f":"VLOOKUP(K1656,Tables!$C$42:$G$58,IF(Tables!$C$5=4710,IF(N1656=\"ID\",5,3),IF(N1656=\"ID\",4,2)),FALSE)","v":100},10.75,"OD",null,0.51200000000000001,4.8000000000000001E-2,{"$f":"VLOOKUP(F1656,Tables!$G$5:$H$14,2,FALSE)*(M1656-(P1656+Q1656*Tables!$C$6))*(P1656+Q1656*Tables!$C$6)*1.36136","v":7.1400152298675206},"Controlled OD (DR-21) Iron Pipe Size","ASTM F714"]
[null,null,null,null,{"$f":"ROW()","v":1657}," Typical Scenario (PE)","IPS (DR)",12,"12","100 psi   DR-21",21,{"$f":"VLOOKUP(K1657,Tables!$C$42:$G$58,IF(Tables!$C$5=4710,IF(N1657=\"ID\",5,3),IF(N1657=\"ID\",4,2)),FALSE)","v":100},12.75,"OD",null,0.60699999999999998,5.7000000000000002E-2,{"$f":"VLOOKUP(F1657,Tables!$G$5:$H$14,2,FALSE)*(M1657-(P1657+Q1657*Tables!$C$6))*(P1657+Q1657*Tables!$C$6)*1.36136","v":10.040597184097477},"Controlled OD (DR-21) Iron Pipe Size","ASTM F714"]
[null,null,null,null,{"$f":"ROW()","v":1658}," Typical Scenario (PE)","IPS (DR)",14,"14","100 psi   DR-21",21,{"$f":"VLOOKUP(K1658,Tables!$C$42:$G$58,IF(Tables!$C$5=4710,IF(N1658=\"ID\",5,3),IF(N1658=\"ID\",4,2)),FALSE)","v":100},14,"OD",null,0.66700000000000004,6.3E-2,{"$f":"VLOOKUP(F1658,Tables!$G$5:$H$14,2,FALSE)*(M1658-(P1658+Q1658*Tables!$C$6))*(P1658+Q1658*Tables!$C$6)*1.36136","v":12.117290621956521},"Controlled OD (DR-21) Iron Pipe Size","ASTM F714"]
[null,null,null,null,{"$f":"ROW()","v":1659}," Typical Scenario (PE)","IPS (DR)",16,"16","100 psi   DR-21",21,{"$f":"VLOOKUP(K1659,Tables!$C$42:$G$58,IF(Tables!$C$5=4710,IF(N1659=\"ID\",5,3),IF(N1659=\"ID\",4,2)),FALSE)","v":100},16,"OD",null,0.76200000000000001,7.1999999999999995E-2,{"$f":"VLOOKUP(F1659,Tables!$G$5:$H$14,2,FALSE)*(M1659-(P1659+Q1659*Tables!$C$6))*(P1659+Q1659*Tables!$C$6)*1.36136","v":15.821298137124479},"Controlled OD (DR-21) Iron Pipe Size","ASTM F714"]
[null,null,null,null,{"$f":"ROW()","v":1660}," Typical Scenario (PE)","IPS (DR)",18,"18","100 psi   DR-21",21,{"$f":"VLOOKUP(K1660,Tables!$C$42:$G$58,IF(Tables!$C$5=4710,IF(N1660=\"ID\",5,3),IF(N1660=\"ID\",4,2)),FALSE)","v":100},18,"OD",null,0.85699999999999998,8.1000000000000003E-2,{"$f":"VLOOKUP(F1660,Tables!$G$5:$H$14,2,FALSE)*(M1660-(P1660+Q1660*Tables!$C$6))*(P1660+Q1660*Tables!$C$6)*1.36136","v":20.018546965416995},"Controlled OD (DR-21) Iron Pipe Size","ASTM F714"]
[null,null,null,null,{"$f":"ROW()","v":1661}," Typical Scenario (PE)","IPS (DR)",20,"20","100 psi   DR-21",21,{"$f":"VLOOKUP(K1661,Tables!$C$42:$G$58,IF(Tables!$C$5=4710,IF(N1661=\"ID\",5,3),IF(N1661=\"ID\",4,2)),FALSE)","v":100},20,"OD",null,0.95199999999999996,0.09,{"$f":"VLOOKUP(F1661,Tables!$G$5:$H$14,2,FALSE)*(M1661-(P1661+Q1661*Tables!$C$6))*(P1661+Q1661*Tables!$C$6)*1.36136","v":24.709037106834081},"Controlled OD (DR-21) Iron Pipe Size","ASTM F714"]
[null,null,null,null,{"$f":"ROW()","v":1662}," Typical Scenario (PE)","IPS (DR)",22,"22","100 psi   DR-21",21,{"$f":"VLOOKUP(K1662,Tables!$C$42:$G$58,IF(Tables!$C$5=4710,IF(N1662=\"ID\",5,3),IF(N1662=\"ID\",4,2)),FALSE)","v":100},22,"OD",null,1.048,9.9000000000000005E-2,{"$f":"VLOOKUP(F1662,Tables!$G$5:$H$14,2,FALSE)*(M1662-(P1662+Q1662*Tables!$C$6))*(P1662+Q1662*Tables!$C$6)*1.36136","v":29.918599207496996},"Controlled OD (DR-21) Iron Pipe Size","ASTM F714"]
[null,null,null,null,{"$f":"ROW()","v":1663}," Typical Scenario (PE)","IPS (DR)",24,"24","100 psi   DR-21",21,{"$f":"VLOOKUP(K1663,Tables!$C$42:$G$58,IF(Tables!$C$5=4710,IF(N1663=\"ID\",5,3),IF(N1663=\"ID\",4,2)),FALSE)","v":100},24,"OD",null,1.143,0.108,{"$f":"VLOOKUP(F1663,Tables!$G$5:$H$14,2,FALSE)*(M1663-(P1663+Q1663*Tables!$C$6))*(P1663+Q1663*Tables!$C$6)*1.36136","v":35.597920808530077},"Controlled OD (DR-21) Iron Pipe Size","ASTM F714"]
[null,null,null,null,{"$f":"ROW()","v":1664}," Typical Scenario (PE)","IPS (DR)",26,"26","100 psi   DR-21",21,{"$f":"VLOOKUP(K1664,Tables!$C$42:$G$58,IF(Tables!$C$5=4710,IF(N1664=\"ID\",5,3),IF(N1664=\"ID\",4,2)),FALSE)","v":100},26,"OD",null,1.238,0.11700000000000001,{"$f":"VLOOKUP(F1664,Tables!$G$5:$H$14,2,FALSE)*(M1664-(P1664+Q1664*Tables!$C$6))*(P1664+Q1664*Tables!$C$6)*1.36136","v":41.770483722687715},"Controlled OD (DR-21) Iron Pipe Size","ASTM F714"]
[null,null,null,null,{"$f":"ROW()","v":1665}," Typical Scenario (PE)","IPS (DR)",28,"28","100 psi   DR-21",21,{"$f":"VLOOKUP(K1665,Tables!$C$42:$G$58,IF(Tables!$C$5=4710,IF(N1665=\"ID\",5,3),IF(N1665=\"ID\",4,2)),FALSE)","v":100},28,"OD",null,1.333,0.126,{"$f":"VLOOKUP(F1665,Tables!$G$5:$H$14,2,FALSE)*(M1665-(P1665+Q1665*Tables!$C$6))*(P1665+Q1665*Tables!$C$6)*1.36136","v":48.436287949969909},"Controlled OD (DR-21) Iron Pipe Size","ASTM F714"]
[null,null,null,null,{"$f":"ROW()","v":1666}," Typical Scenario (PE)","IPS (DR)",30,"30","100 psi   DR-21",21,{"$f":"VLOOKUP(K1666,Tables!$C$42:$G$58,IF(Tables!$C$5=4710,IF(N1666=\"ID\",5,3),IF(N1666=\"ID\",4,2)),FALSE)","v":100},30,"OD",null,1.429,0.13500000000000001,{"$f":"VLOOKUP(F1666,Tables!$G$5:$H$14,2,FALSE)*(M1666-(P1666+Q1666*Tables!$C$6))*(P1666+Q1666*Tables!$C$6)*1.36136","v":55.630556861599722},"Controlled OD (DR-21) Iron Pipe Size","ASTM F714"]
[null,null,null,null,{"$f":"ROW()","v":1667}," Typical Scenario (PE)","IPS (DR)",32,"32","100 psi   DR-21",21,{"$f":"VLOOKUP(K1667,Tables!$C$42:$G$58,IF(Tables!$C$5=4710,IF(N1667=\"ID\",5,3),IF(N1667=\"ID\",4,2)),FALSE)","v":100},32,"OD",null,1.524,0.14399999999999999,{"$f":"VLOOKUP(F1667,Tables!$G$5:$H$14,2,FALSE)*(M1667-(P1667+Q1667*Tables!$C$6))*(P1667+Q1667*Tables!$C$6)*1.36136","v":63.285192548497918},"Controlled OD (DR-21) Iron Pipe Size","ASTM F714"]
[null,null,null,null,{"$f":"ROW()","v":1668}," Typical Scenario (PE)","IPS (DR)",34,"34","100 psi   DR-21",21,{"$f":"VLOOKUP(K1668,Tables!$C$42:$G$58,IF(Tables!$C$5=4710,IF(N1668=\"ID\",5,3),IF(N1668=\"ID\",4,2)),FALSE)","v":100},34,"OD",null,1.619,0.153,{"$f":"VLOOKUP(F1668,Tables!$G$5:$H$14,2,FALSE)*(M1668-(P1668+Q1668*Tables!$C$6))*(P1668+Q1668*Tables!$C$6)*1.36136","v":71.433069548520663},"Controlled OD (DR-21) Iron Pipe Size","ASTM F714"]
[null,null,null,null,{"$f":"ROW()","v":1669}," Typical Scenario (PE)","IPS (DR)",36,"36","100 psi   DR-21",21,{"$f":"VLOOKUP(K1669,Tables!$C$42:$G$58,IF(Tables!$C$5=4710,IF(N1669=\"ID\",5,3),IF(N1669=\"ID\",4,2)),FALSE)","v":100},36,"OD",null,1.714,0.16200000000000001,{"$f":"VLOOKUP(F1669,Tables!$G$5:$H$14,2,FALSE)*(M1669-(P1669+Q1669*Tables!$C$6))*(P1669+Q1669*Tables!$C$6)*1.36136","v":80.07418786166798},"Controlled OD (DR-21) Iron Pipe Size","ASTM F714"]
[null,null,null,null,{"$f":"ROW()","v":1670}," Typical Scenario (PE)","IPS (DR)",42,"42","100 psi   DR-21",21,{"$f":"VLOOKUP(K1670,Tables!$C$42:$G$58,IF(Tables!$C$5=4710,IF(N1670=\"ID\",5,3),IF(N1670=\"ID\",4,2)),FALSE)","v":100},42,"OD",null,2,0.189,{"$f":"VLOOKUP(F1670,Tables!$G$5:$H$14,2,FALSE)*(M1670-(P1670+Q1670*Tables!$C$6))*(P1670+Q1670*Tables!$C$6)*1.36136","v":109.00630444291589},"Controlled OD (DR-21) Iron Pipe Size","ASTM F714"]
[null,null,null,null,{"$f":"ROW()","v":1671}," Typical Scenario (PE)","IPS (DR)",48,"48","100 psi   DR-21",21,{"$f":"VLOOKUP(K1671,Tables!$C$42:$G$58,IF(Tables!$C$5=4710,IF(N1671=\"ID\",5,3),IF(N1671=\"ID\",4,2)),FALSE)","v":100},48,"OD",null,2.286,0.216,{"$f":"VLOOKUP(F1671,Tables!$G$5:$H$14,2,FALSE)*(M1671-(P1671+Q1671*Tables!$C$6))*(P1671+Q1671*Tables!$C$6)*1.36136","v":142.39168323412031},"Controlled OD (DR-21) Iron Pipe Size","ASTM F714"]
[null,null,null,null,{"$f":"ROW()","v":1672}," Typical Scenario (PE)","IPS (DR)",54,"54","100 psi   DR-21",21,{"$f":"VLOOKUP(K1672,Tables!$C$42:$G$58,IF(Tables!$C$5=4710,IF(N1672=\"ID\",5,3),IF(N1672=\"ID\",4,2)),FALSE)","v":100},54,"OD",null,2.5169999999999999,0.24299999999999999,{"$f":"VLOOKUP(F1672,Tables!$G$5:$H$14,2,FALSE)*(M1672-(P1672+Q1672*Tables!$C$6))*(P1672+Q1672*Tables!$C$6)*1.36136","v":176.7393657530701},"Controlled OD (DR-21) Iron Pipe Size","ASTM F714"]
[null,null,null,null,{"$f":"ROW()","v":1673}," Typical Scenario (PE)","IPS (DR)",60,"60","100 psi   DR-21",21,{"$f":"VLOOKUP(K1673,Tables!$C$42:$G$58,IF(Tables!$C$5=4710,IF(N1673=\"ID\",5,3),IF(N1673=\"ID\",4,2)),FALSE)","v":100},60,"OD",null,2.8570000000000002,0.27,{"$f":"VLOOKUP(F1673,Tables!$G$5:$H$14,2,FALSE)*(M1673-(P1673+Q1673*Tables!$C$6))*(P1673+Q1673*Tables!$C$6)*1.36136","v":222.45178200813564},"Controlled OD (DR-21) Iron Pipe Size","ASTM F714"]
[null,null,null,null,{"$f":"ROW()","v":1674}," Typical Scenario (PE)","IPS (DR)",63,"63","100 psi   DR-21",21,{"$f":"VLOOKUP(K1674,Tables!$C$42:$G$58,IF(Tables!$C$5=4710,IF(N1674=\"ID\",5,3),IF(N1674=\"ID\",4,2)),FALSE)","v":100},63,"OD",null,3,0.28399999999999997,{"$f":"VLOOKUP(F1674,Tables!$G$5:$H$14,2,FALSE)*(M1674-(P1674+Q1674*Tables!$C$6))*(P1674+Q1674*Tables!$C$6)*1.36136","v":245.28267708712761},"Controlled OD (DR-21) Iron Pipe Size","ASTM F714"]
[null,null,null,null,{"$f":"ROW()","v":1675}," Typical Scenario (PE)","IPS (DR)",65,"65","100 psi   DR-21",21,{"$f":"VLOOKUP(K1675,Tables!$C$42:$G$58,IF(Tables!$C$5=4710,IF(N1675=\"ID\",5,3),IF(N1675=\"ID\",4,2)),FALSE)","v":100},65,"OD",null,3.0950000000000002,0.29299999999999998,{"$f":"VLOOKUP(F1675,Tables!$G$5:$H$14,2,FALSE)*(M1675-(P1675+Q1675*Tables!$C$6))*(P1675+Q1675*Tables!$C$6)*1.36136","v":261.08460256570692},"Controlled OD (DR-21) Iron Pipe Size","ASTM F714"]
[null,null,null,null,{"$f":"ROW()","v":1676}," Typical Scenario (PE)","IPS (DR)",0.75,"3/4","125 psi   DR-17",17,{"$f":"VLOOKUP(K1676,Tables!$C$42:$G$58,IF(Tables!$C$5=4710,IF(N1676=\"ID\",5,3),IF(N1676=\"ID\",4,2)),FALSE)","v":125},1.05,"OD",null,6.2E-2,0.02,{"$f":"VLOOKUP(F1676,Tables!$G$5:$H$14,2,FALSE)*(M1676-(P1676+Q1676*Tables!$C$6))*(P1676+Q1676*Tables!$C$6)*1.36136","v":9.1835341678079996E-2},"Controlled OD (DR-17) Iron Pipe Size","ASTM F714"]
[null,null,null,null,{"$f":"ROW()","v":1677}," Typical Scenario (PE)","IPS (DR)",1,"1","125 psi   DR-17",17,{"$f":"VLOOKUP(K1677,Tables!$C$42:$G$58,IF(Tables!$C$5=4710,IF(N1677=\"ID\",5,3),IF(N1677=\"ID\",4,2)),FALSE)","v":125},1.3149999999999999,"OD",null,7.6999999999999999E-2,0.02,{"$f":"VLOOKUP(F1677,Tables!$G$5:$H$14,2,FALSE)*(M1677-(P1677+Q1677*Tables!$C$6))*(P1677+Q1677*Tables!$C$6)*1.36136","v":0.13933368216767997},"Controlled OD (DR-17) Iron Pipe Size","ASTM D3035"]
[null,null,null,null,{"$f":"ROW()","v":1678}," Typical Scenario (PE)","IPS (DR)",1.25,"1 1/4","125 psi   DR-17",17,{"$f":"VLOOKUP(K1678,Tables!$C$42:$G$58,IF(Tables!$C$5=4710,IF(N1678=\"ID\",5,3),IF(N1678=\"ID\",4,2)),FALSE)","v":125},1.66,"OD",null,9.8000000000000004E-2,0.02,{"$f":"VLOOKUP(F1678,Tables!$G$5:$H$14,2,FALSE)*(M1678-(P1678+Q1678*Tables!$C$6))*(P1678+Q1678*Tables!$C$6)*1.36136","v":0.21860191761407993},"Controlled OD (DR-17) Iron Pipe Size","ASTM D3035"]
[null,null,null,null,{"$f":"ROW()","v":1679}," Typical Scenario (PE)","IPS (DR)",1.5,"1 1/2","125 psi   DR-17",17,{"$f":"VLOOKUP(K1679,Tables!$C$42:$G$58,IF(Tables!$C$5=4710,IF(N1679=\"ID\",5,3),IF(N1679=\"ID\",4,2)),FALSE)","v":125},1.9,"OD",null,0.112,0.02,{"$f":"VLOOKUP(F1679,Tables!$G$5:$H$14,2,FALSE)*(M1679-(P1679+Q1679*Tables!$C$6))*(P1679+Q1679*Tables!$C$6)*1.36136","v":0.28289813359807997},"Controlled OD (DR-17) Iron Pipe Size","ASTM D3035"]
[null,null,null,null,{"$f":"ROW()","v":1680}," Typical Scenario (PE)","IPS (DR)",2,"2","125 psi   DR-17",17,{"$f":"VLOOKUP(K1680,Tables!$C$42:$G$58,IF(Tables!$C$5=4710,IF(N1680=\"ID\",5,3),IF(N1680=\"ID\",4,2)),FALSE)","v":125},2.375,"OD",null,0.14000000000000001,0.02,{"$f":"VLOOKUP(F1680,Tables!$G$5:$H$14,2,FALSE)*(M1680-(P1680+Q1680*Tables!$C$6))*(P1680+Q1680*Tables!$C$6)*1.36136","v":0.43527103620000002},"Controlled OD (DR-17) Iron Pipe Size","ASTM D3035"]
[null,null,null,null,{"$f":"ROW()","v":1681}," Typical Scenario (PE)","IPS (DR)",3,"3","125 psi   DR-17",17,{"$f":"VLOOKUP(K1681,Tables!$C$42:$G$58,IF(Tables!$C$5=4710,IF(N1681=\"ID\",5,3),IF(N1681=\"ID\",4,2)),FALSE)","v":125},3.5,"OD",null,0.20599999999999999,2.5000000000000001E-2,{"$f":"VLOOKUP(F1681,Tables!$G$5:$H$14,2,FALSE)*(M1681-(P1681+Q1681*Tables!$C$6))*(P1681+Q1681*Tables!$C$6)*1.36136","v":0.93510923237731991},"Controlled OD (DR-17) Iron Pipe Size","ASTM D3035"]
[null,null,null,null,{"$f":"ROW()","v":1682}," Typical Scenario (PE)","IPS (DR)",4,"4","125 psi   DR-17",17,{"$f":"VLOOKUP(K1682,Tables!$C$42:$G$58,IF(Tables!$C$5=4710,IF(N1682=\"ID\",5,3),IF(N1682=\"ID\",4,2)),FALSE)","v":125},4.5,"OD",null,0.26500000000000001,0.02,{"$f":"VLOOKUP(F1682,Tables!$G$5:$H$14,2,FALSE)*(M1682-(P1682+Q1682*Tables!$C$6))*(P1682+Q1682*Tables!$C$6)*1.36136","v":1.5152974836999999},"Controlled OD (DR-17) Iron Pipe Size","ASTM F714"]
[null,null,null,null,{"$f":"ROW()","v":1683}," Typical Scenario (PE)","IPS (DR)",5,"5","125 psi   DR-17",17,{"$f":"VLOOKUP(K1683,Tables!$C$42:$G$58,IF(Tables!$C$5=4710,IF(N1683=\"ID\",5,3),IF(N1683=\"ID\",4,2)),FALSE)","v":125},5.5629999999999997,"OD",null,0.32700000000000001,2.5000000000000001E-2,{"$f":"VLOOKUP(F1683,Tables!$G$5:$H$14,2,FALSE)*(M1683-(P1683+Q1683*Tables!$C$6))*(P1683+Q1683*Tables!$C$6)*1.36136","v":2.3128095534143598},"Controlled OD (DR-17) Iron Pipe Size","ASTM F714"]
[null,null,null,null,{"$f":"ROW()","v":1684}," Typical Scenario (PE)","IPS (DR)",6,"6","125 psi   DR-17",17,{"$f":"VLOOKUP(K1684,Tables!$C$42:$G$58,IF(Tables!$C$5=4710,IF(N1684=\"ID\",5,3),IF(N1684=\"ID\",4,2)),FALSE)","v":125},6.625,"OD",null,0.39,0.03,{"$f":"VLOOKUP(F1684,Tables!$G$5:$H$14,2,FALSE)*(M1684-(P1684+Q1684*Tables!$C$6))*(P1684+Q1684*Tables!$C$6)*1.36136","v":3.2853670930079999},"Controlled OD (DR-17) Iron Pipe Size","ASTM F714"]
[null,null,null,null,{"$f":"ROW()","v":1685}," Typical Scenario (PE)","IPS (DR)",7,"7","125 psi   DR-17",17,{"$f":"VLOOKUP(K1685,Tables!$C$42:$G$58,IF(Tables!$C$5=4710,IF(N1685=\"ID\",5,3),IF(N1685=\"ID\",4,2)),FALSE)","v":125},7.125,"OD",null,0.42,3.4000000000000002E-2,{"$f":"VLOOKUP(F1685,Tables!$G$5:$H$14,2,FALSE)*(M1685-(P1685+Q1685*Tables!$C$6))*(P1685+Q1685*Tables!$C$6)*1.36136","v":3.8116779193292798},"Controlled OD (DR-17) Iron Pipe Size","ASTM F714"]
[null,null,null,null,{"$f":"ROW()","v":1686}," Typical Scenario (PE)","IPS (DR)",8,"8","125 psi   DR-17",17,{"$f":"VLOOKUP(K1686,Tables!$C$42:$G$58,IF(Tables!$C$5=4710,IF(N1686=\"ID\",5,3),IF(N1686=\"ID\",4,2)),FALSE)","v":125},8.625,"OD",null,0.50700000000000001,3.9E-2,{"$f":"VLOOKUP(F1686,Tables!$G$5:$H$14,2,FALSE)*(M1686-(P1686+Q1686*Tables!$C$6))*(P1686+Q1686*Tables!$C$6)*1.36136","v":5.5608535407625181},"Controlled OD (DR-17) Iron Pipe Size","ASTM F714"]
[null,null,null,null,{"$f":"ROW()","v":1687}," Typical Scenario (PE)","IPS (DR)",10,"10","125 psi   DR-17",17,{"$f":"VLOOKUP(K1687,Tables!$C$42:$G$58,IF(Tables!$C$5=4710,IF(N1687=\"ID\",5,3),IF(N1687=\"ID\",4,2)),FALSE)","v":125},10.75,"OD",null,0.63200000000000001,4.8000000000000001E-2,{"$f":"VLOOKUP(F1687,Tables!$G$5:$H$14,2,FALSE)*(M1687-(P1687+Q1687*Tables!$C$6))*(P1687+Q1687*Tables!$C$6)*1.36136","v":8.6358608259123173},"Controlled OD (DR-17) Iron Pipe Size","ASTM F714"]
[null,null,null,null,{"$f":"ROW()","v":1688}," Typical Scenario (PE)","IPS (DR)",12,"12","125 psi   DR-17",17,{"$f":"VLOOKUP(K1688,Tables!$C$42:$G$58,IF(Tables!$C$5=4710,IF(N1688=\"ID\",5,3),IF(N1688=\"ID\",4,2)),FALSE)","v":125},12.75,"OD",null,0.75,5.7000000000000002E-2,{"$f":"VLOOKUP(F1688,Tables!$G$5:$H$14,2,FALSE)*(M1688-(P1688+Q1688*Tables!$C$6))*(P1688+Q1688*Tables!$C$6)*1.36136","v":12.154740233355719},"Controlled OD (DR-17) Iron Pipe Size","ASTM F714"]
[null,null,null,null,{"$f":"ROW()","v":1689}," Typical Scenario (PE)","IPS (DR)",14,"14","125 psi   DR-17",17,{"$f":"VLOOKUP(K1689,Tables!$C$42:$G$58,IF(Tables!$C$5=4710,IF(N1689=\"ID\",5,3),IF(N1689=\"ID\",4,2)),FALSE)","v":125},14,"OD",null,0.82399999999999995,6.3E-2,{"$f":"VLOOKUP(F1689,Tables!$G$5:$H$14,2,FALSE)*(M1689-(P1689+Q1689*Tables!$C$6))*(P1689+Q1689*Tables!$C$6)*1.36136","v":14.665692661499877},"Controlled OD (DR-17) Iron Pipe Size","ASTM F714"]
[null,null,null,null,{"$f":"ROW()","v":1690}," Typical Scenario (PE)","IPS (DR)",16,"16","125 psi   DR-17",17,{"$f":"VLOOKUP(K1690,Tables!$C$42:$G$58,IF(Tables!$C$5=4710,IF(N1690=\"ID\",5,3),IF(N1690=\"ID\",4,2)),FALSE)","v":125},16,"OD",null,0.94099999999999995,7.1999999999999995E-2,{"$f":"VLOOKUP(F1690,Tables!$G$5:$H$14,2,FALSE)*(M1690-(P1690+Q1690*Tables!$C$6))*(P1690+Q1690*Tables!$C$6)*1.36136","v":19.142106399896477},"Controlled OD (DR-17) Iron Pipe Size","ASTM F714"]
[null,null,null,null,{"$f":"ROW()","v":1691}," Typical Scenario (PE)","IPS (DR)",18,"18","125 psi   DR-17",17,{"$f":"VLOOKUP(K1691,Tables!$C$42:$G$58,IF(Tables!$C$5=4710,IF(N1691=\"ID\",5,3),IF(N1691=\"ID\",4,2)),FALSE)","v":125},18,"OD",null,1.0589999999999999,8.1000000000000003E-2,{"$f":"VLOOKUP(F1691,Tables!$G$5:$H$14,2,FALSE)*(M1691-(P1691+Q1691*Tables!$C$6))*(P1691+Q1691*Tables!$C$6)*1.36136","v":24.234456368402277},"Controlled OD (DR-17) Iron Pipe Size","ASTM F714"]
[null,null,null,null,{"$f":"ROW()","v":1692}," Typical Scenario (PE)","IPS (DR)",20,"20","125 psi   DR-17",17,{"$f":"VLOOKUP(K1692,Tables!$C$42:$G$58,IF(Tables!$C$5=4710,IF(N1692=\"ID\",5,3),IF(N1692=\"ID\",4,2)),FALSE)","v":125},20,"OD",null,1.1759999999999999,0.09,{"$f":"VLOOKUP(F1692,Tables!$G$5:$H$14,2,FALSE)*(M1692-(P1692+Q1692*Tables!$C$6))*(P1692+Q1692*Tables!$C$6)*1.36136","v":29.903816620597915},"Controlled OD (DR-17) Iron Pipe Size","ASTM F714"]
[null,null,null,null,{"$f":"ROW()","v":1693}," Typical Scenario (PE)","IPS (DR)",22,"22","125 psi   DR-17",17,{"$f":"VLOOKUP(K1693,Tables!$C$42:$G$58,IF(Tables!$C$5=4710,IF(N1693=\"ID\",5,3),IF(N1693=\"ID\",4,2)),FALSE)","v":125},22,"OD",null,1.294,9.9000000000000005E-2,{"$f":"VLOOKUP(F1693,Tables!$G$5:$H$14,2,FALSE)*(M1693-(P1693+Q1693*Tables!$C$6))*(P1693+Q1693*Tables!$C$6)*1.36136","v":36.193693393177327},"Controlled OD (DR-17) Iron Pipe Size","ASTM F714"]
[null,null,null,null,{"$f":"ROW()","v":1694}," Typical Scenario (PE)","IPS (DR)",24,"24","125 psi   DR-17",17,{"$f":"VLOOKUP(K1694,Tables!$C$42:$G$58,IF(Tables!$C$5=4710,IF(N1694=\"ID\",5,3),IF(N1694=\"ID\",4,2)),FALSE)","v":125},24,"OD",null,1.4119999999999999,0.108,{"$f":"VLOOKUP(F1694,Tables!$G$5:$H$14,2,FALSE)*(M1694-(P1694+Q1694*Tables!$C$6))*(P1694+Q1694*Tables!$C$6)*1.36136","v":43.083477988270715},"Controlled OD (DR-17) Iron Pipe Size","ASTM F714"]
[null,null,null,null,{"$f":"ROW()","v":1695}," Typical Scenario (PE)","IPS (DR)",26,"26","125 psi   DR-17",17,{"$f":"VLOOKUP(K1695,Tables!$C$42:$G$58,IF(Tables!$C$5=4710,IF(N1695=\"ID\",5,3),IF(N1695=\"ID\",4,2)),FALSE)","v":125},26,"OD",null,1.5289999999999999,0.11700000000000001,{"$f":"VLOOKUP(F1695,Tables!$G$5:$H$14,2,FALSE)*(M1695-(P1695+Q1695*Tables!$C$6))*(P1695+Q1695*Tables!$C$6)*1.36136","v":50.543403735824988},{"$f":"\"Controlled OD (DR-\"&K1695&\") Iron Pipe Size\"","v":"Controlled OD (DR-17) Iron Pipe Size"},"ASTM F714"]
[null,null,null,null,{"$f":"ROW()","v":1696}," Typical Scenario (PE)","IPS (DR)",28,"28","125 psi   DR-17",17,{"$f":"VLOOKUP(K1696,Tables!$C$42:$G$58,IF(Tables!$C$5=4710,IF(N1696=\"ID\",5,3),IF(N1696=\"ID\",4,2)),FALSE)","v":125},28,"OD",null,1.647,0.126,{"$f":"VLOOKUP(F1696,Tables!$G$5:$H$14,2,FALSE)*(M1696-(P1696+Q1696*Tables!$C$6))*(P1696+Q1696*Tables!$C$6)*1.36136","v":58.630715134991995},"Controlled OD (DR-17) Iron Pipe Size","ASTM F714"]
[null,null,null,null,{"$f":"ROW()","v":1697}," Typical Scenario (PE)","IPS (DR)",30,"30","125 psi   DR-17",17,{"$f":"VLOOKUP(K1697,Tables!$C$42:$G$58,IF(Tables!$C$5=4710,IF(N1697=\"ID\",5,3),IF(N1697=\"ID\",4,2)),FALSE)","v":125},30,"OD",null,1.7649999999999999,0.13500000000000001,{"$f":"VLOOKUP(F1697,Tables!$G$5:$H$14,2,FALSE)*(M1697-(P1697+Q1697*Tables!$C$6))*(P1697+Q1697*Tables!$C$6)*1.36136","v":67.317934356672993},"Controlled OD (DR-17) Iron Pipe Size","ASTM F714"]
[null,null,null,null,{"$f":"ROW()","v":1698}," Typical Scenario (PE)","IPS (DR)",32,"32","125 psi   DR-17",17,{"$f":"VLOOKUP(K1698,Tables!$C$42:$G$58,IF(Tables!$C$5=4710,IF(N1698=\"ID\",5,3),IF(N1698=\"ID\",4,2)),FALSE)","v":125},32,"OD",null,1.8819999999999999,0.14399999999999999,{"$f":"VLOOKUP(F1698,Tables!$G$5:$H$14,2,FALSE)*(M1698-(P1698+Q1698*Tables!$C$6))*(P1698+Q1698*Tables!$C$6)*1.36136","v":76.568425599585908},"Controlled OD (DR-17) Iron Pipe Size","ASTM F714"]
[null,null,null,null,{"$f":"ROW()","v":1699}," Typical Scenario (PE)","IPS (DR)",34,"34","125 psi   DR-17",17,{"$f":"VLOOKUP(K1699,Tables!$C$42:$G$58,IF(Tables!$C$5=4710,IF(N1699=\"ID\",5,3),IF(N1699=\"ID\",4,2)),FALSE)","v":125},34,"OD",null,2,0.153,{"$f":"VLOOKUP(F1699,Tables!$G$5:$H$14,2,FALSE)*(M1699-(P1699+Q1699*Tables!$C$6))*(P1699+Q1699*Tables!$C$6)*1.36136","v":86.453171625340502},"Controlled OD (DR-17) Iron Pipe Size","ASTM F714"]
[null,null,null,null,{"$f":"ROW()","v":1700}," Typical Scenario (PE)","IPS (DR)",36,"36","125 psi   DR-17",17,{"$f":"VLOOKUP(K1700,Tables!$C$42:$G$58,IF(Tables!$C$5=4710,IF(N1700=\"ID\",5,3),IF(N1700=\"ID\",4,2)),FALSE)","v":125},36,"OD",null,2.1179999999999999,0.16200000000000001,{"$f":"VLOOKUP(F1700,Tables!$G$5:$H$14,2,FALSE)*(M1700-(P1700+Q1700*Tables!$C$6))*(P1700+Q1700*Tables!$C$6)*1.36136","v":96.937825473609109},"Controlled OD (DR-17) Iron Pipe Size","ASTM F714"]
[null,null,null,null,{"$f":"ROW()","v":1701}," Typical Scenario (PE)","IPS (DR)",42,"42","125 psi   DR-17",17,{"$f":"VLOOKUP(K1701,Tables!$C$42:$G$58,IF(Tables!$C$5=4710,IF(N1701=\"ID\",5,3),IF(N1701=\"ID\",4,2)),FALSE)","v":125},42,"OD",null,2.4710000000000001,0.189,{"$f":"VLOOKUP(F1701,Tables!$G$5:$H$14,2,FALSE)*(M1701-(P1701+Q1701*Tables!$C$6))*(P1701+Q1701*Tables!$C$6)*1.36136","v":131.94315133907907},"Controlled OD (DR-17) Iron Pipe Size","ASTM F714"]
[null,null,null,null,{"$f":"ROW()","v":1702}," Typical Scenario (PE)","IPS (DR)",48,"48","125 psi   DR-17",17,{"$f":"VLOOKUP(K1702,Tables!$C$42:$G$58,IF(Tables!$C$5=4710,IF(N1702=\"ID\",5,3),IF(N1702=\"ID\",4,2)),FALSE)","v":125},48,"OD",null,2.8239999999999998,0.216,{"$f":"VLOOKUP(F1702,Tables!$G$5:$H$14,2,FALSE)*(M1702-(P1702+Q1702*Tables!$C$6))*(P1702+Q1702*Tables!$C$6)*1.36136","v":172.33391195308286},"Controlled OD (DR-17) Iron Pipe Size","ASTM F714"]
[null,null,null,null,{"$f":"ROW()","v":1703}," Typical Scenario (PE)","IPS (DR)",54,"54","125 psi   DR-17",17,{"$f":"VLOOKUP(K1703,Tables!$C$42:$G$58,IF(Tables!$C$5=4710,IF(N1703=\"ID\",5,3),IF(N1703=\"ID\",4,2)),FALSE)","v":125},54,"OD",null,3.1760000000000002,0.24299999999999999,{"$f":"VLOOKUP(F1703,Tables!$G$5:$H$14,2,FALSE)*(M1703-(P1703+Q1703*Tables!$C$6))*(P1703+Q1703*Tables!$C$6)*1.36136","v":218.04828383037702},"Controlled OD (DR-17) Iron Pipe Size","ASTM F714"]
[null,null,null,null,{"$f":"ROW()","v":1704}," Typical Scenario (PE)","IPS (DR)",60,"60","125 psi   DR-17",17,{"$f":"VLOOKUP(K1704,Tables!$C$42:$G$58,IF(Tables!$C$5=4710,IF(N1704=\"ID\",5,3),IF(N1704=\"ID\",4,2)),FALSE)","v":125},60,"OD",null,3.5289999999999999,0.27,{"$f":"VLOOKUP(F1704,Tables!$G$5:$H$14,2,FALSE)*(M1704-(P1704+Q1704*Tables!$C$6))*(P1704+Q1704*Tables!$C$6)*1.36136","v":269.20304481021947},"Controlled OD (DR-17) Iron Pipe Size","ASTM F714"]
[null,null,null,null,{"$f":"ROW()","v":1705}," Typical Scenario (PE)","IPS (DR)",63,"63","125 psi   DR-17",17,{"$f":"VLOOKUP(K1705,Tables!$C$42:$G$58,IF(Tables!$C$5=4710,IF(N1705=\"ID\",5,3),IF(N1705=\"ID\",4,2)),FALSE)","v":125},63,"OD",null,3.706,0.28399999999999997,{"$f":"VLOOKUP(F1705,Tables!$G$5:$H$14,2,FALSE)*(M1705-(P1705+Q1705*Tables!$C$6))*(P1705+Q1705*Tables!$C$6)*1.36136","v":296.85405896194044},"Controlled OD (DR-17) Iron Pipe Size","ASTM F714"]
[null,null,null,null,{"$f":"ROW()","v":1706}," Typical Scenario (PE)","IPS (DR)",65,"65","125 psi   DR-17",17,{"$f":"VLOOKUP(K1706,Tables!$C$42:$G$58,IF(Tables!$C$5=4710,IF(N1706=\"ID\",5,3),IF(N1706=\"ID\",4,2)),FALSE)","v":125},65,"OD",null,3.8239999999999998,0.29299999999999998,{"$f":"VLOOKUP(F1706,Tables!$G$5:$H$14,2,FALSE)*(M1706-(P1706+Q1706*Tables!$C$6))*(P1706+Q1706*Tables!$C$6)*1.36136","v":316.02650424212862},"Controlled OD (DR-17) Iron Pipe Size","ASTM F714"]
[null,null,null,null,{"$f":"ROW()","v":1707}," Typical Scenario (PE)","IPS (DR)",0.75,"3/4","140 psi   DR-15.5",15.5,{"$f":"VLOOKUP(K1707,Tables!$C$42:$G$58,IF(Tables!$C$5=4710,IF(N1707=\"ID\",5,3),IF(N1707=\"ID\",4,2)),FALSE)","v":140},1.05,"OD",null,6.8000000000000005E-2,0.02,{"$f":"VLOOKUP(F1707,Tables!$G$5:$H$14,2,FALSE)*(M1707-(P1707+Q1707*Tables!$C$6))*(P1707+Q1707*Tables!$C$6)*1.36136","v":9.887792923008E-2},"Controlled OD (DR-15.5) Iron Pipe Size","ASTM F714"]
[null,null,null,null,{"$f":"ROW()","v":1708}," Typical Scenario (PE)","IPS (DR)",1,"1","140 psi   DR-15.5",15.5,{"$f":"VLOOKUP(K1708,Tables!$C$42:$G$58,IF(Tables!$C$5=4710,IF(N1708=\"ID\",5,3),IF(N1708=\"ID\",4,2)),FALSE)","v":140},1.3149999999999999,"OD",null,8.5000000000000006E-2,0.02,{"$f":"VLOOKUP(F1708,Tables!$G$5:$H$14,2,FALSE)*(M1708-(P1708+Q1708*Tables!$C$6))*(P1708+Q1708*Tables!$C$6)*1.36136","v":0.15115479579199997},"Controlled OD (DR-15.5) Iron Pipe Size","ASTM D3035"]
[null,null,null,null,{"$f":"ROW()","v":1709}," Typical Scenario (PE)","IPS (DR)",1.25,"1 1/4","140 psi   DR-15.5",15.5,{"$f":"VLOOKUP(K1709,Tables!$C$42:$G$58,IF(Tables!$C$5=4710,IF(N1709=\"ID\",5,3),IF(N1709=\"ID\",4,2)),FALSE)","v":140},1.66,"OD",null,0.107,0.02,{"$f":"VLOOKUP(F1709,Tables!$G$5:$H$14,2,FALSE)*(M1709-(P1709+Q1709*Tables!$C$6))*(P1709+Q1709*Tables!$C$6)*1.36136","v":0.23544543950927993},"Controlled OD (DR-15.5) Iron Pipe Size","ASTM D3035"]
[null,null,null,null,{"$f":"ROW()","v":1710}," Typical Scenario (PE)","IPS (DR)",1.5,"1 1/2","140 psi   DR-15.5",15.5,{"$f":"VLOOKUP(K1710,Tables!$C$42:$G$58,IF(Tables!$C$5=4710,IF(N1710=\"ID\",5,3),IF(N1710=\"ID\",4,2)),FALSE)","v":140},1.9,"OD",null,0.123,0.02,{"$f":"VLOOKUP(F1710,Tables!$G$5:$H$14,2,FALSE)*(M1710-(P1710+Q1710*Tables!$C$6))*(P1710+Q1710*Tables!$C$6)*1.36136","v":0.30649732281167996},"Controlled OD (DR-15.5) Iron Pipe Size","ASTM D3035"]
[null,null,null,null,{"$f":"ROW()","v":1711}," Typical Scenario (PE)","IPS (DR)",2,"2","140 psi   DR-15.5",15.5,{"$f":"VLOOKUP(K1711,Tables!$C$42:$G$58,IF(Tables!$C$5=4710,IF(N1711=\"ID\",5,3),IF(N1711=\"ID\",4,2)),FALSE)","v":140},2.375,"OD",null,0.153,0.02,{"$f":"VLOOKUP(F1711,Tables!$G$5:$H$14,2,FALSE)*(M1711-(P1711+Q1711*Tables!$C$6))*(P1711+Q1711*Tables!$C$6)*1.36136","v":0.47023096248128005},"Controlled OD (DR-15.5) Iron Pipe Size","ASTM D3035"]
[null,null,null,null,{"$f":"ROW()","v":1712}," Typical Scenario (PE)","IPS (DR)",3,"3","140 psi   DR-15.5",15.5,{"$f":"VLOOKUP(K1712,Tables!$C$42:$G$58,IF(Tables!$C$5=4710,IF(N1712=\"ID\",5,3),IF(N1712=\"ID\",4,2)),FALSE)","v":140},3.5,"OD",null,0.22600000000000001,2.7E-2,{"$f":"VLOOKUP(F1712,Tables!$G$5:$H$14,2,FALSE)*(M1712-(P1712+Q1712*Tables!$C$6))*(P1712+Q1712*Tables!$C$6)*1.36136","v":1.0184230431174799},"Controlled OD (DR-15.5) Iron Pipe Size","ASTM D3035"]
[null,null,null,null,{"$f":"ROW()","v":1713}," Typical Scenario (PE)","IPS (DR)",0.5,"1/2","160 psi   DR-13.5",13.5,{"$f":"VLOOKUP(K1713,Tables!$C$42:$G$58,IF(Tables!$C$5=4710,IF(N1713=\"ID\",5,3),IF(N1713=\"ID\",4,2)),FALSE)","v":160},0.84,"OD",null,6.2E-2,0.02,{"$f":"VLOOKUP(F1713,Tables!$G$5:$H$14,2,FALSE)*(M1713-(P1713+Q1713*Tables!$C$6))*(P1713+Q1713*Tables!$C$6)*1.36136","v":7.2116096532479981E-2},"Controlled OD (DR-13.5) Iron Pipe Size","ASTM D3035"]
[null,null,null,null,{"$f":"ROW()","v":1714}," Typical Scenario (PE)","IPS (DR)",0.75,"3/4","160 psi   DR-13.5",13.5,{"$f":"VLOOKUP(K1714,Tables!$C$42:$G$58,IF(Tables!$C$5=4710,IF(N1714=\"ID\",5,3),IF(N1714=\"ID\",4,2)),FALSE)","v":160},1.05,"OD",null,7.8E-2,0.02,{"$f":"VLOOKUP(F1714,Tables!$G$5:$H$14,2,FALSE)*(M1714-(P1714+Q1714*Tables!$C$6))*(P1714+Q1714*Tables!$C$6)*1.36136","v":0.11040690588928},"Controlled OD (DR-13.5) Iron Pipe Size","ASTM D3035"]
[null,null,null,null,{"$f":"ROW()","v":1715}," Typical Scenario (PE)","IPS (DR)",1,"1","160 psi   DR-13.5",13.5,{"$f":"VLOOKUP(K1715,Tables!$C$42:$G$58,IF(Tables!$C$5=4710,IF(N1715=\"ID\",5,3),IF(N1715=\"ID\",4,2)),FALSE)","v":160},1.3149999999999999,"OD",null,9.7000000000000003E-2,0.02,{"$f":"VLOOKUP(F1715,Tables!$G$5:$H$14,2,FALSE)*(M1715-(P1715+Q1715*Tables!$C$6))*(P1715+Q1715*Tables!$C$6)*1.36136","v":0.16857346233727996},"Controlled OD (DR-13.5) Iron Pipe Size","ASTM D3035"]
[null,null,null,null,{"$f":"ROW()","v":1716}," Typical Scenario (PE)","IPS (DR)",1.25,"1 1/4",{"$f":"L1716&\" psi   DR-\"&K1716","v":"160 psi   DR-13.5"},13.5,{"$f":"VLOOKUP(K1716,Tables!$C$42:$G$58,IF(Tables!$C$5=4710,IF(N1716=\"ID\",5,3),IF(N1716=\"ID\",4,2)),FALSE)","v":160},1.66,"OD",null,0.123,0.02,{"$f":"VLOOKUP(F1716,Tables!$G$5:$H$14,2,FALSE)*(M1716-(P1716+Q1716*Tables!$C$6))*(P1716+Q1716*Tables!$C$6)*1.36136","v":0.26486780528207993},"Controlled OD (DR-13.5) Iron Pipe Size","ASTM D3035"]
[null,null,null,null,{"$f":"ROW()","v":1717}," Typical Scenario (PE)","IPS (DR)",1.5,"1 1/2","160 psi   DR-13.5",13.5,{"$f":"VLOOKUP(K1717,Tables!$C$42:$G$58,IF(Tables!$C$5=4710,IF(N1717=\"ID\",5,3),IF(N1717=\"ID\",4,2)),FALSE)","v":160},1.9,"OD",null,0.14099999999999999,0.02,{"$f":"VLOOKUP(F1717,Tables!$G$5:$H$14,2,FALSE)*(M1717-(P1717+Q1717*Tables!$C$6))*(P1717+Q1717*Tables!$C$6)*1.36136","v":0.34443339442511989},"Controlled OD (DR-13.5) Iron Pipe Size","ASTM D3035"]
[null,null,null,null,{"$f":"ROW()","v":1718}," Typical Scenario (PE)","IPS (DR)",2,"2","160 psi   DR-13.5",13.5,{"$f":"VLOOKUP(K1718,Tables!$C$42:$G$58,IF(Tables!$C$5=4710,IF(N1718=\"ID\",5,3),IF(N1718=\"ID\",4,2)),FALSE)","v":160},2.375,"OD",null,0.17599999999999999,2.1000000000000001E-2,{"$f":"VLOOKUP(F1718,Tables!$G$5:$H$14,2,FALSE)*(M1718-(P1718+Q1718*Tables!$C$6))*(P1718+Q1718*Tables!$C$6)*1.36136","v":0.53230908943211996},"Controlled OD (DR-13.5) Iron Pipe Size","ASTM D3035"]
[null,null,null,null,{"$f":"ROW()","v":1719}," Typical Scenario (PE)","IPS (DR)",3,"3","160 psi   DR-13.5",13.5,{"$f":"VLOOKUP(K1719,Tables!$C$42:$G$58,IF(Tables!$C$5=4710,IF(N1719=\"ID\",5,3),IF(N1719=\"ID\",4,2)),FALSE)","v":160},3.5,"OD",null,0.25900000000000001,3.1E-2,{"$f":"VLOOKUP(F1719,Tables!$G$5:$H$14,2,FALSE)*(M1719-(P1719+Q1719*Tables!$C$6))*(P1719+Q1719*Tables!$C$6)*1.36136","v":1.15472319590628},"Controlled OD (DR-13.5) Iron Pipe Size","ASTM D3035"]
[null,null,null,null,{"$f":"ROW()","v":1720}," Typical Scenario (PE)","IPS (DR)",4,"4","160 psi   DR-13.5",13.5,{"$f":"VLOOKUP(K1720,Tables!$C$42:$G$58,IF(Tables!$C$5=4710,IF(N1720=\"ID\",5,3),IF(N1720=\"ID\",4,2)),FALSE)","v":160},4.5,"OD",null,0.33300000000000002,0.02,{"$f":"VLOOKUP(F1720,Tables!$G$5:$H$14,2,FALSE)*(M1720-(P1720+Q1720*Tables!$C$6))*(P1720+Q1720*Tables!$C$6)*1.36136","v":1.8595704636308796},"Controlled OD (DR-13.5) Iron Pipe Size","ASTM F714"]
[null,null,null,null,{"$f":"ROW()","v":1721}," Typical Scenario (PE)","IPS (DR)",5,"5","160 psi   DR-13.5",13.5,{"$f":"VLOOKUP(K1721,Tables!$C$42:$G$58,IF(Tables!$C$5=4710,IF(N1721=\"ID\",5,3),IF(N1721=\"ID\",4,2)),FALSE)","v":160},5.5629999999999997,"OD",null,0.41199999999999998,2.5000000000000001E-2,{"$f":"VLOOKUP(F1721,Tables!$G$5:$H$14,2,FALSE)*(M1721-(P1721+Q1721*Tables!$C$6))*(P1721+Q1721*Tables!$C$6)*1.36136","v":2.8448053129095592},"Controlled OD (DR-13.5) Iron Pipe Size","ASTM F714"]
[null,null,null,null,{"$f":"ROW()","v":1722}," Typical Scenario (PE)","IPS (DR)",6,"6","160 psi   DR-13.5",13.5,{"$f":"VLOOKUP(K1722,Tables!$C$42:$G$58,IF(Tables!$C$5=4710,IF(N1722=\"ID\",5,3),IF(N1722=\"ID\",4,2)),FALSE)","v":160},6.625,"OD",null,0.49099999999999999,0.03,{"$f":"VLOOKUP(F1722,Tables!$G$5:$H$14,2,FALSE)*(M1722-(P1722+Q1722*Tables!$C$6))*(P1722+Q1722*Tables!$C$6)*1.36136","v":4.0380292916163194},"Controlled OD (DR-13.5) Iron Pipe Size","ASTM F714"]
[null,null,null,null,{"$f":"ROW()","v":1723}," Typical Scenario (PE)","IPS (DR)",7,"7","160 psi   DR-13.5",13.5,{"$f":"VLOOKUP(K1723,Tables!$C$42:$G$58,IF(Tables!$C$5=4710,IF(N1723=\"ID\",5,3),IF(N1723=\"ID\",4,2)),FALSE)","v":160},7.125,"OD",null,0.52800000000000002,3.4000000000000002E-2,{"$f":"VLOOKUP(F1723,Tables!$G$5:$H$14,2,FALSE)*(M1723-(P1723+Q1723*Tables!$C$6))*(P1723+Q1723*Tables!$C$6)*1.36136","v":4.6769302259679995},"Controlled OD (DR-13.5) Iron Pipe Size","ASTM F714"]
[null,null,null,null,{"$f":"ROW()","v":1724}," Typical Scenario (PE)","IPS (DR)",8,"8","160 psi   DR-13.5",13.5,{"$f":"VLOOKUP(K1724,Tables!$C$42:$G$58,IF(Tables!$C$5=4710,IF(N1724=\"ID\",5,3),IF(N1724=\"ID\",4,2)),FALSE)","v":160},8.625,"OD",null,0.63900000000000001,3.9E-2,{"$f":"VLOOKUP(F1724,Tables!$G$5:$H$14,2,FALSE)*(M1724-(P1724+Q1724*Tables!$C$6))*(P1724+Q1724*Tables!$C$6)*1.36136","v":6.8416654635529195},"Controlled OD (DR-13.5) Iron Pipe Size","ASTM F714"]
[null,null,null,null,{"$f":"ROW()","v":1725}," Typical Scenario (PE)","IPS (DR)",10,"10","160 psi   DR-13.5",13.5,{"$f":"VLOOKUP(K1725,Tables!$C$42:$G$58,IF(Tables!$C$5=4710,IF(N1725=\"ID\",5,3),IF(N1725=\"ID\",4,2)),FALSE)","v":160},10.75,"OD",null,0.79600000000000004,4.8000000000000001E-2,{"$f":"VLOOKUP(F1725,Tables!$G$5:$H$14,2,FALSE)*(M1725-(P1725+Q1725*Tables!$C$6))*(P1725+Q1725*Tables!$C$6)*1.36136","v":10.619439518687999},"Controlled OD (DR-13.5) Iron Pipe Size","ASTM F714"]
[null,null,null,null,{"$f":"ROW()","v":1726}," Typical Scenario (PE)","IPS (DR)",12,"12","160 psi   DR-13.5",13.5,{"$f":"VLOOKUP(K1726,Tables!$C$42:$G$58,IF(Tables!$C$5=4710,IF(N1726=\"ID\",5,3),IF(N1726=\"ID\",4,2)),FALSE)","v":160},12.75,"OD",null,0.94399999999999995,5.7000000000000002E-2,{"$f":"VLOOKUP(F1726,Tables!$G$5:$H$14,2,FALSE)*(M1726-(P1726+Q1726*Tables!$C$6))*(P1726+Q1726*Tables!$C$6)*1.36136","v":14.937613487796998},"Controlled OD (DR-13.5) Iron Pipe Size","ASTM F714"]
[null,null,null,null,{"$f":"ROW()","v":1727}," Typical Scenario (PE)","IPS (DR)",14,"14","160 psi   DR-13.5",13.5,{"$f":"VLOOKUP(K1727,Tables!$C$42:$G$58,IF(Tables!$C$5=4710,IF(N1727=\"ID\",5,3),IF(N1727=\"ID\",4,2)),FALSE)","v":160},14,"OD",null,1.0369999999999999,6.3E-2,{"$f":"VLOOKUP(F1727,Tables!$G$5:$H$14,2,FALSE)*(M1727-(P1727+Q1727*Tables!$C$6))*(P1727+Q1727*Tables!$C$6)*1.36136","v":18.020296215241316},"Controlled OD (DR-13.5) Iron Pipe Size","ASTM F714"]
[null,null,null,null,{"$f":"ROW()","v":1728}," Typical Scenario (PE)","IPS (DR)",16,"16","160 psi   DR-13.5",13.5,{"$f":"VLOOKUP(K1728,Tables!$C$42:$G$58,IF(Tables!$C$5=4710,IF(N1728=\"ID\",5,3),IF(N1728=\"ID\",4,2)),FALSE)","v":160},16,"OD",null,1.1850000000000001,7.1999999999999995E-2,{"$f":"VLOOKUP(F1728,Tables!$G$5:$H$14,2,FALSE)*(M1728-(P1728+Q1728*Tables!$C$6))*(P1728+Q1728*Tables!$C$6)*1.36136","v":23.534187434677918},"Controlled OD (DR-13.5) Iron Pipe Size","ASTM F714"]
[null,null,null,null,{"$f":"ROW()","v":1729}," Typical Scenario (PE)","IPS (DR)",18,"18","160 psi   DR-13.5",13.5,{"$f":"VLOOKUP(K1729,Tables!$C$42:$G$58,IF(Tables!$C$5=4710,IF(N1729=\"ID\",5,3),IF(N1729=\"ID\",4,2)),FALSE)","v":160},18,"OD",null,1.333,8.1000000000000003E-2,{"$f":"VLOOKUP(F1729,Tables!$G$5:$H$14,2,FALSE)*(M1729-(P1729+Q1729*Tables!$C$6))*(P1729+Q1729*Tables!$C$6)*1.36136","v":29.782969404708513},"Controlled OD (DR-13.5) Iron Pipe Size","ASTM F714"]
[null,null,null,null,{"$f":"ROW()","v":1730}," Typical Scenario (PE)","IPS (DR)",20,"20","160 psi   DR-13.5",13.5,{"$f":"VLOOKUP(K1730,Tables!$C$42:$G$58,IF(Tables!$C$5=4710,IF(N1730=\"ID\",5,3),IF(N1730=\"ID\",4,2)),FALSE)","v":160},20,"OD",null,1.4810000000000001,0.09,{"$f":"VLOOKUP(F1730,Tables!$G$5:$H$14,2,FALSE)*(M1730-(P1730+Q1730*Tables!$C$6))*(P1730+Q1730*Tables!$C$6)*1.36136","v":36.766642125333114},"Controlled OD (DR-13.5) Iron Pipe Size","ASTM F714"]
[null,null,null,null,{"$f":"ROW()","v":1731}," Typical Scenario (PE)","IPS (DR)",22,"22","160 psi   DR-13.5",13.5,{"$f":"VLOOKUP(K1731,Tables!$C$42:$G$58,IF(Tables!$C$5=4710,IF(N1731=\"ID\",5,3),IF(N1731=\"ID\",4,2)),FALSE)","v":160},22,"OD",null,1.63,9.9000000000000005E-2,{"$f":"VLOOKUP(F1731,Tables!$G$5:$H$14,2,FALSE)*(M1731-(P1731+Q1731*Tables!$C$6))*(P1731+Q1731*Tables!$C$6)*1.36136","v":44.509518173800672},"Controlled OD (DR-13.5) Iron Pipe Size","ASTM F714"]
[null,null,null,null,{"$f":"ROW()","v":1732}," Typical Scenario (PE)","IPS (DR)",24,"24","160 psi   DR-13.5",13.5,{"$f":"VLOOKUP(K1732,Tables!$C$42:$G$58,IF(Tables!$C$5=4710,IF(N1732=\"ID\",5,3),IF(N1732=\"ID\",4,2)),FALSE)","v":160},24,"OD",null,1.778,0.108,{"$f":"VLOOKUP(F1732,Tables!$G$5:$H$14,2,FALSE)*(M1732-(P1732+Q1732*Tables!$C$6))*(P1732+Q1732*Tables!$C$6)*1.36136","v":52.965182985594872},"Controlled OD (DR-13.5) Iron Pipe Size","ASTM F714"]
[null,null,null,null,{"$f":"ROW()","v":1733}," Typical Scenario (PE)","IPS (DR)",26,"26","160 psi   DR-13.5",13.5,{"$f":"VLOOKUP(K1733,Tables!$C$42:$G$58,IF(Tables!$C$5=4710,IF(N1733=\"ID\",5,3),IF(N1733=\"ID\",4,2)),FALSE)","v":160},26,"OD",null,1.9259999999999999,0.11700000000000001,{"$f":"VLOOKUP(F1733,Tables!$G$5:$H$14,2,FALSE)*(M1733-(P1733+Q1733*Tables!$C$6))*(P1733+Q1733*Tables!$C$6)*1.36136","v":62.15573854798307},"Controlled OD (DR-13.5) Iron Pipe Size","ASTM F714"]
[null,null,null,null,{"$f":"ROW()","v":1734}," Typical Scenario (PE)","IPS (DR)",28,"28","160 psi   DR-13.5",13.5,{"$f":"VLOOKUP(K1734,Tables!$C$42:$G$58,IF(Tables!$C$5=4710,IF(N1734=\"ID\",5,3),IF(N1734=\"ID\",4,2)),FALSE)","v":160},28,"OD",null,2.0739999999999998,0.126,{"$f":"VLOOKUP(F1734,Tables!$G$5:$H$14,2,FALSE)*(M1734-(P1734+Q1734*Tables!$C$6))*(P1734+Q1734*Tables!$C$6)*1.36136","v":72.081184860965266},"Controlled OD (DR-13.5) Iron Pipe Size","ASTM F714"]
[null,null,null,null,{"$f":"ROW()","v":1735}," Typical Scenario (PE)","IPS (DR)",30,"30","160 psi   DR-13.5",13.5,{"$f":"VLOOKUP(K1735,Tables!$C$42:$G$58,IF(Tables!$C$5=4710,IF(N1735=\"ID\",5,3),IF(N1735=\"ID\",4,2)),FALSE)","v":160},30,"OD",null,2.222,0.13500000000000001,{"$f":"VLOOKUP(F1735,Tables!$G$5:$H$14,2,FALSE)*(M1735-(P1735+Q1735*Tables!$C$6))*(P1735+Q1735*Tables!$C$6)*1.36136","v":82.741521924541459},"Controlled OD (DR-13.5) Iron Pipe Size","ASTM F714"]
[null,null,null,null,{"$f":"ROW()","v":1736}," Typical Scenario (PE)","IPS (DR)",32,"32","160 psi   DR-13.5",13.5,{"$f":"VLOOKUP(K1736,Tables!$C$42:$G$58,IF(Tables!$C$5=4710,IF(N1736=\"ID\",5,3),IF(N1736=\"ID\",4,2)),FALSE)","v":160},32,"OD",null,2.37,0.14399999999999999,{"$f":"VLOOKUP(F1736,Tables!$G$5:$H$14,2,FALSE)*(M1736-(P1736+Q1736*Tables!$C$6))*(P1736+Q1736*Tables!$C$6)*1.36136","v":94.136749738711671},"Controlled OD (DR-13.5) Iron Pipe Size","ASTM F714"]
[null,null,null,null,{"$f":"ROW()","v":1737}," Typical Scenario (PE)","IPS (DR)",34,"34","160 psi   DR-13.5",13.5,{"$f":"VLOOKUP(K1737,Tables!$C$42:$G$58,IF(Tables!$C$5=4710,IF(N1737=\"ID\",5,3),IF(N1737=\"ID\",4,2)),FALSE)","v":160},34,"OD",null,2.5190000000000001,0.153,{"$f":"VLOOKUP(F1737,Tables!$G$5:$H$14,2,FALSE)*(M1737-(P1737+Q1737*Tables!$C$6))*(P1737+Q1737*Tables!$C$6)*1.36136","v":106.30444181224867},"Controlled OD (DR-13.5) Iron Pipe Size","ASTM F714"]
[null,null,null,null,{"$f":"ROW()","v":1738}," Typical Scenario (PE)","IPS (DR)",36,"36","160 psi   DR-13.5",13.5,{"$f":"VLOOKUP(K1738,Tables!$C$42:$G$58,IF(Tables!$C$5=4710,IF(N1738=\"ID\",5,3),IF(N1738=\"ID\",4,2)),FALSE)","v":160},36,"OD",null,2.6669999999999998,0.16200000000000001,{"$f":"VLOOKUP(F1738,Tables!$G$5:$H$14,2,FALSE)*(M1738-(P1738+Q1738*Tables!$C$6))*(P1738+Q1738*Tables!$C$6)*1.36136","v":119.17166171758846},"Controlled OD (DR-13.5) Iron Pipe Size","ASTM F714"]
[null,null,null,null,{"$f":"ROW()","v":1739}," Typical Scenario (PE)","IPS (DR)",42,"42","160 psi   DR-13.5",13.5,{"$f":"VLOOKUP(K1739,Tables!$C$42:$G$58,IF(Tables!$C$5=4710,IF(N1739=\"ID\",5,3),IF(N1739=\"ID\",4,2)),FALSE)","v":160},42,"OD",null,3.1110000000000002,0.189,{"$f":"VLOOKUP(F1739,Tables!$G$5:$H$14,2,FALSE)*(M1739-(P1739+Q1739*Tables!$C$6))*(P1739+Q1739*Tables!$C$6)*1.36136","v":162.18266593717186},"Controlled OD (DR-13.5) Iron Pipe Size","ASTM F714"]
[null,null,null,null,{"$f":"ROW()","v":1740}," Typical Scenario (PE)","IPS (DR)",48,"48","160 psi   DR-13.5",13.5,{"$f":"VLOOKUP(K1740,Tables!$C$42:$G$58,IF(Tables!$C$5=4710,IF(N1740=\"ID\",5,3),IF(N1740=\"ID\",4,2)),FALSE)","v":160},48,"OD",null,3.556,0.216,{"$f":"VLOOKUP(F1740,Tables!$G$5:$H$14,2,FALSE)*(M1740-(P1740+Q1740*Tables!$C$6))*(P1740+Q1740*Tables!$C$6)*1.36136","v":211.86073194237949},"Controlled OD (DR-13.5) Iron Pipe Size","ASTM F714"]
[null,null,null,null,{"$f":"ROW()","v":1741}," Typical Scenario (PE)","IPS (DR)",0.5,"1/2","200 psi   DR-11",11,{"$f":"VLOOKUP(K1741,Tables!$C$42:$G$58,IF(Tables!$C$5=4710,IF(N1741=\"ID\",5,3),IF(N1741=\"ID\",4,2)),FALSE)","v":200},0.84,"OD",null,7.5999999999999998E-2,0.02,{"$f":"VLOOKUP(F1741,Tables!$G$5:$H$14,2,FALSE)*(M1741-(P1741+Q1741*Tables!$C$6))*(P1741+Q1741*Tables!$C$6)*1.36136","v":8.4568434670719991E-2},"Controlled OD (DR-11) Iron Pipe Size","ASTM D3035"]
[null,null,null,null,{"$f":"ROW()","v":1742}," Typical Scenario (PE)","IPS (DR)",0.75,"3/4","200 psi   DR-11",11,{"$f":"VLOOKUP(K1742,Tables!$C$42:$G$58,IF(Tables!$C$5=4710,IF(N1742=\"ID\",5,3),IF(N1742=\"ID\",4,2)),FALSE)","v":200},1.05,"OD",null,9.5000000000000001E-2,0.02,{"$f":"VLOOKUP(F1742,Tables!$G$5:$H$14,2,FALSE)*(M1742-(P1742+Q1742*Tables!$C$6))*(P1742+Q1742*Tables!$C$6)*1.36136","v":0.129407546268},"Controlled OD (DR-11) Iron Pipe Size","ASTM D3035"]
[null,null,null,null,{"$f":"ROW()","v":1743}," Typical Scenario (PE)","IPS (DR)",1,"1","200 psi   DR-11",11,{"$f":"VLOOKUP(K1743,Tables!$C$42:$G$58,IF(Tables!$C$5=4710,IF(N1743=\"ID\",5,3),IF(N1743=\"ID\",4,2)),FALSE)","v":200},1.3149999999999999,"OD",null,0.12,0.02,{"$f":"VLOOKUP(F1743,Tables!$G$5:$H$14,2,FALSE)*(M1743-(P1743+Q1743*Tables!$C$6))*(P1743+Q1743*Tables!$C$6)*1.36136","v":0.200909372664},"Controlled OD (DR-11) Iron Pipe Size","ASTM D3035"]
[1,null,null,null,{"$f":"ROW()","v":1744}," Typical Scenario (PE)","IPS (DR)",1.25,"1 1/4","200 psi   DR-11",11,{"$f":"VLOOKUP(K1744,Tables!$C$42:$G$58,IF(Tables!$C$5=4710,IF(N1744=\"ID\",5,3),IF(N1744=\"ID\",4,2)),FALSE)","v":200},1.66,"OD",null,0.151,0.02,{"$f":"VLOOKUP(F1744,Tables!$G$5:$H$14,2,FALSE)*(M1744-(P1744+Q1744*Tables!$C$6))*(P1744+Q1744*Tables!$C$6)*1.36136","v":0.31475019207631993},"Controlled OD (DR-11) Iron Pipe Size","ASTM D3035"]
[null,null,null,null,{"$f":"ROW()","v":1745}," Typical Scenario (PE)","IPS (DR)",1.5,"1 1/2","200 psi   DR-11",11,{"$f":"VLOOKUP(K1745,Tables!$C$42:$G$58,IF(Tables!$C$5=4710,IF(N1745=\"ID\",5,3),IF(N1745=\"ID\",4,2)),FALSE)","v":200},1.9,"OD",null,0.17299999999999999,2.1000000000000001E-2,{"$f":"VLOOKUP(F1745,Tables!$G$5:$H$14,2,FALSE)*(M1745-(P1745+Q1745*Tables!$C$6))*(P1745+Q1745*Tables!$C$6)*1.36136","v":0.41078858913091992},"Controlled OD (DR-11) Iron Pipe Size","ASTM D3035"]
[null,null,null,null,{"$f":"ROW()","v":1746}," Typical Scenario (PE)","IPS (DR)",2,"2","200 psi   DR-11",11,{"$f":"VLOOKUP(K1746,Tables!$C$42:$G$58,IF(Tables!$C$5=4710,IF(N1746=\"ID\",5,3),IF(N1746=\"ID\",4,2)),FALSE)","v":200},2.375,"OD",null,0.216,2.5999999999999999E-2,{"$f":"VLOOKUP(F1746,Tables!$G$5:$H$14,2,FALSE)*(M1746-(P1746+Q1746*Tables!$C$6))*(P1746+Q1746*Tables!$C$6)*1.36136","v":0.64091980944992},"Controlled OD (DR-11) Iron Pipe Size","ASTM D3035"]
[null,null,null,null,{"$f":"ROW()","v":1747}," Typical Scenario (PE)","IPS (DR)",3,"3","200 psi   DR-11",11,{"$f":"VLOOKUP(K1747,Tables!$C$42:$G$58,IF(Tables!$C$5=4710,IF(N1747=\"ID\",5,3),IF(N1747=\"ID\",4,2)),FALSE)","v":200},3.5,"OD",null,0.318,3.7999999999999999E-2,{"$f":"VLOOKUP(F1747,Tables!$G$5:$H$14,2,FALSE)*(M1747-(P1747+Q1747*Tables!$C$6))*(P1747+Q1747*Tables!$C$6)*1.36136","v":1.3901689614612798},"Controlled OD (DR-11) Iron Pipe Size","ASTM D3035"]
[null,null,null,null,{"$f":"ROW()","v":1748}," Typical Scenario (PE)","IPS (DR)",4,"4","200 psi   DR-11",11,{"$f":"VLOOKUP(K1748,Tables!$C$42:$G$58,IF(Tables!$C$5=4710,IF(N1748=\"ID\",5,3),IF(N1748=\"ID\",4,2)),FALSE)","v":200},4.5,"OD",null,0.40899999999999997,0.02,{"$f":"VLOOKUP(F1748,Tables!$G$5:$H$14,2,FALSE)*(M1748-(P1748+Q1748*Tables!$C$6))*(P1748+Q1748*Tables!$C$6)*1.36136","v":2.2300731696443199},"Controlled OD (DR-11) Iron Pipe Size","ASTM F714"]
[null,null,null,null,{"$f":"ROW()","v":1749}," Typical Scenario (PE)","IPS (DR)",5,"5","200 psi   DR-11",11,{"$f":"VLOOKUP(K1749,Tables!$C$42:$G$58,IF(Tables!$C$5=4710,IF(N1749=\"ID\",5,3),IF(N1749=\"ID\",4,2)),FALSE)","v":200},5.5629999999999997,"OD",null,0.50600000000000001,2.5000000000000001E-2,{"$f":"VLOOKUP(F1749,Tables!$G$5:$H$14,2,FALSE)*(M1749-(P1749+Q1749*Tables!$C$6))*(P1749+Q1749*Tables!$C$6)*1.36136","v":3.411185854035959},"Controlled OD (DR-11) Iron Pipe Size","ASTM F714"]
[null,null,null,null,{"$f":"ROW()","v":1750}," Typical Scenario (PE)","IPS (DR)",6,"6","200 psi   DR-11",11,{"$f":"VLOOKUP(K1750,Tables!$C$42:$G$58,IF(Tables!$C$5=4710,IF(N1750=\"ID\",5,3),IF(N1750=\"ID\",4,2)),FALSE)","v":200},6.625,"OD",null,0.60199999999999998,0.03,{"$f":"VLOOKUP(F1750,Tables!$G$5:$H$14,2,FALSE)*(M1750-(P1750+Q1750*Tables!$C$6))*(P1750+Q1750*Tables!$C$6)*1.36136","v":4.8345224684556793},"Controlled OD (DR-11) Iron Pipe Size","ASTM F714"]
[null,null,null,null,{"$f":"ROW()","v":1751}," Typical Scenario (PE)","IPS (DR)",7,"7","200 psi   DR-11",11,{"$f":"VLOOKUP(K1751,Tables!$C$42:$G$58,IF(Tables!$C$5=4710,IF(N1751=\"ID\",5,3),IF(N1751=\"ID\",4,2)),FALSE)","v":200},7.125,"OD",null,0.64800000000000002,3.4000000000000002E-2,{"$f":"VLOOKUP(F1751,Tables!$G$5:$H$14,2,FALSE)*(M1751-(P1751+Q1751*Tables!$C$6))*(P1751+Q1751*Tables!$C$6)*1.36136","v":5.6026392341919999},"Controlled OD (DR-11) Iron Pipe Size","ASTM F714"]
[null,null,null,null,{"$f":"ROW()","v":1752}," Typical Scenario (PE)","IPS (DR)",8,"8","200 psi   DR-11",11,{"$f":"VLOOKUP(K1752,Tables!$C$42:$G$58,IF(Tables!$C$5=4710,IF(N1752=\"ID\",5,3),IF(N1752=\"ID\",4,2)),FALSE)","v":200},8.625,"OD",null,0.78400000000000003,3.9E-2,{"$f":"VLOOKUP(F1752,Tables!$G$5:$H$14,2,FALSE)*(M1752-(P1752+Q1752*Tables!$C$6))*(P1752+Q1752*Tables!$C$6)*1.36136","v":8.1962354491217191},"Controlled OD (DR-11) Iron Pipe Size","ASTM F714"]
[null,null,null,null,{"$f":"ROW()","v":1753}," Typical Scenario (PE)","IPS (DR)",10,"10","200 psi   DR-11",11,{"$f":"VLOOKUP(K1753,Tables!$C$42:$G$58,IF(Tables!$C$5=4710,IF(N1753=\"ID\",5,3),IF(N1753=\"ID\",4,2)),FALSE)","v":200},10.75,"OD",null,0.97699999999999998,4.8000000000000001E-2,{"$f":"VLOOKUP(F1753,Tables!$G$5:$H$14,2,FALSE)*(M1753-(P1753+Q1753*Tables!$C$6))*(P1753+Q1753*Tables!$C$6)*1.36136","v":12.727193376017118},"Controlled OD (DR-11) Iron Pipe Size","ASTM F714"]
[null,null,null,null,{"$f":"ROW()","v":1754}," Typical Scenario (PE)","IPS (DR)",12,"12","200 psi   DR-11",11,{"$f":"VLOOKUP(K1754,Tables!$C$42:$G$58,IF(Tables!$C$5=4710,IF(N1754=\"ID\",5,3),IF(N1754=\"ID\",4,2)),FALSE)","v":200},12.75,"OD",null,1.159,5.7000000000000002E-2,{"$f":"VLOOKUP(F1754,Tables!$G$5:$H$14,2,FALSE)*(M1754-(P1754+Q1754*Tables!$C$6))*(P1754+Q1754*Tables!$C$6)*1.36136","v":17.907042278124997},"Controlled OD (DR-11) Iron Pipe Size","ASTM F714"]
[null,null,null,null,{"$f":"ROW()","v":1755}," Typical Scenario (PE)","IPS (DR)",14,"14","200 psi   DR-11",11,{"$f":"VLOOKUP(K1755,Tables!$C$42:$G$58,IF(Tables!$C$5=4710,IF(N1755=\"ID\",5,3),IF(N1755=\"ID\",4,2)),FALSE)","v":200},14,"OD",null,1.2729999999999999,6.3E-2,{"$f":"VLOOKUP(F1755,Tables!$G$5:$H$14,2,FALSE)*(M1755-(P1755+Q1755*Tables!$C$6))*(P1755+Q1755*Tables!$C$6)*1.36136","v":21.598937520840678},"Controlled OD (DR-11) Iron Pipe Size","ASTM F714"]
[null,null,null,null,{"$f":"ROW()","v":1756}," Typical Scenario (PE)","IPS (DR)",16,"16","200 psi   DR-11",11,{"$f":"VLOOKUP(K1756,Tables!$C$42:$G$58,IF(Tables!$C$5=4710,IF(N1756=\"ID\",5,3),IF(N1756=\"ID\",4,2)),FALSE)","v":200},16,"OD",null,1.4550000000000001,7.1999999999999995E-2,{"$f":"VLOOKUP(F1756,Tables!$G$5:$H$14,2,FALSE)*(M1756-(P1756+Q1756*Tables!$C$6))*(P1756+Q1756*Tables!$C$6)*1.36136","v":28.213282604226716},"Controlled OD (DR-11) Iron Pipe Size","ASTM F714"]
[null,null,null,null,{"$f":"ROW()","v":1757}," Typical Scenario (PE)","IPS (DR)",18,"18","200 psi   DR-11",11,{"$f":"VLOOKUP(K1757,Tables!$C$42:$G$58,IF(Tables!$C$5=4710,IF(N1757=\"ID\",5,3),IF(N1757=\"ID\",4,2)),FALSE)","v":200},18,"OD",null,1.6359999999999999,8.1000000000000003E-2,{"$f":"VLOOKUP(F1757,Tables!$G$5:$H$14,2,FALSE)*(M1757-(P1757+Q1757*Tables!$C$6))*(P1757+Q1757*Tables!$C$6)*1.36136","v":35.690722223676516},"Controlled OD (DR-11) Iron Pipe Size","ASTM F714"]
[null,null,null,null,{"$f":"ROW()","v":1758}," Typical Scenario (PE)","IPS (DR)",20,"20","200 psi   DR-11",11,{"$f":"VLOOKUP(K1758,Tables!$C$42:$G$58,IF(Tables!$C$5=4710,IF(N1758=\"ID\",5,3),IF(N1758=\"ID\",4,2)),FALSE)","v":200},20,"OD",null,1.8180000000000001,0.09,{"$f":"VLOOKUP(F1758,Tables!$G$5:$H$14,2,FALSE)*(M1758-(P1758+Q1758*Tables!$C$6))*(P1758+Q1758*Tables!$C$6)*1.36136","v":44.067336598565284},"Controlled OD (DR-11) Iron Pipe Size","ASTM F714"]
[null,null,null,null,{"$f":"ROW()","v":1759}," Typical Scenario (PE)","IPS (DR)",22,"22","200 psi   DR-11",11,{"$f":"VLOOKUP(K1759,Tables!$C$42:$G$58,IF(Tables!$C$5=4710,IF(N1759=\"ID\",5,3),IF(N1759=\"ID\",4,2)),FALSE)","v":200},22,"OD",null,2,9.9000000000000005E-2,{"$f":"VLOOKUP(F1759,Tables!$G$5:$H$14,2,FALSE)*(M1759-(P1759+Q1759*Tables!$C$6))*(P1759+Q1759*Tables!$C$6)*1.36136","v":53.326146571978271},{"$f":"\"Controlled OD (DR-\"&K1759&\") Iron Pipe Size\"","v":"Controlled OD (DR-11) Iron Pipe Size"},"ASTM F714"]
[null,null,null,null,{"$f":"ROW()","v":1760}," Typical Scenario (PE)","IPS (DR)",24,"24","200 psi   DR-11",11,{"$f":"VLOOKUP(K1760,Tables!$C$42:$G$58,IF(Tables!$C$5=4710,IF(N1760=\"ID\",5,3),IF(N1760=\"ID\",4,2)),FALSE)","v":200},24,"OD",null,2.1819999999999999,0.108,{"$f":"VLOOKUP(F1760,Tables!$G$5:$H$14,2,FALSE)*(M1760-(P1760+Q1760*Tables!$C$6))*(P1760+Q1760*Tables!$C$6)*1.36136","v":63.467152143915506},"Controlled OD (DR-11) Iron Pipe Size","ASTM F714"]
[null,null,null,null,{"$f":"ROW()","v":1761}," Typical Scenario (PE)","IPS (DR)",26,"26","200 psi   DR-11",11,{"$f":"VLOOKUP(K1761,Tables!$C$42:$G$58,IF(Tables!$C$5=4710,IF(N1761=\"ID\",5,3),IF(N1761=\"ID\",4,2)),FALSE)","v":200},26,"OD",null,2.3639999999999999,0.11700000000000001,{"$f":"VLOOKUP(F1761,Tables!$G$5:$H$14,2,FALSE)*(M1761-(P1761+Q1761*Tables!$C$6))*(P1761+Q1761*Tables!$C$6)*1.36136","v":74.490353314376989},"Controlled OD (DR-11) Iron Pipe Size","ASTM F714"]
[null,null,null,null,{"$f":"ROW()","v":1762}," Typical Scenario (PE)","IPS (DR)",28,"28","200 psi   DR-11",11,{"$f":"VLOOKUP(K1762,Tables!$C$42:$G$58,IF(Tables!$C$5=4710,IF(N1762=\"ID\",5,3),IF(N1762=\"ID\",4,2)),FALSE)","v":200},28,"OD",null,2.5449999999999999,0.126,{"$f":"VLOOKUP(F1762,Tables!$G$5:$H$14,2,FALSE)*(M1762-(P1762+Q1762*Tables!$C$6))*(P1762+Q1762*Tables!$C$6)*1.36136","v":86.36603688480767},"Controlled OD (DR-11) Iron Pipe Size","ASTM F714"]
[null,null,null,null,{"$f":"ROW()","v":1763}," Typical Scenario (PE)","IPS (DR)",30,"30","200 psi   DR-11",11,{"$f":"VLOOKUP(K1763,Tables!$C$42:$G$58,IF(Tables!$C$5=4710,IF(N1763=\"ID\",5,3),IF(N1763=\"ID\",4,2)),FALSE)","v":200},30,"OD",null,2.7269999999999999,0.13500000000000001,{"$f":"VLOOKUP(F1763,Tables!$G$5:$H$14,2,FALSE)*(M1763-(P1763+Q1763*Tables!$C$6))*(P1763+Q1763*Tables!$C$6)*1.36136","v":99.151507346771865},"Controlled OD (DR-11) Iron Pipe Size","ASTM F714"]
[null,null,null,null,{"$f":"ROW()","v":1764}," Typical Scenario (PE)","IPS (DR)",32,"32","200 psi   DR-11",11,{"$f":"VLOOKUP(K1764,Tables!$C$42:$G$58,IF(Tables!$C$5=4710,IF(N1764=\"ID\",5,3),IF(N1764=\"ID\",4,2)),FALSE)","v":200},32,"OD",null,2.9089999999999998,0.14399999999999999,{"$f":"VLOOKUP(F1764,Tables!$G$5:$H$14,2,FALSE)*(M1764-(P1764+Q1764*Tables!$C$6))*(P1764+Q1764*Tables!$C$6)*1.36136","v":112.81917340726029},"Controlled OD (DR-11) Iron Pipe Size","ASTM F714"]
[null,null,null,null,{"$f":"ROW()","v":1765}," Typical Scenario (PE)","IPS (DR)",34,"34","200 psi   DR-11",11,{"$f":"VLOOKUP(K1765,Tables!$C$42:$G$58,IF(Tables!$C$5=4710,IF(N1765=\"ID\",5,3),IF(N1765=\"ID\",4,2)),FALSE)","v":200},34,"OD",null,3.0910000000000002,0.153,{"$f":"VLOOKUP(F1765,Tables!$G$5:$H$14,2,FALSE)*(M1765-(P1765+Q1765*Tables!$C$6))*(P1765+Q1765*Tables!$C$6)*1.36136","v":127.36903506627297},"Controlled OD (DR-11) Iron Pipe Size","ASTM F714"]
[null,null,null,null,{"$f":"ROW()","v":1766}," Typical Scenario (PE)","IPS (DR)",36,"36","200 psi   DR-11",11,{"$f":"VLOOKUP(K1766,Tables!$C$42:$G$58,IF(Tables!$C$5=4710,IF(N1766=\"ID\",5,3),IF(N1766=\"ID\",4,2)),FALSE)","v":200},36,"OD",null,3.2730000000000001,0.16200000000000001,{"$f":"VLOOKUP(F1766,Tables!$G$5:$H$14,2,FALSE)*(M1766-(P1766+Q1766*Tables!$C$6))*(P1766+Q1766*Tables!$C$6)*1.36136","v":142.80109232380991},"Controlled OD (DR-11) Iron Pipe Size","ASTM F714"]
[null,null,null,null,{"$f":"ROW()","v":1767}," Typical Scenario (PE)","IPS (DR)",42,"42","200 psi   DR-11",11,{"$f":"VLOOKUP(K1767,Tables!$C$42:$G$58,IF(Tables!$C$5=4710,IF(N1767=\"ID\",5,3),IF(N1767=\"ID\",4,2)),FALSE)","v":200},42,"OD",null,3.8180000000000001,0.189,{"$f":"VLOOKUP(F1767,Tables!$G$5:$H$14,2,FALSE)*(M1767-(P1767+Q1767*Tables!$C$6))*(P1767+Q1767*Tables!$C$6)*1.36136","v":194.34586854182496},"Controlled OD (DR-11) Iron Pipe Size","ASTM F714"]
[null,null,null,null,{"$f":"ROW()","v":1768}," Typical Scenario (PE)","IPS (DR)",0.5,"1/2","250 psi   DR-9",9,{"$f":"VLOOKUP(K1768,Tables!$C$42:$G$58,IF(Tables!$C$5=4710,IF(N1768=\"ID\",5,3),IF(N1768=\"ID\",4,2)),FALSE)","v":250},0.84,"OD",null,9.2999999999999999E-2,0.02,{"$f":"VLOOKUP(F1768,Tables!$G$5:$H$14,2,FALSE)*(M1768-(P1768+Q1768*Tables!$C$6))*(P1768+Q1768*Tables!$C$6)*1.36136","v":9.9001826603679982E-2},"Controlled OD (DR-9) Iron Pipe Size","ASTM D3035"]
[null,null,null,null,{"$f":"ROW()","v":1769}," Typical Scenario (PE)","IPS (DR)",0.75,"3/4","250 psi   DR-9",9,{"$f":"VLOOKUP(K1769,Tables!$C$42:$G$58,IF(Tables!$C$5=4710,IF(N1769=\"ID\",5,3),IF(N1769=\"ID\",4,2)),FALSE)","v":250},1.05,"OD",null,0.11700000000000001,0.02,{"$f":"VLOOKUP(F1769,Tables!$G$5:$H$14,2,FALSE)*(M1769-(P1769+Q1769*Tables!$C$6))*(P1769+Q1769*Tables!$C$6)*1.36136","v":0.15287762137647998},"Controlled OD (DR-9) Iron Pipe Size","ASTM D3035"]
[null,null,null,null,{"$f":"ROW()","v":1770}," Typical Scenario (PE)","IPS (DR)",1,"1","250 psi   DR-9",9,{"$f":"VLOOKUP(K1770,Tables!$C$42:$G$58,IF(Tables!$C$5=4710,IF(N1770=\"ID\",5,3),IF(N1770=\"ID\",4,2)),FALSE)","v":250},1.3149999999999999,"OD",null,0.14599999999999999,0.02,{"$f":"VLOOKUP(F1770,Tables!$G$5:$H$14,2,FALSE)*(M1770-(P1770+Q1770*Tables!$C$6))*(P1770+Q1770*Tables!$C$6)*1.36136","v":0.23580148143551996},"Controlled OD (DR-9) Iron Pipe Size","ASTM D3035"]
[null,null,null,null,{"$f":"ROW()","v":1771}," Typical Scenario (PE)","IPS (DR)",1.25,"1 1/4","250 psi   DR-9",9,{"$f":"VLOOKUP(K1771,Tables!$C$42:$G$58,IF(Tables!$C$5=4710,IF(N1771=\"ID\",5,3),IF(N1771=\"ID\",4,2)),FALSE)","v":250},1.66,"OD",null,0.184,2.1999999999999999E-2,{"$f":"VLOOKUP(F1771,Tables!$G$5:$H$14,2,FALSE)*(M1771-(P1771+Q1771*Tables!$C$6))*(P1771+Q1771*Tables!$C$6)*1.36136","v":0.37257244424399993},"Controlled OD (DR-9) Iron Pipe Size","ASTM D3035"]
[null,null,null,null,{"$f":"ROW()","v":1772}," Typical Scenario (PE)","IPS (DR)",1.5,"1 1/2","250 psi   DR-9",9,{"$f":"VLOOKUP(K1772,Tables!$C$42:$G$58,IF(Tables!$C$5=4710,IF(N1772=\"ID\",5,3),IF(N1772=\"ID\",4,2)),FALSE)","v":250},1.9,"OD",null,0.21099999999999999,2.5000000000000001E-2,{"$f":"VLOOKUP(F1772,Tables!$G$5:$H$14,2,FALSE)*(M1772-(P1772+Q1772*Tables!$C$6))*(P1772+Q1772*Tables!$C$6)*1.36136","v":0.48867439072451996},"Controlled OD (DR-9) Iron Pipe Size","ASTM D3035"]
[null,null,null,null,{"$f":"ROW()","v":1773}," Typical Scenario (PE)","IPS (DR)",2,"2","250 psi   DR-9",9,{"$f":"VLOOKUP(K1773,Tables!$C$42:$G$58,IF(Tables!$C$5=4710,IF(N1773=\"ID\",5,3),IF(N1773=\"ID\",4,2)),FALSE)","v":250},2.375,"OD",null,0.26400000000000001,3.2000000000000001E-2,{"$f":"VLOOKUP(F1773,Tables!$G$5:$H$14,2,FALSE)*(M1773-(P1773+Q1773*Tables!$C$6))*(P1773+Q1773*Tables!$C$6)*1.36136","v":0.76503367740799988},"Controlled OD (DR-9) Iron Pipe Size","ASTM D3035"]
[null,null,null,null,{"$f":"ROW()","v":1774}," Typical Scenario (PE)","IPS (DR)",3,"3","250 psi   DR-9",9,{"$f":"VLOOKUP(K1774,Tables!$C$42:$G$58,IF(Tables!$C$5=4710,IF(N1774=\"ID\",5,3),IF(N1774=\"ID\",4,2)),FALSE)","v":250},3.5,"OD",null,0.38900000000000001,4.7E-2,{"$f":"VLOOKUP(F1774,Tables!$G$5:$H$14,2,FALSE)*(M1774-(P1774+Q1774*Tables!$C$6))*(P1774+Q1774*Tables!$C$6)*1.36136","v":1.6609991648249998},"Controlled OD (DR-9) Iron Pipe Size","ASTM D3035"]
[null,null,null,null,{"$f":"ROW()","v":1775}," Typical Scenario (PE)","IPS (DR)",4,"4","250 psi   DR-9",9,{"$f":"VLOOKUP(K1775,Tables!$C$42:$G$58,IF(Tables!$C$5=4710,IF(N1775=\"ID\",5,3),IF(N1775=\"ID\",4,2)),FALSE)","v":250},4.5,"OD",null,0.5,0.02,{"$f":"VLOOKUP(F1775,Tables!$G$5:$H$14,2,FALSE)*(M1775-(P1775+Q1775*Tables!$C$6))*(P1775+Q1775*Tables!$C$6)*1.36136","v":2.653881742512},"Controlled OD (DR-9) Iron Pipe Size","ASTM F714"]
[null,null,null,null,{"$f":"ROW()","v":1776}," Typical Scenario (PE)","IPS (DR)",5,"5","250 psi   DR-9",9,{"$f":"VLOOKUP(K1776,Tables!$C$42:$G$58,IF(Tables!$C$5=4710,IF(N1776=\"ID\",5,3),IF(N1776=\"ID\",4,2)),FALSE)","v":250},5.5629999999999997,"OD",null,0.61799999999999999,2.5000000000000001E-2,{"$f":"VLOOKUP(F1776,Tables!$G$5:$H$14,2,FALSE)*(M1776-(P1776+Q1776*Tables!$C$6))*(P1776+Q1776*Tables!$C$6)*1.36136","v":4.0559321360557998},"Controlled OD (DR-9) Iron Pipe Size","ASTM F714"]
[null,null,null,null,{"$f":"ROW()","v":1777}," Typical Scenario (PE)","IPS (DR)",6,"6","250 psi   DR-9",9,{"$f":"VLOOKUP(K1777,Tables!$C$42:$G$58,IF(Tables!$C$5=4710,IF(N1777=\"ID\",5,3),IF(N1777=\"ID\",4,2)),FALSE)","v":250},6.625,"OD",null,0.73599999999999999,0.03,{"$f":"VLOOKUP(F1777,Tables!$G$5:$H$14,2,FALSE)*(M1777-(P1777+Q1777*Tables!$C$6))*(P1777+Q1777*Tables!$C$6)*1.36136","v":5.753238448077119},"Controlled OD (DR-9) Iron Pipe Size","ASTM F714"]
[null,null,null,null,{"$f":"ROW()","v":1778}," Typical Scenario (PE)","IPS (DR)",7,"7","250 psi   DR-9",9,{"$f":"VLOOKUP(K1778,Tables!$C$42:$G$58,IF(Tables!$C$5=4710,IF(N1778=\"ID\",5,3),IF(N1778=\"ID\",4,2)),FALSE)","v":250},7.125,"OD",null,0.79200000000000004,3.4000000000000002E-2,{"$f":"VLOOKUP(F1778,Tables!$G$5:$H$14,2,FALSE)*(M1778-(P1778+Q1778*Tables!$C$6))*(P1778+Q1778*Tables!$C$6)*1.36136","v":6.6639102276947195},"Controlled OD (DR-9) Iron Pipe Size","ASTM F714"]
[null,null,null,null,{"$f":"ROW()","v":1779}," Typical Scenario (PE)","IPS (DR)",8,"8","250 psi   DR-9",9,{"$f":"VLOOKUP(K1779,Tables!$C$42:$G$58,IF(Tables!$C$5=4710,IF(N1779=\"ID\",5,3),IF(N1779=\"ID\",4,2)),FALSE)","v":250},8.625,"OD",null,0.95799999999999996,3.9E-2,{"$f":"VLOOKUP(F1779,Tables!$G$5:$H$14,2,FALSE)*(M1779-(P1779+Q1779*Tables!$C$6))*(P1779+Q1779*Tables!$C$6)*1.36136","v":9.7493294568669988},"Controlled OD (DR-9) Iron Pipe Size","ASTM F714"]
[null,null,null,null,{"$f":"ROW()","v":1780}," Typical Scenario (PE)","IPS (DR)",10,"10",{"$f":"L1780&\" psi   DR-\"&K1780","v":"250 psi   DR-9"},9,{"$f":"VLOOKUP(K1780,Tables!$C$42:$G$58,IF(Tables!$C$5=4710,IF(N1780=\"ID\",5,3),IF(N1780=\"ID\",4,2)),FALSE)","v":250},10.75,"OD",null,1.194,4.8000000000000001E-2,{"$f":"VLOOKUP(F1780,Tables!$G$5:$H$14,2,FALSE)*(M1780-(P1780+Q1780*Tables!$C$6))*(P1780+Q1780*Tables!$C$6)*1.36136","v":15.141531936410878},"Controlled OD (DR-9) Iron Pipe Size","ASTM F714"]
[null,null,null,null,{"$f":"ROW()","v":1781}," Typical Scenario (PE)","IPS (DR)",12,"12","250 psi   DR-9",9,{"$f":"VLOOKUP(K1781,Tables!$C$42:$G$58,IF(Tables!$C$5=4710,IF(N1781=\"ID\",5,3),IF(N1781=\"ID\",4,2)),FALSE)","v":250},12.75,"OD",null,1.417,5.7000000000000002E-2,{"$f":"VLOOKUP(F1781,Tables!$G$5:$H$14,2,FALSE)*(M1781-(P1781+Q1781*Tables!$C$6))*(P1781+Q1781*Tables!$C$6)*1.36136","v":21.311202172940678},"Controlled OD (DR-9) Iron Pipe Size","ASTM F714"]
[null,null,null,null,{"$f":"ROW()","v":1782}," Typical Scenario (PE)","IPS (DR)",14,"14","250 psi   DR-9",9,{"$f":"VLOOKUP(K1782,Tables!$C$42:$G$58,IF(Tables!$C$5=4710,IF(N1782=\"ID\",5,3),IF(N1782=\"ID\",4,2)),FALSE)","v":250},14,"OD",null,1.556,6.3E-2,{"$f":"VLOOKUP(F1782,Tables!$G$5:$H$14,2,FALSE)*(M1782-(P1782+Q1782*Tables!$C$6))*(P1782+Q1782*Tables!$C$6)*1.36136","v":25.698719871824999},"Controlled OD (DR-9) Iron Pipe Size","ASTM F714"]
[null,null,null,null,{"$f":"ROW()","v":1783}," Typical Scenario (PE)","IPS (DR)",16,"16","250 psi   DR-9",9,{"$f":"VLOOKUP(K1783,Tables!$C$42:$G$58,IF(Tables!$C$5=4710,IF(N1783=\"ID\",5,3),IF(N1783=\"ID\",4,2)),FALSE)","v":250},16,"OD",null,1.778,7.1999999999999995E-2,{"$f":"VLOOKUP(F1783,Tables!$G$5:$H$14,2,FALSE)*(M1783-(P1783+Q1783*Tables!$C$6))*(P1783+Q1783*Tables!$C$6)*1.36136","v":33.561064940923515},"Controlled OD (DR-9) Iron Pipe Size","ASTM F714"]
[null,null,null,null,{"$f":"ROW()","v":1784}," Typical Scenario (PE)","IPS (DR)",18,"18","250 psi   DR-9",9,{"$f":"VLOOKUP(K1784,Tables!$C$42:$G$58,IF(Tables!$C$5=4710,IF(N1784=\"ID\",5,3),IF(N1784=\"ID\",4,2)),FALSE)","v":250},18,"OD",null,2,8.1000000000000003E-2,{"$f":"VLOOKUP(F1784,Tables!$G$5:$H$14,2,FALSE)*(M1784-(P1784+Q1784*Tables!$C$6))*(P1784+Q1784*Tables!$C$6)*1.36136","v":42.471184666991078},"Controlled OD (DR-9) Iron Pipe Size","ASTM F714"]
[null,null,null,null,{"$f":"ROW()","v":1785}," Typical Scenario (PE)","IPS (DR)",20,"20","250 psi   DR-9",9,{"$f":"VLOOKUP(K1785,Tables!$C$42:$G$58,IF(Tables!$C$5=4710,IF(N1785=\"ID\",5,3),IF(N1785=\"ID\",4,2)),FALSE)","v":250},20,"OD",null,2.222,0.09,{"$f":"VLOOKUP(F1785,Tables!$G$5:$H$14,2,FALSE)*(M1785-(P1785+Q1785*Tables!$C$6))*(P1785+Q1785*Tables!$C$6)*1.36136","v":52.429079050027674},"Controlled OD (DR-9) Iron Pipe Size","ASTM F714"]
[null,null,null,null,{"$f":"ROW()","v":1786}," Typical Scenario (PE)","IPS (DR)",22,"22","250 psi   DR-9",9,{"$f":"VLOOKUP(K1786,Tables!$C$42:$G$58,IF(Tables!$C$5=4710,IF(N1786=\"ID\",5,3),IF(N1786=\"ID\",4,2)),FALSE)","v":250},22,"OD",null,2.444,9.9000000000000005E-2,{"$f":"VLOOKUP(F1786,Tables!$G$5:$H$14,2,FALSE)*(M1786-(P1786+Q1786*Tables!$C$6))*(P1786+Q1786*Tables!$C$6)*1.36136","v":63.43474809003331},"Controlled OD (DR-9) Iron Pipe Size","ASTM F714"]
[null,null,null,null,{"$f":"ROW()","v":1787}," Typical Scenario (PE)","IPS (DR)",24,"24","250 psi   DR-9",9,{"$f":"VLOOKUP(K1787,Tables!$C$42:$G$58,IF(Tables!$C$5=4710,IF(N1787=\"ID\",5,3),IF(N1787=\"ID\",4,2)),FALSE)","v":250},24,"OD",null,2.6669999999999998,0.108,{"$f":"VLOOKUP(F1787,Tables!$G$5:$H$14,2,FALSE)*(M1787-(P1787+Q1787*Tables!$C$6))*(P1787+Q1787*Tables!$C$6)*1.36136","v":75.512396117077913},"Controlled OD (DR-9) Iron Pipe Size","ASTM F714"]
[null,null,null,null,{"$f":"ROW()","v":1788}," Typical Scenario (PE)","IPS (DR)",26,"26","250 psi   DR-9",9,{"$f":"VLOOKUP(K1788,Tables!$C$42:$G$58,IF(Tables!$C$5=4710,IF(N1788=\"ID\",5,3),IF(N1788=\"ID\",4,2)),FALSE)","v":250},26,"OD",null,2.8889999999999998,0.11700000000000001,{"$f":"VLOOKUP(F1788,Tables!$G$5:$H$14,2,FALSE)*(M1788-(P1788+Q1788*Tables!$C$6))*(P1788+Q1788*Tables!$C$6)*1.36136","v":88.615632041937005},"Controlled OD (DR-9) Iron Pipe Size","ASTM F714"]
[null,null,null,null,{"$f":"ROW()","v":1789}," Typical Scenario (PE)","IPS (DR)",28,"28","250 psi   DR-9",9,{"$f":"VLOOKUP(K1789,Tables!$C$42:$G$58,IF(Tables!$C$5=4710,IF(N1789=\"ID\",5,3),IF(N1789=\"ID\",4,2)),FALSE)","v":250},28,"OD",null,3.1110000000000002,0.126,{"$f":"VLOOKUP(F1789,Tables!$G$5:$H$14,2,FALSE)*(M1789-(P1789+Q1789*Tables!$C$6))*(P1789+Q1789*Tables!$C$6)*1.36136","v":102.76664262376512},"Controlled OD (DR-9) Iron Pipe Size","ASTM F714"]
[null,null,null,null,{"$f":"ROW()","v":1790}," Typical Scenario (PE)","IPS (DR)",30,"30","250 psi   DR-9",9,{"$f":"VLOOKUP(K1790,Tables!$C$42:$G$58,IF(Tables!$C$5=4710,IF(N1790=\"ID\",5,3),IF(N1790=\"ID\",4,2)),FALSE)","v":250},30,"OD",null,3.3330000000000002,0.13500000000000001,{"$f":"VLOOKUP(F1790,Tables!$G$5:$H$14,2,FALSE)*(M1790-(P1790+Q1790*Tables!$C$6))*(P1790+Q1790*Tables!$C$6)*1.36136","v":117.96542786256227},"Controlled OD (DR-9) Iron Pipe Size","ASTM F714"]
[null,null,null,null,{"$f":"ROW()","v":1791}," Typical Scenario (PE)","IPS (DR)",32,"32","250 psi   DR-9",9,{"$f":"VLOOKUP(K1791,Tables!$C$42:$G$58,IF(Tables!$C$5=4710,IF(N1791=\"ID\",5,3),IF(N1791=\"ID\",4,2)),FALSE)","v":250},32,"OD",null,3.556,0.14399999999999999,{"$f":"VLOOKUP(F1791,Tables!$G$5:$H$14,2,FALSE)*(M1791-(P1791+Q1791*Tables!$C$6))*(P1791+Q1791*Tables!$C$6)*1.36136","v":134.24425976369406},"Controlled OD (DR-9) Iron Pipe Size","ASTM F714"]
[null,null,null,null,{"$f":"ROW()","v":1792}," Typical Scenario (PE)","IPS (DR)",34,"34","250 psi   DR-9",9,{"$f":"VLOOKUP(K1792,Tables!$C$42:$G$58,IF(Tables!$C$5=4710,IF(N1792=\"ID\",5,3),IF(N1792=\"ID\",4,2)),FALSE)","v":250},34,"OD",null,3.778,0.153,{"$f":"VLOOKUP(F1792,Tables!$G$5:$H$14,2,FALSE)*(M1792-(P1792+Q1792*Tables!$C$6))*(P1792+Q1792*Tables!$C$6)*1.36136","v":151.54061188734462},"Controlled OD (DR-9) Iron Pipe Size","ASTM F714"]
[null,null,null,null,{"$f":"ROW()","v":1793}," Typical Scenario (PE)","IPS (DR)",36,"36","250 psi   DR-9",9,{"$f":"VLOOKUP(K1793,Tables!$C$42:$G$58,IF(Tables!$C$5=4710,IF(N1793=\"ID\",5,3),IF(N1793=\"ID\",4,2)),FALSE)","v":250},36,"OD",null,4,0.16200000000000001,{"$f":"VLOOKUP(F1793,Tables!$G$5:$H$14,2,FALSE)*(M1793-(P1793+Q1793*Tables!$C$6))*(P1793+Q1793*Tables!$C$6)*1.36136","v":169.88473866796431},"Controlled OD (DR-9) Iron Pipe Size","ASTM F714"]
[null,null,null,null,{"$f":"ROW()","v":1794}," Typical Scenario (PE)","IPS (DR)",4,"4","317 psi   DR-7.3",7.3,{"$f":"VLOOKUP(K1794,Tables!$C$42:$G$58,IF(Tables!$C$5=4710,IF(N1794=\"ID\",5,3),IF(N1794=\"ID\",4,2)),FALSE)","v":317},4.5,"OD",null,0.61599999999999999,0.02,{"$f":"VLOOKUP(F1794,Tables!$G$5:$H$14,2,FALSE)*(M1794-(P1794+Q1794*Tables!$C$6))*(P1794+Q1794*Tables!$C$6)*1.36136","v":3.1628052026771196},"Controlled OD (DR-7.3) Iron Pipe Size","ASTM F714"]
[null,null,null,null,{"$f":"ROW()","v":1795}," Typical Scenario (PE)","IPS (DR)",5,"5","317 psi   DR-7.3",7.3,{"$f":"VLOOKUP(K1795,Tables!$C$42:$G$58,IF(Tables!$C$5=4710,IF(N1795=\"ID\",5,3),IF(N1795=\"ID\",4,2)),FALSE)","v":317},5.5629999999999997,"OD",null,0.76200000000000001,2.5000000000000001E-2,{"$f":"VLOOKUP(F1795,Tables!$G$5:$H$14,2,FALSE)*(M1795-(P1795+Q1795*Tables!$C$6))*(P1795+Q1795*Tables!$C$6)*1.36136","v":4.8368142438215598},"Controlled OD (DR-7.3) Iron Pipe Size","ASTM F714"]
[null,null,null,null,{"$f":"ROW()","v":1796}," Typical Scenario (PE)","IPS (DR)",6,"6","317 psi   DR-7.3",7.3,{"$f":"VLOOKUP(K1796,Tables!$C$42:$G$58,IF(Tables!$C$5=4710,IF(N1796=\"ID\",5,3),IF(N1796=\"ID\",4,2)),FALSE)","v":317},6.625,"OD",null,0.90800000000000003,0.03,{"$f":"VLOOKUP(F1796,Tables!$G$5:$H$14,2,FALSE)*(M1796-(P1796+Q1796*Tables!$C$6))*(P1796+Q1796*Tables!$C$6)*1.36136","v":6.86384407156448},"Controlled OD (DR-7.3) Iron Pipe Size","ASTM F714"]
[null,null,null,null,{"$f":"ROW()","v":1797}," Typical Scenario (PE)","IPS (DR)",7,"7","317 psi   DR-7.3",7.3,{"$f":"VLOOKUP(K1797,Tables!$C$42:$G$58,IF(Tables!$C$5=4710,IF(N1797=\"ID\",5,3),IF(N1797=\"ID\",4,2)),FALSE)","v":317},7.125,"OD",null,0.97599999999999998,3.4000000000000002E-2,{"$f":"VLOOKUP(F1797,Tables!$G$5:$H$14,2,FALSE)*(M1797-(P1797+Q1797*Tables!$C$6))*(P1797+Q1797*Tables!$C$6)*1.36136","v":7.9412686742188781},"Controlled OD (DR-7.3) Iron Pipe Size","ASTM F714"]
[null,null,null,null,{"$f":"ROW()","v":1798}," Typical Scenario (PE)","IPS (DR)",8,"8","317 psi   DR-7.3",7.3,{"$f":"VLOOKUP(K1798,Tables!$C$42:$G$58,IF(Tables!$C$5=4710,IF(N1798=\"ID\",5,3),IF(N1798=\"ID\",4,2)),FALSE)","v":317},8.625,"OD",null,1.1819999999999999,3.9E-2,{"$f":"VLOOKUP(F1798,Tables!$G$5:$H$14,2,FALSE)*(M1798-(P1798+Q1798*Tables!$C$6))*(P1798+Q1798*Tables!$C$6)*1.36136","v":11.632444334030518},"Controlled OD (DR-7.3) Iron Pipe Size","ASTM F714"]
[null,null,null,null,{"$f":"ROW()","v":1799}," Typical Scenario (PE)","IPS (DR)",10,"10","317 psi   DR-7.3",7.3,{"$f":"VLOOKUP(K1799,Tables!$C$42:$G$58,IF(Tables!$C$5=4710,IF(N1799=\"ID\",5,3),IF(N1799=\"ID\",4,2)),FALSE)","v":317},10.75,"OD",null,1.4730000000000001,4.8000000000000001E-2,{"$f":"VLOOKUP(F1799,Tables!$G$5:$H$14,2,FALSE)*(M1799-(P1799+Q1799*Tables!$C$6))*(P1799+Q1799*Tables!$C$6)*1.36136","v":18.065203470394081},"Controlled OD (DR-7.3) Iron Pipe Size","ASTM F714"]
[null,null,null,null,{"$f":"ROW()","v":1800}," Typical Scenario (PE)","IPS (DR)",12,"12","317 psi   DR-7.3",7.3,{"$f":"VLOOKUP(K1800,Tables!$C$42:$G$58,IF(Tables!$C$5=4710,IF(N1800=\"ID\",5,3),IF(N1800=\"ID\",4,2)),FALSE)","v":317},12.75,"OD",null,1.7470000000000001,5.7000000000000002E-2,{"$f":"VLOOKUP(F1800,Tables!$G$5:$H$14,2,FALSE)*(M1800-(P1800+Q1800*Tables!$C$6))*(P1800+Q1800*Tables!$C$6)*1.36136","v":25.412296531902275},"Controlled OD (DR-7.3) Iron Pipe Size","ASTM F714"]
[null,null,null,null,{"$f":"ROW()","v":1801}," Typical Scenario (PE)","IPS (DR)",14,"14","317 psi   DR-7.3",7.3,{"$f":"VLOOKUP(K1801,Tables!$C$42:$G$58,IF(Tables!$C$5=4710,IF(N1801=\"ID\",5,3),IF(N1801=\"ID\",4,2)),FALSE)","v":317},14,"OD",null,1.9179999999999999,6.3E-2,{"$f":"VLOOKUP(F1801,Tables!$G$5:$H$14,2,FALSE)*(M1801-(P1801+Q1801*Tables!$C$6))*(P1801+Q1801*Tables!$C$6)*1.36136","v":30.638450773210277},"Controlled OD (DR-7.3) Iron Pipe Size","ASTM F714"]
[null,null,null,null,{"$f":"ROW()","v":1802}," Typical Scenario (PE)","IPS (DR)",16,"16","317 psi   DR-7.3",7.3,{"$f":"VLOOKUP(K1802,Tables!$C$42:$G$58,IF(Tables!$C$5=4710,IF(N1802=\"ID\",5,3),IF(N1802=\"ID\",4,2)),FALSE)","v":317},16,"OD",null,2.1920000000000002,7.1999999999999995E-2,{"$f":"VLOOKUP(F1802,Tables!$G$5:$H$14,2,FALSE)*(M1802-(P1802+Q1802*Tables!$C$6))*(P1802+Q1802*Tables!$C$6)*1.36136","v":40.017568356846077},"Controlled OD (DR-7.3) Iron Pipe Size","ASTM F714"]
[null,null,null,null,{"$f":"ROW()","v":1803}," Typical Scenario (PE)","IPS (DR)",18,"18","317 psi   DR-7.3",7.3,{"$f":"VLOOKUP(K1803,Tables!$C$42:$G$58,IF(Tables!$C$5=4710,IF(N1803=\"ID\",5,3),IF(N1803=\"ID\",4,2)),FALSE)","v":317},18,"OD",null,2.4660000000000002,8.1000000000000003E-2,{"$f":"VLOOKUP(F1803,Tables!$G$5:$H$14,2,FALSE)*(M1803-(P1803+Q1803*Tables!$C$6))*(P1803+Q1803*Tables!$C$6)*1.36136","v":50.647234951633315},"Controlled OD (DR-7.3) Iron Pipe Size","ASTM F714"]
[null,null,null,null,{"$f":"ROW()","v":1804}," Typical Scenario (PE)","IPS (DR)",0.5,"1/2","335 psi   DR-7",7,{"$f":"VLOOKUP(K1804,Tables!$C$42:$G$58,IF(Tables!$C$5=4710,IF(N1804=\"ID\",5,3),IF(N1804=\"ID\",4,2)),FALSE)","v":335},0.84,"OD",null,0.12,0.02,{"$f":"VLOOKUP(F1804,Tables!$G$5:$H$14,2,FALSE)*(M1804-(P1804+Q1804*Tables!$C$6))*(P1804+Q1804*Tables!$C$6)*1.36136","v":0.12037607982399998},"Controlled OD (DR-7) Iron Pipe Size","ASTM D3035"]
[null,null,null,null,{"$f":"ROW()","v":1805}," Typical Scenario (PE)","IPS (DR)",0.75,"3/4","335 psi   DR-7",7,{"$f":"VLOOKUP(K1805,Tables!$C$42:$G$58,IF(Tables!$C$5=4710,IF(N1805=\"ID\",5,3),IF(N1805=\"ID\",4,2)),FALSE)","v":335},1.05,"OD",null,0.15,0.02,{"$f":"VLOOKUP(F1805,Tables!$G$5:$H$14,2,FALSE)*(M1805-(P1805+Q1805*Tables!$C$6))*(P1805+Q1805*Tables!$C$6)*1.36136","v":0.18571564211199998},"Controlled OD (DR-7) Iron Pipe Size","ASTM D3035"]
[null,null,null,null,{"$f":"ROW()","v":1806}," Typical Scenario (PE)","IPS (DR)",1,"1","335 psi   DR-7",7,{"$f":"VLOOKUP(K1806,Tables!$C$42:$G$58,IF(Tables!$C$5=4710,IF(N1806=\"ID\",5,3),IF(N1806=\"ID\",4,2)),FALSE)","v":335},1.3149999999999999,"OD",null,0.188,2.3E-2,{"$f":"VLOOKUP(F1806,Tables!$G$5:$H$14,2,FALSE)*(M1806-(P1806+Q1806*Tables!$C$6))*(P1806+Q1806*Tables!$C$6)*1.36136","v":0.29023579252667997},"Controlled OD (DR-7) Iron Pipe Size","ASTM D3035"]
[null,null,null,null,{"$f":"ROW()","v":1807}," Typical Scenario (PE)","IPS (DR)",1.25,"1 1/4","335 psi   DR-7",7,{"$f":"VLOOKUP(K1807,Tables!$C$42:$G$58,IF(Tables!$C$5=4710,IF(N1807=\"ID\",5,3),IF(N1807=\"ID\",4,2)),FALSE)","v":335},1.66,"OD",null,0.23699999999999999,2.8000000000000001E-2,{"$f":"VLOOKUP(F1807,Tables!$G$5:$H$14,2,FALSE)*(M1807-(P1807+Q1807*Tables!$C$6))*(P1807+Q1807*Tables!$C$6)*1.36136","v":0.4612360131579199},"Controlled OD (DR-7) Iron Pipe Size","ASTM D3035"]
[null,null,null,null,{"$f":"ROW()","v":1808}," Typical Scenario (PE)","IPS (DR)",1.5,"1 1/2","335 psi   DR-7",7,{"$f":"VLOOKUP(K1808,Tables!$C$42:$G$58,IF(Tables!$C$5=4710,IF(N1808=\"ID\",5,3),IF(N1808=\"ID\",4,2)),FALSE)","v":335},1.9,"OD",null,0.27100000000000002,3.3000000000000002E-2,{"$f":"VLOOKUP(F1808,Tables!$G$5:$H$14,2,FALSE)*(M1808-(P1808+Q1808*Tables!$C$6))*(P1808+Q1808*Tables!$C$6)*1.36136","v":0.60461103202499988},"Controlled OD (DR-7) Iron Pipe Size","ASTM D3035"]
[null,null,null,null,{"$f":"ROW()","v":1809}," Typical Scenario (PE)","IPS (DR)",2,"2","335 psi   DR-7",7,{"$f":"VLOOKUP(K1809,Tables!$C$42:$G$58,IF(Tables!$C$5=4710,IF(N1809=\"ID\",5,3),IF(N1809=\"ID\",4,2)),FALSE)","v":335},2.375,"OD",null,0.33900000000000002,4.1000000000000002E-2,{"$f":"VLOOKUP(F1809,Tables!$G$5:$H$14,2,FALSE)*(M1809-(P1809+Q1809*Tables!$C$6))*(P1809+Q1809*Tables!$C$6)*1.36136","v":0.94497472377308001},"Controlled OD (DR-7) Iron Pipe Size","ASTM D3035"]
[null,null,null,null,{"$f":"ROW()","v":1810}," Typical Scenario (PE)","IPS (DR)",3,"3","335 psi   DR-7",7,{"$f":"VLOOKUP(K1810,Tables!$C$42:$G$58,IF(Tables!$C$5=4710,IF(N1810=\"ID\",5,3),IF(N1810=\"ID\",4,2)),FALSE)","v":335},3.5,"OD",null,0.5,0.06,{"$f":"VLOOKUP(F1810,Tables!$G$5:$H$14,2,FALSE)*(M1810-(P1810+Q1810*Tables!$C$6))*(P1810+Q1810*Tables!$C$6)*1.36136","v":2.052914271408},"Controlled OD (DR-7) Iron Pipe Size","ASTM D3035"]
[null,null,null,null,{"$f":"ROW()","v":1811}," Typical Scenario (PE)","IPS (DR)",4,"4","335 psi   DR-7",7,{"$f":"VLOOKUP(K1811,Tables!$C$42:$G$58,IF(Tables!$C$5=4710,IF(N1811=\"ID\",5,3),IF(N1811=\"ID\",4,2)),FALSE)","v":335},4.5,"OD",null,0.64300000000000002,0.02,{"$f":"VLOOKUP(F1811,Tables!$G$5:$H$14,2,FALSE)*(M1811-(P1811+Q1811*Tables!$C$6))*(P1811+Q1811*Tables!$C$6)*1.36136","v":3.2762260752020795},"Controlled OD (DR-7) Iron Pipe Size","ASTM F714"]
[null,null,null,null,{"$f":"ROW()","v":1812}," Typical Scenario (PE)","IPS (DR)",5,"5","335 psi   DR-7",7,{"$f":"VLOOKUP(K1812,Tables!$C$42:$G$58,IF(Tables!$C$5=4710,IF(N1812=\"ID\",5,3),IF(N1812=\"ID\",4,2)),FALSE)","v":335},5.5629999999999997,"OD",null,0.79500000000000004,2.5000000000000001E-2,{"$f":"VLOOKUP(F1812,Tables!$G$5:$H$14,2,FALSE)*(M1812-(P1812+Q1812*Tables!$C$6))*(P1812+Q1812*Tables!$C$6)*1.36136","v":5.0081486613157997},"Controlled OD (DR-7) Iron Pipe Size","ASTM F714"]
[null,null,null,null,{"$f":"ROW()","v":1813}," Typical Scenario (PE)","IPS (DR)",6,"6","335 psi   DR-7",7,{"$f":"VLOOKUP(K1813,Tables!$C$42:$G$58,IF(Tables!$C$5=4710,IF(N1813=\"ID\",5,3),IF(N1813=\"ID\",4,2)),FALSE)","v":335},6.625,"OD",null,0.94599999999999995,0.03,{"$f":"VLOOKUP(F1813,Tables!$G$5:$H$14,2,FALSE)*(M1813-(P1813+Q1813*Tables!$C$6))*(P1813+Q1813*Tables!$C$6)*1.36136","v":7.0988030508595195},"Controlled OD (DR-7) Iron Pipe Size","ASTM F714"]
[null,null,null,null,{"$f":"ROW()","v":1814}," Typical Scenario (PE)","IPS (DR)",7,"7","335 psi   DR-7",7,{"$f":"VLOOKUP(K1814,Tables!$C$42:$G$58,IF(Tables!$C$5=4710,IF(N1814=\"ID\",5,3),IF(N1814=\"ID\",4,2)),FALSE)","v":335},7.125,"OD",null,1.018,3.4000000000000002E-2,{"$f":"VLOOKUP(F1814,Tables!$G$5:$H$14,2,FALSE)*(M1814-(P1814+Q1814*Tables!$C$6))*(P1814+Q1814*Tables!$C$6)*1.36136","v":8.2204603200719983},"Controlled OD (DR-7) Iron Pipe Size","ASTM F714"]
[null,null,null,null,{"$f":"ROW()","v":1815}," Typical Scenario (PE)","IPS (DR)",8,"8","335 psi   DR-7",7,{"$f":"VLOOKUP(K1815,Tables!$C$42:$G$58,IF(Tables!$C$5=4710,IF(N1815=\"ID\",5,3),IF(N1815=\"ID\",4,2)),FALSE)","v":335},8.625,"OD",null,1.232,3.9E-2,{"$f":"VLOOKUP(F1815,Tables!$G$5:$H$14,2,FALSE)*(M1815-(P1815+Q1815*Tables!$C$6))*(P1815+Q1815*Tables!$C$6)*1.36136","v":12.034915170798518},"Controlled OD (DR-7) Iron Pipe Size","ASTM F714"]
[null,null,null,null,{"$f":"ROW()","v":1816}," Typical Scenario (PE)","IPS (DR)",10,"10","335 psi   DR-7",7,{"$f":"VLOOKUP(K1816,Tables!$C$42:$G$58,IF(Tables!$C$5=4710,IF(N1816=\"ID\",5,3),IF(N1816=\"ID\",4,2)),FALSE)","v":335},10.75,"OD",null,1.536,4.8000000000000001E-2,{"$f":"VLOOKUP(F1816,Tables!$G$5:$H$14,2,FALSE)*(M1816-(P1816+Q1816*Tables!$C$6))*(P1816+Q1816*Tables!$C$6)*1.36136","v":18.697287440832},"Controlled OD (DR-7) Iron Pipe Size","ASTM F714"]
[null,null,null,null,{"$f":"ROW()","v":1817}," Typical Scenario (PE)","IPS (DR)",12,"12","335 psi   DR-7",7,{"$f":"VLOOKUP(K1817,Tables!$C$42:$G$58,IF(Tables!$C$5=4710,IF(N1817=\"ID\",5,3),IF(N1817=\"ID\",4,2)),FALSE)","v":335},12.75,"OD",null,1.821,5.7000000000000002E-2,{"$f":"VLOOKUP(F1817,Tables!$G$5:$H$14,2,FALSE)*(M1817-(P1817+Q1817*Tables!$C$6))*(P1817+Q1817*Tables!$C$6)*1.36136","v":26.292946021622274},"Controlled OD (DR-7) Iron Pipe Size","ASTM F714"]
[null,null,null,null,{"$f":"ROW()","v":1818}," Typical Scenario (PE)","IPS (DR)",14,"14","335 psi   DR-7",7,{"$f":"VLOOKUP(K1818,Tables!$C$42:$G$58,IF(Tables!$C$5=4710,IF(N1818=\"ID\",5,3),IF(N1818=\"ID\",4,2)),FALSE)","v":335},14,"OD",null,2,6.3E-2,{"$f":"VLOOKUP(F1818,Tables!$G$5:$H$14,2,FALSE)*(M1818-(P1818+Q1818*Tables!$C$6))*(P1818+Q1818*Tables!$C$6)*1.36136","v":31.709912651737316},"Controlled OD (DR-7) Iron Pipe Size","ASTM F714"]
[null,null,null,null,{"$f":"ROW()","v":1819}," Typical Scenario (PE)","IPS (DR)",16,"16","335 psi   DR-7",7,{"$f":"VLOOKUP(K1819,Tables!$C$42:$G$58,IF(Tables!$C$5=4710,IF(N1819=\"ID\",5,3),IF(N1819=\"ID\",4,2)),FALSE)","v":335},16,"OD",null,2.286,7.1999999999999995E-2,{"$f":"VLOOKUP(F1819,Tables!$G$5:$H$14,2,FALSE)*(M1819-(P1819+Q1819*Tables!$C$6))*(P1819+Q1819*Tables!$C$6)*1.36136","v":41.421260390590078},"Controlled OD (DR-7) Iron Pipe Size","ASTM F714"]
[null,null,null,null,{"$f":"ROW()","v":1820}," Typical Scenario (PE)","IPS (DR)",18,"18","335 psi   DR-7",7,{"$f":"VLOOKUP(K1820,Tables!$C$42:$G$58,IF(Tables!$C$5=4710,IF(N1820=\"ID\",5,3),IF(N1820=\"ID\",4,2)),FALSE)","v":335},18,"OD",null,2.5710000000000002,8.1000000000000003E-2,{"$f":"VLOOKUP(F1820,Tables!$G$5:$H$14,2,FALSE)*(M1820-(P1820+Q1820*Tables!$C$6))*(P1820+Q1820*Tables!$C$6)*1.36136","v":52.411285756950129},"Controlled OD (DR-7) Iron Pipe Size","ASTM F714"]
[null,null,null,null,{"$f":"ROW()","v":1821}," Typical Scenario (PE)","IPS (DR)",20,"20","335 psi   DR-7",7,{"$f":"VLOOKUP(K1821,Tables!$C$42:$G$58,IF(Tables!$C$5=4710,IF(N1821=\"ID\",5,3),IF(N1821=\"ID\",4,2)),FALSE)","v":335},20,"OD",null,2.8570000000000002,0.09,{"$f":"VLOOKUP(F1821,Tables!$G$5:$H$14,2,FALSE)*(M1821-(P1821+Q1821*Tables!$C$6))*(P1821+Q1821*Tables!$C$6)*1.36136","v":64.711462596260461},"Controlled OD (DR-7) Iron Pipe Size","ASTM F714"]
[null,null,null,null,{"$f":"ROW()","v":1822}," Typical Scenario (PE)","IPS (DR)",22,"22","335 psi   DR-7",7,{"$f":"VLOOKUP(K1822,Tables!$C$42:$G$58,IF(Tables!$C$5=4710,IF(N1822=\"ID\",5,3),IF(N1822=\"ID\",4,2)),FALSE)","v":335},22,"OD",null,3.1429999999999998,9.9000000000000005E-2,{"$f":"VLOOKUP(F1822,Tables!$G$5:$H$14,2,FALSE)*(M1822-(P1822+Q1822*Tables!$C$6))*(P1822+Q1822*Tables!$C$6)*1.36136","v":78.306979303552993},"Controlled OD (DR-7) Iron Pipe Size","ASTM F714"]
[null,null,null,null,{"$f":"ROW()","v":1823}," Typical Scenario (PE)","IPS (DR)",24,"24","335 psi   DR-7",7,{"$f":"VLOOKUP(K1823,Tables!$C$42:$G$58,IF(Tables!$C$5=4710,IF(N1823=\"ID\",5,3),IF(N1823=\"ID\",4,2)),FALSE)","v":335},24,"OD",null,3.4289999999999998,0.108,{"$f":"VLOOKUP(F1823,Tables!$G$5:$H$14,2,FALSE)*(M1823-(P1823+Q1823*Tables!$C$6))*(P1823+Q1823*Tables!$C$6)*1.36136","v":93.197835878827661},{"$f":"\"Controlled OD (DR-\"&K1823&\") Iron Pipe Size\"","v":"Controlled OD (DR-7) Iron Pipe Size"},"ASTM F714"]
[null,null,null,null,{"$f":"ROW()","v":1824}," Typical Scenario (PE)","IPS (DR)",26,"26","335 psi   DR-7",7,{"$f":"VLOOKUP(K1824,Tables!$C$42:$G$58,IF(Tables!$C$5=4710,IF(N1824=\"ID\",5,3),IF(N1824=\"ID\",4,2)),FALSE)","v":335},26,"OD",null,3.714,0.11700000000000001,{"$f":"VLOOKUP(F1824,Tables!$G$5:$H$14,2,FALSE)*(M1824-(P1824+Q1824*Tables!$C$6))*(P1824+Q1824*Tables!$C$6)*1.36136","v":109.35996493121698},"Controlled OD (DR-7) Iron Pipe Size","ASTM F714"]
[null,null,null,null,{"$f":"ROW()","v":1825}," Typical Scenario (PE)","IPS (DR)",1.25,"1 1/4","400 psi   DR-6",6,{"$f":"VLOOKUP(K1825,Tables!$C$42:$G$58,IF(Tables!$C$5=4710,IF(N1825=\"ID\",5,3),IF(N1825=\"ID\",4,2)),FALSE)","v":400},1.66,"OD",null,0.27700000000000002,1.6499999999999959E-2,{"$f":"VLOOKUP(F1825,Tables!$G$5:$H$14,2,FALSE)*(M1825-(P1825+Q1825*Tables!$C$6))*(P1825+Q1825*Tables!$C$6)*1.36136","v":0.51143197442336985},"Controlled OD (DR-6) Iron Pipe Size","MFR DR5-6 (PE)"]
[null,null,null,null,{"$f":"ROW()","v":1826}," Typical Scenario (PE)","IPS (DR)",1.5,"1 1/2","400 psi   DR-6",6,{"$f":"VLOOKUP(K1826,Tables!$C$42:$G$58,IF(Tables!$C$5=4710,IF(N1826=\"ID\",5,3),IF(N1826=\"ID\",4,2)),FALSE)","v":400},1.9,"OD",null,0.317,1.8499999999999905E-2,{"$f":"VLOOKUP(F1826,Tables!$G$5:$H$14,2,FALSE)*(M1826-(P1826+Q1826*Tables!$C$6))*(P1826+Q1826*Tables!$C$6)*1.36136","v":0.66961435966424976},"Controlled OD (DR-6) Iron Pipe Size","MFR DR5-6 (PE)"]
[null,null,null,null,{"$f":"ROW()","v":1827}," Typical Scenario (PE)","IPS (DR)",2,"2","400 psi   DR-6",6,{"$f":"VLOOKUP(K1827,Tables!$C$42:$G$58,IF(Tables!$C$5=4710,IF(N1827=\"ID\",5,3),IF(N1827=\"ID\",4,2)),FALSE)","v":400},2.375,"OD",null,0.39600000000000002,2.3499999999999965E-2,{"$f":"VLOOKUP(F1827,Tables!$G$5:$H$14,2,FALSE)*(M1827-(P1827+Q1827*Tables!$C$6))*(P1827+Q1827*Tables!$C$6)*1.36136","v":1.0461453249947699},"Controlled OD (DR-6) Iron Pipe Size","MFR DR5-6 (PE)"]
[null,null,null,null,{"$f":"ROW()","v":1828}," Typical Scenario (PE)","IPS (DR)",3,"3","400 psi   DR-6",6,{"$f":"VLOOKUP(K1828,Tables!$C$42:$G$58,IF(Tables!$C$5=4710,IF(N1828=\"ID\",5,3),IF(N1828=\"ID\",4,2)),FALSE)","v":400},3.5,"OD",null,0.58299999999999996,3.5500000000000087E-2,{"$f":"VLOOKUP(F1828,Tables!$G$5:$H$14,2,FALSE)*(M1828-(P1828+Q1828*Tables!$C$6))*(P1828+Q1828*Tables!$C$6)*1.36136","v":2.27152719306513},"Controlled OD (DR-6) Iron Pipe Size","MFR DR5-6 (PE)"]
[null,null,null,null,{"$f":"ROW()","v":1829}," Typical Scenario (PE)","IPS (DR)",1.25,"1 1/4","500 psi   DR-5",5,{"$f":"VLOOKUP(K1829,Tables!$C$42:$G$58,IF(Tables!$C$5=4710,IF(N1829=\"ID\",5,3),IF(N1829=\"ID\",4,2)),FALSE)","v":500},1.66,"OD",null,0.33200000000000002,1.9999999999999962E-2,{"$f":"VLOOKUP(F1829,Tables!$G$5:$H$14,2,FALSE)*(M1829-(P1829+Q1829*Tables!$C$6))*(P1829+Q1829*Tables!$C$6)*1.36136","v":0.58786825825727995},"Controlled OD (DR-5) Iron Pipe Size","MFR DR5-6 (PE)"]
[null,null,null,null,{"$f":"ROW()","v":1830}," Typical Scenario (PE)","IPS (DR)",1.5,"1 1/2","500 psi   DR-5",5,{"$f":"VLOOKUP(K1830,Tables!$C$42:$G$58,IF(Tables!$C$5=4710,IF(N1830=\"ID\",5,3),IF(N1830=\"ID\",4,2)),FALSE)","v":500},1.9,"OD",null,0.38,2.2999999999999909E-2,{"$f":"VLOOKUP(F1830,Tables!$G$5:$H$14,2,FALSE)*(M1830-(P1830+Q1830*Tables!$C$6))*(P1830+Q1830*Tables!$C$6)*1.36136","v":0.77022139085891972},"Controlled OD (DR-5) Iron Pipe Size","MFR DR5-6 (PE)"]
[null,null,null,null,{"$f":"ROW()","v":1831}," Typical Scenario (PE)","IPS (DR)",2,"2","500 psi   DR-5",5,{"$f":"VLOOKUP(K1831,Tables!$C$42:$G$58,IF(Tables!$C$5=4710,IF(N1831=\"ID\",5,3),IF(N1831=\"ID\",4,2)),FALSE)","v":500},2.375,"OD",null,0.47499999999999998,2.849999999999997E-2,{"$f":"VLOOKUP(F1831,Tables!$G$5:$H$14,2,FALSE)*(M1831-(P1831+Q1831*Tables!$C$6))*(P1831+Q1831*Tables!$C$6)*1.36136","v":1.2032432821709298},"Controlled OD (DR-5) Iron Pipe Size","MFR DR5-6 (PE)"]
[null,null,null,null,{"$f":"ROW()","v":1832}," Typical Scenario (PE)","IPS (DR)",3,"3","500 psi   DR-5",5,{"$f":"VLOOKUP(K1832,Tables!$C$42:$G$58,IF(Tables!$C$5=4710,IF(N1832=\"ID\",5,3),IF(N1832=\"ID\",4,2)),FALSE)","v":500},3.5,"OD",null,0.7,4.2000000000000037E-2,{"$f":"VLOOKUP(F1832,Tables!$G$5:$H$14,2,FALSE)*(M1832-(P1832+Q1832*Tables!$C$6))*(P1832+Q1832*Tables!$C$6)*1.36136","v":2.6131377651579197},"Controlled OD (DR-5) Iron Pipe Size","MFR DR5-6 (PE)"]
[null,null,null,null,{"$f":"ROW()","v":1833}," Typical Scenario (PE)","(Dual Wall)",4,"4",{"$f":"L1833&\" - Low Head\"","v":"Dual Wall (10 psi) - Low Head"},"NA","Dual Wall (10 psi)",4.78,"ID",null,null,null,0.45,"Corrugated Dual Wall Drain Pipe","MFR ADS"]
[null,null,null,null,{"$f":"ROW()","v":1834}," Typical Scenario (PE)","(Dual Wall)",6,"6",{"$f":"L1834&\" - Low Head\"","v":"Dual Wall (10 psi) - Low Head"},"NA","Dual Wall (10 psi)",6.92,"ID",null,null,null,0.85,"Corrugated Dual Wall Drain Pipe","MFR ADS"]
[null,null,null,null,{"$f":"ROW()","v":1835}," Typical Scenario (PE)","(Dual Wall)",8,"8","Dual Wall (10 psi) - Low Head","NA","Dual Wall (10 psi)",9.11,"ID",null,null,null,1.54,"Corrugated Dual Wall Drain Pipe","MFR ADS"]
[null,null,null,null,{"$f":"ROW()","v":1836}," Typical Scenario (PE)","(Dual Wall)",10,"10","Dual Wall (10 psi) - Low Head","NA","Dual Wall (10 psi)",11.36,"ID",null,null,null,2.31,"Corrugated Dual Wall Drain Pipe","MFR ADS"]
[null,null,null,null,{"$f":"ROW()","v":1837}," Typical Scenario (PE)","(Dual Wall)",12,"12","Dual Wall (10 psi) - Low Head","NA","Dual Wall (10 psi)",14.45,"ID",null,null,null,3.26,"Corrugated Dual Wall Drain Pipe","MFR ADS"]
[null,null,null,null,{"$f":"ROW()","v":1838}," Typical Scenario (PE)","(Dual Wall)",15,"15","Dual Wall (10 psi) - Low Head","NA","Dual Wall (10 psi)",17.57,"ID",null,null,null,4.63,"Corrugated Dual Wall Drain Pipe","MFR ADS"]
[null,null,null,null,{"$f":"ROW()","v":1839}," Typical Scenario (PE)","(Dual Wall)",18,"18","Dual Wall (10 psi) - Low Head","NA","Dual Wall (10 psi)",21.2,"ID",null,null,null,6.43,"Corrugated Dual Wall Drain Pipe","MFR ADS"]
[null,null,null,null,{"$f":"ROW()","v":1840}," Typical Scenario (PE)","(Dual Wall)",24,"24","Dual Wall (10 psi) - Low Head","NA","Dual Wall (10 psi)",27.8,"ID",null,null,null,11.02,"Corrugated Dual Wall Drain Pipe","MFR ADS"]
[null,null,null,null,{"$f":"ROW()","v":1841}," Typical Scenario (PE)","(Dual Wall)","42S","42 inch Type S","Dual Wall (10 psi) - Low Head","NA","Dual Wall (10 psi)",47.7,"ID",null,null,null,28.51,"Corrugated Dual Wall Drain Pipe","MFR ADS"]
[null,null,null,null,{"$f":"ROW()","v":1842}," Typical Scenario (PE)","(Dual Wall)","42D","42 inch Type D","Dual Wall (10 psi) - Low Head","NA","Dual Wall (10 psi)",46.75,"ID",null,null,null,29.74,"Corrugated Dual Wall Drain Pipe","MFR ADS"]
[null,null,null,null,{"$f":"ROW()","v":1843}," Typical Scenario (PE)","(Dual Wall)",30,"30","Dual Wall (10 psi) - Low Head","NA","Dual Wall (10 psi)",35.1,"ID",null,null,null,15.43,"Corrugated Dual Wall Drain Pipe","MFR ADS"]
[null,null,null,null,{"$f":"ROW()","v":1844}," Typical Scenario (PE)","(Dual Wall)",36,"36","Dual Wall (10 psi) - Low Head","NA","Dual Wall (10 psi)",41.7,"ID",null,null,null,19.84,"Corrugated Dual Wall Drain Pipe","MFR ADS"]
[null,null,null,null,{"$f":"ROW()","v":1845}," Typical Scenario (PE)","(Dual Wall)","48 Type S","48 inch Type S","Dual Wall (10 psi) - Low Head","NA","Dual Wall (10 psi)",53.6,"ID",null,null,null,31.25,"Corrugated Dual Wall Drain Pipe","MFR ADS"]
[null,null,null,null,{"$f":"ROW()","v":1846}," Typical Scenario (PE)","(Dual Wall)","48 Type D","48 inch Type D","Dual Wall (10 psi) - Low Head","NA","Dual Wall (10 psi)",52.7,"ID",null,null,null,34.14,"Corrugated Dual Wall Drain Pipe","MFR ADS"]
[null,null,null,null,{"$f":"ROW()","v":1847}," Typical Scenario (PE)","(Dual Wall)","60 Type S","60 inch Type S","Dual Wall (10 psi) - Low Head","NA","Dual Wall (10 psi)",66.3,"ID",null,null,null,45.2,"Corrugated Dual Wall Drain Pipe","MFR ADS"]
[null,null,null,null,{"$f":"ROW()","v":1848}," Typical Scenario (PE)","(Dual Wall)","60 Type D","60 inch Type D","Dual Wall (10 psi) - Low Head","NA","Dual Wall (10 psi)",65.5,"ID",null,null,null,56.17,"Corrugated Dual Wall Drain Pipe","MFR ADS"]
[null,null,null,null,{"$f":"ROW()","v":1849}," Typical Scenario (PE)","(Single Wall)",3,3,{"$f":"L1849&\" - Low Head\"","v":"Single Wall (10 psi) - Low Head"},"NA","Single Wall (10 psi)",3.5,"ID",null,null,null,0.21,"Corrugated Single Wall","ASTM F2648"]
[null,null,null,null,{"$f":"ROW()","v":1850}," Typical Scenario (PE)","(Single Wall)",4,4,{"$f":"L1850&\" - Low Head\"","v":"Single Wall (10 psi) - Low Head"},"NA","Single Wall (10 psi)",4.5,"ID",null,null,null,0.31,"Corrugated Single Wall","ASTM F2648"]
[null,null,null,null,{"$f":"ROW()","v":1851}," Typical Scenario (PE)","(Single Wall)",5,5,"Single Wall (10 psi) - Low Head","NA","Single Wall (10 psi)",5.5,"ID",null,null,null,0.5,"Corrugated Single Wall","ASTM F2648"]
[null,null,null,null,{"$f":"ROW()","v":1852}," Typical Scenario (PE)","(Single Wall)",6,6,"Single Wall (10 psi) - Low Head","NA","Single Wall (10 psi)",6.5,"ID",null,null,null,0.65,"Corrugated Single Wall","ASTM F2648"]
[null,null,null,null,{"$f":"ROW()","v":1853}," Typical Scenario (PE)","(Single Wall)",8,8,"Single Wall (10 psi) - Low Head","NA","Single Wall (10 psi)",10,"ID",null,null,null,1.23,"Corrugated Single Wall","ASTM F2648"]
[null,null,null,null,{"$f":"ROW()","v":1854}," Typical Scenario (PE)","(Single Wall)",10,10,"Single Wall (10 psi) - Low Head","NA","Single Wall (10 psi)",12,"ID",null,null,null,1.67,"Corrugated Single Wall","ASTM F2648"]
[null,null,null,null,{"$f":"ROW()","v":1855}," Typical Scenario (PE)","(Single Wall)",12,12,"Single Wall (10 psi) - Low Head","NA","Single Wall (10 psi)",15,"ID",null,null,null,2.92,"Corrugated Single Wall","ASTM F2648"]
[null,null,null,null,{"$f":"ROW()","v":1856}," Typical Scenario (PE)","(Single Wall)",15,15,"Single Wall (10 psi) - Low Head","NA","Single Wall (10 psi)",18,"ID",null,null,null,4.09,"Corrugated Single Wall","ASTM F2648"]
[null,null,null,null,{"$f":"ROW()","v":1857}," Typical Scenario (PE)","(Single Wall)",18,18,"Single Wall (10 psi) - Low Head","NA","Single Wall (10 psi)",21,"ID",null,null,null,5.6,"Corrugated Single Wall","ASTM F2648"]
[null,null,null,null,{"$f":"ROW()","v":1858}," Typical Scenario (PE)","(Single Wall)",21,21,"Single Wall (10 psi) - Low Head","NA","Single Wall (10 psi)",24,"ID",null,null,null,7.58,"Corrugated Single Wall","ASTM F2648"]
[null,null,null,null,{"$f":"ROW()","v":1859}," Typical Scenario (PE)","(Single Wall)",24,24,"Single Wall (10 psi) - Low Head","NA","Single Wall (10 psi)",28,"ID",null,null,null,9.92,"Corrugated Single Wall","ASTM F2648"]
[null,null,null,null,{"$f":"ROW()","v":1860},null," "," ",null,null,null,null," "," "," "," "," "," "]
[null,null,null,null,{"$f":"ROW()","v":1861},null," "," ",null,null,null,null," "," "," "," "," "," "]
[null,null,null,null,{"$f":"ROW()","v":1862},null," "," ",null,null,null,null," "," "," "," "," "," "]
[null,null,null,null,{"$f":"ROW()","v":1863},null," "," ",null,null,null,null," "," "," "," "," "," "]
[null,null,null,null,{"$f":"ROW()","v":1864},null," "," ",null,null,null,null," "," "," "," "," "," "]
[null,null,null,null,{"$f":"ROW()","v":1865},null," "," ",null,null,null,null," "," "," "," "," "," "]
[null,null,null,null,{"$f":"ROW()","v":1866},null," "," ",null,null,null,null," "," "," "," "," "," "]
[null,null,null,null,{"$f":"ROW()","v":1867},null," "," ",null,null,null,null," "," "," "," "," "," "]
[null,null,null,null,{"$f":"ROW()","v":1868},null," "," ",null,null,null,null," "," "," "," "," "," "]
[null,null,null,null,{"$f":"ROW()","v":1869},null," "," ",null,null,null,null," "," "," "," "," "," "]
[null,null,null,null,{"$f":"ROW()","v":1870},null," "," ",null,null,null,null," "," "," "," "," "," "]
[null,null,null,null,{"$f":"ROW()","v":1871},null," "," ",null,null,null,null," "," "," "," "," "," "]
[null,null,null,null,{"$f":"ROW()","v":1872},null," "," ",null,null,null,null," "," "," "," "," "," "]
[null,null,null,null,{"$f":"ROW()","v":1873},null," "," ",null,null,null,null," "," "," "," "," "," "]
[null,null,null,null,{"$f":"ROW()","v":1874},null," "," ",null,null,null,null," "," "," "," "," "," "]
[null,null,null,null,{"$f":"ROW()","v":1875},null," "," ",null,null,null,null," "," "," "," "," "," "]
[null,null,null,null,{"$f":"ROW()","v":1876},null," "," ",null,null,null,null," "," "," "," "," "," "]
[null,null,null,null,{"$f":"ROW()","v":1877},null," "," ",null,null,null,null," "," "," "," "," "," "]
[null,null,null,null,{"$f":"ROW()","v":1878},null," "," ",null,null,null,null," "," "," "," "," "," "]
[null,null,null,null,{"$f":"ROW()","v":1879},null," "," ",null,null,null,null," "," "," "," "," "," "]
[null,null,null,null,{"$f":"ROW()","v":1880},null," "," ",null,null,null,null," "," "," "," "," "," "]
[null,null,null,null,{"$f":"ROW()","v":1881},null," "," ",null,null,null,null," "," "," "," "," "," "]
[null,null,null,null,{"$f":"ROW()","v":1882},null," "," ",null,null,null,null," "," "," "," "," "," "]
[null,null,null,null,{"$f":"ROW()","v":1883},null," "," ",null,null,null,null," "," "," "," "," "," "]
[null,null,null,null,{"$f":"ROW()","v":1884},null," "," ",null,null,null,null," "," "," "," "," "," "]
[null,null,null,null,{"$f":"ROW()","v":1885},null," "," ",null,null,null,null," "," "," "," "," "," "]
[null,null,null,null,{"$f":"ROW()","v":1886},null," "," ",null,null,null,null," "," "," "," "," "," "]
[null,null,null,null,{"$f":"ROW()","v":1887},null," "," ",null,null,null,null," "," "," "," "," "," "]
[null,null,null,null,{"$f":"ROW()","v":1888},null," "," ",null,null,null,null," "," "," "," "," "," "]
[null,null,null,null,{"$f":"ROW()","v":1889},null," "," ",null,null,null,null," "," "," "," "," "," "]
[null,null,null,null,{"$f":"ROW()","v":1890},null," "," ",null,null,null,null," "," "," "," "," "," "]
[null,null,null,null,{"$f":"ROW()","v":1891},null," "," ",null,null,null,null," "," "," "," "," "," "]
[null,null,null,null,{"$f":"ROW()","v":1892},null," "," ",null,null,null,null," "," "," "," "," "," "]
[null,null,null,null,{"$f":"ROW()","v":1893},null," "," ",null,null,null,null," "," "," "," "," "," "]
[null,null,null,null,{"$f":"ROW()","v":1894},null," "," ",null,null,null,null," "," "," "," "," "," "]
[null,null,null,null,{"$f":"ROW()","v":1895},null," "," ",null,null,null,null," "," "," "," "," "," "]
[null,null,null,null,{"$f":"ROW()","v":1896},null," "," ",null,null,null,null," "," "," "," "," "," "]
[null,null,null,null,{"$f":"ROW()","v":1897},null," "," ",null,null,null,null," "," "," "," "," "," "]
[null,null,null,null,{"$f":"ROW()","v":1898},null," "," ",null,null,null,null," "," "," "," "," "," "]
[null,null,null,null,{"$f":"ROW()","v":1899},null," "," ",null,null,null,null," "," "," "," "," "," "]
[null,null,null,null,{"$f":"ROW()","v":1900},null," "," ",null,null,null,null," "," "," "," "," "," "]
[null,null,null,null,{"$f":"ROW()","v":1901},null," "," ",null,null,null,null," "," "," "," "," "," "]
[null,null,null,null,{"$f":"ROW()","v":1902},null," "," ",null,null,null,null," "," "," "," "," "," "]
[null,null,null,null,{"$f":"ROW()","v":1903},null," "," ",null,null,null,null," "," "," "," "," "," "]
[null,null,null,null,{"$f":"ROW()","v":1904},null," "," ",null,null,null,null," "," "," "," "," "," "]
[null,null,null,null,{"$f":"ROW()","v":1905},null," "," ",null,null,null,null," "," "," "," "," "," "]
[null,null,null,null,{"$f":"ROW()","v":1906},null," "," ",null,null,null,null," "," "," "," "," "," "]
[null,null,null,null,{"$f":"ROW()","v":1907},null," "," ",null,null,null,null," "," "," "," "," "," "]
[null,null,null,null,{"$f":"ROW()","v":1908},null," "," ",null,null,null,null," "," "," "," "," "," "]
[null,null,null,null,{"$f":"ROW()","v":1909},null," "," ",null,null,null,null," "," "," "," "," "," "]
[null,null,null,null,{"$f":"ROW()","v":1910},null," "," ",null,null,null,null," "," "," "," "," "," "]
[null,null,null,null,{"$f":"ROW()","v":1911},null," "," ",null,null,null,null," "," "," "," "," "," "]
[null,null,null,null,{"$f":"ROW()","v":1912},null," "," ",null,null,null,null," "," "," "," "," "," "]
[null,null,null,null,{"$f":"ROW()","v":1913},null," "," ",null,null,null,null," "," "," "," "," "," "]
[null,null,null,null,{"$f":"ROW()","v":1914},null," "," ",null,null,null,null," "," "," "," "," "," "]
[null,null,null,null,{"$f":"ROW()","v":1915},null," "," ",null,null,null,null," "," "," "," "," "," "]
[null,null,null,null,{"$f":"ROW()","v":1916},null," "," ",null,null,null,null," "," "," "," "," "," "]
[null,null,null,null,{"$f":"ROW()","v":1917},null," "," ",null,null,null,null," "," "," "," "," "," "]
[null,null,null,null,{"$f":"ROW()","v":1918},null," "," ",null,null,null,null," "," "," "," "," "," "]
[null,null,null,null,{"$f":"ROW()","v":1919},null," "," ",null,null,null,null," "," "," "," "," "," "]
[null,null,null,null,{"$f":"ROW()","v":1920},null," "," ",null,null,null,null," "," "," "," "," "," "]
[null,null,null,null,{"$f":"ROW()","v":1921},null," "," ",null,null,null,null," "," "," "," "," "," "]
[null,null,null,null,{"$f":"ROW()","v":1922},null," "," ",null,null,null,null," "," "," "," "," "," "]
[null,null,null,null,{"$f":"ROW()","v":1923},null," "," ",null,null,null,null," "," "," "," "," "," "]
[null,null,null,null,{"$f":"ROW()","v":1924},null," "," ",null,null,null,null," "," "," "," "," "," "]
[null,null,null,null,{"$f":"ROW()","v":1925},null," "," ",null,null,null,null," "," "," "," "," "," "]
[null,null,null,null,{"$f":"ROW()","v":1926},null," "," ",null,null,null,null," "," "," "," "," "," "]
[null,null,null,null,{"$f":"ROW()","v":1927},null," "," ",null,null,null,null," "," "," "," "," "," "]
[null,null,null,null,{"$f":"ROW()","v":1928},null," "," ",null,null,null,null," "," "," "," "," "," "]
[null,null,null,null,{"$f":"ROW()","v":1929},null," "," ",null,null,null,null," "," "," "," "," "," "]
[null,null,null,null,{"$f":"ROW()","v":1930},null," "," ",null,null,null,null," "," "," "," "," "," "]
[null,null,null,null,{"$f":"ROW()","v":1931},null," "," ",null,null,null,null," "," "," "," "," "," "]
[null,null,null,null,{"$f":"ROW()","v":1932},null," "," ",null,null,null,null," "," "," "," "," "," "]
[null,null,null,null,{"$f":"ROW()","v":1933},null," "," ",null,null,null,null," "," "," "," "," "," "]
[null,null,null,null,{"$f":"ROW()","v":1934},null," "," ",null,null,null,null," "," "," "," "," "," "]
[null,null,null,null,{"$f":"ROW()","v":1935},null," "," ",null,null,null,null," "," "," "," "," "," "]
[null,null,null,null,{"$f":"ROW()","v":1936},null," "," ",null,null,null,null," "," "," "," "," "," "]
[null,null,null,null,{"$f":"ROW()","v":1937},null," "," ",null,null,null,null," "," "," "," "," "," "]
[null,null,null,null,{"$f":"ROW()","v":1938},null," "," ",null,null,null,null," "," "," "," "," "," "]
[null,null,null,null,{"$f":"ROW()","v":1939},null," "," ",null,null,null,null," "," "," "," "," "," "]
[null,null,null,null,{"$f":"ROW()","v":1940},null," "," ",null,null,null,null," "," "," "," "," "," "]
[null,null,null,null,{"$f":"ROW()","v":1941},null," "," ",null,null,null,null," "," "," "," "," "," "]
[null,null,null,null,{"$f":"ROW()","v":1942},null," "," ",null,null,null,null," "," "," "," "," "," "]
[null,null,null,null,{"$f":"ROW()","v":1943},null," "," ",null,null,null,null," "," "," "," "," "," "]
[null,null,null,null,{"$f":"ROW()","v":1944},null," "," ",null,null,null,null," "," "," "," "," "," "]
[null,null,null,null,{"$f":"ROW()","v":1945},null," "," ",null,null,null,null," "," "," "," "," "," "]
[null,null,null,null,{"$f":"ROW()","v":1946},null," "," ",null,null,null,null," "," "," "," "," "," "]
[null,null,null,null,{"$f":"ROW()","v":1947},null," "," ",null,null,null,null," "," "," "," "," "," "]
[null,null,null,null,{"$f":"ROW()","v":1948},null," "," ",null,null,null,null," "," "," "," "," "," "]
[null,null,null,null,{"$f":"ROW()","v":1949},null," "," ",null,null,null,null," "," "," "," "," "," "]
[null,null,null,null,{"$f":"ROW()","v":1950},null," "," ",null,null,null,null," "," "," "," "," "," "]
[null,null,null,null,{"$f":"ROW()","v":1951},null," "," ",null,null,null,null," "," "," "," "," "," "]
[null,null,null,null,{"$f":"ROW()","v":1952},null," "," ",null,null,null,null," "," "," "," "," "," "]
[null,null,null,null,{"$f":"ROW()","v":1953},null," "," ",null,null,null,null," "," "," "," "," "," "]
[null,null,null,null,{"$f":"ROW()","v":1954},null," "," ",null,null,null,null," "," "," "," "," "," "]
[null,null,null,null,{"$f":"ROW()","v":1955},null," "," ",null,null,null,null," "," "," "," "," "," "]
[null,null,null,null,{"$f":"ROW()","v":1956},null," "," ",null,null,null,null," "," "," "," "," "," "]
[null,null,null,null,{"$f":"ROW()","v":1957},null," "," ",null,null,null,null," "," "," "," "," "," "]
[null,null,null,null,{"$f":"ROW()","v":1958},null," "," ",null,null,null,null," "," "," "," "," "," "]
[null,null,null,null,{"$f":"ROW()","v":1959},null," "," ",null,null,null,null," "," "," "," "," "," "]
[null,null,null,null,{"$f":"ROW()","v":1960},null," "," ",null,null,null,null," "," "," "," "," "," "]
[null,null,null,null,{"$f":"ROW()","v":1961},null," "," ",null,null,null,null," "," "," "," "," "," "]
[null,null,null,null,{"$f":"ROW()","v":1962},null," "," ",null,null,null,null," "," "," "," "," "," "]
[null,null,null,null,{"$f":"ROW()","v":1963},null," "," ",null,null,null,null," "," "," "," "," "," "]
[null,null,null,null,{"$f":"ROW()","v":1964},null," "," ",null,null,null,null," "," "," "," "," "," "]
[null,null,null,null,{"$f":"ROW()","v":1965},null," "," ",null,null,null,null," "," "," "," "," "," "]
[null,null,null,null,{"$f":"ROW()","v":1966},null," "," ",null,null,null,null," "," "," "," "," "," "]
[null,null,null,null,{"$f":"ROW()","v":1967},null," "," ",null,null,null,null," "," "," "," "," "," "]
[null,null,null,null,{"$f":"ROW()","v":1968},null," "," ",null,null,null,null," "," "," "," "," "," "]
[null,null,null,null,{"$f":"ROW()","v":1969},null," "," ",null,null,null,null," "," "," "," "," "," "]
[null,null,null,null,{"$f":"ROW()","v":1970},null," "," ",null,null,null,null," "," "," "," "," "," "]
[null,null,null,null,{"$f":"ROW()","v":1971},null," "," ",null,null,null,null," "," "," "," "," "," "]
[null,null,null,null,{"$f":"ROW()","v":1972},null," "," ",null,null,null,null," "," "," "," "," "," "]
[null,null,null,null,{"$f":"ROW()","v":1973},null," "," ",null,null,null,null," "," "," "," "," "," "]
[null,null,null,null,{"$f":"ROW()","v":1974},null," "," ",null,null,null,null," "," "," "," "," "," "]
[null,null,null,null,{"$f":"ROW()","v":1975},null," "," ",null,null,null,null," "," "," "," "," "," "]
[null,null,null,null,{"$f":"ROW()","v":1976},null," "," ",null,null,null,null," "," "," "," "," "," "]
[null,null,null,null,{"$f":"ROW()","v":1977},null," "," ",null,null,null,null," "," "," "," "," "," "]
[null,null,null,null,{"$f":"ROW()","v":1978},null," "," ",null,null,null,null," "," "," "," "," "," "]
[null,null,null,null,{"$f":"ROW()","v":1979},null," "," ",null,null,null,null," "," "," "," "," "," "]
[null,null,null,null,{"$f":"ROW()","v":1980},null," "," ",null,null,null,null," "," "," "," "," "," "]
[null,null,null,null,{"$f":"ROW()","v":1981},null," "," ",null,null,null,null," "," "," "," "," "," "]
[null,null,null,null,{"$f":"ROW()","v":1982},null," "," ",null,null,null,null," "," "," "," "," "," "]
[null,null,null,null,{"$f":"ROW()","v":1983},null," "," ",null,null,null,null," "," "," "," "," "," "]
[null,null,null,null,{"$f":"ROW()","v":1984},null," "," ",null,null,null,null," "," "," "," "," "," "]
[null,null,null,null,{"$f":"ROW()","v":1985},null," "," ",null,null,null,null," "," "," "," "," "," "]
[null,null,null,null,{"$f":"ROW()","v":1986},null," "," ",null,null,null,null," "," "," "," "," "," "]
[null,null,null,null,{"$f":"ROW()","v":1987},null," "," ",null,null,null,null," "," "," "," "," "," "]
[null,null,null,null,{"$f":"ROW()","v":1988},null," "," ",null,null,null,null," "," "," "," "," "," "]
[null,null,null,null,{"$f":"ROW()","v":1989},null," "," ",null,null,null,null," "," "," "," "," "," "]
[null,null,null,null,{"$f":"ROW()","v":1990},null," "," ",null,null,null,null," "," "," "," "," "," "]
[null,null,null,null,{"$f":"ROW()","v":1991},null," "," ",null,null,null,null," "," "," "," "," "," "]
[null,null,null,null,{"$f":"ROW()","v":1992},null," "," ",null,null,null,null," "," "," "," "," "," "]
[null,null,null,null,{"$f":"ROW()","v":1993},null," "," ",null,null,null,null," "," "," "," "," "," "]
[null,null,null,null,{"$f":"ROW()","v":1994},null," "," ",null,null,null,null," "," "," "," "," "," "]
[null,null,null,null,{"$f":"ROW()","v":1995},null," "," ",null,null,null,null," "," "," "," "," "," "]
[null,null,null,null,{"$f":"ROW()","v":1996},null," "," ",null,null,null,null," "," "," "," "," "," "]
[null,null,null,null,{"$f":"ROW()","v":1997},null," "," ",null,null,null,null," "," "," "," "," "," "]
[null,null,null,null,{"$f":"ROW()","v":1998},null," "," ",null,null,null,null," "," "," "," "," "," "]
[null,null,null,null,{"$f":"ROW()","v":1999},null," "," ",null,null,null,null," "," "," "," "," "," "]
[null,null,null,null,{"$f":"ROW()","v":2000},null," "," ",null,null,null,null," "," "," "," "," "," "]
[null,null,null,null,{"$f":"ROW()","v":2001},null," "," ",null,null,null,null," "," "," "," "," "," "]
[null,null,null,null,{"$f":"ROW()","v":2002},null," "," ",null,null,null,null," "," "," "," "," "," "]
[null,null,null,null,{"$f":"ROW()","v":2003},null," "," ",null,null,null,null," "," "," "," "," "," "]
[null,null,null,null,{"$f":"ROW()","v":2004},null," "," ",null,null,null,null," "," "," "," "," "," "]
[null,null,null,null,{"$f":"ROW()","v":2005},null," "," ",null,null,null,null," "," "," "," "," "," "]
[null,null,null,null,{"$f":"ROW()","v":2006},null," "," ",null,null,null,null," "," "," "," "," "," "]
[null,null,null,null,{"$f":"ROW()","v":2007},null," "," ",null,null,null,null," "," "," "," "," "," "]
[null,null,null,null,{"$f":"ROW()","v":2008},null," "," ",null,null,null,null," "," "," "," "," "," "]
[null,null,null,null,{"$f":"ROW()","v":2009},null," "," ",null,null,null,null," "," "," "," "," "," "]
[null,null,null,null,{"$f":"ROW()","v":2010},null," "," ",null,null,null,null," "," "," "," "," "," "]
[null,null,null,null,{"$f":"ROW()","v":2011},null," "," ",null,null,null,null," "," "," "," "," "," "]
[null,null,null,null,{"$f":"ROW()","v":2012},null," "," ",null,null,null,null," "," "," "," "," "," "]
[null,null,null,null,{"$f":"ROW()","v":2013},null," "," ",null,null,null,null," "," "," "," "," "," "]
[null,null,null,null,{"$f":"ROW()","v":2014},null," "," ",null,null,null,null," "," "," "," "," "," "]
[null,null,null,null,{"$f":"ROW()","v":2015},null," "," ",null,null,null,null," "," "," "," "," "," "]
[null,null,null,null,{"$f":"ROW()","v":2016},null," "," ",null,null,null,null," "," "," "," "," "," "]
[null,null,null,null,{"$f":"ROW()","v":2017},null," "," ",null,null,null,null," "," "," "," "," "," "]
[null,null,null,null,{"$f":"ROW()","v":2018},null," "," ",null,null,null,null," "," "," "," "," "," "]
[null,null,null,null,{"$f":"ROW()","v":2019},null," "," ",null,null,null,null," "," "," "," "," "," "]
[null,null,null,null,{"$f":"ROW()","v":2020},null," "," ",null,null,null,null," "," "," "," "," "," "]
[null,null,null,null,{"$f":"ROW()","v":2021},null," "," ",null,null,null,null," "," "," "," "," "," "]
[null,null,null,null,{"$f":"ROW()","v":2022},null," "," ",null,null,null,null," "," "," "," "," "," "]
[null,null,null,null,{"$f":"ROW()","v":2023},null," "," ",null,null,null,null," "," "," "," "," "," "]
[null,null,null,null,{"$f":"ROW()","v":2024},null," "," ",null,null,null,null," "," "," "," "," "," "]
[null,null,null,null,{"$f":"ROW()","v":2025},null," "," ",null,null,null,null," "," "," "," "," "," "]
[null,null,null,null,{"$f":"ROW()","v":2026},null," "," ",null,null,null,null," "," "," "," "," "," "]
[null,null,null,null,{"$f":"ROW()","v":2027},null," "," ",null,null,null,null," "," "," "," "," "," "]
[null,null,null,null,{"$f":"ROW()","v":2028},null," "," ",null,null,null,null," "," "," "," "," "," "]
[null,null,null,null,{"$f":"ROW()","v":2029},null," "," ",null,null,null,null," "," "," "," "," "," "]
[null,null,null,null,{"$f":"ROW()","v":2030},null," "," ",null,null,null,null," "," "," "," "," "," "]
[null,null,null,null,{"$f":"ROW()","v":2031},null," "," ",null,null,null,null," "," "," "," "," "," "]
[null,null,null,null,{"$f":"ROW()","v":2032},null," "," ",null,null,null,null," "," "," "," "," "," "]
[null,null,null,null,{"$f":"ROW()","v":2033},null," "," ",null,null,null,null," "," "," "," "," "," "]
[null,null,null,null,{"$f":"ROW()","v":2034},null," "," ",null,null,null,null," "," "," "," "," "," "]
[null,null,null,null,{"$f":"ROW()","v":2035},null," "," ",null,null,null,null," "," "," "," "," "," "]
[null,null,null,null,{"$f":"ROW()","v":2036},null," "," ",null,null,null,null," "," "," "," "," "," "]
[null,null,null,null,{"$f":"ROW()","v":2037},null," "," ",null,null,null,null," "," "," "," "," "," "]
[null,null,null,null,{"$f":"ROW()","v":2038},null," "," ",null,null,null,null," "," "," "," "," "," "]
[null,null,null,null,{"$f":"ROW()","v":2039},null," "," ",null,null,null,null," "," "," "," "," "," "]
[null,null,null,null,{"$f":"ROW()","v":2040},null," "," ",null,null,null,null," "," "," "," "," "," "]
[null,null,null,null,{"$f":"ROW()","v":2041},null," "," ",null,null,null,null," "," "," "," "," "," "]
[null,null,null,null,{"$f":"ROW()","v":2042},null," "," ",null,null,null,null," "," "," "," "," "," "]
[null,null,null,null,{"$f":"ROW()","v":2043},null," "," ",null,null,null,null," "," "," "," "," "," "]
[null,null,null,null,{"$f":"ROW()","v":2044},null," "," ",null,null,null,null," "," "," "," "," "," "]
[null,null,null,null,{"$f":"ROW()","v":2045},null," "," ",null,null,null,null," "," "," "," "," "," "]
[null,null,null,null,{"$f":"ROW()","v":2046},null," "," ",null,null,null,null," "," "," "," "," "," "]
[null,null,null,null,{"$f":"ROW()","v":2047},null," "," ",null,null,null,null," "," "," "," "," "," "]
[null,null,null,null,{"$f":"ROW()","v":2048},null," "," ",null,null,null,null," "," "," "," "," "," "]
[null,null,null,null,{"$f":"ROW()","v":2049},null," "," ",null,null,null,null," "," "," "," "," "," "]
[null,null,null,null,{"$f":"ROW()","v":2050},null," "," ",null,null,null,null," "," "," "," "," "," "]
[null,null,null,null,{"$f":"ROW()","v":2051},null," "," ",null,null,null,null," "," "," "," "," "," "]
[null,null,null,null,{"$f":"ROW()","v":2052},null," "," ",null,null,null,null," "," "," "," "," "," "]
[null,null,null,null,{"$f":"ROW()","v":2053},null," "," ",null,null,null,null," "," "," "," "," "," "]
[null,null,null,null,{"$f":"ROW()","v":2054},null," "," ",null,null,null,null," "," "," "," "," "," "]
[null,null,null,null,{"$f":"ROW()","v":2055},null," "," ",null,null,null,null," "," "," "," "," "," "]
[null,null,null,null,{"$f":"ROW()","v":2056},null," "," ",null,null,null,null," "," "," "," "," "," "]
[null,null,null,null,{"$f":"ROW()","v":2057},null," "," ",null,null,null,null," "," "," "," "," "," "]
[null,null,null,null,{"$f":"ROW()","v":2058},null," "," ",null,null,null,null," "," "," "," "," "," "]
[null,null,null,null,{"$f":"ROW()","v":2059},null," "," ",null,null,null,null," "," "," "," "," "," "]
[null,null,null,null,{"$f":"ROW()","v":2060},null," "," ",null,null,null,null," "," "," "," "," "," "]
[null,null,null,null,{"$f":"ROW()","v":2061},null," "," ",null,null,null,null," "," "," "," "," "," "]
[null,null,null,null,{"$f":"ROW()","v":2062},null," "," ",null,null,null,null," "," "," "," "," "," "]
[null,null,null,null,{"$f":"ROW()","v":2063},null," "," ",null,null,null,null," "," "," "," "," "," "]
[null,null,null,null,{"$f":"ROW()","v":2064},null," "," ",null,null,null,null," "," "," "," "," "," "]
[null,null,null,null,{"$f":"ROW()","v":2065},null," "," ",null,null,null,null," "," "," "," "," "," "]
[null,null,null,null,{"$f":"ROW()","v":2066},null," "," ",null,null,null,null," "," "," "," "," "," "]
[null,null,null,null,{"$f":"ROW()","v":2067},null," "," ",null,null,null,null," "," "," "," "," "," "]
[null,null,null,null,{"$f":"ROW()","v":2068},null," "," ",null,null,null,null," "," "," "," "," "," "]
[null,null,null,null,{"$f":"ROW()","v":2069},null," "," ",null,null,null,null," "," "," "," "," "," "]
[null,null,null,null,{"$f":"ROW()","v":2070},null," "," ",null,null,null,null," "," "," "," "," "," "]
[null,null,null,null,{"$f":"ROW()","v":2071},null," "," ",null,null,null,null," "," "," "," "," "," "]
[null,null,null,null,{"$f":"ROW()","v":2072},null," "," ",null,null,null,null," "," "," "," "," "," "]
[null,null,null,null,{"$f":"ROW()","v":2073},null," "," ",null,null,null,null," "," "," "," "," "," "]
[null,null,null,null,{"$f":"ROW()","v":2074},null," "," ",null,null,null,null," "," "," "," "," "," "]
[null,null,null,null,{"$f":"ROW()","v":2075},null," "," ",null,null,null,null," "," "," "," "," "," "]
[null,null,null,null,{"$f":"ROW()","v":2076},null," "," ",null,null,null,null," "," "," "," "," "," "]
[null,null,null,null,{"$f":"ROW()","v":2077},null," "," ",null,null,null,null," "," "," "," "," "," "]
[null,null,null,null,{"$f":"ROW()","v":2078},null," "," ",null,null,null,null," "," "," "," "," "," "]
[null,null,null,null,{"$f":"ROW()","v":2079},null," "," ",null,null,null,null," "," "," "," "," "," "]
[null,null,null,null,{"$f":"ROW()","v":2080},null," "," ",null,null,null,null," "," "," "," "," "," "]
[null,null,null,null,{"$f":"ROW()","v":2081},null," "," ",null,null,null,null," "," "," "," "," "," "]
[null,null,null,null,{"$f":"ROW()","v":2082},null," "," ",null,null,null,null," "," "," "," "," "," "]
[null,null,null,null,{"$f":"ROW()","v":2083},null," "," ",null,null,null,null," "," "," "," "," "," "]
[null,null,null,null,{"$f":"ROW()","v":2084},null," "," ",null,null,null,null," "," "," "," "," "," "]
[null,null,null,null,{"$f":"ROW()","v":2085},null," "," ",null,null,null,null," "," "," "," "," "," "]
[null,null,null,null,{"$f":"ROW()","v":2086},null," "," ",null,null,null,null," "," "," "," "," "," "]
[null,null,null,null,{"$f":"ROW()","v":2087},null," "," ",null,null,null,null," "," "," "," "," "," "]
[null,null,null,null,{"$f":"ROW()","v":2088},null," "," ",null,null,null,null," "," "," "," "," "," "]
[null,null,null,null,{"$f":"ROW()","v":2089},null," "," ",null,null,null,null," "," "," "," "," "," "]
[null,null,null,null,{"$f":"ROW()","v":2090},null," "," ",null,null,null,null," "," "," "," "," "," "]
[null,null,null,null,{"$f":"ROW()","v":2091},null," "," ",null,null,null,null," "," "," "," "," "," "]
[null,null,null,null,{"$f":"ROW()","v":2092},null," "," ",null,null,null,null," "," "," "," "," "," "]
[null,null,null,null,{"$f":"ROW()","v":2093},null," "," ",null,null,null,null," "," "," "," "," "," "]
[null,null,null,null,{"$f":"ROW()","v":2094},null," "," ",null,null,null,null," "," "," "," "," "," "]
[null,null,null,null,{"$f":"ROW()","v":2095},null," "," ",null,null,null,null," "," "," "," "," "," "]
[null,null,null,null,{"$f":"ROW()","v":2096},null," "," ",null,null,null,null," "," "," "," "," "," "]
[null,null,null,null,{"$f":"ROW()","v":2097},null," "," ",null,null,null,null," "," "," "," "," "," "]
[null,null,null,null,{"$f":"ROW()","v":2098},null," "," ",null,null,null,null," "," "," "," "," "," "]
[null,null,null,null,{"$f":"ROW()","v":2099},null," "," ",null,null,null,null," "," "," "," "," "," "]
[null,null,null,null,{"$f":"ROW()","v":2100},null," "," ",null,null,null,null," "," "," "," "," "," "]
[null,null,null,null,{"$f":"ROW()","v":2101},null," "," ",null,null,null,null," "," "," "," "," "," "]
[null,null,null,null,{"$f":"ROW()","v":2102},null," "," ",null,null,null,null," "," "," "," "," "," "]
[null,null,null,null,{"$f":"ROW()","v":2103},null," "," ",null,null,null,null," "," "," "," "," "," "]
[null,null,null,null,{"$f":"ROW()","v":2104},null," "," ",null,null,null,null," "," "," "," "," "," "]
[null,null,null,null,{"$f":"ROW()","v":2105},null," "," ",null,null,null,null," "," "," "," "," "," "]
[null,null,null,null,{"$f":"ROW()","v":2106},null," "," ",null,null,null,null," "," "," "," "," "," "]
[null,null,null,null,{"$f":"ROW()","v":2107},null," "," ",null,null,null,null," "," "," "," "," "," "]
[null,null,null,null,{"$f":"ROW()","v":2108},null," "," ",null,null,null,null," "," "," "," "," "," "]
[null,null,null,null,{"$f":"ROW()","v":2109},null," "," ",null,null,null,null," "," "," "," "," "," "]
[null,null,null,null,{"$f":"ROW()","v":2110},null," "," ",null,null,null,null," "," "," "," "," "," "]
[null,null,null,null,{"$f":"ROW()","v":2111},null," "," ",null,null,null,null," "," "," "," "," "," "]
[null,null,null,null,{"$f":"ROW()","v":2112},null," "," ",null,null,null,null," "," "," "," "," "," "]
[null,null,null,null,{"$f":"ROW()","v":2113},null," "," ",null,null,null,null," "," "," "," "," "," "]
[null,null,null,null,{"$f":"ROW()","v":2114},null," "," ",null,null,null,null," "," "," "," "," "," "]
[null,null,null,null,{"$f":"ROW()","v":2115},null," "," ",null,null,null,null," "," "," "," "," "," "]
[null,null,null,null,{"$f":"ROW()","v":2116},null," "," ",null,null,null,null," "," "," "," "," "," "]
[null,null,null,null,{"$f":"ROW()","v":2117},null," "," ",null,null,null,null," "," "," "," "," "," "]
[null,null,null,null,{"$f":"ROW()","v":2118},null," "," ",null,null,null,null," "," "," "," "," "," "]
[null,null,null,null,{"$f":"ROW()","v":2119},null," "," ",null,null,null,null," "," "," "," "," "," "]
[null,null,null,null,{"$f":"ROW()","v":2120},null," "," ",null,null,null,null," "," "," "," "," "," "]
[null,null,null,null,{"$f":"ROW()","v":2121},null," "," ",null,null,null,null," "," "," "," "," "," "]
[null,null,null,null,{"$f":"ROW()","v":2122},null," "," ",null,null,null,null," "," "," "," "," "," "]
[null,null,null,null,{"$f":"ROW()","v":2123},null," "," ",null,null,null,null," "," "," "," "," "," "]
[null,null,null,null,{"$f":"ROW()","v":2124},null," "," ",null,null,null,null," "," "," "," "," "," "]
[null,null,null,null,{"$f":"ROW()","v":2125},null," "," ",null,null,null,null," "," "," "," "," "," "]
[null,null,null,null,{"$f":"ROW()","v":2126},null," "," ",null,null,null,null," "," "," "," "," "," "]
[null,null,null,null,{"$f":"ROW()","v":2127},null," "," ",null,null,null,null," "," "," "," "," "," "]
[null,null,null,null,{"$f":"ROW()","v":2128},null," "," ",null,null,null,null," "," "," "," "," "," "]
[null,null,null,null,{"$f":"ROW()","v":2129},null," "," ",null,null,null,null," "," "," "," "," "," "]
[null,null,null,null,{"$f":"ROW()","v":2130},null," "," ",null,null,null,null," "," "," "," "," "," "]
[null,null,null,null,{"$f":"ROW()","v":2131},null," "," ",null,null,null,null," "," "," "," "," "," "]
[null,null,null,null,{"$f":"ROW()","v":2132},null," "," ",null,null,null,null," "," "," "," "," "," "]
[null,null,null,null,{"$f":"ROW()","v":2133},null," "," ",null,null,null,null," "," "," "," "," "," "]
[null,null,null,null,{"$f":"ROW()","v":2134},null," "," ",null,null,null,null," "," "," "," "," "," "]
[null,null,null,null,{"$f":"ROW()","v":2135},null," "," ",null,null,null,null," "," "," "," "," "," "]
[null,null,null,null,{"$f":"ROW()","v":2136},null," "," ",null,null,null,null," "," "," "," "," "," "]
[null,null,null,null,{"$f":"ROW()","v":2137},null," "," ",null,null,null,null," "," "," "," "," "," "]
[null,null,null,null,{"$f":"ROW()","v":2138},null," "," ",null,null,null,null," "," "," "," "," "," "]
[null,null,null,null,{"$f":"ROW()","v":2139},null," "," ",null,null,null,null," "," "," "," "," "," "]
[null,null,null,null,{"$f":"ROW()","v":2140},null," "," ",null,null,null,null," "," "," "," "," "," "]
[null,null,null,null,{"$f":"ROW()","v":2141},null," "," ",null,null,null,null," "," "," "," "," "," "]
[null,null,null,null,{"$f":"ROW()","v":2142},null," "," ",null,null,null,null," "," "," "," "," "," "]
[null,null,null,null,{"$f":"ROW()","v":2143},null," "," ",null,null,null,null," "," "," "," "," "," "]
[null,null,null,null,{"$f":"ROW()","v":2144},null," "," ",null,null,null,null," "," "," "," "," "," "]
[null,null,null,null,{"$f":"ROW()","v":2145},null," "," ",null,null,null,null," "," "," "," "," "," "]
[null,null,null,null,{"$f":"ROW()","v":2146},null," "," ",null,null,null,null," "," "," "," "," "," "]
[null,null,null,null,{"$f":"ROW()","v":2147},null," "," ",null,null,null,null," "," "," "," "," "," "]
[null,null,null,null,{"$f":"ROW()","v":2148},null," "," ",null,null,null,null," "," "," "," "," "," "]
[null,null,null,null,{"$f":"ROW()","v":2149},null," "," ",null,null,null,null," "," "," "," "," "," "]
[null,null,null,null,{"$f":"ROW()","v":2150},null," "," ",null,null,null,null," "," "," "," "," "," "]
[null,null,null,null,{"$f":"ROW()","v":2151},null," "," ",null,null,null,null," "," "," "," "," "," "]
[null,null,null,null,{"$f":"ROW()","v":2152},null," "," ",null,null,null,null," "," "," "," "," "," "]
[null,null,null,null,{"$f":"ROW()","v":2153},null," "," ",null,null,null,null," "," "," "," "," "," "]
[null,null,null,null,{"$f":"ROW()","v":2154},null," "," ",null,null,null,null," "," "," "," "," "," "]
[null,null,null,null,{"$f":"ROW()","v":2155},null," "," ",null,null,null,null," "," "," "," "," "," "]
[null,null,null,null,{"$f":"ROW()","v":2156},null," "," ",null,null,null,null," "," "," "," "," "," "]
[null,null,null,null,{"$f":"ROW()","v":2157},null," "," ",null,null,null,null," "," "," "," "," "," "]
[null,null,null,null,{"$f":"ROW()","v":2158},null," "," ",null,null,null,null," "," "," "," "," "," "]
[null,null,null,null,{"$f":"ROW()","v":2159},null," "," ",null,null,null,null," "," "," "," "," "," "]
[null,null,null,null,{"$f":"ROW()","v":2160},null," "," ",null,null,null,null," "," "," "," "," "," "]
[null,null,null,null,{"$f":"ROW()","v":2161},null," "," ",null,null,null,null," "," "," "," "," "," "]
[null,null,null,null,{"$f":"ROW()","v":2162},null," "," ",null,null,null,null," "," "," "," "," "," "]
[null,null,null,null,{"$f":"ROW()","v":2163},null," "," ",null,null,null,null," "," "," "," "," "," "]
[null,null,null,null,{"$f":"ROW()","v":2164},null," "," ",null,null,null,null," "," "," "," "," "," "]
[null,null,null,null,{"$f":"ROW()","v":2165},null," "," ",null,null,null,null," "," "," "," "," "," "]
[null,null,null,null,{"$f":"ROW()","v":2166},null," "," ",null,null,null,null," "," "," "," "," "," "]
[null,null,null,null,{"$f":"ROW()","v":2167},null," "," ",null,null,null,null," "," "," "," "," "," "]
[null,null,null,null,{"$f":"ROW()","v":2168},null," "," ",null,null,null,null," "," "," "," "," "," "]
[null,null,null,null,{"$f":"ROW()","v":2169},null," "," ",null,null,null,null," "," "," "," "," "," "]
[null,null,null,null,{"$f":"ROW()","v":2170},null," "," ",null,null,null,null," "," "," "," "," "," "]
[null,null,null,null,{"$f":"ROW()","v":2171},null," "," ",null,null,null,null," "," "," "," "," "," "]
[null,null,null,null,{"$f":"ROW()","v":2172},null," "," ",null,null,null,null," "," "," "," "," "," "]
[null,null,null,null,{"$f":"ROW()","v":2173},null," "," ",null,null,null,null," "," "," "," "," "," "]
[null,null,null,null,{"$f":"ROW()","v":2174},null," "," ",null,null,null,null," "," "," "," "," "," "]
[null,null,null,null,{"$f":"ROW()","v":2175},null," "," ",null,null,null,null," "," "," "," "," "," "]
[null,null,null,null,{"$f":"ROW()","v":2176},null," "," ",null,null,null,null," "," "," "," "," "," "]
[null,null,null,null,{"$f":"ROW()","v":2177},null," "," ",null,null,null,null," "," "," "," "," "," "]
[null,null,null,null,{"$f":"ROW()","v":2178},null," "," ",null,null,null,null," "," "," "," "," "," "]
[null,null,null,null,{"$f":"ROW()","v":2179},null," "," ",null,null,null,null," "," "," "," "," "," "]
[null,null,null,null,{"$f":"ROW()","v":2180},null," "," ",null,null,null,null," "," "," "," "," "," "]
[null,null,null,null,{"$f":"ROW()","v":2181},null," "," ",null,null,null,null," "," "," "," "," "," "]
[null,null,null,null,{"$f":"ROW()","v":2182},null," "," ",null,null,null,null," "," "," "," "," "," "]
[null,null,null,null,{"$f":"ROW()","v":2183},null," "," ",null,null,null,null," "," "," "," "," "," "]
[null,null,null,null,{"$f":"ROW()","v":2184},null," "," ",null,null,null,null," "," "," "," "," "," "]
[null,null,null,null,{"$f":"ROW()","v":2185},null," "," ",null,null,null,null," "," "," "," "," "," "]
[null,null,null,null,{"$f":"ROW()","v":2186},null," "," ",null,null,null,null," "," "," "," "," "," "]
[null,null,null,null,{"$f":"ROW()","v":2187},null," "," ",null,null,null,null," "," "," "," "," "," "]
[null,null,null,null,{"$f":"ROW()","v":2188},null," "," ",null,null,null,null," "," "," "," "," "," "]
[null,null,null,null,{"$f":"ROW()","v":2189},null," "," ",null,null,null,null," "," "," "," "," "," "]
[null,null,null,null,{"$f":"ROW()","v":2190},null," "," ",null,null,null,null," "," "," "," "," "," "]
[null,null,null,null,{"$f":"ROW()","v":2191},null," "," ",null,null,null,null," "," "," "," "," "," "]
[null,null,null,null,{"$f":"ROW()","v":2192},null," "," ",null,null,null,null," "," "," "," "," "," "]
[null,null,null,null,{"$f":"ROW()","v":2193},null," "," ",null,null,null,null," "," "," "," "," "," "]
[null,null,null,null,{"$f":"ROW()","v":2194},null," "," ",null,null,null,null," "," "," "," "," "," "]
[null,null,null,null,{"$f":"ROW()","v":2195},null," "," ",null,null,null,null," "," "," "," "," "," "]
[null,null,null,null,{"$f":"ROW()","v":2196},null," "," ",null,null,null,null," "," "," "," "," "," "]
[null,null,null,null,{"$f":"ROW()","v":2197},null," "," ",null,null,null,null," "," "," "," "," "," "]
[null,null,null,null,{"$f":"ROW()","v":2198},null," "," ",null,null,null,null," "," "," "," "," "," "]
[null,null,null,null,{"$f":"ROW()","v":2199},null," "," ",null,null,null,null," "," "," "," "," "," "]
[null,null,null,null,{"$f":"ROW()","v":2200},null," "," ",null,null,null,null," "," "," "," "," "," "]

{"sheet":"Tables","index":5,"n_rows":137,"n_cols":123,"rows_kept":137,"cut":false,"hidden":true,"merged":[[5,16,5,18],[40,3,40,4],[40,5,40,6],[40,7,40,8],[40,9,40,10]]}
[]
[null,null,"Additional Input ",null,null,null,"Specific Gravity Table"]
[null,null,"Resin Used For Polyethylene (PE) Pipe Weight Estimation",null,null,null,"Material Type","Specific Gravity","Warning",null,null,null,null,null,null,null,null,null,null,null,"ASABE, ASTM & MFR","Year","Title","Pipe Material Type"]
[null,null,{"$f":"IF(C5=4710,0.958,0.955)","v":0.95799999999999996},null,null,null,"[-]","[-]",null,null,null,null,null,null,null,"PVC Schedule 40, 80, 120",null,null,null,null,"AgPipe Old PWC",20,"Concrete Cylinder Pipe, Pipe Weight taken from AgPipe Data Tables using the Old Pipe Weight Calculator tables.","Concrete RCP",null,null,null,null,null,null,null,null,null,null,null,null,"1 Pipe Material Type","RAW!F2:F3000"]
[null,null,4710,null,null,null," Typical Scenario (PE)",{"$f":"IF(C5=4710,0.958,0.955)","v":0.95799999999999996},{"$f":"IF(OR(AND(C5=4710,H5<>0.958),AND(C5=3408,H5<>0.955)),\"PE(Typ) SG=\"&H5&\" vs \"&C4,\"\")","v":""},null,null,null,null,null,null,"Dia",40,80,120,null,"ASABE S376.3",20,"Design, Installation and Performance of Underground, Thermoplastic Irrigation Pipelines","PVC",null,null,null,null,null,null,null,null,null,null,null,null,"2 Pipe Diameter Standard","RAW!G2:G3000"]
[null,null,{"$f":"IF(C9=\"Min WT\",0,IF(C9=\"Max WT\",1,0.5))","v":0.5},null,null,null,"ABS",1.05,{"$f":"IF(H6<>1.05,\"ABS SG=\"&H6&\" vs 1.05\",\"\")","v":""},null,null,null,null,null,null,"[in]","Pressure Class [psi]",null,null,null,"ASTM A53",24,"Standard Specification for Cold-Formed Welded and Seamless Carbon Steel Structural Tubing in Rounds and Shapes","Steel",null,null,null,null,null,null,null,null,null,null,null,null,"3 Nominal Diameter \n[in]","RAW!H2:H3000"]
[null,null,"Method Used for Estimating Average Wall Thickness (see note)",null,null,null,"Aluminum",2.7,{"$f":"IF(H7<>2.7,\"Alum. SG=\"&H7&\" vs 2.70\",\"\")","v":""},null,null,null,null,null,null,0.125,810,1230,null,null,"ASTM A500",23,"Standard Practice for Structural Design of Corruganted Steel Pipe, Pipe-Arches, and Arches for Storm and Sanitary Sewers and Other Buried Applications","Steel",null,null,null,null,null,null,null,null,null,null,null,null,"4 SDR_Pressure Combined","RAW!J2:J3000"]
[null,null," Estimating Average Wall Thickness (see note)",null,null,null,"Concrete RCP",2.72,{"$f":"IF(H8<>2.72,\"RCP SG=\"&H8&\" vs 2.72\",\"\")","v":""},null,null,null,null,null,null,0.25,780,1130,null,null,"ASTM A796",21,"Standard Practice for Structural Design of Corruganted Steel Pipe, Pipe-Arches, and Arches for Storm and Sanitary Sewers and Other Buried Applications","Steel",null,null,null,null,null,null,null,null,null,null,null,null,"2 Pressure \n[psi]","RAW!L2:L3000"]
[null,null,"Ave WT",null,null,null,"Concrete NRCP",2.56,{"$f":"IF(H9<>2.56,\"NRCP SG=\"&H9&\" vs 2.56\",\"\")","v":""},null,null,null,null,null,null,0.375,620,920,null,null,"ASTM B241",22,"Standard Specification for Aluminum and Aluminum-Alloy Seamless Pipe and Seamless Extruded Tube","Aluminum",null,null,null,null,null,null,null,null,null,null,null,null,"4 OD/ID - Pipe Dia. Stan.","RAW!S2:S3000"]
[null,null,null,null,null,null,"PE",{"$f":"IF(C5=4710,0.958,0.955)","v":0.95799999999999996},{"$f":"IF(OR(AND(C5=4710,H10<>0.958),AND(C5=3408,H10<>0.955)),\"PE SG=\"&H10&\" vs \"&C4,\"\")","v":""},null,null,null,null,null,null,0.5,600,850,1010,null,"ASTM C76",22,"Standard Specification for Reinforced Concrete Culvert, Storm Drain, and Sewer Pipe","Concrete RCP",null,null,null,null,null,null,null,null,null,null,null,null,"1 ASTM","RAW!T2:T3000"]
[null,null,"PVC 112-/1220",null,null,null,"PEX",0.92600000000000005,{"$f":"IF(H11<>0.926,\"PEX SG=\"&H11&\" vs 0.926\",\"\")","v":""},null,null,null,null,null,null,0.75,480,690,770,null,"ASTM C118",24,"Standard Speciﬁcation for Concrete Pipe for Irrigation or Drainage","Concrete NRCP"]
[null,null,null,null,null,null,"PVC",1.4,{"$f":"IF(H12<>1.4,\"PVC SG=\"&H12&\" vs 1.40\",\"\")","v":""},null,null,null,null,null,null,1,450,630,720,null,"ASTM C505",19,"Standard Specification for Nonreinforced Concrete Irrigation Pipe with Rubber Gasket Joints","Concrete RCP"]
[null,null,"DR","ASTM D2241","ASTM D3034",null,"Steel",7.84,{"$f":"IF(H13<>7.84,\"Steel SG=\"&H13&\" vs 7.84\",\"\")","v":""},null,null,null,null,null,null,1.25,370,520,600,null,"ASTM D1785",21,"Standard Specification for Poly(Vinyl Chloride) (PVC) Plastic Pipe, Schedules 40, 80, and 120","PVC"]
[null,null,null,"PC","Sewer Pipe",null,"Custom",0.95899999999999996,null,null,null,null,null,null,null,1.5,330,470,540,null,"ASTM D2239",25,"Standard Specification for Polyethylene (PE) Plastic Pipe (SIDR-PR) Based on Controlled Inside Diameter","PE"]
[null,null,null,null,"Stiffness",null,null,null,null,null,null,null,null,null,null,2,280,400,470,null,"ASTM D2241",25,"Standard Specification for Poly(Vinyl Chloride) (PVC) Pressure-Rated Pipe (SDR Series)","PVC"]
[null,null,"[-]","[psi]","[psi]",null,null,null,null,null,null,null,null,null,null,2.5,300,420,470,null,"ASTM D2661",24,"Standard Specification for Acrylonitrile-Butadiene-Styrene (ABS) Scheduled 40 Plastic Drain, Waste, and Vent Pipe and Fittings","ABS"]
[null,null,null,22,null,null,null,null,null,null,null,null,null,null,null,3,260,370,440,null,"ASTM D2737",25,"Standard Specification for Polyethylene (PE) Plastic Tubing","PE"]
[null,null,null,44,null,null,null,null,null,null,null,null,null,null,null,3.5,240,350,380,null,"ASTM D3034",24,"Standard Specification for Type PSM Poly(Vinyl Chloride) (PVC) Sewer Pipe and Fittings","PVC"]
[null,null,81,50,null,null,null,null,null,null,null,null,null,null,null,4,220,320,430,null,"ASTM D3035",22,"Standard Specification for Polyethylene (PE) Plastic Pipe (DR-PR) Based on Controlled Outside Diameter","PE"]
[null,null,64,63,null,null,null,null,null,null,null,null,null,null,null,5,190,290,400,null,"ASTM F714",25," Standard Specification for Polyethylene (PE) Plastic Pipe (DR-PR) Based on Outside Diameter","PE"]
[null,null,51,80,null,null,null,null,null,null,null,null,null,null,null,6,180,280,370,null,"ASTM F876",25,"Standard Specification for Crosslinked Polyethylene (PEX) Tubing","PEX"]
[null,null,50,81,null,null,null,null,null,null,null,null,null,null,null,8,160,250,380,null,"ASTM F2648",23,"Standard Specification for 50mm to 1500mm [2 in. to 60 in.] Annular Corrugated Profile Wall Polyethylene (PE) Pipe and Fittings for Land Drainage Applications - (Weight Comes from Average of ADS, Hancor, Diamond Plastic)","PE"]
[null,null,41,100,28,null,null,null,null,null,null,null,null,null,null,10,140,230,370,null,"ASTM F2969",20,"Standard Specification for Acrylonitrile-Butadiene-Styrene (ABS) IPS Dimensioned Pressure Pipe","ABS"]
[null,null,35,118,46,null,null,null,null,null,null,null,null,null,null,12,130,230,340,null,"AWWA C302",22,"Reinforced Concrete Pressure Pipe, Noncylinder Type","Concrete RCP"]
[null,null,32.5,125,null,null,null,null,null,null,null,null,null,null,null,14,130,220,null,null,"AWWA C900",22,"Standard Polyvinyl Chloride (PVC) Pressure Pipe and Fabricated Fittings, 4 In. Through 60 In. (100 mm through 1,500 mm)","PVC"]
[null,null,27.5,150,null,null,null,null,null,null,null,null,null,null,null,16,130,220,null,null,"MFR ADS",23,"Values taken from the manufacturer of ADS-N12 which follows AASHTO M294, M252, and ASTM F2648-23 Standard Specification for 50mm to 1500mm [2 in. to 60 in.] Annular Corrugated Profile Wall Polyethylene (PE) Pipe and Fittings for Land Drainage Applications","PE"]
[null,null,25,165,null,null,null,null,null,null,null,null,null,null,null,18,130,220,null,null,"MFR DR5-6 (PE)",25,"https://unitedpolysystems.com","PE"]
[null,null,26,160,115,null,null,null,null,null,null,null,null,null,null,20,120,220,null,null,"MFR Layflat (PE)",25,"https://brentwoodplastics.com/handy-math-feet-layflat","PE (Layflat)"]
[null,null,23.5,178,153,null,null,null,null,null,null,null,null,null,null,24,120,210,null,null,"MFR Layflat (PVC)",25,"https://static1.squarespace.com/static/5afdd022697a98383c7bd31d/t/5b4e34ec8a922d1898377b0b/1531852018433/RAGCO+PVC+DISCHARGE+HOSE+PRODUCTS.pdf","PVC (Layflat)"]
[null,null,21,200,null,null,null,null,null,null,null,null,null,null,null,null,null,null,null,null,"MFR Layflat (PVC1)",25,"https://toppower.en.made-in-china.com/product/bdYTpDXhANrV/China-2-3-4-Inch-Flexible-PVC-Layflat-Hose-Pipe-for-Agricultural-Irrigation.html","PVC (Layflat)"]
[null,null,18,235]
[null,null,17,250,null,null,null,null,null,null,null,null,null,null,null,null,null,null,null,null,"AWWA C303",24,"Concrete Pressure Pipe, Bar-Wrapped Steel-Cylinder Type","Not added"]
[null,null,14,305]
[null,null,13.5,315]
[null,null,"IPS-SDR","PIP","Sewer","Open and Dual Wall (PS10)"]
[null,null,"AWWA",null,null,"RSCs 40, 63, 100, 160"]
[]
[null,"PE 3408/4710","DR","ASTM D 3035 (SDR)",null,"ASTM D 2239 (SIDR)",null,"ASTM F 714 (SDR)",null,"ASTM D 2737 (SDR)"]
[]
[null,null,null,"PE3408/3608","PE4710","PE3408/3608","PE4710","PE3408/3608","PE4710","PE3408/3608","PE4710"]
[null,null,null,"Pressure Class [psi]",null,"Pressure Class [psi]",null,"Pressure Class [psi]",null,"Pressure Class [psi]"]
[null,null,41,40,50,40,50,40,50]
[null,null,32.5,50,65,50,60,51,63]
[null,null,26,65,80,60,75,64,80]
[null,null,21,80,100,75,90,80,100]
[null,null,19,90,111,80,100]
[null,null,17,100,125,90,110,100,125]
[null,null,15,115,145,100,125]
[null,null,15.5,110,140,105,130]
[null,null,13.5,130,160,110,140,128,160]
[null,null,11.5,155,190,130,160]
[null,null,11,160,200,135,165,160,200,160,200]
[null,null,9,200,250,160,200,200,250,200,250]
[null,null,7.3,254,317,190,240,null,null,250,315]
[null,null,7,267,335,200,250,null,335]
[null,"MFR",6,315,400]
[null,null,5.3,355,400,250,315]
[null,"MFR",5,400,500,250,315]
[null,null,"Note: Shaded Values are Computed from Graphs"]
[]
[]
[null,null,"For Steel: Compute Pressure Rating"]
[null,null,"P = 2*S*t/D"]
[null,null,"Where:","S = Allowable stress [psi]",null,15000,"Assumed for ASTM A53"]
[null,null,null,"t = wall thickness [in]",null,null,"NEH Part 636 CH52"]
[null,null,null,"D = Outer Diameter [in]"]
[]
[]
[null,null,null,null,null,null,null,null,null,null,null,null,null,null,null,null,null,null,null,null,null,null,null,null,null,null,null,null,null,null,null,null,null,null,null,null,null,null,null,null,null,null,null,null,null,null,null,null,null,null,null,null,null,null,null,null,null,null,null,null,null,null,null,null,null,null,null,null,null,null,null,null,null,null,null,null,null,null,null,null,null,null,"F","L","H","S","E"]
[null,null,null,null,null,null,null,null,null,null,null,null,null,null,null,null,null,null,null,null,null,null,null,null,null,null,null,null,null,null,null,null,null,null,null,null,null,null,null,null,null,null,null,null,null,null,null,null,null,null,null,null,null,null,null,null,null,null,null,null,null,null,null,null,null,null,null,null,null,null,null,null,null,null,null,null,null,null,null,null,null,null,{"$f":"VLOOKUP(Calc_Adv!B9,Tables!AK4:AL10,2,FALSE)","v":"RAW!H2:H3000"},{"$f":"VLOOKUP(Calc_Adv!C9,Tables!AK4:AL10,2,FALSE)","v":"RAW!L2:L3000"},{"$f":"VLOOKUP(Calc_Adv!D9,Tables!AK4:AL10,2,FALSE)","v":"RAW!F2:F3000"},{"$f":"VLOOKUP(Calc_Adv!E9,Tables!AK4:AL10,2,FALSE)","v":"RAW!J2:J3000"}]
[null,"Table 1:","Table 2:","Table 3:","Table 4:","1st Row()","Table 5:","Table 6:","Table 7:","2nd Row()","Table 8:","Table 9:","Table 10:","3rd Row()","Table 11:","Table 12:","Table 13:","4th Row()","Table 14:","Table 15:","Table 16:","5th Row()","Table 17:","Table 18:","Table 19:","6th Row()","Table 20:","Table 21:","Table 22:","7th Row()","Table 23:","Table 24:","Table 25:","8th Row()","Table 26:","Table 27:","Table 28:","9th Row()","Table 29:","Table 30:","Table 31:","10th Row()","Table 32","Table 33","Table 34","1st Row() Plan","Table 35","Table 36","Table 37","2nd Row() Plan","Table 38","Table 39","Table 40","3rd Row() Plan","Table 41","Table 42","Table 43","4th Row() Plan","Table 44","Table 45","Table 46","5th Row() Plan","Table 47","Table 48","Table 49","6th Row() Plan","Table 50","Table 51","Table 52","7th Row() Plan","Table 53","Table 54","Table 55","8th Row() Plan","Table 56","Table 57","Table 58","9thRow() Plan","Table 59","Table 60","Table 61","10th Row() Plan","Table 1A","Table 62","Table 63","Table 64","1st Row() Plan","Table 65","Table 66","Table 67","2nd Row() Plan","Table 68","Table 69","Table 70","3rd Row() Plan","Table 71","Table 72","Table 73","4th Row() Plan","Table 74","Table 75","Table 76","5th Row() Plan","Table 77","Table 78","Table 79","6th Row() Plan","Table 80","Table 81","Table 82","7th Row() Plan","Table 83","Table 84","Table 85","8th Row() Plan","Table 86","Table 87","Table 88","9thRow() Plan","Table 89","Table 90","Table 91","10th Row() Plan"]
[null,{"$f":"_xlfn._xlws.SORT(_xlfn.UNIQUE(RAW!F2:F2200))","v":" Typical Scenario (PE)"},{"$f":"_xlfn._xlws.SORT(_xlfn.UNIQUE(_xlfn._xlws.FILTER(RAW!G2:G2200,RAW!F2:F2200=Calc_Engr!B10,\"\")))","v":" "},{"$f":"_xlfn._xlws.SORT(_xlfn.UNIQUE(_xlfn._xlws.FILTER(RAW!H2:H2200,(RAW!F2:F2200=Calc_Engr!B10)*(RAW!G2:G2200=Calc_Engr!C10),\"\")))","v":""},{"$f":"_xlfn._xlws.SORT(_xlfn.UNIQUE(_xlfn._xlws.FILTER(RAW!J2:J2200,(RAW!F2:F2200=Calc_Engr!B10)*(RAW!G2:G2200=Calc_Engr!C10)*(RAW!H2:H2200=Calc_Engr!D10),\"\")))","v":""},{"$f":"_xlfn._xlws.SORT(_xlfn.UNIQUE(_xlfn._xlws.FILTER(RAW!E2:E2200,(RAW!F2:F2200=Calc_Engr!B10)*(RAW!G2:G2200=Calc_Engr!C10)*(RAW!H2:H2200=Calc_Engr!D10)*(RAW!J2:J2200=Calc_Engr!E10),\"\")))","v":""},{"$f":"_xlfn._xlws.SORT(_xlfn.UNIQUE(_xlfn._xlws.FILTER(RAW!G2:G2200,RAW!F2:F2200=Calc_Engr!B11,\"\")))","v":" "},{"$f":"_xlfn._xlws.SORT(_xlfn.UNIQUE(_xlfn._xlws.FILTER(RAW!H2:H2200,(RAW!F2:F2200=Calc_Engr!B11)*(RAW!G2:G2200=Calc_Engr!C11),\"\")))","v":""},{"$f":"_xlfn._xlws.SORT(_xlfn.UNIQUE(_xlfn._xlws.FILTER(RAW!J2:J2200,(RAW!F2:F2200=Calc_Engr!B11)*(RAW!G2:G2200=Calc_Engr!C11)*(RAW!H2:H2200=Calc_Engr!D11),\"\")))","v":""},{"$f":"_xlfn._xlws.SORT(_xlfn.UNIQUE(_xlfn._xlws.FILTER(RAW!E2:E2200,(RAW!F2:F2200=Calc_Engr!B11)*(RAW!G2:G2200=Calc_Engr!C11)*(RAW!H2:H2200=Calc_Engr!D11)*(RAW!J2:J2200=Calc_Engr!E11),\"\")))","v":""},{"$f":"_xlfn._xlws.SORT(_xlfn.UNIQUE(_xlfn._xlws.FILTER(RAW!G2:G2200,RAW!F2:F2200=Calc_Engr!B12,\"\")))","v":" "},{"$f":"_xlfn._xlws.SORT(_xlfn.UNIQUE(_xlfn._xlws.FILTER(RAW!H2:H2200,(RAW!F2:F2200=Calc_Engr!B12)*(RAW!G2:G2200=Calc_Engr!C12),\"\")))","v":""},{"$f":"_xlfn._xlws.SORT(_xlfn.UNIQUE(_xlfn._xlws.FILTER(RAW!J2:J2200,(RAW!F2:F2200=Calc_Engr!B12)*(RAW!G2:G2200=Calc_Engr!C12)*(RAW!H2:H2200=Calc_Engr!D12),\"\")))","v":""},{"$f":"_xlfn._xlws.SORT(_xlfn.UNIQUE(_xlfn._xlws.FILTER(RAW!E2:E2200,(RAW!F2:F2200=Calc_Engr!B12)*(RAW!G2:G2200=Calc_Engr!C12)*(RAW!H2:H2200=Calc_Engr!D12)*(RAW!J2:J2200=Calc_Engr!E12),\"\")))","v":""},{"$f":"_xlfn._xlws.SORT(_xlfn.UNIQUE(_xlfn._xlws.FILTER(RAW!G2:G2200,RAW!F2:F2200=Calc_Engr!B13,\"\")))","v":" "},{"$f":"_xlfn._xlws.SORT(_xlfn.UNIQUE(_xlfn._xlws.FILTER(RAW!H2:H2200,(RAW!F2:F2200=Calc_Engr!B13)*(RAW!G2:G2200=Calc_Engr!C13),\"\")))","v":""},{"$f":"_xlfn._xlws.SORT(_xlfn.UNIQUE(_xlfn._xlws.FILTER(RAW!J2:J2200,(RAW!F2:F2200=Calc_Engr!B13)*(RAW!G2:G2200=Calc_Engr!C13)*(RAW!H2:H2200=Calc_Engr!D13),\"\")))","v":""},{"$f":"_xlfn._xlws.SORT(_xlfn.UNIQUE(_xlfn._xlws.FILTER(RAW!E2:E2200,(RAW!F2:F2200=Calc_Engr!B13)*(RAW!G2:G2200=Calc_Engr!C13)*(RAW!H2:H2200=Calc_Engr!D13)*(RAW!J2:J2200=Calc_Engr!E13),\"\")))","v":""},{"$f":"_xlfn._xlws.SORT(_xlfn.UNIQUE(_xlfn._xlws.FILTER(RAW!G2:G2200,RAW!F2:F2200=Calc_Engr!B14,\"\")))","v":" "},{"$f":"_xlfn._xlws.SORT(_xlfn.UNIQUE(_xlfn._xlws.FILTER(RAW!H2:H2200,(RAW!F2:F2200=Calc_Engr!B14)*(RAW!G2:G2200=Calc_Engr!C14),\"\")))","v":""},{"$f":"_xlfn._xlws.SORT(_xlfn.UNIQUE(_xlfn._xlws.FILTER(RAW!J2:J2200,(RAW!F2:F2200=Calc_Engr!B14)*(RAW!G2:G2200=Calc_Engr!C14)*(RAW!H2:H2200=Calc_Engr!D14),\"\")))","v":""},{"$f":"_xlfn._xlws.SORT(_xlfn.UNIQUE(_xlfn._xlws.FILTER(RAW!E2:E2200,(RAW!F2:F2200=Calc_Engr!B14)*(RAW!G2:G2200=Calc_Engr!C14)*(RAW!H2:H2200=Calc_Engr!D14)*(RAW!J2:J2200=Calc_Engr!E14),\"\")))","v":""},{"$f":"_xlfn._xlws.SORT(_xlfn.UNIQUE(_xlfn._xlws.FILTER(RAW!G2:G2200,RAW!F2:F2200=Calc_Engr!B15,\"\")))","v":" "},{"$f":"_xlfn._xlws.SORT(_xlfn.UNIQUE(_xlfn._xlws.FILTER(RAW!H2:H2200,(RAW!F2:F2200=Calc_Engr!B15)*(RAW!G2:G2200=Calc_Engr!C15),\"\")))","v":""},{"$f":"_xlfn._xlws.SORT(_xlfn.UNIQUE(_xlfn._xlws.FILTER(RAW!J2:J2200,(RAW!F2:F2200=Calc_Engr!B15)*(RAW!G2:G2200=Calc_Engr!C15)*(RAW!H2:H2200=Calc_Engr!D15),\"\")))","v":""},{"$f":"_xlfn._xlws.SORT(_xlfn.UNIQUE(_xlfn._xlws.FILTER(RAW!E2:E2200,(RAW!F2:F2200=Calc_Engr!B15)*(RAW!G2:G2200=Calc_Engr!C15)*(RAW!H2:H2200=Calc_Engr!D15)*(RAW!J2:J2200=Calc_Engr!E15),\"\")))","v":""},{"$f":"_xlfn._xlws.SORT(_xlfn.UNIQUE(_xlfn._xlws.FILTER(RAW!G2:G2200,RAW!F2:F2200=Calc_Engr!B16,\"\")))","v":" "},{"$f":"_xlfn._xlws.SORT(_xlfn.UNIQUE(_xlfn._xlws.FILTER(RAW!H2:H2200,(RAW!F2:F2200=Calc_Engr!B16)*(RAW!G2:G2200=Calc_Engr!C16),\"\")))","v":""},{"$f":"_xlfn._xlws.SORT(_xlfn.UNIQUE(_xlfn._xlws.FILTER(RAW!J2:J2200,(RAW!F2:F2200=Calc_Engr!B16)*(RAW!G2:G2200=Calc_Engr!C16)*(RAW!H2:H2200=Calc_Engr!D16),\"\")))","v":""},{"$f":"_xlfn._xlws.SORT(_xlfn.UNIQUE(_xlfn._xlws.FILTER(RAW!E2:E2200,(RAW!F2:F2200=Calc_Engr!B16)*(RAW!G2:G2200=Calc_Engr!C16)*(RAW!H2:H2200=Calc_Engr!D16)*(RAW!J2:J2200=Calc_Engr!E16),\"\")))","v":""},{"$f":"_xlfn._xlws.SORT(_xlfn.UNIQUE(_xlfn._xlws.FILTER(RAW!G2:G2200,RAW!F2:F2200=Calc_Engr!B17,\"\")))","v":" "},{"$f":"_xlfn._xlws.SORT(_xlfn.UNIQUE(_xlfn._xlws.FILTER(RAW!H2:H2200,(RAW!F2:F2200=Calc_Engr!B17)*(RAW!G2:G2200=Calc_Engr!C17),\"\")))","v":""},{"$f":"_xlfn._xlws.SORT(_xlfn.UNIQUE(_xlfn._xlws.FILTER(RAW!J2:J2200,(RAW!F2:F2200=Calc_Engr!B17)*(RAW!G2:G2200=Calc_Engr!C17)*(RAW!H2:H2200=Calc_Engr!D17),\"\")))","v":""},{"$f":"_xlfn._xlws.SORT(_xlfn.UNIQUE(_xlfn._xlws.FILTER(RAW!E2:E2200,(RAW!F2:F2200=Calc_Engr!B17)*(RAW!G2:G2200=Calc_Engr!C17)*(RAW!H2:H2200=Calc_Engr!D17)*(RAW!J2:J2200=Calc_Engr!E17),\"\")))","v":""},{"$f":"_xlfn._xlws.SORT(_xlfn.UNIQUE(_xlfn._xlws.FILTER(RAW!G2:G2200,RAW!F2:F2200=Calc_Engr!B18,\"\")))","v":" "},{"$f":"_xlfn._xlws.SORT(_xlfn.UNIQUE(_xlfn._xlws.FILTER(RAW!H2:H2200,(RAW!F2:F2200=Calc_Engr!B18)*(RAW!G2:G2200=Calc_Engr!C18),\"\")))","v":""},{"$f":"_xlfn._xlws.SORT(_xlfn.UNIQUE(_xlfn._xlws.FILTER(RAW!J2:J2200,(RAW!F2:F2200=Calc_Engr!B18)*(RAW!G2:G2200=Calc_Engr!C18)*(RAW!H2:H2200=Calc_Engr!D18),\"\")))","v":""},{"$f":"_xlfn._xlws.SORT(_xlfn.UNIQUE(_xlfn._xlws.FILTER(RAW!E2:E2200,(RAW!F2:F2200=Calc_Engr!B18)*(RAW!G2:G2200=Calc_Engr!C18)*(RAW!H2:H2200=Calc_Engr!D18)*(RAW!J2:J2200=Calc_Engr!E18),\"\")))","v":""},{"$f":"_xlfn._xlws.SORT(_xlfn.UNIQUE(_xlfn._xlws.FILTER(RAW!G2:G2200,RAW!F2:F2200=Calc_Engr!B19,\"\")))","v":" "},{"$f":"_xlfn._xlws.SORT(_xlfn.UNIQUE(_xlfn._xlws.FILTER(RAW!H2:H2200,(RAW!F2:F2200=Calc_Engr!B19)*(RAW!G2:G2200=Calc_Engr!C19),\"\")))","v":""},{"$f":"_xlfn._xlws.SORT(_xlfn.UNIQUE(_xlfn._xlws.FILTER(RAW!J2:J2200,(RAW!F2:F2200=Calc_Engr!B19)*(RAW!G2:G2200=Calc_Engr!C19)*(RAW!H2:H2200=Calc_Engr!D19),\"\")))","v":""},{"$f":"_xlfn._xlws.SORT(_xlfn.UNIQUE(_xlfn._xlws.FILTER(RAW!E2:E2200,(RAW!F2:F2200=Calc_Engr!B19)*(RAW!G2:G2200=Calc_Engr!C19)*(RAW!H2:H2200=Calc_Engr!D19)*(RAW!J2:J2200=Calc_Engr!E19),\"\")))","v":""},{"$f":"_xlfn._xlws.SORT(_xlfn.UNIQUE(_xlfn._xlws.FILTER(RAW!L2:L2200,RAW!F2:F2200=Calc_Plan!B10,\"\")))","v":0},{"$f":"_xlfn._xlws.SORT(_xlfn.UNIQUE(_xlfn._xlws.FILTER(RAW!H2:H2200,(RAW!F2:F2200=Calc_Plan!B10)*(RAW!L2:L2200=Calc_Plan!C10),\"\")))","v":" "},{"$f":"_xlfn._xlws.SORT(_xlfn.UNIQUE(_xlfn._xlws.FILTER(RAW!S2:S2200,(RAW!F2:F2200=Calc_Plan!B10)*(RAW!L2:L2200=Calc_Plan!C10)*(RAW!H2:H2200=Calc_Plan!D10),\"\")))","v":""},{"$f":"_xlfn._xlws.SORT(_xlfn.UNIQUE(_xlfn._xlws.FILTER(RAW!E2:E2200,(RAW!F2:F2200=Calc_Plan!B10)*(RAW!L2:L2200=Calc_Plan!C10)*(RAW!H2:H2200=Calc_Plan!D10)*(RAW!S2:S2200=Calc_Plan!E10),\"\")))","v":""},{"$f":"_xlfn._xlws.SORT(_xlfn.UNIQUE(_xlfn._xlws.FILTER(RAW!L2:L2200,RAW!F2:F2200=Calc_Plan!B11,\"\")))","v":0},{"$f":"_xlfn._xlws.SORT(_xlfn.UNIQUE(_xlfn._xlws.FILTER(RAW!H2:H2200,(RAW!F2:F2200=Calc_Plan!B11)*(RAW!L2:L2200=Calc_Plan!C11),\"\")))","v":" "},{"$f":"_xlfn._xlws.SORT(_xlfn.UNIQUE(_xlfn._xlws.FILTER(RAW!S2:S2200,(RAW!F2:F2200=Calc_Plan!B11)*(RAW!L2:L2200=Calc_Plan!C11)*(RAW!H2:H2200=Calc_Plan!D11),\"\")))","v":""},{"$f":"_xlfn._xlws.SORT(_xlfn.UNIQUE(_xlfn._xlws.FILTER(RAW!E2:E2200,(RAW!F2:F2200=Calc_Plan!B11)*(RAW!L2:L2200=Calc_Plan!C11)*(RAW!H2:H2200=Calc_Plan!D11)*(RAW!S2:S2200=Calc_Plan!E11),\"\")))","v":""},{"$f":"_xlfn._xlws.SORT(_xlfn.UNIQUE(_xlfn._xlws.FILTER(RAW!L2:L2200,RAW!F2:F2200=Calc_Plan!B12,\"\")))","v":0},{"$f":"_xlfn._xlws.SORT(_xlfn.UNIQUE(_xlfn._xlws.FILTER(RAW!H2:H2200,(RAW!F2:F2200=Calc_Plan!B12)*(RAW!L2:L2200=Calc_Plan!C12),\"\")))","v":" "},{"$f":"_xlfn._xlws.SORT(_xlfn.UNIQUE(_xlfn._xlws.FILTER(RAW!S2:S2200,(RAW!F2:F2200=Calc_Plan!B12)*(RAW!L2:L2200=Calc_Plan!C12)*(RAW!H2:H2200=Calc_Plan!D12),\"\")))","v":""},{"$f":"_xlfn._xlws.SORT(_xlfn.UNIQUE(_xlfn._xlws.FILTER(RAW!E2:E2200,(RAW!F2:F2200=Calc_Plan!B12)*(RAW!L2:L2200=Calc_Plan!C12)*(RAW!H2:H2200=Calc_Plan!D12)*(RAW!S2:S2200=Calc_Plan!E12),\"\")))","v":""},{"$f":"_xlfn._xlws.SORT(_xlfn.UNIQUE(_xlfn._xlws.FILTER(RAW!L2:L2200,RAW!F2:F2200=Calc_Plan!B13,\"\")))","v":0},{"$f":"_xlfn._xlws.SORT(_xlfn.UNIQUE(_xlfn._xlws.FILTER(RAW!H2:H2200,(RAW!F2:F2200=Calc_Plan!B13)*(RAW!L2:L2200=Calc_Plan!C13),\"\")))","v":" "},{"$f":"_xlfn._xlws.SORT(_xlfn.UNIQUE(_xlfn._xlws.FILTER(RAW!S2:S2200,(RAW!F2:F2200=Calc_Plan!B13)*(RAW!L2:L2200=Calc_Plan!C13)*(RAW!H2:H2200=Calc_Plan!D13),\"\")))","v":""},{"$f":"_xlfn._xlws.SORT(_xlfn.UNIQUE(_xlfn._xlws.FILTER(RAW!E2:E2200,(RAW!F2:F2200=Calc_Plan!B13)*(RAW!L2:L2200=Calc_Plan!C13)*(RAW!H2:H2200=Calc_Plan!D13)*(RAW!S2:S2200=Calc_Plan!E13),\"\")))","v":""},{"$f":"_xlfn._xlws.SORT(_xlfn.UNIQUE(_xlfn._xlws.FILTER(RAW!L2:L2200,RAW!F2:F2200=Calc_Plan!B14,\"\")))","v":0},{"$f":"_xlfn._xlws.SORT(_xlfn.UNIQUE(_xlfn._xlws.FILTER(RAW!H2:H2200,(RAW!F2:F2200=Calc_Plan!B14)*(RAW!L2:L2200=Calc_Plan!C14),\"\")))","v":" "},{"$f":"_xlfn._xlws.SORT(_xlfn.UNIQUE(_xlfn._xlws.FILTER(RAW!S2:S2200,(RAW!F2:F2200=Calc_Plan!B14)*(RAW!L2:L2200=Calc_Plan!C14)*(RAW!H2:H2200=Calc_Plan!D14),\"\")))","v":""},{"$f":"_xlfn._xlws.SORT(_xlfn.UNIQUE(_xlfn._xlws.FILTER(RAW!E2:E2200,(RAW!F2:F2200=Calc_Plan!B14)*(RAW!L2:L2200=Calc_Plan!C14)*(RAW!H2:H2200=Calc_Plan!D14)*(RAW!S2:S2200=Calc_Plan!E14),\"\")))","v":""},{"$f":"_xlfn._xlws.SORT(_xlfn.UNIQUE(_xlfn._xlws.FILTER(RAW!L2:L2200,RAW!F2:F2200=Calc_Plan!B15,\"\")))","v":0},{"$f":"_xlfn._xlws.SORT(_xlfn.UNIQUE(_xlfn._xlws.FILTER(RAW!H2:H2200,(RAW!F2:F2200=Calc_Plan!B15)*(RAW!L2:L2200=Calc_Plan!C15),\"\")))","v":" "},{"$f":"_xlfn._xlws.SORT(_xlfn.UNIQUE(_xlfn._xlws.FILTER(RAW!S2:S2200,(RAW!F2:F2200=Calc_Plan!B15)*(RAW!L2:L2200=Calc_Plan!C15)*(RAW!H2:H2200=Calc_Plan!D15),\"\")))","v":""},{"$f":"_xlfn._xlws.SORT(_xlfn.UNIQUE(_xlfn._xlws.FILTER(RAW!E2:E2200,(RAW!F2:F2200=Calc_Plan!B15)*(RAW!L2:L2200=Calc_Plan!C15)*(RAW!H2:H2200=Calc_Plan!D15)*(RAW!S2:S2200=Calc_Plan!E15),\"\")))","v":""},{"$f":"_xlfn._xlws.SORT(_xlfn.UNIQUE(_xlfn._xlws.FILTER(RAW!L2:L2200,RAW!F2:F2200=Calc_Plan!B16,\"\")))","v":0},{"$f":"_xlfn._xlws.SORT(_xlfn.UNIQUE(_xlfn._xlws.FILTER(RAW!H2:H2200,(RAW!F2:F2200=Calc_Plan!B16)*(RAW!L2:L2200=Calc_Plan!C16),\"\")))","v":" "},{"$f":"_xlfn._xlws.SORT(_xlfn.UNIQUE(_xlfn._xlws.FILTER(RAW!S2:S2200,(RAW!F2:F2200=Calc_Plan!B16)*(RAW!L2:L2200=Calc_Plan!C16)*(RAW!H2:H2200=Calc_Plan!D16),\"\")))","v":""},{"$f":"_xlfn._xlws.SORT(_xlfn.UNIQUE(_xlfn._xlws.FILTER(RAW!E2:E2200,(RAW!F2:F2200=Calc_Plan!B16)*(RAW!L2:L2200=Calc_Plan!C16)*(RAW!H2:H2200=Calc_Plan!D16)*(RAW!S2:S2200=Calc_Plan!E16),\"\")))","v":""},{"$f":"_xlfn._xlws.SORT(_xlfn.UNIQUE(_xlfn._xlws.FILTER(RAW!L2:L2200,RAW!F2:F2200=Calc_Plan!B17,\"\")))","v":0},{"$f":"_xlfn._xlws.SORT(_xlfn.UNIQUE(_xlfn._xlws.FILTER(RAW!H2:H2200,(RAW!F2:F2200=Calc_Plan!B17)*(RAW!L2:L2200=Calc_Plan!C17),\"\")))","v":" "},{"$f":"_xlfn._xlws.SORT(_xlfn.UNIQUE(_xlfn._xlws.FILTER(RAW!S2:S2200,(RAW!F2:F2200=Calc_Plan!B17)*(RAW!L2:L2200=Calc_Plan!C17)*(RAW!H2:H2200=Calc_Plan!D17),\"\")))","v":""},{"$f":"_xlfn._xlws.SORT(_xlfn.UNIQUE(_xlfn._xlws.FILTER(RAW!E2:E2200,(RAW!F2:F2200=Calc_Plan!B17)*(RAW!L2:L2200=Calc_Plan!C17)*(RAW!H2:H2200=Calc_Plan!D17)*(RAW!S2:S2200=Calc_Plan!E17),\"\")))","v":""},{"$f":"_xlfn._xlws.SORT(_xlfn.UNIQUE(_xlfn._xlws.FILTER(RAW!L2:L2200,RAW!F2:F2200=Calc_Plan!B18,\"\")))","v":0},{"$f":"_xlfn._xlws.SORT(_xlfn.UNIQUE(_xlfn._xlws.FILTER(RAW!H2:H2200,(RAW!F2:F2200=Calc_Plan!B18)*(RAW!L2:L2200=Calc_Plan!C18),\"\")))","v":" "},{"$f":"_xlfn._xlws.SORT(_xlfn.UNIQUE(_xlfn._xlws.FILTER(RAW!S2:S2200,(RAW!F2:F2200=Calc_Plan!B18)*(RAW!L2:L2200=Calc_Plan!C18)*(RAW!H2:H2200=Calc_Plan!D18),\"\")))","v":""},{"$f":"_xlfn._xlws.SORT(_xlfn.UNIQUE(_xlfn._xlws.FILTER(RAW!E2:E2200,(RAW!F2:F2200=Calc_Plan!B18)*(RAW!L2:L2200=Calc_Plan!C18)*(RAW!H2:H2200=Calc_Plan!D18)*(RAW!S2:S2200=Calc_Plan!E18),\"\")))","v":""},{"$f":"_xlfn._xlws.SORT(_xlfn.UNIQUE(_xlfn._xlws.FILTER(RAW!L2:L2200,RAW!F2:F2200=Calc_Plan!B19,\"\")))","v":0},{"$f":"_xlfn._xlws.SORT(_xlfn.UNIQUE(_xlfn._xlws.FILTER(RAW!H2:H2200,(RAW!F2:F2200=Calc_Plan!B19)*(RAW!L2:L2200=Calc_Plan!C19),\"\")))","v":" "},{"$f":"_xlfn._xlws.SORT(_xlfn.UNIQUE(_xlfn._xlws.FILTER(RAW!S2:S2200,(RAW!F2:F2200=Calc_Plan!B19)*(RAW!L2:L2200=Calc_Plan!C19)*(RAW!H2:H2200=Calc_Plan!D19),\"\")))","v":""},{"$f":"_xlfn._xlws.SORT(_xlfn.UNIQUE(_xlfn._xlws.FILTER(RAW!E2:E2200,(RAW!F2:F2200=Calc_Plan!B19)*(RAW!L2:L2200=Calc_Plan!C19)*(RAW!H2:H2200=Calc_Plan!D19)*(RAW!S2:S2200=Calc_Plan!E19),\"\")))","v":""},{"$f":"_xlfn._xlws.SORT(_xlfn.UNIQUE(INDIRECT($CE$70)))","v":0.125},{"$f":"_xlfn._xlws.SORT(_xlfn.UNIQUE(_xlfn._xlws.FILTER(INDIRECT($CF$70),INDIRECT($CE$70)=Calc_Adv!B10,\"\")))","v":0},{"$f":"_xlfn._xlws.SORT(_xlfn.UNIQUE(_xlfn._xlws.FILTER(INDIRECT($CG$70),(INDIRECT($CE$70)=Calc_Adv!B10)*(INDIRECT($CF$70)=Calc_Adv!C10),\"\")))","v":0},{"$f":"_xlfn._xlws.SORT(_xlfn.UNIQUE(_xlfn._xlws.FILTER(INDIRECT($CH$70),(INDIRECT($CE$70)=Calc_Adv!B10)*(INDIRECT($CF$70)=Calc_Adv!C10)*(INDIRECT($CG$70)=Calc_Adv!D10),\"\")))","v":0},{"$f":"_xlfn._xlws.SORT(_xlfn.UNIQUE(_xlfn._xlws.FILTER(RAW!E2:E3000,(INDIRECT($CE$70)=Calc_Adv!B10)*(INDIRECT($CF$70)=Calc_Adv!C10)*(INDIRECT($CG$70)=Calc_Adv!D10)*(INDIRECT($CH$70)=Calc_Adv!E10),\"\")))","v":0},{"$f":"_xlfn._xlws.SORT(_xlfn.UNIQUE(_xlfn._xlws.FILTER(INDIRECT($CF$70),INDIRECT($CE$70)=Calc_Adv!B11,\"\")))","v":0},{"$f":"_xlfn._xlws.SORT(_xlfn.UNIQUE(_xlfn._xlws.FILTER(INDIRECT($CG$70),(INDIRECT($CE$70)=Calc_Adv!B11)*(INDIRECT($CF$70)=Calc_Adv!C11),\"\")))","v":0},{"$f":"_xlfn._xlws.SORT(_xlfn.UNIQUE(_xlfn._xlws.FILTER(INDIRECT($CH$70),(INDIRECT($CE$70)=Calc_Adv!B11)*(INDIRECT($CF$70)=Calc_Adv!C11)*(INDIRECT($CG$70)=Calc_Adv!D11),\"\")))","v":0},{"$f":"_xlfn._xlws.SORT(_xlfn.UNIQUE(_xlfn._xlws.FILTER(RAW!E2:E3000,(INDIRECT($CE$70)=Calc_Adv!B11)*(INDIRECT($CF$70)=Calc_Adv!C11)*(INDIRECT($CG$70)=Calc_Adv!D11)*(INDIRECT($CH$70)=Calc_Adv!E11),\"\")))","v":0},{"$f":"_xlfn._xlws.SORT(_xlfn.UNIQUE(_xlfn._xlws.FILTER(INDIRECT($CF$70),INDIRECT($CE$70)=Calc_Adv!B12,\"\")))","v":0},{"$f":"_xlfn._xlws.SORT(_xlfn.UNIQUE(_xlfn._xlws.FILTER(INDIRECT($CG$70),(INDIRECT($CE$70)=Calc_Adv!B12)*(INDIRECT($CF$70)=Calc_Adv!C12),\"\")))","v":0},{"$f":"_xlfn._xlws.SORT(_xlfn.UNIQUE(_xlfn._xlws.FILTER(INDIRECT($CH$70),(INDIRECT($CE$70)=Calc_Adv!B12)*(INDIRECT($CF$70)=Calc_Adv!C12)*(INDIRECT($CG$70)=Calc_Adv!D12),\"\")))","v":0},{"$f":"_xlfn._xlws.SORT(_xlfn.UNIQUE(_xlfn._xlws.FILTER(RAW!E2:E3000,(INDIRECT($CE$70)=Calc_Adv!B12)*(INDIRECT($CF$70)=Calc_Adv!C12)*(INDIRECT($CG$70)=Calc_Adv!D12)*(INDIRECT($CH$70)=Calc_Adv!E12),\"\")))","v":0},{"$f":"_xlfn._xlws.SORT(_xlfn.UNIQUE(_xlfn._xlws.FILTER(INDIRECT($CF$70),INDIRECT($CE$70)=Calc_Adv!B13,\"\")))","v":0},{"$f":"_xlfn._xlws.SORT(_xlfn.UNIQUE(_xlfn._xlws.FILTER(INDIRECT($CG$70),(INDIRECT($CE$70)=Calc_Adv!B13)*(INDIRECT($CF$70)=Calc_Adv!C13),\"\")))","v":0},{"$f":"_xlfn._xlws.SORT(_xlfn.UNIQUE(_xlfn._xlws.FILTER(INDIRECT($CH$70),(INDIRECT($CE$70)=Calc_Adv!B13)*(INDIRECT($CF$70)=Calc_Adv!C13)*(INDIRECT($CG$70)=Calc_Adv!D13),\"\")))","v":0},{"$f":"_xlfn._xlws.SORT(_xlfn.UNIQUE(_xlfn._xlws.FILTER(RAW!E2:E3000,(INDIRECT($CE$70)=Calc_Adv!B13)*(INDIRECT($CF$70)=Calc_Adv!C13)*(INDIRECT($CG$70)=Calc_Adv!D13)*(INDIRECT($CH$70)=Calc_Adv!E13),\"\")))","v":0},{"$f":"_xlfn._xlws.SORT(_xlfn.UNIQUE(_xlfn._xlws.FILTER(INDIRECT($CF$70),INDIRECT($CE$70)=Calc_Adv!B14,\"\")))","v":0},{"$f":"_xlfn._xlws.SORT(_xlfn.UNIQUE(_xlfn._xlws.FILTER(INDIRECT($CG$70),(INDIRECT($CE$70)=Calc_Adv!B14)*(INDIRECT($CF$70)=Calc_Adv!C14),\"\")))","v":0},{"$f":"_xlfn._xlws.SORT(_xlfn.UNIQUE(_xlfn._xlws.FILTER(INDIRECT($CH$70),(INDIRECT($CE$70)=Calc_Adv!B14)*(INDIRECT($CF$70)=Calc_Adv!C14)*(INDIRECT($CG$70)=Calc_Adv!D14),\"\")))","v":0},{"$f":"_xlfn._xlws.SORT(_xlfn.UNIQUE(_xlfn._xlws.FILTER(RAW!E2:E3000,(INDIRECT($CE$70)=Calc_Adv!B14)*(INDIRECT($CF$70)=Calc_Adv!C14)*(INDIRECT($CG$70)=Calc_Adv!D14)*(INDIRECT($CH$70)=Calc_Adv!E14),\"\")))","v":0},{"$f":"_xlfn._xlws.SORT(_xlfn.UNIQUE(_xlfn._xlws.FILTER(INDIRECT($CF$70),INDIRECT($CE$70)=Calc_Adv!B15,\"\")))","v":0},{"$f":"_xlfn._xlws.SORT(_xlfn.UNIQUE(_xlfn._xlws.FILTER(INDIRECT($CG$70),(INDIRECT($CE$70)=Calc_Adv!B15)*(INDIRECT($CF$70)=Calc_Adv!C15),\"\")))","v":0},{"$f":"_xlfn._xlws.SORT(_xlfn.UNIQUE(_xlfn._xlws.FILTER(INDIRECT($CH$70),(INDIRECT($CE$70)=Calc_Adv!B15)*(INDIRECT($CF$70)=Calc_Adv!C15)*(INDIRECT($CG$70)=Calc_Adv!D15),\"\")))","v":0},{"$f":"_xlfn._xlws.SORT(_xlfn.UNIQUE(_xlfn._xlws.FILTER(RAW!E2:E3000,(INDIRECT($CE$70)=Calc_Adv!B15)*(INDIRECT($CF$70)=Calc_Adv!C15)*(INDIRECT($CG$70)=Calc_Adv!D15)*(INDIRECT($CH$70)=Calc_Adv!E15),\"\")))","v":0},{"$f":"_xlfn._xlws.SORT(_xlfn.UNIQUE(_xlfn._xlws.FILTER(INDIRECT($CF$70),INDIRECT($CE$70)=Calc_Adv!B16,\"\")))","v":0},{"$f":"_xlfn._xlws.SORT(_xlfn.UNIQUE(_xlfn._xlws.FILTER(INDIRECT($CG$70),(INDIRECT($CE$70)=Calc_Adv!B16)*(INDIRECT($CF$70)=Calc_Adv!C16),\"\")))","v":0},{"$f":"_xlfn._xlws.SORT(_xlfn.UNIQUE(_xlfn._xlws.FILTER(INDIRECT($CH$70),(INDIRECT($CE$70)=Calc_Adv!B16)*(INDIRECT($CF$70)=Calc_Adv!C16)*(INDIRECT($CG$70)=Calc_Adv!D16),\"\")))","v":0},{"$f":"_xlfn._xlws.SORT(_xlfn.UNIQUE(_xlfn._xlws.FILTER(RAW!E2:E3000,(INDIRECT($CE$70)=Calc_Adv!B16)*(INDIRECT($CF$70)=Calc_Adv!C16)*(INDIRECT($CG$70)=Calc_Adv!D16)*(INDIRECT($CH$70)=Calc_Adv!E16),\"\")))","v":0},{"$f":"_xlfn._xlws.SORT(_xlfn.UNIQUE(_xlfn._xlws.FILTER(INDIRECT($CF$70),INDIRECT($CE$70)=Calc_Adv!B17,\"\")))","v":0},{"$f":"_xlfn._xlws.SORT(_xlfn.UNIQUE(_xlfn._xlws.FILTER(INDIRECT($CG$70),(INDIRECT($CE$70)=Calc_Adv!B17)*(INDIRECT($CF$70)=Calc_Adv!C17),\"\")))","v":0},{"$f":"_xlfn._xlws.SORT(_xlfn.UNIQUE(_xlfn._xlws.FILTER(INDIRECT($CH$70),(INDIRECT($CE$70)=Calc_Adv!B17)*(INDIRECT($CF$70)=Calc_Adv!C17)*(INDIRECT($CG$70)=Calc_Adv!D17),\"\")))","v":0},{"$f":"_xlfn._xlws.SORT(_xlfn.UNIQUE(_xlfn._xlws.FILTER(RAW!E2:E3000,(INDIRECT($CE$70)=Calc_Adv!B17)*(INDIRECT($CF$70)=Calc_Adv!C17)*(INDIRECT($CG$70)=Calc_Adv!D17)*(INDIRECT($CH$70)=Calc_Adv!E17),\"\")))","v":0},{"$f":"_xlfn._xlws.SORT(_xlfn.UNIQUE(_xlfn._xlws.FILTER(INDIRECT($CF$70),INDIRECT($CE$70)=Calc_Adv!B18,\"\")))","v":0},{"$f":"_xlfn._xlws.SORT(_xlfn.UNIQUE(_xlfn._xlws.FILTER(INDIRECT($CG$70),(INDIRECT($CE$70)=Calc_Adv!B18)*(INDIRECT($CF$70)=Calc_Adv!C18),\"\")))","v":0},{"$f":"_xlfn._xlws.SORT(_xlfn.UNIQUE(_xlfn._xlws.FILTER(INDIRECT($CH$70),(INDIRECT($CE$70)=Calc_Adv!B18)*(INDIRECT($CF$70)=Calc_Adv!C18)*(INDIRECT($CG$70)=Calc_Adv!D18),\"\")))","v":0},{"$f":"_xlfn._xlws.SORT(_xlfn.UNIQUE(_xlfn._xlws.FILTER(RAW!E2:E3000,(INDIRECT($CE$70)=Calc_Adv!B18)*(INDIRECT($CF$70)=Calc_Adv!C18)*(INDIRECT($CG$70)=Calc_Adv!D18)*(INDIRECT($CH$70)=Calc_Adv!E18),\"\")))","v":0},{"$f":"_xlfn._xlws.SORT(_xlfn.UNIQUE(_xlfn._xlws.FILTER(INDIRECT($CF$70),INDIRECT($CE$70)=Calc_Adv!B19,\"\")))","v":0},{"$f":"_xlfn._xlws.SORT(_xlfn.UNIQUE(_xlfn._xlws.FILTER(INDIRECT($CG$70),(INDIRECT($CE$70)=Calc_Adv!B19)*(INDIRECT($CF$70)=Calc_Adv!C19),\"\")))","v":0},{"$f":"_xlfn._xlws.SORT(_xlfn.UNIQUE(_xlfn._xlws.FILTER(INDIRECT($CH$70),(INDIRECT($CE$70)=Calc_Adv!B19)*(INDIRECT($CF$70)=Calc_Adv!C19)*(INDIRECT($CG$70)=Calc_Adv!D19),\"\")))","v":0},{"$f":"_xlfn._xlws.SORT(_xlfn.UNIQUE(_xlfn._xlws.FILTER(RAW!E2:E3000,(INDIRECT($CE$70)=Calc_Adv!B19)*(INDIRECT($CF$70)=Calc_Adv!C19)*(INDIRECT($CG$70)=Calc_Adv!D19)*(INDIRECT($CH$70)=Calc_Adv!E19),\"\")))","v":0}]
[null,"ABS",null,null,null,null,null,null,null,null,null,null,null,null,null,null,null,null,null,null,null,null,null,null,null,null,null,null,null,null,null,null,null,null,null,null,null,null,null,null,null,null,null,null,null,null,null,null,null,null,null,null,null,null,null,null,null,null,null,null,null,null,null,null,null,null,null,null,null,null,null,null,null,null,null,null,null,null,null,null,null,null,0.25]
[null,"Aluminum",null,null,null,null,null,null,null,null,null,null,null,null,null,null,null,null,null,null,null,null,null,null,null,null,null,null,null,null,null,null,null,null,null,null,null,null,null,null,null,null,null,null,null,null,null,null,null,null,null,null,null,null,null,null,null,null,null,null,null,null,null,null,null,null,null,null,null,null,null,null,null,null,null,null,null,null,null,null,null,null,0.375]
[null,"Concrete NRCP",null,null,null,null,null,null,null,null,null,null,null,null,null,null,null,null,null,null,null,null,null,null,null,null,null,null,null,null,null,null,null,null,null,null,null,null,null,null,null,null,null,null,null,null,null,null,null,null,null,null,null,null,null,null,null,null,null,null,null,null,null,null,null,null,null,null,null,null,null,null,null,null,null,null,null,null,null,null,null,null,0.5]
[null,"Concrete RCP",null,null,null,null,null,null,null,null,null,null,null,null,null,null,null,null,null,null,null,null,null,null,null,null,null,null,null,null,null,null,null,null,null,null,null,null,null,null,null,null,null,null,null,null,null,null,null,null,null,null,null,null,null,null,null,null,null,null,null,null,null,null,null,null,null,null,null,null,null,null,null,null,null,null,null,null,null,null,null,null,0.625]
[null,"PE",null,null,null,null,null,null,null,null,null,null,null,null,null,null,null,null,null,null,null,null,null,null,null,null,null,null,null,null,null,null,null,null,null,null,null,null,null,null,null,null,null,null,null,null,null,null,null,null,null,null,null,null,null,null,null,null,null,null,null,null,null,null,null,null,null,null,null,null,null,null,null,null,null,null,null,null,null,null,null,null,0.75]
[null,"PE (Layflat)",null,null,null,null,null,null,null,null,null,null,null,null,null,null,null,null,null,null,null,null,null,null,null,null,null,null,null,null,null,null,null,null,null,null,null,null,null,null,null,null,null,null,null,null,null,null,null,null,null,null,null,null,null,null,null,null,null,null,null,null,null,null,null,null,null,null,null,null,null,null,null,null,null,null,null,null,null,null,null,null,1]
[null,"PEX",null,null,null,null,null,null,null,null,null,null,null,null,null,null,null,null,null,null,null,null,null,null,null,null,null,null,null,null,null,null,null,null,null,null,null,null,null,null,null,null,null,null,null,null,null,null,null,null,null,null,null,null,null,null,null,null,null,null,null,null,null,null,null,null,null,null,null,null,null,null,null,null,null,null,null,null,null,null,null,null,1.25]
[null,"PVC",null,null,null,null,null,null,null,null,null,null,null,null,null,null,null,null,null,null,null,null,null,null,null,null,null,null,null,null,null,null,null,null,null,null,null,null,null,null,null,null,null,null,null,null,null,null,null,null,null,null,null,null,null,null,null,null,null,null,null,null,null,null,null,null,null,null,null,null,null,null,null,null,null,null,null,null,null,null,null,null,1.5]
[null,"PVC (Layflat)",null,null,null,null,null,null,null,null,null,null,null,null,null,null,null,null,null,null,null,null,null,null,null,null,null,null,null,null,null,null,null,null,null,null,null,null,null,null,null,null,null,null,null,null,null,null,null,null,null,null,null,null,null,null,null,null,null,null,null,null,null,null,null,null,null,null,null,null,null,null,null,null,null,null,null,null,null,null,null,null,2]
[null,"Steel",null,null,null,null,null,null,null,null,null,null,null,null,null,null,null,null,null,null,null,null,null,null,null,null,null,null,null,null,null,null,null,null,null,null,null,null,null,null,null,null,null,null,null,null,null,null,null,null,null,null,null,null,null,null,null,null,null,null,null,null,null,null,null,null,null,null,null,null,null,null,null,null,null,null,null,null,null,null,null,null,2.5]
[null,0,null,null,null,null,null,null,null,null,null,null,null,null,null,null,null,null,null,null,null,null,null,null,null,null,null,null,null,null,null,null,null,null,null,null,null,null,null,null,null,null,null,null,null,null,null,null,null,null,null,null,null,null,null,null,null,null,null,null,null,null,null,null,null,null,null,null,null,null,null,null,null,null,null,null,null,null,null,null,null,null,3]
[null,null,null,null,null,null,null,null,null,null,null,null,null,null,null,null,null,null,null,null,null,null,null,null,null,null,null,null,null,null,null,null,null,null,null,null,null,null,null,null,null,null,null,null,null,null,null,null,null,null,null,null,null,null,null,null,null,null,null,null,null,null,null,null,null,null,null,null,null,null,null,null,null,null,null,null,null,null,null,null,null,null,3.5]
[null,null,null,null,null,null,null,null,null,null,null,null,null,null,null,null,null,null,null,null,null,null,null,null,null,null,null,null,null,null,null,null,null,null,null,null,null,null,null,null,null,null,null,null,null,null,null,null,null,null,null,null,null,null,null,null,null,null,null,null,null,null,null,null,null,null,null,null,null,null,null,null,null,null,null,null,null,null,null,null,null,null,4]
[null,null,null,null,null,null,null,null,null,null,null,null,null,null,null,null,null,null,null,null,null,null,null,null,null,null,null,null,null,null,null,null,null,null,null,null,null,null,null,null,null,null,null,null,null,null,null,null,null,null,null,null,null,null,null,null,null,null,null,null,null,null,null,null,null,null,null,null,null,null,null,null,null,null,null,null,null,null,null,null,null,null,4.5]
[null,null,null,null,null,null,null,null,null,null,null,null,null,null,null,null,null,null,null,null,null,null,null,null,null,null,null,null,null,null,null,null,null,null,null,null,null,null,null,null,null,null,null,null,null,null,null,null,null,null,null,null,null,null,null,null,null,null,null,null,null,null,null,null,null,null,null,null,null,null,null,null,null,null,null,null,null,null,null,null,null,null,5]
[null,null,null,null,null,null,null,null,null,null,null,null,null,null,null,null,null,null,null,null,null,null,null,null,null,null,null,null,null,null,null,null,null,null,null,null,null,null,null,null,null,null,null,null,null,null,null,null,null,null,null,null,null,null,null,null,null,null,null,null,null,null,null,null,null,null,null,null,null,null,null,null,null,null,null,null,null,null,null,null,null,null,6]
[null,null,null,null,null,null,null,null,null,null,null,null,null,null,null,null,null,null,null,null,null,null,null,null,null,null,null,null,null,null,null,null,null,null,null,null,null,null,null,null,null,null,null,null,null,null,null,null,null,null,null,null,null,null,null,null,null,null,null,null,null,null,null,null,null,null,null,null,null,null,null,null,null,null,null,null,null,null,null,null,null,null,7]
[null,null,null,null,null,null,null,null,null,null,null,null,null,null,null,null,null,null,null,null,null,null,null,null,null,null,null,null,null,null,null,null,null,null,null,null,null,null,null,null,null,null,null,null,null,null,null,null,null,null,null,null,null,null,null,null,null,null,null,null,null,null,null,null,null,null,null,null,null,null,null,null,null,null,null,null,null,null,null,null,null,null,8]
[null,null,null,null,null,null,null,null,null,null,null,null,null,null,null,null,null,null,null,null,null,null,null,null,null,null,null,null,null,null,null,null,null,null,null,null,null,null,null,null,null,null,null,null,null,null,null,null,null,null,null,null,null,null,null,null,null,null,null,null,null,null,null,null,null,null,null,null,null,null,null,null,null,null,null,null,null,null,null,null,null,null,9]
[null,null,null,null,null,null,null,null,null,null,null,null,null,null,null,null,null,null,null,null,null,null,null,null,null,null,null,null,null,null,null,null,null,null,null,null,null,null,null,null,null,null,null,null,null,null,null,null,null,null,null,null,null,null,null,null,null,null,null,null,null,null,null,null,null,null,null,null,null,null,null,null,null,null,null,null,null,null,null,null,null,null,10]
[null,null,null,null,null,null,null,null,null,null,null,null,null,null,null,null,null,null,null,null,null,null,null,null,null,null,null,null,null,null,null,null,null,null,null,null,null,null,null,null,null,null,null,null,null,null,null,null,null,null,null,null,null,null,null,null,null,null,null,null,null,null,null,null,null,null,null,null,null,null,null,null,null,null,null,null,null,null,null,null,null,null,11]
[null,null,null,null,null,null,null,null,null,null,null,null,null,null,null,null,null,null,null,null,null,null,null,null,null,null,null,null,null,null,null,null,null,null,null,null,null,null,null,null,null,null,null,null,null,null,null,null,null,null,null,null,null,null,null,null,null,null,null,null,null,null,null,null,null,null,null,null,null,null,null,null,null,null,null,null,null,null,null,null,null,null,12]
[null,null,null,null,null,null,null,null,null,null,null,null,null,null,null,null,null,null,null,null,null,null,null,null,null,null,null,null,null,null,null,null,null,null,null,null,null,null,null,null,null,null,null,null,null,null,null,null,null,null,null,null,null,null,null,null,null,null,null,null,null,null,null,null,null,null,null,null,null,null,null,null,null,null,null,null,null,null,null,null,null,null,14]
[null,null,null,null,null,null,null,null,null,null,null,null,null,null,null,null,null,null,null,null,null,null,null,null,null,null,null,null,null,null,null,null,null,null,null,null,null,null,null,null,null,null,null,null,null,null,null,null,null,null,null,null,null,null,null,null,null,null,null,null,null,null,null,null,null,null,null,null,null,null,null,null,null,null,null,null,null,null,null,null,null,null,15]
[null,null,null,null,null,null,null,null,null,null,null,null,null,null,null,null,null,null,null,null,null,null,null,null,null,null,null,null,null,null,null,null,null,null,null,null,null,null,null,null,null,null,null,null,null,null,null,null,null,null,null,null,null,null,null,null,null,null,null,null,null,null,null,null,null,null,null,null,null,null,null,null,null,null,null,null,null,null,null,null,null,null,16]
[null,null,null,null,null,null,null,null,null,null,null,null,null,null,null,null,null,null,null,null,null,null,null,null,null,null,null,null,null,null,null,null,null,null,null,null,null,null,null,null,null,null,null,null,null,null,null,null,null,null,null,null,null,null,null,null,null,null,null,null,null,null,null,null,null,null,null,null,null,null,null,null,null,null,null,null,null,null,null,null,null,null,18]
[null,null,null,null,null,null,null,null,null,null,null,null,null,null,null,null,null,null,null,null,null,null,null,null,null,null,null,null,null,null,null,null,null,null,null,null,null,null,null,null,null,null,null,null,null,null,null,null,null,null,null,null,null,null,null,null,null,null,null,null,null,null,null,null,null,null,null,null,null,null,null,null,null,null,null,null,null,null,null,null,null,null,20]
[null,null,null,null,null,null,null,null,null,null,null,null,null,null,null,null,null,null,null,null,null,null,null,null,null,null,null,null,null,null,null,null,null,null,null,null,null,null,null,null,null,null,null,null,null,null,null,null,null,null,null,null,null,null,null,null,null,null,null,null,null,null,null,null,null,null,null,null,null,null,null,null,null,null,null,null,null,null,null,null,null,null,21]
[null,null,null,null,null,null,null,null,null,null,null,null,null,null,null,null,null,null,null,null,null,null,null,null,null,null,null,null,null,null,null,null,null,null,null,null,null,null,null,null,null,null,null,null,null,null,null,null,null,null,null,null,null,null,null,null,null,null,null,null,null,null,null,null,null,null,null,null,null,null,null,null,null,null,null,null,null,null,null,null,null,null,22]
[null,null,null,null,null,null,null,null,null,null,null,null,null,null,null,null,null,null,null,null,null,null,null,null,null,null,null,null,null,null,null,null,null,null,null,null,null,null,null,null,null,null,null,null,null,null,null,null,null,null,null,null,null,null,null,null,null,null,null,null,null,null,null,null,null,null,null,null,null,null,null,null,null,null,null,null,null,null,null,null,null,null,24]
[null,null,null,null,null,null,null,null,null,null,null,null,null,null,null,null,null,null,null,null,null,null,null,null,null,null,null,null,null,null,null,null,null,null,null,null,null,null,null,null,null,null,null,null,null,null,null,null,null,null,null,null,null,null,null,null,null,null,null,null,null,null,null,null,null,null,null,null,null,null,null,null,null,null,null,null,null,null,null,null,null,null,26]
[null,null,null,null,null,null,null,null,null,null,null,null,null,null,null,null,null,null,null,null,null,null,null,null,null,null,null,null,null,null,null,null,null,null,null,null,null,null,null,null,null,null,null,null,null,null,null,null,null,null,null,null,null,null,null,null,null,null,null,null,null,null,null,null,null,null,null,null,null,null,null,null,null,null,null,null,null,null,null,null,null,null,27]
[null,null,null,null,null,null,null,null,null,null,null,null,null,null,null,null,null,null,null,null,null,null,null,null,null,null,null,null,null,null,null,null,null,null,null,null,null,null,null,null,null,null,null,null,null,null,null,null,null,null,null,null,null,null,null,null,null,null,null,null,null,null,null,null,null,null,null,null,null,null,null,null,null,null,null,null,null,null,null,null,null,null,28]
[null,null,null,null,null,null,null,null,null,null,null,null,null,null,null,null,null,null,null,null,null,null,null,null,null,null,null,null,null,null,null,null,null,null,null,null,null,null,null,null,null,null,null,null,null,null,null,null,null,null,null,null,null,null,null,null,null,null,null,null,null,null,null,null,null,null,null,null,null,null,null,null,null,null,null,null,null,null,null,null,null,null,30]
[null,null,null,null,null,null,null,null,null,null,null,null,null,null,null,null,null,null,null,null,null,null,null,null,null,null,null,null,null,null,null,null,null,null,null,null,null,null,null,null,null,null,null,null,null,null,null,null,null,null,null,null,null,null,null,null,null,null,null,null,null,null,null,null,null,null,null,null,null,null,null,null,null,null,null,null,null,null,null,null,null,null,32]
[null,null,null,null,null,null,null,null,null,null,null,null,null,null,null,null,null,null,null,null,null,null,null,null,null,null,null,null,null,null,null,null,null,null,null,null,null,null,null,null,null,null,null,null,null,null,null,null,null,null,null,null,null,null,null,null,null,null,null,null,null,null,null,null,null,null,null,null,null,null,null,null,null,null,null,null,null,null,null,null,null,null,33]
[null,null,null,null,null,null,null,null,null,null,null,null,null,null,null,null,null,null,null,null,null,null,null,null,null,null,null,null,null,null,null,null,null,null,null,null,null,null,null,null,null,null,null,null,null,null,null,null,null,null,null,null,null,null,null,null,null,null,null,null,null,null,null,null,null,null,null,null,null,null,null,null,null,null,null,null,null,null,null,null,null,null,34]
[null,null,null,null,null,null,null,null,null,null,null,null,null,null,null,null,null,null,null,null,null,null,null,null,null,null,null,null,null,null,null,null,null,null,null,null,null,null,null,null,null,null,null,null,null,null,null,null,null,null,null,null,null,null,null,null,null,null,null,null,null,null,null,null,null,null,null,null,null,null,null,null,null,null,null,null,null,null,null,null,null,null,36]
[null,null,null,null,null,null,null,null,null,null,null,null,null,null,null,null,null,null,null,null,null,null,null,null,null,null,null,null,null,null,null,null,null,null,null,null,null,null,null,null,null,null,null,null,null,null,null,null,null,null,null,null,null,null,null,null,null,null,null,null,null,null,null,null,null,null,null,null,null,null,null,null,null,null,null,null,null,null,null,null,null,null,39]
[null,null,null,null,null,null,null,null,null,null,null,null,null,null,null,null,null,null,null,null,null,null,null,null,null,null,null,null,null,null,null,null,null,null,null,null,null,null,null,null,null,null,null,null,null,null,null,null,null,null,null,null,null,null,null,null,null,null,null,null,null,null,null,null,null,null,null,null,null,null,null,null,null,null,null,null,null,null,null,null,null,null,42]
[null,null,null,null,null,null,null,null,null,null,null,null,null,null,null,null,null,null,null,null,null,null,null,null,null,null,null,null,null,null,null,null,null,null,null,null,null,null,null,null,null,null,null,null,null,null,null,null,null,null,null,null,null,null,null,null,null,null,null,null,null,null,null,null,null,null,null,null,null,null,null,null,null,null,null,null,null,null,null,null,null,null,48]
[null,null,null,null,null,null,null,null,null,null,null,null,null,null,null,null,null,null,null,null,null,null,null,null,null,null,null,null,null,null,null,null,null,null,null,null,null,null,null,null,null,null,null,null,null,null,null,null,null,null,null,null,null,null,null,null,null,null,null,null,null,null,null,null,null,null,null,null,null,null,null,null,null,null,null,null,null,null,null,null,null,null,54]
[null,null,null,null,null,null,null,null,null,null,null,null,null,null,null,null,null,null,null,null,null,null,null,null,null,null,null,null,null,null,null,null,null,null,null,null,null,null,null,null,null,null,null,null,null,null,null,null,null,null,null,null,null,null,null,null,null,null,null,null,null,null,null,null,null,null,null,null,null,null,null,null,null,null,null,null,null,null,null,null,null,null,60]
[null,null,null,null,null,null,null,null,null,null,null,null,null,null,null,null,null,null,null,null,null,null,null,null,null,null,null,null,null,null,null,null,null,null,null,null,null,null,null,null,null,null,null,null,null,null,null,null,null,null,null,null,null,null,null,null,null,null,null,null,null,null,null,null,null,null,null,null,null,null,null,null,null,null,null,null,null,null,null,null,null,null,63]
[null,null,null,null,null,null,null,null,null,null,null,null,null,null,null,null,null,null,null,null,null,null,null,null,null,null,null,null,null,null,null,null,null,null,null,null,null,null,null,null,null,null,null,null,null,null,null,null,null,null,null,null,null,null,null,null,null,null,null,null,null,null,null,null,null,null,null,null,null,null,null,null,null,null,null,null,null,null,null,null,null,null,65]
[null,null,null,null,null,null,null,null,null,null,null,null,null,null,null,null,null,null,null,null,null,null,null,null,null,null,null,null,null,null,null,null,null,null,null,null,null,null,null,null,null,null,null,null,null,null,null,null,null,null,null,null,null,null,null,null,null,null,null,null,null,null,null,null,null,null,null,null,null,null,null,null,null,null,null,null,null,null,null,null,null,null,66]
[null,null,null,null,null,null,null,null,null,null,null,null,null,null,null,null,null,null,null,null,null,null,null,null,null,null,null,null,null,null,null,null,null,null,null,null,null,null,null,null,null,null,null,null,null,null,null,null,null,null,null,null,null,null,null,null,null,null,null,null,null,null,null,null,null,null,null,null,null,null,null,null,null,null,null,null,null,null,null,null,null,null,72]
[null,null,null,null,null,null,null,null,null,null,null,null,null,null,null,null,null,null,null,null,null,null,null,null,null,null,null,null,null,null,null,null,null,null,null,null,null,null,null,null,null,null,null,null,null,null,null,null,null,null,null,null,null,null,null,null,null,null,null,null,null,null,null,null,null,null,null,null,null,null,null,null,null,null,null,null,null,null,null,null,null,null,78]
[null,null,null,null,null,null,null,null,null,null,null,null,null,null,null,null,null,null,null,null,null,null,null,null,null,null,null,null,null,null,null,null,null,null,null,null,null,null,null,null,null,null,null,null,null,null,null,null,null,null,null,null,null,null,null,null,null,null,null,null,null,null,null,null,null,null,null,null,null,null,null,null,null,null,null,null,null,null,null,null,null,null,84]
[null,null,null,null,null,null,null,null,null,null,null,null,null,null,null,null,null,null,null,null,null,null,null,null,null,null,null,null,null,null,null,null,null,null,null,null,null,null,null,null,null,null,null,null,null,null,null,null,null,null,null,null,null,null,null,null,null,null,null,null,null,null,null,null,null,null,null,null,null,null,null,null,null,null,null,null,null,null,null,null,null,null,90]
[null,null,null,null,null,null,null,null,null,null,null,null,null,null,null,null,null,null,null,null,null,null,null,null,null,null,null,null,null,null,null,null,null,null,null,null,null,null,null,null,null,null,null,null,null,null,null,null,null,null,null,null,null,null,null,null,null,null,null,null,null,null,null,null,null,null,null,null,null,null,null,null,null,null,null,null,null,null,null,null,null,null,96]
[null,null,null,null,null,null,null,null,null,null,null,null,null,null,null,null,null,null,null,null,null,null,null,null,null,null,null,null,null,null,null,null,null,null,null,null,null,null,null,null,null,null,null,null,null,null,null,null,null,null,null,null,null,null,null,null,null,null,null,null,null,null,null,null,null,null,null,null,null,null,null,null,null,null,null,null,null,null,null,null,null,null,102]
[null,null,null,null,null,null,null,null,null,null,null,null,null,null,null,null,null,null,null,null,null,null,null,null,null,null,null,null,null,null,null,null,null,null,null,null,null,null,null,null,null,null,null,null,null,null,null,null,null,null,null,null,null,null,null,null,null,null,null,null,null,null,null,null,null,null,null,null,null,null,null,null,null,null,null,null,null,null,null,null,null,null,108]
[null,null,null,null,null,null,null,null,null,null,null,null,null,null,null,null,null,null,null,null,null,null,null,null,null,null,null,null,null,null,null,null,null,null,null,null,null,null,null,null,null,null,null,null,null,null,null,null,null,null,null,null,null,null,null,null,null,null,null,null,null,null,null,null,null,null,null,null,null,null,null,null,null,null,null,null,null,null,null,null,null,null,114]
[null,null,null,null,null,null,null,null,null,null,null,null,null,null,null,null,null,null,null,null,null,null,null,null,null,null,null,null,null,null,null,null,null,null,null,null,null,null,null,null,null,null,null,null,null,null,null,null,null,null,null,null,null,null,null,null,null,null,null,null,null,null,null,null,null,null,null,null,null,null,null,null,null,null,null,null,null,null,null,null,null,null,120]
[null,null,null,null,null,null,null,null,null,null,null,null,null,null,null,null,null,null,null,null,null,null,null,null,null,null,null,null,null,null,null,null,null,null,null,null,null,null,null,null,null,null,null,null,null,null,null,null,null,null,null,null,null,null,null,null,null,null,null,null,null,null,null,null,null,null,null,null,null,null,null,null,null,null,null,null,null,null,null,null,null,null,132]
[null,null,null,null,null,null,null,null,null,null,null,null,null,null,null,null,null,null,null,null,null,null,null,null,null,null,null,null,null,null,null,null,null,null,null,null,null,null,null,null,null,null,null,null,null,null,null,null,null,null,null,null,null,null,null,null,null,null,null,null,null,null,null,null,null,null,null,null,null,null,null,null,null,null,null,null,null,null,null,null,null,null,144]
[null,null,null,null,null,null,null,null,null,null,null,null,null,null,null,null,null,null,null,null,null,null,null,null,null,null,null,null,null,null,null,null,null,null,null,null,null,null,null,null,null,null,null,null,null,null,null,null,null,null,null,null,null,null,null,null,null,null,null,null,null,null,null,null,null,null,null,null,null,null,null,null,null,null,null,null,null,null,null,null,null,null," "]
[null,null,null,null,null,null,null,null,null,null,null,null,null,null,null,null,null,null,null,null,null,null,null,null,null,null,null,null,null,null,null,null,null,null,null,null,null,null,null,null,null,null,null,null,null,null,null,null,null,null,null,null,null,null,null,null,null,null,null,null,null,null,null,null,null,null,null,null,null,null,null,null,null,null,null,null,null,null,null,null,null,null,"42D"]
[null,null,null,null,null,null,null,null,null,null,null,null,null,null,null,null,null,null,null,null,null,null,null,null,null,null,null,null,null,null,null,null,null,null,null,null,null,null,null,null,null,null,null,null,null,null,null,null,null,null,null,null,null,null,null,null,null,null,null,null,null,null,null,null,null,null,null,null,null,null,null,null,null,null,null,null,null,null,null,null,null,null,"42S"]
[null,null,null,null,null,null,null,null,null,null,null,null,null,null,null,null,null,null,null,null,null,null,null,null,null,null,null,null,null,null,null,null,null,null,null,null,null,null,null,null,null,null,null,null,null,null,null,null,null,null,null,null,null,null,null,null,null,null,null,null,null,null,null,null,null,null,null,null,null,null,null,null,null,null,null,null,null,null,null,null,null,null,"48 Type D"]
[null,null,null,null,null,null,null,null,null,null,null,null,null,null,null,null,null,null,null,null,null,null,null,null,null,null,null,null,null,null,null,null,null,null,null,null,null,null,null,null,null,null,null,null,null,null,null,null,null,null,null,null,null,null,null,null,null,null,null,null,null,null,null,null,null,null,null,null,null,null,null,null,null,null,null,null,null,null,null,null,null,null,"48 Type S"]
[null,null,null,null,null,null,null,null,null,null,null,null,null,null,null,null,null,null,null,null,null,null,null,null,null,null,null,null,null,null,null,null,null,null,null,null,null,null,null,null,null,null,null,null,null,null,null,null,null,null,null,null,null,null,null,null,null,null,null,null,null,null,null,null,null,null,null,null,null,null,null,null,null,null,null,null,null,null,null,null,null,null,"60 Type D"]
[null,null,null,null,null,null,null,null,null,null,null,null,null,null,null,null,null,null,null,null,null,null,null,null,null,null,null,null,null,null,null,null,null,null,null,null,null,null,null,null,null,null,null,null,null,null,null,null,null,null,null,null,null,null,null,null,null,null,null,null,null,null,null,null,null,null,null,null,null,null,null,null,null,null,null,null,null,null,null,null,null,null,"60 Type S"]
[null,null,null,null,null,null,null,null,null,null,null,null,null,null,null,null,null,null,null,null,null,null,null,null,null,null,null,null,null,null,null,null,null,null,null,null,null,null,null,null,null,null,null,null,null,null,null,null,null,null,null,null,null,null,null,null,null,null,null,null,null,null,null,null,null,null,null,null,null,null,null,null,null,null,null,null,null,null,null,null,null,null,0]

{"sheet":"Outdated_Pipe","index":6,"n_rows":48,"n_cols":21,"rows_kept":48,"cut":false,"hidden":true,"merged":[]}
[null,null,null,null,"Row()","Pipe Material","Diameter Type","Nominal Diameter\n\n\n\n[in]","Diameter Display\n\n\n[in]","SDR_Pressure Combined","SDR\n\n\n\n\n[-]","Pressure\n\n\n\n\n[psi]","Min Inside or Outside Diameter\n\n[in]","Controlled Diameter\n\n\n[in]","Out OF Round\n\n\n\n[in]","Wall Thickness\n\n\n[in]","Wall Tolerance\n\n\n[in]","Pipe Weight \n\n\n\n[lbs/ft]","Combined for Calc_Plan Worksheet Drop Down Menu","Reference"]
[null,null,null,null,null,"PVC","PSM (DR)",9,"9",{"$f":"L2&\" psi   DR-\"&K2","v":"100 psi   DR-41"},41,{"$f":"VLOOKUP(K2,Tables!$C$17:$D$34,2,FALSE)","v":100},9.44,"OD",null,0.23,1.4E-2,{"$f":"VLOOKUP(F2,Tables!$G$5:$H$14,2,FALSE)*(M2-(P2+Q2*Tables!$C$6))*(P2+Q2*Tables!$C$6)*1.36196","v":4.158820312584},{"$f":"\"Controlled OD (DR-\"&K2&\") Sewer Pipe\"","v":"Controlled OD (DR-41) Sewer Pipe"},"ASTM D3034-14: Standard Specification for Type PSM Poly(Vinyl Chloride) (PVC) Sewer Pipe and Fittings","Sewer Pipe"]
[null,null,null,null,null,"PE","IPS (SIDR)",3,3,{"$f":"L3&\" psi   SIDR-\"&K3","v":"100 psi   SIDR-19"},19,{"$f":"VLOOKUP(K3,Tables!$C$42:$G$58,IF(Tables!$C$5=4710,IF(N3=\"ID\",5,3),IF(N3=\"ID\",4,2)),FALSE)","v":100},3.0680000000000001,"ID",null,0.161,0.02,{"$f":"VLOOKUP(F3,Tables!$G$5:$H$14,2,FALSE)*(M3-(P3+Q3*Tables!$C$6))*(P3+Q3*Tables!$C$6)*1.36196","v":0.64635999282216006},{"$f":"\"Controlled ID (SIDR-\"&K3&\") Iron Pipe Size\"","v":"Controlled ID (SIDR-19) Iron Pipe Size"},"ASTM D2239-03 Standard Specification for Polyethylene (PE) Plastic Pipe (SIDR-PR) Based on Controlled Inside Diameter"]
[null,null,null,null,null,"PE","IPS (SIDR)",3,3,{"$f":"L4&\" psi   SIDR-\"&K4","v":"125 psi   SIDR-15"},15,{"$f":"VLOOKUP(K4,Tables!$C$42:$G$58,IF(Tables!$C$5=4710,IF(N4=\"ID\",5,3),IF(N4=\"ID\",4,2)),FALSE)","v":125},3.0680000000000001,"ID",null,0.20499999999999999,0.02,{"$f":"VLOOKUP(F4,Tables!$G$5:$H$14,2,FALSE)*(M4-(P4+Q4*Tables!$C$6))*(P4+Q4*Tables!$C$6)*1.36196","v":0.80033183712360001},{"$f":"\"Controlled ID (SIDR-\"&K4&\") Iron Pipe Size\"","v":"Controlled ID (SIDR-15) Iron Pipe Size"},"ASTM D2239-03 Standard Specification for Polyethylene (PE) Plastic Pipe (SIDR-PR) Based on Controlled Inside Diameter"]
[null,null,null,null,null,"PE","IPS (SIDR)",3,3,"160 psi   SIDR-11.5",11.5,{"$f":"VLOOKUP(K5,Tables!$C$42:$G$58,IF(Tables!$C$5=4710,IF(N5=\"ID\",5,3),IF(N5=\"ID\",4,2)),FALSE)","v":160},3.0680000000000001,"ID",null,0.26700000000000002,3.2000000000000001E-2,{"$f":"VLOOKUP(F5,Tables!$G$5:$H$14,2,FALSE)*(M5-(P5+Q5*Tables!$C$6))*(P5+Q5*Tables!$C$6)*1.36196","v":1.0283512892804001},"Controlled ID (SIDR-11.5) Iron Pipe Size","ASTM D2239-03 Standard Specification for Polyethylene (PE) Plastic Pipe (SIDR-PR) Based on Controlled Inside Diameter"]
[null,null,null,null,null,"PE","IPS (SIDR)",4,4,"100 psi   SIDR-19",19,{"$f":"VLOOKUP(K6,Tables!$C$42:$G$58,IF(Tables!$C$5=4710,IF(N6=\"ID\",5,3),IF(N6=\"ID\",4,2)),FALSE)","v":100},4.0259999999999998,"ID",null,0.21199999999999999,2.5000000000000001E-2,{"$f":"VLOOKUP(F6,Tables!$G$5:$H$14,2,FALSE)*(M6-(P6+Q6*Tables!$C$6))*(P6+Q6*Tables!$C$6)*1.36196","v":1.1135281539567401},"Controlled ID (SIDR-19) Iron Pipe Size","ASTM D2239-03 Standard Specification for Polyethylene (PE) Plastic Pipe (SIDR-PR) Based on Controlled Inside Diameter"]
[null,null,null,null,null,"PE","IPS (SIDR)",4,4,"125 psi   SIDR-15",15,{"$f":"VLOOKUP(K7,Tables!$C$42:$G$58,IF(Tables!$C$5=4710,IF(N7=\"ID\",5,3),IF(N7=\"ID\",4,2)),FALSE)","v":125},4.0259999999999998,"ID",null,0.26800000000000002,3.2000000000000001E-2,{"$f":"VLOOKUP(F7,Tables!$G$5:$H$14,2,FALSE)*(M7-(P7+Q7*Tables!$C$6))*(P7+Q7*Tables!$C$6)*1.36196","v":1.3866025197510399},"Controlled ID (SIDR-15) Iron Pipe Size","ASTM D2239-03 Standard Specification for Polyethylene (PE) Plastic Pipe (SIDR-PR) Based on Controlled Inside Diameter"]
[null,null,null,null,null,"PE","IPS (SIDR)",4,4,"160 psi   SIDR-11.5",11.5,{"$f":"VLOOKUP(K8,Tables!$C$42:$G$58,IF(Tables!$C$5=4710,IF(N8=\"ID\",5,3),IF(N8=\"ID\",4,2)),FALSE)","v":160},4.0259999999999998,"ID",null,0.35,4.2000000000000003E-2,{"$f":"VLOOKUP(F8,Tables!$G$5:$H$14,2,FALSE)*(M8-(P8+Q8*Tables!$C$6))*(P8+Q8*Tables!$C$6)*1.36196","v":1.7692579378683997},"Controlled ID (SIDR-11.5) Iron Pipe Size","ASTM D2239-03 Standard Specification for Polyethylene (PE) Plastic Pipe (SIDR-PR) Based on Controlled Inside Diameter"]
[null,null,null,null,null,"PE","IPS (SIDR)",6,6,"100 psi   SIDR-19",19,{"$f":"VLOOKUP(K9,Tables!$C$42:$G$58,IF(Tables!$C$5=4710,IF(N9=\"ID\",5,3),IF(N9=\"ID\",4,2)),FALSE)","v":100},6.0650000000000004,"ID",null,0.31900000000000001,3.7999999999999999E-2,{"$f":"VLOOKUP(F9,Tables!$G$5:$H$14,2,FALSE)*(M9-(P9+Q9*Tables!$C$6))*(P9+Q9*Tables!$C$6)*1.36196","v":2.52565336487568},"Controlled ID (SIDR-19) Iron Pipe Size","ASTM D2239-03 Standard Specification for Polyethylene (PE) Plastic Pipe (SIDR-PR) Based on Controlled Inside Diameter"]
[null,null,null,null,null,"PE","IPS (SIDR)",6,6,"125 psi   SIDR-15",15,{"$f":"VLOOKUP(K10,Tables!$C$42:$G$58,IF(Tables!$C$5=4710,IF(N10=\"ID\",5,3),IF(N10=\"ID\",4,2)),FALSE)","v":125},6.0650000000000004,"ID",null,0.40400000000000003,4.8000000000000001E-2,{"$f":"VLOOKUP(F10,Tables!$G$5:$H$14,2,FALSE)*(M10-(P10+Q10*Tables!$C$6))*(P10+Q10*Tables!$C$6)*1.36196","v":3.1479053500444802},"Controlled ID (SIDR-15) Iron Pipe Size","ASTM D2239-03 Standard Specification for Polyethylene (PE) Plastic Pipe (SIDR-PR) Based on Controlled Inside Diameter"]
[null,null,null,null,null,"PE","IPS (SIDR)",6,6,"160 psi   SIDR-11.5",11.5,{"$f":"VLOOKUP(K11,Tables!$C$42:$G$58,IF(Tables!$C$5=4710,IF(N11=\"ID\",5,3),IF(N11=\"ID\",4,2)),FALSE)","v":160},6.0650000000000004,"ID",null,0.52700000000000002,6.3E-2,{"$f":"VLOOKUP(F11,Tables!$G$5:$H$14,2,FALSE)*(M11-(P11+Q11*Tables!$C$6))*(P11+Q11*Tables!$C$6)*1.36196","v":4.0126260001078204},"Controlled ID (SIDR-11.5) Iron Pipe Size","ASTM D2239-03 Standard Specification for Polyethylene (PE) Plastic Pipe (SIDR-PR) Based on Controlled Inside Diameter"]
[null,null,null,null,null,"PE","IPS (SCH - ID)",0.5,"1/2",{"$f":"L12&\" psi   SCH-\"&K12","v":"190 psi   SCH-40"},40,190,0.622,"ID",null,0.109,0.02,{"$f":"VLOOKUP(F12,Tables!$G$5:$H$14,2,FALSE)*(M12+(P326+Q12*Tables!$C$6))*(P12+Q12*Tables!$C$6)*1.36196","v":9.8128215597440005E-2},{"$f":"\"Controlled ID (SCH-\"&K12&\") Iron Pipe Size\"","v":"Controlled ID (SCH-40) Iron Pipe Size"},"ASTM D2104"]
[null,null,null,null,null,"PE","IPS (SCH - ID)",0.75,"3/4",{"$f":"L13&\" psi   SCH-\"&K13","v":"150 psi   SCH-40"},40,150,0.82399999999999995,"ID",null,0.113,0.02,{"$f":"VLOOKUP(F13,Tables!$G$5:$H$14,2,FALSE)*(M13+(P328+Q13*Tables!$C$6))*(P13+Q13*Tables!$C$6)*1.36196","v":0.13384465232975998},{"$f":"\"Controlled ID (SCH-\"&K13&\") Iron Pipe Size\"","v":"Controlled ID (SCH-40) Iron Pipe Size"},"ASTM D2104"]
[null,null,null,null,null,"PE","IPS (SCH - ID)",1,1,"140 psi   SCH-40",40,140,1.0489999999999999,"ID",null,0.13300000000000001,0.02,{"$f":"VLOOKUP(F14,Tables!$G$5:$H$14,2,FALSE)*(M14+(P330+Q14*Tables!$C$6))*(P14+Q14*Tables!$C$6)*1.36196","v":0.19758858878616001},"Controlled ID (SCH-40) Iron Pipe Size","ASTM D2104"]
[null,null,null,null,null,"PE","IPS (SCH - ID)",1.25,"1 1/4","120 psi   SCH-40",40,120,1.38,"ID",null,0.14000000000000001,0.02,{"$f":"VLOOKUP(F15,Tables!$G$5:$H$14,2,FALSE)*(M15+(P332+Q15*Tables!$C$6))*(P15+Q15*Tables!$C$6)*1.36196","v":0.27204197628000004},"Controlled ID (SCH-40) Iron Pipe Size","ASTM D2104"]
[null,null,null,null,null,"PE","IPS (SCH - ID)",1.5,"1 1/2","100 psi   SCH-40",40,100,1.61,"ID",null,0.14499999999999999,0.02,{"$f":"VLOOKUP(F16,Tables!$G$5:$H$14,2,FALSE)*(M16+(P334+Q16*Tables!$C$6))*(P16+Q16*Tables!$C$6)*1.36196","v":0.32762465344800001},"Controlled ID (SCH-40) Iron Pipe Size","ASTM D2104"]
[null,null,null,null,null,"PE","IPS (SCH - ID)",2,2,"90 psi   SCH-40",40,90,2.0670000000000002,"ID",null,0.154,0.02,{"$f":"VLOOKUP(F17,Tables!$G$5:$H$14,2,FALSE)*(M17+(P336+Q17*Tables!$C$6))*(P17+Q17*Tables!$C$6)*1.36196","v":0.44443699902304001},"Controlled ID (SCH-40) Iron Pipe Size","ASTM D2104"]
[null,null,null,null,null,"PE","IPS (SCH - ID)",2.5,"2 1/2","100 psi   SCH-40",40,100,2.4689999999999999,"ID",null,0.20300000000000001,2.7E-2,{"$f":"VLOOKUP(F18,Tables!$G$5:$H$14,2,FALSE)*(M18+(P338+Q18*Tables!$C$6))*(P18+Q18*Tables!$C$6)*1.36196","v":0.70125669363989995},"Controlled ID (SCH-40) Iron Pipe Size","ASTM D2104"]
[null,null,null,null,null,"PE","IPS (SCH - ID)",3,3,"80 psi   SCH-40",40,80,3.0680000000000001,"ID",null,0.216,2.5999999999999999E-2,{"$f":"VLOOKUP(F19,Tables!$G$5:$H$14,2,FALSE)*(M19+(P340+Q19*Tables!$C$6))*(P19+Q19*Tables!$C$6)*1.36196","v":0.92057047636631995},"Controlled ID (SCH-40) Iron Pipe Size","ASTM D2104"]
[null,null,null,null,null,"PE","IPS (SCH - ID)",4,4,"70 psi   SCH-40",40,70,4.0259999999999998,"ID",null,0.23699999999999999,2.8000000000000001E-2,{"$f":"VLOOKUP(F20,Tables!$G$5:$H$14,2,FALSE)*(M20+(P342+Q20*Tables!$C$6))*(P20+Q20*Tables!$C$6)*1.36196","v":1.3230764778271999},"Controlled ID (SCH-40) Iron Pipe Size","ASTM D2104"]
[null,null,null,null,null,"PE","IPS (SCH - ID)",6,6,"60 psi   SCH-40",40,60,6.0650000000000004,"ID",null,0.28000000000000003,3.4000000000000002E-2,{"$f":"VLOOKUP(F21,Tables!$G$5:$H$14,2,FALSE)*(M21+(P344+Q21*Tables!$C$6))*(P21+Q21*Tables!$C$6)*1.36196","v":2.3568542542987205},"Controlled ID (SCH-40) Iron Pipe Size","ASTM D2104"]
[null,null,null,null,null,"PE","IPS (SCH - OD)",0.5,"1/2","188 psi   SCH-40",40,188,0.84,"OD",null,0.109,0.02,{"$f":"VLOOKUP(F22,Tables!$G$5:$H$14,2,FALSE)*(M22+(P346+Q22*Tables!$C$6))*(P22+Q22*Tables!$C$6)*1.36196","v":0.13197623933199998},{"$f":"\"Controlled OD (SCH-\"&K22&\") Iron Pipe Size\"","v":"Controlled OD (SCH-40) Iron Pipe Size"},"ASTM D2447"]
[null,null,null,null,null,"PE","IPS (SCH - OD)",0.5,"1/2","267 psi   SCH-80",80,267,0.84,"OD",null,0.14699999999999999,0.02,{"$f":"VLOOKUP(F23,Tables!$G$5:$H$14,2,FALSE)*(M23+(P347+Q23*Tables!$C$6))*(P23+Q23*Tables!$C$6)*1.36196","v":0.174119912396},{"$f":"\"Controlled OD (SCH-\"&K23&\") Iron Pipe Size\"","v":"Controlled OD (SCH-80) Iron Pipe Size"},"ASTM D2447"]
[null,null,null,null,null,"PE","IPS (SCH - OD)",0.75,"3/4","152 psi   SCH-40",40,152,1.05,"OD",null,0.113,0.02,{"$f":"VLOOKUP(F24,Tables!$G$5:$H$14,2,FALSE)*(M24+(P348+Q24*Tables!$C$6))*(P24+Q24*Tables!$C$6)*1.36196","v":0.17011430631839999},"Controlled OD (SCH-40) Iron Pipe Size","ASTM D2447"]
[null,null,null,null,null,"PE","IPS (SCH - OD)",0.75,"3/4","217 psi   SCH-80",80,217,1.05,"OD",null,0.154,0.02,{"$f":"VLOOKUP(F25,Tables!$G$5:$H$14,2,FALSE)*(M25+(P349+Q25*Tables!$C$6))*(P25+Q25*Tables!$C$6)*1.36196","v":0.2268190750912},"Controlled OD (SCH-80) Iron Pipe Size","ASTM D2447"]
[null,null,null,null,null,"PE","IPS (SCH - OD)",1,1,"142 psi   SCH-40",40,142,1.3149999999999999,"OD",null,0.13300000000000001,0.02,{"$f":"VLOOKUP(F26,Tables!$G$5:$H$14,2,FALSE)*(M26+(P350+Q26*Tables!$C$6))*(P26+Q26*Tables!$C$6)*1.36196","v":0.24721896141800004},"Controlled OD (SCH-40) Iron Pipe Size","ASTM D2447"]
[null,null,null,null,null,"PE","IPS (SCH - OD)",1,1,"199 psi   SCH-80",80,199,1.3149999999999999,"OD",null,0.17899999999999999,2.1000000000000001E-2,{"$f":"VLOOKUP(F27,Tables!$G$5:$H$14,2,FALSE)*(M27+(P351+Q27*Tables!$C$6))*(P27+Q27*Tables!$C$6)*1.36196","v":0.32773196976718},"Controlled OD (SCH-80) Iron Pipe Size","ASTM D2447"]
[null,null,null,null,null,"PE","IPS (SCH - OD)",1.25,"1 1/4","116 psi   SCH-40",40,116,1.66,"OD",null,0.14000000000000001,0.02,{"$f":"VLOOKUP(F28,Tables!$G$5:$H$14,2,FALSE)*(M28+(P352+Q28*Tables!$C$6))*(P28+Q28*Tables!$C$6)*1.36196","v":0.32684179884000003},"Controlled OD (SCH-40) Iron Pipe Size","ASTM D2447"]
[null,null,null,null,null,"PE","IPS (SCH - OD)",1.25,"1 1/4","164 psi   SCH-80",80,164,1.66,"OD",null,0.191,2.3E-2,{"$f":"VLOOKUP(F29,Tables!$G$5:$H$14,2,FALSE)*(M29+(P353+Q29*Tables!$C$6))*(P29+Q29*Tables!$C$6)*1.36196","v":0.44163274857930007},"Controlled OD (SCH-80) Iron Pipe Size","ASTM D2447"]
[null,null,null,null,null,"PE","IPS (SCH - OD)",1.5,"1 1/2","104 psi   SCH-40",40,104,1.9,"OD",null,0.14499999999999999,0.02,{"$f":"VLOOKUP(F30,Tables!$G$5:$H$14,2,FALSE)*(M30+(P354+Q30*Tables!$C$6))*(P30+Q30*Tables!$C$6)*1.36196","v":0.38627351116399999},"Controlled OD (SCH-40) Iron Pipe Size","ASTM D2447"]
[null,null,null,null,null,"PE","IPS (SCH - OD)",1.5,"1 1/2","148 psi   SCH-80",80,148,1.9,"OD",null,0.2,2.4E-2,{"$f":"VLOOKUP(F31,Tables!$G$5:$H$14,2,FALSE)*(M31+(P355+Q31*Tables!$C$6))*(P31+Q31*Tables!$C$6)*1.36196","v":0.52887569704192006},"Controlled OD (SCH-80) Iron Pipe Size","ASTM D2447"]
[null,null,null,null,null,"PE","IPS (SCH - OD)",2,2,"87 psi   SCH-40",40,87,2.375,"OD",null,0.154,0.02,{"$f":"VLOOKUP(F32,Tables!$G$5:$H$14,2,FALSE)*(M32+(P356+Q32*Tables!$C$6))*(P32+Q32*Tables!$C$6)*1.36196","v":0.51034291895520001},"Controlled OD (SCH-40) Iron Pipe Size","ASTM D2447"]
[null,null,null,null,null,"PE","IPS (SCH - OD)",2,2,"127 psi   SCH-80",80,127,2.375,"OD",null,0.218,2.5999999999999999E-2,{"$f":"VLOOKUP(F33,Tables!$G$5:$H$14,2,FALSE)*(M33+(P357+Q33*Tables!$C$6))*(P33+Q33*Tables!$C$6)*1.36196","v":0.71974086950304006},"Controlled OD (SCH-80) Iron Pipe Size","ASTM D2447"]
[null,null,null,null,null,"PE","IPS (SCH - OD)",2.5,"2 1/2","96 psi   SCH-40",40,96,2.875,"OD",null,0.20300000000000001,2.7E-2,{"$f":"VLOOKUP(F34,Tables!$G$5:$H$14,2,FALSE)*(M34+(P358+Q34*Tables!$C$6))*(P34+Q34*Tables!$C$6)*1.36196","v":0.81594358895422026},"Controlled OD (SCH-40) Iron Pipe Size","ASTM D2447"]
[null,null,null,null,null,"PE","IPS (SCH - OD)",2.5,"2 1/2","134 psi   SCH-80",80,134,2.875,"OD",null,0.27600000000000002,3.3000000000000002E-2,{"$f":"VLOOKUP(F35,Tables!$G$5:$H$14,2,FALSE)*(M35+(P359+Q35*Tables!$C$6))*(P35+Q35*Tables!$C$6)*1.36196","v":1.1035167482781003},"Controlled OD (SCH-80) Iron Pipe Size","ASTM D2447"]
[null,null,null,null,null,"PE","IPS (SCH - OD)",3,3,"83 psi   SCH-40",40,83,3.5,"OD",null,0.216,2.5999999999999999E-2,{"$f":"VLOOKUP(F36,Tables!$G$5:$H$14,2,FALSE)*(M36+(P360+Q36*Tables!$C$6))*(P36+Q36*Tables!$C$6)*1.36196","v":1.0496475441333599},"Controlled OD (SCH-40) Iron Pipe Size","ASTM D2447"]
[null,null,null,null,null,"PE","IPS (SCH - OD)",3,3,"118 psi   SCH-80",80,118,3.5,"OD",null,0.3,3.5999999999999997E-2,{"$f":"VLOOKUP(F37,Tables!$G$5:$H$14,2,FALSE)*(M37+(P361+Q37*Tables!$C$6))*(P37+Q37*Tables!$C$6)*1.36196","v":1.45966373080032},"Controlled OD (SCH-80) Iron Pipe Size","ASTM D2447"]
[null,null,null,null,null,"PE","IPS (SCH - OD)",3.5,3.5,"75 psi   SCH-40",40,75,4,"OD",null,0.22600000000000001,2.7E-2,{"$f":"VLOOKUP(F38,Tables!$G$5:$H$14,2,FALSE)*(M38+(P362+Q38*Tables!$C$6))*(P38+Q38*Tables!$C$6)*1.36196","v":1.2541764652088601},"Controlled OD (SCH-40) Iron Pipe Size","ASTM D2447"]
[null,null,null,null,null,"PE","IPS (SCH - OD)",3.5,3.5,"109 psi   SCH-80",80,109,4,"OD",null,0.318,3.7999999999999999E-2,{"$f":"VLOOKUP(F39,Tables!$G$5:$H$14,2,FALSE)*(M39+(P363+Q39*Tables!$C$6))*(P39+Q39*Tables!$C$6)*1.36196","v":1.7671677160650401},"Controlled OD (SCH-80) Iron Pipe Size","ASTM D2447"]
[null,null,null,null,null,"PE","IPS (SCH - OD)",4,4,"70 psi   SCH-40",40,70,4.5,"OD",null,0.23699999999999999,2.8000000000000001E-2,{"$f":"VLOOKUP(F40,Tables!$G$5:$H$14,2,FALSE)*(M40+(P364+Q40*Tables!$C$6))*(P40+Q40*Tables!$C$6)*1.36196","v":1.4783087180475201},"Controlled OD (SCH-40) Iron Pipe Size","ASTM D2447"]
[null,null,null,null,null,"PE","IPS (SCH - OD)",4,4,"102 psi   SCH-80",80,102,4.5,"OD",null,0.33700000000000002,0.04,{"$f":"VLOOKUP(F41,Tables!$G$5:$H$14,2,FALSE)*(M41+(P365+Q41*Tables!$C$6))*(P41+Q41*Tables!$C$6)*1.36196","v":2.1054091827552002},"Controlled OD (SCH-80) Iron Pipe Size","ASTM D2447"]
[null,null,null,null,null,"PE","IPS (SCH - OD)",5,5,"61 psi   SCH-40",40,61,5.5629999999999997,"OD",null,0.25800000000000001,3.1E-2,{"$f":"VLOOKUP(F42,Tables!$G$5:$H$14,2,FALSE)*(M42+(P366+Q42*Tables!$C$6))*(P42+Q42*Tables!$C$6)*1.36196","v":1.9906945613401799},"Controlled OD (SCH-40) Iron Pipe Size","ASTM D2447"]
[null,null,null,null,null,"PE","IPS (SCH - OD)",5,5,"91 psi   SCH-80",80,91,5.5629999999999997,"OD",null,0.375,4.4999999999999998E-2,{"$f":"VLOOKUP(F43,Tables!$G$5:$H$14,2,FALSE)*(M43+(P367+Q43*Tables!$C$6))*(P43+Q43*Tables!$C$6)*1.36196","v":2.8968702986019004},"Controlled OD (SCH-80) Iron Pipe Size","ASTM D2447"]
[null,null,null,null,null,"PE","IPS (SCH - OD)",6,6,"55 psi   SCH-40",40,55,6.625,"OD",null,0.28000000000000003,3.4000000000000002E-2,{"$f":"VLOOKUP(F44,Tables!$G$5:$H$14,2,FALSE)*(M44+(P368+Q44*Tables!$C$6))*(P44+Q44*Tables!$C$6)*1.36196","v":2.5738615516363206},"Controlled OD (SCH-40) Iron Pipe Size","ASTM D2447"]
[null,null,null,null,null,"PE","IPS (SCH - OD)",6,6,"88 psi   SCH-80",80,88,6.625,"OD",null,0.432,5.1999999999999998E-2,{"$f":"VLOOKUP(F45,Tables!$G$5:$H$14,2,FALSE)*(M45+(P369+Q45*Tables!$C$6))*(P45+Q45*Tables!$C$6)*1.36196","v":3.9744980449934397},"Controlled OD (SCH-80) Iron Pipe Size","ASTM D2447"]
[null,null,null,null,null,"PE","IPS (SCH - OD)",8,8,"50 psi   SCH-40",40,50,8.625,"OD",null,0.32200000000000001,3.9E-2,{"$f":"VLOOKUP(F46,Tables!$G$5:$H$14,2,FALSE)*(M46+(P370+Q46*Tables!$C$6))*(P46+Q46*Tables!$C$6)*1.36196","v":3.8517709066655406},"Controlled OD (SCH-40) Iron Pipe Size","ASTM D2447"]
[null,null,null,null,null,"PE","IPS (SCH - OD)",10,10,"NPR psi   SCH-40",40,"NPR",10.75,"OD",null,0.36499999999999999,4.3999999999999997E-2,{"$f":"VLOOKUP(F47,Tables!$G$5:$H$14,2,FALSE)*(M47+(P371+Q47*Tables!$C$6))*(P47+Q47*Tables!$C$6)*1.36196","v":5.4392268451075205},"Controlled OD (SCH-40) Iron Pipe Size","ASTM D2447"]
[null,null,null,null,null,"PE","IPS (SCH - OD)",12,12,"NPR psi   SCH-40",40,"NPR",12.75,"OD",null,0.40600000000000003,4.9000000000000002E-2,{"$f":"VLOOKUP(F48,Tables!$G$5:$H$14,2,FALSE)*(M48+(P372+Q48*Tables!$C$6))*(P48+Q48*Tables!$C$6)*1.36196","v":7.1754134162503815},"Controlled OD (SCH-40) Iron Pipe Size","ASTM D2447"]