{"text_format":"1","workbook":"xlsx","n_sheets":11,"sheets":["Instructions","RC","Recommended RC's old","Landuse-RC","CART Field Documentation Record","Questions","IA CART Guide","Overgrazed Pasture Guidance","RC Print","RC Component Applicability","Recommended RC's"],"not_rendered":{"charts":0,"images":3,"macros":1,"external_links":1,"defined_names":44,"comments":0,"pivot_tables":0},"unopened":[],"bounds":{"document_bytes":16777216,"sheet_cells":100000,"rows_first":2000,"rows_last":500,"rows_between":2000,"halvings":0,"cell_chars":16384,"cell_head_chars":4096},"cells_cut":0,"cells_raw":0,"read":"whole","date_system":"1900"}

{"sheet":"Instructions","index":0,"n_rows":0,"n_cols":0,"rows_kept":0,"cut":false,"hidden":false,"merged":[]}

{"sheet":"RC","index":1,"n_rows":71,"n_cols":4,"rows_kept":71,"cut":false,"hidden":true,"merged":[[26,0,27,1],[0,2,0,3],[10,4,10,5],[17,4,17,5],[0,0,0,1],[10,0,10,1],[17,0,17,1]]}
["Select Land uses",null," Select Resource Concerns"]
[null,"Associated Ag Land",null,"RMS (For Progressive planning, uncheck this box and select individual RC's, below)"]
[null,"Crop ","Air quality emissions"]
[null,"Farmstead",null,"Emissions of airborne reactive nitrogen"]
[null,"Forest",null,"Emissions of greenhouse gases - GHGs"]
[null,"Pasture",null,"Emissions of ozone precursors"]
[null,"Other Rural Land",null,"Emissions of particulate matter (PM) and PM precursors"]
[null,"Developed Land",null,"Objectionable odor"]
[null,"Range","Aquatic habitat"]
[null,null,null,"Aquatic habitat for fish and other organisms"]
["Select Applicable Modifiers",null,null,"Elevated water temperature"]
[null,"Irrigated","Concentrated erosion"]
[null,"Grazed",null,"Bank erosion from streams, shorelines or water conveyance channels"]
[null,"Wildlife",null,"Classic gully erosion"]
[null,null,null,"Ephemeral gully erosion"]
[null,null,"Degraded plant condition"]
[null,null,null,"Plant productivity and health"]
["Select Other Factors",null,null,"Plant structure and composition"]
[null,"Livestock are present on the PLU's","Field pesticide loss"]
[null,"Use CART to evaluate Wildlife (not WLFW or State WHEG)",null,"Pesticides transported to groundwater"]
[null,"Evaluate Special Environmental Concerns (SEC)",null,"Pesticides transported to surface water"]
[null,"Surface Waters are present on one or more PLU'S","Field sediment, nutrient and pathogen loss"]
[null,"Nutrients Applied",null,"Nutrients transported to groundwater"]
[null,"Pesticides Applied",null,"Nutrients transported to surface water"]
[null,"Confined Animal Operations",null,"Pathogens and chemicals from manure, biosolids or compost applications transported to groundwater"]
[null,null,null,"Pathogens and chemicals from manure, biosolids or compost applications transported to surface water"]
["Typical Resource Concerns for selected Landuses, modifiers and other factors are shown in Green.----------->",null,null,"Sediment transported to surface water"]
[null,null,"Fire management"]
[null,null,null,"Wildfire hazard from biomass accumulation"]
[null,null,"Inefficient energy use"]
[null,null,null,"Equipment and Facilities"]
[null,null,null,"Farming/Ranching Practices and Field Operations"]
[null,null,"Livestock production limitation"]
[null,null,null,"Feed and forage balance"]
[null,null,null,"Inadequate livestock shelter"]
[null,null,null,"Inadequate livestock water quantity, quality and distribution"]
[null,null,"Long term protection of land"]
[null,null,null,"Loss of functions and values"]
[null,null,null,"Threat of conversion"]
[null,null,"Pest pressure"]
[null,null,null,"Plant pest pressure"]
[null,null,"Salt losses to water"]
[null,null,null,"Salts transported to groundwater"]
[null,null,null,"Salts transported to surface water"]
[null,null,"Soil quality limitations"]
[null,null,null,"Aggregate instability"]
[null,null,null,"Compaction"]
[null,null,null,"Concentration of salts or other chemicals"]
[null,null,null,"Organic matter depletion"]
[null,null,null,"Soil organism habitat loss or degradation"]
[null,null,null,"Subsidence"]
[null,null,"Source water depletion"]
[null,null,null,"Groundwater depletion"]
[null,null,null,"Inefficient irrigation water use"]
[null,null,null,"Surface water depletion"]
[null,null,"Storage and handling of pollutants"]
[null,null,null,"Nutrients transported to groundwater"]
[null,null,null,"Nutrients transported to surface water"]
[null,null,null,"Petroleum, heavy metals and other pollutants transported to groundwater"]
[null,null,null,"Petroleum, heavy metals and other pollutants transported to surface water"]
[null,null,"Terrestrial habitat"]
[null,null,null,"Terrestrial habitat for wildlife and invertebrates"]
[null,null,"Weather resilience"]
[null,null,null,"Drifted snow"]
[null,null,null,"Naturally available moisture use"]
[null,null,null,"Ponding and flooding"]
[null,null,null,"Seasonal high water table"]
[null,null,null,"Seeps"]
[null,null,"Wind and water erosion"]
[null,null,null,"Sheet and rill erosion"]
[null,null,null,"Wind erosion"]

{"sheet":"Recommended RC's old","index":2,"n_rows":71,"n_cols":35,"rows_kept":71,"cut":false,"hidden":true,"merged":[[68,2,68,17],[41,2,41,17],[44,2,44,17],[51,2,51,17],[55,2,55,17],[60,2,60,17],[62,2,62,17],[39,2,39,17],[0,2,0,17],[2,2,2,17],[8,2,8,17],[11,2,11,17],[15,2,15,17],[18,2,18,17],[21,2,21,17],[27,2,27,17],[32,2,32,17],[29,2,29,17],[36,2,36,17]]}
[null,null,"Typical RCs to Evaluate (1=recommended, blank = not recommended)",null,null,null,null,null,null,null,null,null,null,null,null,null,null,null,{"$f":"Questions!CB5","v":false},{"$f":"Questions!CC5","v":false},{"$f":"Questions!CD5","v":false},{"$f":"Questions!CE5","v":false},{"$f":"Questions!CF5","v":false},{"$f":"Questions!CG5","v":false},{"$f":"Questions!CH5","v":false},{"$f":"Questions!CI5","v":false},{"$f":"Questions!CJ5","v":false},{"$f":"Questions!CK5","v":false},false,{"$f":"Questions!CM5","v":false},false,false,{"$f":"Questions!CN5","v":false},false]
[null,"Resource Concerns","Assoc Ag","Crop","Farmstead","Forest","Pasture","Other","Developed","Range","Irrigated","Grazed","Wildlife","Livestock","Pesticides applied","Nutrients applied","Surface Water","Confined Livestock","Assoc Ag","Crop","Farmstead","Forest","Pasture","Other","Developed","Range","Irrigated","Grazed","Wildlife","Livestock","Pesticides applied","Nutrients applied","Surface Water","Confined Livestock","Recommended"]
["Air quality emissions",null,null,null,null,null,null,null,null,null,null,null,null,null,null,null,null,null,{"$f":"IF(S$1=TRUE,#REF!,0)","v":0},{"$f":"IF(T$1=TRUE,D3,0)","v":0},0,0,0,0,0,0,0,0,0,0,0,0,0,{"$f":"IF(AH$1=TRUE,C3,0)","v":0},{"$f":"MAX(S3:AH3)","v":0}]
[null,"Emissions of airborne reactive nitrogen",null,null,null,null,null,null,null,null,null,null,null,null,null,null,null,1,{"$f":"IF(S$1=TRUE,C4,0)","v":0},{"$f":"IF(T$1=TRUE,D4,0)","v":0},{"$f":"IF(U$1=TRUE,E4,0)","v":0},{"$f":"IF(V$1=TRUE,F4,0)","v":0},{"$f":"IF(W$1=TRUE,G4,0)","v":0},{"$f":"IF(X$1=TRUE,H4,0)","v":0},{"$f":"IF(Y$1=TRUE,I4,0)","v":0},{"$f":"IF(Z$1=TRUE,J4,0)","v":0},{"$f":"IF(AA$1=TRUE,K4,0)","v":0},{"$f":"IF(AB$1=TRUE,L4,0)","v":0},{"$f":"IF(AC$1=TRUE,M4,0)","v":0},{"$f":"IF(AD$1=TRUE,N4,0)","v":0},{"$f":"IF(AE$1=TRUE,O4,0)","v":0},{"$f":"IF(AF$1=TRUE,P4,0)","v":0},{"$f":"IF(AG$1=TRUE,Q4,0)","v":0},{"$f":"IF(AH$1=TRUE,R4,0)","v":0},{"$f":"MAX(S4:AH4)","v":0}]
[null,"Emissions of greenhouse gases - GHGs",null,null,null,null,null,null,null,null,null,null,null,null,null,null,null,1,0,0,0,0,0,0,0,0,0,0,0,0,0,0,0,0,0]
[null,"Emissions of ozone precursors",null,null,null,null,null,null,null,null,null,null,null,null,null,null,null,1,0,0,0,0,0,0,0,0,0,0,0,0,0,0,0,0,0]
[null,"Emissions of particulate matter (PM) and PM precursors",null,null,null,null,null,null,null,null,null,null,null,null,null,null,null,1,0,0,0,0,0,0,0,0,0,0,0,0,0,0,0,0,0]
[null,"Objectionable odor",null,null,null,null,null,null,null,null,null,null,null,null,null,null,null,1,0,0,0,0,0,0,0,0,0,0,0,0,0,0,0,0,0]
["Aquatic habitat",null,null,null,null,null,null,null,null,null,null,null,null,null,null,null,null,null,{"$f":"IF(S$1=TRUE,#REF!,0)","v":0},0,0,0,0,0,0,0,0,0,{"$f":"IF(AC$1=TRUE,C9,0)","v":0},0,0,0,0,0,0]
[null,"Aquatic habitat for fish and other organisms",null,null,null,null,null,null,null,null,null,null,1,null,null,null,null,null,0,0,0,0,0,0,0,0,0,0,0,0,0,0,0,0,0]
[null,"Elevated water temperature",null,null,null,null,null,null,null,null,null,null,1,null,null,null,null,null,0,0,0,0,0,0,0,0,0,0,0,0,0,0,0,0,0]
["Concentrated erosion",null,null,null,null,null,null,null,null,null,null,null,null,null,null,null,null,null,{"$f":"IF(S$1=TRUE,#REF!,0)","v":0},{"$f":"IF(T$1=TRUE,C12,0)","v":0},0,0,0,0,0,0,0,0,0,0,0,0,0,0,0]
[null,"Bank erosion from streams, shorelines or water conveyance channels",null,null,null,null,null,null,null,null,null,null,null,null,null,null,1,null,0,0,0,0,0,0,0,0,0,0,0,0,0,0,0,0,0]
[null,"Classic gully erosion",1,1,1,1,1,null,null,1,null,null,null,null,null,null,null,null,0,0,0,0,0,0,0,0,0,0,0,0,0,0,0,0,0]
[null,"Ephemeral gully erosion",null,1,null,null,null,null,null,null,null,null,null,null,null,null,null,null,0,0,0,0,0,0,0,0,0,0,0,0,0,0,0,0,0]
["Degraded plant condition",null,null,null,null,null,null,null,null,null,null,null,null,null,null,null,null,null,{"$f":"IF(S$1=TRUE,#REF!,0)","v":0},{"$f":"IF(T$1=TRUE,C16,0)","v":0},0,0,0,0,0,0,0,0,0,0,0,0,0,0,0]
[null,"Plant productivity and health",null,1,null,1,1,null,null,1,null,null,null,null,null,null,null,null,0,0,0,0,0,0,0,0,0,0,0,0,0,0,0,0,0]
[null,"Plant structure and composition",1,null,null,1,1,null,null,1,null,null,null,null,null,null,null,null,0,0,0,0,0,0,0,0,0,0,0,0,0,0,0,0,0]
["Field pesticide loss",null,null,null,null,null,null,null,null,null,null,null,null,null,null,null,null,null,{"$f":"IF(S$1=TRUE,#REF!,0)","v":0},0,0,0,0,0,0,0,0,0,0,0,{"$f":"IF(AE$1=TRUE,C19,0)","v":0},0,0,0,0]
[null,"Pesticides transported to groundwater",null,null,null,null,null,null,null,null,null,null,null,null,1,null,null,null,0,0,0,0,0,0,0,0,0,0,0,0,0,0,0,0,0]
[null,"Pesticides transported to surface water",null,null,null,null,null,null,null,null,null,null,null,null,1,null,null,null,0,0,0,0,0,0,0,0,0,0,0,0,0,0,0,0,0]
["Field sediment, nutrient and pathogen loss",null,null,null,null,null,null,null,null,null,null,null,null,null,null,null,null,null,{"$f":"IF(S$1=TRUE,#REF!,0)","v":0},0,0,0,0,0,0,0,0,0,0,{"$f":"IF(AD$1=TRUE,C22,0)","v":0},0,0,0,0,0]
[null,"Nutrients transported to groundwater",null,null,null,null,null,null,null,null,null,null,null,null,null,1,null,1,0,0,0,0,0,0,0,0,0,0,0,0,0,0,0,0,0]
[null,"Nutrients transported to surface water",null,null,null,null,null,null,null,null,null,null,null,null,null,1,null,1,0,0,0,0,0,0,0,0,0,0,0,0,0,0,0,0,0]
[null,"Pathogens and chemicals from manure, biosolids or compost applications transported to groundwater",null,null,null,null,null,null,null,null,null,1,null,1,null,null,null,1,0,0,0,0,0,0,0,0,0,0,0,0,0,0,0,0,0]
[null,"Pathogens and chemicals from manure, biosolids or compost applications transported to surface water",null,null,null,null,null,null,null,null,null,1,null,1,null,null,null,1,0,0,0,0,0,0,0,0,0,0,0,0,0,0,0,0,0]
[null,"Sediment transported to surface water",null,1,null,1,1,null,null,1,null,null,null,null,null,null,null,null,0,0,0,0,0,0,0,0,0,0,0,0,0,0,0,0,0]
["Fire management",null,null,null,null,null,null,null,null,null,null,null,null,null,null,null,null,null,0,0,0,0,0,0,0,0,0,0,0,0,0,0,0,0,0]
[null,"Wildfire hazard from biomass accumulation",null,null,null,1,null,null,null,null,null,null,null,null,null,null,null,null,0,0,0,0,0,0,0,0,0,0,0,0,0,0,0,0,0]
["Inefficient energy use",null,null,null,null,null,null,null,null,null,null,null,null,null,null,null,null,null,0,0,0,0,0,0,0,0,0,0,0,0,0,0,0,0,0]
[null,"Equipment and Facilities",null,null,null,null,null,null,null,null,null,null,null,null,null,null,null,null,0,0,0,0,0,0,0,0,0,0,0,0,0,0,0,0,0]
[null,"Farming/Ranching Practices and Field Operations",null,null,null,null,null,null,null,null,null,null,null,null,null,null,null,null,0,0,0,0,0,0,0,0,0,0,0,0,0,0,0,0,0]
["Livestock production limitation",null,null,null,null,null,null,null,null,null,null,null,null,null,null,null,null,null,{"$f":"IF(S$1=TRUE,#REF!,0)","v":0},0,0,0,{"$f":"IF(W$1=TRUE,C33,0)","v":0},0,0,0,0,0,0,0,0,0,0,0,0]
[null,"Feed and forage balance",null,null,null,null,1,null,null,1,null,1,null,null,null,null,null,null,0,0,0,0,0,0,0,0,0,0,0,0,0,0,0,0,0]
[null,"Inadequate livestock shelter",null,null,null,null,1,null,null,1,null,1,null,null,null,null,null,null,0,0,0,0,0,0,0,0,0,0,0,0,0,0,0,0,0]
[null,"Inadequate livestock water quantity, quality and distribution",null,null,null,null,1,null,null,1,null,1,null,null,null,null,null,null,0,0,0,0,0,0,0,0,0,0,0,0,0,0,0,0,0]
["Long term protection of land",null,null,null,null,null,null,null,null,null,null,null,null,null,null,null,null,null,0,0,0,0,0,0,0,0,0,0,0,0,0,0,0,0,0]
[null,"Loss of functions and values",null,null,null,null,null,null,null,null,null,null,null,null,null,null,null,null,0,0,0,0,0,0,0,0,0,0,0,0,0,0,0,0,0]
[null,"Threat of conversion",null,null,null,null,null,null,null,null,null,null,null,null,null,null,null,null,0,0,0,0,0,0,0,0,0,0,0,0,0,0,0,0,0]
["Pest pressure",null,null,null,null,null,null,null,null,null,null,null,null,null,null,null,null,null,{"$f":"IF(S$1=TRUE,#REF!,0)","v":0},{"$f":"IF(T$1=TRUE,C40,0)","v":0},0,0,0,0,0,0,0,0,0,0,0,0,0,0,0]
[null,"Plant pest pressure",null,1,null,1,1,null,null,1,null,null,null,null,null,null,null,null,0,0,0,0,0,0,0,0,0,0,0,0,0,0,0,0,0]
["Salt losses to water",null,null,null,null,null,null,null,null,null,null,null,null,null,null,null,null,null,0,0,0,0,0,0,0,0,0,0,0,0,0,0,0,0,0]
[null,"Salts transported to groundwater",null,null,null,null,null,null,null,null,null,null,null,null,null,null,null,null,0,0,0,0,0,0,0,0,0,0,0,0,0,0,0,0,0]
[null,"Salts transported to surface water",null,null,null,null,null,null,null,null,null,null,null,null,null,null,null,null,0,0,0,0,0,0,0,0,0,0,0,0,0,0,0,0,0]
["Soil quality limitations",null,null,null,null,null,null,null,null,null,null,null,null,null,null,null,null,null,0,0,0,0,0,0,0,0,0,0,0,0,0,0,0,0,0]
[null,"Aggregate instability",null,1,null,null,null,null,null,null,null,null,null,null,null,null,null,null,0,0,0,0,0,0,0,0,0,0,0,0,0,0,0,0,0]
[null,"Compaction",null,1,null,null,1,null,null,1,null,null,null,null,null,null,null,null,0,0,0,0,0,0,0,0,0,0,0,0,0,0,0,0,0]
[null,"Concentration of salts or other chemicals",null,null,null,null,null,null,null,null,null,null,null,null,null,null,null,null,0,0,0,0,0,0,0,0,0,0,0,0,0,0,0,0,0]
[null,"Organic matter depletion",null,1,null,null,null,null,null,null,null,null,null,null,null,null,null,null,0,0,0,0,0,0,0,0,0,0,0,0,0,0,0,0,0]
[null,"Soil organism habitat loss or degradation",null,1,null,null,null,null,null,null,null,null,null,null,null,null,null,null,0,0,0,0,0,0,0,0,0,0,0,0,0,0,0,0,0]
[null,"Subsidence",null,null,null,null,null,null,null,null,null,null,null,null,null,null,null,null,0,0,0,0,0,0,0,0,0,0,0,0,0,0,0,0,0]
["Source water depletion",null,null,null,null,null,null,null,null,null,null,null,null,null,null,null,null,null,0,0,0,0,0,0,0,0,0,0,0,0,0,0,0,0,0]
[null,"Groundwater depletion",null,null,null,null,null,null,null,null,null,null,null,null,null,null,null,null,0,0,0,0,0,0,0,0,0,0,0,0,0,0,0,0,0]
[null,"Inefficient irrigation water use",null,null,null,null,null,null,null,null,1,null,null,null,null,null,null,null,0,0,0,0,0,0,0,0,0,0,0,0,0,0,0,0,0]
[null,"Surface water depletion",null,null,null,null,null,null,null,null,null,null,null,null,null,null,null,null,0,0,0,0,0,0,0,0,0,0,0,0,0,0,0,0,0]
["Storage and handling of pollutants",null,null,null,null,null,null,null,null,null,null,null,null,null,null,null,null,null,0,0,0,0,0,0,0,0,0,0,0,0,0,0,0,0,0]
[null,"Nutrients transported to groundwater",null,null,null,null,null,null,null,null,null,null,null,null,null,null,null,1,0,0,0,0,0,0,0,0,0,0,0,0,0,0,0,0,0]
[null,"Nutrients transported to surface water",null,null,null,null,null,null,null,null,null,null,null,null,null,null,null,1,0,0,0,0,0,0,0,0,0,0,0,0,0,0,0,0,0]
[null,"Petroleum, heavy metals and other pollutants transported to groundwater",null,null,1,null,null,null,null,null,null,null,null,null,null,null,null,null,0,0,0,0,0,0,0,0,0,0,0,0,0,0,0,0,0]
[null,"Petroleum, heavy metals and other pollutants transported to surface water",null,null,1,null,null,null,null,null,null,null,null,null,null,null,null,null,0,0,0,0,0,0,0,0,0,0,0,0,0,0,0,0,0]
["Terrestrial habitat",null,null,null,null,null,null,null,null,null,null,null,null,null,null,null,null,null,0,0,0,0,0,0,0,0,0,0,0,0,0,0,0,0,0]
[null,"Terrestrial habitat for wildlife and invertebrates",null,null,null,null,null,null,null,null,null,null,1,null,null,null,null,null,0,0,0,0,0,0,0,0,0,0,0,0,0,0,0,0,0]
["Weather resilience",null,null,null,null,null,null,null,null,null,null,null,null,null,null,null,null,null,0,0,0,0,0,0,0,0,0,0,0,0,0,0,0,0,0]
[null,"Drifted snow",null,null,null,null,null,null,null,null,null,null,null,null,null,null,null,null,0,0,0,0,0,0,0,0,0,0,0,0,0,0,0,0,0]
[null,"Naturally available moisture use",null,null,null,null,1,null,null,1,null,null,null,null,null,null,null,null,0,0,0,0,0,0,0,0,0,0,0,0,0,0,0,0,0]
[null,"Ponding and flooding",null,null,null,null,null,null,null,null,null,null,null,null,null,null,null,null,0,0,0,0,0,0,0,0,0,0,0,0,0,0,0,0,0]
[null,"Seasonal high water table",null,null,null,null,null,null,null,null,null,null,null,null,null,null,null,null,0,0,0,0,0,0,0,0,0,0,0,0,0,0,0,0,0]
[null,"Seeps",null,null,null,null,null,null,null,null,null,null,null,null,null,null,null,null,{"$f":"IF(S$1=TRUE,C68,0)","v":0},0,0,0,0,0,0,0,0,0,0,0,0,0,0,0,{"$f":"MAX(S68:AH68)","v":0}]
["Wind and water erosion",null,null,null,null,null,null,null,null,null,null,null,null,null,null,null,null,null,0,0,0,0,0,0,0,0,0,0,0,0,0,0,0,0,{"$f":"MAX(S69:AH69)","v":0}]
[null,"Sheet and rill erosion",1,1,1,1,1,null,1,1,null,null,null,null,null,null,null,null,0,0,0,0,0,0,0,0,0,0,0,0,0,0,0,0,{"$f":"MAX(S70:AH70)","v":0}]
[null,"Wind erosion",null,1,null,null,null,null,null,1,null,null,null,null,null,null,null,null,0,0,0,0,0,0,0,0,0,0,0,0,0,0,0,0,{"$f":"MAX(S71:AH71)","v":0}]

{"sheet":"Landuse-RC","index":3,"n_rows":181,"n_cols":9,"rows_kept":181,"cut":false,"hidden":false,"merged":[[2,5,2,6],[4,5,4,6],[7,5,7,6],[2,7,2,8],[23,5,23,6],[16,5,16,6],[13,5,13,6],[11,5,11,6],[18,7,18,8],[15,7,15,8],[9,7,9,8],[7,7,7,8],[0,1,0,4],[1,1,1,2],[10,1,10,2],[25,1,29,2],[3,3,3,4],[9,3,9,4],[12,3,12,4],[16,3,16,4],[19,3,19,4],[22,3,22,4]]}
[null,"Select applicable Land uses, Modifiers and other factors, then select Resource concerns to assess.",null,null,null,null,"Once you have selected Landuses, modifiers, other factors and resource concerns, click the button to the right  to return to the questions and filter out resource concerns that are not selected for assessment."]
[null,"1. Select Land uses",null," 4. Select Resource Concerns"]
[null,null,"Associated Ag Land",null,null,"Fire management",null,"Storage and handling of pollutants"]
[null,null,"Crop ","Air quality emissions",null,null,"Wildfire hazard from biomass accumulation",null,"Nutrients transported to groundwater (storage and handling of pollutants)"]
[null,null,"Farmstead",null,"Emissions of airborne reactive nitrogen","Inefficient energy use",null,null,"Nutrients transported to surface water (storage and handling of pollutants)"]
[null,null,"Forest",null,"Emissions of greenhouse gases - GHGs",null,"Equipment and Facilities",null,"Petroleum, heavy metals and other pollutants transported to groundwater"]
[null,null,"Pasture",null,"Emissions of ozone precursors",null,"Farming/Ranching Practices and Field Operations",null,"Petroleum, heavy metals and other pollutants transported to surface water"]
[null,null,"Other Rural Land",null,"Emissions of particulate matter (PM) and PM precursors","Livestock production limitation",null,"Terrestrial habitat"]
[null,null,"Developed Land",null,"Objectionable odor",null,"Feed and forage balance",null,"Terrestrial habitat for wildlife and invertebrates"]
[null,null,null,"Aquatic habitat",null,null,"Inadequate livestock shelter","Weather resilience"]
[null,"2. Select Applicable Modifiers",null,null,"Aquatic habitat for fish and other organisms",null,"Inadequate livestock water quantity, quality and distribution",null,"Drifted snow"]
[null,null,"Irrigated",null,"Elevated water temperature","Pest pressure",null,null,"Naturally available moisture use"]
[null,null,"Grazed","Concentrated erosion",null,null,"Plant pest pressure",null,"Ponding and flooding"]
[null,null,"Wildlife",null,"Bank erosion from streams, shorelines or water conveyance channels","Salt losses to water",null,null,"Seasonal high water table"]
[null,null,"Water Feature",null,"Classic gully erosion",null,"Salts transported to groundwater",null,"Seeps"]
[null,null,"Urban",null,"Ephemeral gully erosion",null,"Salts transported to surface water","Wind and water erosion"]
[null,"3. Select Other Factors",null,"Degraded plant condition",null,"Soil quality limitations",null,null,"Sheet and rill erosion"]
[null,null,"Manure, compost or biosolids applied",null,"Plant productivity and health",null,"Aggregate instability",null,"Wind erosion"]
[null,null,"Nutrients Applied",null,"Plant structure and composition",null,"Compaction","Long Term Protection of Land"]
[null,null,"Pesticides Applied","Field pesticide loss",null,null,"Concentration of salts or other chemicals",null,"Loss of functions and  values"]
[null,null,"Confined Animal Operations",null,"Pesticides transported to groundwater",null,"Organic matter depletion",null,"Threat of conversion"]
[null,null,"Nutrients are stored on one or more PLU's",null,"Pesticides transported to surface water",null,"Soil organism habitat loss or degradation"]
[null,null,"Livestock are present on one or more PLU's","Field sediment, nutrient and pathogen loss",null,null,"Subsidence"]
[null,null,null,null,"Nutrients transported to groundwater (field loss)","Source water depletion"]
[null,null,null,null,"Nutrients transported to surface water (field loss)",null,"Groundwater depletion"]
[null,"\nRecommended Resource Concerns to be assessed for selected Landuses, modifiers and other factors are shown in Green.----------->",null,null,"Pathogens and chemicals from manure, biosolids or compost applications transported to groundwater",null,"Inefficient irrigation water use"]
[null,null,null,null,"Pathogens and chemicals from manure, biosolids or compost applications transported to surface water",null,"Surface water depletion"]
[null,null,null,null,"Sediment transported to surface water"]
[]
[]
[]
[]
[]
[]
[]
[]
[]
[]
[]
[]
[]
[]
[]
[]
[]
[]
[]
[]
[]
[]
[]
[]
[]
[]
[]
[]
[]
[]
[]
[]
[]
[]
[]
[]
[]
[]
[]
[]
[]
[]
[]
[]
[]
[]
[]
[]
[]
[]
[]
[]
[]
[]
[]
[]
[]
[]
[]
[]
[]
[]
[]
[]
[]
[]
[]
[null,null,null,null,null,null,null,{"$f":"MAX(F100,F102,F103,F105,F106)","v":1},"sheet and rill erosion, wind erosion"]
[null,null,"Manure, biosolids or compost are stored on one or more PLU's",false,null,null,null,{"$f":"MAX(F100,F101,F102,F103,F105,F106,F104)","v":1},"Compaction"]
[null,null,"CART Wildlife",false,null,null,null,{"$f":"MAX(F100,F102,F105,F106)","v":1},"OM, plant productivity, Plant structure and com"]
[null,null,"SEC",false,null,null,"combinations",{"$f":"MAX(F100,F101,F102,F104,F105,F106,F107)","v":1},"wildfire"]
[null,null,"Associated Ag Land",false,"Associated Ag Land",{"$f":"IF(D100,1,IF(I$105=1,1,0))","v":1},"1.Assoc Ag Land, Farmstead, Forest, Other , Developed Land",{"$f":"MAX(F100,F102,F103,F105,F106)","v":1}]
[null,null,"Crop ",false,"Crop ",{"$f":"IF(D101,1,IF(I$105=1,1,0))","v":1},"2. Associated Ag Land, Crop, Farmstead, Forest, Other Rural Land, Pasture, Developed Land",{"$f":"(MAX(F100:F106))","v":1}]
[null,null,"Farmstead",false,"Farmstead",1,"3. Associated Ag Land, Farmstead, Other Rural Land, Developed Land",{"$f":"MAX(F100,F102,F105,F106)","v":1}]
[null,null,"Forest",false,"Forest",1,"4. all except forest",{"$f":"MAX(F100,F101,F102,F104,F105,F106,F107)","v":1}]
[null,null,"Pasture",false,"Pasture",1,"5. pasture range grazed",{"$f":"MAX(F104,F107,F109)","v":1}]
[null,null,"Other Rural Land",false,"Other Rural Land",1,"6. All  ",{"$f":"MAX(F100:F107,I105)","v":1},{"$f":"IF(MAX(C100:C110)=0,1,0)","v":1}]
[null,null,"Developed Land",false,"Developed Land",1,"7. All except Pasture",{"$f":"MAX(F100,F101,F102,F103,F105,F106,F107)","v":1}]
[null,null,"Range",false,"Range",1,"8. All except range",{"$f":"MAX(F100:F106)","v":1}]
[null,null,"Irrigated",false,"Irrigated",{"$f":"IF(D108,1,0)","v":0},"9. Crop, forest, assoc ag land, developed land"]
[null,null,"Grazed",false,"Grazed",0,"10 Crop grazed"]
[null,null,"Wildlife",false,"Wildlife",0,"11 forest grazed"]
[null,null,"Livestock are present on the PLU's",false,"Livestock are present on the PLU's",0,"12 Farmstead grazed"]
[null,null,"Surface Waters are present on one or more PLU'S",false,"Surface Waters are present on one or more PLU'S",0,"Crop, Farmstead, Developed Land, Water, Associated Ag Land or Other land",{"$f":"MAX(F101,F102,F106,F100,F105)","v":1}]
[null,null,"Urban",false,"Urban"]
[null,null,"Nutrients Applied",false,"Nutrients Applied",0,"All Except Farmstead",{"$f":"MAX(F100,F101,F103,F104,F105,F106,F107)","v":1}]
[null,null,"Pesticides Applied",false,"Pesticides Applied",0,"Al except pasture and range",{"$f":"MAX(F100,F101,F102,F103,F105,F106)","v":1}]
[null,null,"Confined Animal Operations",false,"Confined Animal Operations",0]
[null,null,"Nutrients are stored on one or more PLU's",false,"Nutrients are stored on one or more PLU's",0]
[null,null,"Manure, biosolids or compost are stored on one or more PLU's",false,"Manure, biosolids or compost are stored on one or more PLU's",0]
[null,null,"Pesticides are stored on one or more PLU's",false,"Pesticides are stored on one or more PLU's",0]
[null,null,"RMS",false,null,{"$f":"IF(MAX(E121:E177)=0,1,0)","v":1},"Recommended"]
[null,null,"Emissions of airborne reactive nitrogen",false,{"$f":"IF(D121,1,0)","v":0},{"$f":"IF(F$120,1,IF(D121,1,0))","v":1},{"$f":"'Recommended RC''s'!AQ4","v":0}]
[null,null,"Emissions of greenhouse gases - GHGs",false,{"$f":"IF(D122,1,0)","v":0},{"$f":"IF(F$120,1,IF(D122,1,0))","v":1},{"$f":"'Recommended RC''s'!AQ5","v":0}]
[null,null,"Emissions of ozone precursors",false,{"$f":"IF(D123,1,0)","v":0},1,{"$f":"'Recommended RC''s'!AQ6","v":0}]
[null,null,"Emissions of particulate matter (PM) and PM precursors",false,{"$f":"IF(D124,1,0)","v":0},1,{"$f":"'Recommended RC''s'!AQ7","v":0}]
[null,null,"Objectionable odor",false,{"$f":"IF(D125,1,0)","v":0},1,{"$f":"'Recommended RC''s'!AQ8","v":0}]
[null,null,"Aquatic habitat for fish and other organisms",false,0,1,{"$f":"'Recommended RC''s'!AQ10","v":0}]
[null,null,"Elevated water temperature",false,0,1,{"$f":"'Recommended RC''s'!AQ11","v":0}]
[null,null,"Bank erosion from streams, shorelines or water conveyance channels",false,0,1,{"$f":"'Recommended RC''s'!AQ13","v":0}]
[null,null,"Classic gully erosion",false,0,1,{"$f":"'Recommended RC''s'!AQ14","v":0}]
[null,null,"Ephemeral gully erosion",false,0,1,{"$f":"'Recommended RC''s'!AQ15","v":0}]
[null,null,"Plant productivity and health",false,0,1,{"$f":"'Recommended RC''s'!AQ17","v":0}]
[null,null,"Plant structure and composition",false,0,1,{"$f":"'Recommended RC''s'!AQ18","v":0}]
[null,null,"Pesticides transported to groundwater",false,0,1,{"$f":"'Recommended RC''s'!AQ20","v":0}]
[null,null,"Pesticides transported to surface water",false,0,1,{"$f":"'Recommended RC''s'!AQ21","v":0}]
[null,null,"Nutrients transported to groundwater",false,0,1,{"$f":"'Recommended RC''s'!AQ23","v":0}]
[null,null,"Nutrients transported to surface water",false,0,1,{"$f":"'Recommended RC''s'!AQ24","v":0}]
[null,null,"Pathogens and chemicals from manure, biosolids or compost applications transported to groundwater",false,0,1,{"$f":"'Recommended RC''s'!AQ25","v":0}]
[null,null,"Pathogens and chemicals from manure, biosolids or compost applications transported to surface water",false,0,1,{"$f":"'Recommended RC''s'!AQ26","v":0}]
[null,null,"Sediment transported to surface water",false,0,1,{"$f":"'Recommended RC''s'!AQ27","v":0}]
[null,null,"Wildfire hazard from biomass accumulation",false,0,1,{"$f":"'Recommended RC''s'!AQ29","v":0}]
[null,null,"Equipment and Facilities",false,0,1,{"$f":"'Recommended RC''s'!AQ31","v":0}]
[null,null,"Farming/Ranching Practices and Field Operations",false,0,1,{"$f":"'Recommended RC''s'!AQ32","v":0}]
[null,null,"Feed and forage balance",false,0,1,{"$f":"'Recommended RC''s'!AQ34","v":0}]
[null,null,"Inadequate livestock shelter",false,0,1,{"$f":"'Recommended RC''s'!AQ35","v":0}]
[null,null,"Inadequate livestock water quantity, quality and distribution",false,0,1,{"$f":"'Recommended RC''s'!AQ36","v":0}]
[null,null,"Plant pest pressure",false,0,1,{"$f":"'Recommended RC''s'!AQ41","v":0}]
[null,null,"Salts transported to groundwater",false,0,1,{"$f":"'Recommended RC''s'!AQ43","v":0}]
[null,null,"Salts transported to surface water",false,0,1,{"$f":"'Recommended RC''s'!AQ44","v":0}]
[null,null,"Aggregate instability",false,0,1,{"$f":"'Recommended RC''s'!AQ46","v":0}]
[null,null,"Compaction",false,0,1,{"$f":"'Recommended RC''s'!AQ47","v":0}]
[null,null,"Concentration of salts or other chemicals",false,0,1,{"$f":"'Recommended RC''s'!AQ48","v":0}]
[null,null,"Organic matter depletion",false,0,1,{"$f":"'Recommended RC''s'!AQ49","v":0}]
[null,null,"Soil organism habitat loss or degradation",false,0,1,{"$f":"'Recommended RC''s'!AQ50","v":0}]
[null,null,"Subsidence",false,0,1,{"$f":"'Recommended RC''s'!AQ51","v":0}]
[null,null,"Groundwater depletion",false,0,1,{"$f":"'Recommended RC''s'!AQ53","v":0}]
[null,null,"Inefficient irrigation water use",false,0,1,{"$f":"'Recommended RC''s'!AQ54","v":0}]
[null,null,"Surface water depletion",false,0,1,{"$f":"'Recommended RC''s'!AQ55","v":0}]
[null,null,"Stored Nutrients transported to groundwater",false,0,1,{"$f":"'Recommended RC''s'!AQ57","v":0}]
[null,null,"Stored Nutrients transported to surface water",false,0,1,{"$f":"'Recommended RC''s'!AQ58","v":0}]
[null,null,"Petroleum, heavy metals and other pollutants transported to groundwater",false,0,1,{"$f":"'Recommended RC''s'!AQ59","v":0}]
[null,null,"Petroleum, heavy metals and other pollutants transported to surface water",false,0,1,{"$f":"'Recommended RC''s'!AQ60","v":0}]
[null,null,"Pathogens and chemicals from stored manure, biosolids or compost transported to groundwater",false,0,1,{"$f":"'Recommended RC''s'!AQ61","v":0}]
[null,null,"Pathogens and chemicals from stored manure, biosolids or compost transported to surface water",false,0,1,{"$f":"'Recommended RC''s'!AQ62","v":0}]
[null,null,"Stored Pesticides transported to groundwater",false,0,1,{"$f":"'Recommended RC''s'!AQ63","v":0}]
[null,null,"Stored Pesticides transported to surface water",false,0,1,{"$f":"'Recommended RC''s'!AQ64","v":0}]
[null,null,"Terrestrial habitat for wildlife and invertebrates",false,0,1,{"$f":"'Recommended RC''s'!AQ66","v":0}]
[null,null,"Drifted snow",false,0,1,{"$f":"'Recommended RC''s'!AQ68","v":0}]
[null,null,"Naturally available moisture use",false,0,1,{"$f":"'Recommended RC''s'!AQ69","v":0}]
[null,null,"Ponding and flooding",false,0,1,{"$f":"'Recommended RC''s'!AQ70","v":0}]
[null,null,"Seasonal high water table",false,0,1,{"$f":"'Recommended RC''s'!AQ71","v":0}]
[null,null,"Seeps",false,0,1,{"$f":"'Recommended RC''s'!AQ72","v":0}]
[null,null,"Sheet and rill erosion",false,0,1,{"$f":"'Recommended RC''s'!AQ74","v":0}]
[null,null,"Wind erosion",false,0,1,{"$f":"'Recommended RC''s'!AQ75","v":0}]
[null,null,null,false,{"$f":"IF(D179,1,0)","v":0},{"$f":"IF(F$120,1,IF(D179,1,0))","v":1}]
[null,null,null,false,{"$f":"IF(D180,1,0)","v":0},{"$f":"IF(F$120,1,IF(D180,1,0))","v":1}]
[null,null,"Loss of functions and  values",false,0,1]
[null,null,"Threat of conversion",false,0,1]
[null,null,null,false,0,1]
[null,null,"CART Wildlife",false,0,{"$f":"IF(F$120,1,IF(#REF!,1,0))","v":1}]
[null,null,"SEC",false,0,{"$f":"IF(F$120,1,IF(#REF!,1,0))","v":1}]
[null,null,null,null,null,{"$f":"IF(D$120,1,IF(D181,1,0))","v":0}]

{"sheet":"CART Field Documentation Record","index":4,"n_rows":40,"n_cols":11,"rows_kept":40,"cut":false,"hidden":false,"merged":[[11,0,11,10],[6,0,6,1],[6,2,6,10],[3,0,3,1],[4,0,4,1],[5,0,5,1],[0,0,0,10],[7,0,7,10],[8,0,8,10],[9,0,9,10],[10,0,10,10],[1,2,1,10],[1,0,1,1],[2,0,2,1],[2,2,2,10],[3,2,3,10],[4,2,4,10],[5,2,5,10],[12,0,12,10],[13,0,13,10],[14,0,14,10],[15,0,15,10],[16,0,16,10]]}
["CART Field Documentation Record"]
["Date:"]
["Client Name:"]
["Tract Number(s):"]
["PLU(s):"]
["Planner:"]
["Reason for being on the farm"]
[]
[]
[]
[]
[]
[]
[]
[]
[]
[]
[]
[null,"Practice","Present",null,"Functioning",null,null,"Practice","Present",null,"Functioning"]
[472,"Access Control",null,null,"Yes     No",null,516,"Livestock Pipeline",null,null,"Yes     No"]
[366,"Anaerobic Digester",null,null,"Yes     No",null,590,"Nutrient Management",null,null,"Yes     No"]
[316,"Animal Mortality Facility ",null,null,"Yes     No",null,512,"Pasture and Hayland Planting",null,null,"Yes     No"]
[314,"Brush Management ",null,null,"Yes     No",null,378,"Pond",null,null,"Yes     No"]
[317,"Composting Facility ",null,null,"Yes     No",null,528,"Prescribed Grazing",null,null,"Yes     No"]
[327,"Conservation Cover ",null,null,"Yes     No",null,329,"Residue & Tillage Mgmt, No Till",null,null,"Yes     No"]
[328,"Conservation Crop Rotation",null,null,"Yes     No",null,345,"Residue & Tillage Mgmt, Reduced Till",null,null,"Yes     No"]
[332,"Contour Buffer Strips ",null,null,"Yes     No",null,558,"Roof Runoff Structure",null,null,"Yes     No"]
[330,"Contour Farming",null,null,"Yes     No",null,367,"Roofs and Covers",null,null,"Yes     No"]
[340,"Cover Crop",null,null,"Yes     No",null,604,"Saturated Buffer",null,null,"Yes     No"]
[342,"Critical Area Planting",null,null,"Yes     No"]
[605,"Denitrifying Bioreactor ",null,null,"Yes     No",null,578,"Stream Crossing",null,null,"Yes     No"]
[554,"Drainage Water Management ",null,null,"Yes     No",null,580,"Streambank & Shoreline Protection",null,null,"Yes     No"]
[382,"Fence",null,null,"Yes     No",null,585,"Stripcropping",null,null,"Yes     No"]
[386,"Field Border",null,null,"Yes     No",null,600,"Terrace",null,null,"Yes     No"]
[393,"Filter Strip",null,null,"Yes     No",null,635,"Vegetated Treatment Area",null,null,"Yes     No"]
[410,"Grade Stabilization Structure ",null,null,"Yes     No",null,632,"Waste Separation Facility",null,null,"Yes     No"]
[412,"Grassed Waterway",null,null,"Yes     No",null,313,"Waste Storage Facility",null,null,"Yes     No"]
[561,"Heavy Use Area Protection",null,null,"Yes     No",null,638,"Water & Sediment Control Basin ",null,null,"Yes     No"]
[325,"High Tunnel System",null,null,"Yes     No",null,642,"Water Well",null,null,"Yes     No"]
[595,"Pest Management Conservation System",null,null,"Yes     No",null,614,"Watering Facility ",null,null,"Yes     No"]

{"sheet":"Questions","index":5,"n_rows":943,"n_cols":401,"rows_kept":562,"cut":true,"hidden":false,"merged":[[632,8,632,9],[633,8,633,9],[634,8,634,9],[643,8,643,9],[648,5,648,6],[646,8,646,9],[598,8,598,9],[599,8,599,9],[43,8,43,9],[488,5,488,6],[597,5,597,6],[597,8,597,9],[603,5,603,6],[603,8,603,9],[604,8,604,9],[605,8,605,9],[609,8,609,9],[609,5,609,6],[552,7,553,7],[555,7,558,7],[428,7,429,7],[539,5,539,6],[473,5,473,6],[560,7,561,7],[563,7,566,7],[572,5,572,6],[614,7,616,7],[576,5,576,6],[569,5,569,6],[499,7,501,7],[519,7,523,7],[531,7,534,7],[494,7,496,7],[543,5,543,6],[535,5,535,6],[551,5,551,6],[610,7,612,7],[613,5,613,6],[595,7,596,7],[629,5,629,6],[579,5,579,6],[583,5,583,6],[588,5,588,6],[621,5,621,6],[622,7,624,7],[600,5,600,6],[625,5,625,6],[594,5,594,6],[617,5,617,6],[618,7,620,7],[453,5,453,6],[457,5,457,6],[467,5,467,6],[461,5,461,6],[480,5,480,6],[83,7,83,9],[476,5,476,6],[129,8,131,8],[109,8,109,9],[119,8,119,9],[138,8,138,9],[154,8,154,9],[157,8,157,9],[331,8,331,9],[239,8,239,9],[253,8,253,9],[258,8,258,9],[298,8,298,9],[88,8,88,9],[451,7,452,7],[458,7,460,7],[430,5,430,6],[216,7,219,7],[404,5,404,6],[483,5,483,6],[0,149,0,155],[50,5,50,6],[331,5,331,6],[398,5,398,6],[83,5,83,6],[104,5,104,6],[133,5,133,6],[109,5,109,6],[325,5,325,6],[88,5,88,6],[138,5,138,6],[319,5,319,6],[215,5,215,6],[230,5,230,6],[239,5,239,6],[125,8,127,8],[0,26,0,77],[0,10,0,25],[3,3,3,6],[2,3,2,6],[446,5,446,6],[450,5,450,6],[20,5,20,6],[26,5,26,6],[23,5,23,6],[26,8,26,9],[17,8,17,9],[23,8,23,9],[20,8,20,9],[9,7,15,7],[437,5,437,6],[376,7,380,7],[383,7,385,7],[399,7,402,7],[405,7,409,7],[158,7,180,7],[259,7,263,7],[211,7,214,7],[58,5,58,6],[67,5,67,6],[70,5,70,6],[63,5,63,6],[210,5,210,6],[29,8,29,9],[198,8,198,9],[434,5,434,6],[181,8,181,9],[3,7,3,9],[24,8,24,9],[25,8,25,9],[21,8,21,9],[22,8,22,9],[18,8,18,9],[19,8,19,9],[9,8,9,9],[10,8,10,9],[11,8,11,9],[12,8,12,9],[13,8,13,9],[14,8,14,9],[15,8,15,9],[7,8,7,9],[171,8,171,9],[172,8,172,9],[173,8,173,9],[174,8,174,9],[180,8,180,9],[155,8,155,9],[156,8,156,9],[149,8,149,9],[150,8,150,9],[151,8,151,9],[152,8,152,9],[166,8,166,9],[167,8,167,9],[168,8,168,9],[158,8,158,9],[159,8,159,9],[160,8,160,9],[161,8,161,9],[162,8,162,9],[120,8,120,9],[121,8,121,9],[122,8,122,9],[170,8,170,9],[41,8,41,9],[46,8,46,9],[50,8,50,9],[32,5,32,6],[37,5,37,6],[41,5,41,6],[86,8,86,9],[87,8,87,9],[148,8,148,9],[111,8,111,9],[112,8,112,9],[113,8,113,9],[80,8,80,9],[81,8,81,9],[82,8,82,9],[123,8,123,9],[139,8,139,9],[140,8,140,9],[141,8,141,9],[142,8,142,9],[47,8,47,9],[48,8,48,9],[49,8,49,9],[44,8,44,9],[313,5,313,6],[307,5,307,6],[220,5,220,6],[225,5,225,6],[54,5,54,6],[54,8,54,9],[58,8,58,9],[63,8,63,9],[67,8,67,9],[70,8,70,9],[182,7,189,7],[301,8,301,9],[210,8,210,9],[215,8,215,9],[220,8,220,9],[225,8,225,9],[230,8,230,9],[307,8,307,9],[313,8,313,9],[222,8,222,9],[223,8,223,9],[75,8,75,9],[84,8,84,9],[85,8,85,9],[441,5,441,6],[206,7,209,7],[27,8,27,9],[28,8,28,9],[38,8,38,9],[39,8,39,9],[33,8,33,9],[34,8,34,9],[35,8,35,9],[36,8,36,9],[30,8,30,9],[31,8,31,9],[298,5,298,6],[73,8,73,9],[79,8,79,9],[98,8,98,9],[104,7,104,9],[133,7,133,9],[299,8,299,9],[300,8,300,9],[46,5,46,6],[32,8,32,9],[37,8,37,9],[392,8,392,9],[507,8,507,9],[508,8,508,9],[509,8,509,9],[467,8,467,9],[473,8,473,9],[476,8,476,9],[480,8,480,9],[492,8,492,9],[325,8,325,9],[446,8,446,9],[421,8,421,9],[483,8,483,9],[488,8,488,9],[430,8,430,9],[434,8,434,9],[415,8,415,9],[450,8,450,9],[329,8,329,9],[330,8,330,9],[326,8,326,9],[327,8,327,9],[328,8,328,9],[435,8,435,9],[436,8,436,9],[537,8,537,9],[538,8,538,9],[519,8,519,9],[520,8,520,9],[521,8,521,9],[522,8,522,9],[523,8,523,9],[531,8,531,9],[513,8,513,9],[514,8,514,9],[515,8,515,9],[516,8,516,9],[517,8,517,9],[588,8,588,9],[569,8,569,9],[559,8,559,9],[554,8,554,9],[551,8,551,9],[562,8,562,9],[573,8,573,9],[574,8,574,9],[570,8,570,9],[571,8,571,9],[563,8,563,9],[564,8,564,9],[565,8,565,9],[566,8,566,9],[560,8,560,9],[561,8,561,9],[555,8,555,9],[556,8,556,9],[557,8,557,9],[558,8,558,9],[594,8,594,9],[606,8,606,9],[613,8,613,9],[621,8,621,9],[625,8,625,9],[600,8,600,9],[595,8,595,9],[596,8,596,9],[607,8,607,9],[608,8,608,9],[614,8,614,9],[616,8,616,9],[622,8,622,9],[624,8,624,9],[610,8,610,9],[612,8,612,9],[611,8,611,9],[615,8,615,9],[619,8,619,9],[620,8,620,9],[601,8,601,9],[602,8,602,9],[617,8,617,9],[618,8,618,9],[459,8,459,9],[428,8,428,9],[429,8,429,9],[422,8,422,9],[423,8,423,9],[424,8,424,9],[425,8,425,9],[403,8,403,9],[393,8,393,9],[394,8,394,9],[395,8,395,9],[396,8,396,9],[397,8,397,9],[417,8,417,9],[418,8,418,9],[413,8,413,9],[427,8,427,9],[438,8,438,9],[439,8,439,9],[453,8,453,9],[398,8,398,9],[404,8,404,9],[411,8,411,9],[352,8,352,9],[353,8,353,9],[456,8,456,9],[451,8,451,9],[458,8,458,9],[389,8,389,9],[437,8,437,9],[452,8,452,9],[447,8,447,9],[448,8,448,9],[449,8,449,9],[442,8,442,9],[443,8,443,9],[444,8,444,9],[445,8,445,9],[233,8,233,9],[348,8,348,9],[349,8,349,9],[350,8,350,9],[261,8,261,9],[262,8,262,9],[263,8,263,9],[308,8,308,9],[309,8,309,9],[310,8,310,9],[311,8,311,9],[312,8,312,9],[302,8,302,9],[303,8,303,9],[304,8,304,9],[305,8,305,9],[306,8,306,9],[257,8,257,9],[241,8,241,9],[242,8,242,9],[243,8,243,9],[244,8,244,9],[245,8,245,9],[254,8,254,9],[185,8,185,9],[186,8,186,9],[187,8,187,9],[188,8,188,9],[189,8,189,9],[232,8,232,9],[182,8,182,9],[224,8,224,9],[216,8,216,9],[217,8,217,9],[218,8,218,9],[219,8,219,9],[211,8,211,9],[212,8,212,9],[213,8,213,9],[214,8,214,9],[227,8,227,9],[228,8,228,9],[229,8,229,9],[208,8,208,9],[209,8,209,9],[202,8,202,9],[190,8,190,9],[255,8,255,9],[256,8,256,9],[246,8,246,9],[247,8,247,9],[248,8,248,9],[249,8,249,9],[250,8,250,9],[251,8,251,9],[252,8,252,9],[259,8,259,9],[260,8,260,9],[457,8,457,9],[474,8,474,9],[375,8,375,9],[381,8,381,9],[386,8,386,9],[339,8,339,9],[340,8,340,9],[341,8,341,9],[342,8,342,9],[343,8,343,9],[344,8,344,9],[345,8,345,9],[338,8,338,9],[351,8,351,9],[460,8,460,9],[454,8,454,9],[455,8,455,9],[440,8,440,9],[441,8,441,9],[431,8,431,9],[432,8,432,9],[433,8,433,9],[505,8,505,9],[499,8,499,9],[500,8,500,9],[501,8,501,9],[494,8,494,9],[586,8,586,9],[587,8,587,9],[580,8,580,9],[581,8,581,9],[577,8,577,9],[578,8,578,9],[552,8,552,9],[553,8,553,9],[576,8,576,9],[572,8,572,9],[583,8,583,9],[579,8,579,9],[530,8,530,9],[543,8,543,9],[502,8,502,9],[506,8,506,9],[518,8,518,9],[512,8,512,9],[536,8,536,9],[628,8,628,9],[590,8,590,9],[591,8,591,9],[592,8,592,9],[585,8,585,9],[346,8,346,9],[347,8,347,9],[648,8,648,9],[644,8,644,9],[645,8,645,9],[647,8,647,9],[641,8,641,9],[642,8,642,9],[636,8,636,9],[637,8,637,9],[532,8,532,9],[533,8,533,9],[534,8,534,9],[539,8,539,9],[535,8,535,9],[510,8,510,9],[511,8,511,9],[503,8,503,9],[504,8,504,9],[544,8,544,9],[545,8,545,9],[546,8,546,9],[540,8,540,9],[541,8,541,9],[542,8,542,9],[657,8,657,9],[658,8,658,9],[659,8,659,9],[649,8,649,9],[650,8,650,9],[651,8,651,9],[652,8,652,9],[653,8,653,9],[654,8,654,9],[655,8,655,9],[656,8,656,9],[630,8,630,9],[631,8,631,9],[635,8,635,9],[623,8,623,9],[640,8,640,9],[629,8,629,9],[627,8,627,9],[495,8,495,9],[496,8,496,9],[497,8,497,9],[481,8,481,9],[482,8,482,9],[478,8,478,9],[479,8,479,9],[468,8,468,9],[469,8,469,9],[470,8,470,9],[471,8,471,9],[472,8,472,9],[475,8,475,9],[489,8,489,9],[490,8,490,9],[491,8,491,9],[484,8,484,9],[485,8,485,9],[486,8,486,9],[487,8,487,9],[414,8,414,9],[405,8,405,9],[406,8,406,9],[407,8,407,9],[408,8,408,9],[409,8,409,9],[373,8,373,9],[374,8,374,9],[363,8,363,9],[364,8,364,9],[365,8,365,9],[399,8,399,9],[400,8,400,9],[401,8,401,9],[402,8,402,9],[390,8,390,9],[391,8,391,9],[387,8,387,9],[388,8,388,9],[382,8,382,9],[383,8,383,9],[384,8,384,9],[385,8,385,9],[376,8,376,9],[377,8,377,9],[378,8,378,9],[379,8,379,9],[380,8,380,9],[366,8,366,9],[367,8,367,9],[332,8,332,9],[333,8,333,9],[334,8,334,9],[335,8,335,9],[336,8,336,9],[314,8,314,9],[315,8,315,9],[316,8,316,9],[317,8,317,9],[318,8,318,9],[320,8,320,9],[321,8,321,9],[322,8,322,9],[323,8,323,9],[324,8,324,9],[319,8,319,9],[368,8,368,9],[370,8,370,9],[371,8,371,9],[372,8,372,9],[354,8,354,9],[355,8,355,9],[356,8,356,9],[357,8,357,9],[358,8,358,9],[359,8,359,9],[360,8,360,9],[361,8,361,9],[362,8,362,9],[203,8,203,9],[204,8,204,9],[199,8,199,9],[200,8,200,9],[191,8,191,9],[192,8,192,9],[193,8,193,9],[206,8,206,9],[207,8,207,9],[201,8,201,9],[205,8,205,9],[45,8,45,9],[89,8,89,9],[90,8,90,9],[91,8,91,9],[92,8,92,9],[59,8,59,9],[60,8,60,9],[61,8,61,9],[62,8,62,9],[55,8,55,9],[56,8,56,9],[57,8,57,9],[52,8,52,9],[53,8,53,9],[74,8,74,9],[71,8,71,9],[72,8,72,9],[68,8,68,9],[69,8,69,9],[65,8,65,9],[66,8,66,9],[184,8,184,9],[134,8,134,9],[135,8,135,9],[136,8,136,9],[137,8,137,9],[110,8,110,9],[107,8,107,9],[108,8,108,9],[99,8,99,9],[100,8,100,9],[101,8,101,9],[102,8,102,9],[105,8,105,9],[106,8,106,9],[183,8,183,9],[175,8,175,9],[176,8,176,9],[177,8,177,9],[178,8,178,9],[179,8,179,9],[163,8,163,9],[164,8,164,9],[165,8,165,9],[169,8,169,9]],"bounds":{"rows_first":250,"rows_last":62,"rows_between":250,"halvings":3}}
[null,null,null,null,null,null,null,null,null,null,"Land Use Table",null,null,null,null,null,null,null,null,null,null,null,null,null,null,null,"Resource Concern Table",null,null,null,null,null,null,null,null,null,null,null,null,null,null,null,null,null,null,null,null,null,null,null,null,null,null,null,null,null,null,null,null,null,null,null,null,null,null,null,null,null,null,null,null,null,null,null,null,null,null,null,null,null,null,null,null,null,null,null,null,null,null,null,null,null,null,null,null,null,null,{"$f":"IF($CS5=TRUE,FALSE,CT5)","v":false},{"$f":"IF($CS5=TRUE,FALSE,CU5)","v":false},false,false,false,false,false,false,false,false,false,false,false,false,false,false,false,false,false,false,false,false,false,false,false,false,false,false,false,false,false,false,false,false,false,false,false,false,false,false,false,false,false,false,false,false,false,false,false,false,false,null,"Include  "]
[null,null,null,null,null,null,null,null,null,null,"Assoc Ag","Crop","Farmstead","Forest","Pasture","Other","Developed","Range","Irrigated","Grazed","Wildlife","Livestock","Surface Water","Modifier Depend","CART Wildlife","CAFO","All (RMS)","Emissions of airborne reactive nitrogen","Emissions of greenhouse gases - GHGs","Emissions of ozone precursors","Emissions of particulate matter (PM) and PM precursors","Objectionable odor","Aquatic habitat for fish and other organisms","Elevated water temperature","Bank erosion from streams, shorelines or water conveyance channels","Classic gully erosion","Ephemeral gully erosion","Plant productivity and health","Plant structure and composition","Pesticides transported to groundwater","Pesticides transported to surface water","Field Nutrients transported to ground water","Field Nutrients transported to surface water","Pathogens and chemicals from manure, biosolids or compost applications transported to groundwater","Pathogens and chemicals from manure, biosolids or compost applications transported to surface water","Sediment transported to surface water","Wildfire hazard from biomass accumulation","Equipment and Facilities","Farming/Ranching Practices and Field Operations","Feed and forage balance","Inadequate livestock shelter","Inadequate livestock water quantity, quality and distribution","Loss of functions and values","Threat of conversion","Plant pest pressure","Salts transported to groundwater","Salts transported to surface water","Aggregate instability","Compaction","Concentration of salts or other chemicals","Organic matter depletion","Soil organism habitat loss or degradation","Subsidence","Groundwater depletion","Inefficient irrigation water use","Surface water depletion","Stored Nutrients transported to groundwater","Stored Nutrients transported to surface water","Petroleum, heavy metals and other pollutants transported to groundwater","Petroleum, heavy metals and other pollutants transported to surface water","Terrestrial habitat for wildlife and invertebrates","Drifted snow","Naturally available moisture use","Ponding and flooding","Seasonal high water table","Seeps","Sheet and rill erosion","Wind erosion",null,"Assoc Ag","Crop","Farmstead","Forest","Pasture","Other","Developed","Range","Irrigated","Grazed","Wildlife","Livestock","Water Feature","SEC","CART Wildlife","CAFO","Always visible","All (RMS)","Emissions of airborne reactive nitrogen","Emissions of greenhouse gases - GHGs","Emissions of ozone precursors","Emissions of particulate matter (PM) and PM precursors","Objectionable odor","Aquatic habitat for fish and other organisms","Elevated water temperature","Bank erosion from streams, shorelines or water conveyance channels","Classic gully erosion","Ephemeral gully erosion","Plant productivity and health","Plant structure and composition","Pesticides transported to groundwater","Pesticides transported to surface water","Nutrients transported to groundwater (field loss)","Nutrients transported to surface water (field loss)","Pathogens and chemicals from manure, biosolids or compost applications transported to groundwater","Pathogens and chemicals from manure, biosolids or compost applications transported to surface water","Sediment transported to surface water","Wildfire hazard from biomass accumulation","Equipment and Facilities","Farming/Ranching Practices and Field Operations","Feed and forage balance","Inadequate livestock shelter","Inadequate livestock water quantity, quality and distribution","Loss of functions and values","Threat of conversion","Plant pest pressure","Salts transported to groundwater","Salts transported to surface water","Aggregate instability","Compaction","Concentration of salts or other chemicals","Organic matter depletion","Soil organism habitat loss or degradation","Subsidence","Groundwater depletion","Inefficient irrigation water use","Surface water depletion","Nutrients transported to ground water (storage and handling of pollutants)","Nutrients transported to surface water (storage and handling of pollutants)","Petroleum, heavy metals and other pollutants transported to groundwater","Petroleum, heavy metals and other pollutants transported to surface water","Terrestrial habitat for wildlife and invertebrates","Drifted snow","Naturally available moisture use","Ponding and flooding","Seasonal high water table","Seeps","Sheet and rill erosion","Wind erosion",null,"Include Land Use","Factor","Include Q","Modifier Depend","CART Wildlife","Include RC","Always visible"]
[null,null,null,"Land Uses/Modifiers:",null,null,null,"Resource Concerns:"]
[null,null,null,{"$f":"CONCATENATE(CB4,CC4,CD4,CE4,CF4,CG4,CH4,CI4,CJ4,CK4,CL4,CM4,CN4,CO4,CQ4)","v":""},null,null,null,{"$f":"ES4","v":""},null,null,null,null,null,null,null,null,null,null,null,null,null,null,null,null,null,null,null,null,null,null,null,null,null,null,null,null,null,null,null,null,null,null,null,null,null,null,null,null,null,null,null,null,null,null,null,null,null,null,null,null,null,null,null,null,null,null,null,null,null,null,null,null,null,null,null,null,null,null,null,{"$f":"IF(CB5=TRUE,\"Associated Ag Land, \",\"\")","v":""},{"$f":"IF(CC5=TRUE,\"Cropland, \",\"\")","v":""},{"$f":"IF(CD5=TRUE,\"Farmstead, \",\"\")","v":""},{"$f":"IF(CE5=TRUE,\"Forest, \",\"\")","v":""},{"$f":"IF(CF5=TRUE,\"Pasture, \",\"\")","v":""},{"$f":"IF(CG5=TRUE,\"Other Rural Land, \",\"\")","v":""},{"$f":"IF(CH5=TRUE,\"Developed Land, \",\"\")","v":""},{"$f":"IF(CI5=TRUE,\"Range, \",\"\")","v":""},{"$f":"IF(CJ5=TRUE,\"Irrigated, \",\"\")","v":""},{"$f":"IF(CK5=TRUE,\"Grazed, \",\"\")","v":""},{"$f":"IF(CL5=TRUE,\"Wildlife, \",\"\")","v":""},{"$f":"IF(CM5=TRUE,\"Livestock present, \",\"\")","v":""},{"$f":"IF(CN5=TRUE,\"Water Feature, \",\"\")","v":""},{"$f":"IF(CO5=TRUE,\"Special Environmental Concerns, \",\"\")","v":""},{"$f":"IF(CP5=TRUE,\"CART Wildlife, \",\"\")","v":""},{"$f":"IF(CQ5=TRUE,\"CAFO, \",\"\")","v":""},null,{"$f":"IF(CS5=\"TRUE\",CONCATENATE(CS2,\", \"),\"\")","v":""},{"$f":"IF(CT1=TRUE,CONCATENATE(CT2,\", \"),\"\")","v":""},{"$f":"IF(CU1=TRUE,CONCATENATE(CU2,\", \"),\"\")","v":""},"","","","","","","","","","","","","","","","","","","","","","","","","","","","","","","","","","","","","","","","","","","","","","","","","",{"$f":"CONCATENATE(CS4,CT4,CU4,CV4,CW4,CX4,CY4,CZ4,DA4,DB4,DC4,DD4,DE4,DF4,DG4,DH4,DI4,DJ4,DK4,DL4,DM4,DN4,DO4,DP4,DQ4,DR4,DS4,DT4,DU4,DV4,DW4,DX4,DY4,DZ4,EA4,EB4,EC4,ED4,EE4,EF4,EG4,EH4,EI4,EJ4,EK4,EL4,EM4,EN4,EO4,EP4,EQ4,ER4)","v":""}]
["G","O",null,"PLU's Evaluated:  ",null,null,null,null,null,"List PLU's by answer",null,null,null,null,null,null,null,null,null,null,null,null,null,null,null,null,null,null,null,null,null,null,null,null,null,null,null,null,null,null,null,null,null,null,null,null,null,null,null,null,null,null,null,null,null,null,null,null,null,null,null,null,null,null,null,null,null,null,null,null,null,null,null,null,null,null,null,null,null,{"$f":"'Landuse-RC'!D100","v":false},{"$f":"'Landuse-RC'!D101","v":false},{"$f":"'Landuse-RC'!D102","v":false},{"$f":"'Landuse-RC'!D103","v":false},{"$f":"'Landuse-RC'!D104","v":false},{"$f":"'Landuse-RC'!D105","v":false},{"$f":"'Landuse-RC'!D106","v":false},{"$f":"'Landuse-RC'!D107","v":false},{"$f":"'Landuse-RC'!D108","v":false},{"$f":"'Landuse-RC'!D109","v":false},{"$f":"'Landuse-RC'!D110","v":false},{"$f":"'Landuse-RC'!D111","v":false},{"$f":"'Landuse-RC'!D112","v":false},{"$f":"'Landuse-RC'!D99","v":false},{"$f":"'Landuse-RC'!D98","v":false},{"$f":"'Landuse-RC'!D116","v":false},true,{"$f":"'Landuse-RC'!D120","v":false},{"$f":"'Landuse-RC'!D121","v":false},{"$f":"'Landuse-RC'!D122","v":false},{"$f":"'Landuse-RC'!D123","v":false},{"$f":"'Landuse-RC'!D124","v":false},{"$f":"'Landuse-RC'!D125","v":false},{"$f":"'Landuse-RC'!D126","v":false},{"$f":"'Landuse-RC'!D127","v":false},{"$f":"'Landuse-RC'!D128","v":false},{"$f":"'Landuse-RC'!D129","v":false},{"$f":"'Landuse-RC'!D130","v":false},{"$f":"'Landuse-RC'!D131","v":false},{"$f":"'Landuse-RC'!D132","v":false},{"$f":"'Landuse-RC'!D133","v":false},{"$f":"'Landuse-RC'!D134","v":false},{"$f":"'Landuse-RC'!D135","v":false},{"$f":"'Landuse-RC'!D136","v":false},{"$f":"'Landuse-RC'!D137","v":false},{"$f":"'Landuse-RC'!D138","v":false},{"$f":"'Landuse-RC'!D139","v":false},{"$f":"'Landuse-RC'!D140","v":false},{"$f":"'Landuse-RC'!D141","v":false},{"$f":"'Landuse-RC'!D142","v":false},{"$f":"'Landuse-RC'!D143","v":false},{"$f":"'Landuse-RC'!D144","v":false},{"$f":"'Landuse-RC'!D145","v":false},{"$f":"'Landuse-RC'!D176","v":false},{"$f":"'Landuse-RC'!D177","v":false},{"$f":"'Landuse-RC'!D146","v":false},{"$f":"'Landuse-RC'!D147","v":false},{"$f":"'Landuse-RC'!D148","v":false},{"$f":"'Landuse-RC'!D149","v":false},{"$f":"'Landuse-RC'!D150","v":false},{"$f":"'Landuse-RC'!D151","v":false},{"$f":"'Landuse-RC'!D152","v":false},{"$f":"'Landuse-RC'!D153","v":false},{"$f":"'Landuse-RC'!D154","v":false},{"$f":"'Landuse-RC'!D155","v":false},{"$f":"'Landuse-RC'!D156","v":false},{"$f":"'Landuse-RC'!D157","v":false},{"$f":"'Landuse-RC'!D158","v":false},{"$f":"'Landuse-RC'!D159","v":false},{"$f":"'Landuse-RC'!D160","v":false},{"$f":"'Landuse-RC'!D161","v":false},{"$f":"'Landuse-RC'!D166","v":false},{"$f":"'Landuse-RC'!D167","v":false},{"$f":"'Landuse-RC'!D168","v":false},{"$f":"'Landuse-RC'!D169","v":false},{"$f":"'Landuse-RC'!D170","v":false},{"$f":"'Landuse-RC'!D171","v":false},{"$f":"'Landuse-RC'!D172","v":false},{"$f":"'Landuse-RC'!D173","v":false}]
[1,1,{"$f":"IF(EV6>0,1,0)","v":0},"Land Use",null,null,null,null,null,null,1,1,1,1,1,1,1,1,1,1,null,1,1,1,null,1,1,null,1,1,1,null,null,null,1,1,1,null,1,1,1,1,1,1,1,1,1,null,null,1,1,1,null,null,1,1,1,1,1,1,1,1,1,null,null,null,null,null,null,null,null,1,null,1,1,1,1,1,null,{"$f":"IF(CB$5=TRUE,K6,0)","v":0},{"$f":"IF(CC$5=TRUE,L6,0)","v":0},{"$f":"IF(CD$5=TRUE,M6,0)","v":0},{"$f":"IF(CE$5=TRUE,N6,0)","v":0},{"$f":"IF(CF$5=TRUE,O6,0)","v":0},{"$f":"IF(CG$5=TRUE,P6,0)","v":0},{"$f":"IF(CH$5=TRUE,Q6,0)","v":0},{"$f":"IF(CI$5=TRUE,R6,0)","v":0},{"$f":"IF(CJ$5=TRUE,S6,0)","v":0},{"$f":"IF(CK$5=TRUE,T6,0)","v":0},{"$f":"IF(CL$5=TRUE,U6,0)","v":0},{"$f":"IF(CM$5=TRUE,V6,0)","v":0},{"$f":"IF(CN$5=TRUE,W6,0)","v":0},{"$f":"IF(CO$5=TRUE,X6,0)","v":0},{"$f":"IF(CP$5=TRUE,Y6,0)","v":0},{"$f":"IF(CQ$5=TRUE,Z6,0)","v":0},1,{"$f":"IF(CS$5=\"TRUE\",AA6,0)","v":0},{"$f":"IF(CT$5=TRUE,AB6,0)","v":0},{"$f":"IF(CU$5=TRUE,AC6,0)","v":0},{"$f":"IF(CV$5=TRUE,AD6,0)","v":0},{"$f":"IF(CW$5=TRUE,AE6,0)","v":0},{"$f":"IF(CX$5=TRUE,AF6,0)","v":0},{"$f":"IF(CY$5=TRUE,AG6,0)","v":0},{"$f":"IF(CZ$5=TRUE,AH6,0)","v":0},{"$f":"IF(DA$5=TRUE,AI6,0)","v":0},{"$f":"IF(DB$5=TRUE,AJ6,0)","v":0},{"$f":"IF(DC$5=TRUE,AK6,0)","v":0},{"$f":"IF(DD$5=TRUE,AL6,0)","v":0},{"$f":"IF(DE$5=TRUE,AM6,0)","v":0},{"$f":"IF(DF$5=TRUE,AN6,0)","v":0},{"$f":"IF(DG$5=TRUE,AO6,0)","v":0},{"$f":"IF(DH$5=TRUE,AP6,0)","v":0},{"$f":"IF(DI$5=TRUE,AQ6,0)","v":0},{"$f":"IF(DJ$5=TRUE,AR6,0)","v":0},{"$f":"IF(DK$5=TRUE,AS6,0)","v":0},{"$f":"IF(DL$5=TRUE,AT6,0)","v":0},{"$f":"IF(DM$5=TRUE,AU6,0)","v":0},{"$f":"IF(DN$5=TRUE,AV6,0)","v":0},{"$f":"IF(DO$5=TRUE,AW6,0)","v":0},{"$f":"IF(DP$5=TRUE,AX6,0)","v":0},{"$f":"IF(DQ$5=TRUE,AY6,0)","v":0},{"$f":"IF(DR$5=TRUE,AZ6,0)","v":0},{"$f":"IF(DS$5=TRUE,BA6,0)","v":0},{"$f":"IF(DT$5=TRUE,BB6,0)","v":0},{"$f":"IF(DU$5=TRUE,BC6,0)","v":0},{"$f":"IF(DV$5=TRUE,BD6,0)","v":0},{"$f":"IF(DW$5=TRUE,BE6,0)","v":0},{"$f":"IF(DX$5=TRUE,BF6,0)","v":0},{"$f":"IF(DY$5=TRUE,BG6,0)","v":0},{"$f":"IF(DZ$5=TRUE,BH6,0)","v":0},{"$f":"IF(EA$5=TRUE,BI6,0)","v":0},{"$f":"IF(EB$5=TRUE,BJ6,0)","v":0},{"$f":"IF(EC$5=TRUE,BK6,0)","v":0},{"$f":"IF(ED$5=TRUE,BL6,0)","v":0},{"$f":"IF(EE$5=TRUE,BM6,0)","v":0},{"$f":"IF(EF$5=TRUE,BN6,0)","v":0},{"$f":"IF(EG$5=TRUE,BO6,0)","v":0},{"$f":"IF(EH$5=TRUE,BP6,0)","v":0},{"$f":"IF(EI$5=TRUE,BQ6,0)","v":0},{"$f":"IF(EJ$5=TRUE,BR6,0)","v":0},{"$f":"IF(EK$5=TRUE,BS6,0)","v":0},{"$f":"IF(EL$5=TRUE,BT6,0)","v":0},{"$f":"IF(EM$5=TRUE,BU6,0)","v":0},{"$f":"IF(EN$5=TRUE,BV6,0)","v":0},{"$f":"IF(EO$5=TRUE,BW6,0)","v":0},{"$f":"IF(EP$5=TRUE,BX6,0)","v":0},{"$f":"IF(EQ$5=TRUE,BY6,0)","v":0},{"$f":"IF(ER$5=TRUE,BZ6,0)","v":0},null,{"$f":"MAX(CB6:CQ6)","v":0},1,{"$f":"ET6*EU6*EY6","v":0},null,null,{"$f":"MAX(CR6:ER6)","v":1},1]
[2,1,0,null,"Inventory",null,null,null,null,null,1,1,1,1,1,1,1,1,1,1,1,null,1,null,null,null,1,null,null,1,1,null,null,null,1,1,1,null,1,null,null,1,1,1,1,1,1,null,null,null,null,null,null,null,1,1,1,null,1,1,1,null,1,null,null,null,null,null,null,null,null,1,null,1,1,1,null,null,null,0,0,0,0,0,0,0,0,0,0,0,0,0,0,0,0,{"$f":"EZ7","v":1},0,0,0,0,0,0,0,0,0,0,0,0,0,0,0,0,0,0,0,0,0,0,0,0,0,0,0,0,0,0,0,0,0,0,0,0,0,0,0,0,0,0,0,0,0,0,0,0,0,0,0,0,null,0,1,0,null,null,1,1]
[3,4,0,null,"Q:","Type of surface water feature in the PLU?",null,"Guidance","Documentation: (e.g. field notes, client interview responses, justification)",null,null,null,null,null,null,null,null,null,null,null,null,null,1,null,null,null,1,null,null,null,null,null,null,null,null,null,null,null,null,null,null,null,null,null,null,null,null,null,null,null,null,null,null,null,null,null,null,null,null,null,null,null,null,null,null,null,null,null,null,null,null,null,null,null,null,null,null,null,null,0,0,0,0,0,0,0,0,0,0,0,0,0,0,0,0,1,0,0,0,0,0,0,0,0,0,0,0,0,0,0,0,0,0,0,0,0,0,0,0,0,0,0,0,0,0,0,0,0,0,0,0,0,0,0,0,0,0,0,0,0,0,0,0,0,0,0,0,0,null,0,1,0,null,null,1,1]
[3,5,5,null,null,null,"Coastal","Includes water features that have sufficient salinity to support estuarine or marine organisms.  This could include habitats such as estuaries, tidally influenced river mouths, coastal salt ponds, coastal waters, and marine open waters. Does NOT include wetlands, freshwater ponds, and non-tidal areas of rivers. NOTE: if the water feature is identified as a wetland (e.g., USFWS National Wetlands Inventory), the Wetland water feature should be selected instead of the Coastal water feature.","N/A In Iowa",null,null,null,null,null,null,null,null,null,null,null,null,null,1,null,null,null,1,null,null,null,null,null,null,null,null,null,null,null,null,null,null,null,null,null,null,null,null,null,null,null,null,null,null,null,null,null,null,null,null,null,null,null,null,null,null,null,null,null,null,null,null,null,null,null,null,null,null,null,null,{"$f":"IF(CB$5=TRUE,K9,0)","v":0},{"$f":"IF(CC$5=TRUE,L9,0)","v":0},{"$f":"IF(CD$5=TRUE,M9,0)","v":0},{"$f":"IF(CE$5=TRUE,N9,0)","v":0},{"$f":"IF(CF$5=TRUE,O9,0)","v":0},{"$f":"IF(CG$5=TRUE,P9,0)","v":0},{"$f":"IF(CH$5=TRUE,Q9,0)","v":0},{"$f":"IF(CI$5=TRUE,R9,0)","v":0},{"$f":"IF(CJ$5=TRUE,S9,0)","v":0},{"$f":"IF(CK$5=TRUE,T9,0)","v":0},{"$f":"IF(CL$5=TRUE,U9,0)","v":0},{"$f":"IF(CM$5=TRUE,V9,0)","v":0},{"$f":"IF(CN$5=TRUE,W9,0)","v":0},{"$f":"IF(CO$5=TRUE,X9,0)","v":0},{"$f":"IF(CP$5=TRUE,Y9,0)","v":0},{"$f":"IF(CQ$5=TRUE,Z9,0)","v":0},{"$f":"EZ9","v":1},{"$f":"IF(CS$5=\"TRUE\",AA9,0)","v":0},{"$f":"IF(CT$5=TRUE,AB9,0)","v":0},{"$f":"IF(CU$5=TRUE,AC9,0)","v":0},{"$f":"IF(CV$5=TRUE,AD9,0)","v":0},{"$f":"IF(CW$5=TRUE,AE9,0)","v":0},{"$f":"IF(CX$5=TRUE,AF9,0)","v":0},{"$f":"IF(CY$5=TRUE,AG9,0)","v":0},{"$f":"IF(CZ$5=TRUE,AH9,0)","v":0},{"$f":"IF(DA$5=TRUE,AI9,0)","v":0},{"$f":"IF(DB$5=TRUE,AJ9,0)","v":0},{"$f":"IF(DC$5=TRUE,AK9,0)","v":0},{"$f":"IF(DD$5=TRUE,AL9,0)","v":0},{"$f":"IF(DE$5=TRUE,AM9,0)","v":0},{"$f":"IF(DF$5=TRUE,AN9,0)","v":0},{"$f":"IF(DG$5=TRUE,AO9,0)","v":0},{"$f":"IF(DH$5=TRUE,AP9,0)","v":0},{"$f":"IF(DI$5=TRUE,AQ9,0)","v":0},{"$f":"IF(DJ$5=TRUE,AR9,0)","v":0},{"$f":"IF(DK$5=TRUE,AS9,0)","v":0},{"$f":"IF(DL$5=TRUE,AT9,0)","v":0},{"$f":"IF(DM$5=TRUE,AU9,0)","v":0},{"$f":"IF(DN$5=TRUE,AV9,0)","v":0},{"$f":"IF(DO$5=TRUE,AW9,0)","v":0},{"$f":"IF(DP$5=TRUE,AX9,0)","v":0},{"$f":"IF(DQ$5=TRUE,AY9,0)","v":0},{"$f":"IF(DR$5=TRUE,AZ9,0)","v":0},{"$f":"IF(DS$5=TRUE,BA9,0)","v":0},{"$f":"IF(DT$5=TRUE,BB9,0)","v":0},{"$f":"IF(DU$5=TRUE,BC9,0)","v":0},{"$f":"IF(DV$5=TRUE,BD9,0)","v":0},{"$f":"IF(DW$5=TRUE,BE9,0)","v":0},{"$f":"IF(DX$5=TRUE,BF9,0)","v":0},{"$f":"IF(DY$5=TRUE,BG9,0)","v":0},{"$f":"IF(DZ$5=TRUE,BH9,0)","v":0},{"$f":"IF(EA$5=TRUE,BI9,0)","v":0},{"$f":"IF(EB$5=TRUE,BJ9,0)","v":0},{"$f":"IF(EC$5=TRUE,BK9,0)","v":0},{"$f":"IF(ED$5=TRUE,BL9,0)","v":0},{"$f":"IF(EE$5=TRUE,BM9,0)","v":0},{"$f":"IF(EF$5=TRUE,BN9,0)","v":0},{"$f":"IF(EG$5=TRUE,BO9,0)","v":0},{"$f":"IF(EH$5=TRUE,BP9,0)","v":0},{"$f":"IF(EI$5=TRUE,BQ9,0)","v":0},{"$f":"IF(EJ$5=TRUE,BR9,0)","v":0},{"$f":"IF(EK$5=TRUE,BS9,0)","v":0},{"$f":"IF(EL$5=TRUE,BT9,0)","v":0},{"$f":"IF(EM$5=TRUE,BU9,0)","v":0},{"$f":"IF(EN$5=TRUE,BV9,0)","v":0},{"$f":"IF(EO$5=TRUE,BW9,0)","v":0},{"$f":"IF(EP$5=TRUE,BX9,0)","v":0},{"$f":"IF(EQ$5=TRUE,BY9,0)","v":0},{"$f":"IF(ER$5=TRUE,BZ9,0)","v":0},null,{"$f":"MAX(CB9:CQ9)","v":0},1,{"$f":"ET9*EU9*EY9","v":0},null,null,{"$f":"MAX(CR9:ER9)","v":1},1]
[3,5,0,null,null,null," Lake or Pond","\nDefinitions:\nLake - a large body of water surrounded by land.\nPond - a small body of still water formed naturally or by hallowing or by embankment.\nRiver - a large natural stream that is typically non-wadable during normal flows.\nSeep - an area of minor groundwater outflow onto the land surface.\nSpring - underground water emerging naturally from the earth.\nStream - a small narrow river, usually wadable.\nWater Conveyance Channel - a canal or ditch used to convey water.\nIf the water feature is identified as a wetland (e.g., USFWS National Wetlands Inventory), the Wetland water feature should be selected  along with any other water feature(s).\n",null,null,null,null,null,null,null,null,null,null,null,null,null,null,1,null,null,null,1,null,null,null,null,null,null,null,null,null,null,null,null,null,null,null,null,null,null,null,null,null,null,null,null,null,null,null,null,null,null,null,null,null,null,null,null,null,null,null,null,null,null,null,null,null,null,null,null,null,null,null,null,0,0,0,0,0,0,0,0,0,0,0,0,0,0,0,0,1,0,0,0,0,0,0,0,0,0,0,0,0,0,0,0,0,0,0,0,0,0,0,0,0,0,0,0,0,0,0,0,0,0,0,0,0,0,0,0,0,0,0,0,0,0,0,0,0,0,0,0,0,null,0,1,0,null,null,1,1]
[3,6,0,null,null,null," River",null,null,null,null,null,null,null,null,null,null,null,null,null,null,null,1,null,null,null,1,null,null,null,null,null,null,null,null,null,null,null,null,null,null,null,null,null,null,null,null,null,null,null,null,null,null,null,null,null,null,null,null,null,null,null,null,null,null,null,null,null,null,null,null,null,null,null,null,null,null,null,null,0,0,0,0,0,0,0,0,0,0,0,0,0,0,0,0,1,0,0,0,0,0,0,0,0,0,0,0,0,0,0,0,0,0,0,0,0,0,0,0,0,0,0,0,0,0,0,0,0,0,0,0,0,0,0,0,0,0,0,0,0,0,0,0,0,0,0,0,0,null,0,1,0,null,null,1,1]
[3,7,0,null,null,null," Seep",null,null,null,null,null,null,null,null,null,null,null,null,null,null,null,1,null,null,null,1,null,null,null,null,null,null,null,null,null,null,null,null,null,null,null,null,null,null,null,null,null,null,null,null,null,null,null,null,null,null,null,null,null,null,null,null,null,null,null,null,null,null,null,null,null,null,null,null,null,null,null,null,0,0,0,0,0,0,0,0,0,0,0,0,0,0,0,0,1,0,0,0,0,0,0,0,0,0,0,0,0,0,0,0,0,0,0,0,0,0,0,0,0,0,0,0,0,0,0,0,0,0,0,0,0,0,0,0,0,0,0,0,0,0,0,0,0,0,0,0,0,null,0,1,0,null,null,1,1]
[3,8,0,null,null,null," Spring",null,null,null,null,null,null,null,null,null,null,null,null,null,null,null,1,null,null,null,1,null,null,null,null,null,null,null,null,null,null,null,null,null,null,null,null,null,null,null,null,null,null,null,null,null,null,null,null,null,null,null,null,null,null,null,null,null,null,null,null,null,null,null,null,null,null,null,null,null,null,null,null,0,0,0,0,0,0,0,0,0,0,0,0,0,0,0,0,1,0,0,0,0,0,0,0,0,0,0,0,0,0,0,0,0,0,0,0,0,0,0,0,0,0,0,0,0,0,0,0,0,0,0,0,0,0,0,0,0,0,0,0,0,0,0,0,0,0,0,0,0,null,0,1,0,null,null,1,1]
[3,9,0,null,null,null," Stream",null,null,null,null,null,null,null,null,null,null,null,null,null,null,null,1,null,null,null,1,null,null,null,null,null,null,null,null,null,null,null,null,null,null,null,null,null,null,null,null,null,null,null,null,null,null,null,null,null,null,null,null,null,null,null,null,null,null,null,null,null,null,null,null,null,null,null,null,null,null,null,null,0,0,0,0,0,0,0,0,0,0,0,0,0,0,0,0,1,0,0,0,0,0,0,0,0,0,0,0,0,0,0,0,0,0,0,0,0,0,0,0,0,0,0,0,0,0,0,0,0,0,0,0,0,0,0,0,0,0,0,0,0,0,0,0,0,0,0,0,0,null,0,1,0,null,null,1,1]
[3,10,0,null,null,null," Water Conveyance Channel",null,null,null,null,null,null,null,null,null,null,null,null,null,null,null,1,null,null,null,1,null,null,null,null,null,null,null,null,null,null,null,null,null,null,null,null,null,null,null,null,null,null,null,null,null,null,null,null,null,null,null,null,null,null,null,null,null,null,null,null,null,null,null,null,null,null,null,null,null,null,null,null,0,0,0,0,0,0,0,0,0,0,0,0,0,0,0,0,1,0,0,0,0,0,0,0,0,0,0,0,0,0,0,0,0,0,0,0,0,0,0,0,0,0,0,0,0,0,0,0,0,0,0,0,0,0,0,0,0,0,0,0,0,0,0,0,0,0,0,0,0,null,0,1,0,null,null,1,1]
[3,11,0,null,null,null," Wetland",null,null,null,null,null,null,null,null,null,null,null,null,null,null,null,1,null,null,null,1,null,null,null,null,null,null,null,null,null,null,null,null,null,null,null,null,null,null,null,null,null,null,null,null,null,null,null,null,null,null,null,null,null,null,null,null,null,null,null,null,null,null,null,null,null,null,null,null,null,null,null,null,0,0,0,0,0,0,0,0,0,0,0,0,0,0,0,0,1,0,0,0,0,0,0,0,0,0,0,0,0,0,0,0,0,0,0,0,0,0,0,0,0,0,0,0,0,0,0,0,0,0,0,0,0,0,0,0,0,0,0,0,0,0,0,0,0,0,0,0,0,null,0,1,0,null,null,1,1]
[3,4,5,null,"Q:","Climate Factor (Software Answered)",null,"Depending on results, the following question may need to be answered:",null,"List PLU's",1,1,1,1,1,1,1,1,null,null,null,null,1,null,null,null,1,null,null,null,null,null,null,null,null,null,null,null,null,1,1,null,null,null,null,null,null,null,null,null,null,null,null,null,null,null,null,null,null,null,null,null,null,null,null,null,null,null,null,null,null,null,null,null,null,null,null,null,null,0,0,0,0,0,0,0,0,0,0,0,0,0,0,0,0,0,{"$f":"IF(CS$5=\"TRUE\",AA17,0)","v":0},{"$f":"IF(CT$5=TRUE,AB17,0)","v":0},{"$f":"IF(CU$5=TRUE,AC17,0)","v":0},{"$f":"IF(CV$5=TRUE,AD17,0)","v":0},{"$f":"IF(CW$5=TRUE,AE17,0)","v":0},{"$f":"IF(CX$5=TRUE,AF17,0)","v":0},{"$f":"IF(CY$5=TRUE,AG17,0)","v":0},{"$f":"IF(CZ$5=TRUE,AH17,0)","v":0},{"$f":"IF(DA$5=TRUE,AI17,0)","v":0},{"$f":"IF(DB$5=TRUE,AJ17,0)","v":0},{"$f":"IF(DC$5=TRUE,AK17,0)","v":0},{"$f":"IF(DD$5=TRUE,AL17,0)","v":0},{"$f":"IF(DE$5=TRUE,AM17,0)","v":0},{"$f":"IF(DF$5=TRUE,AN17,0)","v":0},{"$f":"IF(DG$5=TRUE,AO17,0)","v":0},{"$f":"IF(DH$5=TRUE,AP17,0)","v":0},{"$f":"IF(DI$5=TRUE,AQ17,0)","v":0},{"$f":"IF(DJ$5=TRUE,AR17,0)","v":0},{"$f":"IF(DK$5=TRUE,AS17,0)","v":0},{"$f":"IF(DL$5=TRUE,AT17,0)","v":0},{"$f":"IF(DM$5=TRUE,AU17,0)","v":0},{"$f":"IF(DN$5=TRUE,AV17,0)","v":0},{"$f":"IF(DO$5=TRUE,AW17,0)","v":0},{"$f":"IF(DP$5=TRUE,AX17,0)","v":0},{"$f":"IF(DQ$5=TRUE,AY17,0)","v":0},{"$f":"IF(DR$5=TRUE,AZ17,0)","v":0},{"$f":"IF(DS$5=TRUE,BA17,0)","v":0},{"$f":"IF(DT$5=TRUE,BB17,0)","v":0},{"$f":"IF(DU$5=TRUE,BC17,0)","v":0},{"$f":"IF(DV$5=TRUE,BD17,0)","v":0},{"$f":"IF(DW$5=TRUE,BE17,0)","v":0},{"$f":"IF(DX$5=TRUE,BF17,0)","v":0},{"$f":"IF(DY$5=TRUE,BG17,0)","v":0},{"$f":"IF(DZ$5=TRUE,BH17,0)","v":0},{"$f":"IF(EA$5=TRUE,BI17,0)","v":0},{"$f":"IF(EB$5=TRUE,BJ17,0)","v":0},{"$f":"IF(EC$5=TRUE,BK17,0)","v":0},{"$f":"IF(ED$5=TRUE,BL17,0)","v":0},{"$f":"IF(EE$5=TRUE,BM17,0)","v":0},{"$f":"IF(EF$5=TRUE,BN17,0)","v":0},{"$f":"IF(EG$5=TRUE,BO17,0)","v":0},{"$f":"IF(EH$5=TRUE,BP17,0)","v":0},{"$f":"IF(EI$5=TRUE,BQ17,0)","v":0},{"$f":"IF(EJ$5=TRUE,BR17,0)","v":0},{"$f":"IF(EK$5=TRUE,BS17,0)","v":0},{"$f":"IF(EL$5=TRUE,BT17,0)","v":0},{"$f":"IF(EM$5=TRUE,BU17,0)","v":0},{"$f":"IF(EN$5=TRUE,BV17,0)","v":0},{"$f":"IF(EO$5=TRUE,BW17,0)","v":0},{"$f":"IF(EP$5=TRUE,BX17,0)","v":0},{"$f":"IF(EQ$5=TRUE,BY17,0)","v":0},{"$f":"IF(ER$5=TRUE,BZ17,0)","v":0},null,0,1,{"$f":"ET17*EU17*EY17","v":0},null,null,0]
[7,1,0,null,"Q:","Climate Factor (Non-Geospatial)",null,"Guidance","Documentation: (e.g. field notes, client interview responses, justification)",null,1,1,1,1,1,1,1,1,null,null,null,null,null,null,null,null,1,null,null,null,null,null,null,null,null,null,null,null,null,1,1,null,null,null,null,null,null,null,null,null,null,null,null,null,null,null,null,null,null,null,null,null,null,null,null,null,null,null,null,null,null,null,null,null,null,null,null,null,null,0,0,0,0,0,0,0,0,0,0,0,0,0,0,0,0,0,0,0,0,0,0,0,0,0,0,0,0,0,0,0,0,0,0,0,0,0,0,0,0,0,0,0,0,0,0,0,0,0,0,0,0,0,0,0,0,0,0,0,0,0,0,0,0,0,0,0,0,0,null,0,1,0,null,null,0]
[7,4,0,null,null,null,"Dry ( <= 50 R Factor)","Software answered",null,null,1,1,1,1,1,1,1,1,null,null,null,null,null,null,null,null,1,null,null,null,null,null,null,null,null,null,null,null,null,1,1,null,null,null,null,null,null,null,null,null,null,null,null,null,null,null,null,null,null,null,null,null,null,null,null,null,null,null,null,null,null,null,null,null,null,null,null,null,null,0,0,0,0,0,0,0,0,0,0,0,0,0,0,0,0,0,0,0,0,0,0,0,0,0,0,0,0,0,0,0,0,0,0,0,0,0,0,0,0,0,0,0,0,0,0,0,0,0,0,0,0,0,0,0,0,0,0,0,0,0,0,0,0,0,0,0,0,0,null,0,1,0,null,null,0]
[7,5,0,null,null,null,"Humid ( > 50 R Factor)","Software answered","All of Iowa is in the Humid Climate Factor.",null,1,1,1,1,1,1,1,1,null,null,null,null,null,null,null,null,1,null,null,null,null,null,null,null,null,null,null,null,null,1,1,null,null,null,null,null,null,null,null,null,null,null,null,null,null,null,null,null,null,null,null,null,null,null,null,null,null,null,null,null,null,null,null,null,null,null,null,null,null,0,0,0,0,0,0,0,0,0,0,0,0,0,0,0,0,0,0,0,0,0,0,0,0,0,0,0,0,0,0,0,0,0,0,0,0,0,0,0,0,0,0,0,0,0,0,0,0,0,0,0,0,0,0,0,0,0,0,0,0,0,0,0,0,0,0,0,0,0,null,0,1,0,null,null,0]
[7,1,0,null,"Q:","Sheet and Rill Erosion Existing Condition (Forest, Farmstead, Developed Land, AAL)",null,"Guidance","Documentation: (e.g. field notes, client interview responses, justification)",null,1,null,1,1,null,1,1,null,null,null,null,null,null,null,null,null,1,null,null,null,null,null,null,null,null,null,null,null,null,null,null,null,null,null,null,1,null,null,null,null,null,null,null,null,null,null,null,null,null,null,null,null,null,null,null,null,null,null,null,null,null,null,null,null,null,null,1,null,null,0,0,0,0,0,0,0,0,0,0,0,0,0,0,0,0,0,0,0,0,0,0,0,0,0,0,0,0,0,0,0,0,0,0,0,0,0,0,0,0,0,0,0,0,0,0,0,0,0,0,0,0,0,0,0,0,0,0,0,0,0,0,0,0,0,0,0,0,0,null,0,1,0,null,null,0]
[7,4,0,null,null,null," Site is stable and without visible signs of active erosion.","Client Input/Planner Observation is required tool. Complete a field visit to confirm.",null,null,1,null,1,1,null,1,1,null,null,null,null,null,null,null,null,null,1,null,null,null,null,null,null,null,null,null,null,null,null,null,null,null,null,null,null,1,null,null,null,null,null,null,null,null,null,null,null,null,null,null,null,null,null,null,null,null,null,null,null,null,null,null,null,null,null,null,1,null,null,0,0,0,0,0,0,0,0,0,0,0,0,0,0,0,0,0,0,0,0,0,0,0,0,0,0,0,0,0,0,0,0,0,0,0,0,0,0,0,0,0,0,0,0,0,0,0,0,0,0,0,0,0,0,0,0,0,0,0,0,0,0,0,0,0,0,0,0,0,null,0,1,0,null,null,0]
[7,5,0,null,null,null," Site is NOT stable and has visible signs of active erosion.",null,null,null,1,null,1,1,null,1,1,null,null,null,null,null,null,null,null,null,1,null,null,null,null,null,null,null,null,null,null,null,null,null,null,null,null,null,null,1,null,null,null,null,null,null,null,null,null,null,null,null,null,null,null,null,null,null,null,null,null,null,null,null,null,null,null,null,null,null,1,null,null,0,0,0,0,0,0,0,0,0,0,0,0,0,0,0,0,0,0,0,0,0,0,0,0,0,0,0,0,0,0,0,0,0,0,0,0,0,0,0,0,0,0,0,0,0,0,0,0,0,0,0,0,0,0,0,0,0,0,0,0,0,0,0,0,0,0,0,0,0,null,0,1,0,null,null,0]
[8,1,0,null,"Q:","Classic gully erosion (All Land Uses)",null,"Guidance","Documentation: (e.g. field notes, client interview responses, justification)",null,1,1,1,1,1,1,1,1,null,null,null,null,null,null,null,null,1,null,null,null,null,null,null,null,null,1,null,null,null,null,null,null,null,null,null,null,null,null,null,null,null,null,null,null,null,null,null,null,null,null,null,null,null,null,null,null,null,null,null,null,null,null,null,null,null,null,null,null,null,0,0,0,0,0,0,0,0,0,0,0,0,0,0,0,0,0,0,0,0,0,0,0,0,0,0,0,0,0,0,0,0,0,0,0,0,0,0,0,0,0,0,0,0,0,0,0,0,0,0,0,0,0,0,0,0,0,0,0,0,0,0,0,0,0,0,0,0,0,null,0,1,0,null,null,0]
[8,3,0,null,null,null,"No active gully erosion observed","Site is stable and without visible signs of active erosion.",null,null,1,1,1,1,1,1,1,1,null,null,null,null,null,null,null,null,1,null,null,null,null,null,null,null,null,1,null,null,null,null,null,null,null,null,null,null,null,null,null,null,null,null,null,null,null,null,null,null,null,null,null,null,null,null,null,null,null,null,null,null,null,null,null,null,null,null,null,null,null,0,0,0,0,0,0,0,0,0,0,0,0,0,0,0,0,0,0,0,0,0,0,0,0,0,0,0,0,0,0,0,0,0,0,0,0,0,0,0,0,0,0,0,0,0,0,0,0,0,0,0,0,0,0,0,0,0,0,0,0,0,0,0,0,0,0,0,0,0,null,0,1,0,null,null,0]
[8,4,0,null,null,null,"Active gully erosion is observed","Active erosion (head cutting, bank widening, or channel downgrading).",null,null,1,1,1,1,1,1,1,1,null,null,null,null,null,null,null,null,1,null,null,null,null,null,null,null,null,1,null,null,null,null,null,null,null,null,null,null,null,null,null,null,null,null,null,null,null,null,null,null,null,null,null,null,null,null,null,null,null,null,null,null,null,null,null,null,null,null,null,null,null,0,0,0,0,0,0,0,0,0,0,0,0,0,0,0,0,0,0,0,0,0,0,0,0,0,0,0,0,0,0,0,0,0,0,0,0,0,0,0,0,0,0,0,0,0,0,0,0,0,0,0,0,0,0,0,0,0,0,0,0,0,0,0,0,0,0,0,0,0,null,0,1,0,null,null,0]
[9,1,0,null,"Q:","Ephemeral Gully Erosion, Existing Condition (Crop, Pasture)",null,"Guidance","Documentation: (e.g. field notes, client interview responses, justification)",null,null,1,null,null,1,null,null,1,null,null,null,null,null,null,null,null,1,null,null,null,null,null,null,null,null,null,1,null,null,null,null,null,null,null,null,null,null,null,null,null,null,null,null,null,null,null,null,null,null,null,null,null,null,null,null,null,null,null,null,null,null,null,null,null,null,null,null,null,null,0,0,0,0,0,0,0,0,0,0,0,0,0,0,0,0,0,0,0,0,0,0,0,0,0,0,0,0,0,0,0,0,0,0,0,0,0,0,0,0,0,0,0,0,0,0,0,0,0,0,0,0,0,0,0,0,0,0,0,0,0,0,0,0,0,0,0,0,0,null,0,1,0,null,null,0]
[9,3,0,null,null,null,"No ephemeral gullies observed","No evidence in the field or on available aerial photography.  Field visit required.",null,null,null,1,null,null,1,null,null,1,null,null,null,null,null,null,null,null,1,null,null,null,null,null,null,null,null,null,1,null,null,null,null,null,null,null,null,null,null,null,null,null,null,null,null,null,null,null,null,null,null,null,null,null,null,null,null,null,null,null,null,null,null,null,null,null,null,null,null,null,null,0,0,0,0,0,0,0,0,0,0,0,0,0,0,0,0,0,0,0,0,0,0,0,0,0,0,0,0,0,0,0,0,0,0,0,0,0,0,0,0,0,0,0,0,0,0,0,0,0,0,0,0,0,0,0,0,0,0,0,0,0,0,0,0,0,0,0,0,0,null,0,1,0,null,null,0]
[9,4,0,null,null,null," Ephemeral gullies are observed","Areas of concentrated flow noted in the field or on aerial images.  Field evidence includes tilling of concentrated flow channels in a no-till system. Field visit required.",null,null,null,1,null,null,1,null,null,1,null,null,null,null,null,null,null,null,1,null,null,null,null,null,null,null,null,null,1,null,null,null,null,null,null,null,null,null,null,null,null,null,null,null,null,null,null,null,null,null,null,null,null,null,null,null,null,null,null,null,null,null,null,null,null,null,null,null,null,null,null,0,0,0,0,0,0,0,0,0,0,0,0,0,0,0,0,0,0,0,0,0,0,0,0,0,0,0,0,0,0,0,0,0,0,0,0,0,0,0,0,0,0,0,0,0,0,0,0,0,0,0,0,0,0,0,0,0,0,0,0,0,0,0,0,0,0,0,0,0,null,0,1,0,null,null,0]
[10,1,0,null,"Q:","Wind erosion (Forest, Farmstead, Developed Land, AAL, ORL)",null,"Guidance","Documentation: (e.g. field notes, client interview responses, justification)",null,1,null,1,1,null,1,1,null,null,null,null,null,null,null,null,null,1,null,null,null,null,null,null,null,null,null,null,null,null,null,null,null,null,null,null,null,null,null,null,null,null,null,null,null,null,null,null,null,null,null,null,null,null,null,null,null,null,null,null,null,null,null,null,null,null,null,null,1,null,0,0,0,0,0,0,0,0,0,0,0,0,0,0,0,0,0,{"$f":"IF(CS$5=\"TRUE\",AA30,0)","v":0},{"$f":"IF(CT$5=TRUE,AB30,0)","v":0},{"$f":"IF(CU$5=TRUE,AC30,0)","v":0},{"$f":"IF(CV$5=TRUE,AD30,0)","v":0},{"$f":"IF(CW$5=TRUE,AE30,0)","v":0},{"$f":"IF(CX$5=TRUE,AF30,0)","v":0},{"$f":"IF(CY$5=TRUE,AG30,0)","v":0},{"$f":"IF(CZ$5=TRUE,AH30,0)","v":0},{"$f":"IF(DA$5=TRUE,AI30,0)","v":0},{"$f":"IF(DB$5=TRUE,AJ30,0)","v":0},{"$f":"IF(DC$5=TRUE,AK30,0)","v":0},{"$f":"IF(DD$5=TRUE,AL30,0)","v":0},{"$f":"IF(DE$5=TRUE,AM30,0)","v":0},{"$f":"IF(DF$5=TRUE,AN30,0)","v":0},{"$f":"IF(DG$5=TRUE,AO30,0)","v":0},{"$f":"IF(DH$5=TRUE,AP30,0)","v":0},{"$f":"IF(DI$5=TRUE,AQ30,0)","v":0},{"$f":"IF(DJ$5=TRUE,AR30,0)","v":0},{"$f":"IF(DK$5=TRUE,AS30,0)","v":0},{"$f":"IF(DL$5=TRUE,AT30,0)","v":0},{"$f":"IF(DM$5=TRUE,AU30,0)","v":0},{"$f":"IF(DN$5=TRUE,AV30,0)","v":0},{"$f":"IF(DO$5=TRUE,AW30,0)","v":0},{"$f":"IF(DP$5=TRUE,AX30,0)","v":0},{"$f":"IF(DQ$5=TRUE,AY30,0)","v":0},{"$f":"IF(DR$5=TRUE,AZ30,0)","v":0},{"$f":"IF(DS$5=TRUE,BA30,0)","v":0},{"$f":"IF(DT$5=TRUE,BB30,0)","v":0},{"$f":"IF(DU$5=TRUE,BC30,0)","v":0},{"$f":"IF(DV$5=TRUE,BD30,0)","v":0},{"$f":"IF(DW$5=TRUE,BE30,0)","v":0},{"$f":"IF(DX$5=TRUE,BF30,0)","v":0},{"$f":"IF(DY$5=TRUE,BG30,0)","v":0},{"$f":"IF(DZ$5=TRUE,BH30,0)","v":0},{"$f":"IF(EA$5=TRUE,BI30,0)","v":0},{"$f":"IF(EB$5=TRUE,BJ30,0)","v":0},{"$f":"IF(EC$5=TRUE,BK30,0)","v":0},{"$f":"IF(ED$5=TRUE,BL30,0)","v":0},{"$f":"IF(EE$5=TRUE,BM30,0)","v":0},{"$f":"IF(EF$5=TRUE,BN30,0)","v":0},{"$f":"IF(EG$5=TRUE,BO30,0)","v":0},{"$f":"IF(EH$5=TRUE,BP30,0)","v":0},{"$f":"IF(EI$5=TRUE,BQ30,0)","v":0},{"$f":"IF(EJ$5=TRUE,BR30,0)","v":0},{"$f":"IF(EK$5=TRUE,BS30,0)","v":0},{"$f":"IF(EL$5=TRUE,BT30,0)","v":0},{"$f":"IF(EM$5=TRUE,BU30,0)","v":0},{"$f":"IF(EN$5=TRUE,BV30,0)","v":0},{"$f":"IF(EO$5=TRUE,BW30,0)","v":0},{"$f":"IF(EP$5=TRUE,BX30,0)","v":0},{"$f":"IF(EQ$5=TRUE,BY30,0)","v":0},{"$f":"IF(ER$5=TRUE,BZ30,0)","v":0},null,0,1,{"$f":"ET30*EU30*EY30","v":0},null,null,0]
[10,4,0,null,null,null," Site is stable and without visible signs of active erosion","Client Input/Planner Observation is required tool. Complete a field visit to confirm.",null,null,1,null,1,1,null,1,1,null,null,null,null,null,null,null,null,null,1,null,null,null,null,null,null,null,null,null,null,null,null,null,null,null,null,null,null,null,null,null,null,null,null,null,null,null,null,null,null,null,null,null,null,null,null,null,null,null,null,null,null,null,null,null,null,null,null,null,null,1,null,0,0,0,0,0,0,0,0,0,0,0,0,0,0,0,0,0,0,0,0,0,0,0,0,0,0,0,0,0,0,0,0,0,0,0,0,0,0,0,0,0,0,0,0,0,0,0,0,0,0,0,0,0,0,0,0,0,0,0,0,0,0,0,0,0,0,0,0,0,null,0,1,0,null,null,0]
[10,5,0,null,null,null," Site is NOT stable and has visible signs of active erosion.",null,null,null,1,null,1,1,null,1,1,null,null,null,null,null,null,null,null,null,1,null,null,null,null,null,null,null,null,null,null,null,null,null,null,null,null,null,null,null,null,null,null,null,null,null,null,null,null,null,null,null,null,null,null,null,null,null,null,null,null,null,null,null,null,null,null,null,null,null,null,1,null,0,0,0,0,0,0,0,0,0,0,0,0,0,0,0,0,0,0,0,0,0,0,0,0,0,0,0,0,0,0,0,0,0,0,0,0,0,0,0,0,0,0,0,0,0,0,0,0,0,0,0,0,0,0,0,0,0,0,0,0,0,0,0,0,0,0,0,0,0,null,0,1,0,null,null,0]
[11,1,0,null,"Q:","Bank Erosion existing condition (All Land Uses)",null,"Guidance","Documentation: (e.g. field notes, client interview responses, justification)",null,1,1,1,1,1,1,1,1,null,null,null,null,1,null,null,null,1,null,null,null,null,null,null,null,1,null,null,null,null,null,null,null,null,null,null,null,null,null,null,null,null,null,null,null,null,null,null,null,null,null,null,null,null,null,null,null,null,null,null,null,null,null,null,null,null,null,null,null,null,0,0,0,0,0,0,0,0,0,0,0,0,0,0,0,0,0,0,0,0,0,0,0,0,0,0,0,0,0,0,0,0,0,0,0,0,0,0,0,0,0,0,0,0,0,0,0,0,0,0,0,0,0,0,0,0,0,0,0,0,0,0,0,0,0,0,0,0,0,null,0,1,0,null,null,0]
[11,4,0,null,null,null," Stable","Banks are protected by roots of intact natural vegetation, wood, and rock. Minimal trampling and/or sloughing.\nOR\n-SVAP2 Element 3 (Bank condition) = 9-10\nOR\n-PCS Indicator Erosion (Streambank and/or Shoreline) = 5",null,null,1,1,1,1,1,1,1,1,null,null,null,null,1,null,null,null,1,null,null,null,null,null,null,null,1,null,null,null,null,null,null,null,null,null,null,null,null,null,null,null,null,null,null,null,null,null,null,null,null,null,null,null,null,null,null,null,null,null,null,null,null,null,null,null,null,null,null,null,null,0,0,0,0,0,0,0,0,0,0,0,0,0,0,0,0,0,0,0,0,0,0,0,0,0,0,0,0,0,0,0,0,0,0,0,0,0,0,0,0,0,0,0,0,0,0,0,0,0,0,0,0,0,0,0,0,0,0,0,0,0,0,0,0,0,0,0,0,0,null,0,1,0,null,null,0]
[11,5,0,null,null,null," Moderately stable","Evidence of bank erosion or failures: active sloughing, downcutting, and vertical slopes are minimal; some with reestablishment of vegetation. Eroding at crossings and entrances. Hydrology of riparian system slightly altered.\nOR\n-SVAP2 Element 3 (Bank condition) = 6-8\nOR\n-PCS Indicator Erosion (Streambank and/or Shoreline) = 4",null,null,1,1,1,1,1,1,1,1,null,null,null,null,1,null,null,null,1,null,null,null,null,null,null,null,1,null,null,null,null,null,null,null,null,null,null,null,null,null,null,null,null,null,null,null,null,null,null,null,null,null,null,null,null,null,null,null,null,null,null,null,null,null,null,null,null,null,null,null,null,0,0,0,0,0,0,0,0,0,0,0,0,0,0,0,0,0,0,0,0,0,0,0,0,0,0,0,0,0,0,0,0,0,0,0,0,0,0,0,0,0,0,0,0,0,0,0,0,0,0,0,0,0,0,0,0,0,0,0,0,0,0,0,0,0,0,0,0,0,null,0,1,0,null,null,0]
[11,6,0,null,null,null," Moderately unstable","Excessive bank erosion or active bank failures. Very little protection of banks by roots of natural vegetation, wood, or rock. Fabricated structures cover more than half of reach or entire bank. Sloughing and vertical banks active erosion. Hydrology of riparian system moderately to highly altered.\nOR\n-SVAP2 Element 3 (Bank condition) = 3-5\nOR\n-PCS Indicator Erosion (Streambank and/or Shoreline) = 2 or 3",null,null,1,1,1,1,1,1,1,1,null,null,null,null,1,null,null,null,1,null,null,null,null,null,null,null,1,null,null,null,null,null,null,null,null,null,null,null,null,null,null,null,null,null,null,null,null,null,null,null,null,null,null,null,null,null,null,null,null,null,null,null,null,null,null,null,null,null,null,null,null,0,0,0,0,0,0,0,0,0,0,0,0,0,0,0,0,0,0,0,0,0,0,0,0,0,0,0,0,0,0,0,0,0,0,0,0,0,0,0,0,0,0,0,0,0,0,0,0,0,0,0,0,0,0,0,0,0,0,0,0,0,0,0,0,0,0,0,0,0,null,0,1,0,null,null,0]
[11,7,0,null,null,null," Unstable","Numerous active bank failures. No bank protection by roots of natural vegetation, wood, or rock. Riprap and/or other structures dominate banks. Major sloughing. Major vertical down cutting. Hydrology of riparian system severely altered.\nOR\n-SVAP2 Element 3 (Bank condition) = 0-2\nOR\n-PCS Indicator Erosion (Streambank and/or Shoreline) = 1",null,null,1,1,1,1,1,1,1,1,null,null,null,null,1,null,null,null,1,null,null,null,null,null,null,null,1,null,null,null,null,null,null,null,null,null,null,null,null,null,null,null,null,null,null,null,null,null,null,null,null,null,null,null,null,null,null,null,null,null,null,null,null,null,null,null,null,null,null,null,null,0,0,0,0,0,0,0,0,0,0,0,0,0,0,0,0,0,0,0,0,0,0,0,0,0,0,0,0,0,0,0,0,0,0,0,0,0,0,0,0,0,0,0,0,0,0,0,0,0,0,0,0,0,0,0,0,0,0,0,0,0,0,0,0,0,0,0,0,0,null,0,1,0,null,null,0]
[12,1,0,null,"Q:","Ponding and/or Flooding field condition (All Land Uses)",null,"Guidance","Documentation: (e.g. field notes, client interview responses, justification)",null,1,1,1,1,1,1,1,1,null,null,null,null,null,null,null,null,1,null,null,null,null,null,null,null,null,null,null,null,null,null,null,null,null,null,null,null,null,null,null,null,null,null,null,null,null,null,null,null,null,null,null,null,null,null,null,null,null,null,null,null,null,null,null,1,null,null,null,null,null,0,0,0,0,0,0,0,0,0,0,0,0,0,0,0,0,0,0,0,0,0,0,0,0,0,0,0,0,0,0,0,0,0,0,0,0,0,0,0,0,0,0,0,0,0,0,0,0,0,0,0,0,0,0,0,0,0,0,0,0,0,0,0,0,0,0,0,0,0,null,0,1,0,null,null,0]
[12,2,0,null,null,null," Occurs but does not negatively affect the intended use of the PLU","Client Input/Planner Observation is required tool. Complete a field visit to confirm.",null,null,1,1,1,1,1,1,1,1,null,null,null,null,null,null,null,null,1,null,null,null,null,null,null,null,null,null,null,null,null,null,null,null,null,null,null,null,null,null,null,null,null,null,null,null,null,null,null,null,null,null,null,null,null,null,null,null,null,null,null,null,null,null,null,1,null,null,null,null,null,0,0,0,0,0,0,0,0,0,0,0,0,0,0,0,0,0,0,0,0,0,0,0,0,0,0,0,0,0,0,0,0,0,0,0,0,0,0,0,0,0,0,0,0,0,0,0,0,0,0,0,0,0,0,0,0,0,0,0,0,0,0,0,0,0,0,0,0,0,null,0,1,0,null,null,{"$f":"MAX(CR39:ER39)","v":0}]
[12,3,0,null,null,null," Occurs and negatively affects the intended use of the PLU",null,null,null,1,1,1,1,1,1,1,1,null,null,null,null,null,null,null,null,1,null,null,null,null,null,null,null,null,null,null,null,null,null,null,null,null,null,null,null,null,null,null,null,null,null,null,null,null,null,null,null,null,null,null,null,null,null,null,null,null,null,null,null,null,null,null,1,null,null,null,null,null,0,0,0,0,0,0,0,0,0,0,0,0,0,0,0,0,0,0,0,0,0,0,0,0,0,0,0,0,0,0,0,0,0,0,0,0,0,0,0,0,0,0,0,0,0,0,0,0,0,0,0,0,0,0,0,0,0,0,0,0,0,0,0,0,0,0,0,0,0,null,0,1,0,null,null,0]
[12,4,5,null,null,null,null,null,null,null,1,1,1,1,1,1,1,1,null,null,null,null,null,null,null,null,1,null,null,null,null,null,null,null,null,null,null,null,null,null,null,null,null,null,null,null,null,null,null,null,null,null,null,null,null,null,null,null,null,null,null,null,null,null,null,null,null,null,null,null,null,null,null,1,null,null,null,null,null,0,0,0,0,0,0,0,0,0,0,0,0,0,0,0,0,0,0,0,0,0,0,0,0,0,0,0,0,0,0,0,0,0,0,0,0,0,0,0,0,0,0,0,0,0,0,0,0,0,0,0,0,0,0,0,0,0,0,0,0,0,0,0,0,0,0,0,0,0,null,0,1,0,null,null,0]
[13,1,0,null,"Q:","Seasonal High Water Table Condition (All Land Uses)",null,"Guidance","Documentation: (e.g. field notes, client interview responses, justification)",null,1,1,1,1,1,1,1,1,null,null,null,null,null,null,null,null,1,null,null,null,null,null,null,null,null,null,null,null,null,null,null,null,null,null,null,null,null,null,null,null,null,null,null,null,null,null,null,null,null,null,null,null,null,null,null,null,null,null,null,null,null,null,null,null,1,null,null,null,null,0,0,0,0,0,0,0,0,0,0,0,0,0,0,0,0,0,0,0,0,0,0,0,0,0,0,0,0,0,0,0,0,0,0,0,0,0,0,0,0,0,0,0,0,0,0,0,0,0,0,0,0,0,0,0,0,0,0,0,0,0,0,0,0,0,0,0,0,0,null,0,1,0,null,null,0]
[13,5,5,null,null,null,"Does not occur on the PLU or artificial drainage has effectively lowered the water table.",null,null,null,1,1,1,1,1,1,1,1,null,null,null,null,null,null,null,null,1,null,null,null,null,null,null,null,null,null,null,null,null,null,null,null,null,null,null,null,null,null,null,null,null,null,null,null,null,null,null,null,null,null,null,null,null,null,null,null,null,null,null,null,null,null,null,null,1,null,null,null,null,{"$f":"IF(CB$5=TRUE,K43,0)","v":0},0,0,0,0,0,0,0,0,0,0,0,0,0,0,0,{"$f":"EZ43","v":0},{"$f":"IF(CS$5=\"TRUE\",AA43,0)","v":0},{"$f":"IF(CT$5=TRUE,AB43,0)","v":0},0,0,0,0,0,0,0,0,0,0,0,0,0,0,0,0,0,0,0,0,0,0,0,0,0,0,0,0,0,0,0,0,0,0,0,0,0,0,0,0,0,0,0,0,0,0,0,0,0,0,null,{"$f":"MAX(CB43:CQ43)","v":0},1,{"$f":"ET43*EU43*EY43","v":0},null,null,{"$f":"MAX(CR43:ER43)","v":0}]
[13,3,0,null,null,null,"Does not occur on the PLU or artificial drainage has effectively lowered the water table.",null,null,null,1,1,1,1,1,1,1,1,null,null,null,null,null,null,null,null,1,null,null,null,null,null,null,null,null,null,null,null,null,null,null,null,null,null,null,null,null,null,null,null,null,null,null,null,null,null,null,null,null,null,null,null,null,null,null,null,null,null,null,null,null,null,null,null,1,null,null,null,null,0,0,0,0,0,0,0,0,0,0,0,0,0,0,0,0,{"$f":"EZ44","v":0},{"$f":"IF(CS$5=\"TRUE\",AA44,0)","v":0},0,0,0,0,0,0,0,0,0,0,0,0,0,0,0,0,0,0,0,0,0,0,0,0,0,0,0,0,0,0,0,0,{"$f":"IF(DZ$5=TRUE,BH44,0)","v":0},{"$f":"IF(EA$5=TRUE,BI44,0)","v":0},{"$f":"IF(EB$5=TRUE,BJ44,0)","v":0},{"$f":"IF(EC$5=TRUE,BK44,0)","v":0},{"$f":"IF(ED$5=TRUE,BL44,0)","v":0},{"$f":"IF(EE$5=TRUE,BM44,0)","v":0},{"$f":"IF(EF$5=TRUE,BN44,0)","v":0},{"$f":"IF(EG$5=TRUE,BO44,0)","v":0},{"$f":"IF(EH$5=TRUE,BP44,0)","v":0},{"$f":"IF(EI$5=TRUE,BQ44,0)","v":0},{"$f":"IF(EJ$5=TRUE,BR44,0)","v":0},{"$f":"IF(EK$5=TRUE,BS44,0)","v":0},{"$f":"IF(EL$5=TRUE,BT44,0)","v":0},{"$f":"IF(EM$5=TRUE,BU44,0)","v":0},{"$f":"IF(EN$5=TRUE,BV44,0)","v":0},{"$f":"IF(EO$5=TRUE,BW44,0)","v":0},{"$f":"IF(EP$5=TRUE,BX44,0)","v":0},{"$f":"IF(EQ$5=TRUE,BY44,0)","v":0},{"$f":"IF(ER$5=TRUE,BZ44,0)","v":0},null,{"$f":"MAX(CB44:CQ44)","v":0},1,{"$f":"ET44*EU44*EY44","v":0},null,null,{"$f":"MAX(CR44:ER44)","v":0}]
[13,2,0,null,null,null,"Occurs but does not negatively affect the intended use of the PLU.","Client input/Planner Observation:  No observed seasonal high-water table OR Seasonal high-water table is treated and/or managed to meet client's natural resources management and land use objectives, avoids perpetual existing natural resource concerns, and avoids creating new natural resource concerns.",null,null,1,1,1,1,1,1,1,1,null,null,null,null,null,null,null,null,1,null,null,null,null,null,null,null,null,null,null,null,null,null,null,null,null,null,null,null,null,null,null,null,null,null,null,null,null,null,null,null,null,null,null,null,null,null,null,null,null,null,null,null,null,null,null,null,1,null,null,null,null,0,0,0,0,0,0,0,0,0,0,0,0,0,0,0,0,0,0,0,0,0,0,0,0,0,0,0,0,0,0,0,0,0,0,0,0,0,0,0,0,0,0,0,0,0,0,0,0,0,0,0,0,0,0,0,0,0,0,0,0,0,0,0,0,0,0,0,0,0,null,0,1,0,null,null,0]
[13,4,0,null,null,null,"Occurs and negatively affects the intended use of the PLU.",null,null,null,1,1,1,1,1,1,1,1,null,null,null,null,null,null,null,null,1,null,null,null,null,null,null,null,null,null,null,null,null,null,null,null,null,null,null,null,null,null,null,null,null,null,null,null,null,null,null,null,null,null,null,null,null,null,null,null,null,null,null,null,null,null,null,null,1,null,null,null,null,0,0,0,0,0,0,0,0,0,0,0,0,0,0,0,0,0,0,0,0,0,0,0,0,0,0,0,0,0,0,0,0,0,0,0,0,0,0,0,0,0,0,0,0,0,0,0,0,0,0,0,0,0,0,0,0,0,0,0,0,0,0,0,0,0,0,0,0,0,null,0,1,0,null,null,0]
[14,1,0,null,"Q:","Drifted Snow  (All Land Uses)",null,"Guidance","Documentation: (e.g. field notes, client interview responses, justification)",null,1,1,1,1,1,1,1,1,null,null,null,null,null,null,null,null,1,null,null,null,null,null,null,null,null,null,null,null,null,null,null,null,null,null,null,null,null,null,null,null,null,null,null,null,null,null,null,null,null,null,null,null,null,null,null,null,null,null,null,null,null,1,null,null,null,null,null,null,null,0,0,0,0,0,0,0,0,0,0,0,0,0,0,0,0,0,0,0,0,0,0,0,0,0,0,0,0,0,0,0,0,0,0,0,0,0,0,0,0,0,0,0,0,0,0,0,0,0,0,0,0,0,0,0,0,0,0,0,0,0,0,0,0,0,0,0,0,0,null,0,1,0,null,null,0]
[]
[14,3,0,null,null,null,"Does not cause damage to buildings or structures; interfere with livestock accessing food, water, or shelter; interfere with access to essential agricultural operations; \nOR \nPlanner or client can document that retention or accumulation of snow in strategic locations is beneficial to the enterprise.  ",null,null,null,1,1,1,1,1,1,1,1,null,null,null,null,null,null,null,null,1,null,null,null,null,null,null,null,null,null,null,null,null,null,null,null,null,null,null,null,null,null,null,null,null,null,null,null,null,null,null,null,null,null,null,null,null,null,null,null,null,null,null,null,null,1,null,null,null,null,null,null,null,0,0,0,0,0,0,0,0,0,0,0,0,0,0,0,0,0,0,0,0,0,0,0,0,0,0,0,0,0,0,0,0,0,0,0,0,0,0,0,0,0,0,0,0,0,0,0,0,0,0,0,0,0,0,0,0,0,0,0,0,0,0,0,0,0,0,0,0,0,null,0,1,0,null,null,0]
[14,4,0,null,null,null,"Causes damage to buildings or structures; interferes with livestock access to food, water, or shelter; interferes with access to essential agricultural operations; \nOR \nAccumulation is not taking place in strategic locations that are beneficial to the enterprise",null,null,null,1,1,1,1,1,1,1,1,null,null,null,null,null,null,null,null,1,null,null,null,null,null,null,null,null,null,null,null,null,null,null,null,null,null,null,null,null,null,null,null,null,null,null,null,null,null,null,null,null,null,null,null,null,null,null,null,null,null,null,null,null,1,null,null,null,null,null,null,null,0,0,0,0,0,0,0,0,0,0,0,0,0,0,0,0,0,0,0,0,0,0,0,0,0,0,0,0,0,0,0,0,0,0,0,0,0,0,0,0,0,0,0,0,0,0,0,0,0,0,0,0,0,0,0,0,0,0,0,0,0,0,0,0,0,0,0,0,0,null,0,1,0,null,null,0]
[15,1,0,null,"Q:","Seeps, Existing Condition (All Land Uses)",null,"Guidance","Documentation: (e.g. field notes, client interview responses, justification)",null,1,1,1,1,1,1,1,1,null,null,null,null,null,null,null,null,1,null,null,null,null,null,null,null,null,null,null,null,null,null,null,null,null,null,null,null,null,null,null,null,null,null,null,null,null,null,null,null,null,null,null,null,null,null,null,null,null,null,null,null,null,null,null,null,null,1,null,null,null,0,0,0,0,0,0,0,0,0,0,0,0,0,0,0,0,0,0,0,0,0,0,0,0,0,0,0,0,0,0,0,0,0,0,0,0,0,0,0,0,0,0,0,0,0,0,0,0,0,0,0,0,0,0,0,0,0,0,0,0,0,0,0,0,0,0,0,0,0,null,0,1,0,null,null,0]
[15,2,5,null,null,null,null,null,null,null,1,1,1,1,1,1,1,1,null,null,null,null,null,null,null,null,1,null,null,null,null,null,null,null,null,null,null,null,null,null,null,null,null,null,null,null,null,null,null,null,null,null,null,null,null,null,null,null,null,null,null,null,null,null,null,null,null,null,null,null,null,null,null,null,null,1,null,null,null,0,0,0,0,0,0,0,0,0,0,0,0,0,0,0,0,0,0,0,0,0,0,0,0,0,0,0,0,0,0,0,0,0,0,0,0,0,0,0,0,0,0,0,0,0,0,0,0,0,0,0,0,0,0,0,0,0,0,0,0,0,0,0,0,0,0,0,0,0,null,0,1,0,null,null,0]
[15,3,0,null,null,null,"Yes","Seeps are treated and/or managed to meet the client’s natural resource management and land use objectives, avoids perpetuating existing natural resource concerns, and avoids creating new natural resource concerns.",null,null,1,1,1,1,1,1,1,1,null,null,null,null,null,null,null,null,1,null,null,null,null,null,null,null,null,null,null,null,null,null,null,null,null,null,null,null,null,null,null,null,null,null,null,null,null,null,null,null,null,null,null,null,null,null,null,null,null,null,null,null,null,null,null,null,null,1,null,null,null,0,0,0,0,0,0,0,0,0,0,0,0,0,0,0,0,0,0,0,0,0,0,0,0,0,0,0,0,0,0,0,0,0,0,0,0,0,0,0,0,0,0,0,0,0,0,0,0,0,0,0,0,0,0,0,0,0,0,0,0,0,0,0,0,0,0,0,0,0,null,0,1,0,null,null,0]
[15,4,0,null,null,null,"No","Seeps are NOT treated and/or managed to meet the client’s natural resource management and land use objectives, avoids perpetuating existing natural resource concerns, and avoids creating new natural resource concerns.",null,null,1,1,1,1,1,1,1,1,null,null,null,null,null,null,null,null,1,null,null,null,null,null,null,null,null,null,null,null,null,null,null,null,null,null,null,null,null,null,null,null,null,null,null,null,null,null,null,null,null,null,null,null,null,null,null,null,null,null,null,null,null,null,null,null,null,1,null,null,null,0,0,0,0,0,0,0,0,0,0,0,0,0,0,0,0,0,0,0,0,0,0,0,0,0,0,0,0,0,0,0,0,0,0,0,0,0,0,0,0,0,0,0,0,0,0,0,0,0,0,0,0,0,0,0,0,0,0,0,0,0,0,0,0,0,0,0,0,0,null,0,1,0,null,null,0]
[16,1,0,null,"Q:","Plant Productivity and Health (Farmstead, Developed Land, AAL, ORL)",null,"Guidance","Documentation: (e.g. field notes, client interview responses, justification)",null,1,null,1,null,null,1,1,null,null,null,null,null,null,null,null,null,1,null,null,null,null,null,null,null,null,null,null,1,null,null,null,null,null,null,null,null,null,null,null,null,null,null,null,null,null,null,null,null,null,null,null,null,null,null,null,null,null,null,null,null,null,null,null,null,null,null,null,null,null,0,0,0,0,0,0,0,0,0,0,0,0,0,0,0,0,0,0,0,0,0,0,0,0,0,0,0,0,0,0,0,0,0,0,0,0,0,0,0,0,0,0,0,0,0,0,0,0,0,0,0,0,0,0,0,0,0,0,0,0,0,0,0,0,0,0,0,0,0,null,0,1,0,null,null,0]
[16,2,0,null,null,null," High","No significant plant productivity or health related concern exists on this PLU",null,null,1,null,1,null,null,1,1,null,null,null,null,null,null,null,null,null,1,null,null,null,null,null,null,null,null,null,null,1,null,null,null,null,null,null,null,null,null,null,null,null,null,null,null,null,null,null,null,null,null,null,null,null,null,null,null,null,null,null,null,null,null,null,null,null,null,null,null,null,null,0,0,0,0,0,0,0,0,0,0,0,0,0,0,0,0,0,0,0,0,0,0,0,0,0,0,0,0,0,0,0,0,0,0,0,0,0,0,0,0,0,0,0,0,0,0,0,0,0,0,0,0,0,0,0,0,0,0,0,0,0,0,0,0,0,0,0,0,0,null,0,1,0,null,null,0]
[16,3,0,null,null,null," Good","Some productivity or plant health concerns exist.",null,null,1,null,1,null,null,1,1,null,null,null,null,null,null,null,null,null,1,null,null,null,null,null,null,null,null,null,null,1,null,null,null,null,null,null,null,null,null,null,null,null,null,null,null,null,null,null,null,null,null,null,null,null,null,null,null,null,null,null,null,null,null,null,null,null,null,null,null,null,null,0,0,0,0,0,0,0,0,0,0,0,0,0,0,0,0,0,0,0,0,0,0,0,0,0,0,0,0,0,0,0,0,0,0,0,0,0,0,0,0,0,0,0,0,0,0,0,0,0,0,0,0,0,0,0,0,0,0,0,0,0,0,0,0,0,0,0,0,0,null,0,1,0,null,null,0]
[16,4,0,null,null,null," Poor","Severe lack of health and productivity for plants in the PLU.",null,null,1,null,1,null,null,1,1,null,null,null,null,null,null,null,null,null,1,null,null,null,null,null,null,null,null,null,null,1,null,null,null,null,null,null,null,null,null,null,null,null,null,null,null,null,null,null,null,null,null,null,null,null,null,null,null,null,null,null,null,null,null,null,null,null,null,null,null,null,null,0,0,0,0,0,0,0,0,0,0,0,0,0,0,0,0,0,0,0,0,0,0,0,0,0,0,0,0,0,0,0,0,0,0,0,0,0,0,0,0,0,0,0,0,0,0,0,0,0,0,0,0,0,0,0,0,0,0,0,0,0,0,0,0,0,0,0,0,0,null,0,1,0,null,null,0]
[19,1,0,null,"Q:","Risk and Hazard of Wildfire (Land Uses other than Forest)",null,"Guidance","Documentation: (e.g. field notes, client interview responses, justification)",null,1,1,1,null,1,1,1,1,null,null,null,null,null,null,null,null,1,null,null,null,null,null,null,null,null,null,null,null,null,null,null,null,null,null,null,null,1,null,null,null,null,null,null,null,null,null,null,null,null,null,null,null,null,null,null,null,null,null,null,null,null,null,null,null,null,null,null,null,null,0,0,0,0,0,0,0,0,0,0,0,0,0,0,0,0,0,0,0,0,0,0,0,0,0,0,0,0,0,0,0,0,0,0,0,0,0,0,0,0,0,0,0,0,0,0,0,0,0,0,0,0,0,0,0,0,0,0,0,0,0,0,0,0,0,0,0,0,0,null,0,1,0,null,null,0]
[19,2,0,null,null,null," Accumulation of plant biomass is being managed to reduce the potential risk of wildfire",null,null,null,1,1,1,null,1,1,1,1,null,null,null,null,null,null,null,null,1,null,null,null,null,null,null,null,null,null,null,null,null,null,null,null,null,null,null,null,1,null,null,null,null,null,null,null,null,null,null,null,null,null,null,null,null,null,null,null,null,null,null,null,null,null,null,null,null,null,null,null,null,0,0,0,0,0,0,0,0,0,0,0,0,0,0,0,0,0,0,0,0,0,0,0,0,0,0,0,0,0,0,0,0,0,0,0,0,0,0,0,0,0,0,0,0,0,0,0,0,0,0,0,0,0,0,0,0,0,0,0,0,0,0,0,0,0,0,0,0,0,null,0,1,0,null,null,0]
[19,3,0,null,null,null," The potential for wildfire hazard from biomass accumulation exists, but site resources are not at a risk or value level to require fire management","Typical answer in Iowa",null,null,1,1,1,null,1,1,1,1,null,null,null,null,null,null,null,null,1,null,null,null,null,null,null,null,null,null,null,null,null,null,null,null,null,null,null,null,1,null,null,null,null,null,null,null,null,null,null,null,null,null,null,null,null,null,null,null,null,null,null,null,null,null,null,null,null,null,null,null,null,0,0,0,0,0,0,0,0,0,0,0,0,0,0,0,0,0,0,0,0,0,0,0,0,0,0,0,0,0,0,0,0,0,0,0,0,0,0,0,0,0,0,0,0,0,0,0,0,0,0,0,0,0,0,0,0,0,0,0,0,0,0,0,0,0,0,0,0,0,null,0,1,0,null,null,0]
[19,4,0,null,null,null," The potential for wildfire hazard from biomass accumulation exists",null,null,null,1,1,1,null,1,1,1,1,null,null,null,null,null,null,null,null,1,null,null,null,null,null,null,null,null,null,null,null,null,null,null,null,null,null,null,null,1,null,null,null,null,null,null,null,null,null,null,null,null,null,null,null,null,null,null,null,null,null,null,null,null,null,null,null,null,null,null,null,null,0,0,0,0,0,0,0,0,0,0,0,0,0,0,0,0,0,0,0,0,0,0,0,0,0,0,0,0,0,0,0,0,0,0,0,0,0,0,0,0,0,0,0,0,0,0,0,0,0,0,0,0,0,0,0,0,0,0,0,0,0,0,0,0,0,0,0,0,0,null,0,1,0,null,null,0]
[19,5,0,null,null,null," Significant wildfire hazard from biomass accumulation exists",null,null,null,1,1,1,null,1,1,1,1,null,null,null,null,null,null,null,null,1,null,null,null,null,null,null,null,null,null,null,null,null,null,null,null,null,null,null,null,1,null,null,null,null,null,null,null,null,null,null,null,null,null,null,null,null,null,null,null,null,null,null,null,null,null,null,null,null,null,null,null,null,0,0,0,0,0,0,0,0,0,0,0,0,0,0,0,0,0,{"$f":"IF(CS$5=\"TRUE\",AA63,0)","v":0},{"$f":"IF(CT$5=TRUE,AB63,0)","v":0},{"$f":"IF(CU$5=TRUE,AC63,0)","v":0},{"$f":"IF(CV$5=TRUE,AD63,0)","v":0},{"$f":"IF(CW$5=TRUE,AE63,0)","v":0},{"$f":"IF(CX$5=TRUE,AF63,0)","v":0},{"$f":"IF(CY$5=TRUE,AG63,0)","v":0},{"$f":"IF(CZ$5=TRUE,AH63,0)","v":0},{"$f":"IF(DA$5=TRUE,AI63,0)","v":0},{"$f":"IF(DB$5=TRUE,AJ63,0)","v":0},{"$f":"IF(DC$5=TRUE,AK63,0)","v":0},{"$f":"IF(DD$5=TRUE,AL63,0)","v":0},{"$f":"IF(DE$5=TRUE,AM63,0)","v":0},{"$f":"IF(DF$5=TRUE,AN63,0)","v":0},{"$f":"IF(DG$5=TRUE,AO63,0)","v":0},{"$f":"IF(DH$5=TRUE,AP63,0)","v":0},{"$f":"IF(DI$5=TRUE,AQ63,0)","v":0},{"$f":"IF(DJ$5=TRUE,AR63,0)","v":0},{"$f":"IF(DK$5=TRUE,AS63,0)","v":0},{"$f":"IF(DL$5=TRUE,AT63,0)","v":0},{"$f":"IF(DM$5=TRUE,AU63,0)","v":0},{"$f":"IF(DN$5=TRUE,AV63,0)","v":0},{"$f":"IF(DO$5=TRUE,AW63,0)","v":0},{"$f":"IF(DP$5=TRUE,AX63,0)","v":0},{"$f":"IF(DQ$5=TRUE,AY63,0)","v":0},{"$f":"IF(DR$5=TRUE,AZ63,0)","v":0},{"$f":"IF(DS$5=TRUE,BA63,0)","v":0},{"$f":"IF(DT$5=TRUE,BB63,0)","v":0},{"$f":"IF(DU$5=TRUE,BC63,0)","v":0},{"$f":"IF(DV$5=TRUE,BD63,0)","v":0},{"$f":"IF(DW$5=TRUE,BE63,0)","v":0},{"$f":"IF(DX$5=TRUE,BF63,0)","v":0},{"$f":"IF(DY$5=TRUE,BG63,0)","v":0},{"$f":"IF(DZ$5=TRUE,BH63,0)","v":0},{"$f":"IF(EA$5=TRUE,BI63,0)","v":0},{"$f":"IF(EB$5=TRUE,BJ63,0)","v":0},{"$f":"IF(EC$5=TRUE,BK63,0)","v":0},{"$f":"IF(ED$5=TRUE,BL63,0)","v":0},{"$f":"IF(EE$5=TRUE,BM63,0)","v":0},{"$f":"IF(EF$5=TRUE,BN63,0)","v":0},{"$f":"IF(EG$5=TRUE,BO63,0)","v":0},{"$f":"IF(EH$5=TRUE,BP63,0)","v":0},{"$f":"IF(EI$5=TRUE,BQ63,0)","v":0},{"$f":"IF(EJ$5=TRUE,BR63,0)","v":0},{"$f":"IF(EK$5=TRUE,BS63,0)","v":0},{"$f":"IF(EL$5=TRUE,BT63,0)","v":0},{"$f":"IF(EM$5=TRUE,BU63,0)","v":0},{"$f":"IF(EN$5=TRUE,BV63,0)","v":0},{"$f":"IF(EO$5=TRUE,BW63,0)","v":0},{"$f":"IF(EP$5=TRUE,BX63,0)","v":0},{"$f":"IF(EQ$5=TRUE,BY63,0)","v":0},{"$f":"IF(ER$5=TRUE,BZ63,0)","v":0},null,0,1,0,null,null,0]
[20,1,0,null,"Q:","Use of fire for management of landscapes or piled biomass that could impact Air Quality.",null,"Guidance","Documentation: (e.g. field notes, client interview responses, justification)",null,1,1,1,1,1,null,null,1,null,null,null,null,null,null,null,null,1,1,null,1,1,null,null,null,null,null,null,null,null,null,null,null,null,null,null,null,null,null,null,null,null,null,null,null,null,null,null,null,null,null,null,null,null,null,null,null,null,null,null,null,null,null,null,null,null,null,null,null,null,0,0,0,0,0,0,0,0,0,0,0,0,0,0,0,0,0,0,0,0,0,0,0,0,0,0,0,0,0,0,0,0,0,0,0,0,0,0,0,0,0,0,0,0,0,0,0,0,0,0,0,0,0,0,0,0,0,0,0,0,0,0,0,0,0,0,0,0,0,null,0,1,0,null,null,0]
[20,3,5,null,null,null,"Not applicable – Fire is not used for management on the PLU",null,null,null,1,1,1,1,1,null,null,1,null,null,null,null,null,null,null,null,1,1,null,1,1,null,null,null,null,null,null,null,null,null,null,null,null,null,null,null,null,null,null,null,null,null,null,null,null,null,null,null,null,null,null,null,null,null,null,null,null,null,null,null,null,null,null,null,null,null,null,null,null,0,0,0,0,0,0,0,0,0,0,0,0,0,0,0,0,0,0,0,0,0,0,0,0,0,0,0,0,0,0,0,0,0,0,0,0,0,0,0,0,0,0,0,0,0,0,0,0,0,0,0,0,0,0,0,0,0,0,0,0,0,0,0,0,0,0,0,0,0,null,0,1,0,null,null,0]
[20,4,{"$f":"IF(EV66>0,1,0)","v":0},null,null,null,"Fire is used for management on the PLU, and basic smoke management practices ARE implemented",null,null,null,1,1,1,1,1,null,null,1,null,null,null,null,null,null,null,null,1,1,null,1,1,null,null,null,null,null,null,null,null,null,null,null,null,null,null,null,null,null,null,null,null,null,null,null,null,null,null,null,null,null,null,null,null,null,null,null,null,null,null,null,null,null,null,null,null,null,null,null,null,0,0,0,0,0,0,0,0,0,0,0,0,0,0,0,0,0,0,0,0,0,0,0,0,0,0,0,0,0,0,0,0,0,0,0,0,0,0,0,0,0,0,0,0,0,0,0,0,0,0,0,0,0,0,0,0,0,0,0,0,0,0,0,0,0,0,0,0,0,null,0,1,0,null,null,0]
[20,5,0,null,null,null,"Fire is used for management on the PLU, and basic smoke management practices are NOT implemented",null,null,null,1,1,1,1,1,null,null,1,null,null,null,null,null,null,null,null,1,1,null,1,1,null,null,null,null,null,null,null,null,null,null,null,null,null,null,null,null,null,null,null,null,null,null,null,null,null,null,null,null,null,null,null,null,null,null,null,null,null,null,null,null,null,null,null,null,null,null,null,null,0,0,0,0,0,0,0,0,0,0,0,0,0,0,0,0,0,0,0,0,0,0,0,0,0,0,0,0,0,0,0,0,0,0,0,0,0,0,0,0,0,0,0,0,0,0,0,0,0,0,0,0,0,0,0,0,0,0,0,0,0,0,0,0,0,0,0,0,0,null,0,1,0,null,null,0]
[21,1,0,null,"Q:","Subsidence (All Land Uses)",null,"Guidance","Documentation: (e.g. field notes, client interview responses, justification)",null,1,1,1,1,1,1,1,1,null,null,null,null,null,null,null,null,1,null,null,null,null,null,null,null,null,null,null,null,null,null,null,null,null,null,null,null,null,null,null,null,null,null,null,null,null,null,null,null,null,null,null,null,1,null,null,null,null,null,null,null,null,null,null,null,null,null,null,null,null,0,0,0,0,0,0,0,0,0,0,0,0,0,0,0,0,0,0,0,0,0,0,0,0,0,0,0,0,0,0,0,0,0,0,0,0,0,0,0,0,0,0,0,0,0,0,0,0,0,0,0,0,0,0,0,0,0,0,0,0,0,0,0,0,0,0,0,0,0,null,0,1,0,null,null,0]
[21,5,0,null,null,null,"Subsidence does not occur because soils are mineral, or organic soils-building conditions have been restored.",null,null,null,1,1,1,1,1,1,1,1,null,null,null,null,null,null,null,null,1,null,null,null,null,null,null,null,null,null,null,null,null,null,null,null,null,null,null,null,null,null,null,null,null,null,null,null,null,null,null,null,null,null,null,null,1,null,null,null,null,null,null,null,null,null,null,null,null,null,null,null,null,0,0,0,0,0,0,0,0,0,0,0,0,0,0,0,0,0,0,0,0,0,0,0,0,0,0,0,0,0,0,0,0,0,0,0,0,0,0,0,0,0,0,0,0,0,0,0,0,0,0,0,0,0,0,0,0,0,0,0,0,0,0,0,0,0,0,0,0,0,null,0,1,0,null,null,0]
[21,4,{"$f":"IF(EV70>0,1,0)","v":0},null,null,null,"Impairs the intended land use.",null,null,null,1,1,1,1,1,1,1,1,null,null,null,null,null,null,null,null,1,null,null,null,null,null,null,null,null,null,null,null,null,null,null,null,null,null,null,null,null,null,null,null,null,null,null,null,null,null,null,null,null,null,null,null,1,null,null,null,null,null,null,null,null,null,null,null,null,null,null,null,null,{"$f":"IF(CB$5=TRUE,K70,0)","v":0},0,0,0,0,0,0,0,0,0,0,0,0,0,0,0,{"$f":"EZ70","v":0},{"$f":"IF(CS$5=\"TRUE\",AA70,0)","v":0},{"$f":"IF(CT$5=TRUE,AB70,0)","v":0},0,0,0,0,0,0,0,0,0,0,0,0,0,0,0,0,0,0,0,0,0,0,0,0,0,0,0,0,0,0,0,0,0,0,0,0,0,0,0,0,0,0,0,0,0,0,0,0,0,0,null,{"$f":"MAX(CB70:CQ70)","v":0},1,{"$f":"ET70*EU70*EY70","v":0},null,null,{"$f":"MAX(CR70:ER70)","v":0}]
[22,1,0,null,"Q:","Compaction (Crop, Forest, Assoc Ag Land, Other Rural Land)",null,"Guidance ","Documentation: (e.g. field notes, client interview responses, justification)",null,1,1,1,1,null,1,null,null,null,null,null,null,null,null,null,null,1,null,null,null,null,null,null,null,null,null,null,null,null,null,null,null,null,null,null,null,null,null,null,null,null,null,null,null,null,null,null,null,1,null,null,null,null,null,null,null,null,null,null,null,null,null,null,null,null,null,null,null,null,0,0,0,0,0,0,0,0,0,0,0,0,0,0,0,0,0,0,0,0,0,0,0,0,0,0,0,0,0,0,0,0,0,0,0,0,0,0,0,0,0,0,0,0,0,0,0,0,0,0,0,0,0,0,0,0,0,0,0,0,0,0,0,0,0,0,0,0,0,null,0,1,0,null,null,0]
[22,3,{"$f":"IF(EV72>0,1,0)","v":0},null,null,null,"Compaction is not significant","Continuous no-till/strip-till AND cover crops have been used for the last 3 years. (Annual crops only)\nOR\nContinuous no-till/strip-till has been used for the last 10 years. For rotations that include hay, all crops are no-tilled/strip-tilled.\nOR\nNo evidence of compaction, such as ponding, stunted plant growth, or root growth limitation is observed. AND Penetrometer rating, when the soil is moist throughout the rating depth, is less than 150 psi within top 6” depth and less than 300 in 6-18” depth; \nOR\nPreferred Cropland assessment: In-Field Soil Health Assessment Worksheet indicates no compaction resource concern occurs.",null,null,1,1,1,1,null,1,null,null,null,null,null,null,null,null,null,null,1,null,null,null,null,null,null,null,null,null,null,null,null,null,null,null,null,null,null,null,null,null,null,null,null,null,null,null,null,null,null,null,1,null,null,null,null,null,null,null,null,null,null,null,null,null,null,null,null,null,null,null,null,{"$f":"IF(CB$5=TRUE,K72,0)","v":0},{"$f":"IF(CC$5=TRUE,L72,0)","v":0},{"$f":"IF(CD$5=TRUE,M72,0)","v":0},{"$f":"IF(CE$5=TRUE,N72,0)","v":0},{"$f":"IF(CF$5=TRUE,O72,0)","v":0},{"$f":"IF(CG$5=TRUE,P72,0)","v":0},{"$f":"IF(CH$5=TRUE,Q72,0)","v":0},{"$f":"IF(CI$5=TRUE,R72,0)","v":0},{"$f":"IF(CJ$5=TRUE,S72,0)","v":0},{"$f":"IF(CK$5=TRUE,T72,0)","v":0},{"$f":"IF(CL$5=TRUE,U72,0)","v":0},{"$f":"IF(CM$5=TRUE,V72,0)","v":0},{"$f":"IF(CN$5=TRUE,W72,0)","v":0},{"$f":"IF(CO$5=TRUE,X72,0)","v":0},{"$f":"IF(CP$5=TRUE,Y72,0)","v":0},{"$f":"IF(CQ$5=TRUE,Z72,0)","v":0},0,0,0,0,0,0,0,0,0,0,0,0,0,0,0,0,0,0,0,0,0,0,0,0,0,0,0,0,0,0,0,0,0,0,0,0,0,0,0,0,0,0,0,0,0,0,0,0,0,0,0,0,0,null,{"$f":"MAX(CB72:CQ72)","v":0},1,0,null,null,{"$f":"MAX(CR72:ER72)","v":0}]
[22,2,0,null,null,null,"Compaction is significant","Full width tillage is used.\nOR\nEvidence of compaction, such as ponding, stunted plant growth, or root growth limitation is observed.  AND Penetrometer rating, when the soil is moist throughout the rating depth, is greater than 150 psi within top 6” depth and greater than 300 in 6-18” depth; \nOR\nPreferred Cropland assessment: In-Field Soil Health Assessment Worksheet indicates a compaction resource concern occurs.",null,null,1,1,1,1,null,1,null,null,null,null,null,null,null,null,null,null,1,null,null,null,null,null,null,null,null,null,null,null,null,null,null,null,null,null,null,null,null,null,null,null,null,null,null,null,null,null,null,null,1,null,null,null,null,null,null,null,null,null,null,null,null,null,null,null,null,null,null,null,null,0,0,0,0,0,0,0,0,0,0,0,0,0,0,0,0,{"$f":"EZ73","v":0},0,0,0,0,0,0,0,0,0,0,0,0,0,0,0,0,0,0,0,0,0,0,0,0,0,0,0,0,0,0,0,0,0,0,0,0,0,0,0,0,0,0,0,0,0,0,0,0,0,0,0,0,null,0,1,0,null,null,0]
[22,1,0,null,"Q:","Compaction (Pasture)",null,"Guidance","Documentation: (e.g. field notes, client interview responses, justification)",null,null,null,null,null,1,null,null,null,null,null,null,null,null,null,null,null,1,null,null,null,null,null,null,null,null,null,null,null,null,null,null,null,null,null,null,null,null,null,null,null,null,null,null,null,null,null,null,null,1,null,null,null,null,null,null,null,null,null,null,null,null,null,null,null,null,null,null,null,null,0,0,0,0,0,0,0,0,0,0,0,0,0,0,0,0,0,0,0,0,0,0,0,0,0,0,0,0,0,0,0,0,0,0,0,0,0,0,0,0,0,0,0,0,0,0,0,0,0,0,0,0,0,0,0,0,0,0,0,0,0,0,0,0,0,0,0,0,0,null,0,1,{"$f":"ET74*EU74*EY74","v":0},null,null,0]
[22,3,0,null,null,null,"Compaction is not significant","PCS indicates Soil Compaction and Soil Regenerative Features element 4 or higher.",null,null,null,null,null,null,1,null,null,null,null,null,null,null,null,null,null,null,1,null,null,null,null,null,null,null,null,null,null,null,null,null,null,null,null,null,null,null,null,null,null,null,null,null,null,null,null,null,null,null,1,null,null,null,null,null,null,null,null,null,null,null,null,null,null,null,null,null,null,null,null,0,0,0,0,0,0,0,0,0,0,0,0,0,0,0,0,0,0,0,0,0,0,0,0,0,0,0,0,0,0,0,0,0,0,0,0,0,0,0,0,0,0,0,0,0,0,0,0,0,0,0,0,0,0,0,0,0,0,0,0,0,0,0,0,0,0,0,0,0,null,0,1,{"$f":"ET75*EU75*EY75","v":0},null,null,0]
[22,2,0,null,null,null,"Compaction is significant","Overgrazed pasture \nOR\nPCS Soil Compaction and Soil Regenerative Features element is 3 or lower.",null,null,null,null,null,null,1,null,null,null,null,null,null,null,null,null,null,null,1,null,null,null,null,null,null,null,null,null,null,null,null,null,null,null,null,null,null,null,null,null,null,null,null,null,null,null,null,null,null,null,1,null,null,null,null,null,null,null,null,null,null,null,null,null,null,null,null,null,null,null,null,0,0,0,0,0,0,0,0,0,0,0,0,0,0,0,0,0,0,0,0,0,0,0,0,0,0,0,0,0,0,0,0,0,0,0,0,0,0,0,0,0,0,0,0,0,0,0,0,0,0,0,0,0,0,0,0,0,0,0,0,0,0,0,0,0,0,0,0,0,null,0,1,0,null,null,0]
[52,8,5,null,"Q:","Compaction (Range)",null,"Guidance","Additional Guidance","List PLU's",null,null,null,null,null,null,null,1,null,null,null,null,null,null,null,null,1,null,null,null,null,null,null,null,null,null,null,null,null,null,null,null,null,null,null,null,null,null,null,null,null,null,null,null,null,null,null,null,1,null,null,null,null,null,null,null,null,null,null,null,null,null,null,null,null,null,null,null,null,0,0,0,0,0,0,0,0,0,0,0,0,0,0,0,0,0,0,0,0,0,0,0,0,0,0,0,0,0,0,0,0,0,0,0,0,0,0,0,0,0,0,0,0,0,0,0,0,0,0,0,0,0,0,0,0,0,0,0,0,0,0,0,0,0,0,0,0,0,null,0,1,{"$f":"ET77*EU77*EY77","v":0},null,null,0]
[52,10,5,null,null,null,"Compaction is not significant","N/A In Iowa",null,null,null,null,null,null,null,null,null,1,null,null,null,null,null,null,null,null,1,null,null,null,null,null,null,null,null,null,null,null,null,null,null,null,null,null,null,null,null,null,null,null,null,null,null,null,null,null,null,null,1,null,null,null,null,null,null,null,null,null,null,null,null,null,null,null,null,null,null,null,null,0,0,0,0,0,0,0,0,0,0,0,0,0,0,0,0,0,0,0,0,0,0,0,0,0,0,0,0,0,0,0,0,0,0,0,0,0,0,0,0,0,0,0,0,0,0,0,0,0,0,0,0,0,0,0,0,0,0,0,0,0,0,0,0,0,0,0,0,0,null,0,1,0,null,null,0]
[52,9,5,null,null,null,"Compaction is significant","N/A In Iowa",null,null,null,null,null,null,null,null,null,1,null,null,null,null,null,null,null,null,1,null,null,null,null,null,null,null,null,null,null,null,null,null,null,null,null,null,null,null,null,null,null,null,null,null,null,null,null,null,null,null,1,null,null,null,null,null,null,null,null,null,null,null,null,null,null,null,null,null,null,null,null,0,0,0,0,0,0,0,0,0,0,0,0,0,0,0,0,0,0,0,0,0,0,0,0,0,0,0,0,0,0,0,0,0,0,0,0,0,0,0,0,0,0,0,0,0,0,0,0,0,0,0,0,0,0,0,0,0,0,0,0,0,0,0,0,0,0,0,0,0,null,0,1,0,null,null,0]
[23,1,0,null,"Q:","Concentration of Salts and Other Chemicals",null,"Guidance","Documentation: (e.g. field notes, client interview responses, justification)",null,1,1,1,1,1,1,1,1,null,null,null,null,null,null,null,null,1,null,null,null,null,null,null,null,null,null,null,null,null,null,null,null,null,null,null,null,null,null,null,null,null,null,null,null,null,null,null,null,null,1,null,null,null,null,null,null,null,null,null,null,null,null,null,null,null,null,null,null,null,0,0,0,0,0,0,0,0,0,0,0,0,0,0,0,0,0,0,0,0,0,0,0,0,0,0,0,0,0,0,0,0,0,0,0,0,0,0,0,0,0,0,0,0,0,0,0,0,0,0,0,0,0,0,0,0,0,0,0,0,0,0,0,0,0,0,0,0,0,null,0,1,0,null,null,0]
[23,4,0,null,null,null,"No excessive salt/chemical concentration in soil","Typical answer in Iowa for Salts.",null,null,1,1,1,1,1,1,1,1,null,null,null,null,null,null,null,null,1,null,null,null,null,null,null,null,null,null,null,null,null,null,null,null,null,null,null,null,null,null,null,null,null,null,null,null,null,null,null,null,null,1,null,null,null,null,null,null,null,null,null,null,null,null,null,null,null,null,null,null,null,0,0,0,0,0,0,0,0,0,0,0,0,0,0,0,0,0,0,0,0,0,0,0,0,0,0,0,0,0,0,0,0,0,0,0,0,0,0,0,0,0,0,0,0,0,0,0,0,0,0,0,0,0,0,0,0,0,0,0,0,0,0,0,0,0,0,0,0,0,null,0,1,0,null,null,0]
[23,3,0,null,null,null,"Excessive salt/chemical concentration in soil","Heavy Metal concentration identified through soil testing.",null,null,1,1,1,1,1,1,1,1,null,null,null,null,null,null,null,null,1,null,null,null,null,null,null,null,null,null,null,null,null,null,null,null,null,null,null,null,null,null,null,null,null,null,null,null,null,null,null,null,null,1,null,null,null,null,null,null,null,null,null,null,null,null,null,null,null,null,null,null,null,0,0,0,0,0,0,0,0,0,0,0,0,0,0,0,0,0,0,0,0,0,0,0,0,0,0,0,0,0,0,0,0,0,0,0,0,0,0,0,0,0,0,0,0,0,0,0,0,0,0,0,0,0,0,0,0,0,0,0,0,0,0,0,0,0,0,0,0,0,null,0,1,0,null,null,0]
[6,1,5,null,"Q:","Organic Matter Depletion (Webservice)",null,"Depending on results, the following question(s) need to be answered:","List PLU's",null,1,1,null,1,1,1,1,1,null,null,null,null,null,null,null,null,1,null,null,null,null,null,null,null,null,null,null,null,null,null,null,null,null,null,null,null,null,null,null,null,null,null,null,null,null,null,null,null,null,null,1,null,null,null,null,null,null,null,null,null,null,null,null,null,null,null,null,null,null,0,0,0,0,0,0,0,0,0,0,0,0,0,0,0,0,0,{"$f":"IF(CS$5=\"TRUE\",AA83,0)","v":0},{"$f":"IF(CT$5=TRUE,AB83,0)","v":0},{"$f":"IF(CU$5=TRUE,AC83,0)","v":0},{"$f":"IF(CV$5=TRUE,AD83,0)","v":0},{"$f":"IF(CW$5=TRUE,AE83,0)","v":0},{"$f":"IF(CX$5=TRUE,AF83,0)","v":0},{"$f":"IF(CY$5=TRUE,AG83,0)","v":0},{"$f":"IF(CZ$5=TRUE,AH83,0)","v":0},{"$f":"IF(DA$5=TRUE,AI83,0)","v":0},{"$f":"IF(DB$5=TRUE,AJ83,0)","v":0},{"$f":"IF(DC$5=TRUE,AK83,0)","v":0},{"$f":"IF(DD$5=TRUE,AL83,0)","v":0},{"$f":"IF(DE$5=TRUE,AM83,0)","v":0},{"$f":"IF(DF$5=TRUE,AN83,0)","v":0},{"$f":"IF(DG$5=TRUE,AO83,0)","v":0},{"$f":"IF(DH$5=TRUE,AP83,0)","v":0},{"$f":"IF(DI$5=TRUE,AQ83,0)","v":0},{"$f":"IF(DJ$5=TRUE,AR83,0)","v":0},{"$f":"IF(DK$5=TRUE,AS83,0)","v":0},{"$f":"IF(DL$5=TRUE,AT83,0)","v":0},{"$f":"IF(DM$5=TRUE,AU83,0)","v":0},{"$f":"IF(DN$5=TRUE,AV83,0)","v":0},{"$f":"IF(DO$5=TRUE,AW83,0)","v":0},{"$f":"IF(DP$5=TRUE,AX83,0)","v":0},{"$f":"IF(DQ$5=TRUE,AY83,0)","v":0},{"$f":"IF(DR$5=TRUE,AZ83,0)","v":0},{"$f":"IF(DS$5=TRUE,BA83,0)","v":0},{"$f":"IF(DT$5=TRUE,BB83,0)","v":0},{"$f":"IF(DU$5=TRUE,BC83,0)","v":0},{"$f":"IF(DV$5=TRUE,BD83,0)","v":0},{"$f":"IF(DW$5=TRUE,BE83,0)","v":0},{"$f":"IF(DX$5=TRUE,BF83,0)","v":0},{"$f":"IF(DY$5=TRUE,BG83,0)","v":0},{"$f":"IF(DZ$5=TRUE,BH83,0)","v":0},{"$f":"IF(EA$5=TRUE,BI83,0)","v":0},{"$f":"IF(EB$5=TRUE,BJ83,0)","v":0},{"$f":"IF(EC$5=TRUE,BK83,0)","v":0},{"$f":"IF(ED$5=TRUE,BL83,0)","v":0},{"$f":"IF(EE$5=TRUE,BM83,0)","v":0},{"$f":"IF(EF$5=TRUE,BN83,0)","v":0},{"$f":"IF(EG$5=TRUE,BO83,0)","v":0},{"$f":"IF(EH$5=TRUE,BP83,0)","v":0},{"$f":"IF(EI$5=TRUE,BQ83,0)","v":0},{"$f":"IF(EJ$5=TRUE,BR83,0)","v":0},{"$f":"IF(EK$5=TRUE,BS83,0)","v":0},{"$f":"IF(EL$5=TRUE,BT83,0)","v":0},{"$f":"IF(EM$5=TRUE,BU83,0)","v":0},{"$f":"IF(EN$5=TRUE,BV83,0)","v":0},{"$f":"IF(EO$5=TRUE,BW83,0)","v":0},{"$f":"IF(EP$5=TRUE,BX83,0)","v":0},{"$f":"IF(EQ$5=TRUE,BY83,0)","v":0},{"$f":"IF(ER$5=TRUE,BZ83,0)","v":0},null,0,1,{"$f":"ET83*EU83*EY83","v":0},null,null,0]
[6,1,0,null,"Q:","Organic Matter Depletion (Cropland)",null,"Guidance\nThe NRCS Cropland In-Field Soil Health Assessment (IFSHA) Worksheet can be helpful to evaluate this Resource Concern Component.  IFSHA indicates eight indicators are significant for OM Depletion:\n•\tSoil Cover\n•\tResidue Breakdown\n•\tWater Stable Aggregates\n•\tSoil Structure\n•\tSoil color\n•\tPlant roots\n•\tBiological Diversity\n•\tBiopores\n\nIf IFSHA cannot be completed due to weather, consult Area Soil Health Specialist and/or ARC.",null,null,1,1,null,null,null,null,null,null,null,null,null,null,null,null,null,null,1,null,null,null,null,null,null,null,null,null,null,null,null,null,null,null,null,null,null,null,null,null,null,null,null,null,null,null,null,null,null,null,null,null,1,null,null,null,null,null,null,null,null,null,null,null,null,null,null,null,null,null,null,0,0,0,0,0,0,0,0,0,0,0,0,0,0,0,0,0,{"$f":"IF(CS$5=\"TRUE\",AA84,0)","v":0},{"$f":"IF(CT$5=TRUE,AB84,0)","v":0},{"$f":"IF(CU$5=TRUE,AC84,0)","v":0},{"$f":"IF(CV$5=TRUE,AD84,0)","v":0},{"$f":"IF(CW$5=TRUE,AE84,0)","v":0},{"$f":"IF(CX$5=TRUE,AF84,0)","v":0},{"$f":"IF(CY$5=TRUE,AG84,0)","v":0},{"$f":"IF(CZ$5=TRUE,AH84,0)","v":0},{"$f":"IF(DA$5=TRUE,AI84,0)","v":0},{"$f":"IF(DB$5=TRUE,AJ84,0)","v":0},{"$f":"IF(DC$5=TRUE,AK84,0)","v":0},{"$f":"IF(DD$5=TRUE,AL84,0)","v":0},{"$f":"IF(DE$5=TRUE,AM84,0)","v":0},{"$f":"IF(DF$5=TRUE,AN84,0)","v":0},{"$f":"IF(DG$5=TRUE,AO84,0)","v":0},{"$f":"IF(DH$5=TRUE,AP84,0)","v":0},{"$f":"IF(DI$5=TRUE,AQ84,0)","v":0},{"$f":"IF(DJ$5=TRUE,AR84,0)","v":0},{"$f":"IF(DK$5=TRUE,AS84,0)","v":0},{"$f":"IF(DL$5=TRUE,AT84,0)","v":0},{"$f":"IF(DM$5=TRUE,AU84,0)","v":0},{"$f":"IF(DN$5=TRUE,AV84,0)","v":0},{"$f":"IF(DO$5=TRUE,AW84,0)","v":0},{"$f":"IF(DP$5=TRUE,AX84,0)","v":0},{"$f":"IF(DQ$5=TRUE,AY84,0)","v":0},{"$f":"IF(DR$5=TRUE,AZ84,0)","v":0},{"$f":"IF(DS$5=TRUE,BA84,0)","v":0},{"$f":"IF(DT$5=TRUE,BB84,0)","v":0},{"$f":"IF(DU$5=TRUE,BC84,0)","v":0},{"$f":"IF(DV$5=TRUE,BD84,0)","v":0},{"$f":"IF(DW$5=TRUE,BE84,0)","v":0},{"$f":"IF(DX$5=TRUE,BF84,0)","v":0},{"$f":"IF(DY$5=TRUE,BG84,0)","v":0},{"$f":"IF(DZ$5=TRUE,BH84,0)","v":0},{"$f":"IF(EA$5=TRUE,BI84,0)","v":0},{"$f":"IF(EB$5=TRUE,BJ84,0)","v":0},{"$f":"IF(EC$5=TRUE,BK84,0)","v":0},{"$f":"IF(ED$5=TRUE,BL84,0)","v":0},{"$f":"IF(EE$5=TRUE,BM84,0)","v":0},{"$f":"IF(EF$5=TRUE,BN84,0)","v":0},{"$f":"IF(EG$5=TRUE,BO84,0)","v":0},{"$f":"IF(EH$5=TRUE,BP84,0)","v":0},{"$f":"IF(EI$5=TRUE,BQ84,0)","v":0},{"$f":"IF(EJ$5=TRUE,BR84,0)","v":0},{"$f":"IF(EK$5=TRUE,BS84,0)","v":0},{"$f":"IF(EL$5=TRUE,BT84,0)","v":0},{"$f":"IF(EM$5=TRUE,BU84,0)","v":0},{"$f":"IF(EN$5=TRUE,BV84,0)","v":0},{"$f":"IF(EO$5=TRUE,BW84,0)","v":0},{"$f":"IF(EP$5=TRUE,BX84,0)","v":0},{"$f":"IF(EQ$5=TRUE,BY84,0)","v":0},{"$f":"IF(ER$5=TRUE,BZ84,0)","v":0},null,0,1,{"$f":"ET84*EU84*EY84","v":0},null,null,0]
[6,3,0,null,null,null,"None - Extensively Depleted Soil Organic Matter","Full width tillage is used every year in the rotation.\nOR\nIFSHA 2 or fewer of the In-Field Soil Health Assessment indicators listed above meet the assessment criteria",null,null,1,1,null,null,null,null,null,null,null,null,null,null,null,null,null,null,1,null,null,null,null,null,null,null,null,null,null,null,null,null,null,null,null,null,null,null,null,null,null,null,null,null,null,null,null,null,null,null,null,null,1,null,null,null,null,null,null,null,null,null,null,null,null,null,null,null,null,null,null,0,0,0,0,0,0,0,0,0,0,0,0,0,0,0,0,0,0,0,0,0,0,0,0,0,0,0,0,0,0,0,0,0,0,0,0,0,0,0,0,0,0,0,0,0,0,0,0,0,0,0,0,0,0,0,0,0,0,0,0,0,0,0,0,0,0,0,0,0,null,0,1,0,null,null,0]
[6,4,0,null,null,null,"Low - Degraded Soil Organic Matter","Full width tillage is used within the rotation with some years of no-till/strip-till.\nOR\nIFSHA 3 or 4 of the In-Field Soil Health Assessment indicators listed above meet the assessment criteria",null,null,1,1,null,null,null,null,null,null,null,null,null,null,null,null,null,null,1,null,null,null,null,null,null,null,null,null,null,null,null,null,null,null,null,null,null,null,null,null,null,null,null,null,null,null,null,null,null,null,null,null,1,null,null,null,null,null,null,null,null,null,null,null,null,null,null,null,null,null,null,0,0,0,0,0,0,0,0,0,0,0,0,0,0,0,0,0,0,0,0,0,0,0,0,0,0,0,0,0,0,0,0,0,0,0,0,0,0,0,0,0,0,0,0,0,0,0,0,0,0,0,0,0,0,0,0,0,0,0,0,0,0,0,0,0,0,0,0,0,null,0,1,0,null,null,0]
[6,5,0,null,null,null,"Moderate - Reduced Levels of Soil Organic Matter","IFSHA  5 or 6 of the In-Field Soil Health Assessment indicators listed above meet the assessment criteria.",null,null,1,1,null,null,null,null,null,null,null,null,null,null,null,null,null,null,1,null,null,null,null,null,null,null,null,null,null,null,null,null,null,null,null,null,null,null,null,null,null,null,null,null,null,null,null,null,null,null,null,null,1,null,null,null,null,null,null,null,null,null,null,null,null,null,null,null,null,null,null,0,0,0,0,0,0,0,0,0,0,0,0,0,0,0,0,0,0,0,0,0,0,0,0,0,0,0,0,0,0,0,0,0,0,0,0,0,0,0,0,0,0,0,0,0,0,0,0,0,0,0,0,0,0,0,0,0,0,0,0,0,0,0,0,0,0,0,0,0,null,0,1,0,null,null,0]
[6,5,0,null,null,null,"High - Soil Organic Matter is at or Exceeds Potential for the Site","IFSHA  7 or more of the In-Field Soil Health Assessment indicators listed above meet the assessment criteria.",null,null,1,1,null,null,null,null,null,null,null,null,null,null,null,null,null,null,1,null,null,null,null,null,null,null,null,null,null,null,null,null,null,null,null,null,null,null,null,null,null,null,null,null,null,null,null,null,null,null,null,null,1,null,null,null,null,null,null,null,null,null,null,null,null,null,null,null,null,null,null,0,0,0,0,0,0,0,0,0,0,0,0,0,0,0,0,0,{"$f":"IF(CS$5=\"TRUE\",AA88,0)","v":0},{"$f":"IF(CT$5=TRUE,AB88,0)","v":0},{"$f":"IF(CU$5=TRUE,AC88,0)","v":0},{"$f":"IF(CV$5=TRUE,AD88,0)","v":0},{"$f":"IF(CW$5=TRUE,AE88,0)","v":0},{"$f":"IF(CX$5=TRUE,AF88,0)","v":0},{"$f":"IF(CY$5=TRUE,AG88,0)","v":0},{"$f":"IF(CZ$5=TRUE,AH88,0)","v":0},{"$f":"IF(DA$5=TRUE,AI88,0)","v":0},{"$f":"IF(DB$5=TRUE,AJ88,0)","v":0},{"$f":"IF(DC$5=TRUE,AK88,0)","v":0},{"$f":"IF(DD$5=TRUE,AL88,0)","v":0},{"$f":"IF(DE$5=TRUE,AM88,0)","v":0},{"$f":"IF(DF$5=TRUE,AN88,0)","v":0},{"$f":"IF(DG$5=TRUE,AO88,0)","v":0},{"$f":"IF(DH$5=TRUE,AP88,0)","v":0},{"$f":"IF(DI$5=TRUE,AQ88,0)","v":0},{"$f":"IF(DJ$5=TRUE,AR88,0)","v":0},{"$f":"IF(DK$5=TRUE,AS88,0)","v":0},{"$f":"IF(DL$5=TRUE,AT88,0)","v":0},{"$f":"IF(DM$5=TRUE,AU88,0)","v":0},{"$f":"IF(DN$5=TRUE,AV88,0)","v":0},{"$f":"IF(DO$5=TRUE,AW88,0)","v":0},{"$f":"IF(DP$5=TRUE,AX88,0)","v":0},{"$f":"IF(DQ$5=TRUE,AY88,0)","v":0},{"$f":"IF(DR$5=TRUE,AZ88,0)","v":0},{"$f":"IF(DS$5=TRUE,BA88,0)","v":0},{"$f":"IF(DT$5=TRUE,BB88,0)","v":0},{"$f":"IF(DU$5=TRUE,BC88,0)","v":0},{"$f":"IF(DV$5=TRUE,BD88,0)","v":0},{"$f":"IF(DW$5=TRUE,BE88,0)","v":0},{"$f":"IF(DX$5=TRUE,BF88,0)","v":0},{"$f":"IF(DY$5=TRUE,BG88,0)","v":0},{"$f":"IF(DZ$5=TRUE,BH88,0)","v":0},{"$f":"IF(EA$5=TRUE,BI88,0)","v":0},{"$f":"IF(EB$5=TRUE,BJ88,0)","v":0},{"$f":"IF(EC$5=TRUE,BK88,0)","v":0},{"$f":"IF(ED$5=TRUE,BL88,0)","v":0},{"$f":"IF(EE$5=TRUE,BM88,0)","v":0},{"$f":"IF(EF$5=TRUE,BN88,0)","v":0},{"$f":"IF(EG$5=TRUE,BO88,0)","v":0},{"$f":"IF(EH$5=TRUE,BP88,0)","v":0},{"$f":"IF(EI$5=TRUE,BQ88,0)","v":0},{"$f":"IF(EJ$5=TRUE,BR88,0)","v":0},{"$f":"IF(EK$5=TRUE,BS88,0)","v":0},{"$f":"IF(EL$5=TRUE,BT88,0)","v":0},{"$f":"IF(EM$5=TRUE,BU88,0)","v":0},{"$f":"IF(EN$5=TRUE,BV88,0)","v":0},{"$f":"IF(EO$5=TRUE,BW88,0)","v":0},{"$f":"IF(EP$5=TRUE,BX88,0)","v":0},{"$f":"IF(EQ$5=TRUE,BY88,0)","v":0},{"$f":"IF(ER$5=TRUE,BZ88,0)","v":0},null,0,1,{"$f":"ET88*EU88*EY88","v":0},null,null,0]
[6,1,0,null,"Q:","Organic Matter Depletion (Forest, Developed Land Associated Ag Land, Other Rural Land)",null,"Guidance\nA planner may also determine if the use of assessment methods for Cropland, Range or Pasture are better suited to the site’s current conditions.","Documentation: (e.g. field notes, client interview responses, justification)",null,null,null,null,1,null,1,1,null,null,null,null,null,null,null,null,null,1,null,null,null,null,null,null,null,null,null,null,null,null,null,null,null,null,null,null,null,null,null,null,null,null,null,null,null,null,null,null,null,null,null,1,null,null,null,null,null,null,null,null,null,null,null,null,null,null,null,null,null,null,0,0,0,0,0,0,0,0,0,0,0,0,0,0,0,0,0,{"$f":"IF(CS$5=\"TRUE\",AA89,0)","v":0},{"$f":"IF(CT$5=TRUE,AB89,0)","v":0},{"$f":"IF(CU$5=TRUE,AC89,0)","v":0},{"$f":"IF(CV$5=TRUE,AD89,0)","v":0},{"$f":"IF(CW$5=TRUE,AE89,0)","v":0},{"$f":"IF(CX$5=TRUE,AF89,0)","v":0},{"$f":"IF(CY$5=TRUE,AG89,0)","v":0},{"$f":"IF(CZ$5=TRUE,AH89,0)","v":0},{"$f":"IF(DA$5=TRUE,AI89,0)","v":0},{"$f":"IF(DB$5=TRUE,AJ89,0)","v":0},{"$f":"IF(DC$5=TRUE,AK89,0)","v":0},{"$f":"IF(DD$5=TRUE,AL89,0)","v":0},{"$f":"IF(DE$5=TRUE,AM89,0)","v":0},{"$f":"IF(DF$5=TRUE,AN89,0)","v":0},{"$f":"IF(DG$5=TRUE,AO89,0)","v":0},{"$f":"IF(DH$5=TRUE,AP89,0)","v":0},{"$f":"IF(DI$5=TRUE,AQ89,0)","v":0},{"$f":"IF(DJ$5=TRUE,AR89,0)","v":0},{"$f":"IF(DK$5=TRUE,AS89,0)","v":0},{"$f":"IF(DL$5=TRUE,AT89,0)","v":0},{"$f":"IF(DM$5=TRUE,AU89,0)","v":0},{"$f":"IF(DN$5=TRUE,AV89,0)","v":0},{"$f":"IF(DO$5=TRUE,AW89,0)","v":0},{"$f":"IF(DP$5=TRUE,AX89,0)","v":0},{"$f":"IF(DQ$5=TRUE,AY89,0)","v":0},{"$f":"IF(DR$5=TRUE,AZ89,0)","v":0},{"$f":"IF(DS$5=TRUE,BA89,0)","v":0},{"$f":"IF(DT$5=TRUE,BB89,0)","v":0},{"$f":"IF(DU$5=TRUE,BC89,0)","v":0},{"$f":"IF(DV$5=TRUE,BD89,0)","v":0},{"$f":"IF(DW$5=TRUE,BE89,0)","v":0},{"$f":"IF(DX$5=TRUE,BF89,0)","v":0},{"$f":"IF(DY$5=TRUE,BG89,0)","v":0},{"$f":"IF(DZ$5=TRUE,BH89,0)","v":0},{"$f":"IF(EA$5=TRUE,BI89,0)","v":0},{"$f":"IF(EB$5=TRUE,BJ89,0)","v":0},{"$f":"IF(EC$5=TRUE,BK89,0)","v":0},{"$f":"IF(ED$5=TRUE,BL89,0)","v":0},{"$f":"IF(EE$5=TRUE,BM89,0)","v":0},{"$f":"IF(EF$5=TRUE,BN89,0)","v":0},{"$f":"IF(EG$5=TRUE,BO89,0)","v":0},{"$f":"IF(EH$5=TRUE,BP89,0)","v":0},{"$f":"IF(EI$5=TRUE,BQ89,0)","v":0},{"$f":"IF(EJ$5=TRUE,BR89,0)","v":0},{"$f":"IF(EK$5=TRUE,BS89,0)","v":0},{"$f":"IF(EL$5=TRUE,BT89,0)","v":0},{"$f":"IF(EM$5=TRUE,BU89,0)","v":0},{"$f":"IF(EN$5=TRUE,BV89,0)","v":0},{"$f":"IF(EO$5=TRUE,BW89,0)","v":0},{"$f":"IF(EP$5=TRUE,BX89,0)","v":0},{"$f":"IF(EQ$5=TRUE,BY89,0)","v":0},{"$f":"IF(ER$5=TRUE,BZ89,0)","v":0},null,0,1,{"$f":"ET89*EU89*EY89","v":0},null,null,0]
[6,3,0,null,null,null,"None - Extensively Depleted Soil Organic Matter","-\tLiving vegetation is absent or very sparse.\n-\tPlant litter, and woody debris are absent or very sparse.",null,null,null,null,null,1,null,1,1,null,null,null,null,null,null,null,null,null,1,null,null,null,null,null,null,null,null,null,null,null,null,null,null,null,null,null,null,null,null,null,null,null,null,null,null,null,null,null,null,null,null,null,1,null,null,null,null,null,null,null,null,null,null,null,null,null,null,null,null,null,null,0,0,0,0,0,0,0,0,0,0,0,0,0,0,0,0,0,0,0,0,0,0,0,0,0,0,0,0,0,0,0,0,0,0,0,0,0,0,0,0,0,0,0,0,0,0,0,0,0,0,0,0,0,0,0,0,0,0,0,0,0,0,0,0,0,0,0,0,0,null,0,1,0,null,null,0]
[6,4,0,null,null,null," Low - Degraded Soil Organic Matter","-\tLiving vegetation is predominantly annuals.  A few perennials may be present. \n-\tPlant litter or woody debris is scattered leaving most of ground surface uncovered. No duff layer is present. ",null,null,null,null,null,1,null,1,1,null,null,null,null,null,null,null,null,null,1,null,null,null,null,null,null,null,null,null,null,null,null,null,null,null,null,null,null,null,null,null,null,null,null,null,null,null,null,null,null,null,null,null,1,null,null,null,null,null,null,null,null,null,null,null,null,null,null,null,null,null,null,0,0,0,0,0,0,0,0,0,0,0,0,0,0,0,0,0,0,0,0,0,0,0,0,0,0,0,0,0,0,0,0,0,0,0,0,0,0,0,0,0,0,0,0,0,0,0,0,0,0,0,0,0,0,0,0,0,0,0,0,0,0,0,0,0,0,0,0,0,null,0,1,0,null,null,0]
[6,5,0,null,null,null,"Moderate - Reduced Levels of Soil Organic Matter","-\tLiving vegetation covers most of the ground surface.\n-\tPlant residue is mostly fragile.  Woody debris is mostly fine.  A thin duff layer may be present."]
[6,5,0,null,null,null,"High - Soil Organic Matter is at or Exceeds Potential for the Site","-\tGround is completely covered by a combination of living vegetation, fragile and non-fragile plant residue, or woody debris.  A duff layer is present. ",null,null,null,null,null,1,null,1,1,null,null,null,null,null,null,null,null,null,1,null,null,null,null,null,null,null,null,null,null,null,null,null,null,null,null,null,null,null,null,null,null,null,null,null,null,null,null,null,null,null,null,null,1,null,null,null,null,null,null,null,null,null,null,null,null,null,null,null,null,null,null,0,0,0,0,0,0,0,0,0,0,0,0,0,0,0,0,0,{"$f":"IF(CS$5=\"TRUE\",AA93,0)","v":0},{"$f":"IF(CT$5=TRUE,AB93,0)","v":0},{"$f":"IF(CU$5=TRUE,AC93,0)","v":0},{"$f":"IF(CV$5=TRUE,AD93,0)","v":0},{"$f":"IF(CW$5=TRUE,AE93,0)","v":0},{"$f":"IF(CX$5=TRUE,AF93,0)","v":0},{"$f":"IF(CY$5=TRUE,AG93,0)","v":0},{"$f":"IF(CZ$5=TRUE,AH93,0)","v":0},{"$f":"IF(DA$5=TRUE,AI93,0)","v":0},{"$f":"IF(DB$5=TRUE,AJ93,0)","v":0},{"$f":"IF(DC$5=TRUE,AK93,0)","v":0},{"$f":"IF(DD$5=TRUE,AL93,0)","v":0},{"$f":"IF(DE$5=TRUE,AM93,0)","v":0},{"$f":"IF(DF$5=TRUE,AN93,0)","v":0},{"$f":"IF(DG$5=TRUE,AO93,0)","v":0},{"$f":"IF(DH$5=TRUE,AP93,0)","v":0},{"$f":"IF(DI$5=TRUE,AQ93,0)","v":0},{"$f":"IF(DJ$5=TRUE,AR93,0)","v":0},{"$f":"IF(DK$5=TRUE,AS93,0)","v":0},{"$f":"IF(DL$5=TRUE,AT93,0)","v":0},{"$f":"IF(DM$5=TRUE,AU93,0)","v":0},{"$f":"IF(DN$5=TRUE,AV93,0)","v":0},{"$f":"IF(DO$5=TRUE,AW93,0)","v":0},{"$f":"IF(DP$5=TRUE,AX93,0)","v":0},{"$f":"IF(DQ$5=TRUE,AY93,0)","v":0},{"$f":"IF(DR$5=TRUE,AZ93,0)","v":0},{"$f":"IF(DS$5=TRUE,BA93,0)","v":0},{"$f":"IF(DT$5=TRUE,BB93,0)","v":0},{"$f":"IF(DU$5=TRUE,BC93,0)","v":0},{"$f":"IF(DV$5=TRUE,BD93,0)","v":0},{"$f":"IF(DW$5=TRUE,BE93,0)","v":0},{"$f":"IF(DX$5=TRUE,BF93,0)","v":0},{"$f":"IF(DY$5=TRUE,BG93,0)","v":0},{"$f":"IF(DZ$5=TRUE,BH93,0)","v":0},{"$f":"IF(EA$5=TRUE,BI93,0)","v":0},{"$f":"IF(EB$5=TRUE,BJ93,0)","v":0},{"$f":"IF(EC$5=TRUE,BK93,0)","v":0},{"$f":"IF(ED$5=TRUE,BL93,0)","v":0},{"$f":"IF(EE$5=TRUE,BM93,0)","v":0},{"$f":"IF(EF$5=TRUE,BN93,0)","v":0},{"$f":"IF(EG$5=TRUE,BO93,0)","v":0},{"$f":"IF(EH$5=TRUE,BP93,0)","v":0},{"$f":"IF(EI$5=TRUE,BQ93,0)","v":0},{"$f":"IF(EJ$5=TRUE,BR93,0)","v":0},{"$f":"IF(EK$5=TRUE,BS93,0)","v":0},{"$f":"IF(EL$5=TRUE,BT93,0)","v":0},{"$f":"IF(EM$5=TRUE,BU93,0)","v":0},{"$f":"IF(EN$5=TRUE,BV93,0)","v":0},{"$f":"IF(EO$5=TRUE,BW93,0)","v":0},{"$f":"IF(EP$5=TRUE,BX93,0)","v":0},{"$f":"IF(EQ$5=TRUE,BY93,0)","v":0},{"$f":"IF(ER$5=TRUE,BZ93,0)","v":0},null,0,1,{"$f":"ET93*EU93*EY93","v":0},null,null,0]
[6,1,5,null,"Q:","Organic Matter Depletion (Range)",null,"Guidance","Additional Guidance","List PLU's",null,null,null,null,null,null,null,1,null,null,null,null,null,null,null,null,1,null,null,null,null,null,null,null,null,null,null,null,null,null,null,null,null,null,null,null,null,null,null,null,null,null,null,null,null,null,null,null,null,null,1,null,null,null,null,null,null,null,null,null,null,null,null,null,null,null,null,null,null,0,0,0,0,0,0,0,0,0,0,0,0,0,0,0,0,0,{"$f":"IF(CS$5=\"TRUE\",AA94,0)","v":0},{"$f":"IF(CT$5=TRUE,AB94,0)","v":0},{"$f":"IF(CU$5=TRUE,AC94,0)","v":0},{"$f":"IF(CV$5=TRUE,AD94,0)","v":0},{"$f":"IF(CW$5=TRUE,AE94,0)","v":0},{"$f":"IF(CX$5=TRUE,AF94,0)","v":0},{"$f":"IF(CY$5=TRUE,AG94,0)","v":0},{"$f":"IF(CZ$5=TRUE,AH94,0)","v":0},{"$f":"IF(DA$5=TRUE,AI94,0)","v":0},{"$f":"IF(DB$5=TRUE,AJ94,0)","v":0},{"$f":"IF(DC$5=TRUE,AK94,0)","v":0},{"$f":"IF(DD$5=TRUE,AL94,0)","v":0},{"$f":"IF(DE$5=TRUE,AM94,0)","v":0},{"$f":"IF(DF$5=TRUE,AN94,0)","v":0},{"$f":"IF(DG$5=TRUE,AO94,0)","v":0},{"$f":"IF(DH$5=TRUE,AP94,0)","v":0},{"$f":"IF(DI$5=TRUE,AQ94,0)","v":0},{"$f":"IF(DJ$5=TRUE,AR94,0)","v":0},{"$f":"IF(DK$5=TRUE,AS94,0)","v":0},{"$f":"IF(DL$5=TRUE,AT94,0)","v":0},{"$f":"IF(DM$5=TRUE,AU94,0)","v":0},{"$f":"IF(DN$5=TRUE,AV94,0)","v":0},{"$f":"IF(DO$5=TRUE,AW94,0)","v":0},{"$f":"IF(DP$5=TRUE,AX94,0)","v":0},{"$f":"IF(DQ$5=TRUE,AY94,0)","v":0},{"$f":"IF(DR$5=TRUE,AZ94,0)","v":0},{"$f":"IF(DS$5=TRUE,BA94,0)","v":0},{"$f":"IF(DT$5=TRUE,BB94,0)","v":0},{"$f":"IF(DU$5=TRUE,BC94,0)","v":0},{"$f":"IF(DV$5=TRUE,BD94,0)","v":0},{"$f":"IF(DW$5=TRUE,BE94,0)","v":0},{"$f":"IF(DX$5=TRUE,BF94,0)","v":0},{"$f":"IF(DY$5=TRUE,BG94,0)","v":0},{"$f":"IF(DZ$5=TRUE,BH94,0)","v":0},{"$f":"IF(EA$5=TRUE,BI94,0)","v":0},{"$f":"IF(EB$5=TRUE,BJ94,0)","v":0},{"$f":"IF(EC$5=TRUE,BK94,0)","v":0},{"$f":"IF(ED$5=TRUE,BL94,0)","v":0},{"$f":"IF(EE$5=TRUE,BM94,0)","v":0},{"$f":"IF(EF$5=TRUE,BN94,0)","v":0},{"$f":"IF(EG$5=TRUE,BO94,0)","v":0},{"$f":"IF(EH$5=TRUE,BP94,0)","v":0},{"$f":"IF(EI$5=TRUE,BQ94,0)","v":0},{"$f":"IF(EJ$5=TRUE,BR94,0)","v":0},{"$f":"IF(EK$5=TRUE,BS94,0)","v":0},{"$f":"IF(EL$5=TRUE,BT94,0)","v":0},{"$f":"IF(EM$5=TRUE,BU94,0)","v":0},{"$f":"IF(EN$5=TRUE,BV94,0)","v":0},{"$f":"IF(EO$5=TRUE,BW94,0)","v":0},{"$f":"IF(EP$5=TRUE,BX94,0)","v":0},{"$f":"IF(EQ$5=TRUE,BY94,0)","v":0},{"$f":"IF(ER$5=TRUE,BZ94,0)","v":0},null,0,1,{"$f":"ET94*EU94*EY94","v":0},null,null,0]
[6,3,5,null,null,null,"None - Extensively Depleted Soil Organic Matter","N/A In Iowa",null,null,null,null,null,null,null,null,null,1,null,null,null,null,null,null,null,null,1,null,null,null,null,null,null,null,null,null,null,null,null,null,null,null,null,null,null,null,null,null,null,null,null,null,null,null,null,null,null,null,null,null,1,null,null,null,null,null,null,null,null,null,null,null,null,null,null,null,null,null,null,0,0,0,0,0,0,0,0,0,0,0,0,0,0,0,0,0,0,0,0,0,0,0,0,0,0,0,0,0,0,0,0,0,0,0,0,0,0,0,0,0,0,0,0,0,0,0,0,0,0,0,0,0,0,0,0,0,0,0,0,0,0,0,0,0,0,0,0,0,null,0,1,0,null,null,0]
[6,4,5,null,null,null,"Low - Degraded Soil Organic Matter","N/A In Iowa",null,null,null,null,null,null,null,null,null,1,null,null,null,null,null,null,null,null,1,null,null,null,null,null,null,null,null,null,null,null,null,null,null,null,null,null,null,null,null,null,null,null,null,null,null,null,null,null,null,null,null,null,1,null,null,null,null,null,null,null,null,null,null,null,null,null,null,null,null,null,null,0,0,0,0,0,0,0,0,0,0,0,0,0,0,0,0,0,0,0,0,0,0,0,0,0,0,0,0,0,0,0,0,0,0,0,0,0,0,0,0,0,0,0,0,0,0,0,0,0,0,0,0,0,0,0,0,0,0,0,0,0,0,0,0,0,0,0,0,0,null,0,1,0,null,null,0]
[6,5,5,null,null,null,"Moderate - Reduced Levels of Soil Organic Matter","N/A In Iowa",null,null,null,null,null,null,null,null,null,1,null,null,null,null,null,null,null,null,1,null,null,null,null,null,null,null,null,null,null,null,null,null,null,null,null,null,null,null,null,null,null,null,null,null,null,null,null,null,null,null,null,null,1,null,null,null,null,null,null,null,null,null,null,null,null,null,null,null,null,null,null,0,0,0,0,0,0,0,0,0,0,0,0,0,0,0,0,0,0,0,0,0,0,0,0,0,0,0,0,0,0,0,0,0,0,0,0,0,0,0,0,0,0,0,0,0,0,0,0,0,0,0,0,0,0,0,0,0,0,0,0,0,0,0,0,0,0,0,0,0,null,0,1,0,null,null,0]
[6,5,5,null,null,null,"High - Soil Organic Matter is at or Exceeds Potential for the Site","N/A In Iowa",null,null,null,null,null,null,null,null,null,1,null,null,null,null,null,null,null,null,1,null,null,null,null,null,null,null,null,null,null,null,null,null,null,null,null,null,null,null,null,null,null,null,null,null,null,null,null,null,null,null,null,null,1,null,null,null,null,null,null,null,null,null,null,null,null,null,null,null,null,null,null,0,0,0,0,0,0,0,0,0,0,0,0,0,0,0,0,0,{"$f":"IF(CS$5=\"TRUE\",AA98,0)","v":0},{"$f":"IF(CT$5=TRUE,AB98,0)","v":0},{"$f":"IF(CU$5=TRUE,AC98,0)","v":0},{"$f":"IF(CV$5=TRUE,AD98,0)","v":0},{"$f":"IF(CW$5=TRUE,AE98,0)","v":0},{"$f":"IF(CX$5=TRUE,AF98,0)","v":0},{"$f":"IF(CY$5=TRUE,AG98,0)","v":0},{"$f":"IF(CZ$5=TRUE,AH98,0)","v":0},{"$f":"IF(DA$5=TRUE,AI98,0)","v":0},{"$f":"IF(DB$5=TRUE,AJ98,0)","v":0},{"$f":"IF(DC$5=TRUE,AK98,0)","v":0},{"$f":"IF(DD$5=TRUE,AL98,0)","v":0},{"$f":"IF(DE$5=TRUE,AM98,0)","v":0},{"$f":"IF(DF$5=TRUE,AN98,0)","v":0},{"$f":"IF(DG$5=TRUE,AO98,0)","v":0},{"$f":"IF(DH$5=TRUE,AP98,0)","v":0},{"$f":"IF(DI$5=TRUE,AQ98,0)","v":0},{"$f":"IF(DJ$5=TRUE,AR98,0)","v":0},{"$f":"IF(DK$5=TRUE,AS98,0)","v":0},{"$f":"IF(DL$5=TRUE,AT98,0)","v":0},{"$f":"IF(DM$5=TRUE,AU98,0)","v":0},{"$f":"IF(DN$5=TRUE,AV98,0)","v":0},{"$f":"IF(DO$5=TRUE,AW98,0)","v":0},{"$f":"IF(DP$5=TRUE,AX98,0)","v":0},{"$f":"IF(DQ$5=TRUE,AY98,0)","v":0},{"$f":"IF(DR$5=TRUE,AZ98,0)","v":0},{"$f":"IF(DS$5=TRUE,BA98,0)","v":0},{"$f":"IF(DT$5=TRUE,BB98,0)","v":0},{"$f":"IF(DU$5=TRUE,BC98,0)","v":0},{"$f":"IF(DV$5=TRUE,BD98,0)","v":0},{"$f":"IF(DW$5=TRUE,BE98,0)","v":0},{"$f":"IF(DX$5=TRUE,BF98,0)","v":0},{"$f":"IF(DY$5=TRUE,BG98,0)","v":0},{"$f":"IF(DZ$5=TRUE,BH98,0)","v":0},{"$f":"IF(EA$5=TRUE,BI98,0)","v":0},{"$f":"IF(EB$5=TRUE,BJ98,0)","v":0},{"$f":"IF(EC$5=TRUE,BK98,0)","v":0},{"$f":"IF(ED$5=TRUE,BL98,0)","v":0},{"$f":"IF(EE$5=TRUE,BM98,0)","v":0},{"$f":"IF(EF$5=TRUE,BN98,0)","v":0},{"$f":"IF(EG$5=TRUE,BO98,0)","v":0},{"$f":"IF(EH$5=TRUE,BP98,0)","v":0},{"$f":"IF(EI$5=TRUE,BQ98,0)","v":0},{"$f":"IF(EJ$5=TRUE,BR98,0)","v":0},{"$f":"IF(EK$5=TRUE,BS98,0)","v":0},{"$f":"IF(EL$5=TRUE,BT98,0)","v":0},{"$f":"IF(EM$5=TRUE,BU98,0)","v":0},{"$f":"IF(EN$5=TRUE,BV98,0)","v":0},{"$f":"IF(EO$5=TRUE,BW98,0)","v":0},{"$f":"IF(EP$5=TRUE,BX98,0)","v":0},{"$f":"IF(EQ$5=TRUE,BY98,0)","v":0},{"$f":"IF(ER$5=TRUE,BZ98,0)","v":0},null,0,1,{"$f":"ET98*EU98*EY98","v":0},null,null,0]
[6,1,0,null,"Q:","Organic Matter Depletion (Pasture)",null,"Guidance","Documentation: (e.g. field notes, client interview responses, justification)",null,null,null,null,null,1,null,null,null,null,null,null,null,null,null,null,null,1,null,null,null,null,null,null,null,null,null,null,null,null,null,null,null,null,null,null,null,null,null,null,null,null,null,null,null,null,null,null,null,null,null,1,null,null,null,null,null,null,null,null,null,null,null,null,null,null,null,null,null,null,0,0,0,0,0,0,0,0,0,0,0,0,0,0,0,0,0,{"$f":"IF(CS$5=\"TRUE\",AA99,0)","v":0},{"$f":"IF(CT$5=TRUE,AB99,0)","v":0},{"$f":"IF(CU$5=TRUE,AC99,0)","v":0},{"$f":"IF(CV$5=TRUE,AD99,0)","v":0},{"$f":"IF(CW$5=TRUE,AE99,0)","v":0},{"$f":"IF(CX$5=TRUE,AF99,0)","v":0},{"$f":"IF(CY$5=TRUE,AG99,0)","v":0},{"$f":"IF(CZ$5=TRUE,AH99,0)","v":0},{"$f":"IF(DA$5=TRUE,AI99,0)","v":0},{"$f":"IF(DB$5=TRUE,AJ99,0)","v":0},{"$f":"IF(DC$5=TRUE,AK99,0)","v":0},{"$f":"IF(DD$5=TRUE,AL99,0)","v":0},{"$f":"IF(DE$5=TRUE,AM99,0)","v":0},{"$f":"IF(DF$5=TRUE,AN99,0)","v":0},{"$f":"IF(DG$5=TRUE,AO99,0)","v":0},{"$f":"IF(DH$5=TRUE,AP99,0)","v":0},{"$f":"IF(DI$5=TRUE,AQ99,0)","v":0},{"$f":"IF(DJ$5=TRUE,AR99,0)","v":0},{"$f":"IF(DK$5=TRUE,AS99,0)","v":0},{"$f":"IF(DL$5=TRUE,AT99,0)","v":0},{"$f":"IF(DM$5=TRUE,AU99,0)","v":0},{"$f":"IF(DN$5=TRUE,AV99,0)","v":0},{"$f":"IF(DO$5=TRUE,AW99,0)","v":0},{"$f":"IF(DP$5=TRUE,AX99,0)","v":0},{"$f":"IF(DQ$5=TRUE,AY99,0)","v":0},{"$f":"IF(DR$5=TRUE,AZ99,0)","v":0},{"$f":"IF(DS$5=TRUE,BA99,0)","v":0},{"$f":"IF(DT$5=TRUE,BB99,0)","v":0},{"$f":"IF(DU$5=TRUE,BC99,0)","v":0},{"$f":"IF(DV$5=TRUE,BD99,0)","v":0},{"$f":"IF(DW$5=TRUE,BE99,0)","v":0},{"$f":"IF(DX$5=TRUE,BF99,0)","v":0},{"$f":"IF(DY$5=TRUE,BG99,0)","v":0},{"$f":"IF(DZ$5=TRUE,BH99,0)","v":0},{"$f":"IF(EA$5=TRUE,BI99,0)","v":0},{"$f":"IF(EB$5=TRUE,BJ99,0)","v":0},{"$f":"IF(EC$5=TRUE,BK99,0)","v":0},{"$f":"IF(ED$5=TRUE,BL99,0)","v":0},{"$f":"IF(EE$5=TRUE,BM99,0)","v":0},{"$f":"IF(EF$5=TRUE,BN99,0)","v":0},{"$f":"IF(EG$5=TRUE,BO99,0)","v":0},{"$f":"IF(EH$5=TRUE,BP99,0)","v":0},{"$f":"IF(EI$5=TRUE,BQ99,0)","v":0},{"$f":"IF(EJ$5=TRUE,BR99,0)","v":0},{"$f":"IF(EK$5=TRUE,BS99,0)","v":0},{"$f":"IF(EL$5=TRUE,BT99,0)","v":0},{"$f":"IF(EM$5=TRUE,BU99,0)","v":0},{"$f":"IF(EN$5=TRUE,BV99,0)","v":0},{"$f":"IF(EO$5=TRUE,BW99,0)","v":0},{"$f":"IF(EP$5=TRUE,BX99,0)","v":0},{"$f":"IF(EQ$5=TRUE,BY99,0)","v":0},{"$f":"IF(ER$5=TRUE,BZ99,0)","v":0},null,0,1,{"$f":"ET99*EU99*EY99","v":0},null,null,0]
[6,3,0,null,null,null,"None - Extensively Depleted Soil Organic Matter","PCS -Lowest score is 1 of:\nLive or Dormant Plant Cover, Plant Residue and Litter as Soil Cover, and Plant Diversity by Dry Weight",null,null,null,null,null,null,1,null,null,null,null,null,null,null,null,null,null,null,1,null,null,null,null,null,null,null,null,null,null,null,null,null,null,null,null,null,null,null,null,null,null,null,null,null,null,null,null,null,null,null,null,null,1,null,null,null,null,null,null,null,null,null,null,null,null,null,null,null,null,null,null,0,0,0,0,0,0,0,0,0,0,0,0,0,0,0,0,0,0,0,0,0,0,0,0,0,0,0,0,0,0,0,0,0,0,0,0,0,0,0,0,0,0,0,0,0,0,0,0,0,0,0,0,0,0,0,0,0,0,0,0,0,0,0,0,0,0,0,0,0,null,0,1,0,null,null,0]
[6,4,0,null,null,null,"\nLow - Degraded Soil Organic Matter\n","Overgrazed Pasture\nOR\nPCS -Lowest score is 2 of:\nLive or Dormant Plant Cover, Plant Residue and Litter as Soil Cover, and Plant Diversity by Dry Weight",null,null,null,null,null,null,1,null,null,null,null,null,null,null,null,null,null,null,1,null,null,null,null,null,null,null,null,null,null,null,null,null,null,null,null,null,null,null,null,null,null,null,null,null,null,null,null,null,null,null,null,null,1,null,null,null,null,null,null,null,null,null,null,null,null,null,null,null,null,null,null,0,0,0,0,0,0,0,0,0,0,0,0,0,0,0,0,0,0,0,0,0,0,0,0,0,0,0,0,0,0,0,0,0,0,0,0,0,0,0,0,0,0,0,0,0,0,0,0,0,0,0,0,0,0,0,0,0,0,0,0,0,0,0,0,0,0,0,0,0,null,0,1,0,null,null,0]
[6,5,0,null,null,null,"\nModerate - Reduced Levels of Soil Organic Matter\n","PCS -Lowest score is 3 of:\nLive or Dormant Plant Cover, Plant Residue and Litter as Soil Cover, and Plant Diversity by Dry Weight",null,null,null,null,null,null,1,null,null,null,null,null,null,null,null,null,null,null,1,null,null,null,null,null,null,null,null,null,null,null,null,null,null,null,null,null,null,null,null,null,null,null,null,null,null,null,null,null,null,null,null,null,1,null,null,null,null,null,null,null,null,null,null,null,null,null,null,null,null,null,null,0,0,0,0,0,0,0,0,0,0,0,0,0,0,0,0,0,0,0,0,0,0,0,0,0,0,0,0,0,0,0,0,0,0,0,0,0,0,0,0,0,0,0,0,0,0,0,0,0,0,0,0,0,0,0,0,0,0,0,0,0,0,0,0,0,0,0,0,0,null,0,1,0,null,null,0]
[6,5,0,null,null,null,"\nHigh - Soil Organic Matter is at or Exceeds Potential for the Site\n","PCS - Lowest score is 4 of: \nLive or Dormant Plant Cover, Plant Residue and Litter as Soil Cover, and Plant Diversity by Dry Weight",null,null,null,null,null,null,1,null,null,null,null,null,null,null,null,null,null,null,1,null,null,null,null,null,null,null,null,null,null,null,null,null,null,null,null,null,null,null,null,null,null,null,null,null,null,null,null,null,null,null,null,null,1,null,null,null,null,null,null,null,null,null,null,null,null,null,null,null,null,null,null,0,0,0,0,0,0,0,0,0,0,0,0,0,0,0,0,0,{"$f":"IF(CS$5=\"TRUE\",AA103,0)","v":0},{"$f":"IF(CT$5=TRUE,AB103,0)","v":0},{"$f":"IF(CU$5=TRUE,AC103,0)","v":0},{"$f":"IF(CV$5=TRUE,AD103,0)","v":0},{"$f":"IF(CW$5=TRUE,AE103,0)","v":0},{"$f":"IF(CX$5=TRUE,AF103,0)","v":0},{"$f":"IF(CY$5=TRUE,AG103,0)","v":0},{"$f":"IF(CZ$5=TRUE,AH103,0)","v":0},{"$f":"IF(DA$5=TRUE,AI103,0)","v":0},{"$f":"IF(DB$5=TRUE,AJ103,0)","v":0},{"$f":"IF(DC$5=TRUE,AK103,0)","v":0},{"$f":"IF(DD$5=TRUE,AL103,0)","v":0},{"$f":"IF(DE$5=TRUE,AM103,0)","v":0},{"$f":"IF(DF$5=TRUE,AN103,0)","v":0},{"$f":"IF(DG$5=TRUE,AO103,0)","v":0},{"$f":"IF(DH$5=TRUE,AP103,0)","v":0},{"$f":"IF(DI$5=TRUE,AQ103,0)","v":0},{"$f":"IF(DJ$5=TRUE,AR103,0)","v":0},{"$f":"IF(DK$5=TRUE,AS103,0)","v":0},{"$f":"IF(DL$5=TRUE,AT103,0)","v":0},{"$f":"IF(DM$5=TRUE,AU103,0)","v":0},{"$f":"IF(DN$5=TRUE,AV103,0)","v":0},{"$f":"IF(DO$5=TRUE,AW103,0)","v":0},{"$f":"IF(DP$5=TRUE,AX103,0)","v":0},{"$f":"IF(DQ$5=TRUE,AY103,0)","v":0},{"$f":"IF(DR$5=TRUE,AZ103,0)","v":0},{"$f":"IF(DS$5=TRUE,BA103,0)","v":0},{"$f":"IF(DT$5=TRUE,BB103,0)","v":0},{"$f":"IF(DU$5=TRUE,BC103,0)","v":0},{"$f":"IF(DV$5=TRUE,BD103,0)","v":0},{"$f":"IF(DW$5=TRUE,BE103,0)","v":0},{"$f":"IF(DX$5=TRUE,BF103,0)","v":0},{"$f":"IF(DY$5=TRUE,BG103,0)","v":0},{"$f":"IF(DZ$5=TRUE,BH103,0)","v":0},{"$f":"IF(EA$5=TRUE,BI103,0)","v":0},{"$f":"IF(EB$5=TRUE,BJ103,0)","v":0},{"$f":"IF(EC$5=TRUE,BK103,0)","v":0},{"$f":"IF(ED$5=TRUE,BL103,0)","v":0},{"$f":"IF(EE$5=TRUE,BM103,0)","v":0},{"$f":"IF(EF$5=TRUE,BN103,0)","v":0},{"$f":"IF(EG$5=TRUE,BO103,0)","v":0},{"$f":"IF(EH$5=TRUE,BP103,0)","v":0},{"$f":"IF(EI$5=TRUE,BQ103,0)","v":0},{"$f":"IF(EJ$5=TRUE,BR103,0)","v":0},{"$f":"IF(EK$5=TRUE,BS103,0)","v":0},{"$f":"IF(EL$5=TRUE,BT103,0)","v":0},{"$f":"IF(EM$5=TRUE,BU103,0)","v":0},{"$f":"IF(EN$5=TRUE,BV103,0)","v":0},{"$f":"IF(EO$5=TRUE,BW103,0)","v":0},{"$f":"IF(EP$5=TRUE,BX103,0)","v":0},{"$f":"IF(EQ$5=TRUE,BY103,0)","v":0},{"$f":"IF(ER$5=TRUE,BZ103,0)","v":0},null,0,1,{"$f":"ET103*EU103*EY103","v":0},null,null,0]
[6,1,5,null,"Q:","Suitability for Aerobic Soil Organisms (Webservice)",null,"Depending on results, the following question(s) need to be answered:",null,"List PLU's",1,1,1,1,1,1,1,1,null,null,null,null,null,null,null,null,1,null,null,null,null,null,null,null,null,null,null,null,null,null,null,null,null,null,null,null,null,null,null,null,null,null,null,null,null,null,null,null,null,null,null,1,null,null,null,null,null,null,null,null,null,null,null,null,null,null,null,null,null,0,0,0,0,0,0,0,0,0,0,0,0,0,0,0,0,0,0,0,0,0,0,0,0,0,0,0,0,0,0,0,0,0,0,0,0,0,0,0,0,0,0,0,0,0,0,0,0,0,0,0,0,0,0,0,0,0,0,0,0,0,0,0,0,0,0,0,0,0,null,0,1,0,null,null,{"$f":"MAX(CR104:ER104)","v":0}]
[6,1,0,null,"Q:","Soil organism habitat loss or degradation (Cropland)",null,"Guidance\nThe NRCS Cropland In-Field Soil Health Assessment (IFSHA) Worksheet can be helpful to evaluate this Resource Concern Component.  IFSHA indicates seven indicators are significant for Soil Organism Habitat Loss or Degradation:\n•\tSoil Cover\n•\tResidue Breakdown\n•\tSoil Structure\n•\tPlant roots\n•\tBiological Diversity\n•\tBiopores\n•\tWater Stable Aggregates\n\nIf IFSHA cannot be completed due to weather, consult Area Soil Health Specialist and/or ARC.",null,null,1,1,null,null,null,null,null,null,null,null,null,null,null,null,null,null,1,null,null,null,null,null,null,null,null,null,null,null,null,null,null,null,null,null,null,null,null,null,null,null,null,null,null,null,null,null,null,null,null,null,null,1,null,null,null,null,null,null,null,null,null,null,null,null,null,null,null,null,null,0,0,0,0,0,0,0,0,0,0,0,0,0,0,0,0,0,0,0,0,0,0,0,0,0,0,0,0,0,0,0,0,0,0,0,0,0,0,0,0,0,0,0,0,0,0,0,0,0,0,0,0,0,0,0,0,0,0,0,0,0,0,0,0,0,0,0,0,0,null,0,1,0,null,null,0]
[6,3,0,null,null,null,"None - Extensively Depleted Soil Organism Habitat","Full width tillage is used every year in the rotation.\nOR\nIFSHA 2 or fewer of the In-Field Soil Health Assessment indicators listed above meet the assessment criteria.",null,null,1,1,null,null,null,null,null,null,null,null,null,null,null,null,null,null,1,null,null,null,null,null,null,null,null,null,null,null,null,null,null,null,null,null,null,null,null,null,null,null,null,null,null,null,null,null,null,null,null,null,null,1,null,null,null,null,null,null,null,null,null,null,null,null,null,null,null,null,null,0,0,0,0,0,0,0,0,0,0,0,0,0,0,0,0,0,0,0,0,0,0,0,0,0,0,0,0,0,0,0,0,0,0,0,0,0,0,0,0,0,0,0,0,0,0,0,0,0,0,0,0,0,0,0,0,0,0,0,0,0,0,0,0,0,0,0,0,0,null,0,1,0,null,null,0]
[6,4,0,null,null,null,"Low - Degraded Soil Organism Habitat","Full width tillage is used within the rotation with some years of no-till/strip-till.\nOR\nIFSHA 3 or 4 of the In-Field Soil Health Assessment indicators listed above meet the assessment criteria.",null,null,1,1,null,null,null,null,null,null,null,null,null,null,null,null,null,null,1,null,null,null,null,null,null,null,null,null,null,null,null,null,null,null,null,null,null,null,null,null,null,null,null,null,null,null,null,null,null,null,null,null,null,1,null,null,null,null,null,null,null,null,null,null,null,null,null,null,null,null,null,0,0,0,0,0,0,0,0,0,0,0,0,0,0,0,0,0,0,0,0,0,0,0,0,0,0,0,0,0,0,0,0,0,0,0,0,0,0,0,0,0,0,0,0,0,0,0,0,0,0,0,0,0,0,0,0,0,0,0,0,0,0,0,0,0,0,0,0,0,null,0,1,0,null,null,0]
[6,5,0,null,null,null,"Moderate - Diminished Soil Organism Habitat","IFSHA 5 or 6 of the In-Field Soil Health Assessment indicators listed above meet the assessment criteria.",null,null,1,1,null,null,null,null,null,null,null,null,null,null,null,null,null,null,1,null,null,null,null,null,null,null,null,null,null,null,null,null,null,null,null,null,null,null,null,null,null,null,null,null,null,null,null,null,null,null,null,null,null,1,null,null,null,null,null,null,null,null,null,null,null,null,null,null,null,null,null,0,0,0,0,0,0,0,0,0,0,0,0,0,0,0,0,0,0,0,0,0,0,0,0,0,0,0,0,0,0,0,0,0,0,0,0,0,0,0,0,0,0,0,0,0,0,0,0,0,0,0,0,0,0,0,0,0,0,0,0,0,0,0,0,0,0,0,0,0,null,0,1,0,null,null,0]
[6,5,0,null,null,null,"High - Soil Organism Habitat Extensive and contains all required components","IFSHA all 7 of the In-Field Soil Health Assessment indicators listed above meet the assessment criteria.\n",null,null,1,1,null,null,null,null,null,null,null,null,null,null,null,null,null,null,1,null,null,null,null,null,null,null,null,null,null,null,null,null,null,null,null,null,null,null,null,null,null,null,null,null,null,null,null,null,null,null,null,null,null,1,null,null,null,null,null,null,null,null,null,null,null,null,null,null,null,null,null,0,0,0,0,0,0,0,0,0,0,0,0,0,0,0,0,0,0,0,0,0,0,0,0,0,0,0,0,0,0,0,0,0,0,0,0,0,0,0,0,0,0,0,0,0,0,0,0,0,0,0,0,0,0,0,0,0,0,0,0,0,0,0,0,0,0,0,0,0,null,0,1,0,null,null,0]
[6,1,0,null,"Q:","Soil organism habitat loss or degradation (Forest,  Assoc Ag Land, Developed Land, Other Rural Land)",null,"Guidance\nA planner may also determine if the use of assessment methods for Cropland or Pasture are better suited to the site’s current conditions.","Documentation: (e.g. field notes, client interview responses, justification)",null,null,null,1,1,null,1,1,null,null,null,null,null,null,null,null,null,1,null,null,null,null,null,null,null,null,null,null,null,null,null,null,null,null,null,null,null,null,null,null,null,null,null,null,null,null,null,null,null,null,null,null,1,null,null,null,null,null,null,null,null,null,null,null,null,null,null,null,null,null,0,0,0,0,0,0,0,0,0,0,0,0,0,0,0,0,0,{"$f":"IF(CS$5=\"TRUE\",AA110,0)","v":0},{"$f":"IF(CT$5=TRUE,AB110,0)","v":0},{"$f":"IF(CU$5=TRUE,AC110,0)","v":0},{"$f":"IF(CV$5=TRUE,AD110,0)","v":0},{"$f":"IF(CW$5=TRUE,AE110,0)","v":0},{"$f":"IF(CX$5=TRUE,AF110,0)","v":0},{"$f":"IF(CY$5=TRUE,AG110,0)","v":0},{"$f":"IF(CZ$5=TRUE,AH110,0)","v":0},{"$f":"IF(DA$5=TRUE,AI110,0)","v":0},{"$f":"IF(DB$5=TRUE,AJ110,0)","v":0},{"$f":"IF(DC$5=TRUE,AK110,0)","v":0},{"$f":"IF(DD$5=TRUE,AL110,0)","v":0},{"$f":"IF(DE$5=TRUE,AM110,0)","v":0},{"$f":"IF(DF$5=TRUE,AN110,0)","v":0},{"$f":"IF(DG$5=TRUE,AO110,0)","v":0},{"$f":"IF(DH$5=TRUE,AP110,0)","v":0},{"$f":"IF(DI$5=TRUE,AQ110,0)","v":0},{"$f":"IF(DJ$5=TRUE,AR110,0)","v":0},{"$f":"IF(DK$5=TRUE,AS110,0)","v":0},{"$f":"IF(DL$5=TRUE,AT110,0)","v":0},{"$f":"IF(DM$5=TRUE,AU110,0)","v":0},{"$f":"IF(DN$5=TRUE,AV110,0)","v":0},{"$f":"IF(DO$5=TRUE,AW110,0)","v":0},{"$f":"IF(DP$5=TRUE,AX110,0)","v":0},{"$f":"IF(DQ$5=TRUE,AY110,0)","v":0},{"$f":"IF(DR$5=TRUE,AZ110,0)","v":0},{"$f":"IF(DS$5=TRUE,BA110,0)","v":0},{"$f":"IF(DT$5=TRUE,BB110,0)","v":0},{"$f":"IF(DU$5=TRUE,BC110,0)","v":0},{"$f":"IF(DV$5=TRUE,BD110,0)","v":0},{"$f":"IF(DW$5=TRUE,BE110,0)","v":0},{"$f":"IF(DX$5=TRUE,BF110,0)","v":0},{"$f":"IF(DY$5=TRUE,BG110,0)","v":0},{"$f":"IF(DZ$5=TRUE,BH110,0)","v":0},{"$f":"IF(EA$5=TRUE,BI110,0)","v":0},{"$f":"IF(EB$5=TRUE,BJ110,0)","v":0},{"$f":"IF(EC$5=TRUE,BK110,0)","v":0},{"$f":"IF(ED$5=TRUE,BL110,0)","v":0},{"$f":"IF(EE$5=TRUE,BM110,0)","v":0},{"$f":"IF(EF$5=TRUE,BN110,0)","v":0},{"$f":"IF(EG$5=TRUE,BO110,0)","v":0},{"$f":"IF(EH$5=TRUE,BP110,0)","v":0},{"$f":"IF(EI$5=TRUE,BQ110,0)","v":0},{"$f":"IF(EJ$5=TRUE,BR110,0)","v":0},{"$f":"IF(EK$5=TRUE,BS110,0)","v":0},{"$f":"IF(EL$5=TRUE,BT110,0)","v":0},{"$f":"IF(EM$5=TRUE,BU110,0)","v":0},{"$f":"IF(EN$5=TRUE,BV110,0)","v":0},{"$f":"IF(EO$5=TRUE,BW110,0)","v":0},{"$f":"IF(EP$5=TRUE,BX110,0)","v":0},{"$f":"IF(EQ$5=TRUE,BY110,0)","v":0},{"$f":"IF(ER$5=TRUE,BZ110,0)","v":0},null,0,1,{"$f":"ET110*EU110*EY110","v":0},null,null,0]
[6,2,0,null,null,null,"None - Extensively Depleted Soil Organism Habitat","-\tLiving vegetation is absent or very sparse.\n-\tPlant litter, and woody debris are absent or very sparse. ",null,null,null,null,1,1,null,1,1,null,null,null,null,null,null,null,null,null,1,null,null,null,null,null,null,null,null,null,null,null,null,null,null,null,null,null,null,null,null,null,null,null,null,null,null,null,null,null,null,null,null,null,null,1,null,null,null,null,null,null,null,null,null,null,null,null,null,null,null,null,null,0,0,0,0,0,0,0,0,0,0,0,0,0,0,0,0,0,{"$f":"IF(CS$5=\"TRUE\",AA111,0)","v":0},{"$f":"IF(CT$5=TRUE,AB111,0)","v":0},{"$f":"IF(CU$5=TRUE,AC111,0)","v":0},{"$f":"IF(CV$5=TRUE,AD111,0)","v":0},{"$f":"IF(CW$5=TRUE,AE111,0)","v":0},{"$f":"IF(CX$5=TRUE,AF111,0)","v":0},{"$f":"IF(CY$5=TRUE,AG111,0)","v":0},{"$f":"IF(CZ$5=TRUE,AH111,0)","v":0},{"$f":"IF(DA$5=TRUE,AI111,0)","v":0},{"$f":"IF(DB$5=TRUE,AJ111,0)","v":0},{"$f":"IF(DC$5=TRUE,AK111,0)","v":0},{"$f":"IF(DD$5=TRUE,AL111,0)","v":0},{"$f":"IF(DE$5=TRUE,AM111,0)","v":0},{"$f":"IF(DF$5=TRUE,AN111,0)","v":0},{"$f":"IF(DG$5=TRUE,AO111,0)","v":0},{"$f":"IF(DH$5=TRUE,AP111,0)","v":0},{"$f":"IF(DI$5=TRUE,AQ111,0)","v":0},{"$f":"IF(DJ$5=TRUE,AR111,0)","v":0},{"$f":"IF(DK$5=TRUE,AS111,0)","v":0},{"$f":"IF(DL$5=TRUE,AT111,0)","v":0},{"$f":"IF(DM$5=TRUE,AU111,0)","v":0},{"$f":"IF(DN$5=TRUE,AV111,0)","v":0},{"$f":"IF(DO$5=TRUE,AW111,0)","v":0},{"$f":"IF(DP$5=TRUE,AX111,0)","v":0},{"$f":"IF(DQ$5=TRUE,AY111,0)","v":0},{"$f":"IF(DR$5=TRUE,AZ111,0)","v":0},{"$f":"IF(DS$5=TRUE,BA111,0)","v":0},{"$f":"IF(DT$5=TRUE,BB111,0)","v":0},{"$f":"IF(DU$5=TRUE,BC111,0)","v":0},{"$f":"IF(DV$5=TRUE,BD111,0)","v":0},{"$f":"IF(DW$5=TRUE,BE111,0)","v":0},{"$f":"IF(DX$5=TRUE,BF111,0)","v":0},{"$f":"IF(DY$5=TRUE,BG111,0)","v":0},{"$f":"IF(DZ$5=TRUE,BH111,0)","v":0},{"$f":"IF(EA$5=TRUE,BI111,0)","v":0},{"$f":"IF(EB$5=TRUE,BJ111,0)","v":0},{"$f":"IF(EC$5=TRUE,BK111,0)","v":0},{"$f":"IF(ED$5=TRUE,BL111,0)","v":0},{"$f":"IF(EE$5=TRUE,BM111,0)","v":0},{"$f":"IF(EF$5=TRUE,BN111,0)","v":0},{"$f":"IF(EG$5=TRUE,BO111,0)","v":0},{"$f":"IF(EH$5=TRUE,BP111,0)","v":0},{"$f":"IF(EI$5=TRUE,BQ111,0)","v":0},{"$f":"IF(EJ$5=TRUE,BR111,0)","v":0},{"$f":"IF(EK$5=TRUE,BS111,0)","v":0},{"$f":"IF(EL$5=TRUE,BT111,0)","v":0},{"$f":"IF(EM$5=TRUE,BU111,0)","v":0},{"$f":"IF(EN$5=TRUE,BV111,0)","v":0},{"$f":"IF(EO$5=TRUE,BW111,0)","v":0},{"$f":"IF(EP$5=TRUE,BX111,0)","v":0},{"$f":"IF(EQ$5=TRUE,BY111,0)","v":0},{"$f":"IF(ER$5=TRUE,BZ111,0)","v":0},null,0,1,{"$f":"ET111*EU111*EY111","v":0},null,null,0]
[6,2,0,null,null,null,"Low - Degraded Soil Organism Habitat","-\tLiving vegetation is predominantly annuals.  A few perennials may be present. \n-\tPlant litter or woody debris is scattered leaving most of ground surface uncovered. No duff layer is present. ",null,null,null,null,1,1,null,1,1,null,null,null,null,null,null,null,null,null,1,null,null,null,null,null,null,null,null,null,null,null,null,null,null,null,null,null,null,null,null,null,null,null,null,null,null,null,null,null,null,null,null,null,null,1,null,null,null,null,null,null,null,null,null,null,null,null,null,null,null,null,null,0,0,0,0,0,0,0,0,0,0,0,0,0,0,0,0,0,0,0,0,0,0,0,0,0,0,0,0,0,0,0,0,0,0,0,0,0,0,0,0,0,0,0,0,0,0,0,0,0,0,0,0,0,0,0,0,0,0,0,0,0,0,0,0,0,0,0,0,0,null,0,1,0,null,null,0]
[6,3,0,null,null,null,"Moderate - Diminished Soil Organism Habitat","-\tLiving vegetation covers most of the ground surface.\n-\tPlant residue is mostly fragile.  Woody debris is mostly fine.  A thin duff layer may be present. ",null,null,null,null,1,1,null,1,1,null,null,null,null,null,null,null,null,null,1,null,null,null,null,null,null,null,null,null,null,null,null,null,null,null,null,null,null,null,null,null,null,null,null,null,null,null,null,null,null,null,null,null,null,1,null,null,null,null,null,null,null,null,null,null,null,null,null,null,null,null,null,0,0,0,0,0,0,0,0,0,0,0,0,0,0,0,0,0,0,0,0,0,0,0,0,0,0,0,0,0,0,0,0,0,0,0,0,0,0,0,0,0,0,0,0,0,0,0,0,0,0,0,0,0,0,0,0,0,0,0,0,0,0,0,0,0,0,0,0,0,null,0,1,0,null,null,0]
[6,4,0,null,null,null,"High - Soil Organism Habitat Extensive and contains all required components","-\tGround is completely covered by a combination of living vegetation, fragile and non-fragile plant residue, or woody debris.  A duff layer is present. ",null,null,null,null,1,1,null,1,1,null,null,null,null,null,null,null,null,null,1,null,null,null,null,null,null,null,null,null,null,null,null,null,null,null,null,null,null,null,null,null,null,null,null,null,null,null,null,null,null,null,null,null,null,1,null,null,null,null,null,null,null,null,null,null,null,null,null,null,null,null,null,0,0,0,0,0,0,0,0,0,0,0,0,0,0,0,0,0,{"$f":"IF(CS$5=\"TRUE\",AA114,0)","v":0},{"$f":"IF(CT$5=TRUE,AB114,0)","v":0},0,0,0,0,0,0,0,0,0,0,0,0,0,0,0,0,0,0,0,0,0,0,0,0,0,0,0,0,0,0,0,0,0,0,0,0,0,0,0,0,0,0,0,0,0,0,0,0,0,0,null,0,1,{"$f":"ET114*EU114*EY114","v":0},null,null,0]
[6,1,5,null,"Q:","Soil organism habitat loss or degradation (Range)",null,"Guidance","Additional Guidance","List PLU's",null,null,null,null,null,null,null,1,null,null,null,null,null,null,null,null,1,null,null,null,null,null,null,null,null,null,null,null,null,null,null,null,null,null,null,null,null,null,null,null,null,null,null,null,null,null,null,null,null,null,null,1,null,null,null,null,null,null,null,null,null,null,null,null,null,null,null,null,null,0,0,0,0,0,0,0,0,0,0,0,0,0,0,0,0,0,0,0,0,0,0,0,0,0,0,0,0,0,0,0,0,0,0,0,0,0,0,0,0,0,0,0,0,0,0,0,0,0,0,0,0,0,0,0,0,0,0,0,0,0,0,0,0,0,0,0,0,0,null,0,1,0,null,null,0]
[6,3,5,null,null,null,"None - Extensively Depleted Soil Organism Habitat","N/A In Iowa",null,null,null,null,null,null,null,null,null,1,null,null,null,null,null,null,null,null,1,null,null,null,null,null,null,null,null,null,null,null,null,null,null,null,null,null,null,null,null,null,null,null,null,null,null,null,null,null,null,null,null,null,null,1,null,null,null,null,null,null,null,null,null,null,null,null,null,null,null,null,null,0,0,0,0,0,0,0,0,0,0,0,0,0,0,0,0,0,0,0,0,0,0,0,0,0,0,0,0,0,0,0,0,0,0,0,0,0,0,0,0,0,0,0,0,0,0,0,0,0,0,0,0,0,0,0,0,0,0,0,0,0,0,0,0,0,0,0,0,0,null,0,1,0,null,null,0]
[6,4,5,null,null,null,"Low - Degraded Soil Organism Habitat","N/A In Iowa",null,null,null,null,null,null,null,null,null,1,null,null,null,null,null,null,null,null,1,null,null,null,null,null,null,null,null,null,null,null,null,null,null,null,null,null,null,null,null,null,null,null,null,null,null,null,null,null,null,null,null,null,null,1,null,null,null,null,null,null,null,null,null,null,null,null,null,null,null,null,null,0,0,0,0,0,0,0,0,0,0,0,0,0,0,0,0,0,0,0,0,0,0,0,0,0,0,0,0,0,0,0,0,0,0,0,0,0,0,0,0,0,0,0,0,0,0,0,0,0,0,0,0,0,0,0,0,0,0,0,0,0,0,0,0,0,0,0,0,0,null,0,1,0,null,null,0]
[6,5,5,null,null,null,"Moderate - Diminished Soil Organism Habitat","N/A In Iowa",null,null,null,null,null,null,null,null,null,1,null,null,null,null,null,null,null,null,1,null,null,null,null,null,null,null,null,null,null,null,null,null,null,null,null,null,null,null,null,null,null,null,null,null,null,null,null,null,null,null,null,null,null,1,null,null,null,null,null,null,null,null,null,null,null,null,null,null,null,null,null,0,0,0,0,0,0,0,0,0,0,0,0,0,0,0,0,0,0,0,0,0,0,0,0,0,0,0,0,0,0,0,0,0,0,0,0,0,0,0,0,0,0,0,0,0,0,0,0,0,0,0,0,0,0,0,0,0,0,0,0,0,0,0,0,0,0,0,0,0,null,0,1,0,null,null,0]
[6,5,5,null,null,null,"High - Soil Organism Habitat Extensive and contains all required components","N/A In Iowa",null,null,null,null,null,null,null,null,null,1,null,null,null,null,null,null,null,null,1,null,null,null,null,null,null,null,null,null,null,null,null,null,null,null,null,null,null,null,null,null,null,null,null,null,null,null,null,null,null,null,null,null,null,1,null,null,null,null,null,null,null,null,null,null,null,null,null,null,null,null,null,0,0,0,0,0,0,0,0,0,0,0,0,0,0,0,0,0,0,0,0,0,0,0,0,0,0,0,0,0,0,0,0,0,0,0,0,0,0,0,0,0,0,0,0,0,0,0,0,0,0,0,0,0,0,0,0,0,0,0,0,0,0,0,0,0,0,0,0,0,null,0,1,0,null,null,0]
[6,1,0,null,"Q:","Soil organism habitat loss or degradation (Pasture)",null,"Guidance","Documentation: (e.g. field notes, client interview responses, justification)",null,null,null,null,null,1,null,null,null,null,null,null,null,null,null,null,null,1,null,null,null,null,null,null,null,null,null,null,null,null,null,null,null,null,null,null,null,null,null,null,null,null,null,null,null,null,null,null,null,null,null,null,1,null,null,null,null,null,null,null,null,null,null,null,null,null,null,null,null,null,0,0,0,0,0,0,0,0,0,0,0,0,0,0,0,0,0,{"$f":"IF(CS$5=\"TRUE\",AA120,0)","v":0},{"$f":"IF(CT$5=TRUE,AB120,0)","v":0},{"$f":"IF(CU$5=TRUE,AC120,0)","v":0},{"$f":"IF(CV$5=TRUE,AD120,0)","v":0},{"$f":"IF(CW$5=TRUE,AE120,0)","v":0},{"$f":"IF(CX$5=TRUE,AF120,0)","v":0},{"$f":"IF(CY$5=TRUE,AG120,0)","v":0},{"$f":"IF(CZ$5=TRUE,AH120,0)","v":0},{"$f":"IF(DA$5=TRUE,AI120,0)","v":0},{"$f":"IF(DB$5=TRUE,AJ120,0)","v":0},{"$f":"IF(DC$5=TRUE,AK120,0)","v":0},{"$f":"IF(DD$5=TRUE,AL120,0)","v":0},{"$f":"IF(DE$5=TRUE,AM120,0)","v":0},{"$f":"IF(DF$5=TRUE,AN120,0)","v":0},{"$f":"IF(DG$5=TRUE,AO120,0)","v":0},{"$f":"IF(DH$5=TRUE,AP120,0)","v":0},{"$f":"IF(DI$5=TRUE,AQ120,0)","v":0},{"$f":"IF(DJ$5=TRUE,AR120,0)","v":0},{"$f":"IF(DK$5=TRUE,AS120,0)","v":0},{"$f":"IF(DL$5=TRUE,AT120,0)","v":0},{"$f":"IF(DM$5=TRUE,AU120,0)","v":0},{"$f":"IF(DN$5=TRUE,AV120,0)","v":0},{"$f":"IF(DO$5=TRUE,AW120,0)","v":0},{"$f":"IF(DP$5=TRUE,AX120,0)","v":0},{"$f":"IF(DQ$5=TRUE,AY120,0)","v":0},{"$f":"IF(DR$5=TRUE,AZ120,0)","v":0},{"$f":"IF(DS$5=TRUE,BA120,0)","v":0},{"$f":"IF(DT$5=TRUE,BB120,0)","v":0},{"$f":"IF(DU$5=TRUE,BC120,0)","v":0},{"$f":"IF(DV$5=TRUE,BD120,0)","v":0},{"$f":"IF(DW$5=TRUE,BE120,0)","v":0},{"$f":"IF(DX$5=TRUE,BF120,0)","v":0},{"$f":"IF(DY$5=TRUE,BG120,0)","v":0},{"$f":"IF(DZ$5=TRUE,BH120,0)","v":0},{"$f":"IF(EA$5=TRUE,BI120,0)","v":0},{"$f":"IF(EB$5=TRUE,BJ120,0)","v":0},{"$f":"IF(EC$5=TRUE,BK120,0)","v":0},{"$f":"IF(ED$5=TRUE,BL120,0)","v":0},{"$f":"IF(EE$5=TRUE,BM120,0)","v":0},{"$f":"IF(EF$5=TRUE,BN120,0)","v":0},{"$f":"IF(EG$5=TRUE,BO120,0)","v":0},{"$f":"IF(EH$5=TRUE,BP120,0)","v":0},{"$f":"IF(EI$5=TRUE,BQ120,0)","v":0},{"$f":"IF(EJ$5=TRUE,BR120,0)","v":0},{"$f":"IF(EK$5=TRUE,BS120,0)","v":0},{"$f":"IF(EL$5=TRUE,BT120,0)","v":0},{"$f":"IF(EM$5=TRUE,BU120,0)","v":0},{"$f":"IF(EN$5=TRUE,BV120,0)","v":0},{"$f":"IF(EO$5=TRUE,BW120,0)","v":0},{"$f":"IF(EP$5=TRUE,BX120,0)","v":0},{"$f":"IF(EQ$5=TRUE,BY120,0)","v":0},{"$f":"IF(ER$5=TRUE,BZ120,0)","v":0},null,0,1,{"$f":"ET120*EU120*EY120","v":0},null,null,0]
[6,3,0,null,null,null,"\nNone - Extensively Depleted Soil Organism Habitat\n","PCS - Lowest score is 1 of:\nLive or Dormant Plant Cover, Plant Residue and Litter as Soil Cover, Plant Diversity by Dry Weight, and Soil Regenerative Features use the lowest score of the four elements. ",null,null,null,null,null,null,1,null,null,null,null,null,null,null,null,null,null,null,1,null,null,null,null,null,null,null,null,null,null,null,null,null,null,null,null,null,null,null,null,null,null,null,null,null,null,null,null,null,null,null,null,null,null,1,null,null,null,null,null,null,null,null,null,null,null,null,null,null,null,null,null,0,0,0,0,0,0,0,0,0,0,0,0,0,0,0,0,0,0,0,0,0,0,0,0,0,0,0,0,0,0,0,0,0,0,0,0,0,0,0,0,0,0,0,0,0,0,0,0,0,0,0,0,0,0,0,0,0,0,0,0,0,0,0,0,0,0,0,0,0,null,0,1,0,null,null,0]
[6,4,0,null,null,null,"\nLow - Degraded Soil Organism Habitat\n","Overgrazed pasture\nOR\nPCS - Lowest score is 2 of:\nLive or Dormant Plant Cover, Plant Residue and Litter as Soil Cover, Plant Diversity by Dry Weight, and Soil Regenerative Features use the lowest score of the four elements. ",null,null,null,null,null,null,1,null,null,null,null,null,null,null,null,null,null,null,1,null,null,null,null,null,null,null,null,null,null,null,null,null,null,null,null,null,null,null,null,null,null,null,null,null,null,null,null,null,null,null,null,null,null,1,null,null,null,null,null,null,null,null,null,null,null,null,null,null,null,null,null,0,0,0,0,0,0,0,0,0,0,0,0,0,0,0,0,0,0,0,0,0,0,0,0,0,0,0,0,0,0,0,0,0,0,0,0,0,0,0,0,0,0,0,0,0,0,0,0,0,0,0,0,0,0,0,0,0,0,0,0,0,0,0,0,0,0,0,0,0,null,0,1,0,null,null,0]
[6,5,0,null,null,null,"\nModerate - Diminished Soil Organism Habitat\n","PCS - Lowest score is 3 of:\nLive or Dormant Plant Cover, Plant Residue and Litter as Soil Cover, Plant Diversity by Dry Weight, and Soil Regenerative Features use the lowest score of the four elements. ",null,null,null,null,null,null,1,null,null,null,null,null,null,null,null,null,null,null,1,null,null,null,null,null,null,null,null,null,null,null,null,null,null,null,null,null,null,null,null,null,null,null,null,null,null,null,null,null,null,null,null,null,null,1,null,null,null,null,null,null,null,null,null,null,null,null,null,null,null,null,null,0,0,0,0,0,0,0,0,0,0,0,0,0,0,0,0,0,0,0,0,0,0,0,0,0,0,0,0,0,0,0,0,0,0,0,0,0,0,0,0,0,0,0,0,0,0,0,0,0,0,0,0,0,0,0,0,0,0,0,0,0,0,0,0,0,0,0,0,0,null,0,1,0,null,null,0]
[6,5,0,null,null,null,"High - Soil Organism Habitat Extensive and contains all required components","PCS - Lowest score is 4 of:\nLive or Dormant Plant Cover, Plant Residue and Litter as Soil Cover, Plant Diversity by Dry Weight, and Soil Regenerative Features use the lowest score of the four elements. ",null,null,null,null,null,null,1,null,null,null,null,null,null,null,null,null,null,null,1,null,null,null,null,null,null,null,null,null,null,null,null,null,null,null,null,null,null,null,null,null,null,null,null,null,null,null,null,null,null,null,null,null,null,1,null,null,null,null,null,null,null,null,null,null,null,null,null,null,null,null,null,0,0,0,0,0,0,0,0,0,0,0,0,0,0,0,0,0,0,0,0,0,0,0,0,0,0,0,0,0,0,0,0,0,0,0,0,0,0,0,0,0,0,0,0,0,0,0,0,0,0,0,0,0,0,0,0,0,0,0,0,0,0,0,0,0,0,0,0,0,null,0,1,0,null,null,0]
[30,1,5,null,"Q:","Salt Loss to Surface Water",null,"Guidance","Additional Guidance","List PLU's",1,1,1,1,1,1,1,1,null,null,null,null,null,null,null,null,1,null,null,null,null,null,null,null,null,null,null,null,null,null,null,null,null,null,null,null,null,null,null,null,null,null,null,null,null,null,1,null,null,null,null,null,null,null,null,null,null,null,null,null,null,null,null,null,null,null,null,null,null,0,0,0,0,0,0,0,0,0,0,0,0,0,0,0,0,0,{"$f":"IF(CS$5=\"TRUE\",AA125,0)","v":0},{"$f":"IF(CT$5=TRUE,AB125,0)","v":0},0,0,0,0,0,0,0,0,0,{"$f":"IF(DD$5=TRUE,AL125,0)","v":0},0,0,0,0,0,0,0,0,0,{"$f":"IF(DN$5=TRUE,AV125,0)","v":0},0,0,0,0,0,0,0,0,0,{"$f":"IF(DX$5=TRUE,BF125,0)","v":0},0,0,0,0,0,0,0,0,0,{"$f":"IF(EH$5=TRUE,BP125,0)","v":0},0,0,0,0,0,0,0,0,0,{"$f":"IF(ER$5=TRUE,BZ125,0)","v":0},null,0,1,{"$f":"ET125*EU125*EY125","v":0},null,null,0]
[30,2,5,null,null,null,"No","N/A In Iowa","N/A In Iowa",null,1,1,1,1,1,1,1,1,null,null,null,null,null,null,null,null,1,null,null,null,null,null,null,null,null,null,null,null,null,null,null,null,null,null,null,null,null,null,null,null,null,null,null,null,null,null,1,null,null,null,null,null,null,null,null,null,null,null,null,null,null,null,null,null,null,null,null,null,null,0,0,0,0,0,0,0,0,0,0,0,0,0,0,0,0,0,0,0,0,0,0,0,0,0,0,0,0,0,0,0,0,0,0,0,0,0,0,0,0,0,0,0,0,0,0,0,0,0,0,0,0,0,0,0,0,0,0,0,0,0,0,0,0,0,0,0,0,0,null,0,1,0,null,null,0]
[30,4,5,null,null,null,"Yes - is NOT currently being managed","N/A In Iowa",null,null,1,1,1,1,1,1,1,1,null,null,null,null,null,null,null,null,1,null,null,null,null,null,null,null,null,null,null,null,null,null,null,null,null,null,null,null,null,null,null,null,null,null,null,null,null,null,1,null,null,null,null,null,null,null,null,null,null,null,null,null,null,null,null,null,null,null,null,null,null,0,0,0,0,0,0,0,0,0,0,0,0,0,0,0,0,0,0,0,0,0,0,0,0,0,0,0,0,0,0,0,0,0,0,0,0,0,0,0,0,0,0,0,0,0,0,0,0,0,0,0,0,0,0,0,0,0,0,0,0,0,0,0,0,0,0,0,0,0,null,0,1,0,null,null,0]
[30,5,5,null,null,null,"Yes - is being managed with irrigation water management and tail water recovery","N/A In Iowa",null,null,1,1,1,1,1,1,1,1,null,null,null,null,null,null,null,null,1,null,null,null,null,null,null,null,null,null,null,null,null,null,null,null,null,null,null,null,null,null,null,null,null,null,null,null,null,null,1,null,null,null,null,null,null,null,null,null,null,null,null,null,null,null,null,null,null,null,null,null,null,0,0,0,0,0,0,0,0,0,0,0,0,0,0,0,0,0,0,0,0,0,0,0,0,0,0,0,0,0,0,0,0,0,0,0,0,0,0,0,0,0,0,0,0,0,0,0,0,0,0,0,0,0,0,0,0,0,0,0,0,0,0,0,0,0,0,0,0,0,null,0,1,0,null,null,0]
[31,1,5,null,"Q:","Salt Loss to Groundwater",null,"Guidance","Additional Guidance","List PLU's",1,1,1,1,1,1,1,1,null,null,null,null,null,null,null,null,1,null,null,null,null,null,null,null,null,null,null,null,null,null,null,null,null,null,null,null,null,null,null,null,null,null,null,null,null,1,null,null,null,null,null,null,null,null,null,null,null,null,null,null,null,null,null,null,null,null,null,null,null,0,0,0,0,0,0,0,0,0,0,0,0,0,0,0,0,0,0,0,0,0,0,0,0,0,0,0,0,0,0,0,0,0,0,0,0,0,0,0,0,0,0,0,0,0,0,0,0,0,0,0,0,0,0,0,0,0,0,0,0,0,0,0,0,0,0,0,0,0,null,0,1,0,null,null,0]
[31,2,5,null,null,null,"No","N/A In Iowa","N/A In Iowa",null,1,1,1,1,1,1,1,1,null,null,null,null,null,null,null,null,1,null,null,null,null,null,null,null,null,null,null,null,null,null,null,null,null,null,null,null,null,null,null,null,null,null,null,null,null,1,null,null,null,null,null,null,null,null,null,null,null,null,null,null,null,null,null,null,null,null,null,null,null,0,0,0,0,0,0,0,0,0,0,0,0,0,0,0,0,0,0,0,0,0,0,0,0,0,0,0,0,0,0,0,0,0,0,0,0,0,0,0,0,0,0,0,0,0,0,0,0,0,0,0,0,0,0,0,0,0,0,0,0,0,0,0,0,0,0,0,0,0,null,0,1,0,null,null,0]
[31,4,5,null,null,null,"Yes - is NOT currently being managed","N/A In Iowa",null,null,1,1,1,1,1,1,1,1,null,null,null,null,null,null,null,null,1,null,null,null,null,null,null,null,null,null,null,null,null,null,null,null,null,null,null,null,null,null,null,null,null,null,null,null,null,1,null,null,null,null,null,null,null,null,null,null,null,null,null,null,null,null,null,null,null,null,null,null,null,0,0,0,0,0,0,0,0,0,0,0,0,0,0,0,0,0,0,0,0,0,0,0,0,0,0,0,0,0,0,0,0,0,0,0,0,0,0,0,0,0,0,0,0,0,0,0,0,0,0,0,0,0,0,0,0,0,0,0,0,0,0,0,0,0,0,0,0,0,null,0,1,0,null,null,0]
[31,5,5,null,null,null,"Yes - is being managed with the irrigation water management or drainage system","N/A In Iowa",null,null,1,1,1,1,1,1,1,1,null,null,null,null,null,null,null,null,1,null,null,null,null,null,null,null,null,null,null,null,null,null,null,null,null,null,null,null,null,null,null,null,null,null,null,null,null,1,null,null,null,null,null,null,null,null,null,null,null,null,null,null,null,null,null,null,null,null,null,null,null,0,0,0,0,0,0,0,0,0,0,0,0,0,0,0,0,0,0,0,0,0,0,0,0,0,0,0,0,0,0,0,0,0,0,0,0,0,0,0,0,0,0,0,0,0,0,0,0,0,0,0,0,0,0,0,0,0,0,0,0,0,0,0,0,0,0,0,0,0,null,0,1,0,null,null,0]
[6,1,5,null,"Q:","Aggregate instability (Software Answered)",null,"Depending on results, the following question(s) need to be answered:",null,"List PLU's",1,1,null,1,1,1,1,1,null,null,null,null,null,null,null,null,1,null,null,null,null,null,null,null,null,null,null,null,null,null,null,null,null,null,null,null,null,null,null,null,null,null,null,null,null,null,null,1,null,null,null,null,null,null,null,null,null,null,null,null,null,null,null,null,null,null,null,null,null,0,0,0,0,0,0,0,0,0,0,0,0,0,0,0,0,0,{"$f":"IF(CS$5=\"TRUE\",AA133,0)","v":0},{"$f":"IF(CT$5=TRUE,AB133,0)","v":0},{"$f":"IF(CU$5=TRUE,AC133,0)","v":0},{"$f":"IF(CV$5=TRUE,AD133,0)","v":0},{"$f":"IF(CW$5=TRUE,AE133,0)","v":0},{"$f":"IF(CX$5=TRUE,AF133,0)","v":0},{"$f":"IF(CY$5=TRUE,AG133,0)","v":0},{"$f":"IF(CZ$5=TRUE,AH133,0)","v":0},{"$f":"IF(DA$5=TRUE,AI133,0)","v":0},{"$f":"IF(DB$5=TRUE,AJ133,0)","v":0},{"$f":"IF(DC$5=TRUE,AK133,0)","v":0},{"$f":"IF(DD$5=TRUE,AL133,0)","v":0},{"$f":"IF(DE$5=TRUE,AM133,0)","v":0},{"$f":"IF(DF$5=TRUE,AN133,0)","v":0},{"$f":"IF(DG$5=TRUE,AO133,0)","v":0},{"$f":"IF(DH$5=TRUE,AP133,0)","v":0},{"$f":"IF(DI$5=TRUE,AQ133,0)","v":0},{"$f":"IF(DJ$5=TRUE,AR133,0)","v":0},{"$f":"IF(DK$5=TRUE,AS133,0)","v":0},{"$f":"IF(DL$5=TRUE,AT133,0)","v":0},{"$f":"IF(DM$5=TRUE,AU133,0)","v":0},{"$f":"IF(DN$5=TRUE,AV133,0)","v":0},{"$f":"IF(DO$5=TRUE,AW133,0)","v":0},{"$f":"IF(DP$5=TRUE,AX133,0)","v":0},{"$f":"IF(DQ$5=TRUE,AY133,0)","v":0},{"$f":"IF(DR$5=TRUE,AZ133,0)","v":0},{"$f":"IF(DS$5=TRUE,BA133,0)","v":0},{"$f":"IF(DT$5=TRUE,BB133,0)","v":0},{"$f":"IF(DU$5=TRUE,BC133,0)","v":0},{"$f":"IF(DV$5=TRUE,BD133,0)","v":0},{"$f":"IF(DW$5=TRUE,BE133,0)","v":0},{"$f":"IF(DX$5=TRUE,BF133,0)","v":0},{"$f":"IF(DY$5=TRUE,BG133,0)","v":0},{"$f":"IF(DZ$5=TRUE,BH133,0)","v":0},{"$f":"IF(EA$5=TRUE,BI133,0)","v":0},{"$f":"IF(EB$5=TRUE,BJ133,0)","v":0},{"$f":"IF(EC$5=TRUE,BK133,0)","v":0},{"$f":"IF(ED$5=TRUE,BL133,0)","v":0},{"$f":"IF(EE$5=TRUE,BM133,0)","v":0},{"$f":"IF(EF$5=TRUE,BN133,0)","v":0},{"$f":"IF(EG$5=TRUE,BO133,0)","v":0},{"$f":"IF(EH$5=TRUE,BP133,0)","v":0},{"$f":"IF(EI$5=TRUE,BQ133,0)","v":0},{"$f":"IF(EJ$5=TRUE,BR133,0)","v":0},{"$f":"IF(EK$5=TRUE,BS133,0)","v":0},{"$f":"IF(EL$5=TRUE,BT133,0)","v":0},{"$f":"IF(EM$5=TRUE,BU133,0)","v":0},{"$f":"IF(EN$5=TRUE,BV133,0)","v":0},{"$f":"IF(EO$5=TRUE,BW133,0)","v":0},{"$f":"IF(EP$5=TRUE,BX133,0)","v":0},{"$f":"IF(EQ$5=TRUE,BY133,0)","v":0},{"$f":"IF(ER$5=TRUE,BZ133,0)","v":0},null,0,1,{"$f":"ET133*EU133*EY133","v":0},null,null,0]
[6,1,0,null,"Q:","Aggregate instability (Cropland)",null,"Guidance\nThe NRCS Cropland In-Field Soil Health Assessment (IFSHA) Worksheet can be helpful to evaluate this Resource Concern Component.  IFSHA indicates four applicable indicators are significant for Aggregate Instability:\n-\tCrusting\n-\tSoil Structure\n-\tWater Stable Aggregates\n-\tBiopores.\n\nIf IFSHA cannot be completed due to weather, consult Area Soil Health Specialist and/or ARC.",null,null,1,1,null,null,null,null,null,null,null,null,null,null,null,null,null,null,1,null,null,null,null,null,null,null,null,null,null,null,null,null,null,null,null,null,null,null,null,null,null,null,null,null,null,null,null,null,null,1,null,null,null,null,null,null,null,null,null,null,null,null,null,null,null,null,null,null,null,null,null,0,0,0,0,0,0,0,0,0,0,0,0,0,0,0,0,0,0,0,0,0,0,0,0,0,0,0,0,0,0,0,0,0,0,0,0,0,0,0,0,0,0,0,0,0,0,0,0,0,0,0,0,0,0,0,0,0,0,0,0,0,0,0,0,0,0,0,0,0,null,0,1,0,null,null,0]
[6,3,0,null,null,null,"None - Soil Surface aggregation non-existent","Full width tillage is used every year \nOR \nIFSHA 0 of the In-Field Soil Health Assessment indicators listed above meet the assessment criteria.",null,null,1,1,null,null,null,null,null,null,null,null,null,null,null,null,null,null,1,null,null,null,null,null,null,null,null,null,null,null,null,null,null,null,null,null,null,null,null,null,null,null,null,null,null,null,null,null,null,1,null,null,null,null,null,null,null,null,null,null,null,null,null,null,null,null,null,null,null,null,null,0,0,0,0,0,0,0,0,0,0,0,0,0,0,0,0,0,0,0,0,0,0,0,0,0,0,0,0,0,0,0,0,0,0,0,0,0,0,0,0,0,0,0,0,0,0,0,0,0,0,0,0,0,0,0,0,0,0,0,0,0,0,0,0,0,0,0,0,0,null,0,1,0,null,null,0]
[6,4,{"$f":"IF(EV136>0,1,0)","v":0},null,null,null,"Low - Aggregate Stability very weak","Full width tillage is used within the rotation with some years of no-till/strip-till \n OR\nWater stable aggregates indicator AND 1 of the applicable indicators meet the assessment criteria.",null,null,1,1,null,null,null,null,null,null,null,null,null,null,null,null,null,null,1,null,null,null,null,null,null,null,null,null,null,null,null,null,null,null,null,null,null,null,null,null,null,null,null,null,null,null,null,null,null,1,null,null,null,null,null,null,null,null,null,null,null,null,null,null,null,null,null,null,null,null,null,{"$f":"IF(CB$5=TRUE,K136,0)","v":0},{"$f":"IF(CC$5=TRUE,L136,0)","v":0},{"$f":"IF(CD$5=TRUE,M136,0)","v":0},{"$f":"IF(CE$5=TRUE,N136,0)","v":0},{"$f":"IF(CF$5=TRUE,O136,0)","v":0},{"$f":"IF(CG$5=TRUE,P136,0)","v":0},{"$f":"IF(CH$5=TRUE,Q136,0)","v":0},{"$f":"IF(CI$5=TRUE,R136,0)","v":0},{"$f":"IF(CJ$5=TRUE,S136,0)","v":0},{"$f":"IF(CK$5=TRUE,T136,0)","v":0},{"$f":"IF(CL$5=TRUE,U136,0)","v":0},{"$f":"IF(CM$5=TRUE,V136,0)","v":0},{"$f":"IF(CN$5=TRUE,W136,0)","v":0},{"$f":"IF(CO$5=TRUE,X136,0)","v":0},{"$f":"IF(CP$5=TRUE,Y136,0)","v":0},{"$f":"IF(CQ$5=TRUE,Z136,0)","v":0},0,0,0,0,0,0,0,0,0,0,0,0,0,0,0,0,0,0,0,0,0,0,0,0,0,0,0,0,0,0,0,0,0,0,0,0,0,0,0,0,0,0,0,0,0,0,0,0,0,0,0,0,0,null,{"$f":"MAX(CB136:CQ136)","v":0},1,0,null,null,{"$f":"MAX(CR136:ER136)","v":0}]
[6,5,0,null,null,null,"Moderate - Maintain Stable Aggregates under low to moderate stressors","Water stable aggregates AND 2 of the applicable indicators meet the assessment criteria.",null,null,1,1,null,null,null,null,null,null,null,null,null,null,null,null,null,null,1,null,null,null,null,null,null,null,null,null,null,null,null,null,null,null,null,null,null,null,null,null,null,null,null,null,null,null,null,null,null,1,null,null,null,null,null,null,null,null,null,null,null,null,null,null,null,null,null,null,null,null,null,0,0,0,0,0,0,0,0,0,0,0,0,0,0,0,0,{"$f":"EZ137","v":0},{"$f":"IF(CS$5=\"TRUE\",AA137,0)","v":0},{"$f":"IF(CT$5=TRUE,AB137,0)","v":0},{"$f":"IF(CU$5=TRUE,AC137,0)","v":0},{"$f":"IF(CV$5=TRUE,AD137,0)","v":0},{"$f":"IF(CW$5=TRUE,AE137,0)","v":0},{"$f":"IF(CX$5=TRUE,AF137,0)","v":0},{"$f":"IF(CY$5=TRUE,AG137,0)","v":0},{"$f":"IF(CZ$5=TRUE,AH137,0)","v":0},{"$f":"IF(DA$5=TRUE,AI137,0)","v":0},{"$f":"IF(DB$5=TRUE,AJ137,0)","v":0},{"$f":"IF(DC$5=TRUE,AK137,0)","v":0},{"$f":"IF(DD$5=TRUE,AL137,0)","v":0},{"$f":"IF(DE$5=TRUE,AM137,0)","v":0},{"$f":"IF(DF$5=TRUE,AN137,0)","v":0},{"$f":"IF(DG$5=TRUE,AO137,0)","v":0},{"$f":"IF(DH$5=TRUE,AP137,0)","v":0},{"$f":"IF(DI$5=TRUE,AQ137,0)","v":0},{"$f":"IF(DJ$5=TRUE,AR137,0)","v":0},{"$f":"IF(DK$5=TRUE,AS137,0)","v":0},{"$f":"IF(DL$5=TRUE,AT137,0)","v":0},{"$f":"IF(DM$5=TRUE,AU137,0)","v":0},{"$f":"IF(DN$5=TRUE,AV137,0)","v":0},{"$f":"IF(DO$5=TRUE,AW137,0)","v":0},{"$f":"IF(DP$5=TRUE,AX137,0)","v":0},{"$f":"IF(DQ$5=TRUE,AY137,0)","v":0},{"$f":"IF(DR$5=TRUE,AZ137,0)","v":0},{"$f":"IF(DS$5=TRUE,BA137,0)","v":0},{"$f":"IF(DT$5=TRUE,BB137,0)","v":0},{"$f":"IF(DU$5=TRUE,BC137,0)","v":0},{"$f":"IF(DV$5=TRUE,BD137,0)","v":0},{"$f":"IF(DW$5=TRUE,BE137,0)","v":0},{"$f":"IF(DX$5=TRUE,BF137,0)","v":0},{"$f":"IF(DY$5=TRUE,BG137,0)","v":0},{"$f":"IF(DZ$5=TRUE,BH137,0)","v":0},{"$f":"IF(EA$5=TRUE,BI137,0)","v":0},{"$f":"IF(EB$5=TRUE,BJ137,0)","v":0},{"$f":"IF(EC$5=TRUE,BK137,0)","v":0},{"$f":"IF(ED$5=TRUE,BL137,0)","v":0},{"$f":"IF(EE$5=TRUE,BM137,0)","v":0},{"$f":"IF(EF$5=TRUE,BN137,0)","v":0},{"$f":"IF(EG$5=TRUE,BO137,0)","v":0},{"$f":"IF(EH$5=TRUE,BP137,0)","v":0},{"$f":"IF(EI$5=TRUE,BQ137,0)","v":0},{"$f":"IF(EJ$5=TRUE,BR137,0)","v":0},{"$f":"IF(EK$5=TRUE,BS137,0)","v":0},{"$f":"IF(EL$5=TRUE,BT137,0)","v":0},{"$f":"IF(EM$5=TRUE,BU137,0)","v":0},{"$f":"IF(EN$5=TRUE,BV137,0)","v":0},{"$f":"IF(EO$5=TRUE,BW137,0)","v":0},{"$f":"IF(EP$5=TRUE,BX137,0)","v":0},{"$f":"IF(EQ$5=TRUE,BY137,0)","v":0},{"$f":"IF(ER$5=TRUE,BZ137,0)","v":0},null,0,1,{"$f":"ET137*EU137*EY137","v":0},null,null,0]
[6,5,0,null,null,null," High - Aggregate Stability very strong and at Potential for the Site","All of the 5 applicable indicators meet assessment criteria.",null,null,1,1,null,null,null,null,null,null,null,null,null,null,null,null,null,null,1,null,null,null,null,null,null,null,null,null,null,null,null,null,null,null,null,null,null,null,null,null,null,null,null,null,null,null,null,null,null,1,null,null,null,null,null,null,null,null,null,null,null,null,null,null,null,null,null,null,null,null,null,0,0,0,0,0,0,0,0,0,0,0,0,0,0,0,0,0,0,0,0,0,0,0,0,0,0,0,0,0,0,0,0,0,0,0,0,0,0,0,0,0,0,0,0,0,0,0,0,0,0,0,0,0,0,0,0,0,0,0,0,0,0,0,0,0,0,0,0,0,null,0,1,0,null,null,0]
[24,1,0,null,"Q:","Aggregate instability (Forest, Developed Land, Assoc Ag Land, Other Rural Land)",null,"Guidance\nA planner may also determine if the use of assessment methods for Cropland or Pasture are better suited to the site’s current conditions.","Documentation: (e.g. field notes, client interview responses, justification)",null,null,null,null,1,null,1,1,null,null,null,null,null,null,null,null,null,1,null,null,null,null,null,null,null,null,null,null,null,null,null,null,null,null,null,null,null,null,null,null,null,null,null,null,null,null,null,null,1,null,null,null,null,null,null,null,null,null,null,null,null,null,null,null,null,null,null,null,null,null,0,0,0,0,0,0,0,0,0,0,0,0,0,0,0,0,0,{"$f":"IF(CS$5=\"TRUE\",AA139,0)","v":0},{"$f":"IF(CT$5=TRUE,AB139,0)","v":0},{"$f":"IF(CU$5=TRUE,AC139,0)","v":0},{"$f":"IF(CV$5=TRUE,AD139,0)","v":0},{"$f":"IF(CW$5=TRUE,AE139,0)","v":0},{"$f":"IF(CX$5=TRUE,AF139,0)","v":0},{"$f":"IF(CY$5=TRUE,AG139,0)","v":0},{"$f":"IF(CZ$5=TRUE,AH139,0)","v":0},{"$f":"IF(DA$5=TRUE,AI139,0)","v":0},{"$f":"IF(DB$5=TRUE,AJ139,0)","v":0},{"$f":"IF(DC$5=TRUE,AK139,0)","v":0},{"$f":"IF(DD$5=TRUE,AL139,0)","v":0},{"$f":"IF(DE$5=TRUE,AM139,0)","v":0},{"$f":"IF(DF$5=TRUE,AN139,0)","v":0},{"$f":"IF(DG$5=TRUE,AO139,0)","v":0},{"$f":"IF(DH$5=TRUE,AP139,0)","v":0},{"$f":"IF(DI$5=TRUE,AQ139,0)","v":0},{"$f":"IF(DJ$5=TRUE,AR139,0)","v":0},{"$f":"IF(DK$5=TRUE,AS139,0)","v":0},{"$f":"IF(DL$5=TRUE,AT139,0)","v":0},{"$f":"IF(DM$5=TRUE,AU139,0)","v":0},{"$f":"IF(DN$5=TRUE,AV139,0)","v":0},{"$f":"IF(DO$5=TRUE,AW139,0)","v":0},{"$f":"IF(DP$5=TRUE,AX139,0)","v":0},{"$f":"IF(DQ$5=TRUE,AY139,0)","v":0},{"$f":"IF(DR$5=TRUE,AZ139,0)","v":0},{"$f":"IF(DS$5=TRUE,BA139,0)","v":0},{"$f":"IF(DT$5=TRUE,BB139,0)","v":0},{"$f":"IF(DU$5=TRUE,BC139,0)","v":0},{"$f":"IF(DV$5=TRUE,BD139,0)","v":0},{"$f":"IF(DW$5=TRUE,BE139,0)","v":0},{"$f":"IF(DX$5=TRUE,BF139,0)","v":0},{"$f":"IF(DY$5=TRUE,BG139,0)","v":0},{"$f":"IF(DZ$5=TRUE,BH139,0)","v":0},{"$f":"IF(EA$5=TRUE,BI139,0)","v":0},{"$f":"IF(EB$5=TRUE,BJ139,0)","v":0},{"$f":"IF(EC$5=TRUE,BK139,0)","v":0},{"$f":"IF(ED$5=TRUE,BL139,0)","v":0},{"$f":"IF(EE$5=TRUE,BM139,0)","v":0},{"$f":"IF(EF$5=TRUE,BN139,0)","v":0},{"$f":"IF(EG$5=TRUE,BO139,0)","v":0},{"$f":"IF(EH$5=TRUE,BP139,0)","v":0},{"$f":"IF(EI$5=TRUE,BQ139,0)","v":0},{"$f":"IF(EJ$5=TRUE,BR139,0)","v":0},{"$f":"IF(EK$5=TRUE,BS139,0)","v":0},{"$f":"IF(EL$5=TRUE,BT139,0)","v":0},{"$f":"IF(EM$5=TRUE,BU139,0)","v":0},{"$f":"IF(EN$5=TRUE,BV139,0)","v":0},{"$f":"IF(EO$5=TRUE,BW139,0)","v":0},{"$f":"IF(EP$5=TRUE,BX139,0)","v":0},{"$f":"IF(EQ$5=TRUE,BY139,0)","v":0},{"$f":"IF(ER$5=TRUE,BZ139,0)","v":0},null,0,1,{"$f":"ET139*EU139*EY139","v":0},null,null,0]
[24,3,0,null,null,null,"None - Soil Surface aggregation non-existent","-\tLiving vegetation is absent or very sparse.\n-\tPlant litter, and woody debris are absent or very sparse. ",null,null,null,null,null,1,null,1,1,null,null,null,null,null,null,null,null,null,1,null,null,null,null,null,null,null,null,null,null,null,null,null,null,null,null,null,null,null,null,null,null,null,null,null,null,null,null,null,null,1,null,null,null,null,null,null,null,null,null,null,null,null,null,null,null,null,null,null,null,null,null,0,0,0,0,0,0,0,0,0,0,0,0,0,0,0,0,0,0,0,0,0,0,0,0,0,0,0,0,0,0,0,0,0,0,0,0,0,0,0,0,0,0,0,0,0,0,0,0,0,0,0,0,0,0,0,0,0,0,0,0,0,0,0,0,0,0,0,0,0,null,0,1,0,null,null,0]
[24,4,0,null,null,null,"Low - Aggregate Stability very weak","-\tLiving vegetation is predominantly annuals.  A few perennials may be present. \n-\tPlant litter or woody debris is scattered leaving most of ground surface uncovered. No duff layer is present. ",null,null,null,null,null,1,null,1,1,null,null,null,null,null,null,null,null,null,1,null,null,null,null,null,null,null,null,null,null,null,null,null,null,null,null,null,null,null,null,null,null,null,null,null,null,null,null,null,null,1,null,null,null,null,null,null,null,null,null,null,null,null,null,null,null,null,null,null,null,null,null,0,0,0,0,0,0,0,0,0,0,0,0,0,0,0,0,0,0,0,0,0,0,0,0,0,0,0,0,0,0,0,0,0,0,0,0,0,0,0,0,0,0,0,0,0,0,0,0,0,0,0,0,0,0,0,0,0,0,0,0,0,0,0,0,0,0,0,0,0,null,0,1,0,null,null,0]
[24,3,0,null,null,null,"Moderate - Maintain Stable Aggregates under low to moderate stressors","-\tLiving vegetation covers most of the ground surface.\n-\tPlant residue is mostly fragile.  Woody debris is mostly fine.  A thin duff layer may be present. ",null,null,null,null,null,1,null,1,1,null,null,null,null,null,null,null,null,null,1,null,null,null,null,null,null,null,null,null,null,null,null,null,null,null,null,null,null,null,null,null,null,null,null,null,null,null,null,null,null,1,null,null,null,null,null,null,null,null,null,null,null,null,null,null,null,null,null,null,null,null,null,0,0,0,0,0,0,0,0,0,0,0,0,0,0,0,0,0,{"$f":"IF(CS$5=\"TRUE\",AA142,0)","v":0},{"$f":"IF(CT$5=TRUE,AB142,0)","v":0},{"$f":"IF(CU$5=TRUE,AC142,0)","v":0},{"$f":"IF(CV$5=TRUE,AD142,0)","v":0},{"$f":"IF(CW$5=TRUE,AE142,0)","v":0},{"$f":"IF(CX$5=TRUE,AF142,0)","v":0},{"$f":"IF(CY$5=TRUE,AG142,0)","v":0},{"$f":"IF(CZ$5=TRUE,AH142,0)","v":0},{"$f":"IF(DA$5=TRUE,AI142,0)","v":0},{"$f":"IF(DB$5=TRUE,AJ142,0)","v":0},{"$f":"IF(DC$5=TRUE,AK142,0)","v":0},{"$f":"IF(DD$5=TRUE,AL142,0)","v":0},{"$f":"IF(DE$5=TRUE,AM142,0)","v":0},{"$f":"IF(DF$5=TRUE,AN142,0)","v":0},{"$f":"IF(DG$5=TRUE,AO142,0)","v":0},{"$f":"IF(DH$5=TRUE,AP142,0)","v":0},{"$f":"IF(DI$5=TRUE,AQ142,0)","v":0},{"$f":"IF(DJ$5=TRUE,AR142,0)","v":0},{"$f":"IF(DK$5=TRUE,AS142,0)","v":0},{"$f":"IF(DL$5=TRUE,AT142,0)","v":0},{"$f":"IF(DM$5=TRUE,AU142,0)","v":0},{"$f":"IF(DN$5=TRUE,AV142,0)","v":0},{"$f":"IF(DO$5=TRUE,AW142,0)","v":0},{"$f":"IF(DP$5=TRUE,AX142,0)","v":0},{"$f":"IF(DQ$5=TRUE,AY142,0)","v":0},{"$f":"IF(DR$5=TRUE,AZ142,0)","v":0},{"$f":"IF(DS$5=TRUE,BA142,0)","v":0},{"$f":"IF(DT$5=TRUE,BB142,0)","v":0},{"$f":"IF(DU$5=TRUE,BC142,0)","v":0},{"$f":"IF(DV$5=TRUE,BD142,0)","v":0},{"$f":"IF(DW$5=TRUE,BE142,0)","v":0},{"$f":"IF(DX$5=TRUE,BF142,0)","v":0},{"$f":"IF(DY$5=TRUE,BG142,0)","v":0},{"$f":"IF(DZ$5=TRUE,BH142,0)","v":0},{"$f":"IF(EA$5=TRUE,BI142,0)","v":0},{"$f":"IF(EB$5=TRUE,BJ142,0)","v":0},{"$f":"IF(EC$5=TRUE,BK142,0)","v":0},{"$f":"IF(ED$5=TRUE,BL142,0)","v":0},{"$f":"IF(EE$5=TRUE,BM142,0)","v":0},{"$f":"IF(EF$5=TRUE,BN142,0)","v":0},{"$f":"IF(EG$5=TRUE,BO142,0)","v":0},{"$f":"IF(EH$5=TRUE,BP142,0)","v":0},{"$f":"IF(EI$5=TRUE,BQ142,0)","v":0},{"$f":"IF(EJ$5=TRUE,BR142,0)","v":0},{"$f":"IF(EK$5=TRUE,BS142,0)","v":0},{"$f":"IF(EL$5=TRUE,BT142,0)","v":0},{"$f":"IF(EM$5=TRUE,BU142,0)","v":0},{"$f":"IF(EN$5=TRUE,BV142,0)","v":0},{"$f":"IF(EO$5=TRUE,BW142,0)","v":0},{"$f":"IF(EP$5=TRUE,BX142,0)","v":0},{"$f":"IF(EQ$5=TRUE,BY142,0)","v":0},{"$f":"IF(ER$5=TRUE,BZ142,0)","v":0},null,0,1,{"$f":"ET142*EU142*EY142","v":0},null,null,0]
[24,4,0,null,null,null," High - Aggregate Stability very strong and at Potential for the Site","-\tGround is completely covered by a combination of living vegetation, fragile and non-fragile plant residue, or woody debris.  A duff layer is present. ",null,null,null,null,null,1,null,1,1,null,null,null,null,null,null,null,null,null,1,null,null,null,null,null,null,null,null,null,null,null,null,null,null,null,null,null,null,null,null,null,null,null,null,null,null,null,null,null,null,1,null,null,null,null,null,null,null,null,null,null,null,null,null,null,null,null,null,null,null,null,null,0,0,0,0,0,0,0,0,0,0,0,0,0,0,0,0,0,0,0,0,0,0,0,0,0,0,0,0,0,0,0,0,0,0,0,0,0,0,0,0,0,0,0,0,0,0,0,0,0,0,0,0,0,0,0,0,0,0,0,0,0,0,0,0,0,0,0,0,0,null,0,1,0,null,null,0]
[25,1,5,null,"Q:","Aggregate Instability Existing Condition (Range)",null,"Guidance","Additional Guidance","List PLU's",null,null,null,null,null,null,null,1,null,null,null,null,null,null,null,null,1,null,null,null,null,null,null,null,null,null,null,null,null,null,null,null,null,null,null,null,null,null,null,null,null,null,null,null,null,null,null,1,null,null,null,null,null,null,null,null,null,null,null,null,null,null,null,null,null,null,null,null,null,0,0,0,0,0,0,0,0,0,0,0,0,0,0,0,0,0,0,0,0,0,0,0,0,0,0,0,0,0,0,0,0,0,0,0,0,0,0,0,0,0,0,0,0,0,0,0,0,0,0,0,0,0,0,0,0,0,0,0,0,0,0,0,0,0,0,0,0,0,null,0,1,0,null,null,0]
[25,2,5,null,null,null,"None - Soil Surface aggregation non-existent","N/A In Iowa",null,null,null,null,null,null,null,null,null,1,null,null,null,null,null,null,null,null,1,null,null,null,null,null,null,null,null,null,null,null,null,null,null,null,null,null,null,null,null,null,null,null,null,null,null,null,null,null,null,1,null,null,null,null,null,null,null,null,null,null,null,null,null,null,null,null,null,null,null,null,null,0,0,0,0,0,0,0,0,0,0,0,0,0,0,0,0,0,0,0,0,0,0,0,0,0,0,0,0,0,0,0,0,0,0,0,0,0,0,0,0,0,0,0,0,0,0,0,0,0,0,0,0,0,0,0,0,0,0,0,0,0,0,0,0,0,0,0,0,0,null,0,1,0,null,null,0]
[25,3,5,null,null,null,"Low - Aggregate Stability very weak","N/A In Iowa",null,null,null,null,null,null,null,null,null,1,null,null,null,null,null,null,null,null,1,null,null,null,null,null,null,null,null,null,null,null,null,null,null,null,null,null,null,null,null,null,null,null,null,null,null,null,null,null,null,1,null,null,null,null,null,null,null,null,null,null,null,null,null,null,null,null,null,null,null,null,null,0,0,0,0,0,0,0,0,0,0,0,0,0,0,0,0,0,0,0,0,0,0,0,0,0,0,0,0,0,0,0,0,0,0,0,0,0,0,0,0,0,0,0,0,0,0,0,0,0,0,0,0,0,0,0,0,0,0,0,0,0,0,0,0,0,0,0,0,0,null,0,1,0,null,null,0]
[25,4,5,null,null,null,"Moderate - Maintain Stable Aggregates under low to moderate stressors","N/A In Iowa",null,null,null,null,null,null,null,null,null,1,null,null,null,null,null,null,null,null,1,null,null,null,null,null,null,null,null,null,null,null,null,null,null,null,null,null,null,null,null,null,null,null,null,null,null,null,null,null,null,1,null,null,null,null,null,null,null,null,null,null,null,null,null,null,null,null,null,null,null,null,null,0,0,0,0,0,0,0,0,0,0,0,0,0,0,0,0,0,0,0,0,0,0,0,0,0,0,0,0,0,0,0,0,0,0,0,0,0,0,0,0,0,0,0,0,0,0,0,0,0,0,0,0,0,0,0,0,0,0,0,0,0,0,0,0,0,0,0,0,0,null,0,1,0,null,null,0]
[25,5,5,null,null,null," High - Aggregate Stability very strong and at Potential for the Site","N/A In Iowa",null,null,null,null,null,null,null,null,null,1,null,null,null,null,null,null,null,null,1,null,null,null,null,null,null,null,null,null,null,null,null,null,null,null,null,null,null,null,null,null,null,null,null,null,null,null,null,null,null,1,null,null,null,null,null,null,null,null,null,null,null,null,null,null,null,null,null,null,null,null,null,0,0,0,0,0,0,0,0,0,0,0,0,0,0,0,0,0,0,0,0,0,0,0,0,0,0,0,0,0,0,0,0,0,0,0,0,0,0,0,0,0,0,0,0,0,0,0,0,0,0,0,0,0,0,0,0,0,0,0,0,0,0,0,0,0,0,0,0,0,null,0,1,0,null,null,0]
[25,1,0,null,"Q:","Aggregate Instability Existing Condition, (Pasture)",null,"Guidance","Documentation: (e.g. field notes, client interview responses, justification)",null,null,null,null,null,1,null,null,null,null,null,null,null,null,null,null,null,1,null,null,null,null,null,null,null,null,null,null,null,null,null,null,null,null,null,null,null,null,null,null,null,null,null,null,null,null,null,null,1,null,null,null,null,null,null,null,null,null,null,null,null,null,null,null,null,null,null,null,null,null,0,0,0,0,0,0,0,0,0,0,0,0,0,0,0,0,0,{"$f":"IF(CS$5=\"TRUE\",AA149,0)","v":0},{"$f":"IF(CT$5=TRUE,AB149,0)","v":0},{"$f":"IF(CU$5=TRUE,AC149,0)","v":0},{"$f":"IF(CV$5=TRUE,AD149,0)","v":0},{"$f":"IF(CW$5=TRUE,AE149,0)","v":0},{"$f":"IF(CX$5=TRUE,AF149,0)","v":0},{"$f":"IF(CY$5=TRUE,AG149,0)","v":0},{"$f":"IF(CZ$5=TRUE,AH149,0)","v":0},{"$f":"IF(DA$5=TRUE,AI149,0)","v":0},{"$f":"IF(DB$5=TRUE,AJ149,0)","v":0},{"$f":"IF(DC$5=TRUE,AK149,0)","v":0},{"$f":"IF(DD$5=TRUE,AL149,0)","v":0},{"$f":"IF(DE$5=TRUE,AM149,0)","v":0},{"$f":"IF(DF$5=TRUE,AN149,0)","v":0},{"$f":"IF(DG$5=TRUE,AO149,0)","v":0},{"$f":"IF(DH$5=TRUE,AP149,0)","v":0},{"$f":"IF(DI$5=TRUE,AQ149,0)","v":0},{"$f":"IF(DJ$5=TRUE,AR149,0)","v":0},{"$f":"IF(DK$5=TRUE,AS149,0)","v":0},{"$f":"IF(DL$5=TRUE,AT149,0)","v":0},{"$f":"IF(DM$5=TRUE,AU149,0)","v":0},{"$f":"IF(DN$5=TRUE,AV149,0)","v":0},{"$f":"IF(DO$5=TRUE,AW149,0)","v":0},{"$f":"IF(DP$5=TRUE,AX149,0)","v":0},{"$f":"IF(DQ$5=TRUE,AY149,0)","v":0},{"$f":"IF(DR$5=TRUE,AZ149,0)","v":0},{"$f":"IF(DS$5=TRUE,BA149,0)","v":0},{"$f":"IF(DT$5=TRUE,BB149,0)","v":0},{"$f":"IF(DU$5=TRUE,BC149,0)","v":0},{"$f":"IF(DV$5=TRUE,BD149,0)","v":0},{"$f":"IF(DW$5=TRUE,BE149,0)","v":0},{"$f":"IF(DX$5=TRUE,BF149,0)","v":0},{"$f":"IF(DY$5=TRUE,BG149,0)","v":0},{"$f":"IF(DZ$5=TRUE,BH149,0)","v":0},{"$f":"IF(EA$5=TRUE,BI149,0)","v":0},{"$f":"IF(EB$5=TRUE,BJ149,0)","v":0},{"$f":"IF(EC$5=TRUE,BK149,0)","v":0},{"$f":"IF(ED$5=TRUE,BL149,0)","v":0},{"$f":"IF(EE$5=TRUE,BM149,0)","v":0},{"$f":"IF(EF$5=TRUE,BN149,0)","v":0},{"$f":"IF(EG$5=TRUE,BO149,0)","v":0},{"$f":"IF(EH$5=TRUE,BP149,0)","v":0},{"$f":"IF(EI$5=TRUE,BQ149,0)","v":0},{"$f":"IF(EJ$5=TRUE,BR149,0)","v":0},{"$f":"IF(EK$5=TRUE,BS149,0)","v":0},{"$f":"IF(EL$5=TRUE,BT149,0)","v":0},{"$f":"IF(EM$5=TRUE,BU149,0)","v":0},{"$f":"IF(EN$5=TRUE,BV149,0)","v":0},{"$f":"IF(EO$5=TRUE,BW149,0)","v":0},{"$f":"IF(EP$5=TRUE,BX149,0)","v":0},{"$f":"IF(EQ$5=TRUE,BY149,0)","v":0},{"$f":"IF(ER$5=TRUE,BZ149,0)","v":0},null,0,1,{"$f":"ET149*EU149*EY149","v":0},null,null,0]
[25,2,0,null,null,null,"\nNone - Soil Surface aggregation non-existent\n","PCS Soil Regenerative Feature score is 1",null,null,null,null,null,null,1,null,null,null,null,null,null,null,null,null,null,null,1,null,null,null,null,null,null,null,null,null,null,null,null,null,null,null,null,null,null,null,null,null,null,null,null,null,null,null,null,null,null,1,null,null,null,null,null,null,null,null,null,null,null,null,null,null,null,null,null,null,null,null,null,0,0,0,0,0,0,0,0,0,0,0,0,0,0,0,0,0,0,0,0,0,0,0,0,0,0,0,0,0,0,0,0,0,0,0,0,0,0,0,0,0,0,0,0,0,0,0,0,0,0,0,0,0,0,0,0,0,0,0,0,0,0,0,0,0,0,0,0,0,null,0,1,0,null,null,0]
[25,3,0,null,null,null,"\nLow - Aggregate Stability very weak\n","Overgrazed Pasture\nOR\nPCS Soil Regenerative Feature score is 2",null,null,null,null,null,null,1,null,null,null,null,null,null,null,null,null,null,null,1,null,null,null,null,null,null,null,null,null,null,null,null,null,null,null,null,null,null,null,null,null,null,null,null,null,null,null,null,null,null,1,null,null,null,null,null,null,null,null,null,null,null,null,null,null,null,null,null,null,null,null,null,0,0,0,0,0,0,0,0,0,0,0,0,0,0,0,0,0,0,0,0,0,0,0,0,0,0,0,0,0,0,0,0,0,0,0,0,0,0,0,0,0,0,0,0,0,0,0,0,0,0,0,0,0,0,0,0,0,0,0,0,0,0,0,0,0,0,0,0,0,null,0,1,0,null,null,0]
[25,4,0,null,null,null,"\nModerate - Maintain Stable Aggregates under low to moderate stressors\n","PCS Soil Regenerative Feature score is 3",null,null,null,null,null,null,1,null,null,null,null,null,null,null,null,null,null,null,1,null,null,null,null,null,null,null,null,null,null,null,null,null,null,null,null,null,null,null,null,null,null,null,null,null,null,null,null,null,null,1,null,null,null,null,null,null,null,null,null,null,null,null,null,null,null,null,null,null,null,null,null,0,0,0,0,0,0,0,0,0,0,0,0,0,0,0,0,0,0,0,0,0,0,0,0,0,0,0,0,0,0,0,0,0,0,0,0,0,0,0,0,0,0,0,0,0,0,0,0,0,0,0,0,0,0,0,0,0,0,0,0,0,0,0,0,0,0,0,0,0,null,0,1,0,null,null,0]
[25,5,0,null,null,null," \nHigh - Aggregate Stability very strong and at Potential for the Site\n","PCS Soil Regenerative Feature score is 4",null,null,null,null,null,null,1,null,null,null,null,null,null,null,null,null,null,null,1,null,null,null,null,null,null,null,null,null,null,null,null,null,null,null,null,null,null,null,null,null,null,null,null,null,null,null,null,null,null,1,null,null,null,null,null,null,null,null,null,null,null,null,null,null,null,null,null,null,null,null,null,0,0,0,0,0,0,0,0,0,0,0,0,0,0,0,0,0,0,0,0,0,0,0,0,0,0,0,0,0,0,0,0,0,0,0,0,0,0,0,0,0,0,0,0,0,0,0,0,0,0,0,0,0,0,0,0,0,0,0,0,0,0,0,0,0,0,0,0,0,null,0,1,0,null,null,0]
[32,1,0,null,"Livestock",null,null,null,null,null,1,1,1,1,1,1,1,1,1,1,1,1,null,null,null,null,1,null,1,null,null,null,null,null,null,null,null,null,null,null,null,null,null,null,null,null,null,null,null,1,1,1,null,null,null,null,null,null,null,null,null,null,null,null,null,null,null,null,null,null,null,null,null,null,null,null,null,null,null,0,0,0,0,0,0,0,0,0,0,0,0,0,0,0,0,1,{"$f":"IF(CS$5=\"TRUE\",AA154,0)","v":0},{"$f":"IF(CT$5=TRUE,AB154,0)","v":0},{"$f":"IF(CU$5=TRUE,AC154,0)","v":0},{"$f":"IF(CV$5=TRUE,AD154,0)","v":0},{"$f":"IF(CW$5=TRUE,AE154,0)","v":0},{"$f":"IF(CX$5=TRUE,AF154,0)","v":0},{"$f":"IF(CY$5=TRUE,AG154,0)","v":0},{"$f":"IF(CZ$5=TRUE,AH154,0)","v":0},{"$f":"IF(DA$5=TRUE,AI154,0)","v":0},{"$f":"IF(DB$5=TRUE,AJ154,0)","v":0},{"$f":"IF(DC$5=TRUE,AK154,0)","v":0},{"$f":"IF(DD$5=TRUE,AL154,0)","v":0},{"$f":"IF(DE$5=TRUE,AM154,0)","v":0},{"$f":"IF(DF$5=TRUE,AN154,0)","v":0},{"$f":"IF(DG$5=TRUE,AO154,0)","v":0},{"$f":"IF(DH$5=TRUE,AP154,0)","v":0},{"$f":"IF(DI$5=TRUE,AQ154,0)","v":0},{"$f":"IF(DJ$5=TRUE,AR154,0)","v":0},{"$f":"IF(DK$5=TRUE,AS154,0)","v":0},{"$f":"IF(DL$5=TRUE,AT154,0)","v":0},{"$f":"IF(DM$5=TRUE,AU154,0)","v":0},{"$f":"IF(DN$5=TRUE,AV154,0)","v":0},{"$f":"IF(DO$5=TRUE,AW154,0)","v":0},{"$f":"IF(DP$5=TRUE,AX154,0)","v":0},{"$f":"IF(DQ$5=TRUE,AY154,0)","v":0},{"$f":"IF(DR$5=TRUE,AZ154,0)","v":0},{"$f":"IF(DS$5=TRUE,BA154,0)","v":0},{"$f":"IF(DT$5=TRUE,BB154,0)","v":0},{"$f":"IF(DU$5=TRUE,BC154,0)","v":0},{"$f":"IF(DV$5=TRUE,BD154,0)","v":0},{"$f":"IF(DW$5=TRUE,BE154,0)","v":0},{"$f":"IF(DX$5=TRUE,BF154,0)","v":0},{"$f":"IF(DY$5=TRUE,BG154,0)","v":0},{"$f":"IF(DZ$5=TRUE,BH154,0)","v":0},{"$f":"IF(EA$5=TRUE,BI154,0)","v":0},{"$f":"IF(EB$5=TRUE,BJ154,0)","v":0},{"$f":"IF(EC$5=TRUE,BK154,0)","v":0},{"$f":"IF(ED$5=TRUE,BL154,0)","v":0},{"$f":"IF(EE$5=TRUE,BM154,0)","v":0},{"$f":"IF(EF$5=TRUE,BN154,0)","v":0},{"$f":"IF(EG$5=TRUE,BO154,0)","v":0},{"$f":"IF(EH$5=TRUE,BP154,0)","v":0},{"$f":"IF(EI$5=TRUE,BQ154,0)","v":0},{"$f":"IF(EJ$5=TRUE,BR154,0)","v":0},{"$f":"IF(EK$5=TRUE,BS154,0)","v":0},{"$f":"IF(EL$5=TRUE,BT154,0)","v":0},{"$f":"IF(EM$5=TRUE,BU154,0)","v":0},{"$f":"IF(EN$5=TRUE,BV154,0)","v":0},{"$f":"IF(EO$5=TRUE,BW154,0)","v":0},{"$f":"IF(EP$5=TRUE,BX154,0)","v":0},{"$f":"IF(EQ$5=TRUE,BY154,0)","v":0},{"$f":"IF(ER$5=TRUE,BZ154,0)","v":0},null,0,1,{"$f":"ET154*EU154*EY154","v":0},null,null,1,1]
[33,1,0,null,"Q:","Livestock present in the PLU?",null,"Guidance","Documentation: (e.g. field notes, client interview responses, justification)",null,1,1,1,1,1,1,1,1,null,null,null,1,null,null,null,null,1,null,null,null,null,null,null,null,null,null,null,null,null,null,null,null,null,null,null,null,null,null,null,null,null,null,null,null,null,null,null,null,null,null,null,null,null,null,null,null,null,null,null,null,null,null,null,null,null,null,null,null,null,0,0,0,0,0,0,0,0,0,0,0,0,0,0,0,0,1,0,0,0,0,0,0,0,0,0,0,0,0,0,0,0,0,0,0,0,0,0,0,0,0,0,0,0,0,0,0,0,0,0,0,0,0,0,0,0,0,0,0,0,0,0,0,0,0,0,0,0,0,null,0,1,0,null,null,1,1]
[33,2,0,null,null,null," YES",null,null,null,1,1,1,1,1,1,1,1,null,null,null,1,null,null,null,null,1,null,null,null,null,null,null,null,null,null,null,null,null,null,null,null,null,null,null,null,null,null,null,null,null,null,null,null,null,null,null,null,null,null,null,null,null,null,null,null,null,null,null,null,null,null,null,null,null,null,null,null,null,0,0,0,0,0,0,0,0,0,0,0,0,0,0,0,0,1,0,0,0,0,0,0,0,0,0,0,0,0,0,0,0,0,0,0,0,0,0,0,0,0,0,0,0,0,0,0,0,0,0,0,0,0,0,0,0,0,0,0,0,0,0,0,0,0,0,0,0,0,null,0,1,0,null,null,1,1]
[33,3,0,null,null,null," NO",null,null,null,1,1,1,1,1,1,1,1,null,null,null,1,null,null,null,null,1,null,null,null,null,null,null,null,null,null,null,null,null,null,null,null,null,null,null,null,null,null,null,null,null,null,null,null,null,null,null,null,null,null,null,null,null,null,null,null,null,null,null,null,null,null,null,null,null,null,null,null,null,0,0,0,0,0,0,0,0,0,0,0,0,0,0,0,0,1,0,0,0,0,0,0,0,0,0,0,0,0,0,0,0,0,0,0,0,0,0,0,0,0,0,0,0,0,0,0,0,0,0,0,0,0,0,0,0,0,0,0,0,0,0,0,0,0,0,0,0,0,null,0,1,0,null,null,1,1]
[34,1,0,null,"Q:","Primary Species",null,"Guidance","Documentation: (e.g. field notes, client interview responses, justification)",null,null,null,null,null,1,null,null,1,null,1,null,1,null,null,null,null,1,null,null,null,null,null,null,null,null,null,null,null,null,null,null,null,null,null,null,null,null,null,null,null,null,null,null,null,null,null,null,null,null,null,null,null,null,null,null,null,null,null,null,null,null,null,null,null,null,null,null,null,null,0,0,0,0,0,0,0,0,0,0,0,0,0,0,0,0,1,0,0,0,0,0,0,0,0,0,0,0,0,0,0,0,0,0,0,0,0,0,0,0,0,0,0,0,0,0,0,0,0,0,0,0,0,0,0,0,0,0,0,0,0,0,0,0,0,0,0,0,0,null,0,1,0,null,null,1,1]
[34,2,0,null,null,null,"Cattle Beef Cow/Calf","Can list multiple species, not just primary",null,null,null,null,null,null,1,null,null,1,null,1,null,1,null,null,null,null,1,null,null,null,null,null,null,null,null,null,null,null,null,null,null,null,null,null,null,null,null,null,null,null,null,null,null,null,null,null,null,null,null,null,null,null,null,null,null,null,null,null,null,null,null,null,null,null,null,null,null,null,null,0,0,0,0,0,0,0,0,0,0,0,0,0,0,0,0,1,0,0,0,0,0,0,0,0,0,0,0,0,0,0,0,0,0,0,0,0,0,0,0,0,0,0,0,0,0,0,0,0,0,0,0,0,0,0,0,0,0,0,0,0,0,0,0,0,0,0,0,0,null,0,1,0,null,null,1,1]
[34,3,0,null,null,null,"Cattle Beef Stocker",null,null,null,null,null,null,null,1,null,null,1,null,1,null,1,null,null,null,null,1,null,null,null,null,null,null,null,null,null,null,null,null,null,null,null,null,null,null,null,null,null,null,null,null,null,null,null,null,null,null,null,null,null,null,null,null,null,null,null,null,null,null,null,null,null,null,null,null,null,null,null,null,0,0,0,0,0,0,0,0,0,0,0,0,0,0,0,0,1,0,0,0,0,0,0,0,0,0,0,0,0,0,0,0,0,0,0,0,0,0,0,0,0,0,0,0,0,0,0,0,0,0,0,0,0,0,0,0,0,0,0,0,0,0,0,0,0,0,0,0,0,null,0,1,0,null,null,1,1]
[34,4,0,null,null,null,"Dairy cows/heifers",null,null,null,null,null,null,null,1,null,null,1,null,1,null,1,null,null,null,null,1,null,null,null,null,null,null,null,null,null,null,null,null,null,null,null,null,null,null,null,null,null,null,null,null,null,null,null,null,null,null,null,null,null,null,null,null,null,null,null,null,null,null,null,null,null,null,null,null,null,null,null,null,0,0,0,0,0,0,0,0,0,0,0,0,0,0,0,0,1,0,0,0,0,0,0,0,0,0,0,0,0,0,0,0,0,0,0,0,0,0,0,0,0,0,0,0,0,0,0,0,0,0,0,0,0,0,0,0,0,0,0,0,0,0,0,0,0,0,0,0,0,null,0,1,0,null,null,1,1]
[34,5,0,null,null,null,"Dry cows",null,null,null,null,null,null,null,1,null,null,1,null,1,null,1,null,null,null,null,1,null,null,null,null,null,null,null,null,null,null,null,null,null,null,null,null,null,null,null,null,null,null,null,null,null,null,null,null,null,null,null,null,null,null,null,null,null,null,null,null,null,null,null,null,null,null,null,null,null,null,null,null,0,0,0,0,0,0,0,0,0,0,0,0,0,0,0,0,1,0,0,0,0,0,0,0,0,0,0,0,0,0,0,0,0,0,0,0,0,0,0,0,0,0,0,0,0,0,0,0,0,0,0,0,0,0,0,0,0,0,0,0,0,0,0,0,0,0,0,0,0,null,0,1,0,null,null,1,1]
[34,6,0,null,null,null,"Goats",null,null,null,null,null,null,null,1,null,null,1,null,1,null,1,null,null,null,null,1,null,null,null,null,null,null,null,null,null,null,null,null,null,null,null,null,null,null,null,null,null,null,null,null,null,null,null,null,null,null,null,null,null,null,null,null,null,null,null,null,null,null,null,null,null,null,null,null,null,null,null,null,0,0,0,0,0,0,0,0,0,0,0,0,0,0,0,0,1,0,0,0,0,0,0,0,0,0,0,0,0,0,0,0,0,0,0,0,0,0,0,0,0,0,0,0,0,0,0,0,0,0,0,0,0,0,0,0,0,0,0,0,0,0,0,0,0,0,0,0,0,null,0,1,0,null,null,1,1]
[34,7,0,null,null,null,"Horses",null,null,null,null,null,null,null,1,null,null,1,null,1,null,1,null,null,null,null,1,null,null,null,null,null,null,null,null,null,null,null,null,null,null,null,null,null,null,null,null,null,null,null,null,null,null,null,null,null,null,null,null,null,null,null,null,null,null,null,null,null,null,null,null,null,null,null,null,null,null,null,null,0,0,0,0,0,0,0,0,0,0,0,0,0,0,0,0,1,0,0,0,0,0,0,0,0,0,0,0,0,0,0,0,0,0,0,0,0,0,0,0,0,0,0,0,0,0,0,0,0,0,0,0,0,0,0,0,0,0,0,0,0,0,0,0,0,0,0,0,0,null,0,1,0,null,null,1,1]
[34,8,0,null,null,null,"Poultry",null,null,null,null,null,null,null,1,null,null,1,null,1,null,1,null,null,null,null,1,null,null,null,null,null,null,null,null,null,null,null,null,null,null,null,null,null,null,null,null,null,null,null,null,null,null,null,null,null,null,null,null,null,null,null,null,null,null,null,null,null,null,null,null,null,null,null,null,null,null,null,null,0,0,0,0,0,0,0,0,0,0,0,0,0,0,0,0,1,0,0,0,0,0,0,0,0,0,0,0,0,0,0,0,0,0,0,0,0,0,0,0,0,0,0,0,0,0,0,0,0,0,0,0,0,0,0,0,0,0,0,0,0,0,0,0,0,0,0,0,0,null,0,1,0,null,null,1,1]
[34,9,0,null,null,null,"Sheep",null,null,null,null,null,null,null,1,null,null,1,null,1,null,1,null,null,null,null,1,null,null,null,null,null,null,null,null,null,null,null,null,null,null,null,null,null,null,null,null,null,null,null,null,null,null,null,null,null,null,null,null,null,null,null,null,null,null,null,null,null,null,null,null,null,null,null,null,null,null,null,null,0,0,0,0,0,0,0,0,0,0,0,0,0,0,0,0,1,0,0,0,0,0,0,0,0,0,0,0,0,0,0,0,0,0,0,0,0,0,0,0,0,0,0,0,0,0,0,0,0,0,0,0,0,0,0,0,0,0,0,0,0,0,0,0,0,0,0,0,0,null,0,1,0,null,null,1,1]
[34,10,0,null,null,null,"Swine",null,null,null,null,null,null,null,1,null,null,1,null,1,null,1,null,null,null,null,1,null,null,null,null,null,null,null,null,null,null,null,null,null,null,null,null,null,null,null,null,null,null,null,null,null,null,null,null,null,null,null,null,null,null,null,null,null,null,null,null,null,null,null,null,null,null,null,null,null,null,null,null,0,0,0,0,0,0,0,0,0,0,0,0,0,0,0,0,1,0,0,0,0,0,0,0,0,0,0,0,0,0,0,0,0,0,0,0,0,0,0,0,0,0,0,0,0,0,0,0,0,0,0,0,0,0,0,0,0,0,0,0,0,0,0,0,0,0,0,0,0,null,0,1,0,null,null,1,1]
[34,12,0,null,null,null,"Honey Bees",null,null,null,null,null,null,null,1,null,null,1,null,1,null,1,null,null,null,null,1,null,null,null,null,null,null,null,null,null,null,null,null,null,null,null,null,null,null,null,null,null,null,null,null,null,null,null,null,null,null,null,null,null,null,null,null,null,null,null,null,null,null,null,null,null,null,null,null,null,null,null,null,0,0,0,0,0,0,0,0,0,0,0,0,0,0,0,0,1,0,0,0,0,0,0,0,0,0,0,0,0,0,0,0,0,0,0,0,0,0,0,0,0,0,0,0,0,0,0,0,0,0,0,0,0,0,0,0,0,0,0,0,0,0,0,0,0,0,0,0,0,null,0,1,0,null,null,{"$f":"MAX(CR168:ER168)","v":1},1]
[34,13,0,null,null,null,"Bison",null,null,null,null,null,null,null,1,null,null,1,null,1,null,1,null,null,null,null,1,null,null,null,null,null,null,null,null,null,null,null,null,null,null,null,null,null,null,null,null,null,null,null,null,null,null,null,null,null,null,null,null,null,null,null,null,null,null,null,null,null,null,null,null,null,null,null,null,null,null,null,null,0,0,0,0,0,0,0,0,0,0,0,0,0,0,0,0,1,0,0,0,0,0,0,0,0,0,0,0,0,0,0,0,0,0,0,0,0,0,0,0,0,0,0,0,0,0,0,0,0,0,0,0,0,0,0,0,0,0,0,0,0,0,0,0,0,0,0,0,0,null,0,1,0,null,null,1,1]
[34,14,0,null,null,null,"Deer",null,null,null,null,null,null,null,1,null,null,1,null,1,null,1,null,null,null,null,1,null,null,null,null,null,null,null,null,null,null,null,null,null,null,null,null,null,null,null,null,null,null,null,null,null,null,null,null,null,null,null,null,null,null,null,null,null,null,null,null,null,null,null,null,null,null,null,null,null,null,null,null,0,0,0,0,0,0,0,0,0,0,0,0,0,0,0,0,1,0,0,0,0,0,0,0,0,0,0,0,0,0,0,0,0,0,0,0,0,0,0,0,0,0,0,0,0,0,0,0,0,0,0,0,0,0,0,0,0,0,0,0,0,0,0,0,0,0,0,0,0,null,0,1,0,null,null,1,1]
[34,15,0,null,null,null,"Elk",null,null,null,null,null,null,null,1,null,null,1,null,1,null,1,null,null,null,null,1,null,null,null,null,null,null,null,null,null,null,null,null,null,null,null,null,null,null,null,null,null,null,null,null,null,null,null,null,null,null,null,null,null,null,null,null,null,null,null,null,null,null,null,null,null,null,null,null,null,null,null,null,0,0,0,0,0,0,0,0,0,0,0,0,0,0,0,0,1,0,0,0,0,0,0,0,0,0,0,0,0,0,0,0,0,0,0,0,0,0,0,0,0,0,0,0,0,0,0,0,0,0,0,0,0,0,0,0,0,0,0,0,0,0,0,0,0,0,0,0,0,null,0,1,0,null,null,1,1]
[34,16,0,null,null,null,"Llamas",null,null,null,null,null,null,null,1,null,null,1,null,1,null,1,null,null,null,null,1,null,null,null,null,null,null,null,null,null,null,null,null,null,null,null,null,null,null,null,null,null,null,null,null,null,null,null,null,null,null,null,null,null,null,null,null,null,null,null,null,null,null,null,null,null,null,null,null,null,null,null,null,0,0,0,0,0,0,0,0,0,0,0,0,0,0,0,0,1,0,0,0,0,0,0,0,0,0,0,0,0,0,0,0,0,0,0,0,0,0,0,0,0,0,0,0,0,0,0,0,0,0,0,0,0,0,0,0,0,0,0,0,0,0,0,0,0,0,0,0,0,null,0,1,0,null,null,1,1]
[34,17,0,null,null,null,"Mules",null,null,null,null,null,null,null,1,null,null,1,null,1,null,1,null,null,null,null,1,null,null,null,null,null,null,null,null,null,null,null,null,null,null,null,null,null,null,null,null,null,null,null,null,null,null,null,null,null,null,null,null,null,null,null,null,null,null,null,null,null,null,null,null,null,null,null,null,null,null,null,null,0,0,0,0,0,0,0,0,0,0,0,0,0,0,0,0,1,0,0,0,0,0,0,0,0,0,0,0,0,0,0,0,0,0,0,0,0,0,0,0,0,0,0,0,0,0,0,0,0,0,0,0,0,0,0,0,0,0,0,0,0,0,0,0,0,0,0,0,0,null,0,1,0,null,null,1,1]
[34,18,0,null,null,null,"Rabbits",null,null,null,null,null,null,null,1,null,null,1,null,1,null,1,null,null,null,null,1,null,null,null,null,null,null,null,null,null,null,null,null,null,null,null,null,null,null,null,null,null,null,null,null,null,null,null,null,null,null,null,null,null,null,null,null,null,null,null,null,null,null,null,null,null,null,null,null,null,null,null,null,0,0,0,0,0,0,0,0,0,0,0,0,0,0,0,0,1,0,0,0,0,0,0,0,0,0,0,0,0,0,0,0,0,0,0,0,0,0,0,0,0,0,0,0,0,0,0,0,0,0,0,0,0,0,0,0,0,0,0,0,0,0,0,0,0,0,0,0,0,null,0,1,0,null,null,1,1]
[34,19,0,null,null,null,"Turkeys",null,null,null,null,null,null,null,1,null,null,1,null,1,null,1,null,null,null,null,1,null,null,null,null,null,null,null,null,null,null,null,null,null,null,null,null,null,null,null,null,null,null,null,null,null,null,null,null,null,null,null,null,null,null,null,null,null,null,null,null,null,null,null,null,null,null,null,null,null,null,null,null,0,0,0,0,0,0,0,0,0,0,0,0,0,0,0,0,1,0,0,0,0,0,0,0,0,0,0,0,0,0,0,0,0,0,0,0,0,0,0,0,0,0,0,0,0,0,0,0,0,0,0,0,0,0,0,0,0,0,0,0,0,0,0,0,0,0,0,0,0,null,0,1,0,null,null,1,1]
[34,20,0,null,null,null,"Alpacas",null,null,null,null,null,null,null,1,null,null,1,null,1,null,1,null,null,null,null,1,null,null,null,null,null,null,null,null,null,null,null,null,null,null,null,null,null,null,null,null,null,null,null,null,null,null,null,null,null,null,null,null,null,null,null,null,null,null,null,null,null,null,null,null,null,null,null,null,null,null,null,null,0,0,0,0,0,0,0,0,0,0,0,0,0,0,0,0,1,0,0,0,0,0,0,0,0,0,0,0,0,0,0,0,0,0,0,0,0,0,0,0,0,0,0,0,0,0,0,0,0,0,0,0,0,0,0,0,0,0,0,0,0,0,0,0,0,0,0,0,0,null,0,1,0,null,null,1,1]
[34,21,0,null,null,null,"Emu",null,null,null,null,null,null,null,1,null,null,1,null,1,null,1,null,null,null,null,1,null,null,null,null,null,null,null,null,null,null,null,null,null,null,null,null,null,null,null,null,null,null,null,null,null,null,null,null,null,null,null,null,null,null,null,null,null,null,null,null,null,null,null,null,null,null,null,null,null,null,null,null,0,0,0,0,0,0,0,0,0,0,0,0,0,0,0,0,1,0,0,0,0,0,0,0,0,0,0,0,0,0,0,0,0,0,0,0,0,0,0,0,0,0,0,0,0,0,0,0,0,0,0,0,0,0,0,0,0,0,0,0,0,0,0,0,0,0,0,0,0,null,0,1,0,null,null,1,1]
[34,22,0,null,null,null,"Aquacultured Fish",null,null,null,null,null,null,null,1,null,null,1,null,1,null,1,null,null,null,null,1,null,null,null,null,null,null,null,null,null,null,null,null,null,null,null,null,null,null,null,null,null,null,null,null,null,null,null,null,null,null,null,null,null,null,null,null,null,null,null,null,null,null,null,null,null,null,null,null,null,null,null,null,0,0,0,0,0,0,0,0,0,0,0,0,0,0,0,0,1,0,0,0,0,0,0,0,0,0,0,0,0,0,0,0,0,0,0,0,0,0,0,0,0,0,0,0,0,0,0,0,0,0,0,0,0,0,0,0,0,0,0,0,0,0,0,0,0,0,0,0,0,null,0,1,0,null,null,1,1]
[34,23,0,null,null,null,"Ratites",null,null,null,null,null,null,null,1,null,null,1,null,1,null,1,null,null,null,null,1,null,null,null,null,null,null,null,null,null,null,null,null,null,null,null,null,null,null,null,null,null,null,null,null,null,null,null,null,null,null,null,null,null,null,null,null,null,null,null,null,null,null,null,null,null,null,null,null,null,null,null,null,0,0,0,0,0,0,0,0,0,0,0,0,0,0,0,0,1,0,0,0,0,0,0,0,0,0,0,0,0,0,0,0,0,0,0,0,0,0,0,0,0,0,0,0,0,0,0,0,0,0,0,0,0,0,0,0,0,0,0,0,0,0,0,0,0,0,0,0,0,null,0,1,0,null,null,1,1]
[34,24,0,null,null,null,"Other Terrestrial Livestock",null,null,null,null,null,null,null,1,null,null,1,null,1,null,1,null,null,null,null,1,null,null,null,null,null,null,null,null,null,null,null,null,null,null,null,null,null,null,null,null,null,null,null,null,null,null,null,null,null,null,null,null,null,null,null,null,null,null,null,null,null,null,null,null,null,null,null,null,null,null,null,null,0,0,0,0,0,0,0,0,0,0,0,0,0,0,0,0,1,0,0,0,0,0,0,0,0,0,0,0,0,0,0,0,0,0,0,0,0,0,0,0,0,0,0,0,0,0,0,0,0,0,0,0,0,0,0,0,0,0,0,0,0,0,0,0,0,0,0,0,0,null,0,1,0,null,null,1,1]
[34,11,{"$f":"IF(EV181>0,1,0)","v":0},null,null,null,"Other Aquacultured Livestock",null,null,null,null,null,null,null,1,null,null,1,null,1,null,1,null,null,null,null,1,null,null,null,null,null,null,null,null,null,null,null,null,null,null,null,null,null,null,null,null,null,null,null,null,null,null,null,null,null,null,null,null,null,null,null,null,null,null,null,null,null,null,null,null,null,null,null,null,null,null,null,null,{"$f":"IF(CB$5=TRUE,K181,0)","v":0},0,0,0,0,0,0,0,0,0,0,0,0,0,0,0,{"$f":"EZ181","v":1},{"$f":"IF(CS$5=\"TRUE\",AA181,0)","v":0},{"$f":"IF(CT$5=TRUE,AB181,0)","v":0},0,0,0,0,0,0,0,0,0,0,0,0,0,0,0,0,0,0,0,0,0,0,0,0,0,0,0,0,0,0,0,0,0,0,0,0,0,0,0,0,0,0,0,0,0,0,0,0,0,0,null,{"$f":"MAX(CB181:CQ181)","v":0},1,{"$f":"ET181*EU181*EY181","v":0},null,null,{"$f":"MAX(CR181:ER181)","v":1},1]
[35,1,0,null,"Q:","Animal Numbers",null,"Guidance","Documentation: (e.g. field notes, client interview responses, justification)",null,null,null,null,null,1,null,null,1,null,1,null,1,null,null,null,null,1,null,null,null,null,null,null,null,null,null,null,null,null,null,null,null,null,null,null,null,null,null,null,null,null,null,null,null,null,null,null,null,null,null,null,null,null,null,null,null,null,null,null,null,null,null,null,null,null,null,null,null,null,0,0,0,0,0,0,0,0,0,0,0,0,0,0,0,0,1,0,0,0,0,0,0,0,0,0,0,0,0,0,0,0,0,0,0,0,0,0,0,0,0,0,0,0,0,0,0,0,0,0,0,0,0,0,0,0,0,0,0,0,0,0,0,0,0,0,0,0,0,null,0,1,0,null,null,1,1]
[35,2,0,null,null,null," 1-10","Use animal numbers not Animal Units",null,null,null,null,null,null,1,null,null,1,null,1,null,1,null,null,null,null,1,null,null,null,null,null,null,null,null,null,null,null,null,null,null,null,null,null,null,null,null,null,null,null,null,null,null,null,null,null,null,null,null,null,null,null,null,null,null,null,null,null,null,null,null,null,null,null,null,null,null,null,null,0,0,0,0,0,0,0,0,0,0,0,0,0,0,0,0,1,0,0,0,0,0,0,0,0,0,0,0,0,0,0,0,0,0,0,0,0,0,0,0,0,0,0,0,0,0,0,0,0,0,0,0,0,0,0,0,0,0,0,0,0,0,0,0,0,0,0,0,0,null,0,1,0,null,null,1,1]
[35,3,0,null,null,null," 11-100",null,null,null,null,null,null,null,1,null,null,1,null,1,null,1,null,null,null,null,1,null,null,null,null,null,null,null,null,null,null,null,null,null,null,null,null,null,null,null,null,null,null,null,null,null,null,null,null,null,null,null,null,null,null,null,null,null,null,null,null,null,null,null,null,null,null,null,null,null,null,null,null,0,0,0,0,0,0,0,0,0,0,0,0,0,0,0,0,1,0,0,0,0,0,0,0,0,0,0,0,0,0,0,0,0,0,0,0,0,0,0,0,0,0,0,0,0,0,0,0,0,0,0,0,0,0,0,0,0,0,0,0,0,0,0,0,0,0,0,0,0,null,0,1,0,null,null,1,1]
[35,4,0,null,null,null," 101-300",null,null,null,null,null,null,null,1,null,null,1,null,1,null,1,null,null,null,null,1,null,null,null,null,null,null,null,null,null,null,null,null,null,null,null,null,null,null,null,null,null,null,null,null,null,null,null,null,null,null,null,null,null,null,null,null,null,null,null,null,null,null,null,null,null,null,null,null,null,null,null,null,0,0,0,0,0,0,0,0,0,0,0,0,0,0,0,0,1,0,0,0,0,0,0,0,0,0,0,0,0,0,0,0,0,0,0,0,0,0,0,0,0,0,0,0,0,0,0,0,0,0,0,0,0,0,0,0,0,0,0,0,0,0,0,0,0,0,0,0,0,null,0,1,0,null,null,1,1]
[35,5,0,null,null,null," 301-1,000",null,null,null,null,null,null,null,1,null,null,1,null,1,null,1,null,null,null,null,1,null,null,null,null,null,null,null,null,null,null,null,null,null,null,null,null,null,null,null,null,null,null,null,null,null,null,null,null,null,null,null,null,null,null,null,null,null,null,null,null,null,null,null,null,null,null,null,null,null,null,null,null,0,0,0,0,0,0,0,0,0,0,0,0,0,0,0,0,1,0,0,0,0,0,0,0,0,0,0,0,0,0,0,0,0,0,0,0,0,0,0,0,0,0,0,0,0,0,0,0,0,0,0,0,0,0,0,0,0,0,0,0,0,0,0,0,0,0,0,0,0,null,0,1,0,null,null,1,1]
[35,6,0,null,null,null," 1,001-5,000",null,null,null,null,null,null,null,1,null,null,1,null,1,null,1,null,null,null,null,1,null,null,null,null,null,null,null,null,null,null,null,null,null,null,null,null,null,null,null,null,null,null,null,null,null,null,null,null,null,null,null,null,null,null,null,null,null,null,null,null,null,null,null,null,null,null,null,null,null,null,null,null,0,0,0,0,0,0,0,0,0,0,0,0,0,0,0,0,1,0,0,0,0,0,0,0,0,0,0,0,0,0,0,0,0,0,0,0,0,0,0,0,0,0,0,0,0,0,0,0,0,0,0,0,0,0,0,0,0,0,0,0,0,0,0,0,0,0,0,0,0,null,0,1,0,null,null,1,1]
[35,7,0,null,null,null," 5,001-10,000",null,null,null,null,null,null,null,1,null,null,1,null,1,null,1,null,null,null,null,1,null,null,null,null,null,null,null,null,null,null,null,null,null,null,null,null,null,null,null,null,null,null,null,null,null,null,null,null,null,null,null,null,null,null,null,null,null,null,null,null,null,null,null,null,null,null,null,null,null,null,null,null,0,0,0,0,0,0,0,0,0,0,0,0,0,0,0,0,1,0,0,0,0,0,0,0,0,0,0,0,0,0,0,0,0,0,0,0,0,0,0,0,0,0,0,0,0,0,0,0,0,0,0,0,0,0,0,0,0,0,0,0,0,0,0,0,0,0,0,0,0,null,0,1,0,null,null,1,1]
[35,8,0,null,null,null," 10,001-100,000",null,null,null,null,null,null,null,1,null,null,1,null,1,null,1,null,null,null,null,1,null,null,null,null,null,null,null,null,null,null,null,null,null,null,null,null,null,null,null,null,null,null,null,null,null,null,null,null,null,null,null,null,null,null,null,null,null,null,null,null,null,null,null,null,null,null,null,null,null,null,null,null,0,0,0,0,0,0,0,0,0,0,0,0,0,0,0,0,1,0,0,0,0,0,0,0,0,0,0,0,0,0,0,0,0,0,0,0,0,0,0,0,0,0,0,0,0,0,0,0,0,0,0,0,0,0,0,0,0,0,0,0,0,0,0,0,0,0,0,0,0,null,0,1,0,null,null,1,1]
[35,9,0,null,null,null," >100,000",null,null,null,null,null,null,null,1,null,null,1,null,1,null,1,null,null,null,null,1,null,null,null,null,null,null,null,null,null,null,null,null,null,null,null,null,null,null,null,null,null,null,null,null,null,null,null,null,null,null,null,null,null,null,null,null,null,null,null,null,null,null,null,null,null,null,null,null,null,null,null,null,0,0,0,0,0,0,0,0,0,0,0,0,0,0,0,0,1,0,0,0,0,0,0,0,0,0,0,0,0,0,0,0,0,0,0,0,0,0,0,0,0,0,0,0,0,0,0,0,0,0,0,0,0,0,0,0,0,0,0,0,0,0,0,0,0,0,0,0,0,null,0,1,0,null,null,1,1]
[36,1,0,null,"Q:","Livestock Feed and Forage  - Pasture",null,"Guidance","Documentation: (e.g. field notes, client interview responses, justification)",null,null,null,null,null,1,null,null,null,null,null,null,null,null,null,null,null,1,null,null,null,null,null,null,null,null,null,null,null,null,null,null,null,null,null,null,null,null,null,null,1,null,null,null,null,null,null,null,null,null,null,null,null,null,null,null,null,null,null,null,null,null,null,null,null,null,null,null,null,null,0,0,0,0,0,0,0,0,0,0,0,0,0,0,0,0,0,{"$f":"IF(CS$5=\"TRUE\",AA191,0)","v":0},{"$f":"IF(CT$5=TRUE,AB191,0)","v":0},{"$f":"IF(CU$5=TRUE,AC191,0)","v":0},{"$f":"IF(CV$5=TRUE,AD191,0)","v":0},{"$f":"IF(CW$5=TRUE,AE191,0)","v":0},{"$f":"IF(CX$5=TRUE,AF191,0)","v":0},{"$f":"IF(CY$5=TRUE,AG191,0)","v":0},{"$f":"IF(CZ$5=TRUE,AH191,0)","v":0},{"$f":"IF(DA$5=TRUE,AI191,0)","v":0},{"$f":"IF(DB$5=TRUE,AJ191,0)","v":0},{"$f":"IF(DC$5=TRUE,AK191,0)","v":0},{"$f":"IF(DD$5=TRUE,AL191,0)","v":0},{"$f":"IF(DE$5=TRUE,AM191,0)","v":0},{"$f":"IF(DF$5=TRUE,AN191,0)","v":0},{"$f":"IF(DG$5=TRUE,AO191,0)","v":0},{"$f":"IF(DH$5=TRUE,AP191,0)","v":0},{"$f":"IF(DI$5=TRUE,AQ191,0)","v":0},{"$f":"IF(DJ$5=TRUE,AR191,0)","v":0},{"$f":"IF(DK$5=TRUE,AS191,0)","v":0},{"$f":"IF(DL$5=TRUE,AT191,0)","v":0},{"$f":"IF(DM$5=TRUE,AU191,0)","v":0},{"$f":"IF(DN$5=TRUE,AV191,0)","v":0},{"$f":"IF(DO$5=TRUE,AW191,0)","v":0},{"$f":"IF(DP$5=TRUE,AX191,0)","v":0},{"$f":"IF(DQ$5=TRUE,AY191,0)","v":0},{"$f":"IF(DR$5=TRUE,AZ191,0)","v":0},{"$f":"IF(DS$5=TRUE,BA191,0)","v":0},{"$f":"IF(DT$5=TRUE,BB191,0)","v":0},{"$f":"IF(DU$5=TRUE,BC191,0)","v":0},{"$f":"IF(DV$5=TRUE,BD191,0)","v":0},{"$f":"IF(DW$5=TRUE,BE191,0)","v":0},{"$f":"IF(DX$5=TRUE,BF191,0)","v":0},{"$f":"IF(DY$5=TRUE,BG191,0)","v":0},{"$f":"IF(DZ$5=TRUE,BH191,0)","v":0},{"$f":"IF(EA$5=TRUE,BI191,0)","v":0},{"$f":"IF(EB$5=TRUE,BJ191,0)","v":0},{"$f":"IF(EC$5=TRUE,BK191,0)","v":0},{"$f":"IF(ED$5=TRUE,BL191,0)","v":0},{"$f":"IF(EE$5=TRUE,BM191,0)","v":0},{"$f":"IF(EF$5=TRUE,BN191,0)","v":0},{"$f":"IF(EG$5=TRUE,BO191,0)","v":0},{"$f":"IF(EH$5=TRUE,BP191,0)","v":0},{"$f":"IF(EI$5=TRUE,BQ191,0)","v":0},{"$f":"IF(EJ$5=TRUE,BR191,0)","v":0},{"$f":"IF(EK$5=TRUE,BS191,0)","v":0},{"$f":"IF(EL$5=TRUE,BT191,0)","v":0},{"$f":"IF(EM$5=TRUE,BU191,0)","v":0},{"$f":"IF(EN$5=TRUE,BV191,0)","v":0},{"$f":"IF(EO$5=TRUE,BW191,0)","v":0},{"$f":"IF(EP$5=TRUE,BX191,0)","v":0},{"$f":"IF(EQ$5=TRUE,BY191,0)","v":0},{"$f":"IF(ER$5=TRUE,BZ191,0)","v":0},null,0,1,{"$f":"ET191*EU191*EY191","v":0},null,null,{"$f":"MAX(CR191:ER191)","v":0}]
[36,4,0,null,null,null,"Adequate forage budget (pasture and supplemental feed) and producer desired production goals are being met","PCS - Grazing Utilization and Severity element ≥ 4\n AND  \nAn inventory of Livestock Forage/Feed is in balance for intended use.",null,null,null,null,null,null,1,null,null,null,null,null,null,null,null,null,null,null,1,null,null,null,null,null,null,null,null,null,null,null,null,null,null,null,null,null,null,null,null,null,null,1,null,null,null,null,null,null,null,null,null,null,null,null,null,null,null,null,null,null,null,null,null,null,null,null,null,null,null,null,null,0,0,0,0,0,0,0,0,0,0,0,0,0,0,0,0,0,0,0,0,0,0,0,0,0,0,0,0,0,0,0,0,0,0,0,0,0,0,0,0,0,0,0,0,0,0,0,0,0,0,0,0,0,0,0,0,0,0,0,0,0,0,0,0,0,0,0,0,0,null,0,1,{"$f":"ET192*EU192*EY192","v":0},null,null,0]
[36,5,0,null,null,null,"Moderate forage supply and producer desired production goals are NOT being met. ","An inventory of Livestock Forage/Feed is NOT in balance for intended use\nOR \nPCS - Grazing Utilization and Severity element is less than 4.",null,null,null,null,null,null,1,null,null,null,null,null,null,null,null,null,null,null,1,null,null,null,null,null,null,null,null,null,null,null,null,null,null,null,null,null,null,null,null,null,null,1,null,null,null,null,null,null,null,null,null,null,null,null,null,null,null,null,null,null,null,null,null,null,null,null,null,null,null,null,null,0,0,0,0,0,0,0,0,0,0,0,0,0,0,0,0,0,0,0,0,0,0,0,0,0,0,0,0,0,0,0,0,0,0,0,0,0,0,0,0,0,0,0,0,0,0,0,0,0,0,0,0,0,0,0,0,0,0,0,0,0,0,0,0,0,0,0,0,0,null,0,1,{"$f":"ET193*EU193*EY193","v":0},null,null,0]
[36,5,0,null,null,null,"Inadequate forage supply and producer desired production goals are NOT being met.  ","Overgrazed Pasture\nOR\nInadequate forage supply and producer desired production goals are NOT being met.",null,null,null,null,null,null,1,null,null,null,null,null,null,null,null,null,null,null,1,null,null,null,null,null,null,null,null,null,null,null,null,null,null,null,null,null,null,null,null,null,null,1,null,null,null,null,null,null,null,null,null,null,null,null,null,null,null,null,null,null,null,null,null,null,null,null,null,null,null,null,null,0,0,0,0,0,0,0,0,0,0,0,0,0,0,0,0,0,0,0,0,0,0,0,0,0,0,0,0,0,0,0,0,0,0,0,0,0,0,0,0,0,0,0,0,0,0,0,0,0,0,0,0,0,0,0,0,0,0,0,0,0,0,0,0,0,0,0,0,0,null,0,1,{"$f":"ET194*EU194*EY194","v":0},null,null,0]
[36,1,5,null,"Q:","Livestock Feed and Forage  - Range",null,"Guidance","Additional Guidance","List PLU's",null,null,null,null,null,null,null,1,null,null,null,null,null,null,null,null,1,null,null,null,null,null,null,null,null,null,null,null,null,null,null,null,null,null,null,null,null,null,null,1,null,null,null,null,null,null,null,null,null,null,null,null,null,null,null,null,null,null,null,null,null,null,null,null,null,null,null,null,null,0,0,0,0,0,0,0,0,0,0,0,0,0,0,0,0,0,0,0,0,0,0,0,0,0,0,0,0,0,0,0,0,0,0,0,0,0,0,0,0,0,0,0,0,0,0,0,0,0,0,0,0,0,0,0,0,0,0,0,0,0,0,0,0,0,0,0,0,0,null,0,1,{"$f":"ET195*EU195*EY195","v":0},null,null,0]
[36,4,5,null,null,null,"Adequate forage budget (pasture and supplemental feed) and producer desired goals are being met","N/A In Iowa",null,null,null,null,null,null,null,null,null,1,null,null,null,null,null,null,null,null,1,null,null,null,null,null,null,null,null,null,null,null,null,null,null,null,null,null,null,null,null,null,null,1,null,null,null,null,null,null,null,null,null,null,null,null,null,null,null,null,null,null,null,null,null,null,null,null,null,null,null,null,null,0,0,0,0,0,0,0,0,0,0,0,0,0,0,0,0,0,0,0,0,0,0,0,0,0,0,0,0,0,0,0,0,0,0,0,0,0,0,0,0,0,0,0,0,0,0,0,0,0,0,0,0,0,0,0,0,0,0,0,0,0,0,0,0,0,0,0,0,0,null,0,1,0,null,null,0]
[36,5,5,null,null,null,"Forage supply and producer desired livestock production goals are NOT being met. ","N/A In Iowa",null,null,null,null,null,null,null,null,null,1,null,null,null,null,null,null,null,null,1,null,null,null,null,null,null,null,null,null,null,null,null,null,null,null,null,null,null,null,null,null,null,1,null,null,null,null,null,null,null,null,null,null,null,null,null,null,null,null,null,null,null,null,null,null,null,null,null,null,null,null,null,0,0,0,0,0,0,0,0,0,0,0,0,0,0,0,0,0,0,0,0,0,0,0,0,0,0,0,0,0,0,0,0,0,0,0,0,0,0,0,0,0,0,0,0,0,0,0,0,0,0,0,0,0,0,0,0,0,0,0,0,0,0,0,0,0,0,0,0,0,null,0,1,0,null,null,0]
[36,5,5,null,null,null,"Inadequate forage supply and producer desired livestock production goals are NOT being met","N/A In Iowa",null,null,null,null,null,null,null,null,null,1,null,null,null,null,null,null,null,null,1,null,null,null,null,null,null,null,null,null,null,null,null,null,null,null,null,null,null,null,null,null,null,1,null,null,null,null,null,null,null,null,null,null,null,null,null,null,null,null,null,null,null,null,null,null,null,null,null,null,null,null,null,0,0,0,0,0,0,0,0,0,0,0,0,0,0,0,0,0,0,0,0,0,0,0,0,0,0,0,0,0,0,0,0,0,0,0,0,0,0,0,0,0,0,0,0,0,0,0,0,0,0,0,0,0,0,0,0,0,0,0,0,0,0,0,0,0,0,0,0,0,null,0,1,0,null,null,0]
[37,1,0,null,"Q:","Livestock Feed and Forage   - Farmstead, Grazed Forest",null,"Guidance","Documentation: (e.g. field notes, client interview responses, justification)",null,null,null,1,1,null,null,null,null,null,null,null,null,null,null,null,null,1,null,null,null,null,null,null,null,null,null,null,null,null,null,null,null,null,null,null,null,null,null,null,1,null,null,null,null,null,null,null,null,null,null,null,null,null,null,null,null,null,null,null,null,null,null,null,null,null,null,null,null,null,0,0,0,0,0,0,0,0,0,0,0,0,0,0,0,0,0,0,0,0,0,0,0,0,0,0,0,0,0,0,0,0,0,0,0,0,0,0,0,0,0,0,0,0,0,0,0,0,0,0,0,0,0,0,0,0,0,0,0,0,0,0,0,0,0,0,0,0,0,null,0,1,{"$f":"ET199*EU199*EY199","v":0},null,null,0]
[37,4,{"$f":"IF(EV200>0,1,0)","v":0},null,null,null," Livestock feed, roughage, and supplemental nutritional requirements are met"," Livestock feed, roughage, and supplemental nutritional requirements are met",null,null,null,null,1,1,null,null,null,null,null,null,null,null,null,null,null,null,1,null,null,null,null,null,null,null,null,null,null,null,null,null,null,null,null,null,null,null,null,null,null,1,null,null,null,null,null,null,null,null,null,null,null,null,null,null,null,null,null,null,null,null,null,null,null,null,null,null,null,null,null,{"$f":"IF(CB$5=TRUE,K200,0)","v":0},{"$f":"IF(CC$5=TRUE,L200,0)","v":0},{"$f":"IF(CD$5=TRUE,M200,0)","v":0},{"$f":"IF(CE$5=TRUE,N200,0)","v":0},{"$f":"IF(CF$5=TRUE,O200,0)","v":0},{"$f":"IF(CG$5=TRUE,P200,0)","v":0},{"$f":"IF(CH$5=TRUE,Q200,0)","v":0},{"$f":"IF(CI$5=TRUE,R200,0)","v":0},{"$f":"IF(CJ$5=TRUE,S200,0)","v":0},{"$f":"IF(CK$5=TRUE,T200,0)","v":0},{"$f":"IF(CL$5=TRUE,U200,0)","v":0},{"$f":"IF(CM$5=TRUE,V200,0)","v":0},{"$f":"IF(CN$5=TRUE,W200,0)","v":0},{"$f":"IF(CO$5=TRUE,X200,0)","v":0},{"$f":"IF(CP$5=TRUE,Y200,0)","v":0},{"$f":"IF(CQ$5=TRUE,Z200,0)","v":0},0,0,0,0,0,0,0,0,0,0,0,0,0,0,0,0,0,0,0,0,0,0,0,0,0,0,0,0,0,0,0,0,0,0,0,0,0,0,0,0,0,0,0,0,0,0,0,0,0,0,0,0,0,null,{"$f":"MAX(CB200:CQ200)","v":0},1,{"$f":"ET200*EU200*EY200","v":0},null,null,0]
[37,5,0,null,null,null," Livestock feed, roughage, and supplemental nutritional requirements are NOT met"," Livestock feed, roughage, and supplemental nutritional requirements are NOT met",null,null,null,null,1,1,null,null,null,null,null,null,null,null,null,null,null,null,1,null,null,null,null,null,null,null,null,null,null,null,null,null,null,null,null,null,null,null,null,null,null,1,null,null,null,null,null,null,null,null,null,null,null,null,null,null,null,null,null,null,null,null,null,null,null,null,null,null,null,null,null,0,0,0,0,0,0,0,0,0,0,0,0,0,0,0,0,{"$f":"EZ201","v":0},0,0,0,0,0,0,0,0,0,0,0,0,0,0,0,0,0,0,0,0,0,0,0,0,0,0,0,0,0,0,0,0,0,0,0,0,0,0,0,0,0,0,0,0,0,0,0,0,0,0,0,0,null,0,1,{"$f":"ET201*EU201*EY201","v":0},null,null,0]
[37,1,0,null,"Q:","Livestock Feed and Forage - Grazed Crop",null,"Guidance","Documentation: (e.g. field notes, client interview responses, justification)",null,null,1,null,null,null,null,null,null,null,null,null,null,null,null,null,null,1,null,null,null,null,null,null,null,null,null,null,null,null,null,null,null,null,null,null,null,null,null,null,1,null,null,null,null,null,null,null,null,null,null,null,null,null,null,null,null,null,null,null,null,null,null,null,null,null,null,null,null,null,0,0,0,0,0,0,0,0,0,0,0,0,0,0,0,0,0,{"$f":"IF(CS$5=\"TRUE\",AA202,0)","v":0},{"$f":"IF(CT$5=TRUE,AB202,0)","v":0},{"$f":"IF(CU$5=TRUE,AC202,0)","v":0},{"$f":"IF(CV$5=TRUE,AD202,0)","v":0},{"$f":"IF(CW$5=TRUE,AE202,0)","v":0},{"$f":"IF(CX$5=TRUE,AF202,0)","v":0},{"$f":"IF(CY$5=TRUE,AG202,0)","v":0},{"$f":"IF(CZ$5=TRUE,AH202,0)","v":0},{"$f":"IF(DA$5=TRUE,AI202,0)","v":0},{"$f":"IF(DB$5=TRUE,AJ202,0)","v":0},{"$f":"IF(DC$5=TRUE,AK202,0)","v":0},{"$f":"IF(DD$5=TRUE,AL202,0)","v":0},{"$f":"IF(DE$5=TRUE,AM202,0)","v":0},{"$f":"IF(DF$5=TRUE,AN202,0)","v":0},{"$f":"IF(DG$5=TRUE,AO202,0)","v":0},{"$f":"IF(DH$5=TRUE,AP202,0)","v":0},{"$f":"IF(DI$5=TRUE,AQ202,0)","v":0},{"$f":"IF(DJ$5=TRUE,AR202,0)","v":0},{"$f":"IF(DK$5=TRUE,AS202,0)","v":0},{"$f":"IF(DL$5=TRUE,AT202,0)","v":0},{"$f":"IF(DM$5=TRUE,AU202,0)","v":0},{"$f":"IF(DN$5=TRUE,AV202,0)","v":0},{"$f":"IF(DO$5=TRUE,AW202,0)","v":0},{"$f":"IF(DP$5=TRUE,AX202,0)","v":0},{"$f":"IF(DQ$5=TRUE,AY202,0)","v":0},{"$f":"IF(DR$5=TRUE,AZ202,0)","v":0},{"$f":"IF(DS$5=TRUE,BA202,0)","v":0},{"$f":"IF(DT$5=TRUE,BB202,0)","v":0},{"$f":"IF(DU$5=TRUE,BC202,0)","v":0},{"$f":"IF(DV$5=TRUE,BD202,0)","v":0},{"$f":"IF(DW$5=TRUE,BE202,0)","v":0},{"$f":"IF(DX$5=TRUE,BF202,0)","v":0},{"$f":"IF(DY$5=TRUE,BG202,0)","v":0},{"$f":"IF(DZ$5=TRUE,BH202,0)","v":0},{"$f":"IF(EA$5=TRUE,BI202,0)","v":0},{"$f":"IF(EB$5=TRUE,BJ202,0)","v":0},{"$f":"IF(EC$5=TRUE,BK202,0)","v":0},{"$f":"IF(ED$5=TRUE,BL202,0)","v":0},{"$f":"IF(EE$5=TRUE,BM202,0)","v":0},{"$f":"IF(EF$5=TRUE,BN202,0)","v":0},{"$f":"IF(EG$5=TRUE,BO202,0)","v":0},{"$f":"IF(EH$5=TRUE,BP202,0)","v":0},{"$f":"IF(EI$5=TRUE,BQ202,0)","v":0},{"$f":"IF(EJ$5=TRUE,BR202,0)","v":0},{"$f":"IF(EK$5=TRUE,BS202,0)","v":0},{"$f":"IF(EL$5=TRUE,BT202,0)","v":0},{"$f":"IF(EM$5=TRUE,BU202,0)","v":0},{"$f":"IF(EN$5=TRUE,BV202,0)","v":0},{"$f":"IF(EO$5=TRUE,BW202,0)","v":0},{"$f":"IF(EP$5=TRUE,BX202,0)","v":0},{"$f":"IF(EQ$5=TRUE,BY202,0)","v":0},{"$f":"IF(ER$5=TRUE,BZ202,0)","v":0},null,0,1,{"$f":"ET202*EU202*EY202","v":0},null,null,0]
[37,4,0,null,null,null,"Livestock forage, roughage and supplemental nutritional requirements are addressed \nAND \nSufficient residue and/or stubble height is maintained to prevent or mitigate other resource concerns.","Livestock forage, roughage and supplemental nutritional requirements are addressed \nAND \nSufficient residue and/or stubble height is maintained to prevent or mitigate other resource concerns.",null,null,null,1,null,null,null,null,null,null,null,null,null,null,null,null,null,null,1,null,null,null,null,null,null,null,null,null,null,null,null,null,null,null,null,null,null,null,null,null,null,1,null,null,null,null,null,null,null,null,null,null,null,null,null,null,null,null,null,null,null,null,null,null,null,null,null,null,null,null,null,0,0,0,0,0,0,0,0,0,0,0,0,0,0,0,0,0,0,0,0,0,0,0,0,0,0,0,0,0,0,0,0,0,0,0,0,0,0,0,0,0,0,0,0,0,0,0,0,0,0,0,0,0,0,0,0,0,0,0,0,0,0,0,0,0,0,0,0,0,null,0,1,0,null,null,0]
[37,5,{"$f":"IF(EV204>0,1,0)","v":0},null,null,null,"Livestock forage, roughage and supplemental nutritional requirements are addressed  \nAND \nSufficient residue and/or stubble height is NOT maintained to prevent or mitigate other resource concerns","Livestock forage, roughage and supplemental nutritional requirements are addressed  \nAND \nSufficient residue and/or stubble height is NOT maintained to prevent or mitigate other resource concerns",null,null,null,1,null,null,null,null,null,null,null,null,null,null,null,null,null,null,1,null,null,null,null,null,null,null,null,null,null,null,null,null,null,null,null,null,null,null,null,null,null,1,null,null,null,null,null,null,null,null,null,null,null,null,null,null,null,null,null,null,null,null,null,null,null,null,null,null,null,null,null,{"$f":"IF(CB$5=TRUE,K204,0)","v":0},{"$f":"IF(CC$5=TRUE,L204,0)","v":0},{"$f":"IF(CD$5=TRUE,M204,0)","v":0},{"$f":"IF(CE$5=TRUE,N204,0)","v":0},{"$f":"IF(CF$5=TRUE,O204,0)","v":0},{"$f":"IF(CG$5=TRUE,P204,0)","v":0},{"$f":"IF(CH$5=TRUE,Q204,0)","v":0},{"$f":"IF(CI$5=TRUE,R204,0)","v":0},{"$f":"IF(CJ$5=TRUE,S204,0)","v":0},{"$f":"IF(CK$5=TRUE,T204,0)","v":0},{"$f":"IF(CL$5=TRUE,U204,0)","v":0},{"$f":"IF(CM$5=TRUE,V204,0)","v":0},{"$f":"IF(CN$5=TRUE,W204,0)","v":0},{"$f":"IF(CO$5=TRUE,X204,0)","v":0},{"$f":"IF(CP$5=TRUE,Y204,0)","v":0},{"$f":"IF(CQ$5=TRUE,Z204,0)","v":0},{"$f":"EZ204","v":0},{"$f":"IF(CS$5=\"TRUE\",AA204,0)","v":0},{"$f":"IF(CT$5=TRUE,AB204,0)","v":0},{"$f":"IF(CU$5=TRUE,AC204,0)","v":0},{"$f":"IF(CV$5=TRUE,AD204,0)","v":0},{"$f":"IF(CW$5=TRUE,AE204,0)","v":0},{"$f":"IF(CX$5=TRUE,AF204,0)","v":0},{"$f":"IF(CY$5=TRUE,AG204,0)","v":0},{"$f":"IF(CZ$5=TRUE,AH204,0)","v":0},{"$f":"IF(DA$5=TRUE,AI204,0)","v":0},{"$f":"IF(DB$5=TRUE,AJ204,0)","v":0},{"$f":"IF(DC$5=TRUE,AK204,0)","v":0},{"$f":"IF(DD$5=TRUE,AL204,0)","v":0},{"$f":"IF(DE$5=TRUE,AM204,0)","v":0},{"$f":"IF(DF$5=TRUE,AN204,0)","v":0},{"$f":"IF(DG$5=TRUE,AO204,0)","v":0},{"$f":"IF(DH$5=TRUE,AP204,0)","v":0},{"$f":"IF(DI$5=TRUE,AQ204,0)","v":0},{"$f":"IF(DJ$5=TRUE,AR204,0)","v":0},{"$f":"IF(DK$5=TRUE,AS204,0)","v":0},{"$f":"IF(DL$5=TRUE,AT204,0)","v":0},{"$f":"IF(DM$5=TRUE,AU204,0)","v":0},{"$f":"IF(DN$5=TRUE,AV204,0)","v":0},{"$f":"IF(DO$5=TRUE,AW204,0)","v":0},{"$f":"IF(DP$5=TRUE,AX204,0)","v":0},{"$f":"IF(DQ$5=TRUE,AY204,0)","v":0},{"$f":"IF(DR$5=TRUE,AZ204,0)","v":0},{"$f":"IF(DS$5=TRUE,BA204,0)","v":0},{"$f":"IF(DT$5=TRUE,BB204,0)","v":0},{"$f":"IF(DU$5=TRUE,BC204,0)","v":0},{"$f":"IF(DV$5=TRUE,BD204,0)","v":0},{"$f":"IF(DW$5=TRUE,BE204,0)","v":0},{"$f":"IF(DX$5=TRUE,BF204,0)","v":0},{"$f":"IF(DY$5=TRUE,BG204,0)","v":0},{"$f":"IF(DZ$5=TRUE,BH204,0)","v":0},{"$f":"IF(EA$5=TRUE,BI204,0)","v":0},{"$f":"IF(EB$5=TRUE,BJ204,0)","v":0},{"$f":"IF(EC$5=TRUE,BK204,0)","v":0},{"$f":"IF(ED$5=TRUE,BL204,0)","v":0},{"$f":"IF(EE$5=TRUE,BM204,0)","v":0},{"$f":"IF(EF$5=TRUE,BN204,0)","v":0},{"$f":"IF(EG$5=TRUE,BO204,0)","v":0},{"$f":"IF(EH$5=TRUE,BP204,0)","v":0},{"$f":"IF(EI$5=TRUE,BQ204,0)","v":0},{"$f":"IF(EJ$5=TRUE,BR204,0)","v":0},{"$f":"IF(EK$5=TRUE,BS204,0)","v":0},{"$f":"IF(EL$5=TRUE,BT204,0)","v":0},{"$f":"IF(EM$5=TRUE,BU204,0)","v":0},{"$f":"IF(EN$5=TRUE,BV204,0)","v":0},{"$f":"IF(EO$5=TRUE,BW204,0)","v":0},{"$f":"IF(EP$5=TRUE,BX204,0)","v":0},{"$f":"IF(EQ$5=TRUE,BY204,0)","v":0},{"$f":"IF(ER$5=TRUE,BZ204,0)","v":0},null,{"$f":"MAX(CB204:CQ204)","v":0},1,{"$f":"ET204*EU204*EY204","v":0},null,null,{"$f":"MAX(CR204:ER204)","v":0}]
[37,5,0,null,null,null,"Livestock forage, roughage and supplemental nutritional requirements are NOT addressed.","Livestock forage, roughage and supplemental nutritional requirements are NOT addressed.",null,null,null,1,null,null,null,null,null,null,null,null,null,null,null,null,null,null,1,null,null,null,null,null,null,null,null,null,null,null,null,null,null,null,null,null,null,null,null,null,null,1,null,null,null,null,null,null,null,null,null,null,null,null,null,null,null,null,null,null,null,null,null,null,null,null,null,null,null,null,null,0,0,0,0,0,0,0,0,0,0,0,0,0,0,0,0,0,0,0,0,0,0,0,0,0,0,0,0,0,0,0,0,0,0,0,0,0,0,0,0,0,0,0,0,0,0,0,0,0,0,0,0,0,0,0,0,0,0,0,0,0,0,0,0,0,0,0,0,0,null,0,1,0,null,null,0]
[39,1,0,null,"Q:","Livestock shelter",null,"Guidance","Documentation: (e.g. field notes, client interview responses, justification)",null,null,null,null,null,1,null,null,1,null,1,null,null,null,null,null,null,1,null,null,null,null,null,null,null,null,null,null,null,null,null,null,null,null,null,null,null,null,null,null,null,1,null,null,null,null,null,null,null,null,null,null,null,null,null,null,null,null,null,null,null,null,null,null,null,null,null,null,null,null,0,0,0,0,0,0,0,0,0,0,0,0,0,0,0,0,0,{"$f":"IF(CS$5=\"TRUE\",AA206,0)","v":0},{"$f":"IF(CT$5=TRUE,AB206,0)","v":0},0,0,0,0,0,0,0,0,0,{"$f":"IF(DD$5=TRUE,AL206,0)","v":0},0,0,0,0,0,0,0,0,0,{"$f":"IF(DN$5=TRUE,AV206,0)","v":0},0,0,0,0,0,0,0,0,0,{"$f":"IF(DX$5=TRUE,BF206,0)","v":0},0,0,0,0,0,0,0,0,0,{"$f":"IF(EH$5=TRUE,BP206,0)","v":0},0,0,0,0,0,0,0,0,0,{"$f":"IF(ER$5=TRUE,BZ206,0)","v":0},null,0,1,{"$f":"ET206*EU206*EY206","v":0},null,null,0]
[39,4,0,null,null,null,"Livestock are adapted to local climatic conditions and do not require additional shelter","Only evaluated on PLUs with the grazed modifier.",null,null,null,null,null,null,1,null,null,1,null,1,null,null,null,null,null,null,1,null,null,null,null,null,null,null,null,null,null,null,null,null,null,null,null,null,null,null,null,null,null,null,1,null,null,null,null,null,null,null,null,null,null,null,null,null,null,null,null,null,null,null,null,null,null,null,null,null,null,null,null,0,0,0,0,0,0,0,0,0,0,0,0,0,0,0,0,0,{"$f":"IF(CS$5=\"TRUE\",AA207,0)","v":0},0,0,0,0,0,0,0,0,0,0,0,0,0,0,0,0,0,0,0,0,0,0,0,0,0,0,0,0,0,0,0,0,0,0,0,0,0,0,0,0,0,0,0,0,0,0,0,0,0,0,0,null,0,1,{"$f":"ET207*EU207*EY207","v":0},null,null,0]
[39,5,0,null,null,null,"Livestock have adequate natural or artificial shelter",null,null,null,null,null,null,null,1,null,null,1,null,1,null,null,null,null,null,null,1,null,null,null,null,null,null,null,null,null,null,null,null,null,null,null,null,null,null,null,null,null,null,null,1,null,null,null,null,null,null,null,null,null,null,null,null,null,null,null,null,null,null,null,null,null,null,null,null,null,null,null,null,0,0,0,0,0,0,0,0,0,0,0,0,0,0,0,0,0,{"$f":"IF(CS$5=\"TRUE\",AA208,0)","v":0},0,0,0,0,0,0,0,0,0,0,0,0,0,0,0,0,0,0,0,0,0,0,0,0,0,0,0,0,0,0,0,0,0,0,0,0,0,0,0,0,0,0,0,0,0,0,0,0,0,0,0,null,0,1,{"$f":"ET208*EU208*EY208","v":0},null,null,0]
[39,6,0,null,null,null,"Production goals are not being met due to livestock stresses caused by local climatic conditions or lack of shelter.",null,null,null,null,null,null,null,1,null,null,1,null,1,null,null,null,null,null,null,1,null,null,null,null,null,null,null,null,null,null,null,null,null,null,null,null,null,null,null,null,null,null,null,1,null,null,null,null,null,null,null,null,null,null,null,null,null,null,null,null,null,null,null,null,null,null,null,null,null,null,null,null,0,0,0,0,0,0,0,0,0,0,0,0,0,0,0,0,0,{"$f":"IF(CS$5=\"TRUE\",AA209,0)","v":0},0,0,0,0,0,0,0,0,0,0,0,0,0,0,0,0,0,0,0,0,0,0,0,0,0,0,0,0,0,0,0,0,0,0,0,0,0,0,0,0,0,0,0,0,0,0,0,0,0,0,0,null,0,1,{"$f":"ET209*EU209*EY209","v":0},null,null,0]
[39,7,0,null,null,null,"Production goals not being met due to livestock death caused by local climatic conditions or lack of shelter.",null,null,null,null,null,null,null,1,null,null,1,null,1,null,null,null,null,null,null,1,null,null,null,null,null,null,null,null,null,null,null,null,null,null,null,null,null,null,null,null,null,null,null,1,null,null,null,null,null,null,null,null,null,null,null,null,null,null,null,null,null,null,null,null,null,null,null,null,null,null,null,null,0,0,0,0,0,0,0,0,0,0,0,0,0,0,0,0,0,{"$f":"IF(CS$5=\"TRUE\",AA210,0)","v":0},0,0,0,0,0,0,0,0,0,0,0,0,0,0,0,0,0,0,0,0,0,0,0,0,0,0,0,0,0,0,0,0,0,0,0,0,0,0,0,0,0,0,0,0,0,0,0,0,0,0,0,null,0,1,{"$f":"ET210*EU210*EY210","v":0},null,null,0]
[40,1,0,null,"Q:","Terrestrial Livestock Water (Crop [grazed], Farmstead, Forest [grazed], Pasture [grazed])",null,"Guidance\n","Documentation: (e.g. field notes, client interview responses, justification)",null,null,1,1,1,1,null,null,1,null,1,null,null,null,null,null,null,1,null,null,null,null,null,null,null,null,null,null,null,null,null,null,null,null,null,null,null,null,null,null,null,null,1,null,null,null,null,null,null,null,null,null,null,null,null,null,null,null,null,null,null,null,null,null,null,null,null,null,null,null,0,0,0,0,0,0,0,0,0,{"$f":"IF(CK$5=TRUE,T211,0)","v":0},0,0,0,0,0,0,0,{"$f":"IF(CS$5=\"TRUE\",AA211,0)","v":0},{"$f":"IF(CT$5=TRUE,AB211,0)","v":0},{"$f":"IF(CU$5=TRUE,AC211,0)","v":0},{"$f":"IF(CV$5=TRUE,AD211,0)","v":0},{"$f":"IF(CW$5=TRUE,AE211,0)","v":0},{"$f":"IF(CX$5=TRUE,AF211,0)","v":0},{"$f":"IF(CY$5=TRUE,AG211,0)","v":0},{"$f":"IF(CZ$5=TRUE,AH211,0)","v":0},{"$f":"IF(DA$5=TRUE,AI211,0)","v":0},{"$f":"IF(DB$5=TRUE,AJ211,0)","v":0},{"$f":"IF(DC$5=TRUE,AK211,0)","v":0},{"$f":"IF(DD$5=TRUE,AL211,0)","v":0},{"$f":"IF(DE$5=TRUE,AM211,0)","v":0},{"$f":"IF(DF$5=TRUE,AN211,0)","v":0},{"$f":"IF(DG$5=TRUE,AO211,0)","v":0},{"$f":"IF(DH$5=TRUE,AP211,0)","v":0},{"$f":"IF(DI$5=TRUE,AQ211,0)","v":0},{"$f":"IF(DJ$5=TRUE,AR211,0)","v":0},{"$f":"IF(DK$5=TRUE,AS211,0)","v":0},{"$f":"IF(DL$5=TRUE,AT211,0)","v":0},{"$f":"IF(DM$5=TRUE,AU211,0)","v":0},{"$f":"IF(DN$5=TRUE,AV211,0)","v":0},{"$f":"IF(DO$5=TRUE,AW211,0)","v":0},{"$f":"IF(DP$5=TRUE,AX211,0)","v":0},{"$f":"IF(DQ$5=TRUE,AY211,0)","v":0},{"$f":"IF(DR$5=TRUE,AZ211,0)","v":0},{"$f":"IF(DS$5=TRUE,BA211,0)","v":0},{"$f":"IF(DT$5=TRUE,BB211,0)","v":0},{"$f":"IF(DU$5=TRUE,BC211,0)","v":0},{"$f":"IF(DV$5=TRUE,BD211,0)","v":0},{"$f":"IF(DW$5=TRUE,BE211,0)","v":0},{"$f":"IF(DX$5=TRUE,BF211,0)","v":0},{"$f":"IF(DY$5=TRUE,BG211,0)","v":0},{"$f":"IF(DZ$5=TRUE,BH211,0)","v":0},{"$f":"IF(EA$5=TRUE,BI211,0)","v":0},{"$f":"IF(EB$5=TRUE,BJ211,0)","v":0},{"$f":"IF(EC$5=TRUE,BK211,0)","v":0},{"$f":"IF(ED$5=TRUE,BL211,0)","v":0},{"$f":"IF(EE$5=TRUE,BM211,0)","v":0},{"$f":"IF(EF$5=TRUE,BN211,0)","v":0},{"$f":"IF(EG$5=TRUE,BO211,0)","v":0},{"$f":"IF(EH$5=TRUE,BP211,0)","v":0},{"$f":"IF(EI$5=TRUE,BQ211,0)","v":0},{"$f":"IF(EJ$5=TRUE,BR211,0)","v":0},{"$f":"IF(EK$5=TRUE,BS211,0)","v":0},{"$f":"IF(EL$5=TRUE,BT211,0)","v":0},{"$f":"IF(EM$5=TRUE,BU211,0)","v":0},{"$f":"IF(EN$5=TRUE,BV211,0)","v":0},{"$f":"IF(EO$5=TRUE,BW211,0)","v":0},{"$f":"IF(EP$5=TRUE,BX211,0)","v":0},{"$f":"IF(EQ$5=TRUE,BY211,0)","v":0},{"$f":"IF(ER$5=TRUE,BZ211,0)","v":0},null,0,1,{"$f":"IF(ET211>1,0,ET211*EU211*EY211)","v":0},null,null,0]
[40,4,0,null,null,null," Three livestock water factors met","Overgrazed Pasture - select 2 factors met; or less, as appropriate\n\nQuality of Livestock water is met when the producer is not concerned about quality.\n\nQuantity of water: livestock needs are met while grazing the PLU (each watering event and peak demand during the grazing season).\n\nDistribution requirements vary. At a minimum, available water is within 800 feet in each paddock. If bare dirt livestock trails are present, then livestock water is not adequately distributed.",null,null,null,1,1,1,1,null,null,1,null,1,null,null,null,null,null,null,1,null,null,null,null,null,null,null,null,null,null,null,null,null,null,null,null,null,null,null,null,null,null,null,null,1,null,null,null,null,null,null,null,null,null,null,null,null,null,null,null,null,null,null,null,null,null,null,null,null,null,null,null,0,{"$f":"IF(CC$5=TRUE,N215,0)","v":0},0,0,0,0,0,0,0,{"$f":"IF(CK$5=TRUE,T212,0)","v":0},0,0,0,0,0,0,0,0,0,0,0,0,0,0,0,0,0,0,0,0,0,0,0,0,0,0,0,0,0,0,0,0,0,0,0,0,0,0,0,0,0,0,0,0,0,0,0,0,0,0,0,0,0,0,0,0,0,0,0,null,0,1,{"$f":"IF(ET212>1,0,ET212*EU212*EY212)","v":0},null,null,0]
[40,5,0,null,null,null," Two livestock water factors met",null,null,null,null,1,1,1,1,null,null,1,null,1,null,null,null,null,null,null,1,null,null,null,null,null,null,null,null,null,null,null,null,null,null,null,null,null,null,null,null,null,null,null,null,1,null,null,null,null,null,null,null,null,null,null,null,null,null,null,null,null,null,null,null,null,null,null,null,null,null,null,null,0,0,0,0,0,0,0,0,0,{"$f":"IF(CK$5=TRUE,T213,0)","v":0},0,0,0,0,0,0,0,0,0,0,0,0,0,0,0,0,0,0,0,0,0,0,0,0,0,0,0,0,0,0,0,0,0,0,0,0,0,0,0,0,0,0,0,0,0,0,0,0,0,0,0,0,0,0,0,0,0,0,0,null,0,1,0,null,null,0]
[40,6,0,null,null,null," One livestock water factor met",null,null,null,null,1,1,1,1,null,null,1,null,1,null,null,null,null,null,null,1,null,null,null,null,null,null,null,null,null,null,null,null,null,null,null,null,null,null,null,null,null,null,null,null,1,null,null,null,null,null,null,null,null,null,null,null,null,null,null,null,null,null,null,null,null,null,null,null,null,null,null,null,0,0,0,0,0,0,0,0,0,{"$f":"IF(CK$5=TRUE,T214,0)","v":0},0,0,0,0,0,0,0,0,0,0,0,0,0,0,0,0,0,0,0,0,0,0,0,0,0,0,0,0,0,0,0,0,0,0,0,0,0,0,0,0,0,0,0,0,0,0,0,0,0,0,0,0,0,0,0,0,0,0,0,null,0,1,0,null,null,0]
[40,7,{"$f":"IF(EV215>0,1,0)","v":0},null,null,null," No livestock water factors met",null,null,null,null,1,1,1,1,null,null,1,null,1,null,null,null,null,null,null,1,null,null,null,null,null,null,null,null,null,null,null,null,null,null,null,null,null,null,null,null,null,null,null,null,1,null,null,null,null,null,null,null,null,null,null,null,null,null,null,null,null,null,null,null,null,null,null,null,null,null,null,null,0,0,0,{"$f":"IF(CE$5=TRUE,#REF!,0)","v":0},0,0,0,0,0,{"$f":"IF(CK$5=TRUE,T215,0)","v":0},0,0,0,0,0,0,0,0,0,0,0,0,0,0,0,0,0,0,0,0,0,0,0,0,0,0,0,0,0,0,0,0,0,0,0,0,0,0,0,0,0,0,0,0,0,0,0,0,0,0,0,0,0,0,0,0,0,0,0,null,0,1,0,null,null,0]
[40,1,{"$f":"IF(EV216>0,1,0)","v":0},null,"Q:","Aquaculture Livestock Water (All land uses where aquaculture is occurring)",null,"Guidance\nOnly asked if Livestock present include Aquaculture Fish or Other Aquacultured Livestock\n","Documentation: (e.g. field notes, client interview responses, justification)",null,1,1,1,1,1,1,1,1,null,null,null,null,null,null,null,null,1,null,null,null,null,null,null,null,null,null,null,null,null,null,null,null,null,null,null,null,null,null,null,null,null,1,null,null,null,null,null,null,null,null,null,null,null,null,null,null,null,null,null,null,null,null,null,null,null,null,null,null,null,{"$f":"IF(CB$5=TRUE,K216,0)","v":0},{"$f":"IF(CC$5=TRUE,L216,0)","v":0},{"$f":"IF(CD$5=TRUE,M216,0)","v":0},{"$f":"IF(CE$5=TRUE,N216,0)","v":0},{"$f":"IF(CF$5=TRUE,O216,0)","v":0},{"$f":"IF(CG$5=TRUE,P216,0)","v":0},{"$f":"IF(CH$5=TRUE,Q216,0)","v":0},{"$f":"IF(CI$5=TRUE,R216,0)","v":0},{"$f":"IF(CJ$5=TRUE,S216,0)","v":0},{"$f":"IF(CK$5=TRUE,T216,0)","v":0},{"$f":"IF(CL$5=TRUE,U216,0)","v":0},{"$f":"IF(CM$5=TRUE,V216,0)","v":0},{"$f":"IF(CN$5=TRUE,W216,0)","v":0},{"$f":"IF(CO$5=TRUE,X216,0)","v":0},{"$f":"IF(CP$5=TRUE,Y216,0)","v":0},{"$f":"IF(CQ$5=TRUE,Z216,0)","v":0},{"$f":"EZ216","v":0},{"$f":"IF(CS$5=\"TRUE\",AA216,0)","v":0},{"$f":"IF(CT$5=TRUE,AB216,0)","v":0},{"$f":"IF(CU$5=TRUE,AC216,0)","v":0},{"$f":"IF(CV$5=TRUE,AD216,0)","v":0},{"$f":"IF(CW$5=TRUE,AE216,0)","v":0},{"$f":"IF(CX$5=TRUE,AF216,0)","v":0},{"$f":"IF(CY$5=TRUE,AG216,0)","v":0},{"$f":"IF(CZ$5=TRUE,AH216,0)","v":0},{"$f":"IF(DA$5=TRUE,AI216,0)","v":0},{"$f":"IF(DB$5=TRUE,AJ216,0)","v":0},{"$f":"IF(DC$5=TRUE,AK216,0)","v":0},{"$f":"IF(DD$5=TRUE,AL216,0)","v":0},{"$f":"IF(DE$5=TRUE,AM216,0)","v":0},{"$f":"IF(DF$5=TRUE,AN216,0)","v":0},{"$f":"IF(DG$5=TRUE,AO216,0)","v":0},{"$f":"IF(DH$5=TRUE,AP216,0)","v":0},{"$f":"IF(DI$5=TRUE,AQ216,0)","v":0},{"$f":"IF(DJ$5=TRUE,AR216,0)","v":0},{"$f":"IF(DK$5=TRUE,AS216,0)","v":0},{"$f":"IF(DL$5=TRUE,AT216,0)","v":0},{"$f":"IF(DM$5=TRUE,AU216,0)","v":0},{"$f":"IF(DN$5=TRUE,AV216,0)","v":0},{"$f":"IF(DO$5=TRUE,AW216,0)","v":0},{"$f":"IF(DP$5=TRUE,AX216,0)","v":0},{"$f":"IF(DQ$5=TRUE,AY216,0)","v":0},{"$f":"IF(DR$5=TRUE,AZ216,0)","v":0},{"$f":"IF(DS$5=TRUE,BA216,0)","v":0},{"$f":"IF(DT$5=TRUE,BB216,0)","v":0},{"$f":"IF(DU$5=TRUE,BC216,0)","v":0},{"$f":"IF(DV$5=TRUE,BD216,0)","v":0},{"$f":"IF(DW$5=TRUE,BE216,0)","v":0},{"$f":"IF(DX$5=TRUE,BF216,0)","v":0},{"$f":"IF(DY$5=TRUE,BG216,0)","v":0},{"$f":"IF(DZ$5=TRUE,BH216,0)","v":0},{"$f":"IF(EA$5=TRUE,BI216,0)","v":0},{"$f":"IF(EB$5=TRUE,BJ216,0)","v":0},{"$f":"IF(EC$5=TRUE,BK216,0)","v":0},{"$f":"IF(ED$5=TRUE,BL216,0)","v":0},{"$f":"IF(EE$5=TRUE,BM216,0)","v":0},{"$f":"IF(EF$5=TRUE,BN216,0)","v":0},{"$f":"IF(EG$5=TRUE,BO216,0)","v":0},{"$f":"IF(EH$5=TRUE,BP216,0)","v":0},{"$f":"IF(EI$5=TRUE,BQ216,0)","v":0},{"$f":"IF(EJ$5=TRUE,BR216,0)","v":0},{"$f":"IF(EK$5=TRUE,BS216,0)","v":0},{"$f":"IF(EL$5=TRUE,BT216,0)","v":0},{"$f":"IF(EM$5=TRUE,BU216,0)","v":0},{"$f":"IF(EN$5=TRUE,BV216,0)","v":0},{"$f":"IF(EO$5=TRUE,BW216,0)","v":0},{"$f":"IF(EP$5=TRUE,BX216,0)","v":0},{"$f":"IF(EQ$5=TRUE,BY216,0)","v":0},{"$f":"IF(ER$5=TRUE,BZ216,0)","v":0},null,{"$f":"MAX(CB216:CQ216)","v":0},1,{"$f":"ET216*EU216*EY216","v":0},null,null,{"$f":"MAX(CR216:ER216)","v":0}]
[40,4,0,null,null,null," Three livestock water factors met","Quality, Quantity, and Distribution factors",null,null,1,1,1,1,1,1,1,1,null,null,null,null,null,null,null,null,1,null,null,null,null,null,null,null,null,null,null,null,null,null,null,null,null,null,null,null,null,null,null,null,null,1,null,null,null,null,null,null,null,null,null,null,null,null,null,null,null,null,null,null,null,null,null,null,null,null,null,null,null,0,0,0,0,0,0,0,0,0,0,0,0,0,0,0,0,0,0,0,0,0,0,0,0,0,0,0,0,0,0,0,0,0,0,0,0,0,0,0,0,0,0,0,0,0,0,0,0,0,0,0,0,0,0,0,0,0,0,0,0,0,0,0,0,0,0,0,0,0,null,0,1,0,null,null,0]
[40,5,0,null,null,null," Two livestock water factors met",null,null,null,1,1,1,1,1,1,1,1,null,null,null,null,null,null,null,null,1,null,null,null,null,null,null,null,null,null,null,null,null,null,null,null,null,null,null,null,null,null,null,null,null,1,null,null,null,null,null,null,null,null,null,null,null,null,null,null,null,null,null,null,null,null,null,null,null,null,null,null,null,0,0,0,0,0,0,0,0,0,0,0,0,0,0,0,0,0,0,0,0,0,0,0,0,0,0,0,0,0,0,0,0,0,0,0,0,0,0,0,0,0,0,0,0,0,0,0,0,0,0,0,0,0,0,0,0,0,0,0,0,0,0,0,0,0,0,0,0,0,null,0,1,0,null,null,0]
[40,6,0,null,null,null," One livestock water factor met",null,null,null,1,1,1,1,1,1,1,1,null,null,null,null,null,null,null,null,1,null,null,null,null,null,null,null,null,null,null,null,null,null,null,null,null,null,null,null,null,null,null,null,null,1,null,null,null,null,null,null,null,null,null,null,null,null,null,null,null,null,null,null,null,null,null,null,null,null,null,null,null,0,0,0,0,0,0,0,0,0,0,0,0,0,0,0,0,0,0,0,0,0,0,0,0,0,0,0,0,0,0,0,0,0,0,0,0,0,0,0,0,0,0,0,0,0,0,0,0,0,0,0,0,0,0,0,0,0,0,0,0,0,0,0,0,0,0,0,0,0,null,0,1,0,null,null,0]
[40,7,{"$f":"IF(EV220>0,1,0)","v":0},null,null,null," No livestock water factors met",null,null,null,1,1,1,1,1,1,1,1,null,null,null,null,null,null,null,null,1,null,null,null,null,null,null,null,null,null,null,null,null,null,null,null,null,null,null,null,null,null,null,null,null,1,null,null,null,null,null,null,null,null,null,null,null,null,null,null,null,null,null,null,null,null,null,null,null,null,null,null,null,0,0,0,0,0,0,0,0,0,0,0,0,0,0,0,0,0,0,0,0,0,0,0,0,0,0,0,0,0,0,0,0,0,0,0,0,0,0,0,0,0,0,0,0,0,0,0,0,0,0,0,0,0,0,0,0,0,0,0,0,0,0,0,0,0,0,0,0,0,null,0,1,0,null,null,0]
[38,1,0,null,"Q:","Odor from Confined Animal Activities (Farmstead)",null," ","Documentation: (e.g. field notes, client interview responses, justification)",null,null,null,1,null,null,null,null,null,null,null,null,null,null,null,null,1,1,null,null,null,null,1,null,null,null,null,null,null,null,null,null,null,null,null,null,null,null,null,null,null,null,null,null,null,null,null,null,null,null,null,null,null,null,null,null,null,null,null,null,null,null,null,null,null,null,null,null,null,null,0,0,0,0,0,0,0,0,0,0,0,0,0,0,0,0,0,{"$f":"IF(CS$5=\"TRUE\",AA221,0)","v":0},{"$f":"IF(CT$5=TRUE,AB221,0)","v":0},{"$f":"IF(CU$5=TRUE,AC221,0)","v":0},{"$f":"IF(CV$5=TRUE,AD221,0)","v":0},{"$f":"IF(CW$5=TRUE,AE221,0)","v":0},{"$f":"IF(CX$5=TRUE,AF221,0)","v":0},{"$f":"IF(CY$5=TRUE,AG221,0)","v":0},{"$f":"IF(CZ$5=TRUE,AH221,0)","v":0},{"$f":"IF(DA$5=TRUE,AI221,0)","v":0},{"$f":"IF(DB$5=TRUE,AJ221,0)","v":0},{"$f":"IF(DC$5=TRUE,AK221,0)","v":0},{"$f":"IF(DD$5=TRUE,AL221,0)","v":0},{"$f":"IF(DE$5=TRUE,AM221,0)","v":0},{"$f":"IF(DF$5=TRUE,AN221,0)","v":0},{"$f":"IF(DG$5=TRUE,AO221,0)","v":0},{"$f":"IF(DH$5=TRUE,AP221,0)","v":0},{"$f":"IF(DI$5=TRUE,AQ221,0)","v":0},{"$f":"IF(DJ$5=TRUE,AR221,0)","v":0},{"$f":"IF(DK$5=TRUE,AS221,0)","v":0},{"$f":"IF(DL$5=TRUE,AT221,0)","v":0},{"$f":"IF(DM$5=TRUE,AU221,0)","v":0},{"$f":"IF(DN$5=TRUE,AV221,0)","v":0},{"$f":"IF(DO$5=TRUE,AW221,0)","v":0},{"$f":"IF(DP$5=TRUE,AX221,0)","v":0},{"$f":"IF(DQ$5=TRUE,AY221,0)","v":0},{"$f":"IF(DR$5=TRUE,AZ221,0)","v":0},{"$f":"IF(DS$5=TRUE,BA221,0)","v":0},{"$f":"IF(DT$5=TRUE,BB221,0)","v":0},{"$f":"IF(DU$5=TRUE,BC221,0)","v":0},{"$f":"IF(DV$5=TRUE,BD221,0)","v":0},{"$f":"IF(DW$5=TRUE,BE221,0)","v":0},{"$f":"IF(DX$5=TRUE,BF221,0)","v":0},{"$f":"IF(DY$5=TRUE,BG221,0)","v":0},{"$f":"IF(DZ$5=TRUE,BH221,0)","v":0},{"$f":"IF(EA$5=TRUE,BI221,0)","v":0},{"$f":"IF(EB$5=TRUE,BJ221,0)","v":0},{"$f":"IF(EC$5=TRUE,BK221,0)","v":0},{"$f":"IF(ED$5=TRUE,BL221,0)","v":0},{"$f":"IF(EE$5=TRUE,BM221,0)","v":0},{"$f":"IF(EF$5=TRUE,BN221,0)","v":0},{"$f":"IF(EG$5=TRUE,BO221,0)","v":0},{"$f":"IF(EH$5=TRUE,BP221,0)","v":0},{"$f":"IF(EI$5=TRUE,BQ221,0)","v":0},{"$f":"IF(EJ$5=TRUE,BR221,0)","v":0},{"$f":"IF(EK$5=TRUE,BS221,0)","v":0},{"$f":"IF(EL$5=TRUE,BT221,0)","v":0},{"$f":"IF(EM$5=TRUE,BU221,0)","v":0},{"$f":"IF(EN$5=TRUE,BV221,0)","v":0},{"$f":"IF(EO$5=TRUE,BW221,0)","v":0},{"$f":"IF(EP$5=TRUE,BX221,0)","v":0},{"$f":"IF(EQ$5=TRUE,BY221,0)","v":0},{"$f":"IF(ER$5=TRUE,BZ221,0)","v":0},null,0,1,{"$f":"ET221*EU221*EY221","v":0},null,null,0]
[38,5,5,null,null,null,"Not applicable","No odor issues related to confinement-based animal production at the PLU. Only grazing livestock are present at the PLU (i.e. no confinement).",null,null,null,null,1,null,null,null,null,null,null,null,null,null,null,null,null,1,1,null,null,null,null,1,null,null,null,null,null,null,null,null,null,null,null,null,null,null,null,null,null,null,null,null,null,null,null,null,null,null,null,null,null,null,null,null,null,null,null,null,null,null,null,null,null,null,null,null,null,null,null,0,0,0,0,0,0,0,0,0,0,0,0,0,0,0,0,0,{"$f":"IF(CS$5=\"TRUE\",AA222,0)","v":0},{"$f":"IF(CT$5=TRUE,AB222,0)","v":0},{"$f":"IF(CU$5=TRUE,AC222,0)","v":0},{"$f":"IF(CV$5=TRUE,AD222,0)","v":0},{"$f":"IF(CW$5=TRUE,AE222,0)","v":0},{"$f":"IF(CX$5=TRUE,AF222,0)","v":0},{"$f":"IF(CY$5=TRUE,AG222,0)","v":0},{"$f":"IF(CZ$5=TRUE,AH222,0)","v":0},{"$f":"IF(DA$5=TRUE,AI222,0)","v":0},{"$f":"IF(DB$5=TRUE,AJ222,0)","v":0},{"$f":"IF(DC$5=TRUE,AK222,0)","v":0},{"$f":"IF(DD$5=TRUE,AL222,0)","v":0},{"$f":"IF(DE$5=TRUE,AM222,0)","v":0},{"$f":"IF(DF$5=TRUE,AN222,0)","v":0},{"$f":"IF(DG$5=TRUE,AO222,0)","v":0},{"$f":"IF(DH$5=TRUE,AP222,0)","v":0},{"$f":"IF(DI$5=TRUE,AQ222,0)","v":0},{"$f":"IF(DJ$5=TRUE,AR222,0)","v":0},{"$f":"IF(DK$5=TRUE,AS222,0)","v":0},{"$f":"IF(DL$5=TRUE,AT222,0)","v":0},{"$f":"IF(DM$5=TRUE,AU222,0)","v":0},{"$f":"IF(DN$5=TRUE,AV222,0)","v":0},{"$f":"IF(DO$5=TRUE,AW222,0)","v":0},{"$f":"IF(DP$5=TRUE,AX222,0)","v":0},{"$f":"IF(DQ$5=TRUE,AY222,0)","v":0},{"$f":"IF(DR$5=TRUE,AZ222,0)","v":0},{"$f":"IF(DS$5=TRUE,BA222,0)","v":0},{"$f":"IF(DT$5=TRUE,BB222,0)","v":0},{"$f":"IF(DU$5=TRUE,BC222,0)","v":0},{"$f":"IF(DV$5=TRUE,BD222,0)","v":0},{"$f":"IF(DW$5=TRUE,BE222,0)","v":0},{"$f":"IF(DX$5=TRUE,BF222,0)","v":0},{"$f":"IF(DY$5=TRUE,BG222,0)","v":0},{"$f":"IF(DZ$5=TRUE,BH222,0)","v":0},{"$f":"IF(EA$5=TRUE,BI222,0)","v":0},{"$f":"IF(EB$5=TRUE,BJ222,0)","v":0},{"$f":"IF(EC$5=TRUE,BK222,0)","v":0},{"$f":"IF(ED$5=TRUE,BL222,0)","v":0},{"$f":"IF(EE$5=TRUE,BM222,0)","v":0},{"$f":"IF(EF$5=TRUE,BN222,0)","v":0},{"$f":"IF(EG$5=TRUE,BO222,0)","v":0},{"$f":"IF(EH$5=TRUE,BP222,0)","v":0},{"$f":"IF(EI$5=TRUE,BQ222,0)","v":0},{"$f":"IF(EJ$5=TRUE,BR222,0)","v":0},{"$f":"IF(EK$5=TRUE,BS222,0)","v":0},{"$f":"IF(EL$5=TRUE,BT222,0)","v":0},{"$f":"IF(EM$5=TRUE,BU222,0)","v":0},{"$f":"IF(EN$5=TRUE,BV222,0)","v":0},{"$f":"IF(EO$5=TRUE,BW222,0)","v":0},{"$f":"IF(EP$5=TRUE,BX222,0)","v":0},{"$f":"IF(EQ$5=TRUE,BY222,0)","v":0},{"$f":"IF(ER$5=TRUE,BZ222,0)","v":0},null,0,1,{"$f":"ET222*EU222*EY222","v":0},null,null,0]
[38,3,{"$f":"IF(EV223>0,1,0)","v":0},null,null,null," Minimal potential for odor ","Neither the Planner or client has observed any odor issues related to confinement-based animal production at the PLU.",null,null,null,null,1,null,null,null,null,null,null,null,null,null,null,null,null,1,1,null,null,null,null,1,null,null,null,null,null,null,null,null,null,null,null,null,null,null,null,null,null,null,null,null,null,null,null,null,null,null,null,null,null,null,null,null,null,null,null,null,null,null,null,null,null,null,null,null,null,null,null,{"$f":"IF(CB$5=TRUE,K223,0)","v":0},{"$f":"IF(CC$5=TRUE,L223,0)","v":0},{"$f":"IF(CD$5=TRUE,M223,0)","v":0},{"$f":"IF(CE$5=TRUE,N223,0)","v":0},{"$f":"IF(CF$5=TRUE,O223,0)","v":0},{"$f":"IF(CG$5=TRUE,P223,0)","v":0},{"$f":"IF(CH$5=TRUE,Q223,0)","v":0},{"$f":"IF(CI$5=TRUE,R223,0)","v":0},{"$f":"IF(CJ$5=TRUE,S223,0)","v":0},{"$f":"IF(CK$5=TRUE,T223,0)","v":0},{"$f":"IF(CL$5=TRUE,U223,0)","v":0},{"$f":"IF(CM$5=TRUE,V223,0)","v":0},{"$f":"IF(CN$5=TRUE,W223,0)","v":0},{"$f":"IF(CO$5=TRUE,X223,0)","v":0},{"$f":"IF(CP$5=TRUE,Y223,0)","v":0},{"$f":"IF(CQ$5=TRUE,Z223,0)","v":0},{"$f":"EZ223","v":0},0,0,0,0,0,0,0,0,0,0,0,0,0,0,0,0,0,0,0,0,0,0,0,0,0,0,0,0,0,0,0,0,0,0,0,0,0,0,0,0,0,0,0,0,0,0,0,0,0,0,0,0,null,{"$f":"MAX(CB223:CQ223)","v":0},1,0,null,null,{"$f":"MAX(CR223:ER223)","v":0}]
[38,3,0,null,null,null," Moderate potential for odor ","Planner or client has observed odor issues related to confinement-based animal production at the PLU and practices have been applied (document them in the Observed Existing Practices to receive credit).",null,null,null,null,1,null,null,null,null,null,null,null,null,null,null,null,null,1,1,null,null,null,null,1,null,null,null,null,null,null,null,null,null,null,null,null,null,null,null,null,null,null,null,null,null,null,null,null,null,null,null,null,null,null,null,null,null,null,null,null,null,null,null,null,null,null,null,null,null,null,null,0,0,0,0,0,0,0,0,0,0,0,0,0,0,0,0,0,0,0,0,0,0,0,0,0,0,0,0,0,0,0,0,0,0,0,0,0,0,0,0,0,0,0,0,0,0,0,0,0,0,0,0,0,0,0,0,0,0,0,0,0,0,0,0,0,0,0,0,0,null,0,1,0,null,null,0]
[38,5,0,null,null,null," Significant potential for odor","Planner or client has observed odor issues related to confinement-based animal production at the PLU and practices have not been applied to address these issues.",null,null,null,null,1,null,null,null,null,null,null,null,null,null,null,null,null,1,1,null,null,null,null,1,null,null,null,null,null,null,null,null,null,null,null,null,null,null,null,null,null,null,null,null,null,null,null,null,null,null,null,null,null,null,null,null,null,null,null,null,null,null,null,null,null,null,null,null,null,null,null,0,0,0,0,0,0,0,0,0,0,0,0,0,0,0,0,0,0,0,0,0,0,0,0,0,0,0,0,0,0,0,0,0,0,0,0,0,0,0,0,0,0,0,0,0,0,0,0,0,0,0,0,0,0,0,0,0,0,0,0,0,0,0,0,0,0,0,0,0,null,0,1,0,null,null,0]
[38,1,0,null,"Q:","Dust from confinement-based  animal operations (Farmstead)",null,"Guidance","Documentation: (e.g. field notes, client interview responses, justification)",null,null,null,1,null,null,null,null,null,null,null,null,null,null,null,null,null,1,null,null,null,1,null,null,null,null,null,null,null,null,null,null,null,null,null,null,null,null,null,null,null,null,null,null,null,null,null,null,null,null,null,null,null,null,null,null,null,null,null,null,null,null,null,null,null,null,null,null,null,null,0,0,0,0,0,0,0,0,0,0,0,0,0,0,0,0,0,{"$f":"IF(CS$5=\"TRUE\",AA226,0)","v":0},{"$f":"IF(CT$5=TRUE,AB226,0)","v":0},{"$f":"IF(CU$5=TRUE,AC226,0)","v":0},{"$f":"IF(CV$5=TRUE,AD226,0)","v":0},{"$f":"IF(CW$5=TRUE,AE226,0)","v":0},{"$f":"IF(CX$5=TRUE,AF226,0)","v":0},{"$f":"IF(CY$5=TRUE,AG226,0)","v":0},{"$f":"IF(CZ$5=TRUE,AH226,0)","v":0},{"$f":"IF(DA$5=TRUE,AI226,0)","v":0},{"$f":"IF(DB$5=TRUE,AJ226,0)","v":0},{"$f":"IF(DC$5=TRUE,AK226,0)","v":0},{"$f":"IF(DD$5=TRUE,AL226,0)","v":0},{"$f":"IF(DE$5=TRUE,AM226,0)","v":0},{"$f":"IF(DF$5=TRUE,AN226,0)","v":0},{"$f":"IF(DG$5=TRUE,AO226,0)","v":0},{"$f":"IF(DH$5=TRUE,AP226,0)","v":0},{"$f":"IF(DI$5=TRUE,AQ226,0)","v":0},{"$f":"IF(DJ$5=TRUE,AR226,0)","v":0},{"$f":"IF(DK$5=TRUE,AS226,0)","v":0},{"$f":"IF(DL$5=TRUE,AT226,0)","v":0},{"$f":"IF(DM$5=TRUE,AU226,0)","v":0},{"$f":"IF(DN$5=TRUE,AV226,0)","v":0},{"$f":"IF(DO$5=TRUE,AW226,0)","v":0},{"$f":"IF(DP$5=TRUE,AX226,0)","v":0},{"$f":"IF(DQ$5=TRUE,AY226,0)","v":0},{"$f":"IF(DR$5=TRUE,AZ226,0)","v":0},{"$f":"IF(DS$5=TRUE,BA226,0)","v":0},{"$f":"IF(DT$5=TRUE,BB226,0)","v":0},{"$f":"IF(DU$5=TRUE,BC226,0)","v":0},{"$f":"IF(DV$5=TRUE,BD226,0)","v":0},{"$f":"IF(DW$5=TRUE,BE226,0)","v":0},{"$f":"IF(DX$5=TRUE,BF226,0)","v":0},{"$f":"IF(DY$5=TRUE,BG226,0)","v":0},{"$f":"IF(DZ$5=TRUE,BH226,0)","v":0},{"$f":"IF(EA$5=TRUE,BI226,0)","v":0},{"$f":"IF(EB$5=TRUE,BJ226,0)","v":0},{"$f":"IF(EC$5=TRUE,BK226,0)","v":0},{"$f":"IF(ED$5=TRUE,BL226,0)","v":0},{"$f":"IF(EE$5=TRUE,BM226,0)","v":0},{"$f":"IF(EF$5=TRUE,BN226,0)","v":0},{"$f":"IF(EG$5=TRUE,BO226,0)","v":0},{"$f":"IF(EH$5=TRUE,BP226,0)","v":0},{"$f":"IF(EI$5=TRUE,BQ226,0)","v":0},{"$f":"IF(EJ$5=TRUE,BR226,0)","v":0},{"$f":"IF(EK$5=TRUE,BS226,0)","v":0},{"$f":"IF(EL$5=TRUE,BT226,0)","v":0},{"$f":"IF(EM$5=TRUE,BU226,0)","v":0},{"$f":"IF(EN$5=TRUE,BV226,0)","v":0},{"$f":"IF(EO$5=TRUE,BW226,0)","v":0},{"$f":"IF(EP$5=TRUE,BX226,0)","v":0},{"$f":"IF(EQ$5=TRUE,BY226,0)","v":0},{"$f":"IF(ER$5=TRUE,BZ226,0)","v":0},null,0,1,{"$f":"ET226*EU226*EY226","v":0},null,null,0]
[38,5,5,null,null,null,"Not Applicable - Only grazing livestock at the PLU","Only grazing livestock are present at the PLU (i.e., no confinement)",null,null,null,null,1,null,null,null,null,null,null,null,null,null,null,null,null,null,1,null,null,null,1,null,null,null,null,null,null,null,null,null,null,null,null,null,null,null,null,null,null,null,null,null,null,null,null,null,null,null,null,null,null,null,null,null,null,null,null,null,null,null,null,null,null,null,null,null,null,null,null,0,0,0,0,0,0,0,0,0,0,0,0,0,0,0,0,0,0,0,0,0,0,0,0,0,0,0,0,0,0,0,0,0,0,0,0,0,0,0,0,0,0,0,0,0,0,0,0,0,0,0,0,0,0,0,0,0,0,0,0,0,0,0,0,0,0,0,0,0,null,0,1,0,null,null,0]
[38,3,{"$f":"IF(EV228>0,1,0)","v":0},null,null,null,"Minimal potential for dust","Neither the Planner or client has observed any PM/dust issues related to confinement-based animal production at the PLU",null,null,null,null,1,null,null,null,null,null,null,null,null,null,null,null,null,null,1,null,null,null,1,null,null,null,null,null,null,null,null,null,null,null,null,null,null,null,null,null,null,null,null,null,null,null,null,null,null,null,null,null,null,null,null,null,null,null,null,null,null,null,null,null,null,null,null,null,null,null,null,{"$f":"IF(CB$5=TRUE,K228,0)","v":0},{"$f":"IF(CC$5=TRUE,L228,0)","v":0},{"$f":"IF(CD$5=TRUE,M228,0)","v":0},{"$f":"IF(CE$5=TRUE,N228,0)","v":0},{"$f":"IF(CF$5=TRUE,O228,0)","v":0},{"$f":"IF(CG$5=TRUE,P228,0)","v":0},{"$f":"IF(CH$5=TRUE,Q228,0)","v":0},{"$f":"IF(CI$5=TRUE,R228,0)","v":0},{"$f":"IF(CJ$5=TRUE,S228,0)","v":0},{"$f":"IF(CK$5=TRUE,T228,0)","v":0},{"$f":"IF(CL$5=TRUE,U228,0)","v":0},{"$f":"IF(CM$5=TRUE,V228,0)","v":0},{"$f":"IF(CN$5=TRUE,W228,0)","v":0},{"$f":"IF(CO$5=TRUE,X228,0)","v":0},{"$f":"IF(CP$5=TRUE,Y228,0)","v":0},{"$f":"IF(CQ$5=TRUE,Z228,0)","v":0},{"$f":"EZ228","v":0},{"$f":"IF(CS$5=\"TRUE\",AA228,0)","v":0},{"$f":"IF(CT$5=TRUE,AB228,0)","v":0},{"$f":"IF(CU$5=TRUE,AC228,0)","v":0},{"$f":"IF(CV$5=TRUE,AD228,0)","v":0},{"$f":"IF(CW$5=TRUE,AE228,0)","v":0},{"$f":"IF(CX$5=TRUE,AF228,0)","v":0},{"$f":"IF(CY$5=TRUE,AG228,0)","v":0},{"$f":"IF(CZ$5=TRUE,AH228,0)","v":0},{"$f":"IF(DA$5=TRUE,AI228,0)","v":0},{"$f":"IF(DB$5=TRUE,AJ228,0)","v":0},{"$f":"IF(DC$5=TRUE,AK228,0)","v":0},{"$f":"IF(DD$5=TRUE,AL228,0)","v":0},{"$f":"IF(DE$5=TRUE,AM228,0)","v":0},{"$f":"IF(DF$5=TRUE,AN228,0)","v":0},{"$f":"IF(DG$5=TRUE,AO228,0)","v":0},{"$f":"IF(DH$5=TRUE,AP228,0)","v":0},{"$f":"IF(DI$5=TRUE,AQ228,0)","v":0},{"$f":"IF(DJ$5=TRUE,AR228,0)","v":0},{"$f":"IF(DK$5=TRUE,AS228,0)","v":0},{"$f":"IF(DL$5=TRUE,AT228,0)","v":0},{"$f":"IF(DM$5=TRUE,AU228,0)","v":0},{"$f":"IF(DN$5=TRUE,AV228,0)","v":0},{"$f":"IF(DO$5=TRUE,AW228,0)","v":0},{"$f":"IF(DP$5=TRUE,AX228,0)","v":0},{"$f":"IF(DQ$5=TRUE,AY228,0)","v":0},{"$f":"IF(DR$5=TRUE,AZ228,0)","v":0},{"$f":"IF(DS$5=TRUE,BA228,0)","v":0},{"$f":"IF(DT$5=TRUE,BB228,0)","v":0},{"$f":"IF(DU$5=TRUE,BC228,0)","v":0},{"$f":"IF(DV$5=TRUE,BD228,0)","v":0},{"$f":"IF(DW$5=TRUE,BE228,0)","v":0},{"$f":"IF(DX$5=TRUE,BF228,0)","v":0},{"$f":"IF(DY$5=TRUE,BG228,0)","v":0},{"$f":"IF(DZ$5=TRUE,BH228,0)","v":0},{"$f":"IF(EA$5=TRUE,BI228,0)","v":0},{"$f":"IF(EB$5=TRUE,BJ228,0)","v":0},{"$f":"IF(EC$5=TRUE,BK228,0)","v":0},{"$f":"IF(ED$5=TRUE,BL228,0)","v":0},{"$f":"IF(EE$5=TRUE,BM228,0)","v":0},{"$f":"IF(EF$5=TRUE,BN228,0)","v":0},{"$f":"IF(EG$5=TRUE,BO228,0)","v":0},{"$f":"IF(EH$5=TRUE,BP228,0)","v":0},{"$f":"IF(EI$5=TRUE,BQ228,0)","v":0},{"$f":"IF(EJ$5=TRUE,BR228,0)","v":0},{"$f":"IF(EK$5=TRUE,BS228,0)","v":0},{"$f":"IF(EL$5=TRUE,BT228,0)","v":0},{"$f":"IF(EM$5=TRUE,BU228,0)","v":0},{"$f":"IF(EN$5=TRUE,BV228,0)","v":0},{"$f":"IF(EO$5=TRUE,BW228,0)","v":0},{"$f":"IF(EP$5=TRUE,BX228,0)","v":0},{"$f":"IF(EQ$5=TRUE,BY228,0)","v":0},{"$f":"IF(ER$5=TRUE,BZ228,0)","v":0},null,{"$f":"MAX(CB228:CQ228)","v":0},1,{"$f":"ET228*EU228*EY228","v":0},null,null,{"$f":"MAX(CR228:ER228)","v":0}]
[38,3,0,null,null,null,"Moderate potential for dust","Consult with the State Office Environmental Engineer - route through Area Engineer\n\nPlanner or client has observed PM/dust issues related to confinement-based animal production at the PLU and practices have been applied (document practices in the Observed Existing Practices to receive credit).",null,null,null,null,1,null,null,null,null,null,null,null,null,null,null,null,null,null,1,null,null,null,1,null,null,null,null,null,null,null,null,null,null,null,null,null,null,null,null,null,null,null,null,null,null,null,null,null,null,null,null,null,null,null,null,null,null,null,null,null,null,null,null,null,null,null,null,null,null,null,null,0,0,0,0,0,0,0,0,0,0,0,0,0,0,0,0,0,0,0,0,0,0,0,0,0,0,0,0,0,0,0,0,0,0,0,0,0,0,0,0,0,0,0,0,0,0,0,0,0,0,0,0,0,0,0,0,0,0,0,0,0,0,0,0,0,0,0,0,0,null,0,1,0,null,null,0]
[38,5,0,null,null,null,"Significant potential for dust","Consult with the State Office Environmental Engineer - route through Area Engineer\n\nPlanner or client has observed PM/dust issues related to confinement-based animal production at the PLU and practices have not been applied to address these issues.",null,null,null,null,1,null,null,null,null,null,null,null,null,null,null,null,null,null,1,null,null,null,1,null,null,null,null,null,null,null,null,null,null,null,null,null,null,null,null,null,null,null,null,null,null,null,null,null,null,null,null,null,null,null,null,null,null,null,null,null,null,null,null,null,null,null,null,null,null,null,null,0,0,0,0,0,0,0,0,0,0,0,0,0,0,0,0,0,0,0,0,0,0,0,0,0,0,0,0,0,0,0,0,0,0,0,0,0,0,0,0,0,0,0,0,0,0,0,0,0,0,0,0,0,0,0,0,0,0,0,0,0,0,0,0,0,0,0,0,0,null,0,1,0,null,null,0]
[41,1,0,null,"Q:","Feed Management Plan or Strategy (Confinement animals)",null,"Guidance\n","Documentation: (e.g. field notes, client interview responses, justification)",null,null,null,1,null,null,null,null,null,null,null,null,null,null,null,null,null,1,1,1,null,null,null,null,null,null,null,null,null,null,null,null,null,null,null,null,null,null,null,null,null,null,null,null,null,null,null,null,null,null,null,null,null,null,null,null,null,null,null,null,null,null,null,null,null,null,null,null,null,null,0,0,0,0,0,0,0,0,0,0,0,0,0,0,0,0,0,0,0,0,0,0,0,0,0,0,0,0,0,0,0,0,0,0,0,0,0,0,0,0,0,0,0,0,0,0,0,0,0,0,0,0,0,0,0,0,0,0,0,0,0,0,0,0,0,0,0,0,0,null,0,1,0,null,null,0]
[41,2,5,null,null,null,"Only grazing livestock at the PLU","Livestock are present, but only grazing and not confined.",null,null,null,null,1,null,null,null,null,null,null,null,null,null,null,null,null,null,1,1,1,null,null,null,null,null,null,null,null,null,null,null,null,null,null,null,null,null,null,null,null,null,null,null,null,null,null,null,null,null,null,null,null,null,null,null,null,null,null,null,null,null,null,null,null,null,null,null,null,null,null,{"$f":"IF(CB$5=TRUE,K232,0)","v":0},{"$f":"IF(CC$5=TRUE,L232,0)","v":0},{"$f":"IF(CD$5=TRUE,M232,0)","v":0},{"$f":"IF(CE$5=TRUE,N232,0)","v":0},{"$f":"IF(CF$5=TRUE,O232,0)","v":0},{"$f":"IF(CG$5=TRUE,P232,0)","v":0},{"$f":"IF(CH$5=TRUE,Q232,0)","v":0},{"$f":"IF(CI$5=TRUE,R232,0)","v":0},{"$f":"IF(CJ$5=TRUE,S232,0)","v":0},{"$f":"IF(CK$5=TRUE,T232,0)","v":0},{"$f":"IF(CL$5=TRUE,U232,0)","v":0},{"$f":"IF(CM$5=TRUE,V232,0)","v":0},{"$f":"IF(CN$5=TRUE,W232,0)","v":0},{"$f":"IF(CO$5=TRUE,X232,0)","v":0},{"$f":"IF(CP$5=TRUE,Y232,0)","v":0},{"$f":"IF(CQ$5=TRUE,Z232,0)","v":0},{"$f":"EZ232","v":0},{"$f":"IF(CS$5=\"TRUE\",AA232,0)","v":0},{"$f":"IF(CT$5=TRUE,AB232,0)","v":0},{"$f":"IF(CU$5=TRUE,AC232,0)","v":0},{"$f":"IF(CV$5=TRUE,AD232,0)","v":0},{"$f":"IF(CW$5=TRUE,AE232,0)","v":0},{"$f":"IF(CX$5=TRUE,AF232,0)","v":0},{"$f":"IF(CY$5=TRUE,AG232,0)","v":0},{"$f":"IF(CZ$5=TRUE,AH232,0)","v":0},{"$f":"IF(DA$5=TRUE,AI232,0)","v":0},{"$f":"IF(DB$5=TRUE,AJ232,0)","v":0},{"$f":"IF(DC$5=TRUE,AK232,0)","v":0},{"$f":"IF(DD$5=TRUE,AL232,0)","v":0},{"$f":"IF(DE$5=TRUE,AM232,0)","v":0},{"$f":"IF(DF$5=TRUE,AN232,0)","v":0},{"$f":"IF(DG$5=TRUE,AO232,0)","v":0},{"$f":"IF(DH$5=TRUE,AP232,0)","v":0},{"$f":"IF(DI$5=TRUE,AQ232,0)","v":0},{"$f":"IF(DJ$5=TRUE,AR232,0)","v":0},{"$f":"IF(DK$5=TRUE,AS232,0)","v":0},{"$f":"IF(DL$5=TRUE,AT232,0)","v":0},{"$f":"IF(DM$5=TRUE,AU232,0)","v":0},{"$f":"IF(DN$5=TRUE,AV232,0)","v":0},{"$f":"IF(DO$5=TRUE,AW232,0)","v":0},{"$f":"IF(DP$5=TRUE,AX232,0)","v":0},{"$f":"IF(DQ$5=TRUE,AY232,0)","v":0},{"$f":"IF(DR$5=TRUE,AZ232,0)","v":0},{"$f":"IF(DS$5=TRUE,BA232,0)","v":0},{"$f":"IF(DT$5=TRUE,BB232,0)","v":0},{"$f":"IF(DU$5=TRUE,BC232,0)","v":0},{"$f":"IF(DV$5=TRUE,BD232,0)","v":0},{"$f":"IF(DW$5=TRUE,BE232,0)","v":0},{"$f":"IF(DX$5=TRUE,BF232,0)","v":0},{"$f":"IF(DY$5=TRUE,BG232,0)","v":0},{"$f":"IF(DZ$5=TRUE,BH232,0)","v":0},{"$f":"IF(EA$5=TRUE,BI232,0)","v":0},{"$f":"IF(EB$5=TRUE,BJ232,0)","v":0},{"$f":"IF(EC$5=TRUE,BK232,0)","v":0},{"$f":"IF(ED$5=TRUE,BL232,0)","v":0},{"$f":"IF(EE$5=TRUE,BM232,0)","v":0},{"$f":"IF(EF$5=TRUE,BN232,0)","v":0},{"$f":"IF(EG$5=TRUE,BO232,0)","v":0},{"$f":"IF(EH$5=TRUE,BP232,0)","v":0},{"$f":"IF(EI$5=TRUE,BQ232,0)","v":0},{"$f":"IF(EJ$5=TRUE,BR232,0)","v":0},{"$f":"IF(EK$5=TRUE,BS232,0)","v":0},{"$f":"IF(EL$5=TRUE,BT232,0)","v":0},{"$f":"IF(EM$5=TRUE,BU232,0)","v":0},{"$f":"IF(EN$5=TRUE,BV232,0)","v":0},{"$f":"IF(EO$5=TRUE,BW232,0)","v":0},{"$f":"IF(EP$5=TRUE,BX232,0)","v":0},{"$f":"IF(EQ$5=TRUE,BY232,0)","v":0},{"$f":"IF(ER$5=TRUE,BZ232,0)","v":0},null,{"$f":"MAX(CB232:CQ232)","v":0},1,{"$f":"ET232*EU232*EY232","v":0},null,null,{"$f":"MAX(CR232:ER232)","v":0}]
[41,2,0,null,null,null,"Livestock are present and a feed management plan is utilized to manage nitrogen and/or enteric methane emissions","Since a feed management plan that is utilized, document it in the Observed Existing Practices to receive credit.\n",null,null,null,null,1,null,null,null,null,null,null,null,null,null,null,null,null,null,1,1,1,null,null,null,null,null,null,null,null,null,null,null,null,null,null,null,null,null,null,null,null,null,null,null,null,null,null,null,null,null,null,null,null,null,null,null,null,null,null,null,null,null,null,null,null,null,null,null,null,null,null,0,0,0,0,0,0,0,0,0,0,0,0,0,0,0,0,0,0,0,0,0,0,0,0,0,0,0,0,0,0,0,0,0,0,0,0,0,0,0,0,0,0,0,0,0,0,0,0,0,0,0,0,0,0,0,0,0,0,0,0,0,0,0,0,0,0,0,0,0,null,0,1,0,null,null,0]
[41,3,0,null,null,null,"Livestock are present at the PLU, but there is no existing feed management plan or strategy that addresses nitrogen and/or enteric methane emissions.","Livestock are present at the PLU, but there is no existing feed management plan or strategy that addresses nitrogen emissions.\n",null,null,null,null,1,null,null,null,null,null,null,null,null,null,null,null,null,null,1,1,1,null,null,null,null,null,null,null,null,null,null,null,null,null,null,null,null,null,null,null,null,null,null,null,null,null,null,null,null,null,null,null,null,null,null,null,null,null,null,null,null,null,null,null,null,null,null,null,null,null,null,0,0,0,0,0,0,0,0,0,0,0,0,0,0,0,0,0,0,0,0,0,0,0,0,0,0,0,0,0,0,0,0,0,0,0,0,0,0,0,0,0,0,0,0,0,0,0,0,0,0,0,0,0,0,0,0,0,0,0,0,0,0,0,0,0,0,0,0,0,null,0,1,0,null,null,0]
[42,1,5,null,"Q:","Grazing Management Plan is Implemented at the PLU",null,"Guidance","Additional Guidance","List PLU's",null,null,null,null,1,null,null,1,null,1,null,1,null,null,null,null,1,null,1,null,null,null,null,null,null,null,null,null,null,null,null,null,null,null,null,null,null,null,null,null,null,null,null,null,null,null,null,null,null,null,null,null,null,null,null,null,null,null,null,null,null,null,null,null,null,null,null,null,null,0,0,0,0,0,0,0,0,0,0,0,0,0,0,0,0,0,0,0,0,0,0,0,0,0,0,0,0,0,0,0,0,0,0,0,0,0,0,0,0,0,0,0,0,0,0,0,0,0,0,0,0,0,0,0,0,0,0,0,0,0,0,0,0,0,0,0,0,0,null,0,1,0,null,null,0]
[42,3,5,null,null,null," Not applicable","There are no grazing animals on the PLU",null,null,null,null,null,null,1,null,null,1,null,1,null,1,null,null,null,null,1,null,1,null,null,null,null,null,null,null,null,null,null,null,null,null,null,null,null,null,null,null,null,null,null,null,null,null,null,null,null,null,null,null,null,null,null,null,null,null,null,null,null,null,null,null,null,null,null,null,null,null,null,0,0,0,0,0,0,0,0,0,0,0,0,0,0,0,0,0,0,0,0,0,0,0,0,0,0,0,0,0,0,0,0,0,0,0,0,0,0,0,0,0,0,0,0,0,0,0,0,0,0,0,0,0,0,0,0,0,0,0,0,0,0,0,0,0,0,0,0,0,null,0,1,0,null,null,0]
[42,4,5,null,null,null," Yes","The client can certify that a grazing management plan to balance the energy and nutrition requirements of the grazing animals with the productivity of the grazing lands is being implemented at the PLU.",null,null,null,null,null,null,1,null,null,1,null,1,null,1,null,null,null,null,1,null,1,null,null,null,null,null,null,null,null,null,null,null,null,null,null,null,null,null,null,null,null,null,null,null,null,null,null,null,null,null,null,null,null,null,null,null,null,null,null,null,null,null,null,null,null,null,null,null,null,null,null,0,0,0,0,0,0,0,0,0,0,0,0,0,0,0,0,0,0,0,0,0,0,0,0,0,0,0,0,0,0,0,0,0,0,0,0,0,0,0,0,0,0,0,0,0,0,0,0,0,0,0,0,0,0,0,0,0,0,0,0,0,0,0,0,0,0,0,0,0,null,0,1,0,null,null,0]
[42,5,5,null,null,null," No","A grazing management plan to balance the energy and nutrition requirements of the grazing animals with the productivity of the grazing lands is not being implemented at the PLU.",null,null,null,null,null,null,1,null,null,1,null,1,null,1,null,null,null,null,1,null,1,null,null,null,null,null,null,null,null,null,null,null,null,null,null,null,null,null,null,null,null,null,null,null,null,null,null,null,null,null,null,null,null,null,null,null,null,null,null,null,null,null,null,null,null,null,null,null,null,null,null,0,0,0,0,0,0,0,0,0,0,0,0,0,0,0,0,0,0,0,0,0,0,0,0,0,0,0,0,0,0,0,0,0,0,0,0,0,0,0,0,0,0,0,0,0,0,0,0,0,0,0,0,0,0,0,0,0,0,0,0,0,0,0,0,0,0,0,0,0,null,0,1,0,null,null,0]
[43,1,0,null,"Cropping Systems",null,null,null,null,null,1,1,1,1,1,1,1,1,1,1,1,null,null,null,null,null,1,null,null,null,null,null,null,null,null,null,null,1,null,1,1,1,1,null,null,1,null,null,null,null,null,null,null,null,null,null,null,null,null,null,null,null,null,null,null,null,null,null,null,null,null,null,null,null,null,null,1,1,null,0,0,0,0,0,0,0,0,0,0,0,0,0,0,0,0,0,0,0,0,0,0,0,0,0,0,0,0,0,0,0,0,0,0,0,0,0,0,0,0,0,0,0,0,0,0,0,0,0,0,0,0,0,0,0,0,0,0,0,0,0,0,0,0,0,0,0,0,0,null,0,1,0,null,null,0]
[44,1,0,null,"Q:","Crop Type - Select predominate crop used",null,"Guidance","Documentation: (e.g. field notes, client interview responses, justification)",null,null,1,null,null,null,null,null,null,null,null,null,null,null,null,null,null,1,null,null,null,null,null,null,null,null,null,null,null,null,1,1,null,null,null,null,null,null,null,null,null,null,null,null,null,null,null,null,null,null,null,null,null,null,null,null,null,null,null,null,null,null,null,null,null,null,null,1,1,null,0,0,0,0,0,0,0,0,0,0,0,0,0,0,0,0,0,0,0,0,0,0,0,0,0,0,0,0,0,0,0,0,0,0,0,0,0,0,0,0,0,0,0,0,0,0,0,0,0,0,0,0,0,0,0,0,0,0,0,0,0,0,0,0,0,0,0,0,0,null,0,1,0,null,null,0]
[44,2,5,null,null,null,"Unlisted",null,null,null,null,1,null,null,null,null,null,null,null,null,null,null,null,null,null,null,1,null,null,null,null,null,null,null,null,null,null,null,null,1,1,null,null,null,null,null,null,null,null,null,null,null,null,null,null,null,null,null,null,null,null,null,null,null,null,null,null,null,null,null,null,null,null,null,null,null,1,1,null,0,0,0,0,0,0,0,0,0,0,0,0,0,0,0,0,0,0,0,0,0,0,0,0,0,0,0,0,0,0,0,0,0,0,0,0,0,0,0,0,0,0,0,0,0,0,0,0,0,0,0,0,0,0,0,0,0,0,0,0,0,0,0,0,0,0,0,0,0,null,0,1,0,null,null,0]
[44,3,0,null,null,null,"Orchards, Vineyards, Berries and Nuts",null,null,null,null,1,null,null,null,null,null,null,null,null,null,null,null,null,null,null,1,null,null,null,null,null,null,null,null,null,null,null,null,1,1,null,null,null,null,null,null,null,null,null,null,null,null,null,null,null,null,null,null,null,null,null,null,null,null,null,null,null,null,null,null,null,null,null,null,null,1,1,null,0,0,0,0,0,0,0,0,0,0,0,0,0,0,0,0,0,0,0,0,0,0,0,0,0,0,0,0,0,0,0,0,0,0,0,0,0,0,0,0,0,0,0,0,0,0,0,0,0,0,0,0,0,0,0,0,0,0,0,0,0,0,0,0,0,0,0,0,0,null,0,1,0,null,null,0]
[44,4,0,null,null,null,"Vegetable Crops",null,null,null,null,1,null,null,null,null,null,null,null,null,null,null,null,null,null,null,1,null,null,null,null,null,null,null,null,null,null,null,null,1,1,null,null,null,null,null,null,null,null,null,null,null,null,null,null,null,null,null,null,null,null,null,null,null,null,null,null,null,null,null,null,null,null,null,null,null,1,1,null,0,0,0,0,0,0,0,0,0,0,0,0,0,0,0,0,0,0,0,0,0,0,0,0,0,0,0,0,0,0,0,0,0,0,0,0,0,0,0,0,0,0,0,0,0,0,0,0,0,0,0,0,0,0,0,0,0,0,0,0,0,0,0,0,0,0,0,0,0,null,0,1,0,null,null,0]
[44,5,5,null,null,null,"Cotton",null,null,null,null,1,null,null,null,null,null,null,null,null,null,null,null,null,null,null,1,null,null,null,null,null,null,null,null,null,null,null,null,1,1,null,null,null,null,null,null,null,null,null,null,null,null,null,null,null,null,null,null,null,null,null,null,null,null,null,null,null,null,null,null,null,null,null,null,null,1,1,null,0,0,0,0,0,0,0,0,0,0,0,0,0,0,0,0,0,0,0,0,0,0,0,0,0,0,0,0,0,0,0,0,0,0,0,0,0,0,0,0,0,0,0,0,0,0,0,0,0,0,0,0,0,0,0,0,0,0,0,0,0,0,0,0,0,0,0,0,0,null,0,1,0,null,null,0]
[44,6,0,null,null,null,"Seed crops",null,null,null,null,1,null,null,null,null,null,null,null,null,null,null,null,null,null,null,1,null,null,null,null,null,null,null,null,null,null,null,null,1,1,null,null,null,null,null,null,null,null,null,null,null,null,null,null,null,null,null,null,null,null,null,null,null,null,null,null,null,null,null,null,null,null,null,null,null,1,1,null,0,0,0,0,0,0,0,0,0,0,0,0,0,0,0,0,0,0,0,0,0,0,0,0,0,0,0,0,0,0,0,0,0,0,0,0,0,0,0,0,0,0,0,0,0,0,0,0,0,0,0,0,0,0,0,0,0,0,0,0,0,0,0,0,0,0,0,0,0,null,0,1,0,null,null,0]
[44,7,5,null,null,null,"Flooded rice and cranberry crops",null,null,null,null,1,null,null,null,null,null,null,null,null,null,null,null,null,null,null,1,null,null,null,null,null,null,null,null,null,null,null,null,1,1,null,null,null,null,null,null,null,null,null,null,null,null,null,null,null,null,null,null,null,null,null,null,null,null,null,null,null,null,null,null,null,null,null,null,null,1,1,null,0,0,0,0,0,0,0,0,0,0,0,0,0,0,0,0,0,0,0,0,0,0,0,0,0,0,0,0,0,0,0,0,0,0,0,0,0,0,0,0,0,0,0,0,0,0,0,0,0,0,0,0,0,0,0,0,0,0,0,0,0,0,0,0,0,0,0,0,0,null,0,1,0,null,null,0]
[44,8,0,null,null,null,"Turfgrass for sod and nursery crops",null,null,null,null,1,null,null,null,null,null,null,null,null,null,null,null,null,null,null,1,null,null,null,null,null,null,null,null,null,null,null,null,1,1,null,null,null,null,null,null,null,null,null,null,null,null,null,null,null,null,null,null,null,null,null,null,null,null,null,null,null,null,null,null,null,null,null,null,null,1,1,null,0,0,0,0,0,0,0,0,0,0,0,0,0,0,0,0,0,0,0,0,0,0,0,0,0,0,0,0,0,0,0,0,0,0,0,0,0,0,0,0,0,0,0,0,0,0,0,0,0,0,0,0,0,0,0,0,0,0,0,0,0,0,0,0,0,0,0,0,0,null,0,1,0,null,null,0]
[44,9,0,null,null,null,"Close grown crops - residue not harvested","Small grain only rotation - Not typical in Iowa",null,null,null,1,null,null,null,null,null,null,null,null,null,null,null,null,null,null,1,null,null,null,null,null,null,null,null,null,null,null,null,1,1,null,null,null,null,null,null,null,null,null,null,null,null,null,null,null,null,null,null,null,null,null,null,null,null,null,null,null,null,null,null,null,null,null,null,null,1,1,null,0,0,0,0,0,0,0,0,0,0,0,0,0,0,0,0,0,0,0,0,0,0,0,0,0,0,0,0,0,0,0,0,0,0,0,0,0,0,0,0,0,0,0,0,0,0,0,0,0,0,0,0,0,0,0,0,0,0,0,0,0,0,0,0,0,0,0,0,0,null,0,1,0,null,null,0]
[44,10,0,null,null,null,"Close grown crops - residue removed","Small grain only rotation - Not typical in Iowa",null,null,null,1,null,null,null,null,null,null,null,null,null,null,null,null,null,null,1,null,null,null,null,null,null,null,null,null,null,null,null,1,1,null,null,null,null,null,null,null,null,null,null,null,null,null,null,null,null,null,null,null,null,null,null,null,null,null,null,null,null,null,null,null,null,null,null,null,1,1,null,0,0,0,0,0,0,0,0,0,0,0,0,0,0,0,0,0,0,0,0,0,0,0,0,0,0,0,0,0,0,0,0,0,0,0,0,0,0,0,0,0,0,0,0,0,0,0,0,0,0,0,0,0,0,0,0,0,0,0,0,0,0,0,0,0,0,0,0,0,null,0,1,0,null,null,0]
[44,11,0,null,null,null,"Row crops - durable residue not harvested","Greater than 50% of rotation durable residue not removed  Examples not limited to: Corn/Corn/Soybean, Corn/Soybean/Small Grain or Continuous Corn",null,null,null,1,null,null,null,null,null,null,null,null,null,null,null,null,null,null,1,null,null,null,null,null,null,null,null,null,null,null,null,1,1,null,null,null,null,null,null,null,null,null,null,null,null,null,null,null,null,null,null,null,null,null,null,null,null,null,null,null,null,null,null,null,null,null,null,null,1,1,null,0,0,0,0,0,0,0,0,0,0,0,0,0,0,0,0,0,0,0,0,0,0,0,0,0,0,0,0,0,0,0,0,0,0,0,0,0,0,0,0,0,0,0,0,0,0,0,0,0,0,0,0,0,0,0,0,0,0,0,0,0,0,0,0,0,0,0,0,0,null,0,1,0,null,null,0]
[44,13,0,null,null,null,"Christmas trees",null,null,null,null,1,null,null,null,null,null,null,null,null,null,null,null,null,null,null,1,null,null,null,null,null,null,null,null,null,null,null,null,1,1,null,null,null,null,null,null,null,null,null,null,null,null,null,null,null,null,null,null,null,null,null,null,null,null,null,null,null,null,null,null,null,null,null,null,null,1,1,null,0,0,0,0,0,0,0,0,0,0,0,0,0,0,0,0,0,0,0,0,0,0,0,0,0,0,0,0,0,0,0,0,0,0,0,0,0,0,0,0,0,0,0,0,0,0,0,0,0,0,0,0,0,0,0,0,0,0,0,0,0,0,0,0,0,0,0,0,0,null,0,1,0,null,null,0]
[6,1,0,null,"Q:","Cover/Residue/Biomass Crop Rotation Credit",null,"Guidance","Documentation: (e.g. field notes, client interview responses, justification)",null,null,1,null,null,null,null,null,null,null,null,null,null,null,null,null,null,1,null,null,null,null,null,null,null,null,null,null,null,null,1,1,1,1,null,null,1,null,null,null,null,null,null,null,null,null,null,null,null,null,null,null,1,null,null,null,null,null,null,null,null,null,null,null,null,null,null,1,1,null,0,0,0,0,0,0,0,0,0,0,0,0,0,0,0,0,0,{"$f":"IF(CS$5=\"TRUE\",AA254,0)","v":0},{"$f":"IF(CT$5=TRUE,AB254,0)","v":0},0,0,0,0,0,0,0,0,0,0,0,0,0,0,0,0,0,0,0,0,0,0,0,0,0,0,0,0,0,0,0,0,0,0,0,0,0,0,0,0,0,0,0,0,0,0,0,0,0,0,null,0,1,{"$f":"ET254*EU254*EY254","v":0},null,null,0]
[6,5,0,null,null,null," Moderate -  Maintaining Soil Organic Matter","Crop rotation must include a predominance of high residue crops. Greater than 50% of rotation durable residue not removed  Examples not limited to: Corn/Corn/Soybean, Corn/Soybean/Small Grain or Continuous Corn. Cover crop must follow all fragile or low residue crops.\n\nNo-till or strip till.  (Full width tillage only performed as a spot or emergency treatment.) ",null,null,null,1,null,null,null,null,null,null,null,null,null,null,null,null,null,null,1,null,null,null,null,null,null,null,null,null,null,null,null,1,1,1,1,null,null,1,null,null,null,null,null,null,null,null,null,null,null,null,null,null,null,1,null,null,null,null,null,null,null,null,null,null,null,null,null,null,1,1,null,0,0,0,0,0,0,0,0,0,0,0,0,0,0,0,0,0,{"$f":"IF(CS$5=\"TRUE\",AA257,0)","v":0},0,0,0,0,0,0,0,0,0,0,0,0,0,0,0,0,0,0,0,0,0,0,0,0,0,0,0,0,0,0,0,0,0,0,0,0,0,0,0,0,0,0,0,0,0,0,0,0,0,0,0,null,0,1,{"$f":"ET257*EU257*EY257","v":0},null,null,0]
[45,2,0,null,null,null," High","Use producer yields compared to the yields of the planning soil in FOTG Section2\n\nHigh - 100% of potential crop yield based on soil, climate, and fertility (10 yr. avg. or county avg.)\nGood - >75% of potential Crop yield based on soil, climate, and fertility (10 yr. avg.)\nFair - >50% of potential Crop yield based on soil, climate, and fertility (10 yr. avg.)\nLow - >20% of potential Crop yield based on soil, climate, and fertility (10 yr. avg.)\nPoor - ≤20% of potential Crop yield based on soil, climate, and fertility (10 yr. avg.)",null,null,null,1,null,null,null,null,null,null,null,null,null,null,null,null,null,null,1,null,null,null,null,null,null,null,null,null,null,1,null,null,null,null,null,null,null,null,null,null,null,null,null,null,null,null,null,null,null,null,null,null,null,null,null,null,null,null,null,null,null,null,null,null,null,null,null,null,null,null,null,0,0,0,0,0,0,0,0,0,0,0,0,0,0,0,0,0,0,0,0,0,0,0,0,0,0,0,0,0,0,0,0,0,0,0,0,0,0,0,0,0,0,0,0,0,0,0,0,0,0,0,0,0,0,0,0,0,0,0,0,0,0,0,0,0,0,0,0,0,null,0,1,0,null,null,0]
[45,4,0,null,null,null," Fair",null,null,null,null,1,null,null,null,null,null,null,null,null,null,null,null,null,null,null,1,null,null,null,null,null,null,null,null,null,null,1,null,null,null,null,null,null,null,null,null,null,null,null,null,null,null,null,null,null,null,null,null,null,null,null,null,null,null,null,null,null,null,null,null,null,null,null,null,null,null,null,null,0,0,0,0,0,0,0,0,0,0,0,0,0,0,0,0,0,0,0,0,0,0,0,0,0,0,0,0,0,0,0,0,0,0,0,0,0,0,0,0,0,0,0,0,0,0,0,0,0,0,0,0,0,0,0,0,0,0,0,0,0,0,0,0,0,0,0,0,0,null,0,1,0,null,null,0]
[46,1,5,null,"Q:","Crop Plant Health",null,"Guidance","Additional Guidance","List PLU's",null,1,null,null,null,null,null,null,null,null,null,null,null,null,null,null,1,null,null,null,null,null,null,null,null,null,null,null,null,null,null,null,null,null,null,null,null,null,null,null,null,null,null,null,null,null,null,null,null,null,null,null,null,null,null,null,null,null,null,null,null,null,null,null,null,null,null,null,null,0,0,0,0,0,0,0,0,0,0,0,0,0,0,0,0,0,0,0,0,0,0,0,0,0,0,0,0,0,0,0,0,0,0,0,0,0,0,0,0,0,0,0,0,0,0,0,0,0,0,0,0,0,0,0,0,0,0,0,0,0,0,0,0,0,0,0,0,0,null,0,1,0,null,null,0]
[46,3,5,null,null,null," Evidence of nutrient deficiency is minimal",null,null,null,null,1,null,null,null,null,null,null,null,null,null,null,null,null,null,null,1,null,null,null,null,null,null,null,null,null,null,null,null,null,null,null,null,null,null,null,null,null,null,null,null,null,null,null,null,null,null,null,null,null,null,null,null,null,null,null,null,null,null,null,null,null,null,null,null,null,null,null,null,0,0,0,0,0,0,0,0,0,0,0,0,0,0,0,0,0,0,0,0,0,0,0,0,0,0,0,0,0,0,0,0,0,0,0,0,0,0,0,0,0,0,0,0,0,0,0,0,0,0,0,0,0,0,0,0,0,0,0,0,0,0,0,0,0,0,0,0,0,null,0,1,0,null,null,0]
[46,4,5,null,null,null," Evidence of both nutrient deficiency and disease",null,null,null,null,1,null,null,null,null,null,null,null,null,null,null,null,null,null,null,1,null,null,null,null,null,null,null,null,null,null,null,null,null,null,null,null,null,null,null,null,null,null,null,null,null,null,null,null,null,null,null,null,null,null,null,null,null,null,null,null,null,null,null,null,null,null,null,null,null,null,null,null,0,0,0,0,0,0,0,0,0,0,0,0,0,0,0,0,0,0,0,0,0,0,0,0,0,0,0,0,0,0,0,0,0,0,0,0,0,0,0,0,0,0,0,0,0,0,0,0,0,0,0,0,0,0,0,0,0,0,0,0,0,0,0,0,0,0,0,0,0,null,0,1,0,null,null,0]
[49,2,5,null,null,null," Unknown","N/A In Iowa",null,null,null,null,null,null,null,null,null,1,null,null,null,null,null,null,null,null,1,null,null,null,null,null,null,null,null,null,null,null,null,null,null,null,null,null,null,null,null,null,null,null,null,null,null,null,null,null,null,null,null,null,null,null,null,null,null,null,null,null,null,null,null,null,null,null,null,null,null,null,null,0,0,0,0,0,0,0,0,0,0,0,0,0,0,0,0,1,0,0,0,0,0,0,0,0,0,0,0,0,0,0,0,0,0,0,0,0,0,0,0,0,0,0,0,0,0,0,0,0,0,0,0,0,0,0,0,0,0,0,0,0,0,0,0,0,0,0,0,0,null,0,1,0,null,null,1,1]
[49,4,5,null,null,null," Savannas","N/A In Iowa",null,null,null,null,null,null,null,null,null,1,null,null,null,null,null,null,null,null,1,null,null,null,null,null,null,null,null,null,null,null,null,null,null,null,null,null,null,null,null,null,null,null,null,null,null,null,null,null,null,null,null,null,null,null,null,null,null,null,null,null,null,null,null,null,null,null,null,null,null,null,null,0,0,0,0,0,0,0,0,0,0,0,0,0,0,0,0,{"$f":"EZ274","v":1},0,0,0,0,0,0,0,0,0,0,0,0,0,0,0,0,0,0,0,0,0,0,0,0,0,0,0,0,0,0,0,0,0,0,0,0,0,0,0,0,0,0,0,0,0,0,0,0,0,0,0,0,null,0,1,0,null,null,1,1]
[49,7,5,null,null,null," Alpine Plant Communities","N/A In Iowa",null,null,null,null,null,null,null,null,null,1,null,null,null,null,null,null,null,null,1,null,null,null,null,null,null,null,null,null,null,null,null,null,null,null,null,null,null,null,null,null,null,null,null,null,null,null,null,null,null,null,null,null,null,null,null,null,null,null,null,null,null,null,null,null,null,null,null,null,null,null,null,0,0,0,0,0,0,0,0,0,0,0,0,0,0,0,0,1,0,0,0,0,0,0,0,0,0,0,0,0,0,0,0,0,0,0,0,0,0,0,0,0,0,0,0,0,0,0,0,0,0,0,0,0,0,0,0,0,0,0,0,0,0,0,0,0,0,0,0,0,null,0,1,0,null,null,1,1]
[49,9,5,null,null,null,"Shrublands","N/A In Iowa",null,null,null,null,null,null,null,null,null,1,null,null,null,null,null,null,null,null,1,null,null,null,null,null,null,null,null,null,null,null,null,null,null,null,null,null,null,null,null,null,null,null,null,null,null,null,null,null,null,null,null,null,null,null,null,null,null,null,null,null,null,null,null,null,null,null,null,null,null,null,null,0,0,0,0,0,0,0,0,0,0,0,0,0,0,0,0,1,{"$f":"IF(CS$5=\"TRUE\",AA280,0)","v":0},{"$f":"IF(CT$5=TRUE,AB280,0)","v":0},{"$f":"IF(CU$5=TRUE,AC280,0)","v":0},{"$f":"IF(CV$5=TRUE,AD280,0)","v":0},{"$f":"IF(CW$5=TRUE,AE280,0)","v":0},{"$f":"IF(CX$5=TRUE,AF280,0)","v":0},{"$f":"IF(CY$5=TRUE,AG280,0)","v":0},{"$f":"IF(CZ$5=TRUE,AH280,0)","v":0},{"$f":"IF(DA$5=TRUE,AI280,0)","v":0},{"$f":"IF(DB$5=TRUE,AJ280,0)","v":0},{"$f":"IF(DC$5=TRUE,AK280,0)","v":0},{"$f":"IF(DD$5=TRUE,AL280,0)","v":0},{"$f":"IF(DE$5=TRUE,AM280,0)","v":0},{"$f":"IF(DF$5=TRUE,AN280,0)","v":0},{"$f":"IF(DG$5=TRUE,AO280,0)","v":0},{"$f":"IF(DH$5=TRUE,AP280,0)","v":0},{"$f":"IF(DI$5=TRUE,AQ280,0)","v":0},{"$f":"IF(DJ$5=TRUE,AR280,0)","v":0},{"$f":"IF(DK$5=TRUE,AS280,0)","v":0},{"$f":"IF(DL$5=TRUE,AT280,0)","v":0},{"$f":"IF(DM$5=TRUE,AU280,0)","v":0},{"$f":"IF(DN$5=TRUE,AV280,0)","v":0},{"$f":"IF(DO$5=TRUE,AW280,0)","v":0},{"$f":"IF(DP$5=TRUE,AX280,0)","v":0},{"$f":"IF(DQ$5=TRUE,AY280,0)","v":0},{"$f":"IF(DR$5=TRUE,AZ280,0)","v":0},{"$f":"IF(DS$5=TRUE,BA280,0)","v":0},{"$f":"IF(DT$5=TRUE,BB280,0)","v":0},{"$f":"IF(DU$5=TRUE,BC280,0)","v":0},{"$f":"IF(DV$5=TRUE,BD280,0)","v":0},{"$f":"IF(DW$5=TRUE,BE280,0)","v":0},{"$f":"IF(DX$5=TRUE,BF280,0)","v":0},{"$f":"IF(DY$5=TRUE,BG280,0)","v":0},{"$f":"IF(DZ$5=TRUE,BH280,0)","v":0},{"$f":"IF(EA$5=TRUE,BI280,0)","v":0},{"$f":"IF(EB$5=TRUE,BJ280,0)","v":0},{"$f":"IF(EC$5=TRUE,BK280,0)","v":0},{"$f":"IF(ED$5=TRUE,BL280,0)","v":0},{"$f":"IF(EE$5=TRUE,BM280,0)","v":0},{"$f":"IF(EF$5=TRUE,BN280,0)","v":0},{"$f":"IF(EG$5=TRUE,BO280,0)","v":0},{"$f":"IF(EH$5=TRUE,BP280,0)","v":0},{"$f":"IF(EI$5=TRUE,BQ280,0)","v":0},{"$f":"IF(EJ$5=TRUE,BR280,0)","v":0},{"$f":"IF(EK$5=TRUE,BS280,0)","v":0},{"$f":"IF(EL$5=TRUE,BT280,0)","v":0},{"$f":"IF(EM$5=TRUE,BU280,0)","v":0},{"$f":"IF(EN$5=TRUE,BV280,0)","v":0},{"$f":"IF(EO$5=TRUE,BW280,0)","v":0},{"$f":"IF(EP$5=TRUE,BX280,0)","v":0},{"$f":"IF(EQ$5=TRUE,BY280,0)","v":0},{"$f":"IF(ER$5=TRUE,BZ280,0)","v":0},null,0,1,{"$f":"ET280*EU280*EY280","v":0},null,null,1,1]
[50,3,5,null,null,null," None to Slight","N/A In Iowa",null,null,null,null,null,null,null,null,null,1,null,null,null,null,null,null,null,null,1,null,null,null,null,null,null,null,null,null,null,null,null,null,null,null,null,null,null,1,null,null,null,null,null,null,null,null,null,null,null,null,null,null,null,null,null,null,null,null,null,null,null,null,null,null,null,null,null,null,1,1,null,0,0,0,0,0,0,0,0,0,0,0,0,0,0,0,0,0,0,0,0,0,0,0,0,0,0,0,0,0,0,0,0,0,0,0,0,0,0,0,0,0,0,0,0,0,0,0,0,0,0,0,0,0,0,0,0,0,0,0,0,0,0,0,0,0,0,0,0,0,null,0,1,0,null,null,0]
[50,6,5,null,null,null," Moderate to Extreme","N/A In Iowa",null,null,null,null,null,null,null,null,null,1,null,null,null,null,null,null,null,null,1,null,null,null,null,null,null,null,null,null,null,null,null,null,null,null,null,null,null,1,null,null,null,null,null,null,null,null,null,null,null,null,null,null,null,null,null,null,null,null,null,null,null,null,null,null,null,null,null,null,1,1,null,0,0,0,0,0,0,0,0,0,0,0,0,0,0,0,0,0,0,0,0,0,0,0,0,0,0,0,0,0,0,0,0,0,0,0,0,0,0,0,0,0,0,0,0,0,0,0,0,0,0,0,0,0,0,0,0,0,0,0,0,0,0,0,0,0,0,0,0,0,null,0,1,0,null,null,0]
[51,1,5,null,"Q:","Rangeland Health - Biotic Integrity",null,"Guidance","Additional Guidance","List PLU's",null,null,null,null,null,null,null,1,null,null,null,null,null,null,null,null,1,null,null,null,null,null,null,null,null,null,null,1,1,null,null,null,null,null,null,null,null,null,null,null,null,null,null,null,null,null,null,null,null,null,null,null,null,null,null,null,null,null,null,null,null,null,null,null,null,null,null,null,null,0,0,0,0,0,0,0,0,0,0,0,0,0,0,0,0,0,0,0,0,0,0,0,0,0,0,0,0,0,0,0,0,0,0,0,0,0,0,0,0,0,0,0,0,0,0,0,0,0,0,0,0,0,0,0,0,0,0,0,0,0,0,0,0,0,0,0,0,0,null,0,1,0,null,null,0]
[51,3,5,null,null,null," None to Slight","N/A In Iowa",null,null,null,null,null,null,null,null,null,1,null,null,null,null,null,null,null,null,1,null,null,null,null,null,null,null,null,null,null,1,1,null,null,null,null,null,null,null,null,null,null,null,null,null,null,null,null,null,null,null,null,null,null,null,null,null,null,null,null,null,null,null,null,null,null,null,null,null,null,null,null,0,0,0,0,0,0,0,0,0,0,0,0,0,0,0,0,0,0,0,0,0,0,0,0,0,0,0,0,0,0,0,0,0,0,0,0,0,0,0,0,0,0,0,0,0,0,0,0,0,0,0,0,0,0,0,0,0,0,0,0,0,0,0,0,0,0,0,0,0,null,0,1,0,null,null,0]
[51,7,5,null,null,null," Extreme to Total","N/A In Iowa",null,null,null,null,null,null,null,null,null,1,null,null,null,null,null,null,null,null,1,null,null,null,null,null,null,null,null,null,null,1,1,null,null,null,null,null,null,null,null,null,null,null,null,null,null,null,null,null,null,null,null,null,null,null,null,null,null,null,null,null,null,null,null,null,null,null,null,null,null,null,null,0,0,0,0,0,0,0,0,0,0,0,0,0,0,0,0,0,0,0,0,0,0,0,0,0,0,0,0,0,0,0,0,0,0,0,0,0,0,0,0,0,0,0,0,0,0,0,0,0,0,0,0,0,0,0,0,0,0,0,0,0,0,0,0,0,0,0,0,0,null,0,1,0,null,null,0]
[52,3,5,null,null,null," None to Slight","N/A In Iowa",null,null,null,null,null,null,null,null,null,1,null,null,null,null,null,null,null,null,1,null,null,null,null,null,null,null,null,null,null,null,null,null,null,null,null,null,null,null,null,null,null,null,null,null,null,null,null,null,null,null,null,null,null,null,null,null,null,null,null,null,null,null,null,null,1,null,null,null,null,null,null,0,0,0,0,0,0,0,0,0,0,0,0,0,0,0,0,0,0,0,0,0,0,0,0,0,0,0,0,0,0,0,0,0,0,0,0,0,0,0,0,0,0,0,0,0,0,0,0,0,0,0,0,0,0,0,0,0,0,0,0,0,0,0,0,0,0,0,0,0,null,0,1,0,null,null,0]
[52,6,5,null,null,null," Moderate to Extreme","N/A In Iowa",null,null,null,null,null,null,null,null,null,1,null,null,null,null,null,null,null,null,1,null,null,null,null,null,null,null,null,null,null,null,null,null,null,null,null,null,null,null,null,null,null,null,null,null,null,null,null,null,null,null,null,null,null,null,null,null,null,null,null,null,null,null,null,null,1,null,null,null,null,null,null,0,0,0,0,0,0,0,0,0,0,0,0,0,0,0,0,0,0,0,0,0,0,0,0,0,0,0,0,0,0,0,0,0,0,0,0,0,0,0,0,0,0,0,0,0,0,0,0,0,0,0,0,0,0,0,0,0,0,0,0,0,0,0,0,0,0,0,0,0,null,0,1,0,null,null,0]
[53,2,0,null,null,null," Warm season grasses","Warm season grasses present in pasture AND producer is managing pasture for warm season grasses.",null,null,null,null,null,null,1,null,null,null,null,null,null,null,null,null,null,null,1,null,null,null,null,null,null,null,null,null,null,null,null,null,null,null,null,null,null,null,null,null,null,null,null,null,null,null,null,null,null,null,null,null,null,null,null,null,null,null,null,null,null,null,null,null,null,null,null,null,null,null,null,0,0,0,0,0,0,0,0,0,0,0,0,0,0,0,0,1,0,0,0,0,0,0,0,0,0,0,0,0,0,0,0,0,0,0,0,0,0,0,0,0,0,0,0,0,0,0,0,0,0,0,0,0,0,0,0,0,0,0,0,0,0,0,0,0,0,0,0,0,null,0,1,0,null,null,1,1]
[60,3,0,null,null,null," High","Overgrazed pasture\nOR \nPCS - Percent Desirable Plants is 5",null,null,null,null,null,null,1,null,null,null,null,null,null,null,null,null,null,null,1,null,null,null,null,null,null,null,null,null,null,1,1,null,null,null,null,null,null,null,null,null,null,null,null,null,null,null,null,null,null,null,null,null,null,null,null,null,null,null,null,null,null,null,null,null,null,null,null,null,null,null,null,0,0,0,0,0,0,0,0,0,0,0,0,0,0,0,0,0,0,0,0,0,0,0,0,0,0,0,0,0,0,0,0,0,0,0,0,0,0,0,0,0,0,0,0,0,0,0,0,0,0,0,0,null,0,0,0,0,0,0,0,0,0,0,0,0,0,0,0,0,null,0,1,0,null,null,0]
[60,4,0,null,null,null," Good"," \nPCS - Percent Desirable Plants is 4",null,null,null,null,null,null,1,null,null,null,null,null,null,null,null,null,null,null,1,null,null,null,null,null,null,null,null,null,null,1,1,null,null,null,null,null,null,null,null,null,null,null,null,null,null,null,null,null,null,null,null,null,null,null,null,null,null,null,null,null,null,null,null,null,null,null,null,null,null,null,null,0,0,0,0,0,0,0,0,0,0,0,0,0,0,0,0,0,0,0,0,0,0,0,0,0,0,0,0,0,0,0,0,0,0,0,0,0,0,0,0,0,0,0,0,0,0,0,0,0,0,0,0,null,0,0,0,0,0,0,0,0,0,0,0,0,0,0,0,0,null,0,1,0,null,null,0]
[60,6,0,null,null,null," Low","PCS - Percent Desirable Plants is 2",null,null,null,null,null,null,1,null,null,null,null,null,null,null,null,null,null,null,1,null,null,null,null,null,null,null,null,null,null,1,1,null,null,null,null,null,null,null,null,null,null,null,null,null,null,null,null,null,null,null,null,null,null,null,null,null,null,null,null,null,null,null,null,null,null,null,null,null,null,null,null,0,0,0,0,0,0,0,0,0,0,0,0,0,0,0,0,0,0,0,0,0,0,0,0,0,0,0,0,0,0,0,0,0,0,0,0,0,0,0,0,0,0,0,0,0,0,0,0,0,0,0,0,null,0,0,0,0,0,0,0,0,0,0,0,0,0,0,0,0,null,0,1,0,null,null,0]
[55,3,0,null,null,null," High","PCS - Live Plant Cover is 5",null,null,null,null,null,null,1,null,null,null,null,null,null,null,null,null,null,null,1,null,null,null,null,null,null,null,null,null,null,1,null,null,null,null,null,null,null,1,null,null,null,null,null,null,null,null,null,null,null,null,null,null,null,null,null,null,null,null,null,null,null,null,null,null,1,null,null,null,1,1,null,0,0,0,0,0,0,0,0,0,0,0,0,0,0,0,0,0,0,0,0,0,0,0,0,0,0,0,0,0,0,0,0,0,0,0,0,0,0,0,0,0,0,0,0,0,0,0,0,0,0,0,0,null,0,0,0,0,0,0,0,0,0,0,0,0,0,0,0,0,null,0,1,0,null,null,0]
[55,6,0,null,null,null," Low","PCS - Live Plant Cover is 2",null,null,null,null,null,null,1,null,null,null,null,null,null,null,null,null,null,null,1,null,null,null,null,null,null,null,null,null,null,1,null,null,null,null,null,null,null,1,null,null,null,null,null,null,null,null,null,null,null,null,null,null,null,null,null,null,null,null,null,null,null,null,null,null,1,null,null,null,1,1,null,0,0,0,0,0,0,0,0,0,0,0,0,0,0,0,0,0,0,0,0,0,0,0,0,0,0,0,0,0,0,0,0,0,0,0,0,0,0,0,0,0,0,0,0,0,0,0,0,0,0,0,0,null,0,0,0,0,0,0,0,0,0,0,0,0,0,0,0,0,null,0,1,0,null,null,0]
[54,1,0,null,"Q:","Pasture - Plant Vigor",null,"Guidance","Documentation: (e.g. field notes, client interview responses, justification)",null,null,null,null,null,1,null,null,null,null,null,null,null,null,null,null,null,1,null,null,null,null,null,null,null,null,null,null,1,1,null,null,null,null,null,null,1,null,null,null,null,null,null,null,null,null,null,null,null,null,null,null,null,null,null,null,null,null,null,null,null,null,null,null,null,null,null,1,null,null,0,0,0,0,0,0,0,0,0,0,0,0,0,0,0,0,0,0,0,0,0,0,0,0,0,0,0,0,0,0,0,0,0,0,0,0,0,0,0,0,0,0,0,0,0,0,0,0,0,0,0,0,{"$f":"IF(EB$5=TRUE,BJ314,0)","v":0},0,0,0,0,0,0,0,0,0,0,0,0,0,0,0,0,null,0,1,0,null,null,0]
[54,5,0,null,null,null," Fair","PCS - Plant Vigor is 3",null,null,null,null,null,null,1,null,null,null,null,null,null,null,null,null,null,null,1,null,null,null,null,null,null,null,null,null,null,1,1,null,null,null,null,null,null,1,null,null,null,null,null,null,null,null,null,null,null,null,null,null,null,null,null,null,null,null,null,null,null,null,null,null,null,null,null,null,1,null,null,0,0,0,0,0,0,0,0,0,0,0,0,0,0,0,0,0,0,0,0,0,0,0,0,0,0,0,0,0,0,0,0,0,0,0,0,0,0,0,0,0,0,0,0,0,0,0,0,0,0,0,0,0,0,0,0,0,0,0,0,0,0,0,0,0,0,0,0,0,null,0,1,0,null,null,0]
[54,7,0,null,null,null," Poor","PCS - Plant Vigor is 1",null,null,null,null,null,null,1,null,null,null,null,null,null,null,null,null,null,null,1,null,null,null,null,null,null,null,null,null,null,1,1,null,null,null,null,null,null,1,null,null,null,null,null,null,null,null,null,null,null,null,null,null,null,null,null,null,null,null,null,null,null,null,null,null,null,null,null,null,1,null,null,0,0,0,0,0,0,0,0,0,0,0,0,0,0,0,0,0,0,0,0,0,0,0,0,0,0,0,0,0,0,0,0,0,0,0,0,0,0,0,0,0,0,0,0,0,0,0,0,0,0,0,0,0,0,0,0,0,0,0,0,0,0,0,0,0,0,0,0,0,null,0,1,0,null,null,0]
[56,5,0,null,null,null," Fair","Overgrazed pasture\nOR\nPCS - Erosion is 3",null,null,null,null,null,null,1,null,null,null,null,null,null,null,null,null,null,null,1,null,null,null,null,null,null,null,null,null,null,null,null,null,null,1,1,null,null,1,null,null,null,null,null,null,null,null,null,null,null,null,null,null,null,null,null,null,null,null,null,null,null,null,null,null,null,null,null,null,1,null,null,0,0,0,0,0,0,0,0,0,0,0,0,0,0,0,0,0,0,0,0,0,0,0,0,0,0,0,0,0,0,0,0,0,0,0,0,0,0,0,0,0,0,0,0,0,0,0,0,0,0,0,0,0,0,0,0,0,0,0,0,0,0,0,0,0,0,0,0,0,null,0,1,0,null,null,0]
[56,6,0,null,null,null," Low","PCS - Erosion is 2",null,null,null,null,null,null,1,null,null,null,null,null,null,null,null,null,null,null,1,null,null,null,null,null,null,null,null,null,null,null,null,null,null,1,1,null,null,1,null,null,null,null,null,null,null,null,null,null,null,null,null,null,null,null,null,null,null,null,null,null,null,null,null,null,null,null,null,null,1,null,null,0,0,0,0,0,0,0,0,0,0,0,0,0,0,0,0,0,0,0,0,0,0,0,0,0,0,0,0,0,0,0,0,0,0,0,0,0,0,0,0,0,0,0,0,0,0,0,0,0,0,0,0,0,0,0,0,0,0,0,0,0,0,0,0,0,0,0,0,0,null,0,1,0,null,null,0]
[null,null,null,null,"Q:","Pasture  – Erosion (Wind)",null,"Guidance","Documentation: (e.g. field notes, client interview responses, justification)"]
[null,null,null,null,null,null," Fair","PCS - Wind Erosion is 3"]
[54,1,0,null,"Q:","Pasture  – Compaction and Soil Regenerative Features",null,"Guidance","Documentation: (e.g. field notes, client interview responses, justification)",null,null,null,null,null,1,null,null,null,null,null,null,null,null,null,null,null,1,null,null,null,null,null,null,null,null,null,null,null,null,null,null,null,null,null,null,null,null,null,null,null,null,null,null,null,null,null,null,null,null,null,null,null,null,null,null,null,null,null,null,null,null,null,1,null,null,null,null,null,null,0,0,0,0,0,0,0,0,0,0,0,0,0,0,0,0,0,{"$f":"IF(CS$5=\"TRUE\",AA332,0)","v":0},{"$f":"IF(CT$5=TRUE,AB332,0)","v":0},{"$f":"IF(CU$5=TRUE,AC332,0)","v":0},{"$f":"IF(CV$5=TRUE,AD332,0)","v":0},{"$f":"IF(CW$5=TRUE,AE332,0)","v":0},{"$f":"IF(CX$5=TRUE,AF332,0)","v":0},{"$f":"IF(CY$5=TRUE,AG332,0)","v":0},{"$f":"IF(CZ$5=TRUE,AH332,0)","v":0},{"$f":"IF(DA$5=TRUE,AI332,0)","v":0},{"$f":"IF(DB$5=TRUE,AJ332,0)","v":0},{"$f":"IF(DC$5=TRUE,AK332,0)","v":0},{"$f":"IF(DD$5=TRUE,AL332,0)","v":0},{"$f":"IF(DE$5=TRUE,AM332,0)","v":0},{"$f":"IF(DF$5=TRUE,AN332,0)","v":0},{"$f":"IF(DG$5=TRUE,AO332,0)","v":0},{"$f":"IF(DH$5=TRUE,AP332,0)","v":0},{"$f":"IF(DI$5=TRUE,AQ332,0)","v":0},{"$f":"IF(DJ$5=TRUE,AR332,0)","v":0},{"$f":"IF(DK$5=TRUE,AS332,0)","v":0},{"$f":"IF(DL$5=TRUE,AT332,0)","v":0},{"$f":"IF(DM$5=TRUE,AU332,0)","v":0},{"$f":"IF(DN$5=TRUE,AV332,0)","v":0},{"$f":"IF(DO$5=TRUE,AW332,0)","v":0},{"$f":"IF(DP$5=TRUE,AX332,0)","v":0},{"$f":"IF(DQ$5=TRUE,AY332,0)","v":0},{"$f":"IF(DR$5=TRUE,AZ332,0)","v":0},{"$f":"IF(DS$5=TRUE,BA332,0)","v":0},{"$f":"IF(DT$5=TRUE,BB332,0)","v":0},{"$f":"IF(DU$5=TRUE,BC332,0)","v":0},{"$f":"IF(DV$5=TRUE,BD332,0)","v":0},{"$f":"IF(DW$5=TRUE,BE332,0)","v":0},{"$f":"IF(DX$5=TRUE,BF332,0)","v":0},{"$f":"IF(DY$5=TRUE,BG332,0)","v":0},{"$f":"IF(DZ$5=TRUE,BH332,0)","v":0},{"$f":"IF(EA$5=TRUE,BI332,0)","v":0},{"$f":"IF(EB$5=TRUE,BJ332,0)","v":0},{"$f":"IF(EC$5=TRUE,BK332,0)","v":0},{"$f":"IF(ED$5=TRUE,BL332,0)","v":0},{"$f":"IF(EE$5=TRUE,BM332,0)","v":0},{"$f":"IF(EF$5=TRUE,BN332,0)","v":0},{"$f":"IF(EG$5=TRUE,BO332,0)","v":0},{"$f":"IF(EH$5=TRUE,BP332,0)","v":0},{"$f":"IF(EI$5=TRUE,BQ332,0)","v":0},{"$f":"IF(EJ$5=TRUE,BR332,0)","v":0},{"$f":"IF(EK$5=TRUE,BS332,0)","v":0},{"$f":"IF(EL$5=TRUE,BT332,0)","v":0},{"$f":"IF(EM$5=TRUE,BU332,0)","v":0},{"$f":"IF(EN$5=TRUE,BV332,0)","v":0},{"$f":"IF(EO$5=TRUE,BW332,0)","v":0},{"$f":"IF(EP$5=TRUE,BX332,0)","v":0},{"$f":"IF(EQ$5=TRUE,BY332,0)","v":0},{"$f":"IF(ER$5=TRUE,BZ332,0)","v":0},null,0,1,{"$f":"ET332*EU332*EY332","v":0},null,null,{"$f":"MAX(CR332:ER332)","v":0}]
[54,4,0,null,null,null," Good","PCS - Soil Compaction and Soil Regenerative Features is 4",null,null,null,null,null,null,1,null,null,null,null,null,null,null,null,null,null,null,1,null,null,null,null,null,null,null,null,null,null,null,null,null,null,null,null,null,null,null,null,null,null,null,null,null,null,null,null,null,null,null,null,null,null,null,null,null,null,null,null,null,null,null,null,null,1,null,null,null,null,null,null,0,0,0,0,0,0,0,0,0,0,0,0,0,0,0,0,0,0,0,0,0,0,0,0,0,0,0,0,0,0,0,0,0,0,0,0,0,0,0,0,0,0,0,0,0,0,0,0,0,0,0,0,0,0,0,0,0,0,0,0,0,0,0,0,0,0,0,0,0,null,0,1,0,null,null,0]
[54,7,{"$f":"IF(EV337>0,1,0)","v":0},null,null,null," Poor","PCS - Soil Compaction and Soil Regenerative Features is 1",null,null,null,null,null,null,1,null,null,null,null,null,null,null,null,null,null,null,1,null,null,null,null,null,null,null,null,null,null,null,null,null,null,null,null,null,null,null,null,null,null,null,null,null,null,null,null,null,null,null,null,null,null,null,null,null,null,null,null,null,null,null,null,null,1,null,null,null,null,null,null,{"$f":"IF(CB$5=TRUE,K337,0)","v":0},{"$f":"IF(CC$5=TRUE,L337,0)","v":0},{"$f":"IF(CD$5=TRUE,M337,0)","v":0},{"$f":"IF(CE$5=TRUE,N337,0)","v":0},{"$f":"IF(CF$5=TRUE,O337,0)","v":0},{"$f":"IF(CG$5=TRUE,P337,0)","v":0},{"$f":"IF(CH$5=TRUE,Q337,0)","v":0},{"$f":"IF(CI$5=TRUE,R337,0)","v":0},{"$f":"IF(CJ$5=TRUE,S337,0)","v":0},{"$f":"IF(CK$5=TRUE,T337,0)","v":0},{"$f":"IF(CL$5=TRUE,U337,0)","v":0},{"$f":"IF(CM$5=TRUE,V337,0)","v":0},{"$f":"IF(CN$5=TRUE,W337,0)","v":0},{"$f":"IF(CO$5=TRUE,X337,0)","v":0},{"$f":"IF(CP$5=TRUE,Y337,0)","v":0},{"$f":"IF(CQ$5=TRUE,Z337,0)","v":0},0,0,0,0,0,0,0,0,0,0,0,0,0,0,0,0,0,0,0,0,0,0,0,0,0,0,0,0,0,0,0,0,0,0,0,0,0,0,0,0,0,0,0,0,0,0,0,0,0,0,0,0,0,null,{"$f":"MAX(CB337:CQ337)","v":0},1,0,null,null,0]
[62,1,0,null,"Q:","Forest Group",null,"Guidance","Documentation: (e.g. field notes, client interview responses, justification)",null,null,null,null,1,null,null,null,null,null,null,null,null,null,null,null,null,1,null,null,null,null,null,null,null,null,null,null,null,null,null,null,null,null,null,null,null,null,null,null,null,null,null,null,null,null,null,null,null,null,null,null,null,null,null,null,null,null,null,null,null,null,null,null,null,null,null,null,null,null,0,0,0,0,0,0,0,0,0,0,0,0,0,0,0,0,1,0,0,0,0,0,0,0,0,0,0,0,0,0,0,0,0,0,0,0,0,0,0,0,0,0,0,0,0,0,0,0,0,0,0,0,0,0,0,0,0,0,0,0,0,0,0,0,0,0,0,0,0,null,0,1,0,null,null,1,1]
[62,5,0,null,null,null," 150 Tropical softwoods","N/A In Iowa",null,null,null,null,null,1,null,null,null,null,null,null,null,null,null,null,null,null,1,null,null,null,null,null,null,null,null,null,null,null,null,null,null,null,null,null,null,null,null,null,null,null,null,null,null,null,null,null,null,null,null,null,null,null,null,null,null,null,null,null,null,null,null,null,null,null,null,null,null,null,null,0,0,0,0,0,0,0,0,0,0,0,0,0,0,0,0,1,0,0,0,0,0,0,0,0,0,0,0,0,0,0,0,0,0,0,0,0,0,0,0,0,0,0,0,0,0,0,0,0,0,0,0,0,0,0,0,0,0,0,0,0,0,0,0,0,0,0,0,0,null,0,1,0,null,null,1,1]
[62,6,0,null,null,null," 160 Loblolly/Shortleaf Pine","N/A In Iowa",null,null,null,null,null,1,null,null,null,null,null,null,null,null,null,null,null,null,1,null,null,null,null,null,null,null,null,null,null,null,null,null,null,null,null,null,null,null,null,null,null,null,null,null,null,null,null,null,null,null,null,null,null,null,null,null,null,null,null,null,null,null,null,null,null,null,null,null,null,null,null,0,0,0,0,0,0,0,0,0,0,0,0,0,0,0,0,1,0,0,0,0,0,0,0,0,0,0,0,0,0,0,0,0,0,0,0,0,0,0,0,0,0,0,0,0,0,0,0,0,0,0,0,0,0,0,0,0,0,0,0,0,0,0,0,0,0,0,0,0,null,0,1,0,null,null,1,1]
[62,8,0,null,null,null," 180 Pinyon/Juniper","https://www.fs.usda.gov/nrs/pubs/ru/ru_fs111.pdf",null,null,null,null,null,1,null,null,null,null,null,null,null,null,null,null,null,null,1,null,null,null,null,null,null,null,null,null,null,null,null,null,null,null,null,null,null,null,null,null,null,null,null,null,null,null,null,null,null,null,null,null,null,null,null,null,null,null,null,null,null,null,null,null,null,null,null,null,null,null,null,0,0,0,0,0,0,0,0,0,0,0,0,0,0,0,0,1,0,0,0,0,0,0,0,0,0,0,0,0,0,0,0,0,0,0,0,0,0,0,0,0,0,0,0,0,0,0,0,0,0,0,0,0,0,0,0,0,0,0,0,0,0,0,0,0,0,0,0,0,null,0,1,0,null,null,1,1]
[62,11,0,null,null,null," 200 Western White Pine","N/A In Iowa",null,null,null,null,null,1,null,null,null,null,null,null,null,null,null,null,null,null,1,null,null,null,null,null,null,null,null,null,null,null,null,null,null,null,null,null,null,null,null,null,null,null,null,null,null,null,null,null,null,null,null,null,null,null,null,null,null,null,null,null,null,null,null,null,null,null,null,null,null,null,null,0,0,0,0,0,0,0,0,0,0,0,0,0,0,0,0,1,0,0,0,0,0,0,0,0,0,0,0,0,0,0,0,0,0,0,0,0,0,0,0,0,0,0,0,0,0,0,0,0,0,0,0,0,0,0,0,0,0,0,0,0,0,0,0,0,0,0,0,0,null,0,1,0,null,null,1,1]
[62,14,0,null,null,null,"300 Hemlock/Sitka Spruce","N/A In Iowa",null,null,null,null,null,1,null,null,null,null,null,null,null,null,null,null,null,null,1,null,null,null,null,null,null,null,null,null,null,null,null,null,null,null,null,null,null,null,null,null,null,null,null,null,null,null,null,null,null,null,null,null,null,null,null,null,null,null,null,null,null,null,null,null,null,null,null,null,null,null,null,0,0,0,0,0,0,0,0,0,0,0,0,0,0,0,0,1,0,0,0,0,0,0,0,0,0,0,0,0,0,0,0,0,0,0,0,0,0,0,0,0,0,0,0,0,0,0,0,0,0,0,0,0,0,0,0,0,0,0,0,0,0,0,0,0,0,0,0,0,null,0,1,0,null,null,1,1]
[62,17,0,null,null,null,"360 Other Western Softwood","N/A In Iowa",null,null,null,null,null,1,null,null,null,null,null,null,null,null,null,null,null,null,1,null,null,null,null,null,null,null,null,null,null,null,null,null,null,null,null,null,null,null,null,null,null,null,null,null,null,null,null,null,null,null,null,null,null,null,null,null,null,null,null,null,null,null,null,null,null,null,null,null,null,null,null,0,0,0,0,0,0,0,0,0,0,0,0,0,0,0,0,1,0,0,0,0,0,0,0,0,0,0,0,0,0,0,0,0,0,0,0,0,0,0,0,0,0,0,0,0,0,0,0,0,0,0,0,0,0,0,0,0,0,0,0,0,0,0,0,0,0,0,0,0,null,0,1,0,null,null,1,1]
[62,20,0,null,null,null,"390 Other softwood","N/A In Iowa",null,null,null,null,null,1,null,null,null,null,null,null,null,null,null,null,null,null,1,null,null,null,null,null,null,null,null,null,null,null,null,null,null,null,null,null,null,null,null,null,null,null,null,null,null,null,null,null,null,null,null,null,null,null,null,null,null,null,null,null,null,null,null,null,null,null,null,null,null,null,null,0,0,0,0,0,0,0,0,0,0,0,0,0,0,0,0,1,0,0,0,0,0,0,0,0,0,0,0,0,0,0,0,0,0,0,0,0,0,0,0,0,0,0,0,0,0,0,0,0,0,0,0,0,0,0,0,0,0,0,0,0,0,0,0,0,0,0,0,0,null,0,1,0,null,null,1,1]
[62,23,0,null,null,null,"600 Oak/Gum/Cypress","https://www.fs.usda.gov/nrs/pubs/ru/ru_fs111.pdf",null,null,null,null,null,1,null,null,null,null,null,null,null,null,null,null,null,null,1,null,null,null,null,null,null,null,null,null,null,null,null,null,null,null,null,null,null,null,null,null,null,null,null,null,null,null,null,null,null,null,null,null,null,null,null,null,null,null,null,null,null,null,null,null,null,null,null,null,null,null,null,0,0,0,0,0,0,0,0,0,0,0,0,0,0,0,0,1,0,0,0,0,0,0,0,0,0,0,0,0,0,0,0,0,0,0,0,0,0,0,0,0,0,0,0,0,0,0,0,0,0,0,0,0,0,0,0,0,0,0,0,0,0,0,0,0,0,0,0,0,null,0,1,0,null,null,1,1]
[62,25,0,null,null,null,"800 Maple/Beech/Birch","https://www.fs.usda.gov/nrs/pubs/ru/ru_fs111.pdf",null,null,null,null,null,1,null,null,null,null,null,null,null,null,null,null,null,null,1,null,null,null,null,null,null,null,null,null,null,null,null,null,null,null,null,null,null,null,null,null,null,null,null,null,null,null,null,null,null,null,null,null,null,null,null,null,null,null,null,null,null,null,null,null,null,null,null,null,null,null,null,0,0,0,0,0,0,0,0,0,0,0,0,0,0,0,0,1,0,0,0,0,0,0,0,0,0,0,0,0,0,0,0,0,0,0,0,0,0,0,0,0,0,0,0,0,0,0,0,0,0,0,0,0,0,0,0,0,0,0,0,0,0,0,0,0,0,0,0,0,null,0,1,0,null,null,1,1]
[62,26,0,null,null,null,"900 Aspen/Birch","https://www.fs.usda.gov/nrs/pubs/ru/ru_fs111.pdf",null,null,null,null,null,1,null,null,null,null,null,null,null,null,null,null,null,null,1,null,null,null,null,null,null,null,null,null,null,null,null,null,null,null,null,null,null,null,null,null,null,null,null,null,null,null,null,null,null,null,null,null,null,null,null,null,null,null,null,null,null,null,null,null,null,null,null,null,null,null,null,0,0,0,0,0,0,0,0,0,0,0,0,0,0,0,0,1,0,0,0,0,0,0,0,0,0,0,0,0,0,0,0,0,0,0,0,0,0,0,0,0,0,0,0,0,0,0,0,0,0,0,0,0,0,0,0,0,0,0,0,0,0,0,0,0,0,0,0,0,null,0,1,0,null,null,1,1]
[62,30,0,null,null,null,"950 Other Western Hardwoods","N/A In Iowa",null,null,null,null,null,1,null,null,null,null,null,null,null,null,null,null,null,null,1,null,null,null,null,null,null,null,null,null,null,null,null,null,null,null,null,null,null,null,null,null,null,null,null,null,null,null,null,null,null,null,null,null,null,null,null,null,null,null,null,null,null,null,null,null,null,null,null,null,null,null,null,0,0,0,0,0,0,0,0,0,0,0,0,0,0,0,0,1,0,0,0,0,0,0,0,0,0,0,0,0,0,0,0,0,0,0,0,0,0,0,0,0,0,0,0,0,0,0,0,0,0,0,0,0,0,0,0,0,0,0,0,0,0,0,0,0,0,0,0,0,null,0,1,0,null,null,1,1]
[62,31,0,null,null,null,"960 Other Hardwood","N/A In Iowa",null,null,null,null,null,1,null,null,null,null,null,null,null,null,null,null,null,null,1,null,null,null,null,null,null,null,null,null,null,null,null,null,null,null,null,null,null,null,null,null,null,null,null,null,null,null,null,null,null,null,null,null,null,null,null,null,null,null,null,null,null,null,null,null,null,null,null,null,null,null,null,0,0,0,0,0,0,0,0,0,0,0,0,0,0,0,0,1,0,0,0,0,0,0,0,0,0,0,0,0,0,0,0,0,0,0,0,0,0,0,0,0,0,0,0,0,0,0,0,0,0,0,0,0,0,0,0,0,0,0,0,0,0,0,0,0,0,0,0,0,null,0,1,0,null,null,1,1]
[62,34,0,null,null,null,"988 Cloud Forest","N/A In Iowa",null,null,null,null,null,1,null,null,null,null,null,null,null,null,null,null,null,null,1,null,null,null,null,null,null,null,null,null,null,null,null,null,null,null,null,null,null,null,null,null,null,null,null,null,null,null,null,null,null,null,null,null,null,null,null,null,null,null,null,null,null,null,null,null,null,null,null,null,null,null,null,0,0,0,0,0,0,0,0,0,0,0,0,0,0,0,0,1,0,0,0,0,0,0,0,0,0,0,0,0,0,0,0,0,0,0,0,0,0,0,0,0,0,0,0,0,0,0,0,0,0,0,0,0,0,0,0,0,0,0,0,0,0,0,0,0,0,0,0,0,null,0,1,0,null,null,1,1]
[62,36,0,null,null,null,"999 Nonstocked","When planning to convert other land use to forest.",null,null,null,null,null,1,null,null,null,null,null,null,null,null,null,null,null,null,1,null,null,null,null,null,null,null,null,null,null,null,null,null,null,null,null,null,null,null,null,null,null,null,null,null,null,null,null,null,null,null,null,null,null,null,null,null,null,null,null,null,null,null,null,null,null,null,null,null,null,null,null,0,0,0,0,0,0,0,0,0,0,0,0,0,0,0,0,1,0,0,0,0,0,0,0,0,0,0,0,0,0,0,0,0,0,0,0,0,0,0,0,0,0,0,0,0,0,0,0,0,0,0,0,0,0,0,0,0,0,0,0,0,0,0,0,0,0,0,0,0,null,0,1,0,null,null,1,1]
[68,3,0,null,null,null,"61-80% of stand",null,null,null,null,null,null,1,null,null,null,null,null,null,null,null,null,null,null,null,1,null,null,null,null,null,null,null,null,null,null,null,1,null,null,null,null,null,null,null,null,null,null,null,null,null,null,null,null,null,null,null,null,null,null,null,null,null,null,null,null,null,null,null,null,null,null,null,null,null,null,null,null,0,0,0,0,0,0,0,0,0,0,0,0,0,0,0,0,0,0,0,0,0,0,0,0,0,0,0,0,0,0,0,0,0,0,0,0,0,0,0,0,0,0,0,0,0,0,0,0,0,0,0,0,0,0,0,0,0,0,0,0,0,0,0,0,0,0,0,0,0,null,0,1,0,null,null,0]
[68,6,0,null,null,null,"<20% of stand",null,null,null,null,null,null,1,null,null,null,null,null,null,null,null,null,null,null,null,1,null,null,null,null,null,null,null,null,null,null,null,1,null,null,null,null,null,null,null,null,null,null,null,null,null,null,null,null,null,null,null,null,null,null,null,null,null,null,null,null,null,null,null,null,null,null,null,null,null,null,null,null,0,0,0,0,0,0,0,0,0,0,0,0,0,0,0,0,0,0,0,0,0,0,0,0,0,0,0,0,0,0,0,0,0,0,0,0,0,0,0,0,0,0,0,0,0,0,0,0,0,0,0,0,0,0,0,0,0,0,0,0,0,0,0,0,0,0,0,0,0,null,0,1,0,null,null,0]
[63,2,0,null,null,null,"Plan is actively being followed AND all current practices have been implemented that will improve plant productivity and health","If selected, stop because the Existing Condition has been established.  NOTE: When this answer has been selected, do NOT select Forest Management Plan (FMP) on the Existing or Planned Practices pages so as not to double count points for having an FMP.",null,null,null,null,null,1,null,null,null,null,null,null,null,null,null,null,null,null,1,null,null,null,null,null,null,null,null,null,null,1,null,null,null,null,null,null,null,null,null,null,null,null,null,null,null,null,null,null,null,null,null,null,null,null,null,null,null,null,null,null,null,null,null,null,null,null,null,null,null,null,null,0,0,0,0,0,0,0,0,0,0,0,0,0,0,0,0,0,0,0,0,0,0,0,0,0,0,0,0,0,0,0,0,0,0,0,0,0,0,0,0,0,0,0,0,0,0,0,0,0,0,0,0,0,0,0,0,0,0,0,0,0,0,0,0,0,0,0,0,0,null,0,1,0,null,null,0]
[63,3,0,null,null,null,"Plan is actively being followed BUT there are still current practices to be implemented that will improve plant productivity and health","If selected, the next 3 assessment questions will become active. \n• Manage tree species are native and best suited for sustainability on the site and commensurate with the client's objectives\n• Stocking levels are appropriate for the site and commensurate with the client's objectives\n• Tree Vigor within stand or management unit",null,null,null,null,null,1,null,null,null,null,null,null,null,null,null,null,null,null,1,null,null,null,null,null,null,null,null,null,null,1,null,null,null,null,null,null,null,null,null,null,null,null,null,null,null,null,null,null,null,null,null,null,null,null,null,null,null,null,null,null,null,null,null,null,null,null,null,null,null,null,null,0,0,0,0,0,0,0,0,0,0,0,0,0,0,0,0,0,{"$f":"IF(CS$5=\"TRUE\",AA384,0)","v":0},{"$f":"IF(CT$5=TRUE,AB384,0)","v":0},{"$f":"IF(CU$5=TRUE,AC384,0)","v":0},{"$f":"IF(CV$5=TRUE,AD384,0)","v":0},{"$f":"IF(CW$5=TRUE,AE384,0)","v":0},{"$f":"IF(CX$5=TRUE,AF384,0)","v":0},{"$f":"IF(CY$5=TRUE,AG384,0)","v":0},{"$f":"IF(CZ$5=TRUE,AH384,0)","v":0},{"$f":"IF(DA$5=TRUE,AI384,0)","v":0},{"$f":"IF(DB$5=TRUE,AJ384,0)","v":0},{"$f":"IF(DC$5=TRUE,AK384,0)","v":0},{"$f":"IF(DD$5=TRUE,AL384,0)","v":0},{"$f":"IF(DE$5=TRUE,AM384,0)","v":0},{"$f":"IF(DF$5=TRUE,AN384,0)","v":0},{"$f":"IF(DG$5=TRUE,AO384,0)","v":0},{"$f":"IF(DH$5=TRUE,AP384,0)","v":0},{"$f":"IF(DI$5=TRUE,AQ384,0)","v":0},{"$f":"IF(DJ$5=TRUE,AR384,0)","v":0},{"$f":"IF(DK$5=TRUE,AS384,0)","v":0},{"$f":"IF(DL$5=TRUE,AT384,0)","v":0},{"$f":"IF(DM$5=TRUE,AU384,0)","v":0},{"$f":"IF(DN$5=TRUE,AV384,0)","v":0},{"$f":"IF(DO$5=TRUE,AW384,0)","v":0},{"$f":"IF(DP$5=TRUE,AX384,0)","v":0},{"$f":"IF(DQ$5=TRUE,AY384,0)","v":0},{"$f":"IF(DR$5=TRUE,AZ384,0)","v":0},{"$f":"IF(DS$5=TRUE,BA384,0)","v":0},{"$f":"IF(DT$5=TRUE,BB384,0)","v":0},{"$f":"IF(DU$5=TRUE,BC384,0)","v":0},{"$f":"IF(DV$5=TRUE,BD384,0)","v":0},{"$f":"IF(DW$5=TRUE,BE384,0)","v":0},{"$f":"IF(DX$5=TRUE,BF384,0)","v":0},{"$f":"IF(DY$5=TRUE,BG384,0)","v":0},{"$f":"IF(DZ$5=TRUE,BH384,0)","v":0},{"$f":"IF(EA$5=TRUE,BI384,0)","v":0},{"$f":"IF(EB$5=TRUE,BJ384,0)","v":0},{"$f":"IF(EC$5=TRUE,BK384,0)","v":0},{"$f":"IF(ED$5=TRUE,BL384,0)","v":0},{"$f":"IF(EE$5=TRUE,BM384,0)","v":0},{"$f":"IF(EF$5=TRUE,BN384,0)","v":0},{"$f":"IF(EG$5=TRUE,BO384,0)","v":0},{"$f":"IF(EH$5=TRUE,BP384,0)","v":0},{"$f":"IF(EI$5=TRUE,BQ384,0)","v":0},{"$f":"IF(EJ$5=TRUE,BR384,0)","v":0},{"$f":"IF(EK$5=TRUE,BS384,0)","v":0},{"$f":"IF(EL$5=TRUE,BT384,0)","v":0},{"$f":"IF(EM$5=TRUE,BU384,0)","v":0},{"$f":"IF(EN$5=TRUE,BV384,0)","v":0},{"$f":"IF(EO$5=TRUE,BW384,0)","v":0},{"$f":"IF(EP$5=TRUE,BX384,0)","v":0},{"$f":"IF(EQ$5=TRUE,BY384,0)","v":0},{"$f":"IF(ER$5=TRUE,BZ384,0)","v":0},null,0,1,{"$f":"ET384*EU384*EY384","v":0},null,null,0]
[64,2,0,null,null,null," Yes",null,null,null,null,null,null,1,null,null,null,null,null,null,null,null,null,null,null,null,1,null,null,null,null,null,null,null,null,null,null,1,null,null,null,null,null,null,null,null,null,null,null,null,null,null,null,null,null,null,null,null,null,null,null,null,null,null,null,null,null,null,null,null,null,null,null,null,null,null,null,null,null,0,0,0,0,0,0,0,0,0,0,0,0,0,0,0,0,0,{"$f":"IF(CS$5=\"TRUE\",AA388,0)","v":0},{"$f":"IF(CT$5=TRUE,AB388,0)","v":0},{"$f":"IF(CU$5=TRUE,AC388,0)","v":0},{"$f":"IF(CV$5=TRUE,AD388,0)","v":0},{"$f":"IF(CW$5=TRUE,AE388,0)","v":0},{"$f":"IF(CX$5=TRUE,AF388,0)","v":0},{"$f":"IF(CY$5=TRUE,AG388,0)","v":0},{"$f":"IF(CZ$5=TRUE,AH388,0)","v":0},{"$f":"IF(DA$5=TRUE,AI388,0)","v":0},{"$f":"IF(DB$5=TRUE,AJ388,0)","v":0},{"$f":"IF(DC$5=TRUE,AK388,0)","v":0},{"$f":"IF(DD$5=TRUE,AL388,0)","v":0},{"$f":"IF(DE$5=TRUE,AM388,0)","v":0},{"$f":"IF(DF$5=TRUE,AN388,0)","v":0},{"$f":"IF(DG$5=TRUE,AO388,0)","v":0},{"$f":"IF(DH$5=TRUE,AP388,0)","v":0},{"$f":"IF(DI$5=TRUE,AQ388,0)","v":0},{"$f":"IF(DJ$5=TRUE,AR388,0)","v":0},{"$f":"IF(DK$5=TRUE,AS388,0)","v":0},{"$f":"IF(DL$5=TRUE,AT388,0)","v":0},{"$f":"IF(DM$5=TRUE,AU388,0)","v":0},{"$f":"IF(DN$5=TRUE,AV388,0)","v":0},{"$f":"IF(DO$5=TRUE,AW388,0)","v":0},{"$f":"IF(DP$5=TRUE,AX388,0)","v":0},{"$f":"IF(DQ$5=TRUE,AY388,0)","v":0},{"$f":"IF(DR$5=TRUE,AZ388,0)","v":0},{"$f":"IF(DS$5=TRUE,BA388,0)","v":0},{"$f":"IF(DT$5=TRUE,BB388,0)","v":0},{"$f":"IF(DU$5=TRUE,BC388,0)","v":0},{"$f":"IF(DV$5=TRUE,BD388,0)","v":0},{"$f":"IF(DW$5=TRUE,BE388,0)","v":0},{"$f":"IF(DX$5=TRUE,BF388,0)","v":0},{"$f":"IF(DY$5=TRUE,BG388,0)","v":0},{"$f":"IF(DZ$5=TRUE,BH388,0)","v":0},{"$f":"IF(EA$5=TRUE,BI388,0)","v":0},{"$f":"IF(EB$5=TRUE,BJ388,0)","v":0},{"$f":"IF(EC$5=TRUE,BK388,0)","v":0},{"$f":"IF(ED$5=TRUE,BL388,0)","v":0},{"$f":"IF(EE$5=TRUE,BM388,0)","v":0},{"$f":"IF(EF$5=TRUE,BN388,0)","v":0},{"$f":"IF(EG$5=TRUE,BO388,0)","v":0},{"$f":"IF(EH$5=TRUE,BP388,0)","v":0},{"$f":"IF(EI$5=TRUE,BQ388,0)","v":0},{"$f":"IF(EJ$5=TRUE,BR388,0)","v":0},{"$f":"IF(EK$5=TRUE,BS388,0)","v":0},{"$f":"IF(EL$5=TRUE,BT388,0)","v":0},{"$f":"IF(EM$5=TRUE,BU388,0)","v":0},{"$f":"IF(EN$5=TRUE,BV388,0)","v":0},{"$f":"IF(EO$5=TRUE,BW388,0)","v":0},{"$f":"IF(EP$5=TRUE,BX388,0)","v":0},{"$f":"IF(EQ$5=TRUE,BY388,0)","v":0},{"$f":"IF(ER$5=TRUE,BZ388,0)","v":0},null,0,1,{"$f":"ET388*EU388*EY388","v":0},null,null,0]
[65,1,0,null,null,"Q:","Stocking levels are appropriate for the site and commensurate with client’s objectives","Guidance","Documentation: (e.g. field notes, client interview responses, justification)",null,null,null,null,1,null,null,null,null,null,null,null,null,null,null,null,null,1,null,null,null,null,null,null,null,null,null,null,1,null,null,null,null,null,null,null,null,null,null,null,null,null,null,null,null,null,null,null,null,null,null,null,null,null,null,null,null,null,null,null,null,null,null,null,null,null,null,null,null,null,0,0,0,0,0,0,0,0,0,0,0,0,0,0,0,0,0,0,0,0,0,0,0,0,0,0,0,0,0,0,0,0,0,0,0,0,0,0,0,0,0,0,0,0,0,0,0,0,0,0,0,0,0,0,0,0,0,0,0,0,0,0,0,0,0,0,0,0,0,null,0,1,0,null,null,0]
[66,1,0,null,null,"Q:","Tree Vigor within stand or management unit","Guidance","Documentation: (e.g. field notes, client interview responses, justification)",null,null,null,null,1,null,null,null,null,null,null,null,null,null,null,null,null,1,null,null,null,null,null,null,null,null,null,null,1,null,null,null,null,null,null,null,null,null,null,null,null,null,null,null,null,null,null,null,null,null,null,null,null,null,null,null,null,null,null,null,null,null,null,null,null,null,null,null,null,null,0,0,0,0,0,0,0,0,0,0,0,0,0,0,0,0,0,0,0,0,0,0,0,0,0,0,0,0,0,0,0,0,0,0,0,0,0,0,0,0,0,0,0,0,0,0,0,0,0,0,0,0,0,0,0,0,0,0,0,0,0,0,0,0,0,0,0,0,0,null,0,1,0,null,null,{"$f":"MAX(CR393:ER393)","v":0}]
[66,3,0,null,null,null,"Slight to Moderate (10 - 20%)","10-20% dead and dying trees on the site",null,null,null,null,null,1,null,null,null,null,null,null,null,null,null,null,null,null,1,null,null,null,null,null,null,null,null,null,null,1,null,null,null,null,null,null,null,null,null,null,null,null,null,null,null,null,null,null,null,null,null,null,null,null,null,null,null,null,null,null,null,null,null,null,null,null,null,null,null,null,null,0,0,0,0,0,0,0,0,0,0,0,0,0,0,0,0,0,0,0,0,0,0,0,0,0,0,0,0,0,0,0,0,0,0,0,0,0,0,0,0,0,0,0,0,0,0,0,0,0,0,0,0,0,0,0,0,0,0,0,0,0,0,0,0,0,0,0,0,0,null,0,1,0,null,null,0]
[66,6,0,null,null,null,"Extreme (>60%)",">60% dead and dying trees on the site",null,null,null,null,null,1,null,null,null,null,null,null,null,null,null,null,null,null,1,null,null,null,null,null,null,null,null,null,null,1,null,null,null,null,null,null,null,null,null,null,null,null,null,null,null,null,null,null,null,null,null,null,null,null,null,null,null,null,null,null,null,null,null,null,null,null,null,null,null,null,null,0,0,0,0,0,0,0,0,0,0,0,0,0,0,0,0,0,0,0,0,0,0,0,0,0,0,0,0,0,0,0,0,0,0,0,0,0,0,0,0,0,0,0,0,0,0,0,0,0,0,0,0,0,0,0,0,0,0,0,0,0,0,0,0,0,0,0,0,0,null,0,1,0,null,null,0]
[70,3,0,null,null,null,"Low",null,null,null,null,null,null,1,null,null,null,null,null,null,null,null,null,null,null,null,1,null,null,null,null,null,null,null,null,null,null,null,null,null,null,null,null,null,null,null,1,null,null,null,null,null,null,null,null,null,null,null,null,null,null,null,null,null,null,null,null,null,null,null,null,null,null,null,null,null,null,null,null,0,0,0,0,0,0,0,0,0,0,0,0,0,0,0,0,0,0,0,0,0,0,0,0,0,0,0,0,0,0,0,0,0,0,0,0,0,0,0,0,0,0,0,0,0,0,0,0,0,0,0,0,0,0,0,0,0,0,0,0,0,0,0,0,0,0,0,0,0,null,0,1,0,null,null,0]
[70,5,0,null,null,null,"High",null,null,null,null,null,null,1,null,null,null,null,null,null,null,null,null,null,null,null,1,null,null,null,null,null,null,null,null,null,null,null,null,null,null,null,null,null,null,null,1,null,null,null,null,null,null,null,null,null,null,null,null,null,null,null,null,null,null,null,null,null,null,null,null,null,null,null,null,null,null,null,null,0,0,0,0,0,0,0,0,0,0,0,0,0,0,0,0,{"$f":"EZ403","v":0},0,0,0,0,0,0,0,0,0,0,0,0,0,0,0,0,0,0,0,0,0,0,0,0,0,0,0,0,0,0,0,0,0,0,0,0,0,0,0,0,0,0,0,0,0,0,0,0,0,0,0,0,null,0,1,0,null,null,0]
[70,6,0,null,null,null,"Very High","N/A In Iowa",null,null,null,null,null,1,null,null,null,null,null,null,null,null,null,null,null,null,1,null,null,null,null,null,null,null,null,null,null,null,null,null,null,null,null,null,null,null,1,null,null,null,null,null,null,null,null,null,null,null,null,null,null,null,null,null,null,null,null,null,null,null,null,null,null,null,null,null,null,null,null,0,0,0,0,0,0,0,0,0,0,0,0,0,0,0,0,0,0,0,0,0,0,0,0,0,0,0,0,0,0,0,0,0,0,0,0,0,0,0,0,0,0,0,0,0,0,0,0,0,0,0,0,0,0,0,0,0,0,0,0,0,0,0,0,0,0,0,0,0,null,0,1,0,null,null,0]
[70,9,0,null,null,null,"10-20% of Stand",null,null,null,null,null,null,1,null,null,null,null,null,null,null,null,null,null,null,null,1,null,null,null,null,null,null,null,null,null,null,null,null,null,null,null,null,null,null,null,1,null,null,null,null,null,null,null,null,null,null,null,null,null,null,null,null,null,null,null,null,null,null,null,null,null,null,null,null,null,null,null,null,0,0,0,0,0,0,0,0,0,0,0,0,0,0,0,0,0,0,0,0,0,0,0,0,0,0,0,0,0,0,0,0,0,0,0,0,0,0,0,0,0,0,0,0,0,0,0,0,0,0,0,0,0,0,0,0,0,0,0,0,0,0,0,0,0,0,0,0,0,null,0,1,0,null,null,0]
[70,12,0,null,null,null,">70% of stand",null,null,null,null,null,null,1,null,null,null,null,null,null,null,null,null,null,null,null,1,null,null,null,null,null,null,null,null,null,null,null,null,null,null,null,null,null,null,null,1,null,null,null,null,null,null,null,null,null,null,null,null,null,null,null,null,null,null,null,null,null,null,null,null,null,null,null,null,null,null,null,null,0,0,0,0,0,0,0,0,0,0,0,0,0,0,0,0,0,0,0,0,0,0,0,0,0,0,0,0,0,0,0,0,0,0,0,0,0,0,0,0,0,0,0,0,0,0,0,0,0,0,0,0,0,0,0,0,0,0,0,0,0,0,0,0,0,0,0,0,0,null,0,1,0,null,null,0]
[72,2,5,null,null,null,null,null,null,null,1,1,1,1,1,1,1,1,null,null,null,null,null,null,null,null,1,null,null,null,null,null,null,null,null,null,null,null,null,null,null,null,null,null,null,null,null,null,null,null,null,null,null,null,null,null,null,null,null,null,null,null,null,null,null,1,null,null,null,null,null,null,null,null,null,null,null,null,null,0,0,0,0,0,0,0,0,0,0,0,0,0,0,0,0,0,0,0,0,0,0,0,0,0,0,0,0,0,0,0,0,0,0,0,0,0,0,0,0,0,0,0,0,0,0,0,0,0,0,0,0,0,0,0,0,0,0,0,0,0,0,0,0,0,0,0,0,0,null,0,1,0,null,null,0]
[72,4,0,null,null,null,"PLU activities contribute to depletion or do not meet state/local regulations, or are inconsistent with local/state water management plans or source water assessment/protection plans  ",null,null,null,1,1,1,1,1,1,1,1,null,null,null,null,null,null,null,null,1,null,null,null,null,null,null,null,null,null,null,null,null,null,null,null,null,null,null,null,null,null,null,null,null,null,null,null,null,null,null,null,null,null,null,null,null,null,null,1,null,null,null,null,null,null,null,null,null,null,null,null,null,0,0,0,0,0,0,0,0,0,0,0,0,0,0,0,0,0,0,0,0,0,0,0,0,0,0,0,0,0,0,0,0,0,0,0,0,0,0,0,0,0,0,0,0,0,0,0,0,0,0,0,0,0,0,0,0,0,0,0,0,0,0,0,0,0,0,0,0,0,null,0,1,0,null,null,0]
[73,4,0,null,null,null,"PLU activities contribute to depletion or do not meet state/local regulations, or are inconsistent with local/state water management plans or source water assessment/protection plans ",null,null,null,1,1,1,1,1,1,1,1,null,null,null,null,null,null,null,null,1,null,null,null,null,null,null,null,null,null,null,null,null,null,null,null,null,null,null,null,null,null,null,null,null,null,null,null,null,null,null,null,null,null,null,null,null,1,null,null,null,null,null,null,null,null,null,null,null,null,null,null,null,0,0,0,0,0,0,0,0,0,0,0,0,0,0,0,0,0,0,0,0,0,0,0,0,0,0,0,0,0,0,0,0,0,0,0,0,0,0,0,0,0,0,0,0,0,0,0,0,0,0,0,0,0,0,0,0,0,0,0,0,0,0,0,0,0,0,0,0,0,null,0,1,0,null,null,0]
[74,1,0,"Management",null,null,null,null,null,null,1,1,1,1,1,1,1,1,1,null,null,null,null,null,null,null,1,null,null,null,1,null,null,null,null,null,null,null,null,null,null,null,null,null,null,null,null,null,null,null,null,null,null,null,null,null,null,null,null,null,null,null,null,null,1,null,null,null,null,null,null,null,null,null,null,null,null,null,null,0,0,0,0,0,0,0,0,0,0,0,0,0,0,0,0,1,0,0,0,0,0,0,0,0,0,0,0,0,0,0,0,0,0,0,0,0,0,0,0,0,0,0,0,0,0,0,0,0,0,0,0,0,0,0,0,0,0,0,0,0,0,0,0,0,0,0,0,0,null,0,1,0,null,null,1,1]
[76,4,0,null,null,null," Irrigation water is poorly managed or fails to meet critical crop growth needs even when water is available. ",null,null,null,null,null,null,null,null,null,null,null,1,null,null,null,null,null,null,null,1,null,null,null,null,null,null,null,null,null,null,null,null,null,null,null,null,null,null,null,null,null,null,null,null,null,null,null,null,null,null,null,null,null,null,null,null,null,1,null,null,null,null,null,null,null,null,null,null,null,null,null,null,0,0,0,0,0,0,0,0,0,0,0,0,0,0,0,0,0,0,0,0,0,0,0,0,0,0,0,0,0,0,0,0,0,0,0,0,0,0,0,0,0,0,0,0,0,0,0,0,0,0,0,0,0,0,0,0,0,0,0,0,0,0,0,0,0,0,0,0,0,null,0,1,0,null,null,0]
[76,5,0,null,null,null,"\nThe irrigation delivery system is inadequate to control the rate of flow through the system and to the field, the conveyance system (ditches, canals, and/or reservoirs) has obvious leaks or soils that are naturally erosive, susceptible to excessive seepage, or both (e.g., sandy and gravelly soils).\n",null,null,null,null,null,null,null,null,null,null,null,1,null,null,null,null,null,null,null,1,null,null,null,null,null,null,null,null,null,null,null,null,null,null,null,null,null,null,null,null,null,null,null,null,null,null,null,null,null,null,null,null,null,null,null,null,null,1,null,null,null,null,null,null,null,null,null,null,null,null,null,null,0,0,0,0,0,0,0,0,0,0,0,0,0,0,0,0,0,0,0,0,0,0,0,0,0,0,0,0,0,0,0,0,0,0,0,0,0,0,0,0,0,0,0,0,0,0,0,0,0,0,0,0,0,0,0,0,0,0,0,0,0,0,0,0,0,0,0,0,0,null,0,1,0,null,null,0]
[77,1,0,null,"Other",null,null,null,null,null,1,1,1,1,1,1,1,1,1,1,1,null,null,null,null,null,1,null,1,null,1,null,null,null,null,null,null,null,null,null,null,null,null,null,null,null,null,null,null,null,null,null,null,null,null,null,null,null,null,null,null,null,null,null,null,null,null,null,null,null,null,null,null,null,null,null,null,null,null,0,0,0,0,0,0,0,0,0,0,0,0,0,0,0,0,1,0,0,0,0,0,0,0,0,0,0,0,0,0,0,0,0,0,0,0,0,0,0,0,0,0,0,0,0,0,0,0,0,0,0,0,0,0,0,0,0,0,0,0,0,0,0,0,0,0,0,0,0,null,0,1,0,null,null,1,1]
[78,12,{"$f":"IF(EV430>0,1,0)","v":0},null,null,null,"None",null,null,null,1,null,1,1,1,1,1,1,null,null,null,null,null,null,null,null,1,null,null,null,null,null,null,null,null,null,null,null,null,1,1,null,null,null,null,null,null,null,null,null,null,null,null,null,null,null,null,null,null,null,null,null,null,null,null,null,null,null,null,null,null,null,null,null,null,null,null,null,null,0,0,0,0,0,0,0,0,0,0,0,0,0,0,0,0,{"$f":"EZ430","v":0},{"$f":"IF(CS$5=\"TRUE\",AA430,0)","v":0},0,0,0,0,0,0,0,0,0,0,0,0,0,0,0,0,0,0,0,0,0,0,0,0,0,0,0,0,0,0,0,0,0,0,0,0,0,0,0,0,0,0,0,0,0,0,0,0,0,0,0,null,{"$f":"MAX(CB430:CQ430)","v":0},1,{"$f":"ET430*EU430*EY430","v":0},null,null,{"$f":"MAX(CR430:ER430)","v":0}]
[78,4,5,null,null,null,"PM using PAMS activities.  Pesticide losses to surface water are addressed with high impact activities. ","A PM System uses PAMS activities to manage pests (including pesticides).  Addressing some PM resource concerns including pesticide losses to surface water.  High impact activities may include smart sprayers, specialized nozzles, timing etc. \n\nIPM (595 IR) and WINPST with appropriate mitigation to reduce pesticide impacts to surface water",null,null,null,1,null,1,1,null,null,1,null,null,null,null,null,null,null,null,1,null,null,null,null,null,null,null,null,null,null,null,null,null,1,null,null,null,null,null,null,null,null,null,null,null,null,null,null,null,null,null,null,null,null,null,null,null,null,null,null,null,null,null,null,null,null,null,null,null,null,null,null,0,0,0,0,0,0,0,0,0,0,0,0,0,0,0,0,0,0,0,0,0,0,0,0,0,0,0,0,0,0,0,0,0,0,0,0,0,0,0,0,0,0,0,0,0,0,0,0,0,0,0,0,0,0,0,0,0,0,0,0,0,0,0,0,0,0,0,0,0,null,0,1,0,null,null,0]
[78,6,{"$f":"IF(EV435>0,1,0)","v":0},null,null,"Pest Management System - Mitigating Pesticide Loss to Groundwater.",null,"Guidance","Documentation: (e.g. field notes, client interview responses, justification)",null,1,1,1,1,1,1,1,null,null,null,null,null,null,null,null,null,1,null,null,null,null,null,null,null,null,null,null,null,null,1,null,null,null,null,null,null,null,null,null,null,null,null,null,null,null,null,null,null,null,null,null,null,null,null,null,null,null,null,null,null,null,null,null,null,null,null,null,null,null,{"$f":"IF(CB$5=TRUE,K435,0)","v":0},0,0,0,0,0,0,0,0,0,0,0,0,0,0,0,{"$f":"EZ435","v":0},{"$f":"IF(CS$5=\"TRUE\",AA435,0)","v":0},{"$f":"IF(CT$5=TRUE,AB435,0)","v":0},0,0,0,0,0,0,0,0,0,0,0,0,0,0,0,0,0,0,0,0,0,0,0,0,0,0,0,0,0,0,0,0,0,0,0,0,0,0,0,0,0,0,0,0,0,0,0,0,0,0,null,{"$f":"MAX(CB435:CQ435)","v":0},1,{"$f":"ET435*EU435*EY435","v":0},null,1,{"$f":"MAX(CR435:ER435)","v":0}]
[78,7,0,null,null,null,"Pesticides are used, but an IPM system is not utilized; pesticide drift losses are NOT addressed",null,null,null,1,null,1,null,null,1,1,null,null,null,null,null,null,null,null,null,1,null,null,null,null,null,null,null,null,null,null,null,null,null,1,null,null,null,null,null,null,null,null,null,null,null,null,null,null,null,null,null,null,null,null,null,null,null,null,null,null,null,null,null,null,null,null,null,null,null,null,null,null,0,0,0,0,0,0,0,0,0,0,0,0,0,0,0,0,0,0,0,0,0,0,0,0,0,0,0,0,0,0,0,0,0,0,0,0,0,0,0,0,0,0,0,0,0,0,0,0,0,0,0,0,0,0,0,0,0,0,0,0,0,0,0,0,0,0,0,0,0,null,0,1,0,null,null,0]
[78,7,5,null,null,null,"PM using PAMS, pesticide drift losses to surface water are addressed with high impact activities.","A PM system uses PAMS activities to manage pests (including pesticides).  Addressing some PM resource concerns including pesticide losses to surface water.  High Impact activities like smart sprayers, specialized nozzles, timing etc.\n\nIPM (595 IR) with measures used to mitigate physical drift to surface water.",null,null,1,null,1,null,null,1,1,null,null,null,null,null,null,null,null,null,1,null,null,null,null,null,null,null,null,null,null,null,null,null,1,null,null,null,null,null,null,null,null,null,null,null,null,null,null,null,null,null,null,null,null,null,null,null,null,null,null,null,null,null,null,null,null,null,null,null,null,null,null,0,0,0,0,0,0,0,0,0,0,0,0,0,0,0,0,0,0,0,0,0,0,0,0,0,0,0,0,0,0,0,0,0,0,0,0,0,0,0,0,0,0,0,0,0,0,0,0,0,0,0,0,0,0,0,0,0,0,0,0,0,0,0,0,0,0,0,0,0,null,0,1,0,null,null,0]
[78,10,0,null,"Q:","Plant pest pressure - undesirable plants, insects, diseases, animals, soil borne pathogens, and nematodes. (Crop, AAL, Developed Land, Farmstead, ORL, Water)",null,"Guidance","Documentation: (e.g. field notes, client interview responses, justification)",null,1,1,1,null,null,1,1,null,null,null,null,null,null,null,null,null,1,null,null,null,null,null,null,null,null,null,null,null,null,null,null,null,null,null,null,null,null,null,null,null,null,null,null,null,1,null,null,null,null,null,null,null,null,null,null,null,null,null,null,null,null,null,null,null,null,null,null,null,null,0,0,0,0,0,0,0,0,0,0,0,0,0,0,0,0,0,0,0,0,0,0,0,0,0,0,0,0,0,0,0,0,0,0,0,0,0,0,0,0,0,0,0,0,0,0,0,0,0,0,0,0,0,0,0,0,0,0,0,0,0,0,0,0,0,0,0,0,0,null,0,1,0,null,null,0]
[78,11,0,null,null,null,"Presence of pests are being scouted and monitored and/or PAMS techniques are implemented to keep pests within tolerable limits.  A single treatment method is employed when economic thresholds are met. Desired yields and client goals are met.\n ","N/A based on National Resource Concerns and Planning Criteria, Plant Pest Pressure is either met or not met, so adding in the pest management activities is beyond the scope of this question.",null,null,1,1,1,null,null,1,1,null,null,null,null,null,null,null,null,null,1,null,null,null,null,null,null,null,null,null,null,null,null,null,null,null,null,null,null,null,null,null,null,null,null,null,null,null,1,null,null,null,null,null,null,null,null,null,null,null,null,null,null,null,null,null,null,null,null,null,null,null,null,0,0,0,0,0,0,0,0,0,0,0,0,0,0,0,0,0,0,0,0,0,0,0,0,0,0,0,0,0,0,0,0,0,0,0,0,0,0,0,0,0,0,0,0,0,0,0,0,0,0,0,0,0,0,0,0,0,0,0,0,0,0,0,0,0,0,0,0,0,null,0,1,0,null,null,0]
[78,10,{"$f":"IF(EV447>0,1,0)","v":0},null,"Q:","Plant pest pressure - Chemically resistant pests (Crop, AAL, Developed Land, Farmstead, ORL, Water) ",null,"Guidance","Documentation: (e.g. field notes, client interview responses, justification)",null,1,1,1,null,null,1,1,null,null,null,null,null,null,null,null,null,1,null,null,null,null,null,null,null,null,null,null,null,null,null,null,null,null,null,null,null,null,null,null,null,null,null,null,null,1,null,null,null,null,null,null,null,null,null,null,null,null,null,null,null,null,null,null,null,null,null,null,null,null,{"$f":"IF(CB$5=TRUE,K447,0)","v":0},{"$f":"IF(CC$5=TRUE,L447,0)","v":0},{"$f":"IF(CD$5=TRUE,M447,0)","v":0},{"$f":"IF(CE$5=TRUE,N447,0)","v":0},{"$f":"IF(CF$5=TRUE,O447,0)","v":0},{"$f":"IF(CG$5=TRUE,P447,0)","v":0},{"$f":"IF(CH$5=TRUE,Q447,0)","v":0},{"$f":"IF(CI$5=TRUE,R447,0)","v":0},{"$f":"IF(CJ$5=TRUE,S447,0)","v":0},{"$f":"IF(CK$5=TRUE,T447,0)","v":0},{"$f":"IF(CL$5=TRUE,U447,0)","v":0},{"$f":"IF(CM$5=TRUE,V447,0)","v":0},{"$f":"IF(CN$5=TRUE,W447,0)","v":0},{"$f":"IF(CO$5=TRUE,X447,0)","v":0},{"$f":"IF(CP$5=TRUE,Y447,0)","v":0},{"$f":"IF(CQ$5=TRUE,Z447,0)","v":0},0,0,0,0,0,0,0,0,0,0,0,0,0,0,0,0,0,0,0,0,0,0,0,0,0,0,0,0,0,0,0,0,0,0,0,0,0,0,0,0,0,0,0,0,0,0,0,0,0,0,0,0,0,null,{"$f":"MAX(CB447:CQ447)","v":0},1,0,null,null,{"$f":"MAX(CR447:ER447)","v":0}]
[78,11,0,null,null,null,"A single chemical form is used and applied multiple times per season to treat identified pests.  ",null,null,null,1,1,1,null,null,1,1,null,null,null,null,null,null,null,null,null,1,null,null,null,null,null,null,null,null,null,null,null,null,null,null,null,null,null,null,null,null,null,null,null,null,null,null,null,1,null,null,null,null,null,null,null,null,null,null,null,null,null,null,null,null,null,null,null,null,null,null,null,null,0,0,0,0,0,0,0,0,0,0,0,0,0,0,0,0,0,0,0,0,0,0,0,0,0,0,0,0,0,0,0,0,0,0,0,0,0,0,0,0,0,0,0,0,0,0,0,0,0,0,0,0,0,0,0,0,0,0,0,0,0,0,0,0,0,0,0,0,0,null,0,1,0,null,null,0]
[78,12,0,null,null,null,"Invasive species outcompete desired plant community, crop, or lower quality of forage. Desired yields and client goals are not met. ",null,null,null,1,1,1,null,null,1,1,null,null,null,null,null,null,null,null,null,1,null,null,null,null,null,null,null,null,null,null,null,null,null,null,null,null,null,null,null,null,null,null,null,null,null,null,null,1,null,null,null,null,null,null,null,null,null,null,null,null,null,null,null,null,null,null,null,null,null,null,null,null,0,0,0,0,0,0,0,0,0,0,0,0,0,0,0,0,0,0,0,0,0,0,0,0,0,0,0,0,0,0,0,0,0,0,0,0,0,0,0,0,0,0,0,0,0,0,0,0,0,0,0,0,0,0,0,0,0,0,0,0,0,0,0,0,0,0,0,0,0,null,0,1,0,null,null,0]
[78,11,0,null,null,null,"Pests are present and damage is occurring throughout the stand. Desired future condition and client goals are not being met due to pest pressure. (bad)",null,null,null,null,null,null,1,null,null,null,null,null,null,null,null,null,null,null,null,1,null,null,null,null,null,null,null,null,null,null,null,null,null,null,null,null,null,null,null,null,null,null,null,null,null,null,null,1,null,null,null,null,null,null,null,null,null,null,null,null,null,null,null,null,null,null,null,null,null,null,null,null,0,0,0,0,0,0,0,0,0,0,0,0,0,0,0,0,{"$f":"EZ455","v":0},{"$f":"IF(CS$5=\"TRUE\",AA455,0)","v":0},0,0,0,0,0,0,0,0,0,0,0,0,0,0,0,0,0,0,0,0,0,0,0,0,0,0,0,0,0,0,0,0,0,0,0,0,0,0,0,0,0,0,0,0,0,0,0,0,0,0,0,null,0,1,{"$f":"ET455*EU455*EY455","v":0},null,null,0]
[78,11,0,null,null,null,"Invasive species outcompete desired plant community. Desired future condition and client goals are not met. (bad)","GM_190_414_A - Amend. 20 - July 2010: For the purpose of this policy only, a plant species is considered “invasive\" only when it occurs on the Federal or State-specific noxious weed list or a list developed by the State-specific Department of Agriculture with their partners and approved by the State Technical Committee which prohibits or cautions its use due to invasive qualities.",null,null,null,null,null,1,null,null,null,null,null,null,null,null,null,null,null,null,1,null,null,null,null,null,null,null,null,null,null,null,null,null,null,null,null,null,null,null,null,null,null,null,null,null,null,null,1,null,null,null,null,null,null,null,null,null,null,null,null,null,null,null,null,null,null,null,null,null,null,null,null,0,0,0,0,0,0,0,0,0,0,0,0,0,0,0,0,{"$f":"EZ459","v":0},0,0,0,0,0,0,0,0,0,0,0,0,0,0,0,0,0,0,0,0,0,0,0,0,0,0,0,0,0,0,0,0,0,0,0,0,0,0,0,0,0,0,0,0,0,0,0,0,0,0,0,0,null,0,1,0,null,null,0]
[78,10,5,null,"Q:","Plant Pest Pressure - Invasive Species (Range)",null,"Guidance","Additional Guidance","List PLU's",null,null,null,null,null,null,null,1,null,null,null,null,null,null,null,null,1,null,null,null,null,null,null,null,null,null,null,null,null,null,null,null,null,null,null,null,null,null,null,null,null,null,null,null,1,null,null,null,null,null,null,null,null,null,null,null,null,null,null,null,null,null,null,null,null,null,null,null,null,{"$f":"IF(CB$5=TRUE,K462,0)","v":0},{"$f":"IF(CC$5=TRUE,L462,0)","v":0},{"$f":"IF(CD$5=TRUE,M462,0)","v":0},{"$f":"IF(CE$5=TRUE,N462,0)","v":0},{"$f":"IF(CF$5=TRUE,O462,0)","v":0},{"$f":"IF(CG$5=TRUE,P462,0)","v":0},{"$f":"IF(CH$5=TRUE,Q462,0)","v":0},{"$f":"IF(CI$5=TRUE,R462,0)","v":0},{"$f":"IF(CJ$5=TRUE,S462,0)","v":0},{"$f":"IF(CK$5=TRUE,T462,0)","v":0},{"$f":"IF(CL$5=TRUE,U462,0)","v":0},{"$f":"IF(CM$5=TRUE,V462,0)","v":0},{"$f":"IF(CN$5=TRUE,W462,0)","v":0},{"$f":"IF(CO$5=TRUE,X462,0)","v":0},{"$f":"IF(CP$5=TRUE,Y462,0)","v":0},{"$f":"IF(CQ$5=TRUE,Z462,0)","v":0},{"$f":"EZ462","v":0},{"$f":"IF(CS$5=\"TRUE\",AA462,0)","v":0},{"$f":"IF(CT$5=TRUE,AB462,0)","v":0},{"$f":"IF(CU$5=TRUE,AC462,0)","v":0},{"$f":"IF(CV$5=TRUE,AD462,0)","v":0},{"$f":"IF(CW$5=TRUE,AE462,0)","v":0},{"$f":"IF(CX$5=TRUE,AF462,0)","v":0},{"$f":"IF(CY$5=TRUE,AG462,0)","v":0},{"$f":"IF(CZ$5=TRUE,AH462,0)","v":0},{"$f":"IF(DA$5=TRUE,AI462,0)","v":0},{"$f":"IF(DB$5=TRUE,AJ462,0)","v":0},{"$f":"IF(DC$5=TRUE,AK462,0)","v":0},{"$f":"IF(DD$5=TRUE,AL462,0)","v":0},{"$f":"IF(DE$5=TRUE,AM462,0)","v":0},{"$f":"IF(DF$5=TRUE,AN462,0)","v":0},{"$f":"IF(DG$5=TRUE,AO462,0)","v":0},{"$f":"IF(DH$5=TRUE,AP462,0)","v":0},{"$f":"IF(DI$5=TRUE,AQ462,0)","v":0},{"$f":"IF(DJ$5=TRUE,AR462,0)","v":0},{"$f":"IF(DK$5=TRUE,AS462,0)","v":0},{"$f":"IF(DL$5=TRUE,AT462,0)","v":0},{"$f":"IF(DM$5=TRUE,AU462,0)","v":0},{"$f":"IF(DN$5=TRUE,AV462,0)","v":0},{"$f":"IF(DO$5=TRUE,AW462,0)","v":0},{"$f":"IF(DP$5=TRUE,AX462,0)","v":0},{"$f":"IF(DQ$5=TRUE,AY462,0)","v":0},{"$f":"IF(DR$5=TRUE,AZ462,0)","v":0},{"$f":"IF(DS$5=TRUE,BA462,0)","v":0},{"$f":"IF(DT$5=TRUE,BB462,0)","v":0},{"$f":"IF(DU$5=TRUE,BC462,0)","v":0},{"$f":"IF(DV$5=TRUE,BD462,0)","v":0},{"$f":"IF(DW$5=TRUE,BE462,0)","v":0},{"$f":"IF(DX$5=TRUE,BF462,0)","v":0},{"$f":"IF(DY$5=TRUE,BG462,0)","v":0},{"$f":"IF(DZ$5=TRUE,BH462,0)","v":0},{"$f":"IF(EA$5=TRUE,BI462,0)","v":0},{"$f":"IF(EB$5=TRUE,BJ462,0)","v":0},{"$f":"IF(EC$5=TRUE,BK462,0)","v":0},{"$f":"IF(ED$5=TRUE,BL462,0)","v":0},{"$f":"IF(EE$5=TRUE,BM462,0)","v":0},{"$f":"IF(EF$5=TRUE,BN462,0)","v":0},{"$f":"IF(EG$5=TRUE,BO462,0)","v":0},{"$f":"IF(EH$5=TRUE,BP462,0)","v":0},{"$f":"IF(EI$5=TRUE,BQ462,0)","v":0},{"$f":"IF(EJ$5=TRUE,BR462,0)","v":0},{"$f":"IF(EK$5=TRUE,BS462,0)","v":0},{"$f":"IF(EL$5=TRUE,BT462,0)","v":0},{"$f":"IF(EM$5=TRUE,BU462,0)","v":0},{"$f":"IF(EN$5=TRUE,BV462,0)","v":0},{"$f":"IF(EO$5=TRUE,BW462,0)","v":0},{"$f":"IF(EP$5=TRUE,BX462,0)","v":0},{"$f":"IF(EQ$5=TRUE,BY462,0)","v":0},{"$f":"IF(ER$5=TRUE,BZ462,0)","v":0},null,{"$f":"MAX(CB462:CQ462)","v":0},1,{"$f":"ET462*EU462*EY462","v":0},null,null,{"$f":"MAX(CR462:ER462)","v":0}]
[78,11,5,null,null,null,"Nonnative species are uncommon throughout the plant community.","N/A In Iowa",null,null,null,null,null,null,null,null,null,1,null,null,null,null,null,null,null,null,1,null,null,null,null,null,null,null,null,null,null,null,null,null,null,null,null,null,null,null,null,null,null,null,null,null,null,null,1,null,null,null,null,null,null,null,null,null,null,null,null,null,null,null,null,null,null,null,null,null,null,null,null,0,0,0,0,0,0,0,0,0,0,0,0,0,0,0,0,0,0,0,0,0,0,0,0,0,0,0,0,0,0,0,0,0,0,0,0,0,0,0,0,0,0,0,0,0,0,0,0,0,0,0,0,0,0,0,0,0,0,0,0,0,0,0,0,0,0,0,0,0,null,0,1,0,null,null,0]
[78,11,5,null,null,null,"Nonnative species are scattered throughout the plant community.","N/A In Iowa",null,null,null,null,null,null,null,null,null,1,null,null,null,null,null,null,null,null,1,null,null,null,null,null,null,null,null,null,null,null,null,null,null,null,null,null,null,null,null,null,null,null,null,null,null,null,1,null,null,null,null,null,null,null,null,null,null,null,null,null,null,null,null,null,null,null,null,null,null,null,null,0,0,0,0,0,0,0,0,0,0,0,0,0,0,0,0,0,0,0,0,0,0,0,0,0,0,0,0,0,0,0,0,0,0,0,0,0,0,0,0,0,0,0,0,0,0,0,0,0,0,0,0,0,0,0,0,0,0,0,0,0,0,0,0,0,0,0,0,0,null,0,1,0,null,null,0]
[78,11,{"$f":"IF(EV469>0,1,0)","v":0},null,null,null,"Unit of Measure (%)","Enter % desirable species",null,null,null,null,null,null,1,null,null,null,null,null,null,null,null,null,null,null,1,null,null,null,null,null,null,null,null,null,null,null,null,null,null,null,null,null,null,null,null,null,null,null,null,null,null,null,1,null,null,null,null,null,null,null,null,null,null,null,null,null,null,null,null,null,null,null,null,null,null,null,null,0,0,0,0,0,0,0,0,0,0,0,0,0,0,0,0,{"$f":"EZ469","v":0},0,0,0,0,0,0,0,0,0,0,0,0,0,0,0,0,0,0,0,0,0,0,0,0,0,0,0,0,0,0,0,0,0,0,0,0,0,0,0,0,0,0,0,0,0,0,0,0,0,0,0,0,null,{"$f":"MAX(CB469:CQ469)","v":0},1,{"$f":"ET469*EU469*EY469","v":0},null,null,{"$f":"MAX(CR469:ER469)","v":0}]
[]
[79,1,0,null,"Q:","Nutrient application - Nitrogen and Phosphorus Field Nutrient Loss Water Quality Impacts",null,"Guidance","Documentation: (e.g. field notes, client interview responses, justification)",null,1,1,1,1,1,1,1,null,null,null,null,null,null,null,null,null,1,null,null,null,null,null,null,null,null,null,null,null,null,null,null,1,1,null,null,null,null,null,null,null,null,null,null,null,null,null,null,null,null,null,null,null,null,null,null,null,null,null,null,null,null,null,null,null,null,null,null,null,null,0,0,0,0,0,0,0,0,0,0,0,0,0,0,0,0,0,0,0,0,0,0,0,0,0,0,0,0,0,0,0,0,0,0,0,0,0,0,0,0,0,0,0,0,0,0,0,0,0,0,0,0,0,0,0,0,0,0,0,0,0,0,0,0,0,0,0,0,0,null,0,1,0,null,null,{"$f":"MAX(CR474:ER474)","v":0}]
[79,4,0,null,null,null,"Nutrients are currently or have been historically applied.","Organic or inorganic nutrients are, or have been, applied to the PLU mechanically or by hand.",null,null,1,1,1,1,1,1,1,null,null,null,null,null,null,null,null,null,1,null,null,null,null,null,null,null,null,null,null,null,null,null,null,1,1,null,null,null,null,null,null,null,null,null,null,null,null,null,null,null,null,null,null,null,null,null,null,null,null,null,null,null,null,null,null,null,null,null,null,null,null,0,0,0,0,0,0,0,0,0,0,0,0,0,0,0,0,0,0,0,0,0,0,0,0,0,0,0,0,0,0,0,0,0,0,0,0,0,0,0,0,0,0,0,0,0,0,0,0,0,0,0,0,0,0,0,0,0,0,0,0,0,0,0,0,0,0,0,0,0,null,0,1,0,null,null,0]
[79,3,{"$f":"IF(EV479>0,1,0)","v":0},null,null,null,"Nitrogen fertilizer is applied and a nutrient management plan that addresses nitrogen is utilized ","Organic or inorganic nitrogen is applied to the PLU mechanically or by hand. Since a nutrient management plan that addresses nitrogen is utilized, document it in the Observed Existing Practices to receive credit. \n\nMust follow ISU Recommendations - N-Rate Calculator.  Use 0.08 price ratio of commercial fertilizer or 0.05 for manure (weighted average if both commercial and manure N)",null,null,1,1,null,1,1,null,null,null,null,null,null,null,null,null,null,null,1,1,1,null,1,1,null,null,null,null,null,null,null,null,null,null,null,null,null,null,null,null,null,null,null,null,null,null,null,null,null,null,null,null,null,null,null,null,null,null,null,null,null,null,null,null,null,null,null,null,null,null,null,{"$f":"IF(CB$5=TRUE,K479,0)","v":0},{"$f":"IF(CC$5=TRUE,L479,0)","v":0},{"$f":"IF(CD$5=TRUE,M479,0)","v":0},{"$f":"IF(CE$5=TRUE,N479,0)","v":0},{"$f":"IF(CF$5=TRUE,O479,0)","v":0},{"$f":"IF(CG$5=TRUE,P479,0)","v":0},{"$f":"IF(CH$5=TRUE,Q479,0)","v":0},{"$f":"IF(CI$5=TRUE,R479,0)","v":0},{"$f":"IF(CJ$5=TRUE,S479,0)","v":0},{"$f":"IF(CK$5=TRUE,T479,0)","v":0},{"$f":"IF(CL$5=TRUE,U479,0)","v":0},{"$f":"IF(CM$5=TRUE,V479,0)","v":0},{"$f":"IF(CN$5=TRUE,W479,0)","v":0},{"$f":"IF(CO$5=TRUE,X479,0)","v":0},{"$f":"IF(CP$5=TRUE,Y479,0)","v":0},{"$f":"IF(CQ$5=TRUE,Z479,0)","v":0},{"$f":"EZ479","v":0},{"$f":"IF(CS$5=\"TRUE\",AA479,0)","v":0},{"$f":"IF(CT$5=TRUE,AB479,0)","v":0},{"$f":"IF(CU$5=TRUE,AC479,0)","v":0},{"$f":"IF(CV$5=TRUE,AD479,0)","v":0},{"$f":"IF(CW$5=TRUE,AE479,0)","v":0},{"$f":"IF(CX$5=TRUE,AF479,0)","v":0},{"$f":"IF(CY$5=TRUE,AG479,0)","v":0},{"$f":"IF(CZ$5=TRUE,AH479,0)","v":0},{"$f":"IF(DA$5=TRUE,AI479,0)","v":0},{"$f":"IF(DB$5=TRUE,AJ479,0)","v":0},{"$f":"IF(DC$5=TRUE,AK479,0)","v":0},{"$f":"IF(DD$5=TRUE,AL479,0)","v":0},{"$f":"IF(DE$5=TRUE,AM479,0)","v":0},{"$f":"IF(DF$5=TRUE,AN479,0)","v":0},{"$f":"IF(DG$5=TRUE,AO479,0)","v":0},{"$f":"IF(DH$5=TRUE,AP479,0)","v":0},{"$f":"IF(DI$5=TRUE,AQ479,0)","v":0},{"$f":"IF(DJ$5=TRUE,AR479,0)","v":0},{"$f":"IF(DK$5=TRUE,AS479,0)","v":0},{"$f":"IF(DL$5=TRUE,AT479,0)","v":0},{"$f":"IF(DM$5=TRUE,AU479,0)","v":0},{"$f":"IF(DN$5=TRUE,AV479,0)","v":0},{"$f":"IF(DO$5=TRUE,AW479,0)","v":0},{"$f":"IF(DP$5=TRUE,AX479,0)","v":0},{"$f":"IF(DQ$5=TRUE,AY479,0)","v":0},{"$f":"IF(DR$5=TRUE,AZ479,0)","v":0},{"$f":"IF(DS$5=TRUE,BA479,0)","v":0},{"$f":"IF(DT$5=TRUE,BB479,0)","v":0},{"$f":"IF(DU$5=TRUE,BC479,0)","v":0},{"$f":"IF(DV$5=TRUE,BD479,0)","v":0},{"$f":"IF(DW$5=TRUE,BE479,0)","v":0},{"$f":"IF(DX$5=TRUE,BF479,0)","v":0},{"$f":"IF(DY$5=TRUE,BG479,0)","v":0},{"$f":"IF(DZ$5=TRUE,BH479,0)","v":0},{"$f":"IF(EA$5=TRUE,BI479,0)","v":0},{"$f":"IF(EB$5=TRUE,BJ479,0)","v":0},{"$f":"IF(EC$5=TRUE,BK479,0)","v":0},{"$f":"IF(ED$5=TRUE,BL479,0)","v":0},{"$f":"IF(EE$5=TRUE,BM479,0)","v":0},{"$f":"IF(EF$5=TRUE,BN479,0)","v":0},{"$f":"IF(EG$5=TRUE,BO479,0)","v":0},{"$f":"IF(EH$5=TRUE,BP479,0)","v":0},{"$f":"IF(EI$5=TRUE,BQ479,0)","v":0},{"$f":"IF(EJ$5=TRUE,BR479,0)","v":0},{"$f":"IF(EK$5=TRUE,BS479,0)","v":0},{"$f":"IF(EL$5=TRUE,BT479,0)","v":0},{"$f":"IF(EM$5=TRUE,BU479,0)","v":0},{"$f":"IF(EN$5=TRUE,BV479,0)","v":0},{"$f":"IF(EO$5=TRUE,BW479,0)","v":0},{"$f":"IF(EP$5=TRUE,BX479,0)","v":0},{"$f":"IF(EQ$5=TRUE,BY479,0)","v":0},{"$f":"IF(ER$5=TRUE,BZ479,0)","v":0},null,{"$f":"MAX(CB479:CQ479)","v":0},1,{"$f":"ET479*EU479*EY479","v":0},null,null,{"$f":"MAX(CR479:ER479)","v":0}]
[80,2,0,null,null,null," Yes",null,null,null,1,1,null,1,null,null,1,null,null,null,null,null,null,null,null,null,1,null,null,null,null,null,null,null,null,null,null,null,null,null,null,null,null,null,null,null,null,null,null,null,null,null,null,null,null,null,null,null,null,null,null,null,null,null,null,null,null,null,null,null,null,null,1,null,null,null,null,null,null,0,0,0,0,0,0,0,0,0,0,0,0,0,0,0,0,0,0,0,0,0,0,0,0,0,0,0,0,0,0,0,0,0,0,0,0,0,0,0,0,0,0,0,0,0,0,0,0,0,0,0,0,0,0,0,0,0,0,0,0,0,0,0,0,0,0,0,0,0,null,0,1,0,null,null,0]
[78,1,{"$f":"IF(EV484>0,1,0)","v":0},null,"Q:","Pesticide Application to Reduce Spray Drift",null,"Guidance","Documentation: (e.g. field notes, client interview responses, justification)",null,1,1,1,1,1,null,null,1,null,null,null,null,null,null,null,null,1,null,null,1,1,null,null,null,null,null,null,null,null,null,null,null,null,null,null,null,null,null,null,null,null,null,null,null,null,null,null,null,null,null,null,null,null,null,null,null,null,null,null,null,null,null,null,null,null,null,null,null,null,{"$f":"IF(CB$5=TRUE,K484,0)","v":0},0,0,0,0,0,0,0,0,0,0,0,0,0,0,0,{"$f":"EZ484","v":0},{"$f":"IF(CS$5=\"TRUE\",AA484,0)","v":0},{"$f":"IF(CT$5=TRUE,AB484,0)","v":0},0,0,0,0,0,0,0,0,0,0,0,0,0,0,0,0,0,0,0,0,0,0,0,0,0,0,0,0,0,0,0,0,0,0,0,0,0,0,0,0,0,0,0,0,0,0,0,0,0,0,null,{"$f":"MAX(CB484:CQ484)","v":0},1,{"$f":"ET484*EU484*EY484","v":0},null,null,{"$f":"MAX(CR484:ER484)","v":0}]
[78,6,{"$f":"IF(EV485>0,1,0)","v":0},null,null,null,"Pesticides are applied and  spray drift is minimized.","Pesticides are applied according to label guidance to manage pests (including invasive plants) and to meet production needs, and pesticide drift is minimized with drift reducing spray technologies or techniques.",null,null,1,1,1,1,1,null,null,1,null,null,null,null,null,null,null,null,1,null,null,1,1,null,null,null,null,null,null,null,null,null,null,null,null,null,null,null,null,null,null,null,null,null,null,null,null,null,null,null,null,null,null,null,null,null,null,null,null,null,null,null,null,null,null,null,null,null,null,null,null,0,0,0,0,0,0,0,0,0,0,0,0,0,0,0,0,{"$f":"EZ485","v":0},{"$f":"IF(CS$5=\"TRUE\",AA485,0)","v":0},0,0,0,0,0,0,0,0,0,0,0,0,0,0,0,0,0,0,0,0,0,0,0,0,0,0,0,0,0,0,0,0,0,0,0,0,0,0,0,0,0,0,0,0,0,0,0,0,0,0,0,null,{"$f":"MAX(CB485:CQ485)","v":0},1,{"$f":"ET485*EU485*EY485","v":0},null,1,{"$f":"MAX(CR485:ER485)","v":0}]
[78,1,{"$f":"IF(EV489>0,1,0)","v":0},null,"Q:","Pesticide Application to Reduce Volatilization",null,"Guidance","Documentation: (e.g. field notes, client interview responses, justification)",null," ",1," ",1,1," "," ",1," "," "," "," "," "," "," "," ",1," "," "," "," "," "," "," "," "," "," "," "," "," ",null," "," "," "," "," "," "," "," "," "," "," "," "," "," "," "," "," "," "," "," "," "," "," "," "," "," "," "," "," "," "," "," "," "," "," "," "," "," ",0,1,0,1,1,0,0,0,0,0,0,0,0,0,0,0,0,0,0,0,0,0,0,0,0,0,0,0,0,0,0,0,0,0,0,0,0,0,0,0,0,0,0,0,0,0,0,0,0,0,0,0,0,0,0,0,0,0,0,0,0,0,0,0,0,0,0,0,0," ",1,1,0," "," ",0," "]
[78,3,{"$f":"IF(EV491>0,1,0)","v":0},null,null,null,"Pesticides are applied and volatilization is minimized."," Pesticides are applied according to label guidance to manage pests (including invasive plants) to meet production needs, and pesticide volatilization is minimized with alternative formulations or other VOC-reducing techniques.  -- Unlikely to be applied with current VOC mitigation techniques.",null,null,1,1,1,1,1,null,null,1,null,null,null,null,null,null,null,null,1,null,null,1,1,null,null,null,null,null,null,null,null,null,null,null,null,null,null,null,null,null,null,null,null,null,null,null,null,null,null,null,null,null,null,null,null,null,null,null,null,null,null,null,null,null,null,null,null,null,null,null," ",0,0,0,0,0,0,0,0,0,0,0,0,0,0,0,0,0,{"$f":"IF(CS$5=\"TRUE\",AA491,0)","v":0},0,0,0,0,0,0,0,0,0,0,0,0,0,0,0,0,0,0,0,0,0,0,0,0,0,0,0,0,0,0,0,0,0,0,0,0,0,0,0,0,0,0,0,0,0,0,0,0,0,0,0,null,0,1,0,null,null,0,null," "," "," "," "," "," "," "," "," "," "," "," "," "," "," "," "," "," "," "," "," "," "," "," "," "," "," "," "," "," "," "," "," "," "," "," "," "," "," "," "," "," "," "," "," "," "," "," "," "," "," "," "," "," "," "," "," "," "," "," "," "," "," "," "," "," "," "," "," "," "," "," "," "," "," "," "," "," "," "," "," "," "," "," "," "," "," "," "," "," "," "," "," "," "," "," "," "," "," "," "," "," "," "," "," "," "," "," "," "," "," "," "," "," "," "," "," "," "," "," "," "," "," "," "," "," "," "," "," "," "," "," "," "," "," "," "," "," "," "," "," "," "," "," "," "," "," "," "," "," "," "," "," "," "," "," "," "," "," "," "," "," "," "," "," "," "," "," "," "," "," "," "," "," "," "," "," "," "," "," "," "," "," "," "," "," "," "," "," "," "," "," "," "," "," "," "," "," "," "," "," "," "," "," "," "," "," "," "," "," "," "," "," "," "," "," "," "," "," "," "," "," "," "," "," "," "," "," "," "," "," "," "," "," "," "," "," "," "," "," "," "," "," "," "," "]
[81,3,5,null,null,null," Not applicable","No PM/dust issues related to vehicle travel on unpaved roads at the PLU - Select this for Iowa",null,null,1,1,1,1,1,null,null,1,null,null,null,null,null,null,null,null,1,null,null,null,1,null,null,null,null,null,null,null,null,null,null,null,null,null,null,null,null,null,null,null,null,null,null,null,null,null,null,null,null,null,null,null,null,null,null,null,null,null,null,null,null,null,null,null,null,null,null,null,null,0,0,0,0,0,0,0,0,0,0,0,0,0,0,0,0,0,0,0,0,0,0,0,0,0,0,0,0,0,0,0,0,0,0,0,0,0,0,0,0,0,0,0,0,0,0,0,0,0,0,0,0,0,0,0,0,0,0,0,0,0,0,0,0,0,0,0,0,0,null,0,1,0,null,null,0]
[81,5,0,null,null,null,"Significant potential for dust",null,null,null,1,1,1,1,1,null,null,1,null,null,null,null,null,null,null,null,1,null,null,null,1,null,null,null,null,null,null,null,null,null,null,null,null,null,null,null,null,null,null,null,null,null,null,null,null,null,null,null,null,null,null,null,null,null,null,null,null,null,null,null,null,null,null,null,null,null,null,null,null,0,0,0,0,0,0,0,0,0,0,0,0,0,0,0,0,0,0,0,0,0,0,0,0,0,0,0,0,0,0,0,0,0,0,0,0,0,0,0,0,0,0,0,0,0,0,0,0,0,0,0,0,0,0,0,0,0,0,0,0,0,0,0,0,0,0,0,0,0,null,0,1,0,null,null,0]
[82,3,5,null,null,null," Not applicable","No PM/dust issues related to field operations at the PLU - Select this for Iowa",null,null,null,1,null,null,1,null,null,null,null,null,null,null,null,null,null,null,1,null,null,null,1,null,null,null,null,null,null,null,null,null,null,null,null,null,null,null,null,null,null,null,null,null,null,null,null,null,null,null,null,null,null,null,null,null,null,null,null,null,null,null,null,null,null,null,null,null,null,null,null,0,0,0,0,0,0,0,0,0,0,0,0,0,0,0,0,0,0,0,0,0,0,0,0,0,0,0,0,0,0,0,0,0,0,0,0,0,0,0,0,0,0,0,0,0,0,0,0,0,0,0,0,0,0,0,0,0,0,0,0,0,0,0,0,0,0,0,0,0,null,0,1,0,null,null,0]
[82,6,0,null,null,null," Significant potential for dust",null,null,null,null,1,null,null,1,null,null,null,null,null,null,null,null,null,null,null,1,null,null,null,1,null,null,null,null,null,null,null,null,null,null,null,null,null,null,null,null,null,null,null,null,null,null,null,null,null,null,null,null,null,null,null,null,null,null,null,null,null,null,null,null,null,null,null,null,null,null,null,null,0,0,0,0,0,0,0,0,0,0,0,0,0,0,0,0,0,0,0,0,0,0,0,0,0,0,0,0,0,0,0,0,0,0,0,0,0,0,0,0,0,0,0,0,0,0,0,0,0,0,0,0,0,0,0,0,0,0,0,0,0,0,0,0,0,0,0,0,0,null,0,1,0,null,null,0]
[83,3,0,null,null,null,"Minimal potential for dust","Neither the Planner or client has observed any windblown PM/dust issues at the PLU. ",null,null,1,1,1,1,1,1,1,1,null,null,null,null,null,null,null,null,1,null,null,null,1,null,null,null,null,null,null,null,null,null,null,null,null,null,null,null,null,null,null,null,null,null,null,null,null,null,null,null,null,null,null,null,null,null,null,null,null,null,null,null,null,null,null,null,null,null,null,null,null,0,0,0,0,0,0,0,0,0,0,0,0,0,0,0,0,0,0,0,0,0,0,0,0,0,0,0,0,0,0,0,0,0,0,0,0,0,0,0,0,0,0,0,0,0,0,0,0,0,0,0,0,0,0,0,0,0,0,0,0,0,0,0,0,0,0,0,0,0,null,0,1,0,null,null,0]
[83,4,0,null,null,null,"Moderate potential for dust","Planner or client has observed windblown PM/dust issues at the PLU and practices have been applied (document them in the Observed Existing Practices to receive credit).",null,null,1,1,1,1,1,1,1,1,null,null,null,null,null,null,null,null,1,null,null,null,1,null,null,null,null,null,null,null,null,null,null,null,null,null,null,null,null,null,null,null,null,null,null,null,null,null,null,null,null,null,null,null,null,null,null,null,null,null,null,null,null,null,null,null,null,null,null,null,null,0,0,0,0,0,0,0,0,0,0,0,0,0,0,0,0,0,0,0,0,0,0,0,0,0,0,0,0,0,0,0,0,0,0,0,0,0,0,0,0,0,0,0,0,0,0,0,0,0,0,0,0,0,0,0,0,0,0,0,0,0,0,0,0,0,0,0,0,0,null,0,1,0,null,null,0]
[85,4,0,null,null,null,"Low – Degraded Carbon Stock","Answer yes to 3 of the In-Field Soil Health Assessment indicators relating to this resource concern:\n1.   Surface cover from plants, residue or mulch: cover greater than 75%.\n2.   Natural decomposition of crop residues is as expected with crop and conditions.\n3.   Granular soil structure in A horizon and no platy structure in A or B horizons.\n4.   Roots covered in a soil film (rhizosheaths) or are part of soil aggregates; or living roots, if present, are healthy, fully branched and extend into subsoil.\n5.   Clearly evident; more than 3 different types of organisms observed without magnification.\n6.   Presence of root or earthworm channels that extend vertically through the soil with some connecting to the surface.",null,null,null,1,null,null,null,null,null,null,null,null,null,null,null,null,null,null,1,null,1,null,null,null,null,null,null,null,null,null,null,null,null,null,null,null,null,null,null,null,null,null,null,null,null,null,null,null,null,null,null,null,null,null,null,null,null,null,null,null,null,null,null,null,null,null,null,null,null,null,null,0,0,0,0,0,0,0,0,0,0,0,0,0,0,0,0,0,0,0,0,0,0,0,0,0,0,0,0,0,0,0,0,0,0,0,0,0,0,0,0,0,0,0,0,0,0,0,0,0,0,0,0,0,0,0,0,0,0,0,0,0,0,0,0,0,0,0,0,0,null,0,1,0,null,null,0]
[85,6,0,null,null,null,"High – Adequate Carbon Stock","Answer yes to 5 or more of the In-Field Soil Health Assessment indicators relating to this resource concern:\n1.   Surface cover from plants, residue or mulch: cover greater than 75%.\n2.   Natural decomposition of crop residues is as expected with crop and conditions.\n3.   Cylinder: At least 80% remains intact after 5 minutes with little cloudy water or strainer soil remains intact with aggregates apparent or soil quality test kit meets stability class 6.\n4.   Granular soil structure in A horizon and no platy structure in A or B horizons.\n5.   Roots covered in a soil film (rhizosheaths) or are part of soil aggregates; or living roots, if present, are healthy, fully branched and extend into subsoil.\n6.   Clearly evident; more than 3 different types of organisms observed without magnification.\n7.   Presence of root or earthworm channels that extend vertically through the soil with some connecting to the surface.",null,null,null,1,null,null,null,null,null,null,null,null,null,null,null,null,null,null,1,null,1,null,null,null,null,null,null,null,null,null,null,null,null,null,null,null,null,null,null,null,null,null,null,null,null,null,null,null,null,null,null,null,null,null,null,null,null,null,null,null,null,null,null,null,null,null,null,null,null,null,null,0,0,0,0,0,0,0,0,0,0,0,0,0,0,0,0,0,0,0,0,0,0,0,0,0,0,0,0,0,0,0,0,0,0,0,0,0,0,0,0,0,0,0,0,0,0,0,0,0,0,0,0,0,0,0,0,0,0,0,0,0,0,0,0,0,0,0,0,0,null,0,1,0,null,null,0]
[85,3,0,null,null,null,"None- Depleted Carbon Stock","•\tLiving vegetation is absent or very sparse.\n•\tPlant litter, and woody debris are absent or very sparse.",null,null,1,null,null,null,null,null,null,null,null,null,null,null,null,null,null,null,1,null,1,null,null,null,null,null,null,null,null,null,null,null,null,null,null,null,null,null,null,null,null,null,null,null,null,null,null,null,null,null,null,null,null,null,null,null,null,null,null,null,null,null,null,null,null,null,null,null,null,null,null,0,0,0,0,0,0,0,0,0,0,0,0,0,0,0,0,0,0,0,0,0,0,0,0,0,0,0,0,0,0,0,0,0,0,0,0,0,0,0,0,0,0,0,0,0,0,0,0,0,0,0,0,0,0,0,0,0,0,0,0,0,0,0,0,0,0,0,0,0,null,0,1,0,null,null,0]
[85,5,0,null,null,null,"Moderate – Improved Carbon Stock","•\tLiving vegetation covers most of the ground surface.\n•\tPlant residue is mostly fragile.  Woody debris is mostly fine.  A thin duff layer may be present. ",null,null,1,null,null,null,null,null,null,null,null,null,null,null,null,null,null,null,1,null,1,null,null,null,null,null,null,null,null,null,null,null,null,null,null,null,null,null,null,null,null,null,null,null,null,null,null,null,null,null,null,null,null,null,null,null,null,null,null,null,null,null,null,null,null,null,null,null,null,null,null,0,0,0,0,0,0,0,0,0,0,0,0,0,0,0,0,0,0,0,0,0,0,0,0,0,0,0,0,0,0,0,0,0,0,0,0,0,0,0,0,0,0,0,0,0,0,0,0,0,0,0,0,0,0,0,0,0,0,0,0,0,0,0,0,0,0,0,0,0,null,0,1,0,null,null,0]
[85,3,0,null,null,null,"None- Depleted Carbon Stock","Requires completion of PCS on pasture.\n\nFor these three elements: Live or Dormant Plant Cover, Plant Residue and Litter as Soil Cover, and Plant Diversity by Dry Weight use the lowest score of the three elements. \n\nIf the lowest score is 1, select None - Depleted Carbon Stock\nIf the lowest score is 2, select Low - Degraded Carbon Stock\nIf the lowest score is 3, select Moderate - Improved Carbon Stock\nIf the lowest score is 4, select High - Adequate Carbon Stock\nIf all scores are 5, select Maximum - Perennial Cover with No Soil Disturbance",null,null,null,null,null,null,1,null,null,null,null,null,null,null,null,null,null,null,1,null,1,null,null,null,null,null,null,null,null,null,null,null,null,null,null,null,null,null,null,null,null,null,null,null,null,null,null,null,null,null,null,null,null,null,null,null,null,null,null,null,null,null,null,null,null,null,null,null,null,null,null,0,0,0,0,0,0,0,0,0,0,0,0,0,0,0,0,0,0,0,0,0,0,0,0,0,0,0,0,0,0,0,0,0,0,0,0,0,0,0,0,0,0,0,0,0,0,0,0,0,0,0,0,0,0,0,0,0,0,0,0,0,0,0,0,0,0,0,0,0,null,0,1,0,null,null,0]
[85,4,0,null,null,null,"Low – Degraded Carbon Stock",null,null,null,null,null,null,null,1,null,null,null,null,null,null,null,null,null,null,null,1,null,1,null,null,null,null,null,null,null,null,null,null,null,null,null,null,null,null,null,null,null,null,null,null,null,null,null,null,null,null,null,null,null,null,null,null,null,null,null,null,null,null,null,null,null,null,null,null,null,null,null,null,0,0,0,0,0,0,0,0,0,0,0,0,0,0,0,0,0,0,0,0,0,0,0,0,0,0,0,0,0,0,0,0,0,0,0,0,0,0,0,0,0,0,0,0,0,0,0,0,0,0,0,0,0,0,0,0,0,0,0,0,0,0,0,0,0,0,0,0,0,null,0,1,0,null,null,0]
[85,6,0,null,null,null,"High – Adequate Carbon Stock",null,null,null,null,null,null,null,1,null,null,null,null,null,null,null,null,null,null,null,1,null,1,null,null,null,null,null,null,null,null,null,null,null,null,null,null,null,null,null,null,null,null,null,null,null,null,null,null,null,null,null,null,null,null,null,null,null,null,null,null,null,null,null,null,null,null,null,null,null,null,null,null,0,0,0,0,0,0,0,0,0,0,0,0,0,0,0,0,0,0,0,0,0,0,0,0,0,0,0,0,0,0,0,0,0,0,0,0,0,0,0,0,0,0,0,0,0,0,0,0,0,0,0,0,0,0,0,0,0,0,0,0,0,0,0,0,0,0,0,0,0,null,0,1,0,null,null,0]
[85,3,5,null,null,null,"None- Depleted Carbon Stock","N/A In Iowa",null,null,null,null,null,null,null,null,null,1,null,null,null,null,null,null,null,null,1,null,1,null,null,null,null,null,null,null,null,null,null,null,null,null,null,null,null,null,null,null,null,null,null,null,null,null,null,null,null,null,null,null,null,null,null,null,null,null,null,null,null,null,null,null,null,null,null,null,null,null,null,0,0,0,0,0,0,0,0,0,0,0,0,0,0,0,0,0,0,0,0,0,0,0,0,0,0,0,0,0,0,0,0,0,0,0,0,0,0,0,0,0,0,0,0,0,0,0,0,0,0,0,0,0,0,0,0,0,0,0,0,0,0,0,0,0,0,0,0,0,null,0,1,0,null,null,0]
[85,6,5,null,null,null,"High – Adequate Carbon Stock","N/A In Iowa",null,null,null,null,null,null,null,null,null,1,null,null,null,null,null,null,null,null,1,null,1,null,null,null,null,null,null,null,null,null,null,null,null,null,null,null,null,null,null,null,null,null,null,null,null,null,null,null,null,null,null,null,null,null,null,null,null,null,null,null,null,null,null,null,null,null,null,null,null,null,null,0,0,0,0,0,0,0,0,0,0,0,0,0,0,0,0,0,0,0,0,0,0,0,0,0,0,0,0,0,0,0,0,0,0,0,0,0,0,0,0,0,0,0,0,0,0,0,0,0,0,0,0,0,0,0,0,0,0,0,0,0,0,0,0,0,0,0,0,0,null,0,1,0,null,null,0]
[85,1,{"$f":"IF(EV531>0,1,0)","v":0},null,"Q:","Carbon Stock Existing Condition (Forest)",null,"Guidance","Documentation: (e.g. field notes, client interview responses, justification)",null,null,null,null,1,null,null,null,null,null,null,null,null,null,null,null,null,1,null,1,null,null,null,null,null,null,null,null,null,null,null,null,null,null,null,null,null,null,null,null,null,null,null,null,null,null,null,null,null,null,null,null,null,null,null,null,null,null,null,null,null,null,null,null,null,null,null,null,null,null,{"$f":"IF(CB$5=TRUE,K531,0)","v":0},{"$f":"IF(CC$5=TRUE,L531,0)","v":0},{"$f":"IF(CD$5=TRUE,M531,0)","v":0},{"$f":"IF(CE$5=TRUE,N531,0)","v":0},{"$f":"IF(CF$5=TRUE,O531,0)","v":0},{"$f":"IF(CG$5=TRUE,P531,0)","v":0},{"$f":"IF(CH$5=TRUE,Q531,0)","v":0},{"$f":"IF(CI$5=TRUE,R531,0)","v":0},{"$f":"IF(CJ$5=TRUE,S531,0)","v":0},{"$f":"IF(CK$5=TRUE,T531,0)","v":0},{"$f":"IF(CL$5=TRUE,U531,0)","v":0},{"$f":"IF(CM$5=TRUE,V531,0)","v":0},{"$f":"IF(CN$5=TRUE,W531,0)","v":0},{"$f":"IF(CO$5=TRUE,X531,0)","v":0},{"$f":"IF(CP$5=TRUE,Y531,0)","v":0},{"$f":"IF(CQ$5=TRUE,Z531,0)","v":0},{"$f":"EZ531","v":0},{"$f":"IF(CS$5=\"TRUE\",AA531,0)","v":0},{"$f":"IF(CT$5=TRUE,AB531,0)","v":0},{"$f":"IF(CU$5=TRUE,AC531,0)","v":0},{"$f":"IF(CV$5=TRUE,AD531,0)","v":0},{"$f":"IF(CW$5=TRUE,AE531,0)","v":0},{"$f":"IF(CX$5=TRUE,AF531,0)","v":0},{"$f":"IF(CY$5=TRUE,AG531,0)","v":0},{"$f":"IF(CZ$5=TRUE,AH531,0)","v":0},{"$f":"IF(DA$5=TRUE,AI531,0)","v":0},{"$f":"IF(DB$5=TRUE,AJ531,0)","v":0},{"$f":"IF(DC$5=TRUE,AK531,0)","v":0},{"$f":"IF(DD$5=TRUE,AL531,0)","v":0},{"$f":"IF(DE$5=TRUE,AM531,0)","v":0},{"$f":"IF(DF$5=TRUE,AN531,0)","v":0},{"$f":"IF(DG$5=TRUE,AO531,0)","v":0},{"$f":"IF(DH$5=TRUE,AP531,0)","v":0},{"$f":"IF(DI$5=TRUE,AQ531,0)","v":0},{"$f":"IF(DJ$5=TRUE,AR531,0)","v":0},{"$f":"IF(DK$5=TRUE,AS531,0)","v":0},{"$f":"IF(DL$5=TRUE,AT531,0)","v":0},{"$f":"IF(DM$5=TRUE,AU531,0)","v":0},{"$f":"IF(DN$5=TRUE,AV531,0)","v":0},{"$f":"IF(DO$5=TRUE,AW531,0)","v":0},{"$f":"IF(DP$5=TRUE,AX531,0)","v":0},{"$f":"IF(DQ$5=TRUE,AY531,0)","v":0},{"$f":"IF(DR$5=TRUE,AZ531,0)","v":0},{"$f":"IF(DS$5=TRUE,BA531,0)","v":0},{"$f":"IF(DT$5=TRUE,BB531,0)","v":0},{"$f":"IF(DU$5=TRUE,BC531,0)","v":0},{"$f":"IF(DV$5=TRUE,BD531,0)","v":0},{"$f":"IF(DW$5=TRUE,BE531,0)","v":0},{"$f":"IF(DX$5=TRUE,BF531,0)","v":0},{"$f":"IF(DY$5=TRUE,BG531,0)","v":0},{"$f":"IF(DZ$5=TRUE,BH531,0)","v":0},{"$f":"IF(EA$5=TRUE,BI531,0)","v":0},{"$f":"IF(EB$5=TRUE,BJ531,0)","v":0},{"$f":"IF(EC$5=TRUE,BK531,0)","v":0},{"$f":"IF(ED$5=TRUE,BL531,0)","v":0},{"$f":"IF(EE$5=TRUE,BM531,0)","v":0},{"$f":"IF(EF$5=TRUE,BN531,0)","v":0},{"$f":"IF(EG$5=TRUE,BO531,0)","v":0},{"$f":"IF(EH$5=TRUE,BP531,0)","v":0},{"$f":"IF(EI$5=TRUE,BQ531,0)","v":0},{"$f":"IF(EJ$5=TRUE,BR531,0)","v":0},{"$f":"IF(EK$5=TRUE,BS531,0)","v":0},{"$f":"IF(EL$5=TRUE,BT531,0)","v":0},{"$f":"IF(EM$5=TRUE,BU531,0)","v":0},{"$f":"IF(EN$5=TRUE,BV531,0)","v":0},{"$f":"IF(EO$5=TRUE,BW531,0)","v":0},{"$f":"IF(EP$5=TRUE,BX531,0)","v":0},{"$f":"IF(EQ$5=TRUE,BY531,0)","v":0},{"$f":"IF(ER$5=TRUE,BZ531,0)","v":0},null,{"$f":"MAX(CB531:CQ531)","v":0},1,{"$f":"ET531*EU531*EY531","v":0},null,null,{"$f":"MAX(CR531:ER531)","v":0}]
[85,5,0,null,null,null,"Fully-Stocked or Understocked Stand, Not Managed",null,null,null,null,null,null,1,null,null,null,null,null,null,null,null,null,null,null,null,1,null,1,null,null,null,null,null,null,null,null,null,null,null,null,null,null,null,null,null,null,null,null,null,null,null,null,null,null,null,null,null,null,null,null,null,null,null,null,null,null,null,null,null,null,null,null,null,null,null,null,null,null,0,0,0,0,0,0,0,0,0,0,0,0,0,0,0,0,0,0,0,0,0,0,0,0,0,0,0,0,0,0,0,0,0,0,0,0,0,0,0,0,0,0,0,0,0,0,0,0,0,0,0,0,0,0,0,0,0,0,0,0,0,0,0,0,0,0,0,0,0,null,0,1,0,null,null,0]
[94,1,0,null,"Q:","Risk of surface waters receiving pathogens, pharmaceuticals, and chemicals from land applied manure, biosolids, or compost",null,"Guidance","Documentation: (e.g. field notes, client interview responses, justification)",null,1,1,1,1,1,1,1,1,null,null,null,1,null,null,null,null,1,null,null,null,null,null,null,null,null,null,null,null,null,null,null,null,null,null,1,null,null,null,null,null,null,null,null,null,null,null,null,null,null,null,null,null,null,null,null,null,null,null,null,null,null,null,null,null,null,null,null,null,null,0,0,0,0,0,0,0,0,0,0,0,0,0,0,0,0,{"$f":"EZ536","v":0},0,0,0,0,0,0,0,0,0,0,0,0,0,0,0,0,0,0,0,0,0,0,0,0,0,0,0,0,0,0,0,0,0,0,0,0,0,0,0,0,0,0,0,0,0,0,0,0,0,0,0,0,null,0,1,0,null,null,0]
[94,1,{"$f":"IF(EV540>0,1,0)","v":0},null,"Q:","Risk of pathogens, pharmaceuticals, and chemicals from land applied manure, biosolids, or compost transferred to groundwater.",null,"Guidance","Documentation: (e.g. field notes, client interview responses, justification)",null,1,1,1,1,1,1,1,1,null,null,null,1,null,null,null,null,1,null,null,null,null,null,null,null,null,null,null,null,null,null,null,null,null,1,null,null,null,null,null,null,null,null,null,null,null,null,null,null,null,null,null,null,null,null,null,null,null,null,null,null,null,null,null,null,null,null,null,null,null,{"$f":"IF(CB$5=TRUE,K540,0)","v":0},{"$f":"IF(CC$5=TRUE,L540,0)","v":0},{"$f":"IF(CD$5=TRUE,M540,0)","v":0},{"$f":"IF(CE$5=TRUE,N540,0)","v":0},{"$f":"IF(CF$5=TRUE,O540,0)","v":0},{"$f":"IF(CG$5=TRUE,P540,0)","v":0},{"$f":"IF(CH$5=TRUE,Q540,0)","v":0},{"$f":"IF(CI$5=TRUE,R540,0)","v":0},{"$f":"IF(CJ$5=TRUE,S540,0)","v":0},{"$f":"IF(CK$5=TRUE,T540,0)","v":0},{"$f":"IF(CL$5=TRUE,U540,0)","v":0},{"$f":"IF(CM$5=TRUE,V540,0)","v":0},{"$f":"IF(CN$5=TRUE,W540,0)","v":0},{"$f":"IF(CO$5=TRUE,X540,0)","v":0},{"$f":"IF(CP$5=TRUE,Y540,0)","v":0},{"$f":"IF(CQ$5=TRUE,Z540,0)","v":0},{"$f":"EZ540","v":0},{"$f":"IF(CS$5=\"TRUE\",AA540,0)","v":0},{"$f":"IF(CT$5=TRUE,AB540,0)","v":0},{"$f":"IF(CU$5=TRUE,AC540,0)","v":0},{"$f":"IF(CV$5=TRUE,AD540,0)","v":0},{"$f":"IF(CW$5=TRUE,AE540,0)","v":0},{"$f":"IF(CX$5=TRUE,AF540,0)","v":0},{"$f":"IF(CY$5=TRUE,AG540,0)","v":0},{"$f":"IF(CZ$5=TRUE,AH540,0)","v":0},{"$f":"IF(DA$5=TRUE,AI540,0)","v":0},{"$f":"IF(DB$5=TRUE,AJ540,0)","v":0},{"$f":"IF(DC$5=TRUE,AK540,0)","v":0},{"$f":"IF(DD$5=TRUE,AL540,0)","v":0},{"$f":"IF(DE$5=TRUE,AM540,0)","v":0},{"$f":"IF(DF$5=TRUE,AN540,0)","v":0},{"$f":"IF(DG$5=TRUE,AO540,0)","v":0},{"$f":"IF(DH$5=TRUE,AP540,0)","v":0},{"$f":"IF(DI$5=TRUE,AQ540,0)","v":0},{"$f":"IF(DJ$5=TRUE,AR540,0)","v":0},{"$f":"IF(DK$5=TRUE,AS540,0)","v":0},{"$f":"IF(DL$5=TRUE,AT540,0)","v":0},{"$f":"IF(DM$5=TRUE,AU540,0)","v":0},{"$f":"IF(DN$5=TRUE,AV540,0)","v":0},{"$f":"IF(DO$5=TRUE,AW540,0)","v":0},{"$f":"IF(DP$5=TRUE,AX540,0)","v":0},{"$f":"IF(DQ$5=TRUE,AY540,0)","v":0},{"$f":"IF(DR$5=TRUE,AZ540,0)","v":0},{"$f":"IF(DS$5=TRUE,BA540,0)","v":0},{"$f":"IF(DT$5=TRUE,BB540,0)","v":0},{"$f":"IF(DU$5=TRUE,BC540,0)","v":0},{"$f":"IF(DV$5=TRUE,BD540,0)","v":0},{"$f":"IF(DW$5=TRUE,BE540,0)","v":0},{"$f":"IF(DX$5=TRUE,BF540,0)","v":0},{"$f":"IF(DY$5=TRUE,BG540,0)","v":0},{"$f":"IF(DZ$5=TRUE,BH540,0)","v":0},{"$f":"IF(EA$5=TRUE,BI540,0)","v":0},{"$f":"IF(EB$5=TRUE,BJ540,0)","v":0},{"$f":"IF(EC$5=TRUE,BK540,0)","v":0},{"$f":"IF(ED$5=TRUE,BL540,0)","v":0},{"$f":"IF(EE$5=TRUE,BM540,0)","v":0},{"$f":"IF(EF$5=TRUE,BN540,0)","v":0},{"$f":"IF(EG$5=TRUE,BO540,0)","v":0},{"$f":"IF(EH$5=TRUE,BP540,0)","v":0},{"$f":"IF(EI$5=TRUE,BQ540,0)","v":0},{"$f":"IF(EJ$5=TRUE,BR540,0)","v":0},{"$f":"IF(EK$5=TRUE,BS540,0)","v":0},{"$f":"IF(EL$5=TRUE,BT540,0)","v":0},{"$f":"IF(EM$5=TRUE,BU540,0)","v":0},{"$f":"IF(EN$5=TRUE,BV540,0)","v":0},{"$f":"IF(EO$5=TRUE,BW540,0)","v":0},{"$f":"IF(EP$5=TRUE,BX540,0)","v":0},{"$f":"IF(EQ$5=TRUE,BY540,0)","v":0},{"$f":"IF(ER$5=TRUE,BZ540,0)","v":0},null,{"$f":"MAX(CB540:CQ540)","v":0},1,{"$f":"ET540*EU540*EY540","v":0},null,null,{"$f":"MAX(CR540:ER540)","v":0}]
[94,3,0,null,null,null,"Low","Full implementation of a 590 Nutrient Management Plan - ISU recommendations followed, all sensitive area setbacks are in place and potential leaching is considered.",null,null,1,1,1,1,1,1,1,1,null,null,null,1,null,null,null,null,1,null,null,null,null,null,null,null,null,null,null,null,null,null,null,null,null,1,null,null,null,null,null,null,null,null,null,null,null,null,null,null,null,null,null,null,null,null,null,null,null,null,null,null,null,null,null,null,null,null,null,null,null,0,0,0,0,0,0,0,0,0,0,0,0,0,0,0,0,0,0,0,0,0,0,0,0,0,0,0,0,0,0,0,0,0,0,0,0,0,0,0,0,0,0,0,0,0,0,0,0,0,0,0,0,0,0,0,0,0,0,0,0,0,0,0,0,0,0,0,0,0,null,0,1,0,null,null,0]
[94,5,0,null,null,null,"High"," Application without regard for setback from conduits to groundwater (sinkholes, well, fractured bedrock), liquid application of manure and biosolids' no waste treatment for pathogens prior to application.",null,null,1,1,1,1,1,1,1,1,null,null,null,1,null,null,null,null,1,null,null,null,null,null,null,null,null,null,null,null,null,null,null,null,null,1,null,null,null,null,null,null,null,null,null,null,null,null,null,null,null,null,null,null,null,null,null,null,null,null,null,null,null,null,null,null,null,null,null,null,null,0,0,0,0,0,0,0,0,0,0,0,0,0,0,0,0,0,0,0,0,0,0,0,0,0,0,0,0,0,0,0,0,0,0,0,0,0,0,0,0,0,0,0,0,0,0,0,0,0,0,0,0,0,0,0,0,0,0,0,0,0,0,0,0,0,0,0,0,0,null,0,1,0,null,null,0]
[94,4,0,null,null,null,"\nMedium - Surface water adjacent to area of land application; field has tile drainage without open inlets; sheet and rill erosion is below T; wind erosion is controlled.\n","Following existing nutrient management or water quality plan, ISU recommendations followed.\nErosion controlled to T and filter strips or buffers are between application area and surface water.",null,null,1,1,1,1,1,1,1,1,null,null,null,1,null,null,null,null,null,null,null,null,null,null,null,null,null,null,null,null,null,null,null,null,null,null,null,null,null,null,null,null,null,null,null,null,null,null,null,null,null,null,null,null,null,null,null,null,null,null,null,null,null,null,null,null,null,null,null,null,null,0,0,0,0,0,0,0,0,0,0,0,0,0,0,0,0,0,0,0,0,0,0,0,0,0,0,0,0,0,0,0,0,0,0,0,0,0,0,0,0,0,0,0,0,0,0,0,0,0,0,0,0,0,0,0,0,0,0,0,0,0,0,0,0,0,0,0,0,0,null,0,1,0,null,null,0]
[]
[97,1,0,null,"Land Conversion",null,null,null,null,null,1,1,1,1,1,1,1,1,1,1,1,null,null,null,null,null,1,null,null,null,null,null,null,null,null,null,null,null,null,null,null,null,null,null,null,null,null,null,null,null,null,null,null,1,null,null,null,null,null,null,null,null,null,null,null,null,null,null,null,null,null,null,null,null,null,null,null,null,null,0,0,0,0,0,0,0,0,0,0,0,0,0,0,0,0,1,0,0,0,0,0,0,0,0,0,0,0,0,0,0,0,0,0,0,0,0,0,0,0,0,0,0,0,0,0,0,0,0,0,0,0,0,0,0,0,0,0,0,0,0,0,0,0,0,0,0,0,0,null,0,1,0,null,null,1,1]
[98,3,0,null,null,null," No",null,null,null,1,1,1,1,1,1,1,1,null,null,null,null,null,null,null,null,1,null,null,null,null,null,null,null,null,null,null,null,null,null,null,null,null,null,null,null,null,null,null,null,null,null,null,1,null,null,null,null,null,null,null,null,null,null,null,null,null,null,null,null,null,null,null,null,null,null,null,null,null,0,0,0,0,0,0,0,0,0,0,0,0,0,0,0,0,0,0,0,0,0,0,0,0,0,0,0,0,0,0,0,0,0,0,0,0,0,0,0,0,0,0,0,0,0,0,0,0,0,0,0,0,0,0,0,0,0,0,0,0,0,0,0,0,0,0,0,0,0,null,0,1,0,null,null,0]
[99,2,0,null,null,null," None","Check all that apply",null,null,1,1,1,1,1,1,1,1,null,null,null,null,null,null,null,null,1,null,null,null,null,null,null,null,null,null,null,null,null,null,null,null,null,null,null,null,null,null,null,null,null,null,null,1,null,null,null,null,null,null,null,null,null,null,null,null,null,null,null,null,null,null,null,null,null,null,null,null,null,0,0,0,0,0,0,0,0,0,0,0,0,0,0,0,0,0,0,0,0,0,0,0,0,0,0,0,0,0,0,0,0,0,0,0,0,0,0,0,0,0,0,0,0,0,0,0,0,0,0,0,0,0,0,0,0,0,0,0,0,0,0,0,0,0,0,0,0,0,null,0,1,0,null,null,0]
[100,1,0,null,"Q:","Threat of conversion from grassland to nongrassland uses",null,"Guidance","Documentation: (e.g. field notes, client interview responses, justification)",null,null,null,null,null,1,null,null,1,null,null,null,null,null,null,null,null,1,null,null,null,null,null,null,null,null,null,null,null,null,null,null,null,null,null,null,null,null,null,null,null,null,null,null,1,null,null,null,null,null,null,null,null,null,null,null,null,null,null,null,null,null,null,null,null,null,null,null,null,null,0,0,0,0,0,0,0,0,0,0,0,0,0,0,0,0,0,0,0,0,0,0,0,0,0,0,0,0,0,0,0,0,0,0,0,0,0,0,0,0,0,0,0,0,0,0,0,0,0,0,0,0,0,0,0,0,0,0,0,0,0,0,0,0,0,0,0,0,0,null,0,1,0,null,null,0]
[100,2,0,null,null,null," Yes","Conversion will jeopardize future grazing and conservation values.",null,null,null,null,null,null,1,null,null,1,null,null,null,null,null,null,null,null,1,null,null,null,null,null,null,null,null,null,null,null,null,null,null,null,null,null,null,null,null,null,null,null,null,null,null,1,null,null,null,null,null,null,null,null,null,null,null,null,null,null,null,null,null,null,null,null,null,null,null,null,null,0,0,0,0,0,0,0,0,0,0,0,0,0,0,0,0,0,0,0,0,0,0,0,0,0,0,0,0,0,0,0,0,0,0,0,0,0,0,0,0,0,0,0,0,0,0,0,0,0,0,0,0,0,0,0,0,0,0,0,0,0,0,0,0,0,0,0,0,0,null,0,1,0,null,null,0]
[101,1,0,null,"Q:","Grassland protections",null,"Guidance","Documentation: (e.g. field notes, client interview responses, justification)",null,null,null,null,null,1,null,null,1,null,null,null,null,null,null,null,null,1,null,null,null,null,null,null,null,null,null,null,null,null,null,null,null,null,null,null,null,null,null,null,null,null,null,null,1,null,null,null,null,null,null,null,null,null,null,null,null,null,null,null,null,null,null,null,null,null,null,null,null,null,0,0,0,0,0,0,0,0,0,0,0,0,0,0,0,0,0,0,0,0,0,0,0,0,0,0,0,0,0,0,0,0,0,0,0,0,0,0,0,0,0,0,0,0,0,0,0,0,0,0,0,0,0,0,0,0,0,0,0,0,0,0,0,0,0,0,0,0,0,null,0,1,0,null,null,0]
[101,4,0,null,null,null," Historical or archaeological resources",null,null,null,null,null,null,null,1,null,null,1,null,null,null,null,null,null,null,null,1,null,null,null,null,null,null,null,null,null,null,null,null,null,null,null,null,null,null,null,null,null,null,null,null,null,null,1,null,null,null,null,null,null,null,null,null,null,null,null,null,null,null,null,null,null,null,null,null,null,null,null,null,0,0,0,0,0,0,0,0,0,0,0,0,0,0,0,0,0,0,0,0,0,0,0,0,0,0,0,0,0,0,0,0,0,0,0,0,0,0,0,0,0,0,0,0,0,0,0,0,0,0,0,0,0,0,0,0,0,0,0,0,0,0,0,0,0,0,0,0,0,null,0,1,0,null,null,0]
[105,1,0,null,"Q:","Does the client have a current energy audit or results from an NRCS Energy Estimator?",null,"Guidance\nA current energy audit that meets ASABE S612, or results from the Energy Estimator tool for Animal Housing or Irrigation, or results from the Energy Self-Assessment Tools for Conservation that provide recommendations to improve energy efficiency or reduce energy use. See website: https://energytools.sc.egov.usda.gov/. The determination if the audit or tool result is current is based upon the adequacy of the recommendations compared to the current operation. The determination is not based upon the age of the audit or tool result but rather if the operation has changed, technology advanced, or all previous recommendations have been implemented.","Documentation: (e.g. field notes, client interview responses, justification)",null,1,1,1,1,1,1,1,1,null,null,null,null,null,null,null,null,1,null,null,null,null,null,null,null,null,null,null,null,null,null,null,null,null,null,null,null,null,1,null,null,null,null,null,null,null,null,null,null,null,null,null,null,null,null,null,null,null,null,null,null,null,null,null,null,null,null,null,null,null,0,0,0,0,0,0,0,0,0,0,0,0,0,0,0,0,0,0,0,0,0,0,0,0,0,0,0,0,0,0,0,0,0,0,0,0,0,0,0,0,0,0,0,0,0,0,0,0,0,0,0,0,0,0,0,0,0,0,0,0,0,0,0,0,0,0,0,0,0,null,0,1,0,null,null,{"$f":"MAX(CR570:ER570)","v":0}]
[105,5,0,null,null,null,"No","Implementation of the NRCS CEMA 228 Agricultural Energy Assessment, obtaining an ASABE S612 compliant audit, or running the Energy Estimator tools may be recommended to the client. Proceed to next question.",null,null,1,1,1,1,1,1,1,1,null,null,null,null,null,null,null,null,1,null,null,null,null,null,null,null,null,null,null,null,null,null,null,null,null,null,null,null,null,1,null,null,null,null,null,null,null,null,null,null,null,null,null,null,null,null,null,null,null,null,null,null,null,null,null,null,null,null,null,null,null,0,0,0,0,0,0,0,0,0,0,0,0,0,0,0,0,0,0,0,0,0,0,0,0,0,0,0,0,0,0,0,0,0,0,0,0,0,0,0,0,0,0,0,0,0,0,0,0,0,0,0,0,0,0,0,0,0,0,0,0,0,0,0,0,0,0,0,0,0,null,0,1,0,null,null,0]
[105,8,0,null,null,null,"No","There are no energy efficiency improvements to be implemented.",null,null,1,1,1,1,1,1,1,1,null,null,null,null,null,null,null,null,1,null,null,null,null,null,null,null,null,null,null,null,null,null,null,null,null,null,null,null,null,1,null,null,null,null,null,null,null,null,null,null,null,null,null,null,null,null,null,null,null,null,null,null,null,null,null,null,null,null,null,null,null,0,0,0,0,0,0,0,0,0,0,0,0,0,0,0,0,0,0,0,0,0,0,0,0,0,0,0,0,0,0,0,0,0,0,0,0,0,0,0,0,0,0,0,0,0,0,0,0,0,0,0,0,0,0,0,0,0,0,0,0,0,0,0,0,0,0,0,0,0,null,0,1,0,null,null,0]
[105,12,0,null,null,null,"Yes","Proceed to next question.",null,null,1,1,1,1,1,1,1,1,null,null,null,null,null,null,null,null,1,null,null,null,null,null,null,null,null,null,null,null,null,null,null,null,null,null,null,null,null,null,1,null,null,null,null,null,null,null,null,null,null,null,null,null,null,null,null,null,null,null,null,null,null,null,null,null,null,null,null,null,null,0,0,0,0,0,0,0,0,0,0,0,0,0,0,0,0,0,0,0,0,0,0,0,0,0,0,0,0,0,0,0,0,0,0,0,0,0,0,0,0,0,0,0,0,0,0,0,0,0,0,0,0,0,0,0,0,0,0,0,0,0,0,0,0,0,0,0,0,0,null,0,1,0,null,null,0]
[105,14,0,null,"Q:","Do the energy audit or energy estimator(s), or field observation indicate PLU will benefit from energy improvements of field observations?",null,"Guidance\n In the absence of an energy audit or tool results, choose “No” if all recommended energy efficiency improvements have been made to any of the following activities on the PLU (this list is not all inclusive): using mobile field equipment for tilling, planting, harvesting, spreading fertilizers, pesticides, manure or amendments; using mobile equipment to transfer, handle, or process liquid or solid material and products. All energy use related to irrigation and grain drying shall be assessed in the Equipment and Facilities resource concern. Otherwise, choose “Yes.”","Documentation: (e.g. field notes, client interview responses, justification)",null,1,1,1,1,1,1,1,1,null,null,null,null,null,null,null,null,1,null,null,null,null,null,null,null,null,null,null,null,null,null,null,null,null,null,null,null,null,null,1,null,null,null,null,null,null,null,null,null,null,null,null,null,null,null,null,null,null,null,null,null,null,null,null,null,null,null,null,null,null,0,0,0,0,0,0,0,0,0,0,0,0,0,0,0,0,0,0,0,0,0,0,0,0,0,0,0,0,0,0,0,0,0,0,0,0,0,0,0,0,0,0,0,0,0,0,0,0,0,0,0,0,0,0,0,0,0,0,0,0,0,0,0,0,0,0,0,0,0,null,0,1,0,null,null,0]
[105,15,0,null,null,null,"Yes","There are one or more energy efficiency improvements that can be implemented.",null,null,1,1,1,1,1,1,1,1,null,null,null,null,null,null,null,null,1,null,null,null,null,null,null,null,null,null,null,null,null,null,null,null,null,null,null,null,null,null,1,null,null,null,null,null,null,null,null,null,null,null,null,null,null,null,null,null,null,null,null,null,null,null,null,null,null,null,null,null,null,0,0,0,0,0,0,0,0,0,0,0,0,0,0,0,0,0,0,0,0,0,0,0,0,0,0,0,0,0,0,0,0,0,0,0,0,0,0,0,0,0,0,0,0,0,0,0,0,0,0,0,0,0,0,0,0,0,0,0,0,0,0,0,0,0,0,0,0,0,null,0,1,0,null,null,0]
[107,11,5,null,null,null," Not applicable","No diesel engines are used on the PLU - Typically select this for Iowa",null,null,1,1,1,1,1,null,null,1,null,null,null,null,null,null,null,null,1,1,null,1,1,null,null,null,null,null,null,null,null,null,null,null,null,null,null,null,null,null,null,null,null,null,null,null,null,null,null,null,null,null,null,null,null,null,null,null,null,null,null,null,null,null,null,null,null,null,null,null,null,0,0,0,0,0,0,0,0,0,0,0,0,0,0,0,0,0,0,0,0,0,0,0,0,0,0,0,0,0,0,0,0,0,0,0,0,0,0,0,0,0,0,0,0,0,0,0,0,0,0,0,0,0,0,0,0,0,0,0,0,0,0,0,0,0,0,0,0,0,null,0,1,0,null,null,0]
[107,12,0,null,null,null," Low risk combustion sources","Consult with the State Office Environmental Engineer - route through Area Engineer\n\nAll diesel engines larger than 25 brake horsepower in operation at the PLU are certified to EPA Tier 4 final standards (based on engine model year and horsepower rating). See Appendix D for an EPA Tier chart.",null,null,1,1,1,1,1,null,null,1,null,null,null,null,null,null,null,null,1,1,null,1,1,null,null,null,null,null,null,null,null,null,null,null,null,null,null,null,null,null,null,null,null,null,null,null,null,null,null,null,null,null,null,null,null,null,null,null,null,null,null,null,null,null,null,null,null,null,null,null,null,0,0,0,0,0,0,0,0,0,0,0,0,0,0,0,0,0,0,0,0,0,0,0,0,0,0,0,0,0,0,0,0,0,0,0,0,0,0,0,0,0,0,0,0,0,0,0,0,0,0,0,0,0,0,0,0,0,0,0,0,0,0,0,0,0,0,0,0,0,null,0,1,0,null,null,0]
[108,3,5,null,null,null," Not applicable","Typically select this for Iowa\n\nNo non diesel engine combustion sources are used on the PLU",null,null,1,1,1,1,1,null,null,1,null,null,null,null,null,null,null,null,1,1,null,1,1,null,null,null,null,null,null,null,null,null,null,null,null,null,null,null,null,null,null,null,null,null,null,null,null,null,null,null,null,null,null,null,null,null,null,null,null,null,null,null,null,null,null,null,null,null,null,null,null,0,0,0,0,0,0,0,0,0,0,0,0,0,0,0,0,0,0,0,0,0,0,0,0,0,0,0,0,0,0,0,0,0,0,0,0,0,0,0,0,0,0,0,0,0,0,0,0,0,0,0,0,0,0,0,0,0,0,0,0,0,0,0,0,0,0,0,0,0,null,0,1,0,null,null,0]
[108,5,0,null,null,null," Medium risk combustion sources","Consult with the State Office Environmental Engineer - route through Area Engineer\n\nFor PM attainment areas:  At minimum one of the following must be met:\n•\tAt least 50% of the normal annual fuel usage for non-diesel engine combustion sources in operation at the PLU is either natural gas or propane\n•\tAt least 50% of the non-diesel engine combustion sources in operation at the PLU utilize emissions control for PM and NOx emissions.\nFor PM nonattainment areas:  NA Iowa",null,null,1,1,1,1,1,null,null,1,null,null,null,null,null,null,null,null,1,1,null,1,1,null,null,null,null,null,null,null,null,null,null,null,null,null,null,null,null,null,null,null,null,null,null,null,null,null,null,null,null,null,null,null,null,null,null,null,null,null,null,null,null,null,null,null,null,null,null,null,null,0,0,0,0,0,0,0,0,0,0,0,0,0,0,0,0,0,0,0,0,0,0,0,0,0,0,0,0,0,0,0,0,0,0,0,0,0,0,0,0,0,0,0,0,0,0,0,0,0,0,0,0,0,0,0,0,0,0,0,0,0,0,0,0,0,0,0,0,0,null,0,1,0,null,null,0]
[113,9,{"$f":"IF(EV595>0,1,0)","v":0},null,"Q:","Are livestock wastes, by-products, or feedstocks stored or handled in a way that could contaminate groundwater with nutrients or pathogens? ",null,"Guidance","Documentation: (e.g. field notes, client interview responses, justification)",null,1,null,null,null,1,null,null,1,null,1,null,null,null,null,null,1,1,null,null,null,null,null,null,null,null,null,null,null,null,null,null,null,null,null,null,null,null,null,null,null,null,null,null,null,null,null,null,null,null,null,null,null,null,null,null,null,1,1,null,null,null,null,null,null,null,null,null,null,null,{"$f":"IF(CB$5=TRUE,K595,0)","v":0},0,0,0,0,0,0,0,0,0,0,0,0,0,0,0,{"$f":"EZ595","v":0},{"$f":"IF(CS$5=\"TRUE\",AA595,0)","v":0},{"$f":"IF(CT$5=TRUE,AB595,0)","v":0},0,0,0,0,0,0,0,0,0,0,0,0,0,0,0,0,0,0,0,0,0,0,0,0,0,0,0,0,0,0,0,0,0,0,0,0,0,0,0,0,0,0,0,0,0,0,0,0,0,0,null,{"$f":"MAX(CB595:CQ595)","v":0},1,{"$f":"ET595*EU595*EY595","v":0},null,null,{"$f":"MAX(CR595:ER595)","v":0}]
[113,14,{"$f":"IF(EV598>0,1,0)","v":0},null,"Q:","Are livestock wastes, by-products, or feedstocks stored or handled in a way that could contaminate surface water with nutrients or pathogens?",null,"Guidance","Documentation: (e.g. field notes, client interview responses, justification)",null,1,null,null,null,1,null,null,1,null,1,null,null,null,null,null,1,1,null,null,null,null,null,null,null,null,null,null,null,null,null,null,null,null,null,null,null,null,null,null,null,null,null,null,null,null,null,null,null,null,null,null,null,null,null,null,null,1,1,null,null,null,null,null,null,null,null,null,null,null,0,0,0,0,0,0,0,0,0,0,0,0,0,0,0,0,{"$f":"EZ598","v":0},{"$f":"IF(CS$5=\"TRUE\",AA598,0)","v":0},0,0,0,0,0,0,0,0,0,0,0,0,0,0,0,0,0,0,0,0,0,0,0,0,0,0,0,0,0,0,0,0,0,0,0,0,0,0,0,0,0,0,0,0,0,0,0,0,0,0,0,null,{"$f":"MAX(CB598:CQ598)","v":0},1,{"$f":"ET598*EU598*EY598","v":0},null,null,{"$f":"MAX(CR598:ER598)","v":0}]
[113,16,0,null,null,null,"Yes. Treatment IS ADEQUATE on the PLU for preventing groundwater pollution.",null,null,null,1,null,null,null,1,null,null,1,null,1,null,null,null,null,null,1,1,null,null,null,null,null,null,null,null,null,null,null,null,null,null,null,null,null,null,null,null,null,null,null,null,null,null,null,null,null,null,null,null,null,null,null,null,null,null,null,1,1,null,null,null,null,null,null,null,null,null,null,null,0,0,0,0,0,0,0,0,0,0,0,0,0,0,0,0,0,0,0,0,0,0,0,0,0,0,0,0,0,0,0,0,0,0,0,0,0,0,0,0,0,0,0,0,0,0,0,0,0,0,0,0,0,0,0,0,0,0,0,0,0,0,0,0,0,0,0,0,0,null,0,1,0,null,null,0]
[113,1,{"$f":"IF(EV601>0,1,0)","v":0},null,"Q:","Are biosolids, manure, compost, or other soil nutrient and pathogen sources stored or handled on the PLU which may pose a risk to surface water pollution?",null,"Guidance","Documentation: (e.g. field notes, client interview responses, justification)",null,1,1,1,1,1,1,1,1,null,null,null,null,null,null,null,1,1,null,null,null,null,null,null,null,null,null,null,null,null,null,null,null,null,null,null,null,null,null,null,null,null,null,null,null,null,null,null,null,null,null,null,null,null,null,null,null,1,1,null,null,null,null,null,null,null,null,null,null,null,{"$f":"IF(CB$5=TRUE,K601,0)","v":0},{"$f":"IF(CC$5=TRUE,L601,0)","v":0},{"$f":"IF(CD$5=TRUE,M601,0)","v":0},{"$f":"IF(CE$5=TRUE,N601,0)","v":0},{"$f":"IF(CF$5=TRUE,O601,0)","v":0},{"$f":"IF(CG$5=TRUE,P601,0)","v":0},{"$f":"IF(CH$5=TRUE,Q601,0)","v":0},{"$f":"IF(CI$5=TRUE,R601,0)","v":0},{"$f":"IF(CJ$5=TRUE,S601,0)","v":0},{"$f":"IF(CK$5=TRUE,T601,0)","v":0},{"$f":"IF(CL$5=TRUE,U601,0)","v":0},{"$f":"IF(CM$5=TRUE,V601,0)","v":0},{"$f":"IF(CN$5=TRUE,W601,0)","v":0},{"$f":"IF(CO$5=TRUE,X601,0)","v":0},{"$f":"IF(CP$5=TRUE,Y601,0)","v":0},{"$f":"IF(CQ$5=TRUE,Z601,0)","v":0},{"$f":"EZ601","v":0},{"$f":"IF(CS$5=\"TRUE\",AA601,0)","v":0},{"$f":"IF(CT$5=TRUE,AB601,0)","v":0},{"$f":"IF(CU$5=TRUE,AC601,0)","v":0},{"$f":"IF(CV$5=TRUE,AD601,0)","v":0},{"$f":"IF(CW$5=TRUE,AE601,0)","v":0},{"$f":"IF(CX$5=TRUE,AF601,0)","v":0},{"$f":"IF(CY$5=TRUE,AG601,0)","v":0},{"$f":"IF(CZ$5=TRUE,AH601,0)","v":0},{"$f":"IF(DA$5=TRUE,AI601,0)","v":0},{"$f":"IF(DB$5=TRUE,AJ601,0)","v":0},{"$f":"IF(DC$5=TRUE,AK601,0)","v":0},{"$f":"IF(DD$5=TRUE,AL601,0)","v":0},{"$f":"IF(DE$5=TRUE,AM601,0)","v":0},{"$f":"IF(DF$5=TRUE,AN601,0)","v":0},{"$f":"IF(DG$5=TRUE,AO601,0)","v":0},{"$f":"IF(DH$5=TRUE,AP601,0)","v":0},{"$f":"IF(DI$5=TRUE,AQ601,0)","v":0},{"$f":"IF(DJ$5=TRUE,AR601,0)","v":0},{"$f":"IF(DK$5=TRUE,AS601,0)","v":0},{"$f":"IF(DL$5=TRUE,AT601,0)","v":0},{"$f":"IF(DM$5=TRUE,AU601,0)","v":0},{"$f":"IF(DN$5=TRUE,AV601,0)","v":0},{"$f":"IF(DO$5=TRUE,AW601,0)","v":0},{"$f":"IF(DP$5=TRUE,AX601,0)","v":0},{"$f":"IF(DQ$5=TRUE,AY601,0)","v":0},{"$f":"IF(DR$5=TRUE,AZ601,0)","v":0},{"$f":"IF(DS$5=TRUE,BA601,0)","v":0},{"$f":"IF(DT$5=TRUE,BB601,0)","v":0},{"$f":"IF(DU$5=TRUE,BC601,0)","v":0},{"$f":"IF(DV$5=TRUE,BD601,0)","v":0},{"$f":"IF(DW$5=TRUE,BE601,0)","v":0},{"$f":"IF(DX$5=TRUE,BF601,0)","v":0},{"$f":"IF(DY$5=TRUE,BG601,0)","v":0},{"$f":"IF(DZ$5=TRUE,BH601,0)","v":0},{"$f":"IF(EA$5=TRUE,BI601,0)","v":0},{"$f":"IF(EB$5=TRUE,BJ601,0)","v":0},{"$f":"IF(EC$5=TRUE,BK601,0)","v":0},{"$f":"IF(ED$5=TRUE,BL601,0)","v":0},{"$f":"IF(EE$5=TRUE,BM601,0)","v":0},{"$f":"IF(EF$5=TRUE,BN601,0)","v":0},{"$f":"IF(EG$5=TRUE,BO601,0)","v":0},{"$f":"IF(EH$5=TRUE,BP601,0)","v":0},{"$f":"IF(EI$5=TRUE,BQ601,0)","v":0},{"$f":"IF(EJ$5=TRUE,BR601,0)","v":0},{"$f":"IF(EK$5=TRUE,BS601,0)","v":0},{"$f":"IF(EL$5=TRUE,BT601,0)","v":0},{"$f":"IF(EM$5=TRUE,BU601,0)","v":0},{"$f":"IF(EN$5=TRUE,BV601,0)","v":0},{"$f":"IF(EO$5=TRUE,BW601,0)","v":0},{"$f":"IF(EP$5=TRUE,BX601,0)","v":0},{"$f":"IF(EQ$5=TRUE,BY601,0)","v":0},{"$f":"IF(ER$5=TRUE,BZ601,0)","v":0},null,{"$f":"MAX(CB601:CQ601)","v":0},1,{"$f":"ET601*EU601*EY601","v":0},null,null,{"$f":"MAX(CR601:ER601)","v":0}]
[113,4,0,null,null,null,"Yes.  The material is NOT CONTAINED, or containment is NOT FULLY FUNCTIONAL.",null,null,null,1,1,1,1,1,1,1,1,null,null,null,null,null,null,null,1,1,null,null,null,null,null,null,null,null,null,null,null,null,null,null,null,null,null,null,null,null,null,null,null,null,null,null,null,null,null,null,null,null,null,null,null,null,null,null,null,1,1,null,null,null,null,null,null,null,null,null,null,null,0,0,0,0,0,0,0,0,0,0,0,0,0,0,0,0,0,0,0,0,0,0,0,0,0,0,0,0,0,0,0,0,0,0,0,0,0,0,0,0,0,0,0,0,0,0,0,0,0,0,0,0,0,0,0,0,0,0,0,0,0,0,0,0,0,0,0,0,0,null,0,1,0,null,null,0]
[113,5,0,null,null,null,"Yes.  The material is CONTAINED and containment is FULLY FUNCTIONAL.",null,null,null,1,1,1,1,1,1,1,1,null,null,null,null,null,null,null,1,1,null,null,null,null,null,null,null,null,null,null,null,null,null,null,null,null,null,null,null,null,null,null,null,null,null,null,null,null,null,null,null,null,null,null,null,null,null,null,null,1,1,null,null,null,null,null,null,null,null,null,null,null,0,0,0,0,0,0,0,0,0,0,0,0,0,0,0,0,0,0,0,0,0,0,0,0,0,0,0,0,0,0,0,0,0,0,0,0,0,0,0,0,0,0,0,0,0,0,0,0,0,0,0,0,0,0,0,0,0,0,0,0,0,0,0,0,0,0,0,0,0,null,0,1,0,null,null,0]
[111,1,{"$f":"IF(EV610>0,1,0)","v":0},null,"Q:","Are pesticides or fertilizers stored, mixed, loaded, or handled on the PLU which may pose a risk to surface water?",null,"Guidance","Documentation: (e.g. field notes, client interview responses, justification)",null,1,1,1,1,1,1,1,1,null,null,null,null,null,null,null,null,1,null,null,null,null,null,null,null,null,null,null,null,null,null,null,null,null,null,null,null,null,null,null,null,null,null,null,null,null,null,null,null,null,null,null,null,null,null,null,null,null,null,1,1,null,null,null,null,null,null,null,null,null,{"$f":"IF(CB$5=TRUE,K610,0)","v":0},{"$f":"IF(CC$5=TRUE,L610,0)","v":0},{"$f":"IF(CD$5=TRUE,M610,0)","v":0},{"$f":"IF(CE$5=TRUE,N610,0)","v":0},{"$f":"IF(CF$5=TRUE,O610,0)","v":0},{"$f":"IF(CG$5=TRUE,P610,0)","v":0},{"$f":"IF(CH$5=TRUE,Q610,0)","v":0},{"$f":"IF(CI$5=TRUE,R610,0)","v":0},{"$f":"IF(CJ$5=TRUE,S610,0)","v":0},{"$f":"IF(CK$5=TRUE,T610,0)","v":0},{"$f":"IF(CL$5=TRUE,U610,0)","v":0},{"$f":"IF(CM$5=TRUE,V610,0)","v":0},{"$f":"IF(CN$5=TRUE,W610,0)","v":0},{"$f":"IF(CO$5=TRUE,X610,0)","v":0},{"$f":"IF(CP$5=TRUE,Y610,0)","v":0},{"$f":"IF(CQ$5=TRUE,Z610,0)","v":0},{"$f":"EZ610","v":0},{"$f":"IF(CS$5=\"TRUE\",AA610,0)","v":0},{"$f":"IF(CT$5=TRUE,AB610,0)","v":0},{"$f":"IF(CU$5=TRUE,AC610,0)","v":0},{"$f":"IF(CV$5=TRUE,AD610,0)","v":0},{"$f":"IF(CW$5=TRUE,AE610,0)","v":0},{"$f":"IF(CX$5=TRUE,AF610,0)","v":0},{"$f":"IF(CY$5=TRUE,AG610,0)","v":0},{"$f":"IF(CZ$5=TRUE,AH610,0)","v":0},{"$f":"IF(DA$5=TRUE,AI610,0)","v":0},{"$f":"IF(DB$5=TRUE,AJ610,0)","v":0},{"$f":"IF(DC$5=TRUE,AK610,0)","v":0},{"$f":"IF(DD$5=TRUE,AL610,0)","v":0},{"$f":"IF(DE$5=TRUE,AM610,0)","v":0},{"$f":"IF(DF$5=TRUE,AN610,0)","v":0},{"$f":"IF(DG$5=TRUE,AO610,0)","v":0},{"$f":"IF(DH$5=TRUE,AP610,0)","v":0},{"$f":"IF(DI$5=TRUE,AQ610,0)","v":0},{"$f":"IF(DJ$5=TRUE,AR610,0)","v":0},{"$f":"IF(DK$5=TRUE,AS610,0)","v":0},{"$f":"IF(DL$5=TRUE,AT610,0)","v":0},{"$f":"IF(DM$5=TRUE,AU610,0)","v":0},{"$f":"IF(DN$5=TRUE,AV610,0)","v":0},{"$f":"IF(DO$5=TRUE,AW610,0)","v":0},{"$f":"IF(DP$5=TRUE,AX610,0)","v":0},{"$f":"IF(DQ$5=TRUE,AY610,0)","v":0},{"$f":"IF(DR$5=TRUE,AZ610,0)","v":0},{"$f":"IF(DS$5=TRUE,BA610,0)","v":0},{"$f":"IF(DT$5=TRUE,BB610,0)","v":0},{"$f":"IF(DU$5=TRUE,BC610,0)","v":0},{"$f":"IF(DV$5=TRUE,BD610,0)","v":0},{"$f":"IF(DW$5=TRUE,BE610,0)","v":0},{"$f":"IF(DX$5=TRUE,BF610,0)","v":0},{"$f":"IF(DY$5=TRUE,BG610,0)","v":0},{"$f":"IF(DZ$5=TRUE,BH610,0)","v":0},{"$f":"IF(EA$5=TRUE,BI610,0)","v":0},{"$f":"IF(EB$5=TRUE,BJ610,0)","v":0},{"$f":"IF(EC$5=TRUE,BK610,0)","v":0},{"$f":"IF(ED$5=TRUE,BL610,0)","v":0},{"$f":"IF(EE$5=TRUE,BM610,0)","v":0},{"$f":"IF(EF$5=TRUE,BN610,0)","v":0},{"$f":"IF(EG$5=TRUE,BO610,0)","v":0},{"$f":"IF(EH$5=TRUE,BP610,0)","v":0},{"$f":"IF(EI$5=TRUE,BQ610,0)","v":0},{"$f":"IF(EJ$5=TRUE,BR610,0)","v":0},{"$f":"IF(EK$5=TRUE,BS610,0)","v":0},{"$f":"IF(EL$5=TRUE,BT610,0)","v":0},{"$f":"IF(EM$5=TRUE,BU610,0)","v":0},{"$f":"IF(EN$5=TRUE,BV610,0)","v":0},{"$f":"IF(EO$5=TRUE,BW610,0)","v":0},{"$f":"IF(EP$5=TRUE,BX610,0)","v":0},{"$f":"IF(EQ$5=TRUE,BY610,0)","v":0},{"$f":"IF(ER$5=TRUE,BZ610,0)","v":0},null,{"$f":"MAX(CB610:CQ610)","v":0},1,{"$f":"ET610*EU610*EY610","v":0},null,null,{"$f":"MAX(CR610:ER610)","v":0}]
[111,4,0,null,null,null,"Yes. Pesticides and fertilizers are stored, mixed, loaded, or handled on PLU. Secondary containment IS in place",null,null,null,1,1,1,1,1,1,1,1,null,null,null,null,null,null,null,null,1,null,null,null,null,null,null,null,null,null,null,null,null,null,null,null,null,null,null,null,null,null,null,null,null,null,null,null,null,null,null,null,null,null,null,null,null,null,null,null,null,null,1,1,null,null,null,null,null,null,null,null,null,0,0,0,0,0,0,0,0,0,0,0,0,0,0,0,0,0,0,0,0,0,0,0,0,0,0,0,0,0,0,0,0,0,0,0,0,0,0,0,0,0,0,0,0,0,0,0,0,0,0,0,0,0,0,0,0,0,0,0,0,0,0,0,0,0,0,0,0,0,null,0,1,0,null,null,0]
[111,3,0,null,null,null,"Yes.  Pesticides and fertilizers are stored, mixed, loaded, or handled on the PLU.  Secondary containment IS NOT in place, or is NON-FUNCTIONAL.","Containment definitions:\n•Secondary containment required for any pesticide greater than 100 gallons stored for more than 30 days.  \n•Non-mobile Liquid Fertilizer storage greater than 500 gallons requires secondary containment.  \n•All dry products stored for greater than 30 days are under a roof.",null,null,1,1,1,1,1,1,1,1,null,null,null,null,null,null,null,null,1,null,null,null,null,null,null,null,null,null,null,null,null,null,null,null,null,null,null,null,null,null,null,null,null,null,null,null,null,null,null,null,null,null,null,null,null,null,null,null,null,null,1,1,null,null,null,null,null,null,null,null,null,0,0,0,0,0,0,0,0,0,0,0,0,0,0,0,0,0,{"$f":"IF(CS$5=\"TRUE\",AA615,0)","v":0},{"$f":"IF(CT$5=TRUE,AB615,0)","v":0},{"$f":"IF(CU$5=TRUE,AC615,0)","v":0},{"$f":"IF(CV$5=TRUE,AD615,0)","v":0},{"$f":"IF(CW$5=TRUE,AE615,0)","v":0},{"$f":"IF(CX$5=TRUE,AF615,0)","v":0},{"$f":"IF(CY$5=TRUE,AG615,0)","v":0},{"$f":"IF(CZ$5=TRUE,AH615,0)","v":0},{"$f":"IF(DA$5=TRUE,AI615,0)","v":0},{"$f":"IF(DB$5=TRUE,AJ615,0)","v":0},{"$f":"IF(DC$5=TRUE,AK615,0)","v":0},{"$f":"IF(DD$5=TRUE,AL615,0)","v":0},{"$f":"IF(DE$5=TRUE,AM615,0)","v":0},{"$f":"IF(DF$5=TRUE,AN615,0)","v":0},{"$f":"IF(DG$5=TRUE,AO615,0)","v":0},{"$f":"IF(DH$5=TRUE,AP615,0)","v":0},{"$f":"IF(DI$5=TRUE,AQ615,0)","v":0},{"$f":"IF(DJ$5=TRUE,AR615,0)","v":0},{"$f":"IF(DK$5=TRUE,AS615,0)","v":0},{"$f":"IF(DL$5=TRUE,AT615,0)","v":0},{"$f":"IF(DM$5=TRUE,AU615,0)","v":0},{"$f":"IF(DN$5=TRUE,AV615,0)","v":0},{"$f":"IF(DO$5=TRUE,AW615,0)","v":0},{"$f":"IF(DP$5=TRUE,AX615,0)","v":0},{"$f":"IF(DQ$5=TRUE,AY615,0)","v":0},{"$f":"IF(DR$5=TRUE,AZ615,0)","v":0},{"$f":"IF(DS$5=TRUE,BA615,0)","v":0},{"$f":"IF(DT$5=TRUE,BB615,0)","v":0},{"$f":"IF(DU$5=TRUE,BC615,0)","v":0},{"$f":"IF(DV$5=TRUE,BD615,0)","v":0},{"$f":"IF(DW$5=TRUE,BE615,0)","v":0},{"$f":"IF(DX$5=TRUE,BF615,0)","v":0},{"$f":"IF(DY$5=TRUE,BG615,0)","v":0},{"$f":"IF(DZ$5=TRUE,BH615,0)","v":0},{"$f":"IF(EA$5=TRUE,BI615,0)","v":0},{"$f":"IF(EB$5=TRUE,BJ615,0)","v":0},{"$f":"IF(EC$5=TRUE,BK615,0)","v":0},{"$f":"IF(ED$5=TRUE,BL615,0)","v":0},{"$f":"IF(EE$5=TRUE,BM615,0)","v":0},{"$f":"IF(EF$5=TRUE,BN615,0)","v":0},{"$f":"IF(EG$5=TRUE,BO615,0)","v":0},{"$f":"IF(EH$5=TRUE,BP615,0)","v":0},{"$f":"IF(EI$5=TRUE,BQ615,0)","v":0},{"$f":"IF(EJ$5=TRUE,BR615,0)","v":0},{"$f":"IF(EK$5=TRUE,BS615,0)","v":0},{"$f":"IF(EL$5=TRUE,BT615,0)","v":0},{"$f":"IF(EM$5=TRUE,BU615,0)","v":0},{"$f":"IF(EN$5=TRUE,BV615,0)","v":0},{"$f":"IF(EO$5=TRUE,BW615,0)","v":0},{"$f":"IF(EP$5=TRUE,BX615,0)","v":0},{"$f":"IF(EQ$5=TRUE,BY615,0)","v":0},{"$f":"IF(ER$5=TRUE,BZ615,0)","v":0},null,0,1,{"$f":"ET615*EU615*EY615","v":0},null,null,0]
[110,1,{"$f":"IF(EV618>0,1,0)","v":0},null,"Q:","Are petroleum products stored or handled on the PLU which may pose a risk to surface water? ",null,"Guidance","Documentation: (e.g. field notes, client interview responses, justification)",null,1,1,1,1,1,1,1,1,null,null,null,null,null,null,null,null,1,null,null,null,null,null,null,null,null,null,null,null,null,null,null,null,null,null,null,null,null,null,null,null,null,null,null,null,null,null,null,null,null,null,null,null,null,null,null,null,null,null,1,1,null,null,null,null,null,null,null,null,null,{"$f":"IF(CB$5=TRUE,K618,0)","v":0},0,0,0,0,0,0,0,0,0,0,0,0,0,0,0,{"$f":"EZ618","v":0},{"$f":"IF(CS$5=\"TRUE\",AA618,0)","v":0},{"$f":"IF(CT$5=TRUE,AB618,0)","v":0},0,0,0,0,0,0,0,0,0,0,0,0,0,0,0,0,0,0,0,0,0,0,0,0,0,0,0,0,0,0,0,0,0,0,0,0,0,0,0,0,0,0,0,0,0,0,0,0,0,0,null,{"$f":"MAX(CB618:CQ618)","v":0},1,{"$f":"ET618*EU618*EY618","v":0},null,null,{"$f":"MAX(CR618:ER618)","v":0}]
[110,5,0,null,null,null,"No.  Management negates the need to store or handle petroleum products on the PLU.",null,null,null,1,1,1,1,1,1,1,1,null,null,null,null,null,null,null,null,1,null,null,null,null,null,null,null,null,null,null,null,null,null,null,null,null,null,null,null,null,null,null,null,null,null,null,null,null,null,null,null,null,null,null,null,null,null,null,null,null,null,1,1,null,null,null,null,null,null,null,null,null,0,0,0,0,0,0,0,0,0,0,0,0,0,0,0,0,{"$f":"EZ621","v":0},0,0,0,0,0,0,0,0,0,0,0,0,0,0,0,0,0,0,0,0,0,0,0,0,0,0,0,0,0,0,0,0,0,0,0,0,0,0,0,0,0,0,0,0,0,0,0,0,0,0,0,0,null,{"$f":"MAX(CB621:CQ621)","v":0},1,{"$f":"ET621*EU621*EY621","v":0},null,null,{"$f":"MAX(CR621:ER621)","v":0}]
[110,1,0,null,"Q:","Are petroleum products stored or handled on the PLU which may pose a risk to groundwater?",null,"Guidance","Documentation: (e.g. field notes, client interview responses, justification)",null,1,1,1,1,1,1,1,1,null,null,null,null,null,null,null,null,1,null,null,null,null,null,null,null,null,null,null,null,null,null,null,null,null,null,null,null,null,null,null,null,null,null,null,null,null,null,null,null,null,null,null,null,null,null,null,null,null,null,1,1,null,null,null,null,null,null,null,null,null,0,0,0,0,0,0,0,0,0,0,0,0,0,0,0,0,{"$f":"EZ622","v":0},0,0,0,0,0,0,0,0,0,0,0,0,0,0,0,0,0,0,0,0,0,0,0,0,0,0,0,0,0,0,0,0,0,0,0,0,0,0,0,0,0,0,0,0,0,0,0,0,0,0,0,0,null,{"$f":"MAX(CB622:CQ622)","v":0},1,{"$f":"ET622*EU622*EY622","v":0},null,null,{"$f":"MAX(CR622:ER622)","v":0}]
[110,4,0,null,null,null,"Yes.  Required secondary containment IS in place.",null,null,null,1,1,1,1,1,1,1,1,null,null,null,null,null,null,null,null,1,null,null,null,null,null,null,null,null,null,null,null,null,null,null,null,null,null,null,null,null,null,null,null,null,null,null,null,null,null,null,null,null,null,null,null,null,null,null,null,null,null,1,1,null,null,null,null,null,null,null,null,null,0,0,0,0,0,0,0,0,0,0,0,0,0,0,0,0,{"$f":"EZ624","v":0},0,0,0,0,0,0,0,0,0,0,0,0,0,0,0,0,0,0,0,0,0,0,0,0,0,0,0,0,0,0,0,0,0,0,0,0,0,0,0,0,0,0,0,0,0,0,0,0,0,0,0,0,null,{"$f":"MAX(CB624:CQ624)","v":0},1,{"$f":"ET624*EU624*EY624","v":0},null,null,{"$f":"MAX(CR624:ER624)","v":0}]
[113,3,5,null,null,null,"Not Applicable - Only grazing livestock at the PLU","Only grazing livestock are present at the PLU (i.e., no confinement).",null,null,null,null,1,null,null,null,null,null,null,null,null,null,null,null,null,null,1,1,1,1,null,null,null,null,null,null,null,null,null,null,null,null,null,null,null,null,null,null,null,null,null,null,null,null,null,null,null,null,null,null,null,null,null,null,null,null,null,null,null,null,null,null,null,null,null,null,null,null,null,0,0,0,0,0,0,0,0,0,0,0,0,0,0,0,0,0,0,0,0,0,0,0,0,0,0,0,0,0,0,0,0,0,0,0,0,0,0,0,0,0,0,0,0,0,0,0,0,0,0,0,0,0,0,0,0,0,0,0,0,0,0,0,0,0,0,0,0,0,null,0,1,0,null,null,0]
[114,1,0,null,"Q:","Are Heavy Metals or Other Pollutants related to Mine/Industrial/Urban Waste present on the PLU?",null,"Guidance","Documentation: (e.g. field notes, client interview responses, justification)",null,1,1,1,1,1,1,1,1,null,null,null,null,null,null,null,null,1,null,null,null,null,null,null,null,null,null,null,null,null,null,null,null,null,null,null,null,null,null,null,null,null,null,null,null,null,null,null,null,null,null,null,null,null,null,null,null,null,null,1,1,null,null,null,null,null,null,null,null,null,0,0,0,0,0,0,0,0,0,0,0,0,0,0,0,0,0,0,0,0,0,0,0,0,0,0,0,0,0,0,0,0,0,0,0,0,0,0,0,0,0,0,0,0,0,0,0,0,0,0,0,0,0,0,0,0,0,0,0,0,0,0,0,0,0,0,0,0,0,null,0,1,0,null,null,0]
[114,2,0,null,null,null,"No","Will not see Conditional Question below.",null,null,1,1,1,1,1,1,1,1,null,null,null,null,null,null,null,null,1,null,null,null,null,null,null,null,null,null,null,null,null,null,null,null,null,null,null,null,null,null,null,null,null,null,null,null,null,null,null,null,null,null,null,null,null,null,null,null,null,null,1,1,null,null,null,null,null,null,null,null,null,0,0,0,0,0,0,0,0,0,0,0,0,0,0,0,0,0,0,0,0,0,0,0,0,0,0,0,0,0,0,0,0,0,0,0,0,0,0,0,0,0,0,0,0,0,0,0,0,0,0,0,0,0,0,0,0,0,0,0,0,0,0,0,0,0,0,0,0,0,null,0,1,0,null,null,0]
[114,null,0,null,null,null,"Are adequate controls or treatment in place to prevent losses of mine/industrial/urban waste to ground water? ","Guidance","Documentation: (e.g. field notes, client interview responses, justification)",null,1,1,1,1,1,1,1,1,null,null,null,null,null,null,null,null,1,null,null,null,null,null,null,null,null,null,null,null,null,null,null,null,null,null,null,null,null,null,null,null,null,null,null,null,null,null,null,null,null,null,null,null,null,null,null,null,null,null,1,1,null,null,null,null,null,null,null,null,null,0,0,0,0,0,0,0,0,0,0,0,0,0,0,0,0,0,0,0,0,0,0,0,0,0,0,0,0,0,0,0,0,0,0,0,0,0,0,0,0,0,0,0,0,0,0,0,0,0,0,0,0,0,0,0,0,0,0,0,0,0,0,0,0,0,0,0,0,0,null,0,1,0,null,null,0]
[114,4,0,null,null,null,"No",null,null,null,1,1,1,1,1,1,1,1,null,null,null,null,null,null,null,null,1,null,null,null,null,null,null,null,null,null,null,null,null,null,null,null,null,null,null,null,null,null,null,null,null,null,null,null,null,null,null,null,null,null,null,null,null,null,null,null,null,null,1,1,null,null,null,null,null,null,null,null,null,0,0,0,0,0,0,0,0,0,0,0,0,0,0,0,0,0,0,0,0,0,0,0,0,0,0,0,0,0,0,0,0,0,0,0,0,0,0,0,0,0,0,0,0,0,0,0,0,0,0,0,0,0,0,0,0,0,0,0,0,0,0,0,0,0,0,0,0,0,null,0,1,0,null,null,0]
[117,1,0,null,"Q:","Terrestrial Habitat Assessment Method",null,"Guidance","Documentation: (e.g. field notes, client interview responses, justification)",null,1,1,1,1,1,1,1,1,null,null,null,null,null,null,1,null,1,null,null,null,null,null,null,null,null,null,null,null,null,null,null,null,null,null,null,null,null,null,null,null,null,null,null,null,null,null,null,null,null,null,null,null,null,null,null,null,null,null,null,null,1,null,null,null,null,null,null,null,null,0,0,0,0,0,0,0,0,0,0,0,0,0,0,0,0,0,0,0,0,0,0,0,0,0,0,0,0,0,0,0,0,0,0,0,0,0,0,0,0,0,0,0,0,0,0,0,0,0,0,0,0,0,0,0,0,0,0,0,0,0,0,0,0,0,0,0,0,0,null,0,1,0,null,null,0]
[117,2,0,null,null,null,"Working Lands for Wildlife Guide or state-approved equivalent ","Do  Not Use in Iowa",null,null,1,1,1,1,1,1,1,1,null,null,null,null,null,null,1,null,1,null,null,null,null,null,null,null,null,null,null,null,null,null,null,null,null,null,null,null,null,null,null,null,null,null,null,null,null,null,null,null,null,null,null,null,null,null,null,null,null,null,null,null,1,null,null,null,null,null,null,null,null,0,0,0,0,0,0,0,0,0,0,0,0,0,0,0,0,0,0,0,0,0,0,0,0,0,0,0,0,0,0,0,0,0,0,0,0,0,0,0,0,0,0,0,0,0,0,0,0,0,0,0,0,0,0,0,0,0,0,0,0,0,0,0,0,0,0,0,0,0,null,0,1,0,null,null,0]
[117,4,{"$f":"IF(EV644>0,1,0)","v":0},null,null,null,"State Wildlife Guide","Go to Terrestrial Habitat Existing Condition.\n\nThe Iowa Wildlife Working Lands Habitat Evaluation will be used for CART entry. Evaluation questions are provided below. If site conditions do not match the evaluations, the site may be evaluated with the Iowa Wildlife Working Lands WHEG. ",null,null,1,1,1,1,1,1,1,1,null,null,null,null,null,null,1,null,1,null,null,null,null,null,null,null,null,null,null,null,null,null,null,null,null,null,null,null,null,null,null,null,null,null,null,null,null,null,null,null,null,null,null,null,null,null,null,null,null,null,null,null,1,null,null,null,null,null,null,null,null,{"$f":"IF(CB$5=TRUE,K644,0)","v":0},{"$f":"IF(CC$5=TRUE,L644,0)","v":0},{"$f":"IF(CD$5=TRUE,M644,0)","v":0},{"$f":"IF(CE$5=TRUE,N644,0)","v":0},{"$f":"IF(CF$5=TRUE,O644,0)","v":0},{"$f":"IF(CG$5=TRUE,P644,0)","v":0},{"$f":"IF(CH$5=TRUE,Q644,0)","v":0},{"$f":"IF(CI$5=TRUE,R644,0)","v":0},{"$f":"IF(CJ$5=TRUE,S644,0)","v":0},{"$f":"IF(CK$5=TRUE,T644,0)","v":0},{"$f":"IF(CL$5=TRUE,U644,0)","v":0},{"$f":"IF(CM$5=TRUE,V644,0)","v":0},{"$f":"IF(CN$5=TRUE,W644,0)","v":0},{"$f":"IF(CO$5=TRUE,X644,0)","v":0},{"$f":"IF(CP$5=TRUE,Y644,0)","v":0},{"$f":"IF(CQ$5=TRUE,Z644,0)","v":0},{"$f":"EZ644","v":0},{"$f":"IF(CS$5=\"TRUE\",AA644,0)","v":0},{"$f":"IF(CT$5=TRUE,AB644,0)","v":0},{"$f":"IF(CU$5=TRUE,AC644,0)","v":0},{"$f":"IF(CV$5=TRUE,AD644,0)","v":0},{"$f":"IF(CW$5=TRUE,AE644,0)","v":0},{"$f":"IF(CX$5=TRUE,AF644,0)","v":0},{"$f":"IF(CY$5=TRUE,AG644,0)","v":0},{"$f":"IF(CZ$5=TRUE,AH644,0)","v":0},{"$f":"IF(DA$5=TRUE,AI644,0)","v":0},{"$f":"IF(DB$5=TRUE,AJ644,0)","v":0},{"$f":"IF(DC$5=TRUE,AK644,0)","v":0},{"$f":"IF(DD$5=TRUE,AL644,0)","v":0},{"$f":"IF(DE$5=TRUE,AM644,0)","v":0},{"$f":"IF(DF$5=TRUE,AN644,0)","v":0},{"$f":"IF(DG$5=TRUE,AO644,0)","v":0},{"$f":"IF(DH$5=TRUE,AP644,0)","v":0},{"$f":"IF(DI$5=TRUE,AQ644,0)","v":0},{"$f":"IF(DJ$5=TRUE,AR644,0)","v":0},{"$f":"IF(DK$5=TRUE,AS644,0)","v":0},{"$f":"IF(DL$5=TRUE,AT644,0)","v":0},{"$f":"IF(DM$5=TRUE,AU644,0)","v":0},{"$f":"IF(DN$5=TRUE,AV644,0)","v":0},{"$f":"IF(DO$5=TRUE,AW644,0)","v":0},{"$f":"IF(DP$5=TRUE,AX644,0)","v":0},{"$f":"IF(DQ$5=TRUE,AY644,0)","v":0},{"$f":"IF(DR$5=TRUE,AZ644,0)","v":0},{"$f":"IF(DS$5=TRUE,BA644,0)","v":0},{"$f":"IF(DT$5=TRUE,BB644,0)","v":0},{"$f":"IF(DU$5=TRUE,BC644,0)","v":0},{"$f":"IF(DV$5=TRUE,BD644,0)","v":0},{"$f":"IF(DW$5=TRUE,BE644,0)","v":0},{"$f":"IF(DX$5=TRUE,BF644,0)","v":0},{"$f":"IF(DY$5=TRUE,BG644,0)","v":0},{"$f":"IF(DZ$5=TRUE,BH644,0)","v":0},{"$f":"IF(EA$5=TRUE,BI644,0)","v":0},{"$f":"IF(EB$5=TRUE,BJ644,0)","v":0},{"$f":"IF(EC$5=TRUE,BK644,0)","v":0},{"$f":"IF(ED$5=TRUE,BL644,0)","v":0},{"$f":"IF(EE$5=TRUE,BM644,0)","v":0},{"$f":"IF(EF$5=TRUE,BN644,0)","v":0},{"$f":"IF(EG$5=TRUE,BO644,0)","v":0},{"$f":"IF(EH$5=TRUE,BP644,0)","v":0},{"$f":"IF(EI$5=TRUE,BQ644,0)","v":0},{"$f":"IF(EJ$5=TRUE,BR644,0)","v":0},{"$f":"IF(EK$5=TRUE,BS644,0)","v":0},{"$f":"IF(EL$5=TRUE,BT644,0)","v":0},{"$f":"IF(EM$5=TRUE,BU644,0)","v":0},{"$f":"IF(EN$5=TRUE,BV644,0)","v":0},{"$f":"IF(EO$5=TRUE,BW644,0)","v":0},{"$f":"IF(EP$5=TRUE,BX644,0)","v":0},{"$f":"IF(EQ$5=TRUE,BY644,0)","v":0},{"$f":"IF(ER$5=TRUE,BZ644,0)","v":0},null,{"$f":"MAX(CB644:CQ644)","v":0},1,{"$f":"ET644*EU644*EY644","v":0},null,null,{"$f":"MAX(CR644:ER644)","v":0}]
[117,3,{"$f":"IF(EV647>0,1,0)","v":0},null,null,null,"National Land Use Assessment","Do Not Use in Iowa\nGo to Aquatic Habitat Assessment Questions by Water Feature type below",null,null,1,1,1,1,1,1,1,1,null,null,null,null,null,null,1,null,1,null,null,null,null,null,1,null,null,null,null,null,null,null,null,null,null,null,null,null,null,null,null,null,null,null,null,null,null,null,null,null,null,null,null,null,null,null,null,null,null,null,null,null,null,null,null,null,null,null,null,null,null,{"$f":"IF(CB$5=TRUE,K647,0)","v":0},{"$f":"IF(CC$5=TRUE,L647,0)","v":0},{"$f":"IF(CD$5=TRUE,M647,0)","v":0},{"$f":"IF(CE$5=TRUE,N647,0)","v":0},{"$f":"IF(CF$5=TRUE,O647,0)","v":0},{"$f":"IF(CG$5=TRUE,P647,0)","v":0},{"$f":"IF(CH$5=TRUE,Q647,0)","v":0},{"$f":"IF(CI$5=TRUE,R647,0)","v":0},{"$f":"IF(CJ$5=TRUE,S647,0)","v":0},{"$f":"IF(CK$5=TRUE,T647,0)","v":0},{"$f":"IF(CL$5=TRUE,U647,0)","v":0},{"$f":"IF(CM$5=TRUE,V647,0)","v":0},{"$f":"IF(CN$5=TRUE,W647,0)","v":0},{"$f":"IF(CO$5=TRUE,X647,0)","v":0},{"$f":"IF(CP$5=TRUE,Y647,0)","v":0},{"$f":"IF(CQ$5=TRUE,Z647,0)","v":0},{"$f":"EZ647","v":0},{"$f":"IF(CS$5=\"TRUE\",AA647,0)","v":0},{"$f":"IF(CT$5=TRUE,AB647,0)","v":0},{"$f":"IF(CU$5=TRUE,AC647,0)","v":0},{"$f":"IF(CV$5=TRUE,AD647,0)","v":0},{"$f":"IF(CW$5=TRUE,AE647,0)","v":0},{"$f":"IF(CX$5=TRUE,AF647,0)","v":0},{"$f":"IF(CY$5=TRUE,AG647,0)","v":0},{"$f":"IF(CZ$5=TRUE,AH647,0)","v":0},{"$f":"IF(DA$5=TRUE,AI647,0)","v":0},{"$f":"IF(DB$5=TRUE,AJ647,0)","v":0},{"$f":"IF(DC$5=TRUE,AK647,0)","v":0},{"$f":"IF(DD$5=TRUE,AL647,0)","v":0},{"$f":"IF(DE$5=TRUE,AM647,0)","v":0},{"$f":"IF(DF$5=TRUE,AN647,0)","v":0},{"$f":"IF(DG$5=TRUE,AO647,0)","v":0},{"$f":"IF(DH$5=TRUE,AP647,0)","v":0},{"$f":"IF(DI$5=TRUE,AQ647,0)","v":0},{"$f":"IF(DJ$5=TRUE,AR647,0)","v":0},{"$f":"IF(DK$5=TRUE,AS647,0)","v":0},{"$f":"IF(DL$5=TRUE,AT647,0)","v":0},{"$f":"IF(DM$5=TRUE,AU647,0)","v":0},{"$f":"IF(DN$5=TRUE,AV647,0)","v":0},{"$f":"IF(DO$5=TRUE,AW647,0)","v":0},{"$f":"IF(DP$5=TRUE,AX647,0)","v":0},{"$f":"IF(DQ$5=TRUE,AY647,0)","v":0},{"$f":"IF(DR$5=TRUE,AZ647,0)","v":0},{"$f":"IF(DS$5=TRUE,BA647,0)","v":0},{"$f":"IF(DT$5=TRUE,BB647,0)","v":0},{"$f":"IF(DU$5=TRUE,BC647,0)","v":0},{"$f":"IF(DV$5=TRUE,BD647,0)","v":0},{"$f":"IF(DW$5=TRUE,BE647,0)","v":0},{"$f":"IF(DX$5=TRUE,BF647,0)","v":0},{"$f":"IF(DY$5=TRUE,BG647,0)","v":0},{"$f":"IF(DZ$5=TRUE,BH647,0)","v":0},{"$f":"IF(EA$5=TRUE,BI647,0)","v":0},{"$f":"IF(EB$5=TRUE,BJ647,0)","v":0},{"$f":"IF(EC$5=TRUE,BK647,0)","v":0},{"$f":"IF(ED$5=TRUE,BL647,0)","v":0},{"$f":"IF(EE$5=TRUE,BM647,0)","v":0},{"$f":"IF(EF$5=TRUE,BN647,0)","v":0},{"$f":"IF(EG$5=TRUE,BO647,0)","v":0},{"$f":"IF(EH$5=TRUE,BP647,0)","v":0},{"$f":"IF(EI$5=TRUE,BQ647,0)","v":0},{"$f":"IF(EJ$5=TRUE,BR647,0)","v":0},{"$f":"IF(EK$5=TRUE,BS647,0)","v":0},{"$f":"IF(EL$5=TRUE,BT647,0)","v":0},{"$f":"IF(EM$5=TRUE,BU647,0)","v":0},{"$f":"IF(EN$5=TRUE,BV647,0)","v":0},{"$f":"IF(EO$5=TRUE,BW647,0)","v":0},{"$f":"IF(EP$5=TRUE,BX647,0)","v":0},{"$f":"IF(EQ$5=TRUE,BY647,0)","v":0},{"$f":"IF(ER$5=TRUE,BZ647,0)","v":0},null,{"$f":"MAX(CB647:CQ647)","v":0},1,{"$f":"ET647*EU647*EY647","v":0},null,null,{"$f":"MAX(CR647:ER647)","v":0}]
[118,6,{"$f":"IF(EV650>0,1,0)","v":0},null,null,null," Absent","Habitat for the priority species is absent or of such low quality to be effectively absent.",null,null,1,1,1,1,1,1,1,1,null,null,null,null,null,null,null,null,1,null,null,null,null,null,null,null,null,null,null,null,null,null,null,null,null,null,null,null,null,null,null,null,null,null,null,null,null,null,null,null,null,null,null,null,null,null,null,null,null,null,null,null,1,null,null,null,null,null,null,null,null,{"$f":"IF(CB$5=TRUE,K650,0)","v":0},0,0,0,0,0,0,0,0,0,0,0,0,0,0,0,{"$f":"EZ650","v":0},{"$f":"IF(CS$5=\"TRUE\",AA650,0)","v":0},{"$f":"IF(CT$5=TRUE,AB650,0)","v":0},0,0,0,0,0,0,0,0,0,0,0,0,0,0,0,0,0,0,0,0,0,0,0,0,0,0,0,0,0,0,0,0,0,0,0,0,0,0,0,0,0,0,0,0,0,0,0,0,0,0,null,{"$f":"MAX(CB650:CQ650)","v":0},1,{"$f":"ET650*EU650*EY650","v":0},null,null,{"$f":"MAX(CR650:ER650)","v":0}]
[118,3,0,null,null,null," Good","Iowa Wildlife Working Lands WHEG range 0.5 to <0.7",null,null,1,1,1,1,1,1,1,1,null,null,null,null,null,null,null,null,1,null,null,null,null,null,null,null,null,null,null,null,null,null,null,null,null,null,null,null,null,null,null,null,null,null,null,null,null,null,null,null,null,null,null,null,null,null,null,null,null,null,null,null,1,null,null,null,null,null,null,null,null,0,0,0,0,0,0,0,0,0,0,0,0,0,0,0,0,0,0,0,0,0,0,0,0,0,0,0,0,0,0,0,0,0,0,0,0,0,0,0,0,0,0,0,0,0,0,0,0,0,0,0,0,0,0,0,0,0,0,0,0,0,0,0,0,0,0,0,0,0,null,0,1,0,null,null,0]
[119,2,0,null,null,null," Absent","Habitat for the priority species is absent or of such low quality to be effectively absent.",null,null,1,1,1,1,1,1,1,1,null,null,null,null,null,null,null,null,1,null,null,null,null,null,1,null,null,null,null,null,null,null,null,null,null,null,null,null,null,null,null,null,null,null,null,null,null,null,null,null,null,null,null,null,null,null,null,null,null,null,null,null,null,null,null,null,null,null,null,null,null,0,0,0,0,0,0,0,0,0,0,0,0,0,0,0,0,0,0,0,0,0,0,0,0,0,0,0,0,0,0,0,0,0,0,0,0,0,0,0,0,0,0,0,0,0,0,0,0,0,0,0,0,0,0,0,0,0,0,0,0,0,0,0,0,0,0,0,0,0,null,0,1,0,null,null,0]
[119,3,0,null,null,null," Good","Habitat quality is defined as good for the priority species. (SVAP2 7-8.9, WHEG range 0.5 to <0.7, or other State approved assessment)",null,null,1,1,1,1,1,1,1,1,null,null,null,null,null,null,null,null,1,null,null,null,null,null,1,null,null,null,null,null,null,null,null,null,null,null,null,null,null,null,null,null,null,null,null,null,null,null,null,null,null,null,null,null,null,null,null,null,null,null,null,null,null,null,null,null,null,null,null,null,null,{"$f":"IF(CB$5=TRUE,K657,0)","v":0},{"$f":"IF(CC$5=TRUE,L657,0)","v":0},{"$f":"IF(CD$5=TRUE,M657,0)","v":0},{"$f":"IF(CE$5=TRUE,N657,0)","v":0},{"$f":"IF(CF$5=TRUE,O657,0)","v":0},{"$f":"IF(CG$5=TRUE,P657,0)","v":0},{"$f":"IF(CH$5=TRUE,Q657,0)","v":0},{"$f":"IF(CI$5=TRUE,R657,0)","v":0},{"$f":"IF(CJ$5=TRUE,S657,0)","v":0},{"$f":"IF(CK$5=TRUE,T657,0)","v":0},{"$f":"IF(CL$5=TRUE,U657,0)","v":0},{"$f":"IF(CM$5=TRUE,V657,0)","v":0},{"$f":"IF(CN$5=TRUE,W657,0)","v":0},{"$f":"IF(CO$5=TRUE,X657,0)","v":0},{"$f":"IF(CP$5=TRUE,Y657,0)","v":0},{"$f":"IF(CQ$5=TRUE,Z657,0)","v":0},0,0,0,0,0,0,0,0,0,0,0,0,0,0,0,0,0,0,0,0,0,0,0,0,0,0,0,0,0,0,0,0,0,0,0,0,0,0,0,0,0,0,0,0,0,0,0,0,0,0,0,0,0,null,{"$f":"MAX(CB657:CQ657)","v":0},1,0,null,null,0]
[120,1,5,null,"Coastal",null,null,null,null,null,null,null,null,null,null,null,null,null,null,null,null,null,null,null,1,null,1,null,null,null,null,null,1,null,null,null,null,null,null,null,null,null,null,null,null,null,null,null,null,null,null,null,null,null,null,null,null,null,null,null,null,null,null,null,null,null,null,null,null,null,null,null,null,null,null,null,null,null,null,{"$f":"IF(CB$5=TRUE,K661,0)","v":0},{"$f":"IF(CC$5=TRUE,L661,0)","v":0},{"$f":"IF(CD$5=TRUE,M661,0)","v":0},{"$f":"IF(CE$5=TRUE,N661,0)","v":0},{"$f":"IF(CF$5=TRUE,O661,0)","v":0},{"$f":"IF(CG$5=TRUE,P661,0)","v":0},{"$f":"IF(CH$5=TRUE,Q661,0)","v":0},{"$f":"IF(CI$5=TRUE,R661,0)","v":0},{"$f":"IF(CJ$5=TRUE,S661,0)","v":0},{"$f":"IF(CK$5=TRUE,T661,0)","v":0},{"$f":"IF(CL$5=TRUE,U661,0)","v":0},{"$f":"IF(CM$5=TRUE,V661,0)","v":0},{"$f":"IF(CN$5=TRUE,W661,0)","v":0},{"$f":"IF(CO$5=TRUE,X661,0)","v":0},{"$f":"IF(CP$5=TRUE,Y661,0)","v":0},{"$f":"IF(CQ$5=TRUE,Z661,0)","v":0},{"$f":"EZ661","v":0},{"$f":"IF(CS$5=\"TRUE\",AA661,0)","v":0},{"$f":"IF(CT$5=TRUE,AB661,0)","v":0},{"$f":"IF(CU$5=TRUE,AC661,0)","v":0},{"$f":"IF(CV$5=TRUE,AD661,0)","v":0},{"$f":"IF(CW$5=TRUE,AE661,0)","v":0},{"$f":"IF(CX$5=TRUE,AF661,0)","v":0},{"$f":"IF(CY$5=TRUE,AG661,0)","v":0},{"$f":"IF(CZ$5=TRUE,AH661,0)","v":0},{"$f":"IF(DA$5=TRUE,AI661,0)","v":0},{"$f":"IF(DB$5=TRUE,AJ661,0)","v":0},{"$f":"IF(DC$5=TRUE,AK661,0)","v":0},{"$f":"IF(DD$5=TRUE,AL661,0)","v":0},{"$f":"IF(DE$5=TRUE,AM661,0)","v":0},{"$f":"IF(DF$5=TRUE,AN661,0)","v":0},{"$f":"IF(DG$5=TRUE,AO661,0)","v":0},{"$f":"IF(DH$5=TRUE,AP661,0)","v":0},{"$f":"IF(DI$5=TRUE,AQ661,0)","v":0},{"$f":"IF(DJ$5=TRUE,AR661,0)","v":0},{"$f":"IF(DK$5=TRUE,AS661,0)","v":0},{"$f":"IF(DL$5=TRUE,AT661,0)","v":0},{"$f":"IF(DM$5=TRUE,AU661,0)","v":0},{"$f":"IF(DN$5=TRUE,AV661,0)","v":0},{"$f":"IF(DO$5=TRUE,AW661,0)","v":0},{"$f":"IF(DP$5=TRUE,AX661,0)","v":0},{"$f":"IF(DQ$5=TRUE,AY661,0)","v":0},{"$f":"IF(DR$5=TRUE,AZ661,0)","v":0},{"$f":"IF(DS$5=TRUE,BA661,0)","v":0},{"$f":"IF(DT$5=TRUE,BB661,0)","v":0},{"$f":"IF(DU$5=TRUE,BC661,0)","v":0},{"$f":"IF(DV$5=TRUE,BD661,0)","v":0},{"$f":"IF(DW$5=TRUE,BE661,0)","v":0},{"$f":"IF(DX$5=TRUE,BF661,0)","v":0},{"$f":"IF(DY$5=TRUE,BG661,0)","v":0},{"$f":"IF(DZ$5=TRUE,BH661,0)","v":0},{"$f":"IF(EA$5=TRUE,BI661,0)","v":0},{"$f":"IF(EB$5=TRUE,BJ661,0)","v":0},{"$f":"IF(EC$5=TRUE,BK661,0)","v":0},{"$f":"IF(ED$5=TRUE,BL661,0)","v":0},{"$f":"IF(EE$5=TRUE,BM661,0)","v":0},{"$f":"IF(EF$5=TRUE,BN661,0)","v":0},{"$f":"IF(EG$5=TRUE,BO661,0)","v":0},{"$f":"IF(EH$5=TRUE,BP661,0)","v":0},{"$f":"IF(EI$5=TRUE,BQ661,0)","v":0},{"$f":"IF(EJ$5=TRUE,BR661,0)","v":0},{"$f":"IF(EK$5=TRUE,BS661,0)","v":0},{"$f":"IF(EL$5=TRUE,BT661,0)","v":0},{"$f":"IF(EM$5=TRUE,BU661,0)","v":0},{"$f":"IF(EN$5=TRUE,BV661,0)","v":0},{"$f":"IF(EO$5=TRUE,BW661,0)","v":0},{"$f":"IF(EP$5=TRUE,BX661,0)","v":0},{"$f":"IF(EQ$5=TRUE,BY661,0)","v":0},{"$f":"IF(ER$5=TRUE,BZ661,0)","v":0},null,{"$f":"MAX(CB661:CQ661)","v":0},1,{"$f":"ET661*EU661*EY661","v":0},null,{"$f":"CP661*CN661","v":0},{"$f":"MAX(CR661:ER661)","v":0}]
[120,2,5,null,null,"Q:","Return to the Wildlife survey group, question Aquatic Habitat Assessment Method to select either 1) Working Lands for Wildlife Guide, or 2) State Wildlife Guide.","Guidance","Additional Guidance","List PLU's",null,null,null,null,null,null,null,null,null,null,null,null,null,null,1,null,1,null,null,null,null,null,1,null,null,null,null,null,null,null,null,null,null,null,null,null,null,null,null,null,null,null,null,null,null,null,null,null,null,null,null,null,null,null,null,null,null,null,null,null,null,null,null,null,null,null,null,null,null,0,0,0,0,0,0,0,0,0,0,0,0,0,0,0,0,0,0,0,0,0,0,0,0,0,0,0,0,0,0,0,0,0,0,0,0,0,0,0,0,0,0,0,0,0,0,0,0,0,0,0,0,0,0,0,0,0,0,0,0,0,0,0,0,0,0,0,0,0,null,0,1,0,null,0,0]
[120,1,5,null,"Lake/Pond",null,null,null,null,null,null,null,null,null,null,null,null,null,null,null,null,null,null,null,1,null,1,null,null,null,null,null,1,null,null,null,null,null,null,null,null,null,null,null,null,null,null,null,null,null,null,null,null,null,null,null,null,null,null,null,null,null,null,null,null,null,null,null,null,null,null,null,null,null,null,null,null,null,null,0,0,0,0,0,0,0,0,0,0,0,0,0,0,0,0,0,0,0,0,0,0,0,0,0,0,0,0,0,0,0,0,0,0,0,0,0,0,0,0,0,0,0,0,0,0,0,0,0,0,0,0,0,0,0,0,0,0,0,0,0,0,0,0,0,0,0,0,0,null,0,1,0,null,{"$f":"CP664*CN664","v":0},0]
[120,4,5,null,null,null,"No ",null,"N/A in Iowa",null,null,null,null,null,null,null,null,null,null,null,null,null,null,null,1,null,1,null,null,null,null,null,1,null,null,null,null,null,null,null,null,null,null,null,null,null,null,null,null,null,null,null,null,null,null,null,null,null,null,null,null,null,null,null,null,null,null,null,null,null,null,null,null,null,null,null,null,null,null,0,0,0,0,0,0,0,0,0,0,0,0,0,0,0,0,0,0,0,0,0,0,0,0,0,0,0,0,0,0,0,0,0,0,0,0,0,0,0,0,0,0,0,0,0,0,0,0,0,0,0,0,0,0,0,0,0,0,0,0,0,0,0,0,0,0,0,0,0,null,0,1,0,null,0,0]
[120,4,5,null,null,null,"No ",null,"N/A in Iowa",null,null,null,null,null,null,null,null,null,null,null,null,null,null,null,1,null,1,null,null,null,null,null,1,null,null,null,null,null,null,null,null,null,null,null,null,null,null,null,null,null,null,null,null,null,null,null,null,null,null,null,null,null,null,null,null,null,null,null,null,null,null,null,null,null,null,null,null,null,null,0,0,0,0,0,0,0,0,0,0,0,0,0,0,0,0,0,0,0,0,0,0,0,0,0,0,0,0,0,0,0,0,0,0,0,0,0,0,0,0,0,0,0,0,0,0,0,0,0,0,0,0,0,0,0,0,0,0,0,0,0,0,0,0,0,0,0,0,0,null,0,1,0,null,0,0]
[120,4,5,null,null,null,"No ",null,"N/A in Iowa",null,null,null,null,null,null,null,null,null,null,null,null,null,null,null,1,null,1,null,null,null,null,null,1,null,null,null,null,null,null,null,null,null,null,null,null,null,null,null,null,null,null,null,null,null,null,null,null,null,null,null,null,null,null,null,null,null,null,null,null,null,null,null,null,null,null,null,null,null,null,0,0,0,0,0,0,0,0,0,0,0,0,0,0,0,0,0,0,0,0,0,0,0,0,0,0,0,0,0,0,0,0,0,0,0,0,0,0,0,0,0,0,0,0,0,0,0,0,0,0,0,0,0,0,0,0,0,0,0,0,0,0,0,0,0,0,0,0,0,null,0,1,0,null,0,0]
[120,4,5,null,null,null,"  Less than 10 percent but less than or equal to 50 percent of the perimeter of the lake or pond that is suitable for plant growth consists of at least a 33 foot wide zone of native or natural vegetation.",null,"N/A in Iowa",null,null,null,null,null,null,null,null,null,null,null,null,null,null,null,1,null,1,null,null,null,null,null,1,null,null,null,null,null,null,null,null,null,null,null,null,null,null,null,null,null,null,null,null,null,null,null,null,null,null,null,null,null,null,null,null,null,null,null,null,null,null,null,null,null,null,null,null,null,null,0,0,0,0,0,0,0,0,0,0,0,0,0,0,0,0,0,0,0,0,0,0,0,0,0,0,0,0,0,0,0,0,0,0,0,0,0,0,0,0,0,0,0,0,0,0,0,0,0,0,0,0,0,0,0,0,0,0,0,0,0,0,0,0,0,0,0,0,0,null,0,1,0,null,0,0]
[120,7,5,null,null,"Q:","What is the quality of the riparian zone","Guidance","Additional Guidance","List PLU's",null,null,null,null,null,null,null,null,null,null,null,null,null,null,1,null,1,null,null,null,null,null,1,null,null,null,null,null,null,null,null,null,null,null,null,null,null,null,null,null,null,null,null,null,null,null,null,null,null,null,null,null,null,null,null,null,null,null,null,null,null,null,null,null,null,null,null,null,null,0,0,0,0,0,0,0,0,0,0,0,0,0,0,0,0,0,0,0,0,0,0,0,0,0,0,0,0,0,0,0,0,0,0,0,0,0,0,0,0,0,0,0,0,0,0,0,0,0,0,0,0,0,0,0,0,0,0,0,0,0,0,0,0,0,0,0,0,0,null,0,1,0,null,0,0]
[120,9,5,null,null,null," Natural vegetation present, but compromised by poor management; evidence of concentrated flows; invasive species common typically greater than 40 percent.",null,"N/A in Iowa",null,null,null,null,null,null,null,null,null,null,null,null,null,null,null,1,null,1,null,null,null,null,null,1,null,null,null,null,null,null,null,null,null,null,null,null,null,null,null,null,null,null,null,null,null,null,null,null,null,null,null,null,null,null,null,null,null,null,null,null,null,null,null,null,null,null,null,null,null,null,0,0,0,0,0,0,0,0,0,0,0,0,0,0,0,0,0,0,0,0,0,0,0,0,0,0,0,0,0,0,0,0,0,0,0,0,0,0,0,0,0,0,0,0,0,0,0,0,0,0,0,0,0,0,0,0,0,0,0,0,0,0,0,0,0,0,0,0,0,null,0,1,0,null,0,0]
[120,10,5,null,null,null," Natural and diverse riparian vegetation with composition, density, and age structure appropriate for the site, invasive species present but controlled, no concentrated flows.",null,"N/A in Iowa",null,null,null,null,null,null,null,null,null,null,null,null,null,null,null,1,null,1,null,null,null,null,null,1,null,null,null,null,null,null,null,null,null,null,null,null,null,null,null,null,null,null,null,null,null,null,null,null,null,null,null,null,null,null,null,null,null,null,null,null,null,null,null,null,null,null,null,null,null,null,0,0,0,0,0,0,0,0,0,0,0,0,0,0,0,0,0,0,0,0,0,0,0,0,0,0,0,0,0,0,0,0,0,0,0,0,0,0,0,0,0,0,0,0,0,0,0,0,0,0,0,0,0,0,0,0,0,0,0,0,0,0,0,0,0,0,0,0,0,null,0,1,0,null,0,0]
[120,14,5,null,null,null," Yes","If Yes, skip remaining River questions.","N/A in Iowa",null,null,null,null,null,null,null,null,null,null,null,null,null,null,null,1,null,1,null,null,null,null,null,1,null,null,null,null,null,null,null,null,null,null,null,null,null,null,null,null,null,null,null,null,null,null,null,null,null,null,null,null,null,null,null,null,null,null,null,null,null,null,null,null,null,null,null,null,null,null,0,0,0,0,0,0,0,0,0,0,0,0,0,0,0,0,0,0,0,0,0,0,0,0,0,0,0,0,0,0,0,0,0,0,0,0,0,0,0,0,0,0,0,0,0,0,0,0,0,0,0,0,0,0,0,0,0,0,0,0,0,0,0,0,0,0,0,0,0,null,0,1,0,null,0,0]
[120,16,5,null,null,"Q:","Is the lack of water quantity or quality caused by offsite conditions?","Guidance","Additional Guidance","List PLU's",null,null,null,null,null,null,null,null,null,null,null,null,null,null,1,null,1,null,null,null,null,null,1,null,null,null,null,null,null,null,null,null,null,null,null,null,null,null,null,null,null,null,null,null,null,null,null,null,null,null,null,null,null,null,null,null,null,null,null,null,null,null,null,null,null,null,null,null,null,0,0,0,0,0,0,0,0,0,0,0,0,0,0,0,0,0,0,0,0,0,0,0,0,0,0,0,0,0,0,0,0,0,0,0,0,0,0,0,0,0,0,0,0,0,0,0,0,0,0,0,0,0,0,0,0,0,0,0,0,0,0,0,0,0,0,0,0,0,null,0,1,0,null,0,0]
[120,19,5,null,null,"Q:","Are there physical structures, water withdrawals, water quality, or some combination of these that restricts or prohibits movement of aquatic species??","Guidance","Additional Guidance","List PLU's",null,null,null,null,null,null,null,null,null,null,null,null,null,null,1,null,1,null,null,null,null,null,1,null,null,null,null,null,null,null,null,null,null,null,null,null,null,null,null,null,null,null,null,null,null,null,null,null,null,null,null,null,null,null,null,null,null,null,null,null,null,null,null,null,null,null,null,null,null,0,0,0,0,0,0,0,0,0,0,0,0,0,0,0,0,0,0,0,0,0,0,0,0,0,0,0,0,0,0,0,0,0,0,0,0,0,0,0,0,0,0,0,0,0,0,0,0,0,0,0,0,0,0,0,0,0,0,0,0,0,0,0,0,0,0,0,0,0,null,0,1,0,null,0,0]
[120,21,5,null,null,null," No",null,"N/A in Iowa",null,null,null,null,null,null,null,null,null,null,null,null,null,null,null,1,null,1,null,null,null,null,null,1,null,null,null,null,null,null,null,null,null,null,null,null,null,null,null,null,null,null,null,null,null,null,null,null,null,null,null,null,null,null,null,null,null,null,null,null,null,null,null,null,null,null,null,null,null,null,0,0,0,0,0,0,0,0,0,0,0,0,0,0,0,0,0,{"$f":"IF(CS$5=\"TRUE\",AA693,0)","v":0},{"$f":"IF(CT$5=TRUE,AB693,0)","v":0},{"$f":"IF(CU$5=TRUE,AC693,0)","v":0},{"$f":"IF(CV$5=TRUE,AD693,0)","v":0},{"$f":"IF(CW$5=TRUE,AE693,0)","v":0},{"$f":"IF(CX$5=TRUE,AF693,0)","v":0},{"$f":"IF(CY$5=TRUE,AG693,0)","v":0},{"$f":"IF(CZ$5=TRUE,AH693,0)","v":0},{"$f":"IF(DA$5=TRUE,AI693,0)","v":0},{"$f":"IF(DB$5=TRUE,AJ693,0)","v":0},{"$f":"IF(DC$5=TRUE,AK693,0)","v":0},{"$f":"IF(DD$5=TRUE,AL693,0)","v":0},{"$f":"IF(DE$5=TRUE,AM693,0)","v":0},{"$f":"IF(DF$5=TRUE,AN693,0)","v":0},{"$f":"IF(DG$5=TRUE,AO693,0)","v":0},{"$f":"IF(DH$5=TRUE,AP693,0)","v":0},{"$f":"IF(DI$5=TRUE,AQ693,0)","v":0},{"$f":"IF(DJ$5=TRUE,AR693,0)","v":0},{"$f":"IF(DK$5=TRUE,AS693,0)","v":0},{"$f":"IF(DL$5=TRUE,AT693,0)","v":0},{"$f":"IF(DM$5=TRUE,AU693,0)","v":0},{"$f":"IF(DN$5=TRUE,AV693,0)","v":0},{"$f":"IF(DO$5=TRUE,AW693,0)","v":0},{"$f":"IF(DP$5=TRUE,AX693,0)","v":0},{"$f":"IF(DQ$5=TRUE,AY693,0)","v":0},{"$f":"IF(DR$5=TRUE,AZ693,0)","v":0},{"$f":"IF(DS$5=TRUE,BA693,0)","v":0},{"$f":"IF(DT$5=TRUE,BB693,0)","v":0},{"$f":"IF(DU$5=TRUE,BC693,0)","v":0},{"$f":"IF(DV$5=TRUE,BD693,0)","v":0},{"$f":"IF(DW$5=TRUE,BE693,0)","v":0},{"$f":"IF(DX$5=TRUE,BF693,0)","v":0},{"$f":"IF(DY$5=TRUE,BG693,0)","v":0},{"$f":"IF(DZ$5=TRUE,BH693,0)","v":0},{"$f":"IF(EA$5=TRUE,BI693,0)","v":0},{"$f":"IF(EB$5=TRUE,BJ693,0)","v":0},{"$f":"IF(EC$5=TRUE,BK693,0)","v":0},{"$f":"IF(ED$5=TRUE,BL693,0)","v":0},{"$f":"IF(EE$5=TRUE,BM693,0)","v":0},{"$f":"IF(EF$5=TRUE,BN693,0)","v":0},{"$f":"IF(EG$5=TRUE,BO693,0)","v":0},{"$f":"IF(EH$5=TRUE,BP693,0)","v":0},{"$f":"IF(EI$5=TRUE,BQ693,0)","v":0},{"$f":"IF(EJ$5=TRUE,BR693,0)","v":0},{"$f":"IF(EK$5=TRUE,BS693,0)","v":0},{"$f":"IF(EL$5=TRUE,BT693,0)","v":0},{"$f":"IF(EM$5=TRUE,BU693,0)","v":0},{"$f":"IF(EN$5=TRUE,BV693,0)","v":0},{"$f":"IF(EO$5=TRUE,BW693,0)","v":0},{"$f":"IF(EP$5=TRUE,BX693,0)","v":0},{"$f":"IF(EQ$5=TRUE,BY693,0)","v":0},{"$f":"IF(ER$5=TRUE,BZ693,0)","v":0},null,0,1,{"$f":"ET693*EU693*EY693","v":0},null,0,0]
[120,24,5,null,null,null," No",null,"N/A in Iowa",null,null,null,null,null,null,null,null,null,null,null,null,null,null,null,1,null,1,null,null,null,null,null,1,null,null,null,null,null,null,null,null,null,null,null,null,null,null,null,null,null,null,null,null,null,null,null,null,null,null,null,null,null,null,null,null,null,null,null,null,null,null,null,null,null,null,null,null,null,null,0,0,0,0,0,0,0,0,0,0,0,0,0,0,0,0,0,0,0,0,0,0,0,0,0,0,0,0,0,0,0,0,0,0,0,0,0,0,0,0,0,0,0,0,0,0,0,0,0,0,0,0,0,0,0,0,0,0,0,0,0,0,0,0,0,0,0,0,0,null,0,1,0,null,0,0]
[120,27,5,null,null,null," No",null,"N/A in Iowa",null,null,null,null,null,null,null,null,null,null,null,null,null,null,null,1,null,1,null,null,null,null,null,1,null,null,null,null,null,null,null,null,null,null,null,null,null,null,null,null,null,null,null,null,null,null,null,null,null,null,null,null,null,null,null,null,null,null,null,null,null,null,null,null,null,null,null,null,null,null,0,0,0,0,0,0,0,0,0,0,0,0,0,0,0,0,0,0,0,0,0,0,0,0,0,0,0,0,0,0,0,0,0,0,0,0,0,0,0,0,0,0,0,0,0,0,0,0,0,0,0,0,0,0,0,0,0,0,0,0,0,0,0,0,0,0,0,0,0,null,0,1,0,null,0,0]
[120,29,5,null,null,null," Yes",null,"N/A in Iowa",null,null,null,null,null,null,null,null,null,null,null,null,null,null,null,1,null,1,null,null,null,null,null,1,null,null,null,null,null,null,null,null,null,null,null,null,null,null,null,null,null,null,null,null,null,null,null,null,null,null,null,null,null,null,null,null,null,null,null,null,null,null,null,null,null,null,null,null,null,null,0,0,0,0,0,0,0,0,0,0,0,0,0,0,0,0,0,0,0,0,0,0,0,0,0,0,0,0,0,0,0,0,0,0,0,0,0,0,0,0,0,0,0,0,0,0,0,0,0,0,0,0,0,0,0,0,0,0,0,0,0,0,0,0,0,0,0,0,0,null,0,1,0,null,0,0]
[120,30,5,null,null,null," No",null,"N/A in Iowa",null,null,null,null,null,null,null,null,null,null,null,null,null,null,null,1,null,1,null,null,null,null,null,1,null,null,null,null,null,null,null,null,null,null,null,null,null,null,null,null,null,null,null,null,null,null,null,null,null,null,null,null,null,null,null,null,null,null,null,null,null,null,null,null,null,null,null,null,null,null,0,0,0,0,0,0,0,0,0,0,0,0,0,0,0,0,0,0,0,0,0,0,0,0,0,0,0,0,0,0,0,0,0,0,0,0,0,0,0,0,0,0,0,0,0,0,0,0,0,0,0,0,0,0,0,0,0,0,0,0,0,0,0,0,0,0,0,0,0,null,0,1,0,null,0,0]
[120,34,5,null,null,null," No",null,"N/A in Iowa",null,null,null,null,null,null,null,null,null,null,null,null,null,null,null,1,null,1,null,null,null,null,null,1,null,null,null,null,null,null,null,null,null,null,null,null,null,null,null,null,null,null,null,null,null,null,null,null,null,null,null,null,null,null,null,null,null,null,null,null,null,null,null,null,null,null,null,null,null,null,0,0,0,0,0,0,0,0,0,0,0,0,0,0,0,0,0,0,0,0,0,0,0,0,0,0,0,0,0,0,0,0,0,0,0,0,0,0,0,0,0,0,0,0,0,0,0,0,0,0,0,0,0,0,0,0,0,0,0,0,0,0,0,0,0,0,0,0,0,null,0,1,0,null,0,0]
[120,36,5,null,null,null," Yes","If Yes, skip remaining Stream Questions.","N/A in Iowa",null,null,null,null,null,null,null,null,null,null,null,null,null,null,null,1,null,1,null,null,null,null,null,1,null,null,null,null,null,null,null,null,null,null,null,null,null,null,null,null,null,null,null,null,null,null,null,null,null,null,null,null,null,null,null,null,null,null,null,null,null,null,null,null,null,null,null,null,null,null,0,0,0,0,0,0,0,0,0,0,0,0,0,0,0,0,0,0,0,0,0,0,0,0,0,0,0,0,0,0,0,0,0,0,0,0,0,0,0,0,0,0,0,0,0,0,0,0,0,0,0,0,0,0,0,0,0,0,0,0,0,0,0,0,0,0,0,0,0,null,0,1,0,null,0,0]
[120,39,5,null,null,null," Yes",null,"N/A in Iowa",null,null,null,null,null,null,null,null,null,null,null,null,null,null,null,1,null,1,null,null,null,null,null,1,null,null,null,null,null,null,null,null,null,null,null,null,null,null,null,null,null,null,null,null,null,null,null,null,null,null,null,null,null,null,null,null,null,null,null,null,null,null,null,null,null,null,null,null,null,null,0,0,0,0,0,0,0,0,0,0,0,0,0,0,0,0,0,0,0,0,0,0,0,0,0,0,0,0,0,0,0,0,0,0,0,0,0,0,0,0,0,0,0,0,0,0,0,0,0,0,0,0,0,0,0,0,0,0,0,0,0,0,0,0,0,0,0,0,0,null,0,1,0,null,0,0]
[120,41,5,null,null,"Q:","Are there physical structures, water withdrawals, water quality, or some combination of these within landowner control that restricts or prohibits movement of aquatic species?","Guidance","Additional Guidance","List PLU's",null,null,null,null,null,null,null,null,null,null,null,null,null,null,1,null,1,null,null,null,null,null,1,null,null,null,null,null,null,null,null,null,null,null,null,null,null,null,null,null,null,null,null,null,null,null,null,null,null,null,null,null,null,null,null,null,null,null,null,null,null,null,null,null,null,null,null,null,null,0,0,0,0,0,0,0,0,0,0,0,0,0,0,0,0,0,0,0,0,0,0,0,0,0,0,0,0,0,0,0,0,0,0,0,0,0,0,0,0,0,0,0,0,0,0,0,0,0,0,0,0,0,0,0,0,0,0,0,0,0,0,0,0,0,0,0,0,0,null,0,1,0,null,0,0]
[120,44,5,null,null,"Q:","Section 303(d) listing of Clean Water Act for Temperature is caused by onsite conditions?","Guidance","Additional Guidance","List PLU's",null,null,null,null,null,null,null,null,null,null,null,null,null,null,1,null,1,null,null,null,null,null,1,null,null,null,null,null,null,null,null,null,null,null,null,null,null,null,null,null,null,null,null,null,null,null,null,null,null,null,null,null,null,null,null,null,null,null,null,null,null,null,null,null,null,null,null,null,null,0,0,0,0,0,0,0,0,0,0,0,0,0,0,0,0,0,0,0,0,0,0,0,0,0,0,0,0,0,0,0,0,0,0,0,0,0,0,0,0,0,0,0,0,0,0,0,0,0,0,0,0,0,0,0,0,0,0,0,0,0,0,0,0,0,0,0,0,0,null,0,1,0,null,0,0]
[120,47,5,null,null,"Q:","Is natural and diverse riparian vegetation that extends at least one bankfull width onto the floodplain, with vegetation gaps not exceeding 10% of the property length present??","Guidance","Additional Guidance","List PLU's",null,null,null,null,null,null,null,null,null,null,null,null,null,null,1,null,1,null,null,null,null,null,1,null,null,null,null,null,null,null,null,null,null,null,null,null,null,null,null,null,null,null,null,null,null,null,null,null,null,null,null,null,null,null,null,null,null,null,null,null,null,null,null,null,null,null,null,null,null,0,0,0,0,0,0,0,0,0,0,0,0,0,0,0,0,0,0,0,0,0,0,0,0,0,0,0,0,0,0,0,0,0,0,0,0,0,0,0,0,0,0,0,0,0,0,0,0,0,0,0,0,0,0,0,0,0,0,0,0,0,0,0,0,0,0,0,0,0,null,0,1,0,null,0,0]
[120,49,5,null,null,null," No",null,"N/A in Iowa",null,null,null,null,null,null,null,null,null,null,null,null,null,null,null,1,null,1,null,null,null,null,null,1,null,null,null,null,null,null,null,null,null,null,null,null,null,null,null,null,null,null,null,null,null,null,null,null,null,null,null,null,null,null,null,null,null,null,null,null,null,null,null,null,null,null,null,null,null,null,0,0,0,0,0,0,0,0,0,0,0,0,0,0,0,0,0,0,0,0,0,0,0,0,0,0,0,0,0,0,0,0,0,0,0,0,0,0,0,0,0,0,0,0,0,0,0,0,0,0,0,0,0,0,0,0,0,0,0,0,0,0,0,0,0,0,0,0,0,null,0,1,0,null,0,0]
[120,50,5,null,null,"Q:","Is greater than or equal to 50% of water surface shaded within the length of the stream in landowners property?","Guidance","Additional Guidance","List PLU's",null,null,null,null,null,null,null,null,null,null,null,null,null,null,1,null,1,null,null,null,null,null,1,null,null,null,null,null,null,null,null,null,null,null,null,null,null,null,null,null,null,null,null,null,null,null,null,null,null,null,null,null,null,null,null,null,null,null,null,null,null,null,null,null,null,null,null,null,null,0,0,0,0,0,0,0,0,0,0,0,0,0,0,0,0,0,0,0,0,0,0,0,0,0,0,0,0,0,0,0,0,0,0,0,0,0,0,0,0,0,0,0,0,0,0,0,0,0,0,0,0,0,0,0,0,0,0,0,0,0,0,0,0,0,0,0,0,0,null,0,1,0,null,0,0]
[120,31,5,null,"Elevated Water Temperature",null,null,null,null,null,1,1,1,1,1,1,1,1,null,null,null,null,null,null,null,null,1,null,null,null,null,null,null,1,null,null,null,null,null,null,null,null,null,null,null,null,null,null,null,null,null,null,null,null,null,null,null,null,null,null,null,null,null,null,null,null,null,null,null,null,null,null,null,null,null,null,null,null,null,0,0,0,0,0,0,0,0,0,0,0,0,0,0,0,0,0,{"$f":"IF(CS$5=\"TRUE\",AA725,0)","v":0},{"$f":"IF(CT$5=TRUE,AB725,0)","v":0},{"$f":"IF(CU$5=TRUE,AC725,0)","v":0},{"$f":"IF(CV$5=TRUE,AD725,0)","v":0},{"$f":"IF(CW$5=TRUE,AE725,0)","v":0},{"$f":"IF(CX$5=TRUE,AF725,0)","v":0},{"$f":"IF(CY$5=TRUE,AG725,0)","v":0},{"$f":"IF(CZ$5=TRUE,AH725,0)","v":0},{"$f":"IF(DA$5=TRUE,AI725,0)","v":0},{"$f":"IF(DB$5=TRUE,AJ725,0)","v":0},{"$f":"IF(DC$5=TRUE,AK725,0)","v":0},{"$f":"IF(DD$5=TRUE,AL725,0)","v":0},{"$f":"IF(DE$5=TRUE,AM725,0)","v":0},{"$f":"IF(DF$5=TRUE,AN725,0)","v":0},{"$f":"IF(DG$5=TRUE,AO725,0)","v":0},{"$f":"IF(DH$5=TRUE,AP725,0)","v":0},{"$f":"IF(DI$5=TRUE,AQ725,0)","v":0},{"$f":"IF(DJ$5=TRUE,AR725,0)","v":0},{"$f":"IF(DK$5=TRUE,AS725,0)","v":0},{"$f":"IF(DL$5=TRUE,AT725,0)","v":0},{"$f":"IF(DM$5=TRUE,AU725,0)","v":0},{"$f":"IF(DN$5=TRUE,AV725,0)","v":0},{"$f":"IF(DO$5=TRUE,AW725,0)","v":0},{"$f":"IF(DP$5=TRUE,AX725,0)","v":0},{"$f":"IF(DQ$5=TRUE,AY725,0)","v":0},{"$f":"IF(DR$5=TRUE,AZ725,0)","v":0},{"$f":"IF(DS$5=TRUE,BA725,0)","v":0},{"$f":"IF(DT$5=TRUE,BB725,0)","v":0},{"$f":"IF(DU$5=TRUE,BC725,0)","v":0},{"$f":"IF(DV$5=TRUE,BD725,0)","v":0},{"$f":"IF(DW$5=TRUE,BE725,0)","v":0},{"$f":"IF(DX$5=TRUE,BF725,0)","v":0},{"$f":"IF(DY$5=TRUE,BG725,0)","v":0},{"$f":"IF(DZ$5=TRUE,BH725,0)","v":0},{"$f":"IF(EA$5=TRUE,BI725,0)","v":0},{"$f":"IF(EB$5=TRUE,BJ725,0)","v":0},{"$f":"IF(EC$5=TRUE,BK725,0)","v":0},{"$f":"IF(ED$5=TRUE,BL725,0)","v":0},{"$f":"IF(EE$5=TRUE,BM725,0)","v":0},{"$f":"IF(EF$5=TRUE,BN725,0)","v":0},{"$f":"IF(EG$5=TRUE,BO725,0)","v":0},{"$f":"IF(EH$5=TRUE,BP725,0)","v":0},{"$f":"IF(EI$5=TRUE,BQ725,0)","v":0},{"$f":"IF(EJ$5=TRUE,BR725,0)","v":0},{"$f":"IF(EK$5=TRUE,BS725,0)","v":0},{"$f":"IF(EL$5=TRUE,BT725,0)","v":0},{"$f":"IF(EM$5=TRUE,BU725,0)","v":0},{"$f":"IF(EN$5=TRUE,BV725,0)","v":0},{"$f":"IF(EO$5=TRUE,BW725,0)","v":0},{"$f":"IF(EP$5=TRUE,BX725,0)","v":0},{"$f":"IF(EQ$5=TRUE,BY725,0)","v":0},{"$f":"IF(ER$5=TRUE,BZ725,0)","v":0},null,0,1,{"$f":"ET725*EU725*EY725","v":0},null,0]
[120,49,5,null,null,null," No",null,"N/A in Iowa",null,1,1,1,1,1,1,1,1,null,null,null,null,null,null,null,null,1,null,null,null,null,null,null,1,null,null,null,null,null,null,null,null,null,null,null,null,null,null,null,null,null,null,null,null,null,null,null,null,null,null,null,null,null,null,null,null,null,null,null,null,null,null,null,null,null,null,null,null,null,0,0,0,0,0,0,0,0,0,0,0,0,0,0,0,0,0,0,0,0,0,0,0,0,0,0,0,0,0,0,0,0,0,0,0,0,0,0,0,0,0,0,0,0,0,0,0,0,0,0,0,0,0,0,0,0,0,0,0,0,0,0,0,0,0,0,0,0,0,null,0,1,0,null,0,0]
[120,52,5,null,null,null," No",null,"N/A in Iowa",null,1,1,1,1,1,1,1,1,null,null,null,null,null,null,null,null,1,null,null,null,null,null,null,1,null,null,null,null,null,null,null,null,null,null,null,null,null,null,null,null,null,null,null,null,null,null,null,null,null,null,null,null,null,null,null,null,null,null,null,null,null,null,null,null,null,null,null,null,null,0,0,0,0,0,0,0,0,0,0,0,0,0,0,0,0,0,0,0,0,0,0,0,0,0,0,0,0,0,0,0,0,0,0,0,0,0,0,0,0,0,0,0,0,0,0,0,0,0,0,0,0,0,0,0,0,0,0,0,0,0,0,0,0,0,0,0,0,0,null,0,1,0,null,0,0]
[120,54,5,null,null,"Q:","What is the extent of the riparian buffer around the wetland??","Guidance","Additional Guidance","List PLU's",null,null,null,null,null,null,null,null,null,null,null,null,null,null,1,null,1,null,null,null,null,null,1,null,null,null,null,null,null,null,null,null,null,null,null,null,null,null,null,null,null,null,null,null,null,null,null,null,null,null,null,null,null,null,null,null,null,null,null,null,null,null,null,null,null,null,null,null,null,{"$f":"IF(CB$5=TRUE,K733,0)","v":0},{"$f":"IF(CC$5=TRUE,L733,0)","v":0},{"$f":"IF(CD$5=TRUE,M733,0)","v":0},{"$f":"IF(CE$5=TRUE,N733,0)","v":0},{"$f":"IF(CF$5=TRUE,O733,0)","v":0},{"$f":"IF(CG$5=TRUE,P733,0)","v":0},{"$f":"IF(CH$5=TRUE,Q733,0)","v":0},{"$f":"IF(CI$5=TRUE,R733,0)","v":0},{"$f":"IF(CJ$5=TRUE,S733,0)","v":0},{"$f":"IF(CK$5=TRUE,T733,0)","v":0},{"$f":"IF(CL$5=TRUE,U733,0)","v":0},{"$f":"IF(CM$5=TRUE,V733,0)","v":0},{"$f":"IF(CN$5=TRUE,W733,0)","v":0},{"$f":"IF(CO$5=TRUE,X733,0)","v":0},{"$f":"IF(CP$5=TRUE,Y733,0)","v":0},{"$f":"IF(CQ$5=TRUE,Z733,0)","v":0},0,0,0,0,0,0,0,0,0,0,0,0,0,0,0,0,0,0,0,0,0,0,0,0,0,0,0,0,0,0,0,0,0,0,0,0,0,0,0,0,0,0,0,0,0,0,0,0,0,0,0,0,0,null,{"$f":"MAX(CB733:CQ733)","v":0},1,0,null,0,0]
[120,58,5,null,null,null," Greater than 75 percent of the perimeter of the wetland is buffered by a greater than 33ftwide strip of perennial vegetative cover.",null,"N/A in Iowa",null,null,null,null,null,null,null,null,null,null,null,null,null,null,null,1,null,1,null,null,null,null,null,1,null,null,null,null,null,null,null,null,null,null,null,null,null,null,null,null,null,null,null,null,null,null,null,null,null,null,null,null,null,null,null,null,null,null,null,null,null,null,null,null,null,null,null,null,null,null,0,0,0,0,0,0,0,0,0,0,0,0,0,0,0,0,0,0,0,0,0,0,0,0,0,0,0,0,0,0,0,0,0,0,0,0,0,0,0,0,0,0,0,0,0,0,0,0,0,0,0,0,0,0,0,0,0,0,0,0,0,0,0,0,0,0,0,0,0,null,0,1,0,null,{"$f":"CP737*CN737","v":0},0]
[120,59,5,null,null,"Q:","What is the quality of the riparian buffer around the wetland??","Guidance","Additional Guidance","List PLU's",null,null,null,null,null,null,null,null,null,null,null,null,null,null,1,null,1,null,null,null,null,null,1,null,null,null,null,null,null,null,null,null,null,null,null,null,null,null,null,null,null,null,null,null,null,null,null,null,null,null,null,null,null,null,null,null,null,null,null,null,null,null,null,null,null,null,null,null,null,0,0,0,0,0,0,0,0,0,0,0,0,0,0,0,0,0,0,0,0,0,0,0,0,0,0,0,0,0,0,0,0,0,0,0,0,0,0,0,0,0,0,0,0,0,0,0,0,0,0,0,0,0,0,0,0,0,0,0,0,0,0,0,0,0,0,0,0,0,null,0,1,0,null,0,0]
[120,61,5,null,null,null," Natural vegetation compromised by poor management; invasive species (>30% but <50% of plant cover).",null,"N/A in Iowa",null,null,null,null,null,null,null,null,null,null,null,null,null,null,null,1,null,1,null,null,null,null,null,1,null,null,null,null,null,null,null,null,null,null,null,null,null,null,null,null,null,null,null,null,null,null,null,null,null,null,null,null,null,null,null,null,null,null,null,null,null,null,null,null,null,null,null,null,null,null,0,0,0,0,0,0,0,0,0,0,0,0,0,0,0,0,0,0,0,0,0,0,0,0,0,0,0,0,0,0,0,0,0,0,0,0,0,0,0,0,0,0,0,0,0,0,0,0,0,0,0,0,0,0,0,0,0,0,0,0,0,0,0,0,0,0,0,0,0,null,0,1,0,null,0,0]
[120,64,5,null,"Terrestrial",null,null,null,null,null,null,null,null,null,null,null,null,null,null,null,null,null,null,null,1,null,1,null,null,null,null,null,null,null,null,null,null,null,null,null,null,null,null,null,null,null,null,null,null,null,null,null,null,null,null,null,null,null,null,null,null,null,null,null,null,null,null,null,null,null,1,null,null,null,null,null,null,null,null,0,0,0,0,0,0,0,0,0,0,0,0,0,0,0,0,1,0,0,0,0,0,0,0,0,0,0,0,0,0,0,0,0,0,0,0,0,0,0,0,0,0,0,0,0,0,0,0,0,0,0,0,0,0,0,0,0,0,0,0,0,0,0,0,0,0,0,0,0,null,0,1,0,null,null,1,1]
[120,65,5,null,null,"Q:","Is the Cropland flooded annually (minimum of 33% of field, or as approved by State) to provide habitat for wetland wildlife, target species, or both?","Guidance","Additional Guidance","List PLU's",null,1,null,null,null,null,null,null,null,null,null,null,null,null,1,null,1,null,null,null,null,null,null,null,null,null,null,null,null,null,null,null,null,null,null,null,null,null,null,null,null,null,null,null,null,null,null,null,null,null,null,null,null,null,null,null,null,null,null,null,1,null,null,null,null,null,null,null,null,0,0,0,0,0,0,0,0,0,0,0,0,0,0,0,0,0,0,0,0,0,0,0,0,0,0,0,0,0,0,0,0,0,0,0,0,0,0,0,0,0,0,0,0,0,0,0,0,0,0,0,0,0,0,0,0,0,0,0,0,0,0,0,0,0,0,0,0,0,null,0,1,{"$f":"EX745*EU745*EY745","v":0},null,0,0]
[120,68,5,null,null,"Q:","Is surface water present sufficient in duration and depth for target species??","Guidance","Additional Guidance","List PLU's",null,1,null,null,null,null,null,null,null,null,null,null,null,null,1,null,1,null,null,null,null,null,null,null,null,null,null,null,null,null,null,null,null,null,null,null,null,null,null,null,null,null,null,null,null,null,null,null,null,null,null,null,null,null,null,null,null,null,null,null,1,null,null,null,null,null,null,null,null,0,0,0,0,0,0,0,0,0,0,0,0,0,0,0,0,0,0,0,0,0,0,0,0,0,0,0,0,0,0,0,0,0,0,0,0,0,0,0,0,0,0,0,0,0,0,0,0,0,0,0,0,0,0,0,0,0,0,0,0,0,0,0,0,0,0,0,0,0,null,0,1,{"$f":"EX748*EU748*EY748","v":0},null,0,0]
[120,71,5,null,null,"Q:","What is the frequency of the flooding or inundation??","Guidance","Additional Guidance","List PLU's",null,1,null,null,null,null,null,null,null,null,null,null,null,null,1,null,1,null,null,null,null,null,null,null,null,null,null,null,null,null,null,null,null,null,null,null,null,null,null,null,null,null,null,null,null,null,null,null,null,null,null,null,null,null,null,null,null,null,null,null,1,null,null,null,null,null,null,null,null,0,0,0,0,0,0,0,0,0,0,0,0,0,0,0,0,0,0,0,0,0,0,0,0,0,0,0,0,0,0,0,0,0,0,0,0,0,0,0,0,0,0,0,0,0,0,0,0,0,0,0,0,0,0,0,0,0,0,0,0,0,0,0,0,0,0,0,0,0,null,0,1,{"$f":"EX751*EU751*EY751","v":0},null,0,0]
[120,73,5,null,null,null," 2 out of 3 years with dependable artificial water or precipitation driven flooding on C or D soils",null,"N/A in Iowa",null,null,1,null,null,null,null,null,null,null,null,null,null,null,null,1,null,1,null,null,null,null,null,null,null,null,null,null,null,null,null,null,null,null,null,null,null,null,null,null,null,null,null,null,null,null,null,null,null,null,null,null,null,null,null,null,null,null,null,null,null,1,null,null,null,null,null,null,null,null,0,0,0,0,0,0,0,0,0,0,0,0,0,0,0,0,0,0,0,0,0,0,0,0,0,0,0,0,0,0,0,0,0,0,0,0,0,0,0,0,0,0,0,0,0,0,0,0,0,0,0,0,0,0,0,0,0,0,0,0,0,0,0,0,0,0,0,0,0,null,0,1,0,null,0,0]
[120,77,5,null,null,null," >33 and <=50% of the field",null,"N/A in Iowa",null,null,1,null,null,null,null,null,null,null,null,null,null,null,null,1,null,1,null,null,null,null,null,null,null,null,null,null,null,null,null,null,null,null,null,null,null,null,null,null,null,null,null,null,null,null,null,null,null,null,null,null,null,null,null,null,null,null,null,null,null,1,null,null,null,null,null,null,null,null,0,0,0,0,0,0,0,0,0,0,0,0,0,0,0,0,0,0,0,0,0,0,0,0,0,0,0,0,0,0,0,0,0,0,0,0,0,0,0,0,0,0,0,0,0,0,0,0,0,0,0,0,0,0,0,0,0,0,0,0,0,0,0,0,0,0,0,0,0,null,0,1,0,null,0,0]
[120,78,5,null,null,null," >50 and <=75% of the field",null,"N/A in Iowa",null,null,1,null,null,null,null,null,null,null,null,null,null,null,null,1,null,1,null,null,null,null,null,null,null,null,null,null,null,null,null,null,null,null,null,null,null,null,null,null,null,null,null,null,null,null,null,null,null,null,null,null,null,null,null,null,null,null,null,null,null,1,null,null,null,null,null,null,null,null,0,0,0,0,0,0,0,0,0,0,0,0,0,0,0,0,0,0,0,0,0,0,0,0,0,0,0,0,0,0,0,0,0,0,0,0,0,0,0,0,0,0,0,0,0,0,0,0,0,0,0,0,0,0,0,0,0,0,0,0,0,0,0,0,0,0,0,0,0,null,0,1,0,null,0,{"$f":"MAX(CR758:ER758)","v":0}]
[120,80,5,null,null,"Q:","What is the composition of Non-Cropland Habitat Elements (NCHE)?","Guidance","Additional Guidance","List PLU's",null,1,null,null,null,null,null,null,null,null,null,null,null,null,1,null,1,null,null,null,null,null,null,null,null,null,null,null,null,null,null,null,null,null,null,null,null,null,null,null,null,null,null,null,null,null,null,null,null,null,null,null,null,null,null,null,null,null,null,null,1,null,null,null,null,null,null,null,null,0,0,0,0,0,0,0,0,0,0,0,0,0,0,0,0,0,0,0,0,0,0,0,0,0,0,0,0,0,0,0,0,0,0,0,0,0,0,0,0,0,0,0,0,0,0,0,0,0,0,0,0,0,0,0,0,0,0,0,0,0,0,0,0,0,0,0,0,0,null,0,1,0,null,0,0]
[120,83,5,null,null,null," Cover composed > 50% of native plants; some structural or functional groups (e.g., warm season tall grasses, warm season midgrasses, warm season short grasses, cool season midgrasses, perennial forbs, shrubs, and trees) expected for the site are missing; number of species are fewer than expected for the ecological site or site potential",null,"N/A in Iowa",null,null,1,null,null,null,null,null,null,null,null,null,null,null,null,1,null,1,null,null,null,null,null,null,null,null,null,null,null,null,null,null,null,null,null,null,null,null,null,null,null,null,null,null,null,null,null,null,null,null,null,null,null,null,null,null,null,null,null,null,null,1,null,null,null,null,null,null,null,null,0,0,0,0,0,0,0,0,0,0,0,0,0,0,0,0,0,0,0,0,0,0,0,0,0,0,0,0,0,0,0,0,0,0,0,0,0,0,0,0,0,0,0,0,0,0,0,0,0,0,0,0,0,0,0,0,0,0,0,0,0,0,0,0,0,0,0,0,0,null,0,1,0,null,0,0]
[120,85,5,null,null,null," Cover is composed of >75% of all structural or functional groups (e.g., warm season grasses, cool season grasses, perennial forbs, shrubs, and trees) expected for the site; number of species in each group closely matches that expected for the ecological site or site potential",null,"N/A in Iowa",null,null,1,null,null,null,null,null,null,null,null,null,null,null,null,1,null,1,null,null,null,null,null,null,null,null,null,null,null,null,null,null,null,null,null,null,null,null,null,null,null,null,null,null,null,null,null,null,null,null,null,null,null,null,null,null,null,null,null,null,null,1,null,null,null,null,null,null,null,null,0,0,0,0,0,0,0,0,0,0,0,0,0,0,0,0,0,{"$f":"IF(CS$5=\"TRUE\",AA765,0)","v":0},{"$f":"IF(CT$5=TRUE,AB765,0)","v":0},{"$f":"IF(CU$5=TRUE,AC765,0)","v":0},{"$f":"IF(CV$5=TRUE,AD765,0)","v":0},{"$f":"IF(CW$5=TRUE,AE765,0)","v":0},{"$f":"IF(CX$5=TRUE,AF765,0)","v":0},{"$f":"IF(CY$5=TRUE,AG765,0)","v":0},{"$f":"IF(CZ$5=TRUE,AH765,0)","v":0},{"$f":"IF(DA$5=TRUE,AI765,0)","v":0},{"$f":"IF(DB$5=TRUE,AJ765,0)","v":0},{"$f":"IF(DC$5=TRUE,AK765,0)","v":0},{"$f":"IF(DD$5=TRUE,AL765,0)","v":0},{"$f":"IF(DE$5=TRUE,AM765,0)","v":0},{"$f":"IF(DF$5=TRUE,AN765,0)","v":0},{"$f":"IF(DG$5=TRUE,AO765,0)","v":0},{"$f":"IF(DH$5=TRUE,AP765,0)","v":0},{"$f":"IF(DI$5=TRUE,AQ765,0)","v":0},{"$f":"IF(DJ$5=TRUE,AR765,0)","v":0},{"$f":"IF(DK$5=TRUE,AS765,0)","v":0},{"$f":"IF(DL$5=TRUE,AT765,0)","v":0},{"$f":"IF(DM$5=TRUE,AU765,0)","v":0},{"$f":"IF(DN$5=TRUE,AV765,0)","v":0},{"$f":"IF(DO$5=TRUE,AW765,0)","v":0},{"$f":"IF(DP$5=TRUE,AX765,0)","v":0},{"$f":"IF(DQ$5=TRUE,AY765,0)","v":0},{"$f":"IF(DR$5=TRUE,AZ765,0)","v":0},{"$f":"IF(DS$5=TRUE,BA765,0)","v":0},{"$f":"IF(DT$5=TRUE,BB765,0)","v":0},{"$f":"IF(DU$5=TRUE,BC765,0)","v":0},{"$f":"IF(DV$5=TRUE,BD765,0)","v":0},{"$f":"IF(DW$5=TRUE,BE765,0)","v":0},{"$f":"IF(DX$5=TRUE,BF765,0)","v":0},{"$f":"IF(DY$5=TRUE,BG765,0)","v":0},{"$f":"IF(DZ$5=TRUE,BH765,0)","v":0},{"$f":"IF(EA$5=TRUE,BI765,0)","v":0},{"$f":"IF(EB$5=TRUE,BJ765,0)","v":0},{"$f":"IF(EC$5=TRUE,BK765,0)","v":0},{"$f":"IF(ED$5=TRUE,BL765,0)","v":0},{"$f":"IF(EE$5=TRUE,BM765,0)","v":0},{"$f":"IF(EF$5=TRUE,BN765,0)","v":0},{"$f":"IF(EG$5=TRUE,BO765,0)","v":0},{"$f":"IF(EH$5=TRUE,BP765,0)","v":0},{"$f":"IF(EI$5=TRUE,BQ765,0)","v":0},{"$f":"IF(EJ$5=TRUE,BR765,0)","v":0},{"$f":"IF(EK$5=TRUE,BS765,0)","v":0},{"$f":"IF(EL$5=TRUE,BT765,0)","v":0},{"$f":"IF(EM$5=TRUE,BU765,0)","v":0},{"$f":"IF(EN$5=TRUE,BV765,0)","v":0},{"$f":"IF(EO$5=TRUE,BW765,0)","v":0},{"$f":"IF(EP$5=TRUE,BX765,0)","v":0},{"$f":"IF(EQ$5=TRUE,BY765,0)","v":0},{"$f":"IF(ER$5=TRUE,BZ765,0)","v":0},null,0,1,0,null,0,0]
[120,88,5,null,null,null," >1% and <=5% of the field",null,"N/A in Iowa",null,null,1,null,null,null,null,null,null,null,null,null,null,null,null,1,null,1,null,null,null,null,null,null,null,null,null,null,null,null,null,null,null,null,null,null,null,null,null,null,null,null,null,null,null,null,null,null,null,null,null,null,null,null,null,null,null,null,null,null,null,1,null,null,null,null,null,null,null,null,0,0,0,0,0,0,0,0,0,0,0,0,0,0,0,0,0,0,0,0,0,0,0,0,0,0,0,0,0,0,0,0,0,0,0,0,0,0,0,0,0,0,0,0,0,0,0,0,0,0,0,0,0,0,0,0,0,0,0,0,0,0,0,0,0,0,0,0,0,null,0,1,0,null,0,0]
[120,86,5,null,null,"Q:","What is the average width of NCHE within or directly adjacent to the field?  ","Guidance","Additional Guidance","List PLU's",null,1,null,null,null,null,null,null,null,null,null,null,null,null,1,null,1,null,null,null,null,null,null,null,null,null,null,null,null,null,null,null,null,null,null,null,null,null,null,null,null,null,null,null,null,null,null,null,null,null,null,null,null,null,null,null,null,null,null,null,1,null,null,null,null,null,null,null,null,0,0,0,0,0,0,0,0,0,0,0,0,0,0,0,0,0,0,0,0,0,0,0,0,0,0,0,0,0,0,0,0,0,0,0,0,0,0,0,0,0,0,0,0,0,0,0,0,0,0,0,0,0,0,0,0,0,0,0,0,0,0,0,0,0,0,0,0,0,null,0,1,0,null,0,0]
[120,88,5,null,null,null,"≥30 to and ≤75 feet wide.",null,"N/A in Iowa",null,null,1,null,null,null,null,null,null,null,null,null,null,null,null,1,null,1,null,null,null,null,null,null,null,null,null,null,null,null,null,null,null,null,null,null,null,null,null,null,null,null,null,null,null,null,null,null,null,null,null,null,null,null,null,null,null,null,null,null,null,1,null,null,null,null,null,null,null,null,0,0,0,0,0,0,0,0,0,0,0,0,0,0,0,0,0,0,0,0,0,0,0,0,0,0,0,0,0,0,0,0,0,0,0,0,0,0,0,0,0,0,0,0,0,0,0,0,0,0,0,0,0,0,0,0,0,0,0,0,0,0,0,0,0,0,0,0,0,null,0,1,0,null,0,0]
[120,92,5,null,null,null," <=330 feet",null,"N/A in Iowa",null,null,1,null,null,null,null,null,null,null,null,null,null,null,null,1,null,1,null,null,null,null,null,null,null,null,null,null,null,null,null,null,null,null,null,null,null,null,null,null,null,null,null,null,null,null,null,null,null,null,null,null,null,null,null,null,null,null,null,null,null,1,null,null,null,null,null,null,null,null,0,0,0,0,0,0,0,0,0,0,0,0,0,0,0,0,0,0,0,0,0,0,0,0,0,0,0,0,0,0,0,0,0,0,0,0,0,0,0,0,0,0,0,0,0,0,0,0,0,0,0,0,0,0,0,0,0,0,0,0,0,0,0,0,0,0,0,0,0,null,0,1,0,null,0,0]
[120,95,5,null,null,null," >1320 feet and <=2640 feet",null,"N/A in Iowa",null,null,1,null,null,null,null,null,null,null,null,null,null,null,null,1,null,1,null,null,null,null,null,null,null,null,null,null,null,null,null,null,null,null,null,null,null,null,null,null,null,null,null,null,null,null,null,null,null,null,null,null,null,null,null,null,null,null,null,null,null,1,null,null,null,null,null,null,null,null,0,0,0,0,0,0,0,0,0,0,0,0,0,0,0,0,0,0,0,0,0,0,0,0,0,0,0,0,0,0,0,0,0,0,0,0,0,0,0,0,0,0,0,0,0,0,0,0,0,0,0,0,0,0,0,0,0,0,0,0,0,0,0,0,0,0,0,0,0,null,0,1,0,null,0,0]
[120,97,5,null,null,"Q:","What is the crop rotation?","Guidance","Additional Guidance","List PLU's",null,1,null,null,null,null,null,null,null,null,null,null,null,null,1,null,1,null,null,null,null,null,null,null,null,null,null,null,null,null,null,null,null,null,null,null,null,null,null,null,null,null,null,null,null,null,null,null,null,null,null,null,null,null,null,null,null,null,null,null,1,null,null,null,null,null,null,null,null,0,0,0,0,0,0,0,0,0,0,0,0,0,0,0,0,0,0,0,0,0,0,0,0,0,0,0,0,0,0,0,0,0,0,0,0,0,0,0,0,0,0,0,0,0,0,0,0,0,0,0,0,0,0,0,0,0,0,0,0,0,0,0,0,0,0,0,0,0,null,0,1,0,null,0,0]
[120,98,5,null,null,null," Continuous row or truck crops with little value for wildlife (e.g., corn, sorghum, soybeans, etc.)",null,"N/A in Iowa",null,null,1,null,null,null,null,null,null,null,null,null,null,null,null,1,null,1,null,null,null,null,null,null,null,null,null,null,null,null,null,null,null,null,null,null,null,null,null,null,null,null,null,null,null,null,null,null,null,null,null,null,null,null,null,null,null,null,null,null,null,1,null,null,null,null,null,null,null,null,0,0,0,0,0,0,0,0,0,0,0,0,0,0,0,0,0,0,0,0,0,0,0,0,0,0,0,0,0,0,0,0,0,0,0,0,0,0,0,0,0,0,0,0,0,0,0,0,0,0,0,0,0,0,0,0,0,0,0,0,0,0,0,0,0,0,0,0,0,null,0,1,0,null,0,0]
[120,102,5,null,null,null," Small grain  summer fallow (does not include fallow that involves cultivation practices that reduce cover, e.g., summer plowing)",null,"N/A in Iowa",null,null,1,null,null,null,null,null,null,null,null,null,null,null,null,1,null,1,null,null,null,null,null,null,null,null,null,null,null,null,null,null,null,null,null,null,null,null,null,null,null,null,null,null,null,null,null,null,null,null,null,null,null,null,null,null,null,null,null,null,null,1,null,null,null,null,null,null,null,null,0,0,0,0,0,0,0,0,0,0,0,0,0,0,0,0,0,0,0,0,0,0,0,0,0,0,0,0,0,0,0,0,0,0,0,0,0,0,0,0,0,0,0,0,0,0,0,0,0,0,0,0,0,0,0,0,0,0,0,0,0,0,0,0,0,0,0,0,0,null,0,1,0,null,0,0]
[120,104,5,null,null,"Q:","Is a winter food source provided?","Guidance","Additional Guidance","List PLU's",null,1,null,null,null,null,null,null,null,null,null,null,null,null,1,null,1,null,null,null,null,null,null,null,null,null,null,null,null,null,null,null,null,null,null,null,null,null,null,null,null,null,null,null,null,null,null,null,null,null,null,null,null,null,null,null,null,null,null,null,1,null,null,null,null,null,null,null,null,0,0,0,0,0,0,0,0,0,0,0,0,0,0,0,0,0,0,0,0,0,0,0,0,0,0,0,0,0,0,0,0,0,0,0,0,0,0,0,0,0,0,0,0,0,0,0,0,0,0,0,0,0,0,0,0,0,0,0,0,0,0,0,0,0,0,0,0,0,null,0,1,0,null,0,0]
[120,107,5,null,null,null," 1/4 to <=1 acre of food plot or unharvested grain per 40 acres of cropland (minimum 30 feet wide and next to noncrop cover)",null,"N/A in Iowa",null,null,1,null,null,null,null,null,null,null,null,null,null,null,null,1,null,1,null,null,null,null,null,null,null,null,null,null,null,null,null,null,null,null,null,null,null,null,null,null,null,null,null,null,null,null,null,null,null,null,null,null,null,null,null,null,null,null,null,null,null,1,null,null,null,null,null,null,null,null,0,0,0,0,0,0,0,0,0,0,0,0,0,0,0,0,0,0,0,0,0,0,0,0,0,0,0,0,0,0,0,0,0,0,0,0,0,0,0,0,0,0,0,0,0,0,0,0,0,0,0,0,0,0,0,0,0,0,0,0,0,0,0,0,0,0,0,0,0,null,0,1,0,null,0,0]
[120,110,5,null,null,null," Winter cover crop or hay/forage crop >50% and <75% of field. Crop height is adequate height for the target species",null,"N/A in Iowa",null,null,1,null,null,null,null,null,null,null,null,null,null,null,null,1,null,1,null,null,null,null,null,null,null,null,null,null,null,null,null,null,null,null,null,null,null,null,null,null,null,null,null,null,null,null,null,null,null,null,null,null,null,null,null,null,null,null,null,null,null,1,null,null,null,null,null,null,null,null,0,0,0,0,0,0,0,0,0,0,0,0,0,0,0,0,0,0,0,0,0,0,0,0,0,0,0,0,0,0,0,0,0,0,0,0,0,0,0,0,0,0,0,0,0,0,0,0,0,0,0,0,0,0,0,0,0,0,0,0,0,0,0,0,0,0,0,0,0,null,0,1,0,null,0,0]
[120,112,5,null,null,"Q:","Tillage type","Guidance","Additional Guidance","List PLU's",null,1,null,null,null,null,null,null,null,null,null,null,null,null,1,null,1,null,null,null,null,null,null,null,null,null,null,null,null,null,null,null,null,null,null,null,null,null,null,null,null,null,null,null,null,null,null,null,null,null,null,null,null,null,null,null,null,null,null,null,1,null,null,null,null,null,null,null,null,{"$f":"IF(CB$5=TRUE,K797,0)","v":0},{"$f":"IF(CC$5=TRUE,L797,0)","v":0},{"$f":"IF(CD$5=TRUE,M797,0)","v":0},{"$f":"IF(CE$5=TRUE,N797,0)","v":0},{"$f":"IF(CF$5=TRUE,O797,0)","v":0},{"$f":"IF(CG$5=TRUE,P797,0)","v":0},{"$f":"IF(CH$5=TRUE,Q797,0)","v":0},{"$f":"IF(CI$5=TRUE,R797,0)","v":0},{"$f":"IF(CJ$5=TRUE,S797,0)","v":0},{"$f":"IF(CK$5=TRUE,T797,0)","v":0},{"$f":"IF(CL$5=TRUE,U797,0)","v":0},{"$f":"IF(CM$5=TRUE,V797,0)","v":0},{"$f":"IF(CN$5=TRUE,W797,0)","v":0},{"$f":"IF(CO$5=TRUE,X797,0)","v":0},{"$f":"IF(CP$5=TRUE,Y797,0)","v":0},{"$f":"IF(CQ$5=TRUE,Z797,0)","v":0},0,0,0,0,0,0,0,0,0,0,0,0,0,0,0,0,0,0,0,0,0,0,0,0,0,0,0,0,0,0,0,0,0,0,0,0,0,0,0,0,0,0,0,0,0,0,0,0,0,0,0,0,0,null,{"$f":"MAX(CB797:CQ797)","v":0},1,0,null,0,0]
[120,115,5,null,null,null," Spring reduced",null,"N/A in Iowa",null,null,1,null,null,null,null,null,null,null,null,null,null,null,null,1,null,1,null,null,null,null,null,null,null,null,null,null,null,null,null,null,null,null,null,null,null,null,null,null,null,null,null,null,null,null,null,null,null,null,null,null,null,null,null,null,null,null,null,null,null,1,null,null,null,null,null,null,null,null,0,0,0,0,0,0,0,0,0,0,0,0,0,0,0,0,0,0,0,0,0,0,0,0,0,0,0,0,0,0,0,0,0,0,0,0,0,0,0,0,0,0,0,0,0,0,0,0,0,0,0,0,0,0,0,0,0,0,0,0,0,0,0,0,0,0,0,0,0,null,0,1,0,null,0,0]
[120,117,5,null,null,null," Perennial crop",null,"N/A in Iowa",null,null,1,null,null,null,null,null,null,null,null,null,null,null,null,1,null,1,null,null,null,null,null,null,null,null,null,null,null,null,null,null,null,null,null,null,null,null,null,null,null,null,null,null,null,null,null,null,null,null,null,null,null,null,null,null,null,null,null,null,null,1,null,null,null,null,null,null,null,null,0,0,0,0,0,0,0,0,0,0,0,0,0,0,0,0,0,0,0,0,0,0,0,0,0,0,0,0,0,0,0,0,0,0,0,0,0,0,0,0,0,0,0,0,0,0,0,0,0,0,0,0,0,0,0,0,0,0,0,0,0,0,0,0,0,0,0,0,0,null,0,1,0,null,0,0]
[120,118,5,null,null,"Q:","What is the residue or stubble management for the over-winter condition?","Guidance","Additional Guidance","List PLU's",null,1,null,null,null,null,null,null,null,null,null,null,null,null,1,null,1,null,null,null,null,null,null,null,null,null,null,null,null,null,null,null,null,null,null,null,null,null,null,null,null,null,null,null,null,null,null,null,null,null,null,null,null,null,null,null,null,null,null,null,1,null,null,null,null,null,null,null,null,0,0,0,0,0,0,0,0,0,0,0,0,0,0,0,0,0,0,0,0,0,0,0,0,0,0,0,0,0,0,0,0,0,0,0,0,0,0,0,0,0,0,0,0,0,0,0,0,0,0,0,0,0,0,0,0,0,0,0,0,0,0,0,0,0,0,0,0,0,null,0,1,0,null,0,0]
[120,122,5,null,null,null," Stalks chopped or shredded, no soil disturbance or grasses or legumes in rotation",null,"N/A in Iowa",null,null,1,null,null,null,null,null,null,null,null,null,null,null,null,1,null,1,null,null,null,null,null,null,null,null,null,null,null,null,null,null,null,null,null,null,null,null,null,null,null,null,null,null,null,null,null,null,null,null,null,null,null,null,null,null,null,null,null,null,null,1,null,null,null,null,null,null,null,null,0,0,0,0,0,0,0,0,0,0,0,0,0,0,0,0,0,0,0,0,0,0,0,0,0,0,0,0,0,0,0,0,0,0,0,0,0,0,0,0,0,0,0,0,0,0,0,0,0,0,0,0,0,0,0,0,0,0,0,0,0,0,0,0,0,0,0,0,0,null,0,1,0,null,0,0]
[120,124,5,null,null,null," Grain stubble or hay/forage crop left standing overwinter <8 inches",null,"N/A in Iowa",null,null,1,null,null,null,null,null,null,null,null,null,null,null,null,1,null,1,null,null,null,null,null,null,null,null,null,null,null,null,null,null,null,null,null,null,null,null,null,null,null,null,null,null,null,null,null,null,null,null,null,null,null,null,null,null,null,null,null,null,null,1,null,null,null,null,null,null,null,null,0,0,0,0,0,0,0,0,0,0,0,0,0,0,0,0,0,0,0,0,0,0,0,0,0,0,0,0,0,0,0,0,0,0,0,0,0,0,0,0,0,0,0,0,0,0,0,0,0,0,0,0,0,0,0,0,0,0,0,0,0,0,0,0,0,0,0,0,0,null,0,1,0,null,0,0]
[120,127,5,null,null,null," 100% Wildlife unfriendly species",null,"N/A in Iowa",null,null,1,null,null,null,null,null,null,null,null,null,null,null,null,1,null,1,null,null,null,null,null,null,null,null,null,null,null,null,null,null,null,null,null,null,null,null,null,null,null,null,null,null,null,null,null,null,null,null,null,null,null,null,null,null,null,null,null,null,null,1,null,null,null,null,null,null,null,null,0,0,0,0,0,0,0,0,0,0,0,0,0,0,0,0,0,0,0,0,0,0,0,0,0,0,0,0,0,0,0,0,0,0,0,0,0,0,0,0,0,0,0,0,0,0,0,0,0,0,0,0,0,0,0,0,0,0,0,0,0,0,0,0,0,0,0,0,0,null,0,1,0,null,0,0]
[120,130,5,null,null,null," > 5 wildlife friendly species",null,"N/A in Iowa",null,null,1,null,null,null,null,null,null,null,null,null,null,null,null,1,null,1,null,null,null,null,null,null,null,null,null,null,null,null,null,null,null,null,null,null,null,null,null,null,null,null,null,null,null,null,null,null,null,null,null,null,null,null,null,null,null,null,null,null,null,1,null,null,null,null,null,null,null,null,0,0,0,0,0,0,0,0,0,0,0,0,0,0,0,0,0,0,0,0,0,0,0,0,0,0,0,0,0,0,0,0,0,0,0,0,0,0,0,0,0,0,0,0,0,0,0,0,0,0,0,0,0,0,0,0,0,0,0,0,0,0,0,0,0,0,0,0,0,null,0,1,0,null,0,0]
[120,132,5,null,null,null," Entire field cut during the nesting season",null,"N/A in Iowa",null,null,1,null,null,null,null,null,null,null,null,null,null,null,null,1,null,1,null,null,null,null,null,null,null,null,null,null,null,null,null,null,null,null,null,null,null,null,null,null,null,null,null,null,null,null,null,null,null,null,null,null,null,null,null,null,null,null,null,null,null,1,null,null,null,null,null,null,null,null,0,0,0,0,0,0,0,0,0,0,0,0,0,0,0,0,0,0,0,0,0,0,0,0,0,0,0,0,0,0,0,0,0,0,0,0,0,0,0,0,0,0,0,0,0,0,0,0,0,0,0,0,0,0,0,0,0,0,0,0,0,0,0,0,0,0,0,0,0,null,0,1,0,null,0,0]
[120,135,5,null,null,null," Hay cut not more than once per year and is cut before or after the nesting season. Cuts before nesting season must be far enough in advance to allow for sufficient regrowth for target species. Consult with State biologist for adequate time windows for target species",null,"N/A in Iowa",null,null,1,null,null,null,null,null,null,null,null,null,null,null,null,1,null,1,null,null,null,null,null,null,null,null,null,null,null,null,null,null,null,null,null,null,null,null,null,null,null,null,null,null,null,null,null,null,null,null,null,null,null,null,null,null,null,null,null,null,null,1,null,null,null,null,null,null,null,null,0,0,0,0,0,0,0,0,0,0,0,0,0,0,0,0,0,0,0,0,0,0,0,0,0,0,0,0,0,0,0,0,0,0,0,0,0,0,0,0,0,0,0,0,0,0,0,0,0,0,0,0,0,0,0,0,0,0,0,0,0,0,0,0,0,0,0,0,0,null,0,1,{"$f":"EX820*EU820*EY820","v":0},null,0,0]
[120,137,5,null,null,"Pasture",null,null,null,null,null,null,null,null,1,null,null,null,null,null,null,null,null,null,1,null,1,null,null,null,null,null,null,null,null,null,null,null,null,null,null,null,null,null,null,null,null,null,null,null,null,null,null,null,null,null,null,null,null,null,null,null,null,null,null,null,null,null,null,null,1,null,null,null,null,null,null,null,null,0,0,0,0,0,0,0,0,0,0,0,0,0,0,0,0,0,{"$f":"IF(CS$5=\"TRUE\",AA822,0)","v":0},{"$f":"IF(CT$5=TRUE,AB822,0)","v":0},{"$f":"IF(CU$5=TRUE,AC822,0)","v":0},{"$f":"IF(CV$5=TRUE,AD822,0)","v":0},{"$f":"IF(CW$5=TRUE,AE822,0)","v":0},{"$f":"IF(CX$5=TRUE,AF822,0)","v":0},{"$f":"IF(CY$5=TRUE,AG822,0)","v":0},{"$f":"IF(CZ$5=TRUE,AH822,0)","v":0},{"$f":"IF(DA$5=TRUE,AI822,0)","v":0},{"$f":"IF(DB$5=TRUE,AJ822,0)","v":0},{"$f":"IF(DC$5=TRUE,AK822,0)","v":0},{"$f":"IF(DD$5=TRUE,AL822,0)","v":0},{"$f":"IF(DE$5=TRUE,AM822,0)","v":0},{"$f":"IF(DF$5=TRUE,AN822,0)","v":0},{"$f":"IF(DG$5=TRUE,AO822,0)","v":0},{"$f":"IF(DH$5=TRUE,AP822,0)","v":0},{"$f":"IF(DI$5=TRUE,AQ822,0)","v":0},{"$f":"IF(DJ$5=TRUE,AR822,0)","v":0},{"$f":"IF(DK$5=TRUE,AS822,0)","v":0},{"$f":"IF(DL$5=TRUE,AT822,0)","v":0},{"$f":"IF(DM$5=TRUE,AU822,0)","v":0},{"$f":"IF(DN$5=TRUE,AV822,0)","v":0},{"$f":"IF(DO$5=TRUE,AW822,0)","v":0},{"$f":"IF(DP$5=TRUE,AX822,0)","v":0},{"$f":"IF(DQ$5=TRUE,AY822,0)","v":0},{"$f":"IF(DR$5=TRUE,AZ822,0)","v":0},{"$f":"IF(DS$5=TRUE,BA822,0)","v":0},{"$f":"IF(DT$5=TRUE,BB822,0)","v":0},{"$f":"IF(DU$5=TRUE,BC822,0)","v":0},{"$f":"IF(DV$5=TRUE,BD822,0)","v":0},{"$f":"IF(DW$5=TRUE,BE822,0)","v":0},{"$f":"IF(DX$5=TRUE,BF822,0)","v":0},{"$f":"IF(DY$5=TRUE,BG822,0)","v":0},{"$f":"IF(DZ$5=TRUE,BH822,0)","v":0},{"$f":"IF(EA$5=TRUE,BI822,0)","v":0},{"$f":"IF(EB$5=TRUE,BJ822,0)","v":0},{"$f":"IF(EC$5=TRUE,BK822,0)","v":0},{"$f":"IF(ED$5=TRUE,BL822,0)","v":0},{"$f":"IF(EE$5=TRUE,BM822,0)","v":0},{"$f":"IF(EF$5=TRUE,BN822,0)","v":0},{"$f":"IF(EG$5=TRUE,BO822,0)","v":0},{"$f":"IF(EH$5=TRUE,BP822,0)","v":0},{"$f":"IF(EI$5=TRUE,BQ822,0)","v":0},{"$f":"IF(EJ$5=TRUE,BR822,0)","v":0},{"$f":"IF(EK$5=TRUE,BS822,0)","v":0},{"$f":"IF(EL$5=TRUE,BT822,0)","v":0},{"$f":"IF(EM$5=TRUE,BU822,0)","v":0},{"$f":"IF(EN$5=TRUE,BV822,0)","v":0},{"$f":"IF(EO$5=TRUE,BW822,0)","v":0},{"$f":"IF(EP$5=TRUE,BX822,0)","v":0},{"$f":"IF(EQ$5=TRUE,BY822,0)","v":0},{"$f":"IF(ER$5=TRUE,BZ822,0)","v":0},null,0,1,{"$f":"EX822*EU822*EY822","v":0},null,{"$f":"CP822*CF822","v":0},{"$f":"MAX(CR822:ER822)","v":0}]
[120,137,5,null,null,"Q:","What is the species composition of the pasture?","Guidance","Additional Guidance","List PLU's",null,null,null,null,1,null,null,null,null,null,null,null,null,null,1,null,1,null,null,null,null,null,null,null,null,null,null,null,null,null,null,null,null,null,null,null,null,null,null,null,null,null,null,null,null,null,null,null,null,null,null,null,null,null,null,null,null,null,null,null,1,null,null,null,null,null,null,null,null,0,0,0,0,0,0,0,0,0,0,0,0,0,0,0,0,0,0,0,0,0,0,0,0,0,0,0,0,0,0,0,0,0,0,0,0,0,0,0,0,0,0,0,0,0,0,0,0,0,0,0,0,0,0,0,0,0,0,0,0,0,0,0,0,0,0,0,0,0,null,0,1,0,null,0,0]
[120,141,5,null,null,null," >3 wildlife friendly grasses and legumes or forbs",null,"N/A in Iowa",null,null,null,null,null,1,null,null,null,null,null,null,null,null,null,1,null,1,null,null,null,null,null,null,null,null,null,null,null,null,null,null,null,null,null,null,null,null,null,null,null,null,null,null,null,null,null,null,null,null,null,null,null,null,null,null,null,null,null,null,null,1,null,null,null,null,null,null,null,null,0,0,0,0,0,0,0,0,0,0,0,0,0,0,0,0,0,0,0,0,0,0,0,0,0,0,0,0,0,0,0,0,0,0,0,0,0,0,0,0,0,0,0,0,0,0,0,0,0,0,0,0,0,0,0,0,0,0,0,0,0,0,0,0,0,0,0,0,0,null,0,1,0,null,0,0]
[120,143,5,null,null,null," All forage is closely grazed, livestock trails are numerous and trampling damage is widespread",null,"N/A in Iowa",null,null,null,null,null,1,null,null,null,null,null,null,null,null,null,1,null,1,null,null,null,null,null,null,null,null,null,null,null,null,null,null,null,null,null,null,null,null,null,null,null,null,null,null,null,null,null,null,null,null,null,null,null,null,null,null,null,null,null,null,null,1,null,null,null,null,null,null,null,null,0,0,0,0,0,0,0,0,0,0,0,0,0,0,0,0,0,0,0,0,0,0,0,0,0,0,0,0,0,0,0,0,0,0,0,0,0,0,0,0,0,0,0,0,0,0,0,0,0,0,0,0,0,0,0,0,0,0,0,0,0,0,0,0,0,0,0,0,0,null,0,1,0,null,0,0]
[120,146,5,null,null,null," Livestock are rotated through four or more paddocks based on minimum forage height and condition for wildlife (defined by State biologist); one paddock is not grazed (unless part of a Prescribed Grazing plan) or hayed until after nesting season",null,"N/A in Iowa",null,null,null,null,null,1,null,null,null,null,null,null,null,null,null,1,null,1,null,null,null,null,null,null,null,null,null,null,null,null,null,null,null,null,null,null,null,null,null,null,null,null,null,null,null,null,null,null,null,null,null,null,null,null,null,null,null,null,null,null,null,1,null,null,null,null,null,null,null,null,0,0,0,0,0,0,0,0,0,0,0,0,0,0,0,0,0,0,0,0,0,0,0,0,0,0,0,0,0,0,0,0,0,0,0,0,0,0,0,0,0,0,0,0,0,0,0,0,0,0,0,0,0,0,0,0,0,0,0,0,0,0,0,0,0,0,0,0,0,null,0,1,0,null,0,0]
[120,148,5,null,null,null," Herbaceous or woody cover with >75% undesirable species",null,"N/A in Iowa",null,null,null,null,null,1,null,null,null,null,null,null,null,null,null,1,null,1,null,null,null,null,null,null,null,null,null,null,null,null,null,null,null,null,null,null,null,null,null,null,null,null,null,null,null,null,null,null,null,null,null,null,null,null,null,null,null,null,null,null,null,1,null,null,null,null,null,null,null,null,0,0,0,0,0,0,0,0,0,0,0,0,0,0,0,0,0,0,0,0,0,0,0,0,0,0,0,0,0,0,0,0,0,0,0,0,0,0,0,0,0,0,0,0,0,0,0,0,0,0,0,0,0,0,0,0,0,0,0,0,0,0,0,0,0,0,0,0,0,null,0,1,0,null,0,0]
[120,152,5,null,null,null," Cover is composed of all structural or functional groups (e.g., warm season tall grasses, warm season midgrasses, warm season short grasses, cool season midgrasses, perennial forbs, shrubs, and trees) expected for the site; number of species in each group closely matches that expected for the ecological site.",null,"N/A in Iowa",null,null,null,null,null,1,null,null,null,null,null,null,null,null,null,1,null,1,null,null,null,null,null,null,null,null,null,null,null,null,null,null,null,null,null,null,null,null,null,null,null,null,null,null,null,null,null,null,null,null,null,null,null,null,null,null,null,null,null,null,null,1,null,null,null,null,null,null,null,null,0,0,0,0,0,0,0,0,0,0,0,0,0,0,0,0,0,0,0,0,0,0,0,0,0,0,0,0,0,0,0,0,0,0,0,0,0,0,0,0,0,0,0,0,0,0,0,0,0,0,0,0,0,0,0,0,0,0,0,0,0,0,0,0,0,0,0,0,0,null,0,1,0,null,0,0]
[120,153,5,null,null,"Q:","What is the amount of NPHE within or directly adjacent to the field?","Guidance","Additional Guidance","List PLU's",null,null,null,null,1,null,null,null,null,null,null,null,null,null,1,null,1,null,null,null,null,null,null,null,null,null,null,null,null,null,null,null,null,null,null,null,null,null,null,null,null,null,null,null,null,null,null,null,null,null,null,null,null,null,null,null,null,null,null,null,1,null,null,null,null,null,null,null,null,0,0,0,0,0,0,0,0,0,0,0,0,0,0,0,0,0,0,0,0,0,0,0,0,0,0,0,0,0,0,0,0,0,0,0,0,0,0,0,0,0,0,0,0,0,0,0,0,0,0,0,0,0,0,0,0,0,0,0,0,0,0,0,0,0,0,0,0,0,null,0,1,0,null,0,0]
[120,155,5,null,null,null," >1 to <=5% of field",null,"N/A in Iowa",null,null,null,null,null,1,null,null,null,null,null,null,null,null,null,1,null,1,null,null,null,null,null,null,null,null,null,null,null,null,null,null,null,null,null,null,null,null,null,null,null,null,null,null,null,null,null,null,null,null,null,null,null,null,null,null,null,null,null,null,null,1,null,null,null,null,null,null,null,null,0,0,0,0,0,0,0,0,0,0,0,0,0,0,0,0,0,0,0,0,0,0,0,0,0,0,0,0,0,0,0,0,0,0,0,0,0,0,0,0,0,0,0,0,0,0,0,0,0,0,0,0,0,0,0,0,0,0,0,0,0,0,0,0,0,0,0,0,0,null,0,1,0,null,0,0]
[120,158,5,null,null,"Q:","What is the width of NPHE within or directly adjacent to the field?","Guidance","Additional Guidance","List PLU's",null,null,null,null,1,null,null,null,null,null,null,null,null,null,1,null,1,null,null,null,null,null,null,null,null,null,null,null,null,null,null,null,null,null,null,null,null,null,null,null,null,null,null,null,null,null,null,null,null,null,null,null,null,null,null,null,null,null,null,null,1,null,null,null,null,null,null,null,null,0,0,0,0,0,0,0,0,0,0,0,0,0,0,0,0,0,0,0,0,0,0,0,0,0,0,0,0,0,0,0,0,0,0,0,0,0,0,0,0,0,0,0,0,0,0,0,0,0,0,0,0,0,0,0,0,0,0,0,0,0,0,0,0,0,0,0,0,0,null,0,1,0,null,0,0]
[120,161,5,null,null,null," >75 to <=120",null,"N/A in Iowa",null,null,null,null,null,1,null,null,null,null,null,null,null,null,null,1,null,1,null,null,null,null,null,null,null,null,null,null,null,null,null,null,null,null,null,null,null,null,null,null,null,null,null,null,null,null,null,null,null,null,null,null,null,null,null,null,null,null,null,null,null,1,null,null,null,null,null,null,null,null,0,0,0,0,0,0,0,0,0,0,0,0,0,0,0,0,0,0,0,0,0,0,0,0,0,0,0,0,0,0,0,0,0,0,0,0,0,0,0,0,0,0,0,0,0,0,0,0,0,0,0,0,0,0,0,0,0,0,0,0,0,0,0,0,0,0,0,0,0,null,0,1,0,null,0,0]
[120,163,5,null,null,"Q:","What is the maximum distance for 50% of the field (i.e., average distance) from the NPHE?","Guidance","Additional Guidance","List PLU's",null,null,null,null,1,null,null,null,null,null,null,null,null,null,1,null,1,null,null,null,null,null,null,null,null,null,null,null,null,null,null,null,null,null,null,null,null,null,null,null,null,null,null,null,null,null,null,null,null,null,null,null,null,null,null,null,null,null,null,null,1,null,null,null,null,null,null,null,null,0,0,0,0,0,0,0,0,0,0,0,0,0,0,0,0,0,0,0,0,0,0,0,0,0,0,0,0,0,0,0,0,0,0,0,0,0,0,0,0,0,0,0,0,0,0,0,0,0,0,0,0,0,0,0,0,0,0,0,0,0,0,0,0,0,0,0,0,0,null,0,1,0,null,0,0]
[120,166,5,null,null,null," >660 to <=1320",null,"N/A in Iowa",null,null,null,null,null,1,null,null,null,null,null,null,null,null,null,1,null,1,null,null,null,null,null,null,null,null,null,null,null,null,null,null,null,null,null,null,null,null,null,null,null,null,null,null,null,null,null,null,null,null,null,null,null,null,null,null,null,null,null,null,null,1,null,null,null,null,null,null,null,null,0,0,0,0,0,0,0,0,0,0,0,0,0,0,0,0,0,0,0,0,0,0,0,0,0,0,0,0,0,0,0,0,0,0,0,0,0,0,0,0,0,0,0,0,0,0,0,0,0,0,0,0,0,0,0,0,0,0,0,0,0,0,0,0,0,0,0,0,0,null,0,1,0,null,0,0]
[120,168,5,null,null,null," >2640 feet",null,"N/A in Iowa",null,null,null,null,null,1,null,null,null,null,null,null,null,null,null,1,null,1,null,null,null,null,null,null,null,null,null,null,null,null,null,null,null,null,null,null,null,null,null,null,null,null,null,null,null,null,null,null,null,null,null,null,null,null,null,null,null,null,null,null,null,1,null,null,null,null,null,null,null,null,0,0,0,0,0,0,0,0,0,0,0,0,0,0,0,0,0,0,0,0,0,0,0,0,0,0,0,0,0,0,0,0,0,0,0,0,0,0,0,0,0,0,0,0,0,0,0,0,0,0,0,0,0,0,0,0,0,0,0,0,0,0,0,0,0,0,0,0,0,null,0,1,0,null,0,{"$f":"MAX(CR854:ER854)","v":0}]
[120,171,5,null,null,null," 25-50% of potential, one dominant group and/or one or more subdominant group replaced by structural or functional groups not expected for the site, number of species within structural or functional groups has been significantly reduced, or some combination of these",null,"N/A in Iowa",null,null,null,null,null,null,null,null,1,null,null,null,null,null,null,1,null,1,null,null,null,null,null,null,null,null,null,null,null,null,null,null,null,null,null,null,null,null,null,null,null,null,null,null,null,null,null,null,null,null,null,null,null,null,null,null,null,null,null,null,null,1,null,null,null,null,null,null,null,null,0,0,0,0,0,0,0,0,0,0,0,0,0,0,0,0,0,0,0,0,0,0,0,0,0,0,0,0,0,0,0,0,0,0,0,0,0,0,0,0,0,0,0,0,0,0,0,0,0,0,0,0,0,0,0,0,0,0,0,0,0,0,0,0,0,0,0,0,0,null,0,1,0,null,0,0]
[120,172,5,null,null,null," 51 to 75%, one or more subdominant structural or functional groups replaced by structural or functional groups not expected for the site, the number of species within the structural or functional groups has been moderately reduced, or some combination of these",null,"N/A in Iowa",null,null,null,null,null,null,null,null,1,null,null,null,null,null,null,1,null,1,null,null,null,null,null,null,null,null,null,null,null,null,null,null,null,null,null,null,null,null,null,null,null,null,null,null,null,null,null,null,null,null,null,null,null,null,null,null,null,null,null,null,null,1,null,null,null,null,null,null,null,null,0,0,0,0,0,0,0,0,0,0,0,0,0,0,0,0,0,0,0,0,0,0,0,0,0,0,0,0,0,0,0,0,0,0,0,0,0,0,0,0,0,0,0,0,0,0,0,0,0,0,0,0,0,0,0,0,0,0,0,0,0,0,0,0,0,0,0,0,0,null,0,1,0,null,0,0]
[120,174,5,null,null,"Q:","What is the grazing management?","Guidance","Additional Guidance","List PLU's",null,null,null,null,null,null,null,1,null,null,null,null,null,null,1,null,1,null,null,null,null,null,null,null,null,null,null,null,null,null,null,null,null,null,null,null,null,null,null,null,null,null,null,null,null,null,null,null,null,null,null,null,null,null,null,null,null,null,null,null,1,null,null,null,null,null,null,null,null,{"$f":"IF(CB$5=TRUE,K861,0)","v":0},{"$f":"IF(CC$5=TRUE,L861,0)","v":0},{"$f":"IF(CD$5=TRUE,M861,0)","v":0},{"$f":"IF(CE$5=TRUE,N861,0)","v":0},{"$f":"IF(CF$5=TRUE,O861,0)","v":0},{"$f":"IF(CG$5=TRUE,P861,0)","v":0},{"$f":"IF(CH$5=TRUE,Q861,0)","v":0},{"$f":"IF(CI$5=TRUE,R861,0)","v":0},{"$f":"IF(CJ$5=TRUE,S861,0)","v":0},{"$f":"IF(CK$5=TRUE,T861,0)","v":0},{"$f":"IF(CL$5=TRUE,U861,0)","v":0},{"$f":"IF(CM$5=TRUE,V861,0)","v":0},{"$f":"IF(CN$5=TRUE,W861,0)","v":0},{"$f":"IF(CO$5=TRUE,X861,0)","v":0},{"$f":"IF(CP$5=TRUE,Y861,0)","v":0},{"$f":"IF(CQ$5=TRUE,Z861,0)","v":0},0,0,0,0,0,0,0,0,0,0,0,0,0,0,0,0,0,0,0,0,0,0,0,0,0,0,0,0,0,0,0,0,0,0,0,0,0,0,0,0,0,0,0,0,0,0,0,0,0,0,0,0,0,null,{"$f":"MAX(CB861:CQ861)","v":0},1,0,null,0,0]
[120,177,5,null,null,null," Moderately grazed with some ungrazed or lightly grazed patches. Standing grass or forb cover is present during the winter and through the reproductive season.",null,"N/A in Iowa",null,null,null,null,null,null,null,null,1,null,null,null,null,null,null,1,null,1,null,null,null,null,null,null,null,null,null,null,null,null,null,null,null,null,null,null,null,null,null,null,null,null,null,null,null,null,null,null,null,null,null,null,null,null,null,null,null,null,null,null,null,1,null,null,null,null,null,null,null,null,0,0,0,0,0,0,0,0,0,0,0,0,0,0,0,0,0,0,0,0,0,0,0,0,0,0,0,0,0,0,0,0,0,0,0,0,0,0,0,0,0,0,0,0,0,0,0,0,0,0,0,0,0,0,0,0,0,0,0,0,0,0,0,0,0,0,0,0,0,null,0,1,0,null,0,0]
[120,180,5,null,null,null," <=25%",null,"N/A in Iowa",null,null,null,null,null,null,null,null,1,null,null,null,null,null,null,1,null,1,null,null,null,null,null,null,null,null,null,null,null,null,null,null,null,null,null,null,null,null,null,null,null,null,null,null,null,null,null,null,null,null,null,null,null,null,null,null,null,null,null,null,null,1,null,null,null,null,null,null,null,null,0,0,0,0,0,0,0,0,0,0,0,0,0,0,0,0,0,0,0,0,0,0,0,0,0,0,0,0,0,0,0,0,0,0,0,0,0,0,0,0,0,0,0,0,0,0,0,0,0,0,0,0,0,0,0,0,0,0,0,0,0,0,0,0,0,0,0,0,0,null,0,1,0,null,0,0]
[120,182,5,null,null,null," >50 and <=75%",null,"N/A in Iowa",null,null,null,null,null,null,null,null,1,null,null,null,null,null,null,1,null,1,null,null,null,null,null,null,null,null,null,null,null,null,null,null,null,null,null,null,null,null,null,null,null,null,null,null,null,null,null,null,null,null,null,null,null,null,null,null,null,null,null,null,null,1,null,null,null,null,null,null,null,null,0,0,0,0,0,0,0,0,0,0,0,0,0,0,0,0,0,0,0,0,0,0,0,0,0,0,0,0,0,0,0,0,0,0,0,0,0,0,0,0,0,0,0,0,0,0,0,0,0,0,0,0,0,0,0,0,0,0,0,0,0,0,0,0,0,0,0,0,0,null,0,1,0,null,0,0]
[120,185,5,null,null,null," Artificial watering sources are not applicable for the area",null,"N/A in Iowa",null,null,null,null,null,null,null,null,1,null,null,null,null,null,null,1,null,1,null,null,null,null,null,null,null,null,null,null,null,null,null,null,null,null,null,null,null,null,null,null,null,null,null,null,null,null,null,null,null,null,null,null,null,null,null,null,null,null,null,null,null,1,null,null,null,null,null,null,null,null,0,0,0,0,0,0,0,0,0,0,0,0,0,0,0,0,0,0,0,0,0,0,0,0,0,0,0,0,0,0,0,0,0,0,0,0,0,0,0,0,0,0,0,0,0,0,0,0,0,0,0,0,0,0,0,0,0,0,0,0,0,0,0,0,0,0,0,0,0,null,0,1,0,null,0,0]
[120,187,5,null,null,null," >25 to <=50%",null,"N/A in Iowa",null,null,null,null,null,null,null,null,1,null,null,null,null,null,null,1,null,1,null,null,null,null,null,null,null,null,null,null,null,null,null,null,null,null,null,null,null,null,null,null,null,null,null,null,null,null,null,null,null,null,null,null,null,null,null,null,null,null,null,null,null,1,null,null,null,null,null,null,null,null,0,0,0,0,0,0,0,0,0,0,0,0,0,0,0,0,0,0,0,0,0,0,0,0,0,0,0,0,0,0,0,0,0,0,0,0,0,0,0,0,0,0,0,0,0,0,0,0,0,0,0,0,0,0,0,0,0,0,0,0,0,0,0,0,0,0,0,0,0,null,0,1,0,null,0,0]
[120,191,5,null,null,null," Woody species are not managed for wildlife. There is an evident browse line or brush is totally eliminated with brush control measures.",null,"N/A in Iowa",null,null,null,null,null,null,null,null,1,null,null,null,null,null,null,1,null,1,null,null,null,null,null,null,null,null,null,null,null,null,null,null,null,null,null,null,null,null,null,null,null,null,null,null,null,null,null,null,null,null,null,null,null,null,null,null,null,null,null,null,null,1,null,null,null,null,null,null,null,null,0,0,0,0,0,0,0,0,0,0,0,0,0,0,0,0,0,0,0,0,0,0,0,0,0,0,0,0,0,0,0,0,0,0,0,0,0,0,0,0,0,0,0,0,0,0,0,0,0,0,0,0,0,0,0,0,0,0,0,0,0,0,0,0,0,0,0,0,0,null,0,1,0,null,0,0]
[120,192,5,null,null,null," Woody species are managed so that populations are consistent with the desired ecological state or beneficial to targeted wildlife species. There is absence of a browse line, although hedging on key browse plants may be observed. Brush is only partially eliminated with brush control measures.",null,"N/A in Iowa",null,null,null,null,null,null,null,null,1,null,null,null,null,null,null,1,null,1,null,null,null,null,null,null,null,null,null,null,null,null,null,null,null,null,null,null,null,null,null,null,null,null,null,null,null,null,null,null,null,null,null,null,null,null,null,null,null,null,null,null,null,1,null,null,null,null,null,null,null,null,0,0,0,0,0,0,0,0,0,0,0,0,0,0,0,0,0,0,0,0,0,0,0,0,0,0,0,0,0,0,0,0,0,0,0,0,0,0,0,0,0,0,0,0,0,0,0,0,0,0,0,0,0,0,0,0,0,0,0,0,0,0,0,0,0,0,0,0,0,null,0,1,0,null,0,0]
[120,195,5,null,null,null," <=5% of the site has invasive or noxious plants that appear controlled",null,"N/A in Iowa",null,null,null,null,null,null,null,null,1,null,null,null,null,null,null,1,null,1,null,null,null,null,null,null,null,null,null,null,null,null,null,null,null,null,null,null,null,null,null,null,null,null,null,null,null,null,null,null,null,null,null,null,null,null,null,null,null,null,null,null,null,1,null,null,null,null,null,null,null,null,0,0,0,0,0,0,0,0,0,0,0,0,0,0,0,0,0,0,0,0,0,0,0,0,0,0,0,0,0,0,0,0,0,0,0,0,0,0,0,0,0,0,0,0,0,0,0,0,0,0,0,0,0,0,0,0,0,0,0,0,0,0,0,0,0,0,0,0,0,null,0,1,0,null,0,0]
[120,196,5,null,null,null," >5 and <=20% of the site has invasive or noxious plants that appear controlled",null,"N/A in Iowa",null,null,null,null,null,null,null,null,1,null,null,null,null,null,null,1,null,1,null,null,null,null,null,null,null,null,null,null,null,null,null,null,null,null,null,null,null,null,null,null,null,null,null,null,null,null,null,null,null,null,null,null,null,null,null,null,null,null,null,null,null,1,null,null,null,null,null,null,null,null,0,0,0,0,0,0,0,0,0,0,0,0,0,0,0,0,0,0,0,0,0,0,0,0,0,0,0,0,0,0,0,0,0,0,0,0,0,0,0,0,0,0,0,0,0,0,0,0,0,0,0,0,0,0,0,0,0,0,0,0,0,0,0,0,0,0,0,0,0,null,0,1,0,null,0,0]
[120,197,5,null,null,null," >20% of the site has invasive or noxious plants",null,"N/A in Iowa",null,null,null,null,null,null,null,null,1,null,null,null,null,null,null,1,null,1,null,null,null,null,null,null,null,null,null,null,null,null,null,null,null,null,null,null,null,null,null,null,null,null,null,null,null,null,null,null,null,null,null,null,null,null,null,null,null,null,null,null,null,1,null,null,null,null,null,null,null,null,0,0,0,0,0,0,0,0,0,0,0,0,0,0,0,0,0,0,0,0,0,0,0,0,0,0,0,0,0,0,0,0,0,0,0,0,0,0,0,0,0,0,0,0,0,0,0,0,0,0,0,0,0,0,0,0,0,0,0,0,0,0,0,0,0,0,0,0,0,null,0,1,0,null,0,0]
[120,137,5,null,null,"Forest",null,null,null,null,null,null,null,1,null,null,null,null,null,null,null,null,null,null,1,null,1,null,null,null,null,null,null,null,null,null,null,null,null,null,null,null,null,null,null,null,null,null,null,null,null,null,null,null,null,null,null,null,null,null,null,null,null,null,null,null,null,null,null,null,1,null,null,null,null,null,null,null,null,0,0,0,0,0,0,0,0,0,0,0,0,0,0,0,0,0,{"$f":"IF(CS$5=\"TRUE\",AA885,0)","v":0},{"$f":"IF(CT$5=TRUE,AB885,0)","v":0},{"$f":"IF(CU$5=TRUE,AC885,0)","v":0},{"$f":"IF(CV$5=TRUE,AD885,0)","v":0},{"$f":"IF(CW$5=TRUE,AE885,0)","v":0},{"$f":"IF(CX$5=TRUE,AF885,0)","v":0},{"$f":"IF(CY$5=TRUE,AG885,0)","v":0},{"$f":"IF(CZ$5=TRUE,AH885,0)","v":0},{"$f":"IF(DA$5=TRUE,AI885,0)","v":0},{"$f":"IF(DB$5=TRUE,AJ885,0)","v":0},{"$f":"IF(DC$5=TRUE,AK885,0)","v":0},{"$f":"IF(DD$5=TRUE,AL885,0)","v":0},{"$f":"IF(DE$5=TRUE,AM885,0)","v":0},{"$f":"IF(DF$5=TRUE,AN885,0)","v":0},{"$f":"IF(DG$5=TRUE,AO885,0)","v":0},{"$f":"IF(DH$5=TRUE,AP885,0)","v":0},{"$f":"IF(DI$5=TRUE,AQ885,0)","v":0},{"$f":"IF(DJ$5=TRUE,AR885,0)","v":0},{"$f":"IF(DK$5=TRUE,AS885,0)","v":0},{"$f":"IF(DL$5=TRUE,AT885,0)","v":0},{"$f":"IF(DM$5=TRUE,AU885,0)","v":0},{"$f":"IF(DN$5=TRUE,AV885,0)","v":0},{"$f":"IF(DO$5=TRUE,AW885,0)","v":0},{"$f":"IF(DP$5=TRUE,AX885,0)","v":0},{"$f":"IF(DQ$5=TRUE,AY885,0)","v":0},{"$f":"IF(DR$5=TRUE,AZ885,0)","v":0},{"$f":"IF(DS$5=TRUE,BA885,0)","v":0},{"$f":"IF(DT$5=TRUE,BB885,0)","v":0},{"$f":"IF(DU$5=TRUE,BC885,0)","v":0},{"$f":"IF(DV$5=TRUE,BD885,0)","v":0},{"$f":"IF(DW$5=TRUE,BE885,0)","v":0},{"$f":"IF(DX$5=TRUE,BF885,0)","v":0},{"$f":"IF(DY$5=TRUE,BG885,0)","v":0},{"$f":"IF(DZ$5=TRUE,BH885,0)","v":0},{"$f":"IF(EA$5=TRUE,BI885,0)","v":0},{"$f":"IF(EB$5=TRUE,BJ885,0)","v":0},{"$f":"IF(EC$5=TRUE,BK885,0)","v":0},{"$f":"IF(ED$5=TRUE,BL885,0)","v":0},{"$f":"IF(EE$5=TRUE,BM885,0)","v":0},{"$f":"IF(EF$5=TRUE,BN885,0)","v":0},{"$f":"IF(EG$5=TRUE,BO885,0)","v":0},{"$f":"IF(EH$5=TRUE,BP885,0)","v":0},{"$f":"IF(EI$5=TRUE,BQ885,0)","v":0},{"$f":"IF(EJ$5=TRUE,BR885,0)","v":0},{"$f":"IF(EK$5=TRUE,BS885,0)","v":0},{"$f":"IF(EL$5=TRUE,BT885,0)","v":0},{"$f":"IF(EM$5=TRUE,BU885,0)","v":0},{"$f":"IF(EN$5=TRUE,BV885,0)","v":0},{"$f":"IF(EO$5=TRUE,BW885,0)","v":0},{"$f":"IF(EP$5=TRUE,BX885,0)","v":0},{"$f":"IF(EQ$5=TRUE,BY885,0)","v":0},{"$f":"IF(ER$5=TRUE,BZ885,0)","v":0},null,0,1,0,null,{"$f":"CP885*CE885","v":0},0]
[120,198,5,null,null,"Q:","Is there a forest or woodland management plan that contains prescriptions for a target species?","Guidance","Additional Guidance","List PLU's",null,null,null,1,null,null,null,null,null,null,null,null,null,null,1,null,1,null,null,null,null,null,null,null,null,null,null,null,null,null,null,null,null,null,null,null,null,null,null,null,null,null,null,null,null,null,null,null,null,null,null,null,null,null,null,null,null,null,null,null,1,null,null,null,null,null,null,null,null,0,0,0,0,0,0,0,0,0,0,0,0,0,0,0,0,0,0,0,0,0,0,0,0,0,0,0,0,0,0,0,0,0,0,0,0,0,0,0,0,0,0,0,0,0,0,0,0,0,0,0,0,0,0,0,0,0,0,0,0,0,0,0,0,0,0,0,0,0,null,0,1,{"$f":"EX886*EU886*EY886","v":0},null,0,{"$f":"MAX(CR886:ER886)","v":0}]
[120,199,5,null,null,null," Yes",null,"N/A in Iowa",null,null,null,null,1,null,null,null,null,null,null,null,null,null,null,1,null,1,null,null,null,null,null,null,null,null,null,null,null,null,null,null,null,null,null,null,null,null,null,null,null,null,null,null,null,null,null,null,null,null,null,null,null,null,null,null,null,null,null,null,null,1,null,null,null,null,null,null,null,null,0,0,0,0,0,0,0,0,0,0,0,0,0,0,0,0,0,0,0,0,0,0,0,0,0,0,0,0,0,0,0,0,0,0,0,0,0,0,0,0,0,0,0,0,0,0,0,0,0,0,0,0,0,0,0,0,0,0,0,0,0,0,0,0,0,0,0,0,0,null,0,1,0,null,0,0]
[120,200,5,null,null,null," No",null,"N/A in Iowa",null,null,null,null,1,null,null,null,null,null,null,null,null,null,null,1,null,1,null,null,null,null,null,null,null,null,null,null,null,null,null,null,null,null,null,null,null,null,null,null,null,null,null,null,null,null,null,null,null,null,null,null,null,null,null,null,null,null,null,null,null,1,null,null,null,null,null,null,null,null,0,0,0,0,0,0,0,0,0,0,0,0,0,0,0,0,0,0,0,0,0,0,0,0,0,0,0,0,0,0,0,0,0,0,0,0,0,0,0,0,0,0,0,0,0,0,0,0,0,0,0,0,0,0,0,0,0,0,0,0,0,0,0,0,0,0,0,0,0,null,0,1,0,null,0,0]
[120,201,5,null,null,"Q:","Based on land resource inventory data (soil survey, ESD, historical research, etc.), are trees within the forest stand native and likely to have historically existed on site? ","Guidance","Additional Guidance","List PLU's",null,null,null,1,null,null,null,null,null,null,null,null,null,null,1,null,1,null,null,null,null,null,null,null,null,null,null,null,null,null,null,null,null,null,null,null,null,null,null,null,null,null,null,null,null,null,null,null,null,null,null,null,null,null,null,null,null,null,null,null,1,null,null,null,null,null,null,null,null,0,0,0,0,0,0,0,0,0,0,0,0,0,0,0,0,0,0,0,0,0,0,0,0,0,0,0,0,0,0,0,0,0,0,0,0,0,0,0,0,0,0,0,0,0,0,0,0,0,0,0,0,0,0,0,0,0,0,0,0,0,0,0,0,0,0,0,0,0,null,0,1,0,null,0,0]
[120,202,5,null,null,null," Yes",null,"N/A in Iowa",null,null,null,null,1,null,null,null,null,null,null,null,null,null,null,1,null,1,null,null,null,null,null,null,null,null,null,null,null,null,null,null,null,null,null,null,null,null,null,null,null,null,null,null,null,null,null,null,null,null,null,null,null,null,null,null,null,null,null,null,null,1,null,null,null,null,null,null,null,null,0,0,0,0,0,0,0,0,0,0,0,0,0,0,0,0,0,0,0,0,0,0,0,0,0,0,0,0,0,0,0,0,0,0,0,0,0,0,0,0,0,0,0,0,0,0,0,0,0,0,0,0,0,0,0,0,0,0,0,0,0,0,0,0,0,0,0,0,0,null,0,1,0,null,0,0]
[120,203,5,null,null,null," No",null,"N/A in Iowa",null,null,null,null,1,null,null,null,null,null,null,null,null,null,null,1,null,1,null,null,null,null,null,null,null,null,null,null,null,null,null,null,null,null,null,null,null,null,null,null,null,null,null,null,null,null,null,null,null,null,null,null,null,null,null,null,null,null,null,null,null,1,null,null,null,null,null,null,null,null,0,0,0,0,0,0,0,0,0,0,0,0,0,0,0,0,0,0,0,0,0,0,0,0,0,0,0,0,0,0,0,0,0,0,0,0,0,0,0,0,0,0,0,0,0,0,0,0,0,0,0,0,0,0,0,0,0,0,0,0,0,0,0,0,0,0,0,0,0,null,0,1,0,null,0,0]
[120,204,5,null,null,"Q:","Does the forest stand or woodlands type, extent, and management provide sufficient habitat for target wildlife or pollinators?","Guidance","Additional Guidance","List PLU's",null,null,null,1,null,null,null,null,null,null,null,null,null,null,1,null,1,null,null,null,null,null,null,null,null,null,null,null,null,null,null,null,null,null,null,null,null,null,null,null,null,null,null,null,null,null,null,null,null,null,null,null,null,null,null,null,null,null,null,null,1,null,null,null,null,null,null,null,null,0,0,0,0,0,0,0,0,0,0,0,0,0,0,0,0,0,0,0,0,0,0,0,0,0,0,0,0,0,0,0,0,0,0,0,0,0,0,0,0,0,0,0,0,0,0,0,0,0,0,0,0,0,0,0,0,0,0,0,0,0,0,0,0,0,0,0,0,0,null,0,1,0,null,0,0]
[120,205,5,null,null,null," Yes",null,"N/A in Iowa",null,null,null,null,1,null,null,null,null,null,null,null,null,null,null,1,null,1,null,null,null,null,null,null,null,null,null,null,null,null,null,null,null,null,null,null,null,null,null,null,null,null,null,null,null,null,null,null,null,null,null,null,null,null,null,null,null,null,null,null,null,1,null,null,null,null,null,null,null,null,0,0,0,0,0,0,0,0,0,0,0,0,0,0,0,0,0,0,0,0,0,0,0,0,0,0,0,0,0,0,0,0,0,0,0,0,0,0,0,0,0,0,0,0,0,0,0,0,0,0,0,0,0,0,0,0,0,0,0,0,0,0,0,0,0,0,0,0,0,null,0,1,0,null,0,0]
[120,206,5,null,null,null," No",null,"N/A in Iowa",null,null,null,null,1,null,null,null,null,null,null,null,null,null,null,1,null,1,null,null,null,null,null,null,null,null,null,null,null,null,null,null,null,null,null,null,null,null,null,null,null,null,null,null,null,null,null,null,null,null,null,null,null,null,null,null,null,null,null,null,null,1,null,null,null,null,null,null,null,null,0,0,0,0,0,0,0,0,0,0,0,0,0,0,0,0,0,0,0,0,0,0,0,0,0,0,0,0,0,0,0,0,0,0,0,0,0,0,0,0,0,0,0,0,0,0,0,0,0,0,0,0,0,0,0,0,0,0,0,0,0,0,0,0,0,0,0,0,0,null,0,1,0,null,0,0]
[120,207,5,null,null,"Q:","Are invasive plants, insects, or diseases (as determined by State lists) managed and not contributing to the degradation of the forest or woodland habitat such that it negatively impacts target wildlife or pollinator species?","Guidance","Additional State Guidance","List PLU's",null,null,null,1,null,null,null,null,null,null,null,null,null,null,1,null,1,null,null,null,null,null,null,null,null,null,null,null,null,null,null,null,null,null,null,null,null,null,null,null,null,null,null,null,null,null,null,null,null,null,null,null,null,null,null,null,null,null,null,null,1,null,null,null,null,null,null,null,null,0,0,0,0,0,0,0,0,0,0,0,0,0,0,0,0,0,0,0,0,0,0,0,0,0,0,0,0,0,0,0,0,0,0,0,0,0,0,0,0,0,0,0,0,0,0,0,0,0,0,0,0,0,0,0,0,0,0,0,0,0,0,0,0,0,0,0,0,0,null,0,1,0,null,0,0]
[120,208,5,null,null,null," Yes",null,"N/A in Iowa",null,null,null,null,1,null,null,null,null,null,null,null,null,null,null,1,null,1,null,null,null,null,null,null,null,null,null,null,null,null,null,null,null,null,null,null,null,null,null,null,null,null,null,null,null,null,null,null,null,null,null,null,null,null,null,null,null,null,null,null,null,1,null,null,null,null,null,null,null,null,0,0,0,0,0,0,0,0,0,0,0,0,0,0,0,0,0,0,0,0,0,0,0,0,0,0,0,0,0,0,0,0,0,0,0,0,0,0,0,0,0,0,0,0,0,0,0,0,0,0,0,0,0,0,0,0,0,0,0,0,0,0,0,0,0,0,0,0,0,null,0,1,0,null,0,0]
[120,209,5,null,null,null," No",null,"N/A in Iowa",null,null,null,null,1,null,null,null,null,null,null,null,null,null,null,1,null,1,null,null,null,null,null,null,null,null,null,null,null,null,null,null,null,null,null,null,null,null,null,null,null,null,null,null,null,null,null,null,null,null,null,null,null,null,null,null,null,null,null,null,null,1,null,null,null,null,null,null,null,null,0,0,0,0,0,0,0,0,0,0,0,0,0,0,0,0,0,0,0,0,0,0,0,0,0,0,0,0,0,0,0,0,0,0,0,0,0,0,0,0,0,0,0,0,0,0,0,0,0,0,0,0,0,0,0,0,0,0,0,0,0,0,0,0,0,0,0,0,0,null,0,1,0,null,0,0]
[120,210,5,null,null,"Q:","What is the percent cover of native shrubs, vines and herbaceous plants combined, within the understory?","Guidance","Additional Guidance","List PLU's",null,null,null,1,null,null,null,null,null,null,null,null,null,null,1,null,1,null,null,null,null,null,null,null,null,null,null,null,null,null,null,null,null,null,null,null,null,null,null,null,null,null,null,null,null,null,null,null,null,null,null,null,null,null,null,null,null,null,null,null,1,null,null,null,null,null,null,null,null,0,0,0,0,0,0,0,0,0,0,0,0,0,0,0,0,0,0,0,0,0,0,0,0,0,0,0,0,0,0,0,0,0,0,0,0,0,0,0,0,0,0,0,0,0,0,0,0,0,0,0,0,0,0,0,0,0,0,0,0,0,0,0,0,0,0,0,0,0,null,0,1,0,null,0,0]
[120,211,5,null,null,null," >90%",null,"N/A in Iowa",null,null,null,null,1,null,null,null,null,null,null,null,null,null,null,1,null,1,null,null,null,null,null,null,null,null,null,null,null,null,null,null,null,null,null,null,null,null,null,null,null,null,null,null,null,null,null,null,null,null,null,null,null,null,null,null,null,null,null,null,null,1,null,null,null,null,null,null,null,null,0,0,0,0,0,0,0,0,0,0,0,0,0,0,0,0,0,0,0,0,0,0,0,0,0,0,0,0,0,0,0,0,0,0,0,0,0,0,0,0,0,0,0,0,0,0,0,0,0,0,0,0,0,0,0,0,0,0,0,0,0,0,0,0,0,0,0,0,0,null,0,1,0,null,0,0]
[120,212,5,null,null,null," >75 to <=90%",null,"N/A in Iowa",null,null,null,null,1,null,null,null,null,null,null,null,null,null,null,1,null,1,null,null,null,null,null,null,null,null,null,null,null,null,null,null,null,null,null,null,null,null,null,null,null,null,null,null,null,null,null,null,null,null,null,null,null,null,null,null,null,null,null,null,null,1,null,null,null,null,null,null,null,null,0,0,0,0,0,0,0,0,0,0,0,0,0,0,0,0,0,0,0,0,0,0,0,0,0,0,0,0,0,0,0,0,0,0,0,0,0,0,0,0,0,0,0,0,0,0,0,0,0,0,0,0,0,0,0,0,0,0,0,0,0,0,0,0,0,0,0,0,0,null,0,1,0,null,0,0]
[120,213,5,null,null,null," >50 to <=75%",null,"N/A in Iowa",null,null,null,null,1,null,null,null,null,null,null,null,null,null,null,1,null,1,null,null,null,null,null,null,null,null,null,null,null,null,null,null,null,null,null,null,null,null,null,null,null,null,null,null,null,null,null,null,null,null,null,null,null,null,null,null,null,null,null,null,null,1,null,null,null,null,null,null,null,null,0,0,0,0,0,0,0,0,0,0,0,0,0,0,0,0,0,{"$f":"IF(CS$5=\"TRUE\",AA901,0)","v":0},{"$f":"IF(CT$5=TRUE,AB901,0)","v":0},{"$f":"IF(CU$5=TRUE,AC901,0)","v":0},{"$f":"IF(CV$5=TRUE,AD901,0)","v":0},{"$f":"IF(CW$5=TRUE,AE901,0)","v":0},{"$f":"IF(CX$5=TRUE,AF901,0)","v":0},{"$f":"IF(CY$5=TRUE,AG901,0)","v":0},{"$f":"IF(CZ$5=TRUE,AH901,0)","v":0},{"$f":"IF(DA$5=TRUE,AI901,0)","v":0},{"$f":"IF(DB$5=TRUE,AJ901,0)","v":0},{"$f":"IF(DC$5=TRUE,AK901,0)","v":0},{"$f":"IF(DD$5=TRUE,AL901,0)","v":0},{"$f":"IF(DE$5=TRUE,AM901,0)","v":0},{"$f":"IF(DF$5=TRUE,AN901,0)","v":0},{"$f":"IF(DG$5=TRUE,AO901,0)","v":0},{"$f":"IF(DH$5=TRUE,AP901,0)","v":0},{"$f":"IF(DI$5=TRUE,AQ901,0)","v":0},{"$f":"IF(DJ$5=TRUE,AR901,0)","v":0},{"$f":"IF(DK$5=TRUE,AS901,0)","v":0},{"$f":"IF(DL$5=TRUE,AT901,0)","v":0},{"$f":"IF(DM$5=TRUE,AU901,0)","v":0},{"$f":"IF(DN$5=TRUE,AV901,0)","v":0},{"$f":"IF(DO$5=TRUE,AW901,0)","v":0},{"$f":"IF(DP$5=TRUE,AX901,0)","v":0},{"$f":"IF(DQ$5=TRUE,AY901,0)","v":0},{"$f":"IF(DR$5=TRUE,AZ901,0)","v":0},{"$f":"IF(DS$5=TRUE,BA901,0)","v":0},{"$f":"IF(DT$5=TRUE,BB901,0)","v":0},{"$f":"IF(DU$5=TRUE,BC901,0)","v":0},{"$f":"IF(DV$5=TRUE,BD901,0)","v":0},{"$f":"IF(DW$5=TRUE,BE901,0)","v":0},{"$f":"IF(DX$5=TRUE,BF901,0)","v":0},{"$f":"IF(DY$5=TRUE,BG901,0)","v":0},{"$f":"IF(DZ$5=TRUE,BH901,0)","v":0},{"$f":"IF(EA$5=TRUE,BI901,0)","v":0},{"$f":"IF(EB$5=TRUE,BJ901,0)","v":0},{"$f":"IF(EC$5=TRUE,BK901,0)","v":0},{"$f":"IF(ED$5=TRUE,BL901,0)","v":0},{"$f":"IF(EE$5=TRUE,BM901,0)","v":0},{"$f":"IF(EF$5=TRUE,BN901,0)","v":0},{"$f":"IF(EG$5=TRUE,BO901,0)","v":0},{"$f":"IF(EH$5=TRUE,BP901,0)","v":0},{"$f":"IF(EI$5=TRUE,BQ901,0)","v":0},{"$f":"IF(EJ$5=TRUE,BR901,0)","v":0},{"$f":"IF(EK$5=TRUE,BS901,0)","v":0},{"$f":"IF(EL$5=TRUE,BT901,0)","v":0},{"$f":"IF(EM$5=TRUE,BU901,0)","v":0},{"$f":"IF(EN$5=TRUE,BV901,0)","v":0},{"$f":"IF(EO$5=TRUE,BW901,0)","v":0},{"$f":"IF(EP$5=TRUE,BX901,0)","v":0},{"$f":"IF(EQ$5=TRUE,BY901,0)","v":0},{"$f":"IF(ER$5=TRUE,BZ901,0)","v":0},null,0,1,0,null,0,0]
[120,214,5,null,null,null," >25 to <=50%",null,"N/A in Iowa",null,null,null,null,1,null,null,null,null,null,null,null,null,null,null,1,null,1,null,null,null,null,null,null,null,null,null,null,null,null,null,null,null,null,null,null,null,null,null,null,null,null,null,null,null,null,null,null,null,null,null,null,null,null,null,null,null,null,null,null,null,1,null,null,null,null,null,null,null,null,0,0,0,0,0,0,0,0,0,0,0,0,0,0,0,0,0,0,0,0,0,0,0,0,0,0,0,0,0,0,0,0,0,0,0,0,0,0,0,0,0,0,0,0,0,0,0,0,0,0,0,0,0,0,0,0,0,0,0,0,0,0,0,0,0,0,0,0,0,null,0,1,0,null,0,0]
[120,215,5,null,null,null," >10 to <=25%",null,"N/A in Iowa",null,null,null,null,1,null,null,null,null,null,null,null,null,null,null,1,null,1,null,null,null,null,null,null,null,null,null,null,null,null,null,null,null,null,null,null,null,null,null,null,null,null,null,null,null,null,null,null,null,null,null,null,null,null,null,null,null,null,null,null,null,1,null,null,null,null,null,null,null,null,0,0,0,0,0,0,0,0,0,0,0,0,0,0,0,0,0,0,0,0,0,0,0,0,0,0,0,0,0,0,0,0,0,0,0,0,0,0,0,0,0,0,0,0,0,0,0,0,0,0,0,0,0,0,0,0,0,0,0,0,0,0,0,0,0,0,0,0,0,null,0,1,0,null,0,0]
[120,216,5,null,null,null," <=10%",null,"N/A in Iowa",null,null,null,null,1,null,null,null,null,null,null,null,null,null,null,1,null,1,null,null,null,null,null,null,null,null,null,null,null,null,null,null,null,null,null,null,null,null,null,null,null,null,null,null,null,null,null,null,null,null,null,null,null,null,null,null,null,null,null,null,null,1,null,null,null,null,null,null,null,null,0,0,0,0,0,0,0,0,0,0,0,0,0,0,0,0,0,0,0,0,0,0,0,0,0,0,0,0,0,0,0,0,0,0,0,0,0,0,0,0,0,0,0,0,0,0,0,0,0,0,0,0,0,0,0,0,0,0,0,0,0,0,0,0,0,0,0,0,0,null,0,1,0,null,0,0]
[120,217,5,null,null,"Q:","What is the extent and management of invasive plant species?","Guidance","Additional Guidance","List PLU's",null,null,null,1,null,null,null,null,null,null,null,null,null,null,1,null,1,null,null,null,null,null,null,null,null,null,null,null,null,null,null,null,null,null,null,null,null,null,null,null,null,null,null,null,null,null,null,null,null,null,null,null,null,null,null,null,null,null,null,null,1,null,null,null,null,null,null,null,null,0,0,0,0,0,0,0,0,0,0,0,0,0,0,0,0,0,0,0,0,0,0,0,0,0,0,0,0,0,0,0,0,0,0,0,0,0,0,0,0,0,0,0,0,0,0,0,0,0,0,0,0,0,0,0,0,0,0,0,0,0,0,0,0,0,0,0,0,0,null,0,1,0,null,0,0]
[120,218,5,null,null,null," No invasive plant species identified, not damage or infestation",null,"N/A in Iowa",null,null,null,null,1,null,null,null,null,null,null,null,null,null,null,1,null,1,null,null,null,null,null,null,null,null,null,null,null,null,null,null,null,null,null,null,null,null,null,null,null,null,null,null,null,null,null,null,null,null,null,null,null,null,null,null,null,null,null,null,null,1,null,null,null,null,null,null,null,null,0,0,0,0,0,0,0,0,0,0,0,0,0,0,0,0,0,0,0,0,0,0,0,0,0,0,0,0,0,0,0,0,0,0,0,0,0,0,0,0,0,0,0,0,0,0,0,0,0,0,0,0,0,0,0,0,0,0,0,0,0,0,0,0,0,0,0,0,0,null,0,1,0,null,0,0]
[120,219,5,null,null,null," <=15% and no active management",null,"N/A in Iowa",null,null,null,null,1,null,null,null,null,null,null,null,null,null,null,1,null,1,null,null,null,null,null,null,null,null,null,null,null,null,null,null,null,null,null,null,null,null,null,null,null,null,null,null,null,null,null,null,null,null,null,null,null,null,null,null,null,null,null,null,null,1,null,null,null,null,null,null,null,null,0,0,0,0,0,0,0,0,0,0,0,0,0,0,0,0,0,0,0,0,0,0,0,0,0,0,0,0,0,0,0,0,0,0,0,0,0,0,0,0,0,0,0,0,0,0,0,0,0,0,0,0,0,0,0,0,0,0,0,0,0,0,0,0,0,0,0,0,0,null,0,1,0,null,0,0]
[120,220,5,null,null,null," <=15% with active management",null,"N/A in Iowa",null,null,null,null,1,null,null,null,null,null,null,null,null,null,null,1,null,1,null,null,null,null,null,null,null,null,null,null,null,null,null,null,null,null,null,null,null,null,null,null,null,null,null,null,null,null,null,null,null,null,null,null,null,null,null,null,null,null,null,null,null,1,null,null,null,null,null,null,null,null,0,0,0,0,0,0,0,0,0,0,0,0,0,0,0,0,0,0,0,0,0,0,0,0,0,0,0,0,0,0,0,0,0,0,0,0,0,0,0,0,0,0,0,0,0,0,0,0,0,0,0,0,0,0,0,0,0,0,0,0,0,0,0,0,0,0,0,0,0,null,0,1,0,null,0,0]
[120,221,5,null,null,null," >15% with active management",null,"N/A in Iowa",null,null,null,null,1,null,null,null,null,null,null,null,null,null,null,1,null,1,null,null,null,null,null,null,null,null,null,null,null,null,null,null,null,null,null,null,null,null,null,null,null,null,null,null,null,null,null,null,null,null,null,null,null,null,null,null,null,null,null,null,null,1,null,null,null,null,null,null,null,null,0,0,0,0,0,0,0,0,0,0,0,0,0,0,0,0,0,0,0,0,0,0,0,0,0,0,0,0,0,0,0,0,0,0,0,0,0,0,0,0,0,0,0,0,0,0,0,0,0,0,0,0,0,0,0,0,0,0,0,0,0,0,0,0,0,0,0,0,0,null,0,1,0,null,0,0]
[120,222,5,null,null,null," >15% with no active management",null,"N/A in Iowa",null,null,null,null,1,null,null,null,null,null,null,null,null,null,null,1,null,1,null,null,null,null,null,null,null,null,null,null,null,null,null,null,null,null,null,null,null,null,null,null,null,null,null,null,null,null,null,null,null,null,null,null,null,null,null,null,null,null,null,null,null,1,null,null,null,null,null,null,null,null,0,0,0,0,0,0,0,0,0,0,0,0,0,0,0,0,0,0,0,0,0,0,0,0,0,0,0,0,0,0,0,0,0,0,0,0,0,0,0,0,0,0,0,0,0,0,0,0,0,0,0,0,0,0,0,0,0,0,0,0,0,0,0,0,0,0,0,0,0,null,0,1,0,null,0,0]
[120,223,5,null,null,"Q:","Are livestock present in the forested area?","Guidance","Additional Guidance","List PLU's",null,null,null,1,null,null,null,null,null,null,null,null,null,null,1,null,1,null,null,null,null,null,null,null,null,null,null,null,null,null,null,null,null,null,null,null,null,null,null,null,null,null,null,null,null,null,null,null,null,null,null,null,null,null,null,null,null,null,null,null,1,null,null,null,null,null,null,null,null,0,0,0,0,0,0,0,0,0,0,0,0,0,0,0,0,0,0,0,0,0,0,0,0,0,0,0,0,0,0,0,0,0,0,0,0,0,0,0,0,0,0,0,0,0,0,0,0,0,0,0,0,0,0,0,0,0,0,0,0,0,0,0,0,0,0,0,0,0,null,0,1,0,null,0,0]
[120,224,5,null,null,null," No",null,"N/A in Iowa",null,null,null,null,1,null,null,null,null,null,null,null,null,null,null,1,null,1,null,null,null,null,null,null,null,null,null,null,null,null,null,null,null,null,null,null,null,null,null,null,null,null,null,null,null,null,null,null,null,null,null,null,null,null,null,null,null,null,null,null,null,1,null,null,null,null,null,null,null,null,0,0,0,0,0,0,0,0,0,0,0,0,0,0,0,0,0,0,0,0,0,0,0,0,0,0,0,0,0,0,0,0,0,0,0,0,0,0,0,0,0,0,0,0,0,0,0,0,0,0,0,0,0,0,0,0,0,0,0,0,0,0,0,0,0,0,0,0,0,null,0,1,0,null,0,0]
[120,225,5,null,null,null," Yes  livestock are being utilized to maintain or enhance wildlife habitat according to a prescribed grazing plan",null,"N/A in Iowa",null,null,null,null,1,null,null,null,null,null,null,null,null,null,null,1,null,1,null,null,null,null,null,null,null,null,null,null,null,null,null,null,null,null,null,null,null,null,null,null,null,null,null,null,null,null,null,null,null,null,null,null,null,null,null,null,null,null,null,null,null,1,null,null,null,null,null,null,null,null,0,0,0,0,0,0,0,0,0,0,0,0,0,0,0,0,0,0,0,0,0,0,0,0,0,0,0,0,0,0,0,0,0,0,0,0,0,0,0,0,0,0,0,0,0,0,0,0,0,0,0,0,0,0,0,0,0,0,0,0,0,0,0,0,0,0,0,0,0,null,0,1,0,null,0,0]
[120,226,5,null,null,null," Yes  livestock are used to maintain wildlife habitat",null,"N/A in Iowa",null,null,null,null,1,null,null,null,null,null,null,null,null,null,null,1,null,1,null,null,null,null,null,null,null,null,null,null,null,null,null,null,null,null,null,null,null,null,null,null,null,null,null,null,null,null,null,null,null,null,null,null,null,null,null,null,null,null,null,null,null,1,null,null,null,null,null,null,null,null,0,0,0,0,0,0,0,0,0,0,0,0,0,0,0,0,0,0,0,0,0,0,0,0,0,0,0,0,0,0,0,0,0,0,0,0,0,0,0,0,0,0,0,0,0,0,0,0,0,0,0,0,0,0,0,0,0,0,0,0,0,0,0,0,0,0,0,0,0,null,0,1,0,null,0,0]
[120,227,5,null,null,null," Yes  grazing management plan not utilized and grazing is not managed for wildlife",null,"N/A in Iowa",null,null,null,null,1,null,null,null,null,null,null,null,null,null,null,1,null,1,null,null,null,null,null,null,null,null,null,null,null,null,null,null,null,null,null,null,null,null,null,null,null,null,null,null,null,null,null,null,null,null,null,null,null,null,null,null,null,null,null,null,null,1,null,null,null,null,null,null,null,null,0,0,0,0,0,0,0,0,0,0,0,0,0,0,0,0,0,0,0,0,0,0,0,0,0,0,0,0,0,0,0,0,0,0,0,0,0,0,0,0,0,0,0,0,0,0,0,0,0,0,0,0,0,0,0,0,0,0,0,0,0,0,0,0,0,0,0,0,0,null,0,1,0,null,0,0]
[null,null,{"$f":"EV916","v":0},null,null,null,null,null,null,null,null,null,null,null,null,null,null,null,null,null,null,null,null,null,null,null,null,null,null,null,null,null,null,null,null,null,null,null,null,null,null,null,null,null,null,null,null,null,null,null,null,null,null,null,null,null,null,null,null,null,null,null,null,null,null,null,null,null,null,null,null,null,null,null,null,null,null,null,null,null,null,null,null,null,null,null,null,null,null,null,null,null,null,null,null,null,{"$f":"IF(CS$5=TRUE,AA916,0)","v":0}]
[null,null,{"$f":"EV917","v":0},null,null,null,null,null,null,null,null,null,null,null,null,null,null,null,null,null,null,null,null,null,null,null,null,null,null,null,null,null,null,null,null,null,null,null,null,null,null,null,null,null,null,null,null,null,null,null,null,null,null,null,null,null,null,null,null,null,null,null,null,null,null,null,null,null,null,null,null,null,null,null,null,null,null,null,null,null,null,null,null,null,null,null,null,null,null,null,null,null,null,null,null,null,{"$f":"IF(CS$5=TRUE,AA917,0)","v":0}]
[null,null,{"$f":"IF(EV918>0,1,0)","v":0},null,null,null,null,null,null,null,null,null,null,null,null,null,null,null,null,null,null,null,null,null,null,null,null,null,null,null,null,null,null,null,null,null,null,null,null,null,null,null,null,null,null,null,null,null,null,null,null,null,null,null,null,null,null,null,null,null,null,null,null,null,null,null,null,null,null,null,null,null,null,null,null,null,null,null,null,null,null,null,null,null,null,null,null,null,null,null,null,null,null,null,null,null,{"$f":"IF(CS$5=TRUE,AA918,0)","v":0}]
[null,null,0,null,null,null,null,null,null,null,null,null,null,null,null,null,null,null,null,null,null,null,null,null,null,null,null,null,null,null,null,null,null,null,null,null,null,null,null,null,null,null,null,null,null,null,null,null,null,null,null,null,null,null,null,null,null,null,null,null,null,null,null,null,null,null,null,null,null,null,null,null,null,null,null,null,null,null,null,null,null,null,null,null,null,null,null,null,null,null,null,null,null,null,null,null,{"$f":"IF(CS$5=TRUE,AA919,0)","v":0}]
[null,null,0]
[null,null,0]
[null,null,0]
[null,null,0]
[null,null,0]
[null,null,0]
[null,null,0]
[null,null,0]
[null,null,0]
[null,null,0]
[null,null,0]
[null,null,0]
[null,null,0]
[null,null,0]
[null,null,0]
[null,null,0]
[null,null,0]
[null,null,0]
[null,null,0]
[null,null,0]
[null,null,0]
[null,null,0]
[null,null,0]
[null,null,0]

{"sheet":"IA CART Guide","index":6,"n_rows":2,"n_cols":2,"rows_kept":2,"cut":false,"hidden":false,"merged":[]}
[]
[null,"Double click to open"]

{"sheet":"Overgrazed Pasture Guidance","index":7,"n_rows":22,"n_cols":2,"rows_kept":22,"cut":false,"hidden":false,"merged":[[0,0,0,1]]}
["When completing the field visit and the planner determines the pasture is overgrazed or unmanaged, the planner can use this rapid assessment for CART entry instead of completing PCS.  "]
["CART Resource Concern\nPasture land use","Overgrazed Pasture Rapid Assessment\nCART Guidance"]
["Classic gully erosion condition","  Select appropriate answer based on observation"]
["Bank Erosion existing condition ","  Select appropriate answer based on observation"]
["Compaction","  Compaction is significant"]
["Organic Matter Depletion","  Low – Degraded Soil Organic Matter"]
["Soil Organism habitat loss or degradation","  Low – Degraded Soil Organism Habitat"]
["Aggregate Instability Existing Condition","  Low – Aggregate Stability very weak"]
["Livestock Present in the PLU","  Yes"]
["Primary Species","  Select appropriate answer"]
["Animal Numbers","  Select appropriate answer"]
["Livestock Feed and Forage","  Inadequate forage supply and producer desired production goals are NOT being met."]
["Terrestrial Livestock Water","  Two factors are met.\n  Document lower value if appropriate."]
["Pasture Group","  Cool season grasses"]
["Pasture – Percent Desirable Plants","  High"]
["Pasture – Plant Cover","  Good"]
["Pasture – Plant Vigor","  Low"]
["Pasture – Erosion","  Fair"]
["Pasture – Soil Compaction and Soil Regenerative Features","  Low"]
["Plant Pressure – Plant Pest Pressure, Chemical Resistance, Invasive Species","  Enter % Desirable Species Present."]
["Nutrient application – Nitrogen and Phosphorus Field Nutrient Loss Water Quality Impacts","  Select appropriate answer."]
["Animal access to surface water bodies","  Select appropriate answer."]

{"sheet":"RC Print","index":8,"n_rows":88,"n_cols":5,"rows_kept":88,"cut":false,"hidden":true,"merged":[[4,2,4,3],[13,2,13,3],[18,2,18,3]]}
[]
[null,null,null,"Return to select Landuse-RC"]
[]
[]
[null,1,"Land Use "]
[null,{"$f":"IF(E6,1,0)","v":0},null,"Associated Ag Land",{"$f":"'Landuse-RC'!D100","v":false}]
[null,{"$f":"IF(E7,1,0)","v":0},null,"Crop ",{"$f":"'Landuse-RC'!D101","v":false}]
[null,0,null,"Farmstead",{"$f":"'Landuse-RC'!D102","v":false}]
[null,0,null,"Forest",{"$f":"'Landuse-RC'!D103","v":false}]
[null,0,null,"Pasture",{"$f":"'Landuse-RC'!D104","v":false}]
[null,0,null,"Other Rural Land",{"$f":"'Landuse-RC'!D105","v":false}]
[null,0,null,"Developed Land",{"$f":"'Landuse-RC'!D106","v":false}]
[null,0,null,"Range",{"$f":"'Landuse-RC'!D107","v":false}]
[null,1,"Land Use Modifiers"]
[null,{"$f":"IF(E15,1,0)","v":0},null,"Irrigated",{"$f":"'Landuse-RC'!D108","v":false}]
[null,{"$f":"IF(E16,1,0)","v":0},null,"Grazed",{"$f":"'Landuse-RC'!D109","v":false}]
[null,0,null,"Wildlife",{"$f":"'Landuse-RC'!D110","v":false}]
[null,0,null,"Water Feature",{"$f":"'Landuse-RC'!D112","v":false}]
[null,1,"Resource Concerns"]
[null,1,"Air quality emissions"]
[null,{"$f":"IF(E21,1,0)","v":0},null,"Emissions of airborne reactive nitrogen",{"$f":"'Landuse-RC'!D121","v":false}]
[null,0,null,"Emissions of greenhouse gases - GHGs",{"$f":"'Landuse-RC'!D122","v":false}]
[null,0,null,"Emissions of ozone precursors",{"$f":"'Landuse-RC'!D123","v":false}]
[null,0,null,"Emissions of particulate matter (PM) and PM precursors",{"$f":"'Landuse-RC'!D124","v":false}]
[null,0,null,"Objectionable odor",{"$f":"'Landuse-RC'!D125","v":false}]
[null,1,"Aquatic habitat"]
[null,{"$f":"IF(E27,1,0)","v":0},null,"Aquatic habitat for fish and other organisms",{"$f":"'Landuse-RC'!D126","v":false}]
[null,0,null,"Elevated water temperature",{"$f":"'Landuse-RC'!D127","v":false}]
[null,1,"Concentrated erosion"]
[null,{"$f":"IF(E30,1,0)","v":0},null,"Bank erosion from streams, shorelines or water conveyance channels",{"$f":"'Landuse-RC'!D128","v":false}]
[null,0,null,"Classic gully erosion",{"$f":"'Landuse-RC'!D129","v":false}]
[null,0,null,"Ephemeral gully erosion",{"$f":"'Landuse-RC'!D130","v":false}]
[null,1,"Degraded plant condition"]
[null,{"$f":"IF(E34,1,0)","v":0},null,"Plant productivity and health",{"$f":"'Landuse-RC'!D131","v":false}]
[null,0,null,"Plant structure and composition",{"$f":"'Landuse-RC'!D132","v":false}]
[null,1,"Field pesticide loss"]
[null,{"$f":"IF(E37,1,0)","v":0},null,"Pesticides transported to groundwater",{"$f":"'Landuse-RC'!D133","v":false}]
[null,0,null,"Pesticides transported to surface water",{"$f":"'Landuse-RC'!D134","v":false}]
[null,1,"Field sediment, nutrient and pathogen loss"]
[null,{"$f":"IF(E40,1,0)","v":0},null,"Nutrients transported to groundwater (field loss)",{"$f":"'Landuse-RC'!D135","v":false}]
[null,{"$f":"IF(E41,1,0)","v":0},null,"Nutrients transported to surface water (field loss)",{"$f":"'Landuse-RC'!D136","v":false}]
[null,0,null,"Pathogens and chemicals from manure, biosolids or compost applications transported to groundwater",{"$f":"'Landuse-RC'!D137","v":false}]
[null,0,null,"Pathogens and chemicals from manure, biosolids or compost applications transported to surface water",{"$f":"'Landuse-RC'!D138","v":false}]
[null,0,null,"Sediment transported to surface water",{"$f":"'Landuse-RC'!D139","v":false}]
[null,1,"Fire management"]
[null,{"$f":"IF(E46,1,0)","v":0},null,"Wildfire hazard from biomass accumulation",{"$f":"'Landuse-RC'!D140","v":false}]
[null,1,"Inefficient energy use"]
[null,{"$f":"IF(E48,1,0)","v":0},null,"Equipment and Facilities",{"$f":"'Landuse-RC'!D141","v":false}]
[null,0,null,"Farming/Ranching Practices and Field Operations",{"$f":"'Landuse-RC'!D142","v":false}]
[null,1,"Livestock production limitation"]
[null,{"$f":"IF(E51,1,0)","v":0},null,"Feed and forage balance",{"$f":"'Landuse-RC'!D143","v":false}]
[null,0,null,"Inadequate livestock shelter",{"$f":"'Landuse-RC'!D144","v":false}]
[null,0,null,"Inadequate livestock water quantity, quality and distribution",{"$f":"'Landuse-RC'!D145","v":false}]
[null,1,"Long Term Protection of Land"]
[null,{"$f":"IF(E55,1,0)","v":0},null,"Loss of functions and  values",{"$f":"'Landuse-RC'!D176","v":false}]
[null,0,null,"Threat of conversion",{"$f":"'Landuse-RC'!D177","v":false}]
[null,1,"Pest pressure"]
[null,{"$f":"IF(E58,1,0)","v":0},null,"Plant pest pressure",{"$f":"'Landuse-RC'!D146","v":false}]
[null,1,"Salt losses to water"]
[null,{"$f":"IF(E60,1,0)","v":0},null,"Salts transported to groundwater",{"$f":"'Landuse-RC'!D147","v":false}]
[null,0,null,"Salts transported to surface water",{"$f":"'Landuse-RC'!D148","v":false}]
[null,1,"Soil quality limitations"]
[null,{"$f":"IF(E63,1,0)","v":0},null,"Aggregate instability",{"$f":"'Landuse-RC'!D149","v":false}]
[null,0,null,"Compaction",{"$f":"'Landuse-RC'!D150","v":false}]
[null,0,null,"Concentration of salts or other chemicals",{"$f":"'Landuse-RC'!D151","v":false}]
[null,0,null,"Organic matter depletion",{"$f":"'Landuse-RC'!D152","v":false}]
[null,0,null,"Soil organism habitat loss or degradation",{"$f":"'Landuse-RC'!D153","v":false}]
[null,0,null,"Subsidence",{"$f":"'Landuse-RC'!D154","v":false}]
[null,1,"Source water depletion"]
[null,{"$f":"IF(E70,1,0)","v":0},null,"Groundwater depletion",{"$f":"'Landuse-RC'!D155","v":false}]
[null,0,null,"Inefficient irrigation water use",{"$f":"'Landuse-RC'!D156","v":false}]
[null,0,null,"Surface water depletion",{"$f":"'Landuse-RC'!D157","v":false}]
[null,1,"Storage and handling of pollutants"]
[null,{"$f":"IF(E74,1,0)","v":0},null,"Nutrients transported to groundwater (storage and handling of pollutants)",{"$f":"'Landuse-RC'!D158","v":false}]
[null,0,null,"Nutrients transported to surface water (storage and handling of pollutants)",{"$f":"'Landuse-RC'!D159","v":false}]
[null,0,null,"Petroleum, heavy metals and other pollutants transported to groundwater",{"$f":"'Landuse-RC'!D160","v":false}]
[null,0,null,"Petroleum, heavy metals and other pollutants transported to surface water",{"$f":"'Landuse-RC'!D161","v":false}]
[null,1,"Terrestrial habitat"]
[null,{"$f":"IF(E79,1,0)","v":0},null,"Terrestrial habitat for wildlife and invertebrates",{"$f":"'Landuse-RC'!D166","v":false}]
[null,1,"Weather resilience"]
[null,{"$f":"IF(E81,1,0)","v":0},null,"Drifted snow",{"$f":"'Landuse-RC'!D167","v":false}]
[null,0,null,"Naturally available moisture use",{"$f":"'Landuse-RC'!D168","v":false}]
[null,0,null,"Ponding and flooding",{"$f":"'Landuse-RC'!D169","v":false}]
[null,0,null,"Seasonal high water table",{"$f":"'Landuse-RC'!D170","v":false}]
[null,0,null,"Seeps",{"$f":"'Landuse-RC'!D171","v":false}]
[null,1,"Wind and water erosion"]
[null,{"$f":"IF(E87,1,0)","v":0},null,"Sheet and rill erosion",{"$f":"'Landuse-RC'!D172","v":false}]
[null,0,null,"Wind erosion",{"$f":"'Landuse-RC'!D173","v":false}]

{"sheet":"RC Component Applicability","index":9,"n_rows":80,"n_cols":10,"rows_kept":80,"cut":false,"hidden":false,"merged":[[57,0,59,0],[78,0,79,0],[60,0,70,0],[62,1,64,1],[60,1,61,1],[68,1,70,1],[65,1,67,1],[72,0,77,0],[73,1,74,1],[25,0,26,0],[27,0,29,0],[30,0,31,0],[32,0,34,0],[43,0,44,0],[51,0,56,0],[45,0,47,0],[48,0,50,0],[33,1,34,1],[35,0,41,0],[37,1,38,1],[35,1,36,1],[48,1,50,1],[1,0,24,0],[14,1,22,1],[6,1,8,1],[9,1,13,1],[23,1,24,1],[1,1,5,1]]}
["RC Category","Resource Concern","Resource Concern Component ","Assoc Ag Land","Crop","Developed Land","Farmstd","Forest","Other Rural Land","Pasture"]
["Air quality emissions","Emissions of airborne reactive nitrogen","Reactive nitrogen - confined animal activities","NA","NA","NA","X","NA","NA","NA"]
[null,null,"Reactive nitrogen - diesel engines","X","X","NA","X","X","NA","X"]
[null,null,"Reactive nitrogen - nitrogen fertilizer","X","X","NA","NA","X","NA","X"]
[null,null,"Reactive nitrogen - non-diesel engine combustion equipment","X","X","NA","X","X","NA","X"]
[null,null,"Reactive nitrogen - open burning","X","X","NA","X","X","NA","X"]
[null,"Emissions of greenhouse gases - GHGs","GHGs - carbon stock","X","X","NA","NA","X","NA","X"]
[null,null,"GHGs - confined animal activities","NA","NA","NA","X","NA","NA","NA"]
[null,null,"GHGs - nitrogen fertilizer","X","X","NA","NA","X","NA","X"]
[null,"Emissions of ozone precursors","Ozone - confined animal activities","NA","NA","NA","X","NA","NA","NA"]
[null,null,"Ozone - diesel engines","X","X","NA","X","X","NA","X"]
[null,null,"Ozone - non-diesel engine combustion equipment","X","X","NA","X","X","NA","X"]
[null,null,"Ozone - open burning","X","X","NA","X","X","NA","X"]
[null,null,"Ozone - pesticide VOCs","X","X","NA","X","X","NA","X"]
[null,"Emissions of particulate matter (PM) and PM precursors","PM - confined animal activities","NA","NA","NA","X","NA","NA","NA"]
[null,null,"PM - diesel engines","X","X","NA","X","X","NA","X"]
[null,null,"PM - dust from field operations","NA","X","NA","NA","NA","NA","X"]
[null,null,"PM - dust from unpaved roads","X","X","NA","X","X","X","X"]
[null,null,"PM - nitrogen fertilizer","X","X","NA","NA","X","NA","X"]
[null,null,"PM - non-diesel engine combustion equipment","X","X","NA","X","X","NA","X"]
[null,null,"PM - open burning","X","X","NA","X","X","NA","X"]
[null,null,"PM - pesticide drift","X","X","NA","X","X","NA","X"]
[null,null,"PM - windblown dust","X","X","NA","X","X","X","X"]
[null,"Objectionable odor","Odor - confined animal activity","NA","NA","NA","X","NA","NA","NA"]
[null,null,"Odor - nitrogen fertilizer","X","X","NA","NA","X","NA","X"]
["Aquatic habitat","Aquatic habitat for fish and other organisms","Aquatic habitat for fish and other organisms","X","X","X","X","X","X","X"]
[null,"Elevated water temperature","Water temperature effects on aquatic habitat","X","X","X","X","X","X","X"]
["Concentrated erosion","Bank erosion from streams, shorelines or water conveyance channels","Bank erosion from streams, shorelines or water conveyance channels","X","X","X","X","X","X","X"]
[null,"Classic gully erosion","Classic gully erosion","X","X","X","X","X","X","X"]
[null,"Ephemeral gully erosion","Ephemeral gully erosion","NA","X","NA","NA","NA","NA","X"]
["Degraded plant condition","Plant productivity and health","Plant productivity and health","X","X","X","X","X","X","X"]
[null,"Plant structure and composition ","Plant structure and composition ","NA","NA","NA","NA","X","NA","X"]
["Field Pesticide loss","Pesticides transported to groundwater","Nonpoint pesticide leaching loss","X","X","X","X","X","X","X"]
[null,"Pesticides transported to surface water","Nonpoint pesticide drift to surface water","X","X","X","X","X","X","X"]
[null,null,"Nonpoint pesticide surface loss","X","X","X","X","X","X","X"]
["Field sediment, nutrient and pathogen loss","Nutrients transported to groundwater","Nonpoint nitrogen leaching loss","X","X","X","X","X","X","X"]
[null,null,"Nonpoint phosphorus leaching loss","X","X","X","X","X","X","X"]
[null,"Nutrients transported to surface water","Nonpoint nitrogen surface loss","X","X","X","X","X","X","X"]
[null,null,"Nonpoint phosphorus surface loss","X","X","X","X","X","X","X"]
[null,"Pathogens and chemicals from manure, biosolids or compost applications transported to groundwater","Nonpoint pathogen loss to groundwater","X","X","X","X","X","X","X"]
[null,"Pathogens and chemicals from manure, biosolids or compost applications transported to surface water","Nonpoint pathogen surface loss","X","X","X","X","X","X","X"]
[null,"Sediment transported to surface water","Sediment from erosion sources","X","X","X","X","X","X","X"]
["Fire management","Wildfire hazard from biomass accumulation","Wildfire hazard from biomass accumulation","X","X","X","X","X","X","X"]
["Inefficient energy use","Energy efficiency of equipment and facilities","Energy efficiency of equipment and facilities","X","X","X","X","X","X","X"]
[null,"Energy efficiency of farming/ranching practices and field operations","Energy efficiency of fields operations","X","X","X","X","X","X","X"]
["Livestock production limitation","Feed and forage balance","Feed and forage balance","NA","X","NA","X","X","NA","X"]
[null,"Inadequate livestock shelter","Inadequate livestock shelter","X","X","X","X","X","X","X"]
[null,"Inadequate livestock water quantity, quality and distribution","Inadequate livestock water quantity, quality and distribution","NA","X","NA","X","X","NA","X"]
["Pest pressure","Plant pest pressure","Chemical resistance","X","X","X","X","X","X","X"]
[null,null,"Invasive species","X","X","X","X","X","X","X"]
[null,null,"Plant pest pressure","X","X","X","X","X","X","X"]
["Soil quality limitations","Aggregate instability","Aggregate instability","X","X","X","NA","X","X","X"]
[null,"Compaction","Compaction","X","X","X","NA","X","X","X"]
[null,"Concentration of salts or other chemicals","Concentration of salts or other chemicals","X","X","X","X","X","X","X"]
[null,"Organic matter depletion","Organic matter depletion","X","X","X","NA","X","X","X"]
[null,"Soil organism habitat loss or degradation","Soil organism habitat loss or degradation","X","X","X","NA","X","X","X"]
[null,"Subsidence","Subsidence","X","X","X","X","X","X","X"]
["Source water depletion","Groundwater depletion","Groundwater depletion","X","X","X","X","X","X","X"]
[null,"Inefficient irrigation water use","Inefficient irrigation water use","X","X","X","X","X","X","X"]
[null,"Surface water depletion","Surface water depletion","X","X","X","X","X","X","X"]
["Storage and handling of pollutants","Nutrients transported to groundwater","Concentrated nutrient and pathogen leaching loss from domestic animal confinement, including milkhouse waste and silage leachate","X","X","X","X","X","X","X"]
[null,null,"Concentrated nutrient and pathogen leaching loss from storage and handling of manure, compost, biosolids or non-ag food waste","X","X","X","X","X","X","X"]
[null,"Nutrients transported to surface water","Concentrated nutrient and pathogen effluent from domestic animal confinement, including milkhouse waste and silage leachate","X","X","X","X","X","X","X"]
[null,null,"Concentrated nutrient and pathogen surface loss from domestic animals standing in surface water","X","X","X","X","X","X","X"]
[null,null,"Concentrated nutrient and pathogen surface loss from storage and handling of manure, compost, biosolids or non-ag food waste","X","X","X","X","X","X","X"]
[null,"Petroleum, heavy metals and other pollutants transported to groundwater","Concentrated agrichemical leaching loss from storage and handling of fertilizer and pesticides","X","X","X","X","X","X","X"]
[null,null,"Mine waste remediation and containment - groundwater","X","X","X","X","X","X","X"]
[null,null,"Petroleum and other pollutant containment to groundwater","X","X","X","X","X","X","X"]
[null,"Petroleum, heavy metals and other pollutants transported to surface water","Concentrated agrichemical runoff loss from storage and handling of fertilizer and pesticides","X","X","X","X","X","X","X"]
[null,null,"Mine waste remediation and containment - surface water","X","X","X","X","X","X","X"]
[null,null,"Petroleum and other pollutant containment to surface water","X","X","X","X","X","X","X"]
["Terrestrial habitat","Terrestrial habitat for wildlife and invertebrates","Terrestrial habitat for wildlife and invertebrates","X","X","X","X","X","X","X"]
["Weather resilience","Drifted snow","Drifted snow","X","X","X","X","X","X","X"]
[null,"Naturally available moisture use","Moisture Management","X","X","X","X","X","X","X"]
[null,null,"Drought susceptibility","X","X","X","X","X","X","X"]
[null,"Ponding and flooding","Ponding and flooding","X","X","X","X","X","X","X"]
[null,"Seasonal high water table","Seasonal high water table","X","X","X","X","X","X","X"]
[null,"Seeps","Seeps","X","X","X","X","X","X","X"]
["Wind and water erosion","Sheet and rill erosion","Sheet and rill erosion","X","X","X","X","X","X","X"]
[null,"Wind erosion","Wind erosion","X","X","X","X","X","X","X"]

{"sheet":"Recommended RC's","index":10,"n_rows":75,"n_cols":43,"rows_kept":75,"cut":false,"hidden":true,"merged":[[0,2,0,21],[2,2,2,18],[8,2,8,18]]}
[null,"Return to Landuse -RC","Recommended RCs to Assess \n(1=recommended, blank = not recommended)",null,null,null,null,null,null,null,null,null,null,null,null,null,null,null,null,null,null,null,{"$f":"'Landuse-RC'!$D100","v":false},{"$f":"'Landuse-RC'!$D101","v":false},{"$f":"'Landuse-RC'!$D102","v":false},{"$f":"'Landuse-RC'!$D103","v":false},{"$f":"'Landuse-RC'!$D104","v":false},{"$f":"'Landuse-RC'!$D105","v":false},{"$f":"'Landuse-RC'!$D106","v":false},{"$f":"'Landuse-RC'!D107","v":false},{"$f":"'Landuse-RC'!$D108","v":false},{"$f":"'Landuse-RC'!D109","v":false},{"$f":"'Landuse-RC'!D110","v":false},{"$f":"'Landuse-RC'!$D111","v":false},{"$f":"'Landuse-RC'!$D97","v":false},{"$f":"'Landuse-RC'!D115","v":false},{"$f":"'Landuse-RC'!$D114","v":false},{"$f":"'Landuse-RC'!$D112","v":false},{"$f":"'Landuse-RC'!$D116","v":false},{"$f":"'Landuse-RC'!$D117","v":false},{"$f":"'Landuse-RC'!$D118","v":false},{"$f":"'Landuse-RC'!$D119","v":false}]
[null,"Resource Concerns","Assoc Ag","Crop","Farmstead","Forest","Pasture","Other","Developed","Range","Irrigated","Grazed","Wildlife","Livestock Present","Manure, compost or biosolids applied","Pesticides applied","Nutrients applied","Surface Water","Confined Animal Feeding Operation","Stored Nutrients","Stored Pathogens",null,"Assoc Ag","Crop","Farmstead","Forest","Pasture","Other","Developed","Range","Irrigated","Grazed","Wildlife","Livestock","Manure","Pesticides applied","Nutrients applied","Surface Water","Confined Livestock","Stored Nutrients","Stored Pathogens","Stored Pesticides","Recommended"]
["Air quality emissions",null,null,null,null,null,null,null,null,null,null,null,null,null,null,null,null,null,null,null,null,null,{"$f":"IF(W$1=TRUE,C3,0)","v":0},{"$f":"IF(X$1=TRUE,D3,0)","v":0},{"$f":"IF(Y$1=TRUE,E3,0)","v":0},{"$f":"IF(Z$1=TRUE,F3,0)","v":0},{"$f":"IF(AA$1=TRUE,G3,0)","v":0},{"$f":"IF(AB$1=TRUE,H3,0)","v":0},{"$f":"IF(AC$1=TRUE,I3,0)","v":0},{"$f":"IF(AD$1=TRUE,J3,0)","v":0},{"$f":"IF(AE$1=TRUE,K3,0)","v":0},{"$f":"IF(AF$1=TRUE,L3,0)","v":0},{"$f":"IF(AG$1=TRUE,M3,0)","v":0},{"$f":"IF(AH$1=TRUE,N3,0)","v":0},0,{"$f":"IF(AJ$1=TRUE,P3,0)","v":0},{"$f":"IF(AK$1=TRUE,Q3,0)","v":0},{"$f":"IF(AL$1=TRUE,R3,0)","v":0},{"$f":"IF(AM$1=TRUE,S3,0)","v":0},{"$f":"IF(AN$1=TRUE,T3,0)","v":0},{"$f":"IF(AO$1=TRUE,U3,0)","v":0},{"$f":"IF(AP$1=TRUE,V3,0)","v":0},{"$f":"MAX(W3:AP3)","v":0}]
[null,"Emissions of airborne reactive nitrogen",null,null,null,null,null,null,null,null,null,null,null,null,null,null,null,null,1,null,null,null,0,0,0,0,0,0,0,0,0,0,0,0,0,0,0,0,0,0,0,0,{"$f":"MAX(W4:AP4)","v":0}]
[null,"Emissions of greenhouse gases - GHGs",null,null,null,null,null,null,null,null,null,null,null,null,null,null,null,null,1,null,null,null,0,0,0,0,0,0,0,0,0,0,0,0,0,0,0,0,0,0,0,0,0]
[null,"Emissions of ozone precursors",null,null,null,null,null,null,null,null,null,null,null,null,null,null,null,null,1,null,null,null,0,0,0,0,0,0,0,0,0,0,0,0,0,0,0,0,0,0,0,0,0]
[null,"Emissions of particulate matter (PM) and PM precursors",null,null,null,null,null,null,null,null,null,null,null,null,null,null,null,null,1,null,null,null,0,0,0,0,0,0,0,0,0,0,0,0,0,0,0,0,0,0,0,0,0]
[null,"Objectionable odor",null,null,null,null,null,null,null,null,null,null,null,null,null,null,null,null,1,null,null,null,0,0,0,0,0,0,0,0,0,0,0,0,0,0,0,0,0,0,0,0,0]
["Aquatic habitat",null,null,null,null,null,null,null,null,null,null,null,null,null,null,null,null,null,null,null,null,null,0,0,0,0,0,0,0,0,0,0,0,0,0,0,0,0,0,0,0,0,0]
[null,"Aquatic habitat for fish and other organisms",null,null,null,null,null,null,null,null,null,null,1,null,null,null,null,null,null,null,null,null,0,0,0,0,0,0,0,0,0,0,0,0,0,0,0,0,0,0,0,0,0]
[null,"Elevated water temperature",null,null,null,null,null,null,null,null,null,null,1,null,null,null,null,null,null,null,null,null,0,0,0,0,0,0,0,0,0,0,0,0,0,0,0,0,0,0,0,0,0]
["Concentrated erosion",null,2,2,2,2,2,null,null,null,null,null,null,null,null,null,null,null,null,null,null,null,{"$f":"IF(W$1=TRUE,C12,0)","v":0},0,0,0,0,0,0,{"$f":"IF(AD$1=TRUE,J12,0)","v":0},{"$f":"IF(AE$1=TRUE,K12,0)","v":0},{"$f":"IF(AF$1=TRUE,L12,0)","v":0},{"$f":"IF(AG$1=TRUE,M12,0)","v":0},0,0,0,0,0,0,0,0,0,0]
[null,"Bank erosion from streams, shorelines or water conveyance channels",null,null,null,null,null,null,null,null,null,null,null,null,null,null,null,1,null,null,null,null,0,{"$f":"IF(X$1=TRUE,D13,0)","v":0},{"$f":"IF(Y$1=TRUE,E13,0)","v":0},{"$f":"IF(Z$1=TRUE,F13,0)","v":0},{"$f":"IF(AA$1=TRUE,G13,0)","v":0},{"$f":"IF(AB$1=TRUE,H13,0)","v":0},{"$f":"IF(AC$1=TRUE,I13,0)","v":0},{"$f":"IF(AD$1=TRUE,J13,0)","v":0},0,0,0,0,0,0,0,0,0,0,0,0,0]
[null,"Classic gully erosion",1,1,1,1,1,1,1,1,null,null,null,null,null,null,null,null,null,null,null,null,0,{"$f":"IF(X$1=TRUE,D14,0)","v":0},0,0,0,0,0,0,0,0,0,0,0,0,0,0,0,0,0,0,0]
[null,"Ephemeral gully erosion",null,1,null,null,1,null,null,1,null,null,null,null,null,null,null,null,null,null,null,null,0,{"$f":"IF(X$1=TRUE,D15,0)","v":0},0,0,0,0,0,0,0,0,0,0,0,0,0,0,0,0,0,0,0]
["Degraded plant condition",null,null,2,null,2,2,null,null,null,null,null,null,null,null,null,null,null,null,null,null,null,0,{"$f":"IF(X$1=TRUE,D16,0)","v":0},0,0,0,0,0,0,0,0,0,0,0,0,0,0,0,0,0,0,0]
[null,"Plant productivity and health",null,1,null,1,1,null,null,1,null,null,null,null,null,null,null,null,null,null,null,null,0,{"$f":"IF(X$1=TRUE,D17,0)","v":0},0,0,0,0,0,0,0,0,0,0,0,0,0,0,0,0,0,0,0]
[null,"Plant structure and composition",null,null,null,1,1,null,null,1,null,null,null,null,null,null,null,null,null,null,null,null,0,0,0,0,0,0,0,0,0,0,0,0,0,0,0,0,0,0,0,0,0]
["Field pesticide loss",null,null,2,null,null,null,null,null,null,null,null,null,null,null,null,null,null,null,null,null,null,0,0,0,0,0,0,0,0,0,0,0,0,0,{"$f":"IF(AJ$1=TRUE,C19,0)","v":0},{"$f":"IF(AK$1=TRUE,Q19,0)","v":0},{"$f":"IF(AL$1=TRUE,R19,0)","v":0},{"$f":"IF(AM$1=TRUE,S19,0)","v":0},{"$f":"IF(AN$1=TRUE,T19,0)","v":0},{"$f":"IF(AO$1=TRUE,U19,0)","v":0},{"$f":"IF(AP$1=TRUE,V19,0)","v":0},0]
[null,"Pesticides transported to groundwater",null,null,null,null,null,null,null,null,null,null,null,null,null,1,null,null,null,null,null,null,0,0,0,0,0,0,0,0,0,0,0,0,0,{"$f":"IF(AJ$1=TRUE,P20,0)","v":0},0,0,0,0,0,0,0]
[null,"Pesticides transported to surface water",null,null,null,null,null,null,null,null,null,null,null,null,null,1,null,null,null,null,null,null,0,0,0,0,0,0,0,0,0,0,0,0,0,0,0,0,0,0,0,0,0]
["Field sediment, nutrient and pathogen loss",null,null,2,null,null,2,null,null,null,null,null,null,null,null,null,null,null,null,null,null,null,0,0,0,0,0,0,0,0,0,0,0,0,0,0,0,0,0,0,0,0,0]
[null,"Nutrients transported to groundwater",null,null,null,null,null,null,null,null,null,null,null,null,1,null,1,null,1,null,null,null,0,0,0,0,0,0,0,0,0,0,0,0,0,0,0,0,0,0,0,0,0]
[null,"Nutrients transported to surface water",null,null,null,null,null,null,null,null,null,null,null,null,1,null,1,null,1,null,null,null,0,0,0,0,0,0,0,0,0,0,0,0,0,0,0,0,0,0,0,0,0]
[null,"Pathogens and chemicals from manure, biosolids or compost applications transported to groundwater",null,null,null,null,null,null,null,null,null,null,null,1,1,null,null,null,1,null,null,null,0,0,0,0,0,0,0,0,0,0,0,0,0,0,0,0,0,0,0,0,0]
[null,"Pathogens and chemicals from manure, biosolids or compost applications transported to surface water",null,null,null,null,null,null,null,null,null,null,null,1,1,null,null,null,1,null,null,null,0,0,0,0,0,0,0,0,0,0,0,0,0,0,0,0,0,0,0,0,0]
[null,"Sediment transported to surface water",1,1,1,1,1,1,1,1,null,null,null,null,null,null,null,null,null,null,null,null,0,0,0,0,0,0,0,0,0,0,0,0,0,0,0,0,0,0,0,0,0]
["Fire management",null,null,null,null,2,null,null,null,null,null,null,null,null,null,null,null,null,null,null,null,null,0,0,0,0,0,0,0,0,0,0,0,0,0,0,0,0,0,0,0,0,0]
[null,"Wildfire hazard from biomass accumulation",null,null,null,1,null,null,null,null,null,null,null,null,null,null,null,null,null,null,null,null,0,0,0,0,0,0,0,0,0,0,0,0,0,0,0,0,0,0,0,0,0]
["Inefficient energy use",null,null,null,2,null,null,null,null,null,null,null,null,null,null,null,null,null,null,null,null,null,0,0,0,0,0,0,0,0,0,0,0,0,0,0,0,0,0,0,0,0,0]
[null,"Equipment and Facilities",null,null,null,null,null,null,null,null,null,null,null,null,null,null,null,null,null,null,null,null,0,0,0,0,0,0,0,0,0,0,0,0,0,0,0,0,0,0,0,0,0]
[null,"Farming/Ranching Practices and Field Operations",null,null,null,null,null,null,null,null,null,null,null,null,null,null,null,null,null,null,null,null,0,0,0,0,0,0,0,0,0,0,0,0,0,0,0,0,0,0,0,0,0]
["Livestock production limitation",null,null,null,null,null,2,null,null,null,null,null,null,null,null,null,null,null,null,null,null,null,0,0,0,0,0,0,0,0,{"$f":"IF(AE$1=TRUE,K33,0)","v":0},{"$f":"IF(AF$1=TRUE,L33,0)","v":0},{"$f":"IF(AG$1=TRUE,M33,0)","v":0},0,0,0,0,0,0,0,0,0,0]
[null,"Feed and forage balance",null,null,null,null,null,null,null,null,null,1,null,1,null,null,null,null,null,null,null,null,0,0,{"$f":"IF(Y$1=TRUE,E34,0)","v":0},{"$f":"IF(Z$1=TRUE,F34,0)","v":0},{"$f":"IF(AA$1=TRUE,G34,0)","v":0},{"$f":"IF(AB$1=TRUE,H34,0)","v":0},{"$f":"IF(AC$1=TRUE,I34,0)","v":0},{"$f":"IF(AD$1=TRUE,J34,0)","v":0},0,0,0,0,0,0,0,0,0,0,0,0,0]
[null,"Inadequate livestock shelter",null,null,null,null,null,null,null,null,null,1,null,1,null,null,null,null,null,null,null,null,0,0,0,0,0,0,0,0,0,0,0,0,0,0,0,0,0,0,0,0,0]
[null,"Inadequate livestock water quantity, quality and distribution",null,null,null,null,null,null,null,null,null,1,null,1,null,null,null,null,null,null,null,null,0,0,0,0,0,0,0,0,0,0,0,0,0,0,0,0,0,0,0,0,0]
["Long term protection of land",null,null,null,null,null,null,null,null,null,null,null,null,null,null,null,null,null,null,null,null,null,0,0,0,0,0,0,0,0,0,0,0,0,0,0,0,0,0,0,0,0,0]
[null,"Loss of functions and values",null,null,null,null,null,null,null,null,null,null,null,null,null,null,null,null,null,null,null,null,0,0,0,0,0,0,0,0,0,0,0,0,0,0,0,0,0,0,0,0,0]
[null,"Threat of conversion",null,null,null,null,null,null,null,null,null,null,null,null,null,null,null,null,null,null,null,null,0,0,0,0,0,0,0,0,0,0,0,0,0,0,0,0,0,0,0,0,0]
["Pest pressure",null,2,2,null,2,2,null,null,null,null,null,null,null,null,null,null,null,null,null,null,null,0,0,0,0,0,0,0,0,0,0,0,0,0,0,0,0,0,0,0,0,0]
[null,"Plant pest pressure",null,1,null,1,1,null,null,1,null,null,null,null,null,null,null,null,null,null,null,null,0,{"$f":"IF(X$1=TRUE,D41,0)","v":0},0,0,0,0,0,0,0,0,0,0,0,0,0,0,0,0,0,0,0]
["Salt losses to water",null,null,null,null,null,null,null,null,null,null,null,null,null,null,null,null,null,null,null,null,null,0,0,0,0,0,0,0,0,0,0,0,0,0,0,0,0,0,0,0,0,0]
[null,"Salts transported to groundwater",null,null,null,null,null,null,null,null,null,null,null,null,null,null,null,null,null,null,null,null,0,0,0,0,0,0,0,0,0,0,0,0,0,0,0,0,0,0,0,0,0]
[null,"Salts transported to surface water",null,null,null,null,null,null,null,null,null,null,null,null,null,null,null,null,null,null,null,null,{"$f":"IF(W$1=TRUE,C44,0)","v":0},0,0,0,0,0,0,0,0,0,0,0,0,0,0,0,0,0,0,0,0]
["Soil quality limitations",null,null,2,null,2,2,null,null,null,null,null,null,null,null,null,null,null,null,null,null,null,0,0,0,0,0,0,0,0,0,0,0,0,0,0,0,0,0,0,0,0,0]
[null,"Aggregate instability",null,1,null,null,null,null,null,null,null,null,null,null,null,null,null,null,null,null,null,null,0,0,0,0,0,0,0,0,0,0,0,0,0,0,0,0,0,0,0,0,0]
[null,"Compaction",null,1,null,null,1,null,null,1,null,null,null,null,null,null,null,null,null,null,null,null,0,0,0,0,0,0,0,0,0,0,0,0,0,0,0,0,0,0,0,0,0]
[null,"Concentration of salts or other chemicals",null,null,null,null,null,null,null,null,null,null,null,null,null,null,null,null,null,null,null,null,0,0,0,0,0,0,0,0,0,0,0,{"$f":"IF(AH$1=TRUE,N48,0)","v":0},{"$f":"IF(AI$1=TRUE,O48,0)","v":0},0,0,0,0,0,0,0,0]
[null,"Organic matter depletion",null,1,null,null,null,null,null,null,null,null,null,null,null,null,null,null,null,null,null,null,0,0,0,0,0,0,0,0,0,0,0,{"$f":"IF(AH$1=TRUE,N49,0)","v":0},0,0,0,0,0,0,0,0,0]
[null,"Soil organism habitat loss or degradation",null,1,null,null,null,null,null,null,null,null,null,null,null,null,null,null,null,null,null,null,0,0,0,0,0,0,0,0,0,0,0,0,0,0,0,0,0,0,0,0,0]
[null,"Subsidence",null,null,null,null,null,null,null,null,null,null,null,null,null,null,null,null,null,null,null,null,0,0,0,0,0,0,0,0,0,0,0,0,0,0,{"$f":"IF(AK$1=TRUE,Q51,0)","v":0},{"$f":"IF(AL$1=TRUE,R51,0)","v":0},{"$f":"IF(AM$1=TRUE,S51,0)","v":0},{"$f":"IF(AN$1=TRUE,T51,0)","v":0},{"$f":"IF(AO$1=TRUE,U51,0)","v":0},{"$f":"IF(AP$1=TRUE,V51,0)","v":0},0]
["Source water depletion",null,null,2,null,null,2,null,null,null,null,null,null,null,null,null,null,null,null,null,null,null,0,0,0,0,0,0,0,0,0,0,0,0,0,0,0,0,0,0,0,0,0]
[null,"Groundwater depletion",null,null,null,null,null,null,null,null,1,null,null,null,null,null,null,null,null,null,null,null,0,0,0,0,0,0,0,0,0,0,0,0,0,0,0,0,0,0,0,0,0]
[null,"Inefficient irrigation water use",null,null,null,null,null,null,null,null,1,null,null,null,null,null,null,null,null,null,null,null,0,0,0,0,0,0,0,0,0,0,0,0,0,0,0,0,0,0,0,0,0]
[null,"Surface water depletion",null,null,null,null,null,null,null,null,1,null,null,null,null,null,null,null,null,null,null,null,0,0,0,0,0,0,0,0,0,0,0,0,0,0,0,0,0,0,0,0,0]
["Storage and handling of pollutants",null,null,null,2,null,null,null,null,null,null,null,null,null,null,null,null,null,null,null,null,null,0,0,0,0,0,0,0,0,0,0,0,0,0,0,0,0,0,0,0,0,0]
[null,"Stored Nutrients transported to groundwater",null,null,null,null,null,null,null,null,null,null,null,null,null,null,null,null,1,1,1,null,0,0,0,0,0,0,0,0,0,0,0,0,0,0,0,0,0,0,0,0,0]
[null,"Stored Nutrients transported to surface water",null,null,null,null,null,null,null,null,null,null,null,null,null,null,null,null,1,1,1,null,0,0,0,0,0,0,0,0,0,0,0,0,0,0,0,0,0,0,0,0,0]
[null,"Petroleum, heavy metals and other pollutants transported to groundwater",null,null,1,null,null,null,null,null,null,null,null,null,null,null,null,null,null,null,null,null,0,0,0,0,0,0,0,0,0,0,0,0,0,0,0,0,0,0,0,0,0]
[null,"Petroleum, heavy metals and other pollutants transported to surface water",null,null,1,null,null,null,null,null,null,null,null,null,null,null,null,null,null,null,null,null,0,0,0,0,0,0,0,0,0,0,0,0,0,0,0,0,0,0,0,0,0]
[null,"Pathogens and chemicals from stored manure, biosolids or compost transported to groundwater",null,null,null,null,null,null,null,null,null,null,null,null,null,null,null,null,1,null,1,null,0,0,0,0,0,0,0,0,0,0,0,0,0,{"$f":"IF(AJ$1=TRUE,P61,0)","v":0},0,0,0,0,0,0,0]
[null,"Pathogens and chemicals from stored manure, biosolids or compost transported to surface water",null,null,null,null,null,null,null,null,null,null,null,null,null,null,null,null,1,null,1,null,0,0,0,0,0,0,0,0,0,0,0,0,0,0,0,0,0,0,0,0,0]
[null,null,null,null,null,null,null,null,null,null,null,null,null,null,null,null,null,null,null,null,null,null,0,0,0,0,0,0,0,0,0,0,0,0,0,0,0,0,0,0,0,0,0]
[null,null,null,null,null,null,null,null,null,null,null,null,null,null,null,null,null,null,null,null,null,null,0,0,0,0,0,0,0,0,0,0,0,0,0,0,0,0,0,0,0,0,0]
["Terrestrial habitat",null,2,2,2,2,2,null,null,null,null,null,null,null,null,null,null,null,null,null,null,null,0,0,0,0,0,0,0,0,0,0,0,0,0,0,0,0,0,0,0,0,0]
[null,"Terrestrial habitat for wildlife and invertebrates",null,null,null,null,null,null,null,null,null,null,1,null,null,null,null,null,null,null,null,null,0,0,0,0,0,0,0,0,0,0,0,0,0,0,0,0,0,0,0,0,0]
["Weather resilience",null,null,null,null,null,null,null,null,null,null,null,null,null,null,null,null,null,null,null,null,null,0,0,0,0,0,0,0,0,0,0,0,0,0,0,0,0,0,0,0,0,0]
[null,"Drifted snow",null,null,null,null,null,null,null,null,null,null,null,null,null,null,null,null,null,null,null,null,0,0,0,0,0,0,0,0,0,0,0,0,0,0,0,0,0,0,0,0,{"$f":"MAX(W68:AP68)","v":0}]
[null,"Naturally available moisture use",null,null,null,null,1,null,null,1,null,null,null,null,null,null,null,null,null,null,null,null,0,0,0,0,0,0,0,0,0,0,0,0,0,0,0,0,0,0,0,0,0]
[null,"Ponding and flooding",null,null,null,null,null,null,null,null,null,null,null,null,null,null,null,null,null,null,null,null,0,0,0,0,0,0,0,0,0,0,0,0,0,0,0,0,0,0,0,0,0]
[null,"Seasonal high water table",null,null,null,null,null,null,null,null,null,null,null,null,null,null,null,null,null,null,null,null,0,0,0,0,0,0,0,0,0,0,0,0,0,0,0,0,0,0,0,0,0]
[null,"Seeps",null,null,null,null,null,null,null,null,null,null,null,null,null,null,null,null,null,null,null,null,0,0,0,0,0,0,0,0,0,0,0,0,0,0,0,0,0,0,0,0,0]
["Wind and water erosion",null,2,2,null,2,2,null,null,null,null,null,null,null,null,null,null,null,null,null,null,null,0,0,0,0,0,0,0,0,0,0,0,0,0,0,0,0,0,0,0,0,0]
[null,"Sheet and rill erosion",1,1,1,1,1,1,1,1,null,null,null,null,null,null,null,null,null,null,null,null,0,0,0,0,0,0,0,0,0,0,0,0,0,0,0,0,0,0,0,0,0]
[null,"Wind erosion",null,1,null,null,null,null,null,1,null,null,null,null,null,null,null,null,null,null,null,null,0,0,0,0,0,0,0,0,0,0,0,0,0,0,0,0,0,0,0,0,0]