{"text_format":"1","workbook":"xlsx","n_sheets":20,"sheets":["Instructions","Wetland_Inventory","Landuse_Inventory","Inventory","Ranking","Graze","SO_Summary","HUC_map","Breeding_Pairs_Map","GrazingPilotMap","costs_Inventory","costs_list","costs_components","WebbProposal","GARC","T&E","HUC_Priorities","TMDL Report 2014","curt","Sheet1"],"not_rendered":{"charts":0,"images":5,"macros":1,"external_links":0,"defined_names":34,"comments":1,"pivot_tables":0},"unopened":[],"bounds":{"document_bytes":16777216,"sheet_cells":100000,"rows_first":2000,"rows_last":500,"rows_between":2000,"halvings":0,"cell_chars":16384,"cell_head_chars":4096},"cells_cut":0,"cells_raw":0,"read":"whole","date_system":"1900"}

{"sheet":"Instructions","index":0,"n_rows":584,"n_cols":14,"rows_kept":584,"cut":false,"hidden":false,"merged":[[535,1,535,9],[533,1,533,9],[572,0,574,9],[576,0,578,9],[580,2,580,4],[581,2,581,4],[582,2,582,4],[583,2,583,4],[557,0,557,9],[563,2,563,3],[564,2,564,3],[565,2,565,3],[566,2,566,3],[567,2,567,3],[568,2,568,3],[569,2,569,3],[570,2,570,3],[558,0,561,9],[555,3,555,4],[555,5,555,6],[541,1,541,9],[550,3,551,4],[550,5,551,6],[552,3,552,4],[130,2,133,9],[112,2,114,9],[253,1,254,9],[291,1,291,9],[397,1,397,3],[395,4,395,7],[396,4,396,7],[397,4,397,7],[381,3,381,7],[366,3,366,6],[368,3,368,6],[364,3,364,6],[385,1,385,9],[382,3,382,7],[370,3,370,6],[372,3,372,6],[371,3,371,6],[369,3,369,6],[367,3,367,6],[395,1,395,3],[396,1,396,3],[342,3,342,4],[343,3,343,4],[189,0,193,9],[195,1,195,9],[234,2,235,9],[237,2,238,9],[242,2,243,9],[247,2,248,9],[250,2,251,9],[293,1,293,9],[144,1,145,9],[147,0,147,9],[149,0,151,9],[155,2,155,9],[157,2,157,9],[159,2,159,9],[165,2,167,9],[169,2,169,9],[161,2,162,9],[179,2,179,9],[222,2,222,9],[224,2,224,9],[226,2,226,9],[228,2,228,9],[230,2,230,9],[232,2,232,9],[240,2,240,9],[301,3,301,7],[287,1,289,9],[294,1,294,8],[0,0,0,9],[12,1,13,9],[16,1,17,9],[88,2,89,9],[33,0,33,9],[41,2,41,9],[23,1,25,9],[27,1,27,9],[44,2,48,9],[19,1,20,9],[29,1,31,9],[35,0,36,9],[78,2,82,9],[84,2,85,9],[295,1,297,9],[300,3,300,4],[171,2,171,9],[174,2,177,9],[201,1,202,9],[204,1,206,9],[208,1,211,9],[245,2,245,9],[281,1,282,9],[265,1,267,9],[269,1,269,9],[271,1,272,9],[258,1,260,9],[262,1,262,8],[526,3,526,4],[92,2,94,9],[126,2,127,9],[213,6,213,7],[214,6,214,7],[215,6,215,7],[299,3,299,4],[322,3,322,4],[313,1,314,9],[218,0,220,9],[216,6,216,7],[318,3,318,4],[256,0,256,9],[285,1,285,9],[425,3,426,5],[324,1,324,9],[356,3,356,4],[66,2,66,9],[97,2,98,9],[51,2,54,9],[62,2,63,9],[69,2,70,9],[72,2,76,9],[117,2,119,9],[122,2,123,9],[101,2,105,9],[108,2,109,9],[531,5,531,6],[316,3,317,4],[441,1,441,9],[524,3,525,4],[517,1,517,9],[531,3,531,4],[526,5,526,6],[320,3,320,4],[321,3,321,4],[345,3,345,4],[376,1,379,9],[387,1,391,9],[383,3,383,7],[374,1,374,9],[430,1,430,9],[527,3,527,4],[528,3,528,4],[337,1,337,9],[353,3,353,4],[326,1,327,9],[394,1,394,3],[491,3,491,4],[473,1,476,9],[316,5,317,5],[529,5,529,6],[529,3,529,4],[489,3,489,4],[515,3,515,4],[482,1,482,9],[449,3,449,4],[511,3,511,4],[508,1,509,9],[502,2,502,6],[506,1,506,9],[503,2,503,6],[504,2,504,6],[495,1,495,9],[487,3,488,4],[491,7,491,8],[493,3,493,4],[497,1,499,9],[490,3,490,4],[514,6,514,7],[501,2,501,6],[492,3,492,4],[512,3,512,4],[351,3,351,4],[352,3,352,4],[335,3,335,4],[333,3,333,4],[319,3,319,4],[306,3,306,4],[332,3,332,4],[331,3,331,4],[334,3,334,4],[311,1,311,9],[554,3,554,4],[554,5,554,6],[530,5,530,6],[519,1,519,9],[484,1,485,9],[521,1,522,9],[393,4,393,7],[530,3,530,4],[423,1,423,9],[393,1,393,3],[513,3,513,4],[514,3,514,4],[394,4,394,7],[447,3,447,4],[448,3,448,4],[425,6,426,6],[487,5,488,5],[421,1,421,9],[432,1,435,9],[443,1,445,9],[427,3,427,5],[471,1,471,9],[419,1,419,9],[428,3,428,5],[552,5,552,6],[553,3,553,4],[553,5,553,6],[543,1,544,9],[546,1,548,9],[302,3,302,7],[303,3,303,7],[524,5,525,6],[360,1,362,9],[527,5,527,6],[528,5,528,6],[339,3,341,4],[339,5,341,5],[347,1,349,9],[305,3,305,4],[329,1,329,9],[307,3,307,7],[308,3,308,7],[309,3,309,7],[355,3,355,4],[354,3,354,4],[344,3,344,4],[358,1,358,9],[365,3,365,6]]}
["Instructions to use the WRE Ranking Workbook"]
["Begin on the Inventory worksheet."]
["Enter the pertinent information (Items in blue transfer to the WRE Ranking Worksheet)"]
[null,null,"County"]
[null,null,"Administering County"]
[null,null,"Application Type"]
[null,null,"Applicant(s)"]
[null,null,"Date"]
[null,null,"Assisted by"]
[null,null,"NEST# (if applicable)"]
[null,null,"Flooded Land - Acres *"]
[]
[null,"* Flooded Land must meet the following criteria:"]
[]
[null,"- Located in the Prairie Pothole Region (All of North Dakota north and east of Lake Sakakawea)"]
[null,"- Offered area is a minimum of 20 contiguous acres"]
[null,"- Soils are hydric - Areas that meet the ponding criteria (soils that pond for longer than 7\n  consecutive days during the growing season) will be labeled hydric, regardless of soil type."]
[]
[null,"- Depth of water is 6.5 feet or less at time of enrollment"]
[null,"- Saturated or inundated area on aerial photography exceeds the boundaries of NWI identified\n  wetlands"]
[]
[]
["Estimated Restoration Cost Section"]
[null,"Complete this portion of the sheet after completing the \"Wetland Inventory\" and \"Landuse Inventory\".  Some of the data from the \"Wetland Inventory\"  and \"Landuse Inventory\" will populate portions of this section."]
[]
[]
[]
[null,"The worksheet provides the producer with an estimate of their share of restoration costs."]
[]
[null,"NRCS will pay 75% of three weed control operations for establishment.  Year 1 (year seeded) the weed control is a component of 327 Conservation Cover.  Years 2 and 3 will be 595 Pest Management.  No partners pay for weed control."]
[]
[]
[]
["Wetland Inventory Instructions"]
[null,"Wetland Inventory - (must be completed for all offers)"]
["The yellow shaded top portion of the Wetland_Inventory sheet is a summary of the wetland basins and acres entered on this sheet.  The summary information is automatically transferred to the Inventory sheet."]
[]
[]
["The columns of the wetland inventory sheet are described below:"]
[]
[null,"Wetland Info - Basin #"]
[null,null,"Number each basin."]
[]
[null,"Wetland Info - Acres"]
[null,null,"Enter the acres of each wetland basin.  This is the total acres of the wetland basin in the offered area, no matter if split by a field boundary or if NWI has identified multiple labels for the wetland.  Note: The location (landuse) of the wetland will be handled on the worksheet titled Landuse_Inventory where all or parts of the wetland can be attributed to one or more landuses."]
[]
[]
[]
[]
[]
[null,"Wetland Info - Type"]
[null,null,"Taken from the NWI Map.  Wetlands with multiple NWI labels will be assigned the wettest label.  If the wetland has not been identified on the NWI, the District Conservationist will make the determination as to the correct label for this wetland. (Consult Area Biologist if necessary).  One wetland = one label."]
[]
[]
[]
[null,null,null,"Select from the following:"]
[null,null,null,null,"pema"]
[null,null,null,null,"pemc"]
[null,null,null,null,"pemf","includes pem/abf"]
[null,null,null,null,"other"]
[]
[null,"Acres Planted - to Upland Species"]
[null,null,"Wetland acres the landowner(s) agrees to seed to the same native upland grass mix as the remainder of the offer."]
[]
[]
[null,"Acres Planted - to Hydrophytic Species"]
[null,null,"Wetland acres the landowner(s) agrees to seed to a mix of native hydrophytic vegetation."]
[]
[null,"Wetland Degraded but NO Restoration"]
[null,null,"This column only needs to be completed if there is no restoration identified for the basin.  See the possible responses and their description below."]
[]
[]
[null,null,"Yes - The wetland is degraded but no hydrological manipulation has occurred. Degradation may be by poor grazing management, cattail or reed canary monoculture or formerly cropped now in perennial cover including Pastureland and CRP. Proper 644 Wetland Habitat Management or an approved 528 Prescribed Grazing plan will restore these wetlands."]
[]
[]
[]
[]
[]
[null,null,"No - The wetland is not degraded.  The wetland has no hydrologic manipulation, identifiable sediment accumulation and a diverse native plant community. (Only degraded wetlands are used to determine eligibity of an offer based on total acres).  The non-degraded wetland may be included in the WRE offer as other adjacent lands, but not as wetland making other uplands eligible."]
[]
[]
[]
[]
[]
[null,null,"Left Blank - This field should be left blank if any of the other restoration options have information entered in them."]
[]
[]
[null,"Number of Ditch Plugs Needed:"]
[null,null,"Number of ditch plugs needed as components of the 657 wetland restoration for that wetland.  Occasionally, a wetlands may require more than one ditch plug for restoration."]
[]
[]
[null,"Water Retention:"]
[null,null,"Number of water control structures installed, such as weirs, dikes or screw gates as 657 wetland restoration components.  Recommend getting an Engineer's Estimate for cost estimate."]
[]
[]
[]
[null,"Dugouts to be Filled:"]
[null,null,"Number of dugouts which will be filled in.  Each dugout is credited with 1.5 acres of restoration."]
[]
[]
[null,"Sediment Removal (acres and cuyds):"]
[null,null,"Acres and cubic yards of sediment removal needed as components of 657 wetland restoration.  Enter the number of acres needing sediment removal and the estimated cubic yards will calculated.  The worksheet uses 6\" of sediment as an estimate for the auto calculation.  Utilize the override by typing in the actual cubic yards if the depth of sediment and area are both known."]
[]
[]
[]
[]
[]
[null,"Obstruction Removal - Rock Piles:"]
[null,null,"Number of rock piles to be removed.  One acre of restoration is used per rock pile to estimate restoration cost."]
[]
[]
[null,"Obstruction Removal - Trees:"]
[null,null,"Number of trees to be removed.  One tenth (0.1) acre of restoration is used per tree.  If large numbers of trees are to be removed for restoration consult Area Office or State Office.  Use the column 'Tree Rows' for field and farmstead windbreaks."]
[]
[]
[]
[null,"Obstruction Removal - Trees Rows:"]
[null,null,"Enter a 'Yes', if the basin has tree rows to be removed.  Leave blank if there are no tree rows to be removed.  Acres of tree rows to be removed must be entered on the Inventory tab.  Use the column 'Trees' for individual trees."]
[]
[]
[]
[null,"Obstruction Removal - Fence"]
[null,null,"Enter a 'Yes', if the basin has a fence to be removed.  Leave blank if no fence to be removed.  Total feet of fence to be removed must be entered on the Inventory tab."]
[]
[]
[null,"Obstruction Removal - Other:"]
[null,null,"The number of other obstructions needing to be removed.  Consult Area Office or State Office for cost estimates if necessary."]
[]
[]
[null,"Comments/Needs"]
[null,null,"This column does not require any input, but will provide information reminders for the data entry person.  These reminders coincide with the type of restoration and will be one of the following:  (When all data appears complete \"OK\" or \"OK - Wetland Degraded - No Restoration Needed\" will appear.)"]
[]
[]
[]
[]
[null,null,"Enter Wetland Acres"]
[null,null,"Enter Wetland Type"]
[null,null,"Non-degraded or Restoration Needed"]
[null,null,"Planted acres > wetland acres"]
[null,null,"Can NOT have Restor. & No Restor. Needed"]
[null,null,"OK - Wetland Degraded - No Restoration Needed"]
[null,null,"OK"]
[]
["To Print the Wetland Inventory Only:"]
[null,"Click on the Print Wetlands Inventory to print the inventory.  (By using the command button only those lines with entries will print.)  All ranking sheets will print by clicking print on ranking sheet."]
[]
[]
["Landuse Inventory Instructions"]
[null,"Landuse Inventory - (must be completed for all offers)"]
["Landuse Inventory is used to determine ratios of uplands/adjacent lands to degraded wetlands and also assist in developing restoration cost estimates and practices.  This sheet is also used to determine the landuse of a wetland.  A wetland may be considered to be included/partially surrounded by up to three different landuse fields."]
[]
[]
[]
["On the top portion make the appropriate entries for:"]
[null,"Field #"]
[null,null,"Correlate with landuse map."]
[null,"Land Use"]
[null,null,"Cropland, CRP Active, Rangeland, Pastureland, Hayland, Wildlife Land, or Forest Land"]
[null,"Acres"]
[null,null,"Enter the total acres of each field."]
[null,"Upland Acres Planted"]
[null,null,"Enter the upland acres to be seeded to native grasses and forbs  Do not include wetland acres planted to upland seed mixes."]
[]
["The following are shaded in yellow and are either calculated entries or populated from the table below."]
[null,"Existing Upland Cover"]
[null,null,"This is a calculated cell that subtracts 'Upland Acres Planted' and 'Wetland Acres' from 'Acres'.  These acres are entered in the Restoration Section of the 'Inventory' sheet as Conservation Cover (327) - Upland Existing Cover (NOT cost shared)."]
[]
[]
[null,"Wetland Acres (from below)"]
[null,null,"Summarizes wetland acres from table below into the proper landuse field."]
[null,"Upland Acres"]
[null,null,"Calculates upland acres in field by subtracting wetland acres from field acres."]
["The next column includes comments to assist in completing the worksheet."]
[null,"Comments/Needs"]
[null,null,"This column does not require any input, but will provide information reminders for the data entry person.  These reminders include references to acres, cropland acres needing to be seeded, etc and will be one of the following:  (When all data appears complete \"OK\" or \"No wetlands located in this field - OK?\" will appear.)"]
[]
[]
[]
[]
[null,null,"Top (field listing) portion of page:"]
[null,null,"Enter Land Use"]
[null,null,"Enter Land Use Acres"]
[null,null,"Enter Acres to be Planted"]
[null,null,"Acres Planted (Upland) > Field Acres"]
[null,null,"Wetland Acres > Field Acres"]
[null,null,"Acres Planted (wet.+up.) > Field Acres"]
[null,null,"No wetlands located in this field - OK?"]
[null,null,"OK"]
[]
["The bottom portion of the Landuse_Inventory sheet is necessary to identify multiple landuses without double or triple counting wetlands.  For each landuse that a wetland is located in a portion of those wetland acres must be attributed to that land use.  If the wetland is within one landuse/field enter all acres for that landuse, but if the wetland is located in more than one landuse field prorate the wetland acres between the fields.  Prorate the wetland acres with your best estimate.  Following are a few examples on prorating."]
[]
[]
[]
[]
[]
[null,"Wetland basins divided into 2 or 3 landuses will be split here."]
[]
[null,"Example 1:","Wetland Basin 4 - 4.0 acres located in one field"]
[null,"Example 2:","Wetland Basin 3 - 3.0 acres located between two different landuses"]
[null,"Example 3:","Wetland Basin 3 - 5 acres located between three different landuses"]
[]
[null,"Example 1 identifies wetland basin #4 as being entirely within the cropland landuse.  Therefore, all of the acres in wetland basin #4 are identified in the Primary Field and Primary Field Wetland Acres column."]
[]
[]
[null,"Example 2 identifies wetland basin #3 as being split between field 1 cropland and field 4 wildlife/idle land.  Since 2.2  of the 3.0 acres are estimated cropland, 2.2 will be entered in the Primary Field column and 0.8 acres will be entered the Secondary Field column."]
[]
[]
[]
[null,"Example 3 identifies wetland basin #1 as being split between three different landuses, field 1 cropland, field 2 rangeland, and field 3 cropland.  Since 5.0 are estimated in field 3 cropland. 3.0 acres will be entered in the Primary Field. 1.0 will be entered in the Secondary Field and 1.0 will be entered in Tertiary Field."]
[]
[]
[]
[]
[null,null,"Basin #","Acres","Wetland Acres in Primary Field","Wetland Acres in Secondary Field","Wetland Acres in Tertiary Field"]
[null,"Example 1:",4,4,4]
[null,"Example 2:",3,3,2.2000000000000002,0.8]
[null,"Example 3:",1,5,3,1,1]
[]
["The columns for this section are defined below.  Those items shaded in yellow on the Landuse_Inventory sheet are either imported from the Wetland_Inventory sheet or calculated.  Those columns which are not shaded yellow require an entry."]
[]
[]
[null,"Wetland Info - Basin #"]
[null,null,"Number each basin. (from Wetland_Inventory sheet)"]
[null,"Wetland Info - Acres"]
[null,null,"Enter the acres of each wetland basin. (from Wetland_Inventory sheet)"]
[null,"Wetland Info - Type"]
[null,null,"Wetland type  (from Wetland_Inventory sheet)"]
[null,"To Upland Acres Planted - Species"]
[null,null,"Acres of wetlands planted to NON-hydrophytic species.  (from Wetland_Inventory sheet)"]
[null,"Acres Planted - To Hydrophytic Species"]
[null,null,"Acres of wetlands planted to hydrophytic species.  (from Wetland_Inventory sheet)"]
[null,"Primary Field"]
[null,null,"Chose the field where the majority of the wetland acres lie."]
[null,"Wetland Acres in First Field"]
[null,null,"Estimate wetland acres in Primary Field.  If the landuse is entirely in one landuse, all the acres go in this column."]
[]
[null,"Secondary Field"]
[null,null,"If the wetland basin is split by 2 or more landuses, enter the secondary field associated with this wetland."]
[]
[null,"Wetland Acres in Secondary Field"]
[null,null,"Estimate wetland acres in Secondary Field."]
[null,"Tertiary Field"]
[null,null,"If more than two fields are associated with the wetland basin chose from the list of fields/landuses the third field associated with this wetland basin."]
[]
[null,"Wetland Acres in Tertiary Field"]
[null,null,"Estimate the wetland basin acres to the third field."]
[null,"Wetland Acres Check"]
[null,null,"This is a calculated entry that adds the acres in each of the landuses for the basin.  This column will equal acres in that basin when done."]
[]
[null,"Wetland Acres  remaining"]
[null,null,"This is a calculated entry that shows the remaining basin acres that need to be prorated to the different fields/landuses.  Each row will equal 0 when done and correct."]
[]
["To Print the Landuse Inventory Only:"]
[null,"Click on the Print Landuse Inventory to print the inventory.  (By using the command button only those lines with entries will print.)  All ranking sheets will print by clicking print on ranking sheet."]
[]
[]
["Complete the remaining factors on the Ranking Sheet."]
[]
[null,"Points are calculated as the ranking factor information is entered.  If a factor is an eligibility criteria and the data entered does not meet eligibility requirements, the word \"INELIGIBLE\" will appear in the total points awarded box as well as in the indicated WRE ranking factor."]
[]
[]
[]
[null,"Many of the ranking factors have a choice list to select from.  "]
[]
["To Print the Ranking Workbook"]
[null,"Click on 'Print Ranking Workbook' to print the entire ranking workbook.  The items printed will be Wetland Inventory, Landuse Inventory, Inventory, Ranking, and SO_Summary.  Please submit all these sheets."]
[]
[]
["To Reset Ranking Worksheet"]
[null,"Click on 'Reset Worksheet' to reset the ranking worksheet only."]
["To Reset the ENTIRE Ranking Workbook"]
[null,"Click on 'Reset Workbook' to reset the ranking workbook. All the data entered on each of the worksheets (Wetland Inventory, Landuse Inventory, Inventory, Ranking) will be cleared."]
[]
[]
["Description of Ranking Factors and Points"]
[null,"The following factors are separated into three sections:"]
[null,"Wetland Factors"]
[null,"Floodplain Specific Factors"]
[null,"Wetland and Floodplain Factors"]
[]
["Comments"]
[null,"There is a comment section at the bottom of the ranking sheet for all comments pertaining to the offer.  If a comment is in reference to a particular factor, state the factor number in the comment."]
[]
[]
["Prairie Pothole Specific Factors"]
["FACTOR 1","Estimate Surface Acres of Basins to be Restored (657) vegetatively "]
[]
[null,"This is the measured or estimated acres of wetland or former wetland acres which will be restored vegetatively.  To be considered restored the acres MUST be seeded to wetland species.  Tree removal from the wetland also qualifies for this factor.  Reference the e-FOTG for 657 standard."]
[]
[]
[]
[null,"A point is awarded for each acre to a maximum of 30 points."]
[]
["FACTOR 2 ","Wetland Basins to be Hydrologically Restored "]
[]
[null,"This factor considers both the number of basins and acres restored  to be hydrologically restored (e.g. ditch plug, broken tile, dike, diversion, sediment removal, etc.).  Factor 2A is the number of wetland basins.  Factor 2B is the wetland acres restored."]
[]
[]
[]
[null,"Factor 2A",null,"Number of Basins"]
[null,null,null,null,null,null,null,null,"Points per Basin"]
[null,null,null,"Ditch Plug / Water Retention AND Sed.Rem./Dugouts",null,null,null,null,{"$f":"Ranking!N11","v":15}]
[null,null,null,"Ditch Plug / Water Retention ONLY",null,null,null,null,{"$f":"Ranking!N12","v":13}]
[null,null,null,"Sediment Removal and/or Dugouts ONLY",null,null,null,null,{"$f":"Ranking!N13","v":3}]
[]
[null,"Factor 2B",null,"Acres of Restoration"]
[null,null,null,null,null,null,null,null,"Points per Acre"]
[null,null,null,"Ditch Plug / Water Retention AND Sed.Rem./Dugouts",null,null,null,null,{"$f":"Ranking!N19","v":5}]
[null,null,null,"Ditch Plug / Water Retention ONLY",null,null,null,null,{"$f":"Ranking!N20","v":4}]
[null,null,null,"Sediment Removal and/or Dugouts ONLY",null,null,null,null,{"$f":"Ranking!N21","v":1}]
[]
["FACTOR 3","Upland to Wetland Ratio"]
[]
[null,"For pothole wetland type areas, this score is the result of a ratio between upland (includes non-degraded wetlands) and wetland acres. A ratio greater than 6:1 scores makes the application ineligible."]
[]
[]
[null,null,null,"Upland to Wetland Ratio",null,"Points"]
[]
[null,null,null,">6",null,"Ineligible"]
[null,null,null,"4 to <=6",null,{"$f":"Ranking!R31","v":15}]
[null,null,null,"2 to <4",null,{"$f":"Ranking!R32","v":10}]
[null,null,null,"1 to <2",null,{"$f":"Ranking!R33","v":5}]
[null,null,null," 0 to <1",null,{"$f":"Ranking!R34","v":0}]
[null,null,null,null,null,null,null,null,null,null,null,"lookup table for use in ranking sheet"]
["FACTOR 4","Wetland Types",null,null,null,null,null,null,null,null,null,"Factor #","Factor Title","Factor Description"]
[null,null,null,null,null,null,null,null,null,null,null,1,{"$f":"B286","v":"Estimate Surface Acres of Basins to be Restored (657) vegetatively "},{"$f":"B288","v":"This is the measured or estimated acres of wetland or former wetland acres which will be restored vegetatively.  To be considered restored the acres MUST be seeded to wetland species.  Tree removal from the wetland also qualifies for this factor.  Reference the e-FOTG for 657 standard."}]
[null,"This score is the combination of the wetland type, variability of wetland types within the offer, and the ratio of upland acres to existing pemf acres NOT being hydrologically restored.",null,null,null,null,null,null,null,null,null,2,{"$f":"B294","v":"Wetland Basins to be Hydrologically Restored "},{"$f":"B296","v":"This factor considers both the number of basins and acres restored  to be hydrologically restored (e.g. ditch plug, broken tile, dike, diversion, sediment removal, etc.).  Factor 2A is the number of wetland basins.  Factor 2B is the wetland acres restored."}]
[null,null,null,null,null,null,null,null,null,null,null,3,{"$f":"B312","v":"Upland to Wetland Ratio"},{"$f":"B314","v":"For pothole wetland type areas, this score is the result of a ratio between upland (includes non-degraded wetlands) and wetland acres. A ratio greater than 6:1 scores makes the application ineligible."}]
[null,null,null,null,null,null,null,null,null,null,null,4,{"$f":"B325","v":"Wetland Types"},{"$f":"B327","v":"This score is the combination of the wetland type, variability of wetland types within the offer, and the ratio of upland acres to existing pemf acres NOT being hydrologically restored."}]
[null,"Maximum points for this factor is 75.",null,null,null,null,null,null,null,null,null,5,{"$f":"B359","v":"State Geographic Area From USFWS Water Breeding Pairs Map"},{"$f":"B361","v":"Locate the offer on the statewide 2012 Waterfowl Breeding Pairs per square mile thunderstorm maps and choose the majority color for the WRE offer.  See  \"Breeding_Pairs_Map\" worksheet tab."}]
[null,null,null,null,null,null,null,null,null,null,null,6,{"$f":"B375","v":"Proximity to Other Protected Wetlands"},{"$f":"B377","v":"Protected wetlands are wetlands in public ownership or protected by public easement.  Examples of such programs are Waterfowl Production Areas, State Game Management Areas, Emergency Watershed Protection Easement areas, or lands with USFWS permanent wetland easements.  Other WRE Easements do NOT qualify since they are not permanent."}]
[null,null,null,"Wetland Type",null,"Points per basin",null,null,null,null,null,7,{"$f":"B386","v":"Threatened and Endangered Species Occur in County "},{"$f":"B388","v":"See the “County Occurrence of Endangered, Threatened and Candidate Species and Designated Critical Habitat in North Dakota” in Section I of the FOTG (is be updated for FY16).  When the WRE offer is in a County recognized as having T & E species, the points are awarded.  Points awarded based status of selected species.  The two following tables identify the points assigned to the selected species and then the number of points for each county due to the presence of those selected species."}]
[null,null,null,"pema",null,{"$f":"Ranking!R21","v":2.5},null,null,null,null,null,8,{"$f":"B420","v":"Operation and Maintenance"},{"$f":"B422","v":"How much maintenance will be needed after restoration?"}]
[null,null,null,"pemc",null,{"$f":"Ranking!R22","v":2},null,null,null,null,null,9,{"$f":"B431","v":"Partners Release Form"},{"$f":"B433","v":"Partners include SCDs, Ducks Unlimited, FWS, local Water boards, Pheasants Forever, etc.  The document allows NRCD to release client information to Conservation Partners, but does not constitute a financial commitment.  The release form must be signed and attached to award points. This document is attached to the bulletin."}]
[null,null,null,"pem/abf or pemf",null,{"$f":"Ranking!R23","v":1},null,null,null,null,null,10,{"$f":"B442","v":"Water Quality Improvement"},{"$f":"B444","v":"The ND Health Dept. has identified priority watersheds by 8 digit HUCs.  Those watersheds with impaired waters are granted 5 points.  See  \"HUC_map\" worksheet tab for watershed HUC."}]
[null,null,null,"other",null,{"$f":"Ranking!R24","v":0.5},null,null,null,null,null,11,{"$f":"B472","v":"Retention  "},{"$f":"B474","v":"Will the easement's vegetative and hydrologically restored areas remain protected after the WRE easement has expired or will it return to cropland?  If a public entity i.e. Natural Resources Trust, NDGF, USFWS (purchase agreement or easement) has formally agreed to extend the life of the restoration, then answer yes.  "}]
[null,null,null,null,null,null,null,null,null,null,null,12,{"$f":"B483","v":"Producer will accept less than 75% of NRCS GARC for 30-Year Easement"},{"$f":"B485","v":"Will landowner (in writing) accept less than 75% of NRCS established value?  If YES, enter the percent of appraised value chosen by the applicant."}]
[null,"The above points are adjusted by a factor for the variability of the different wetland types in the offer.",null,null,null,null,null,null,null,null,null,13,{"$f":"B496","v":"USDA Restoration Costs"},{"$f":"B498","v":"The intent of this factor is to rank the cost efficiency of restoration activities.  Consideration should be given if a conservation partner will decrease USDA restoration cost by paying for part of the restoration. (If COST REDUCED, enter the NRCS percent in column E)."}]
[null,null,null,null,null,null,null,null,null,null,null,14,{"$f":"B507","v":"Percentage of upland area planted to annual crops"},{"$f":"B509","v":"Note: Existing hay land fields in rotation for more than 4 years are not considered as an annually planted cropland."}]
[null,null,null,"Number of Different Wetland Types",null,"Factor",null,null,null,null,null,15,{"$f":"B518","v":"Survey Extent"},{"$f":"B520","v":"This factor considers how many turns will be needed to conduct the survey."}]
[null,null,null,null,null,null,null,null,null,null,null,16,{"$f":"B534","v":"CRP set to expire within one year."},{"$f":"B536","v":"Is the offered land currently in a CRP contract set to expire within one year."}]
[null,null,null,null,null,null,null,null,null,null,null,17,{"$f":"B542","v":"Cost Effectiveness"},{"$f":"B544","v":"This factor evaluates the cost of the easement against all other factors in order to try to maximize the environmental benefit per dollar expended."}]
[null,null,null,1,null,{"$f":"Ranking!V13","v":0.2}]
[null,null,null,2,null,{"$f":"Ranking!V14","v":0.4}]
[null,null,null,3,null,{"$f":"Ranking!V15","v":0.9}]
[null,null,null,">= 4",null,{"$f":"Ranking!V16","v":1.2}]
[]
[null,"The above points are further adjusted (reduced) by a factor for the ratio of uplands acres to pem/abf or pemf acres which are not restored.  (The larger the pemf acres not restored result in more points being subtracted).  "]
[]
[]
[]
[null,null,null," Criteria",null,"points"]
[null,null,null,">=10",null,{"$f":"Ranking!V20","v":0}]
[null,null,null,">=7 and <10",null,{"$f":"Ranking!V21","v":-10}]
[null,null,null,">=4 and <7",null,{"$f":"Ranking!V22","v":-20}]
[null,null,null,">0 and <4",null,{"$f":"Ranking!V23","v":-30}]
[null,null,null,0,null,{"$f":"Ranking!V24","v":0}]
[]
["FACTOR 5","State Geographic Area From USFWS Water Breeding Pairs Map"]
[]
[null,"Locate the offer on the statewide 2012 Waterfowl Breeding Pairs per square mile thunderstorm maps and choose the majority color for the WRE offer.  See  \"Breeding_Pairs_Map\" worksheet tab."]
[]
[]
[]
[null,null,null,"Thunderstorm Map Color",null,null,null,"Points"]
[null,null,null,"Red",null,null,null,{"$f":"Ranking!N27","v":25}]
[null,null,null,"Yellow",null,null,null,{"$f":"Ranking!N28","v":25}]
[null,null,null,"Dark Green",null,null,null,{"$f":"Ranking!N29","v":20}]
[null,null,null,"Light Green",null,null,null,{"$f":"Ranking!N30","v":15}]
[null,null,null,"Beige",null,null,null,{"$f":"Ranking!N31","v":10}]
[null,null,null,"Dark Blue",null,null,null,{"$f":"Ranking!N32","v":5}]
[null,null,null,"Light Blue",null,null,null,{"$f":"Ranking!N33","v":5}]
[null,null,null,"South & West of Missouri River",null,null,null,{"$f":"Ranking!N34","v":10}]
[]
["FACTOR 6","Proximity to Other Protected Wetlands"]
[]
[null,"Protected wetlands are wetlands in public ownership or protected by public easement.  Examples of such programs are Waterfowl Production Areas, State Game Management Areas, Emergency Watershed Protection Easement areas, or lands with USFWS permanent wetland easements.  Other WRE Easements do NOT qualify since they are not permanent."]
[]
[]
[]
[]
[null,null,null,"Offer Proximity to Protected Wetlands",null,null,null,null,"Points"]
[null,null,null,"Immediately adjacent to protected wetland easement ",null,null,null,null,{"$f":"Ranking!U40","v":20}]
[null,null,null,"Not adjacent",null,null,null,null,{"$f":"Ranking!U41","v":0}]
[]
["FACTOR 7","Threatened and Endangered Species Occur in County "]
[]
[null,"See the “County Occurrence of Endangered, Threatened and Candidate Species and Designated Critical Habitat in North Dakota” in Section I of the FOTG (is be updated for FY16).  When the WRE offer is in a County recognized as having T & E species, the points are awarded.  Points awarded based status of selected species.  The two following tables identify the points assigned to the selected species and then the number of points for each county due to the presence of those selected species."]
[]
[]
[]
[]
[]
[null,"Status",null,null,"Species",null,null,null,"Points\nper\nSpecies"]
[null,"Endangered",null,null,"Poweshiek Skipperling & Whooping Crane",null,null,null,4]
[null,"Threatened",null,null,"Dakota Skipper, Northern Long-Eared Bat, Piping Plover, Red Knot, & Western Prairie Fringed Orchid",null,null,null,3]
[null,"Candidate",null,null,"Sprague's Pipit",null,null,null,1]
[null,"Designated Critical Habitat",null,null,"Dakota Skipper, Piping Plover, & Poweshiek Skipperling",null,null,null,3]
[]
[null,"County","FIPS","Points","County","FIPS","Points","County","FIPS","Points"]
[null,"Adams","001",{"$f":"VLOOKUP(B401,'T&E'!$A$4:$P$56,16,FALSE)","v":8},"Grant","037",{"$f":"VLOOKUP(E401,'T&E'!$A$4:$P$56,16,FALSE)","v":8},"Ransom","073",{"$f":"VLOOKUP(H401,'T&E'!$A$4:$P$56,16,FALSE)","v":17}]
[null,"Barnes","003",{"$f":"VLOOKUP(B402,'T&E'!$A$4:$P$56,16,FALSE)","v":8},"Griggs","039",{"$f":"VLOOKUP(E402,'T&E'!$A$4:$P$56,16,FALSE)","v":7},"Renville","075",{"$f":"VLOOKUP(H402,'T&E'!$A$4:$P$56,16,FALSE)","v":17}]
[null,"Benson","005",{"$f":"VLOOKUP(B403,'T&E'!$A$4:$P$56,16,FALSE)","v":17},"Hettinger","041",{"$f":"VLOOKUP(E403,'T&E'!$A$4:$P$56,16,FALSE)","v":8},"Richland","077",{"$f":"VLOOKUP(H403,'T&E'!$A$4:$P$56,16,FALSE)","v":23}]
[null,"Billings","007",{"$f":"VLOOKUP(B404,'T&E'!$A$4:$P$56,16,FALSE)","v":8},"Kidder","043",{"$f":"VLOOKUP(E404,'T&E'!$A$4:$P$56,16,FALSE)","v":17},"Rolette","079",{"$f":"VLOOKUP(H404,'T&E'!$A$4:$P$56,16,FALSE)","v":14}]
[null,"Bottineau","009",{"$f":"VLOOKUP(B405,'T&E'!$A$4:$P$56,16,FALSE)","v":11},"LaMoure","045",{"$f":"VLOOKUP(E405,'T&E'!$A$4:$P$56,16,FALSE)","v":8},"Sargent","081",{"$f":"VLOOKUP(H405,'T&E'!$A$4:$P$56,16,FALSE)","v":15}]
[null,"Bowman","011",{"$f":"VLOOKUP(B406,'T&E'!$A$4:$P$56,16,FALSE)","v":8},"Logan","047",{"$f":"VLOOKUP(E406,'T&E'!$A$4:$P$56,16,FALSE)","v":14},"Sheridan","083",{"$f":"VLOOKUP(H406,'T&E'!$A$4:$P$56,16,FALSE)","v":17}]
[null,"Burke","013",{"$f":"VLOOKUP(B407,'T&E'!$A$4:$P$56,16,FALSE)","v":20},"McHenry","049",{"$f":"VLOOKUP(E407,'T&E'!$A$4:$P$56,16,FALSE)","v":23},"Sioux","085",{"$f":"VLOOKUP(H407,'T&E'!$A$4:$P$56,16,FALSE)","v":17}]
[null,"Burleigh","015",{"$f":"VLOOKUP(B408,'T&E'!$A$4:$P$56,16,FALSE)","v":17},"McIntosh","051",{"$f":"VLOOKUP(E408,'T&E'!$A$4:$P$56,16,FALSE)","v":17},"Slope","087",{"$f":"VLOOKUP(H408,'T&E'!$A$4:$P$56,16,FALSE)","v":8}]
[null,"Cass","017",{"$f":"VLOOKUP(B409,'T&E'!$A$4:$P$56,16,FALSE)","v":7},"McKenzie","053",{"$f":"VLOOKUP(E409,'T&E'!$A$4:$P$56,16,FALSE)","v":23},"Stark","089",{"$f":"VLOOKUP(H409,'T&E'!$A$4:$P$56,16,FALSE)","v":8}]
[null,"Cavalier","019",{"$f":"VLOOKUP(B410,'T&E'!$A$4:$P$56,16,FALSE)","v":8},"McLean","055",{"$f":"VLOOKUP(E410,'T&E'!$A$4:$P$56,16,FALSE)","v":20},"Steele","091",{"$f":"VLOOKUP(H410,'T&E'!$A$4:$P$56,16,FALSE)","v":7}]
[null,"Dickey","021",{"$f":"VLOOKUP(B411,'T&E'!$A$4:$P$56,16,FALSE)","v":8},"Mercer","057",{"$f":"VLOOKUP(E411,'T&E'!$A$4:$P$56,16,FALSE)","v":17},"Stutsman","093",{"$f":"VLOOKUP(H411,'T&E'!$A$4:$P$56,16,FALSE)","v":20}]
[null,"Divide","023",{"$f":"VLOOKUP(B412,'T&E'!$A$4:$P$56,16,FALSE)","v":17},"Morton","059",{"$f":"VLOOKUP(E412,'T&E'!$A$4:$P$56,16,FALSE)","v":17},"Towner","095",{"$f":"VLOOKUP(H412,'T&E'!$A$4:$P$56,16,FALSE)","v":8}]
[null,"Dunn","025",{"$f":"VLOOKUP(B413,'T&E'!$A$4:$P$56,16,FALSE)","v":20},"Mountrail","061",{"$f":"VLOOKUP(E413,'T&E'!$A$4:$P$56,16,FALSE)","v":20},"Traill","097",{"$f":"VLOOKUP(H413,'T&E'!$A$4:$P$56,16,FALSE)","v":7}]
[null,"Eddy","027",{"$f":"VLOOKUP(B414,'T&E'!$A$4:$P$56,16,FALSE)","v":20},"Nelson","063",{"$f":"VLOOKUP(E414,'T&E'!$A$4:$P$56,16,FALSE)","v":7},"Walsh","099",{"$f":"VLOOKUP(H414,'T&E'!$A$4:$P$56,16,FALSE)","v":8}]
[null,"Emmons","029",{"$f":"VLOOKUP(B415,'T&E'!$A$4:$P$56,16,FALSE)","v":17},"Oliver","065",{"$f":"VLOOKUP(E415,'T&E'!$A$4:$P$56,16,FALSE)","v":20},"Ward","101",{"$f":"VLOOKUP(H415,'T&E'!$A$4:$P$56,16,FALSE)","v":20}]
[null,"Foster","031",{"$f":"VLOOKUP(B416,'T&E'!$A$4:$P$56,16,FALSE)","v":14},"Pembina","067",{"$f":"VLOOKUP(E416,'T&E'!$A$4:$P$56,16,FALSE)","v":8},"Wells","103",{"$f":"VLOOKUP(H416,'T&E'!$A$4:$P$56,16,FALSE)","v":17}]
[null,"Golden Valley","033",{"$f":"VLOOKUP(B417,'T&E'!$A$4:$P$56,16,FALSE)","v":8},"Pierce","069",{"$f":"VLOOKUP(E417,'T&E'!$A$4:$P$56,16,FALSE)","v":17},"Williams","105",{"$f":"VLOOKUP(H417,'T&E'!$A$4:$P$56,16,FALSE)","v":17}]
[null,"Grand Forks","035",{"$f":"VLOOKUP(B418,'T&E'!$A$4:$P$56,16,FALSE)","v":7},"Ramsey","071",{"$f":"VLOOKUP(E418,'T&E'!$A$4:$P$56,16,FALSE)","v":8}]
[]
["FACTOR 8","Operation and Maintenance"]
[]
[null,"How much maintenance will be needed after restoration?"]
[]
[null,"Note: Ditch plugs and filling dugouts are not considered structural for this factor"]
[]
[null,null,null,"Estimated Level of Maintenance Required",null,null,"Points"]
[]
[null,null,null,"Vegetative O&M only",null,null,{"$f":"Ranking!N40","v":10}]
[null,null,null,"Structural and vegetative O&M",null,null,{"$f":"Ranking!N41","v":0}]
[]
["FACTOR 9","Partners Release Form"]
[]
[null,"Partners include SCDs, Ducks Unlimited, FWS, local Water boards, Pheasants Forever, etc.  The document allows NRCD to release client information to Conservation Partners, but does not constitute a financial commitment.  The release form must be signed and attached to award points. This document is attached to the bulletin."]
[]
[]
[]
[]
[null,null,null,null,"Choice","Points"]
[null,null,null,null,"Yes",{"$f":"Ranking!L46","v":5}]
[null,null,null,null,"No ",{"$f":"Ranking!L47","v":0}]
[]
["FACTOR 10","Water Quality Improvement"]
[]
[null,"The ND Health Dept. has identified priority watersheds by 8 digit HUCs.  Those watersheds with impaired waters are granted 5 points.  See  \"HUC_map\" worksheet tab for watershed HUC."]
[]
[]
[]
[null,null,null,"Impaired Watershed",null,"Points"]
[null,null,null,{"$f":"Ranking!L52","v":"Yes"},null,{"$f":"Ranking!M52","v":5}]
[null,null,null,{"$f":"Ranking!L53","v":"No"},null,{"$f":"Ranking!M53","v":0}]
[]
[null,"Watershed\nHUC","Priority","Points","Watershed\nHUC","Priority","Points","Watershed\nHUC","Priority","Points"]
[null,"09010001",{"$f":"VLOOKUP(B453,HUC_Priorities!$A$3:$C$54,2,FALSE)","v":"No"},{"$f":"VLOOKUP(C453,$D$449:$F$450,3,FALSE)","v":0},"09020308",{"$f":"VLOOKUP(E453,HUC_Priorities!$A$3:$C$54,2,FALSE)","v":"Yes"},{"$f":"VLOOKUP(F453,$D$449:$F$450,3,FALSE)","v":5},"10130101",{"$f":"VLOOKUP(H453,HUC_Priorities!$A$3:$C$54,2,FALSE)","v":"Yes"},{"$f":"VLOOKUP(I453,$D$449:$F$450,3,FALSE)","v":5}]
[null,"09010002",{"$f":"VLOOKUP(B454,HUC_Priorities!$A$3:$C$54,2,FALSE)","v":"Yes"},{"$f":"VLOOKUP(C454,$D$449:$F$450,3,FALSE)","v":5},"09020310",{"$f":"VLOOKUP(E454,HUC_Priorities!$A$3:$C$54,2,FALSE)","v":"Yes"},{"$f":"VLOOKUP(F454,$D$449:$F$450,3,FALSE)","v":5},"10130102",{"$f":"VLOOKUP(H454,HUC_Priorities!$A$3:$C$54,2,FALSE)","v":"No"},{"$f":"VLOOKUP(I454,$D$449:$F$450,3,FALSE)","v":0}]
[null,"09010003",{"$f":"VLOOKUP(B455,HUC_Priorities!$A$3:$C$54,2,FALSE)","v":"Yes"},5,"09020311",{"$f":"VLOOKUP(E455,HUC_Priorities!$A$3:$C$54,2,FALSE)","v":"Yes"},5,"10130103",{"$f":"VLOOKUP(H455,HUC_Priorities!$A$3:$C$54,2,FALSE)","v":"Yes"},5]
[null,"09010004",{"$f":"VLOOKUP(B456,HUC_Priorities!$A$3:$C$54,2,FALSE)","v":"Yes"},5,"09020313",{"$f":"VLOOKUP(E456,HUC_Priorities!$A$3:$C$54,2,FALSE)","v":"Yes"},5,"10130104",{"$f":"VLOOKUP(H456,HUC_Priorities!$A$3:$C$54,2,FALSE)","v":"Yes"},5]
[null,"09010005",{"$f":"VLOOKUP(B457,HUC_Priorities!$A$3:$C$54,2,FALSE)","v":"No"},0,"09020315",{"$f":"VLOOKUP(E457,HUC_Priorities!$A$3:$C$54,2,FALSE)","v":"Yes"},5,"10130106",{"$f":"VLOOKUP(H457,HUC_Priorities!$A$3:$C$54,2,FALSE)","v":"Yes"},5]
[null,"09020101",{"$f":"VLOOKUP(B458,HUC_Priorities!$A$3:$C$54,2,FALSE)","v":"Yes"},5,"09020316",{"$f":"VLOOKUP(E458,HUC_Priorities!$A$3:$C$54,2,FALSE)","v":"Yes"},5,"10130201",{"$f":"VLOOKUP(H458,HUC_Priorities!$A$3:$C$54,2,FALSE)","v":"Yes"},5]
[null,"09020104",{"$f":"VLOOKUP(B459,HUC_Priorities!$A$3:$C$54,2,FALSE)","v":"Yes"},5,"10060005",{"$f":"VLOOKUP(E459,HUC_Priorities!$A$3:$C$54,2,FALSE)","v":"No"},0,"10130202",{"$f":"VLOOKUP(H459,HUC_Priorities!$A$3:$C$54,2,FALSE)","v":"Yes"},5]
[null,"09020105",{"$f":"VLOOKUP(B460,HUC_Priorities!$A$3:$C$54,2,FALSE)","v":"Yes"},5,"10060006",{"$f":"VLOOKUP(E460,HUC_Priorities!$A$3:$C$54,2,FALSE)","v":"No"},0,"10130203",{"$f":"VLOOKUP(H460,HUC_Priorities!$A$3:$C$54,2,FALSE)","v":"Yes"},5]
[null,"09020107",{"$f":"VLOOKUP(B461,HUC_Priorities!$A$3:$C$54,2,FALSE)","v":"Yes"},5,"10060007",{"$f":"VLOOKUP(E461,HUC_Priorities!$A$3:$C$54,2,FALSE)","v":"No"},0,"10130204",{"$f":"VLOOKUP(H461,HUC_Priorities!$A$3:$C$54,2,FALSE)","v":"Yes"},5]
[null,"09020109",{"$f":"VLOOKUP(B462,HUC_Priorities!$A$3:$C$54,2,FALSE)","v":"Yes"},5,"10100004",{"$f":"VLOOKUP(E462,HUC_Priorities!$A$3:$C$54,2,FALSE)","v":"No"},0,"10130205",{"$f":"VLOOKUP(H462,HUC_Priorities!$A$3:$C$54,2,FALSE)","v":"Yes"},5]
[null,"09020201",{"$f":"VLOOKUP(B463,HUC_Priorities!$A$3:$C$54,2,FALSE)","v":"Yes"},5,"10110101",{"$f":"VLOOKUP(E463,HUC_Priorities!$A$3:$C$54,2,FALSE)","v":"Yes"},5,"10130206",{"$f":"VLOOKUP(H463,HUC_Priorities!$A$3:$C$54,2,FALSE)","v":"Yes"},5]
[null,"09020202",{"$f":"VLOOKUP(B464,HUC_Priorities!$A$3:$C$54,2,FALSE)","v":"Yes"},5,"10110102",{"$f":"VLOOKUP(E464,HUC_Priorities!$A$3:$C$54,2,FALSE)","v":"Yes"},5,"10130301",{"$f":"VLOOKUP(H464,HUC_Priorities!$A$3:$C$54,2,FALSE)","v":"No"},0]
[null,"09020203",{"$f":"VLOOKUP(B465,HUC_Priorities!$A$3:$C$54,2,FALSE)","v":"Yes"},5,"10110201",{"$f":"VLOOKUP(E465,HUC_Priorities!$A$3:$C$54,2,FALSE)","v":"No"},0,"10130303",{"$f":"VLOOKUP(H465,HUC_Priorities!$A$3:$C$54,2,FALSE)","v":"Yes"},5]
[null,"09020204",{"$f":"VLOOKUP(B466,HUC_Priorities!$A$3:$C$54,2,FALSE)","v":"Yes"},5,"10110202",{"$f":"VLOOKUP(E466,HUC_Priorities!$A$3:$C$54,2,FALSE)","v":"No"},0,"10160001",{"$f":"VLOOKUP(H466,HUC_Priorities!$A$3:$C$54,2,FALSE)","v":"Yes"},5]
[null,"09020205",{"$f":"VLOOKUP(B467,HUC_Priorities!$A$3:$C$54,2,FALSE)","v":"Yes"},5,"10110203",{"$f":"VLOOKUP(E467,HUC_Priorities!$A$3:$C$54,2,FALSE)","v":"Yes"},5,"10160002",{"$f":"VLOOKUP(H467,HUC_Priorities!$A$3:$C$54,2,FALSE)","v":"Yes"},5]
[null,"09020301",{"$f":"VLOOKUP(B468,HUC_Priorities!$A$3:$C$54,2,FALSE)","v":"Yes"},5,"10110204",{"$f":"VLOOKUP(E468,HUC_Priorities!$A$3:$C$54,2,FALSE)","v":"No"},0,"10160003",{"$f":"VLOOKUP(H468,HUC_Priorities!$A$3:$C$54,2,FALSE)","v":"Yes"},5]
[null,"09020306",{"$f":"VLOOKUP(B469,HUC_Priorities!$A$3:$C$54,2,FALSE)","v":"Yes"},{"$f":"VLOOKUP(C469,$D$449:$F$450,3,FALSE)","v":5},"10110205",{"$f":"VLOOKUP(E469,HUC_Priorities!$A$3:$C$54,2,FALSE)","v":"Yes"},{"$f":"VLOOKUP(F469,$D$449:$F$450,3,FALSE)","v":5},"10160004",{"$f":"VLOOKUP(H469,HUC_Priorities!$A$3:$C$54,2,FALSE)","v":"Yes"},{"$f":"VLOOKUP(I469,$D$449:$F$450,3,FALSE)","v":5}]
[null,"09020307",{"$f":"VLOOKUP(B470,HUC_Priorities!$A$3:$C$54,2,FALSE)","v":"Yes"},5]
[]
["FACTOR 11","Retention  "]
[]
[null,"Will the easement's vegetative and hydrologically restored areas remain protected after the WRE easement has expired or will it return to cropland?  If a public entity i.e. Natural Resources Trust, NDGF, USFWS (purchase agreement or easement) has formally agreed to extend the life of the restoration, then answer yes.  "]
[]
[]
[]
[]
[null,null,null,null,"Choice","Points"]
[null,null,null,null,"Yes",{"$f":"Ranking!Q103","v":20}]
[null,null,null,null,"No ",{"$f":"Ranking!Q104","v":0}]
[]
["FACTOR 12","Producer will accept less than 75% of NRCS GARC for 30-Year Easement"]
[]
[null,"Will landowner (in writing) accept less than 75% of NRCS established value?  If YES, enter the percent of appraised value chosen by the applicant."]
[]
[]
[null,null,null,"Percent of Established Value",null,"Points"]
[]
[null,null,null,0.5,null,{"$f":"Ranking!Q111","v":25}]
[null,null,null,0.55000000000000004,null,{"$f":"Ranking!Q112","v":20}]
[null,null,null,0.6,null,{"$f":"Ranking!Q113","v":15}]
[null,null,null,0.65,null,{"$f":"Ranking!Q114","v":10}]
[null,null,null,0.7,null,{"$f":"Ranking!Q115","v":5}]
[]
["FACTOR 13","USDA Restoration Costs"]
[]
[null,"The intent of this factor is to rank the cost efficiency of restoration activities.  Consideration should be given if a conservation partner will decrease USDA restoration cost by paying for part of the restoration. (If COST REDUCED, enter the NRCS percent in column E)."]
[]
[]
[]
[null,null,"Restoration Cost",null,null,null,null,"Points"]
[null,null,"Less than the per-unit cost on the WRE cost list ",null,null,null,null,{"$f":"Ranking!U122","v":5}]
[null,null,"Equal to the per-unit cost on the WRE cost list ",null,null,null,null,{"$f":"Ranking!U123","v":0}]
[null,null,"Greater than the per-unit cost on the WRE cost list",null,null,null,null,{"$f":"Ranking!U124","v":-5}]
[]
["FACTOR 14","Percentage of upland area planted to annual crops"]
[]
[null,"Note: Existing hay land fields in rotation for more than 4 years are not considered as an annually planted cropland."]
[]
[]
[null,null,null,"Percent of Offer ",null,"Points"]
[null,null,null,"75 or > ",null,{"$f":"Ranking!N116","v":10}]
[null,null,null,"50 to 74 ",null,{"$f":"Ranking!N117","v":7}]
[null,null,null,"25 to 49 ",null,{"$f":"Ranking!N118","v":2}]
[null,null,null,"< 25",null,{"$f":"Ranking!N119","v":0}]
[]
["FACTOR 15","Survey Extent"]
[]
[null,"This factor considers how many turns will be needed to conduct the survey."]
[]
[null,"Depending on the complexity of the survey, the following table shows the additional points to added to the ranking score."]
[]
[]
[null,null,null,"Number of Corners (Survey Turns)",null,"Additional Points"]
[]
[null,null,null,"<=4",null,{"$f":"Ranking!N125","v":10}]
[null,null,null,5,null,{"$f":"Ranking!N126","v":7}]
[null,null,null,6,null,{"$f":"Ranking!N127","v":5}]
[null,null,null,7,null,{"$f":"Ranking!N128","v":3}]
[null,null,null,8,null,{"$f":"Ranking!N129","v":2}]
[null,null,null,">=9",null,{"$f":"Ranking!N130","v":0}]
[]
["FACTOR 16","CRP set to expire within one year."]
[]
[null,"Is the offered land currently in a CRP contract set to expire within one year."]
[]
[null,null,null,null,"Choice","Points"]
[null,null,null,null,"Yes",{"$f":"Ranking!M137","v":5}]
[null,null,null,null,"No ",{"$f":"Ranking!M138","v":0}]
[]
["FACTOR 17","Cost Effectiveness"]
[]
[null,"This factor evaluates the cost of the easement against all other factors in order to try to maximize the environmental benefit per dollar expended."]
[]
[]
[null,"To calculate the additional points the offer will receive for cost effectiveness, the estimated costs for purchasing the easement and restoration were divided by the offered acres and then the total points for factors 1 - 15."]
[]
[]
[]
[null,null,null,"Cost/Acre/Points",null,"Additional Points"]
[]
[null,null,null,"<= 4.00",null,{"$f":"Ranking!R129","v":20}]
[null,null,null,"4.01 - 8.00",null,{"$f":"Ranking!R130","v":15}]
[null,null,null,"8.01 - 12.00",null,{"$f":"Ranking!R131","v":10}]
[null,null,null,"> 12.00",null,{"$f":"Ranking!R132","v":0}]
[]
["30 Year Grazing Land Pilot Intstructions"]
["There is the option in the following counties to take an easement which allows the landowner to continue grazing if they have an approved grazing plan.  See the worksheet labeled 'GrazingPilotMap' for the map showing the area include.  Only the land located within the red boundary is eligible for this pilot.  If more than 50 percent of the land offered falls inside the boundary the entire property may be enrolled as long as it is contiguous."]
[]
[]
[]
[]
[null,null,"Burke",null,"McIntosh"]
[null,null,"Burleigh",null,"McLean"]
[null,null,"Dickey",null,"Mountrail"]
[null,null,"Divide",null,"Sheridan"]
[null,null,"Emmons",null,"Stutsman"]
[null,null,"Kidder",null,"Ward"]
[null,null,"LaMoure",null,"Wells"]
[null,null,"Logan",null,"Williams"]
[]
["The worksheet, 'Graze', includes those practices that may be installed to make the offer eligible for an approved grazing system.  Use this worksheet to develop the conservation practice costs.  This work sheet is only needed for the pilot offers.  This worksheet is not printed with the rest of the workbook so will need to be printed separately."]
[]
[]
[]
["For each of the following practices enter the number of units of the practice along with the number of each component to be installed.  The number of units for each practice and the total costs will be transferred to the 'Inventory' tab and included in the restoration costs."]
[]
[]
[]
[null,null,"Fence (382)"]
[null,null,"Watering Facility (614)","Watering Facility (614)","Watering Facility (614)"]
[null,null,"Pipeline (516)","Pipeline (516)","Pipeline (516)"]
[null,null,"Water Well (642)","Water Well (642)","Water Well (642)"]

{"sheet":"Wetland_Inventory","index":1,"n_rows":164,"n_cols":81,"rows_kept":164,"cut":false,"hidden":false,"merged":[[6,7,9,14],[20,71,24,72],[11,5,12,5],[11,6,12,6],[11,7,12,7],[11,8,12,8],[11,9,11,10],[9,49,11,50],[9,51,11,52],[9,53,11,54],[9,2,9,3],[4,2,4,3],[5,2,5,3],[6,2,6,3],[7,2,7,3],[8,2,8,3]]}
["Wetlands / Prairie Potholes Inventory (FY 2016)"]
[{"$f":"IF(Inventory!C3=Inventory!C4,Inventory!C3&\" - \"&Inventory!C7,IF(Inventory!C4=\"\",Inventory!C3&\" - \"&Inventory!C7,Inventory!C4&\" (land in \"&Inventory!C3&\") - \"&Inventory!C7))","v":" - "},null,null,null,null,null,null,null,null,null,null,null,null,null,null,null,null,null,null,null,null,null,null,null,null,null,null,null,null,null,null,null,"Degraded vegetatively",null,"all cropped wetland acres"]
["Wetland Inventory - Enter wetland information by basin",null,null,null,null,null,null,null,null,null,null,null,null,null,null,null,null,null,null,null,null,null,null,null,null,null,null,null,null,null,null,null,null,null,"for other landuses 1/10 acre per tree removed"]
[null,null,"Wetland Acres (from below)",null,null,null,null,null,null,null,null,null,null,null,null,null,null,null,null,null,null,null,null,null,null,null,null,null,null,null,null,null,"Degraded Hydrologically",null,"max acres = wetland acres, ditch plugs or water retention max out acres"]
[null,null,"Wetland Type",null,"Acres","Basins",null,null,null,null,null,null,null,null,null,null,null,null,null,null,null,null,null,null,null,null,null,null,null,null,null,null,null,"Acres allowed per rockpile",null,1,null,"only given credit to max acres"]
[null,null,{"$f":"BY16","v":"pema"},null,{"$f":"SUMIF($C$14:$C$161,C6,$B$14:$B$161)","v":0},{"$f":"COUNTIF($C$14:$C$161,C6)","v":0},null,null,null,null,null,null,null,null,null,null,null,null,null,null,null,null,null,null,null,null,null,null,null,null,null,null,null,"Acres allowed per dugout",null,1.5,null,"only given credit to max acres"]
[null,null,{"$f":"BY17","v":"pemc"},null,{"$f":"SUMIF($C$14:$C$161,C7,$B$14:$B$161)","v":0},{"$f":"COUNTIF($C$14:$C$161,C7)","v":0},null,"Note: Any wetland basins that may required a SWC permit will be high lighted.  Criteria used is >= 6 acres and ditch plugs / water retention.  Any wetland with greater than 12.5 ac-ft of restoration requires a SWC permit.  Contact AO for additional instructions.",null,null,null,null,null,null,null,null,null,null,null,null,null,null,null,null,null,null,null,null,null,null,null,null,"Degraded with sediment"]
[null,null,{"$f":"BY18","v":"pemf"},null,{"$f":"SUMIF($C$14:$C$161,C8,$B$14:$B$161)","v":0},{"$f":"COUNTIF($C$14:$C$161,C8)","v":0}]
[null,null,{"$f":"BY19","v":"other"},null,{"$f":"SUMIF($C$14:$C$161,C9,$B$14:$B$161)","v":0},{"$f":"COUNTIF($C$14:$C$161,C9)","v":0}]
[null,null,"Total",null,{"$f":"SUM(E5:E9)","v":0},{"$f":"SUM(F5:F9)","v":0},null,null,null,null,null,null,null,null,null,null,null,null,null,null,null,null,null,null,null,null,null,null,null,null,null,null,null,null,null,null,null,null,null,null,null,null,null,null,null,null,null,null,null,"Ditch Plugs/ Retention & Sed. Removal",null,"Ditch Plugs/ Retention",null,"Sed. Removal & Dugout Only"]
[null,null,null,null,null,null,null,null,null,null,null,null,null,null,null,{"$f":"Ranking!H1","v":"FY16-ver1"},null,null,null,null,null,null,null,null,null,null,null,null,null,null,null,null,null,null,"Degraded vegetatively"]
["Wetland Info",null,null,"Acres Planted",null,"Wetland Degraded, but NO Restoration Needed","Ditch Plugs (no.)","Water Retention * (no.)","Dugouts to be filled (no.)","Sediment Removal",null,"Obstruction Removal *",null,null,null,null,null,null,"Error Checking - wetland section",null,null,null,null,null,null,null,null,null,null,null,null,null,null,null,null,"Factor 1",null,null,"Degraded Hydrologically"]
["Basin #","Acres","Type","To Upland Species","To Hydrophytic Species",null,null,null,null,"Acres (max of 2)","CuYds","Rock piles (no.)","Trees (no.)","Tree rows (Yes or left blank)","Fence (Yes or left blank)","Other (no.)","Comments/Needs",null,"result",1,2,3,4,5,6,7,8,9,10,11,null,"Landuse - no longer used FY11","Non-degraded","Degraded - existing cover","Planted Acres - upland species","Planted Acres - wetland species","Tree Acres","basins","Degraded with sediment","Ditch plug / Water Retention","Rockpiles\n(1 ac/rockpile)","Dugout filled\n(1.5 ac/dugout)","Acres","Total Degraded Acres","Total Degraded Basins","Total Non-Degraded Basins",null,"Degraded with sediment / Dugout (Acres)",null,"Acres","Basins","Acres","Basins","Acres Sed. Rem","Basins","Acres","Basins",null,null,null,null,null,null,null,null,null,null,null,null,null,null,null,null,null,"Dropdown selections"]
[null,null,null,null,null,null,null,null,null,null,{"$f":"ROUND(J14*43560*0.5/27,1)","v":0},null,null,null,null,null,{"$f":"CHOOSE(S14,$CC$31,$CC$32,$CC$33,$CC$34,$CC$35,$CC$36,$CC$37,$CC$38,$CC$39,$CC$40,$CC$41)","v":" "},null,{"$f":"MIN(T14:AD14)","v":1},{"$f":"IF(AND(A14=\"\",D14=\"\"),T$13,\"\")","v":1},{"$f":"IF(AND(B14=\"\",A14<>\"\"),U$13,\"\")","v":""},{"$f":"IF(AND(C14=\"\",A14<>\"\"),V$13,\"\")","v":""},{"$f":"IF(AND(AND(AND(SUM(D14:M14)+P14=0,AND(N14<>\"Yes\",O14<>\"Yes\")),F14<>\"yes\"),A14<>\"\"),W$13,\"\")","v":""},{"$f":"IF(AND(A14<>\"\",(D14+E14)>B14),X$13,\"\")","v":""},null,null,null,{"$f":"IF(AND(SUM(E14:P14)>0,F14=\"yes\",A14<>\"\"),AB$13,\"\")","v":""},{"$f":"IF(AND(F14=\"yes\",A14<>\"\"),AC$13,\"\")","v":""},{"$f":"AD$13","v":11},null,{"$f":"IF(ISNA(VLOOKUP(D14,#REF!,2,FALSE)),\"\",VLOOKUP(D14,#REF!,2,FALSE))","v":{"$error":"#REF!"}},{"$f":"IF(Q14=$CC$34,B14,0)","v":0},{"$f":"IF(Q14=$CC$40,B14,IF(B14-AG14-AI14-AK14-AM14-AQ14>0,B14-AG14-AI14-AK14-AM14-AQ14,0))","v":0},{"$f":"D14","v":0},{"$f":"E14","v":0},{"$f":"IF(M14<>\"\",M14*0.1,0)","v":0},{"$f":"IF(OR(AJ14>0,AK14>0),1,0)","v":0},{"$f":"J14","v":0},{"$f":"IF(SUM(G14:H14)>0,B14,0)","v":0},{"$f":"L14*$AJ$5","v":0},{"$f":"I14*$AJ$6","v":0},{"$f":"IF(AN14>0,AN14,IF(SUM(AO14:AP14)+AM14>B14,B14,SUM(AO14:AP14)+AM14))","v":0},{"$f":"IF(AQ14+SUM(AH14:AK14)+AM14>B14,B14,AQ14+SUM(AH14:AK14)+AM14)","v":0},{"$f":"IF(AR14>0,1,0)","v":0},{"$f":"IF(B14<>\"\",IF(AR14=0,1,0),0)","v":0},null,{"$f":"IF(AM14+AP14>B14,B14,AM14+AP14)","v":0},null,{"$f":"IF(AND($AV14>0,$AN14>0),B14,0)","v":0},{"$f":"IF(AND($AV14>0,$AN14>0),1,0)","v":0},{"$f":"IF($AX14>0,0,IF($AN14>0,$B14,0))","v":0},{"$f":"IF($AX14>0,0,IF($AN14>0,1,0))","v":0},{"$f":"IF($AX14>0,0,IF($AV14>0,$AV14,0))","v":0},{"$f":"IF($AX14>0,0,IF($AV14>0,1,0))","v":0},null,null,null,null,null,null,null,null,null,null,null,null,null,null,null,null,null,null,null,"Land Use",null,"Wetland Type",null,"Degraded Wetland"]
[null,null,null,null,null,null,null,null,null,null,0,null,null,null,null,null," ",null,{"$f":"MIN(T15:AD15)","v":1},{"$f":"IF(AND(A15=\"\",D15=\"\"),T$13,\"\")","v":1},{"$f":"IF(AND(B15=\"\",A15<>\"\"),U$13,\"\")","v":""},{"$f":"IF(AND(C15=\"\",A15<>\"\"),V$13,\"\")","v":""},"","",null,null,null,"","",{"$f":"AD$13","v":11},null,{"$f":"IF(ISNA(VLOOKUP(D15,#REF!,2,FALSE)),\"\",VLOOKUP(D15,#REF!,2,FALSE))","v":{"$error":"#REF!"}},{"$f":"IF(Q15=$CC$34,B15,0)","v":0},{"$f":"IF(Q15=$CC$40,B15,IF(B15-AG15-AI15-AK15-AM15-AQ15>0,B15-AG15-AI15-AK15-AM15-AQ15,0))","v":0},{"$f":"D15","v":0},{"$f":"E15","v":0},{"$f":"IF(M15<>\"\",M15*0.1,0)","v":0},{"$f":"IF(OR(AJ15>0,AK15>0),1,0)","v":0},{"$f":"J15","v":0},{"$f":"IF(SUM(G15:H15)>0,B15,0)","v":0},{"$f":"L15*$AJ$5","v":0},{"$f":"I15*$AJ$6","v":0},{"$f":"IF(AN15>0,AN15,IF(SUM(AO15:AP15)+AM15>B15,B15,SUM(AO15:AP15)+AM15))","v":0},{"$f":"IF(AQ15+SUM(AH15:AK15)+AM15>B15,B15,AQ15+SUM(AH15:AK15)+AM15)","v":0},{"$f":"IF(AR15>0,1,0)","v":0},{"$f":"IF(B15<>\"\",IF(AR15=0,1,0),0)","v":0},null,{"$f":"IF(AM15+AP15>B15,B15,AM15+AP15)","v":0},null,{"$f":"IF(AND($AV15>0,$AN15>0),B15,0)","v":0},{"$f":"IF(AND($AV15>0,$AN15>0),1,0)","v":0},{"$f":"IF($AX15>0,0,IF($AN15>0,$B15,0))","v":0},0,{"$f":"IF($AX15>0,0,IF($AV15>0,$AV15,0))","v":0},{"$f":"IF($AX15>0,0,IF($AV15>0,1,0))","v":0}]
[null,null,null,null,null,null,null,null,null,null,0,null,null,null,null,null," ",null,1,1,"","","","",null,null,null,"","",11,null,{"$f":"IF(ISNA(VLOOKUP(D16,#REF!,2,FALSE)),\"\",VLOOKUP(D16,#REF!,2,FALSE))","v":{"$error":"#REF!"}},0,0,0,0,0,0,0,0,0,0,0,0,0,0,null,0,null,0,0,0,0,0,0,null,null,null,null,null,null,null,null,null,null,null,null,null,null,null,null,null,null,null,"Cropland",null,"pema",null,"Yes"]
[null,null,null,null,null,null,null,null,null,null,0,null,null,null,null,null," ",null,1,1,"","","","",null,null,null,"","",11,null,{"$f":"IF(ISNA(VLOOKUP(D17,#REF!,2,FALSE)),\"\",VLOOKUP(D17,#REF!,2,FALSE))","v":{"$error":"#REF!"}},0,0,0,0,0,0,0,0,0,0,0,0,0,0,null,0,null,0,0,0,0,0,0,null,null,null,null,null,null,null,null,null,null,null,null,null,null,null,null,null,null,null,"CRP (Active)",null,"pemc",null,"No"]
[null,null,null,null,null,null,null,null,null,null,0,null,null,null,null,null," ",null,1,1,"","","","",null,null,null,"","",11,null,{"$f":"IF(ISNA(VLOOKUP(D18,#REF!,2,FALSE)),\"\",VLOOKUP(D18,#REF!,2,FALSE))","v":{"$error":"#REF!"}},0,0,0,0,0,0,0,0,0,0,{"$f":"IF(AN18>0,AN18,IF(SUM(AO18:AP18)+AM18>B18,B18,SUM(AO18:AP18)+AM18))","v":0},0,0,0,null,0,null,0,0,0,0,0,0,null,null,null,null,null,null,null,null,null,null,null,null,null,null,null,null,null,null,null,"Rangeland",null,"pemf","includes pem/abf"]
[null,null,null,null,null,null,null,null,null,null,0,null,null,null,null,null," ",null,1,1,"","","","",null,null,null,"","",11,null,{"$f":"IF(ISNA(VLOOKUP(D19,#REF!,2,FALSE)),\"\",VLOOKUP(D19,#REF!,2,FALSE))","v":{"$error":"#REF!"}},0,0,0,0,0,0,0,0,0,0,0,0,0,0,null,0,null,0,0,0,0,0,0,null,null,null,null,null,null,null,null,null,null,null,null,null,null,null,null,null,null,null,"Pastureland",null,"other"]
[null,null,null,null,null,null,null,null,null,null,0,null,null,null,null,null," ",null,1,1,"","","","",null,null,null,"","",11,null,{"$f":"IF(ISNA(VLOOKUP(D20,#REF!,2,FALSE)),\"\",VLOOKUP(D20,#REF!,2,FALSE))","v":{"$error":"#REF!"}},0,0,0,0,0,0,0,0,0,0,0,0,0,0,null,0,null,0,0,0,0,0,0,null,null,null,null,null,null,"Acres","Basins",null,null,null,null,null,null,null,null,null,null,null,"Hayland"]
[null,null,null,null,null,null,null,null,null,null,0,null,null,null,null,null," ",null,1,1,"","","","",null,null,null,"","",11,null,{"$f":"IF(ISNA(VLOOKUP(D21,#REF!,2,FALSE)),\"\",VLOOKUP(D21,#REF!,2,FALSE))","v":{"$error":"#REF!"}},0,0,0,0,0,0,0,0,0,0,0,0,0,0,null,0,null,0,0,0,0,0,0,null,null,null,"Total - wetlands / prairie potholes",null,null,{"$f":"SUM($B$14:$B$161)","v":0},{"$f":"COUNT($B$14:$B$161)","v":0},null,null,null,null,null,null,null,null,"* must be addressed in cost section under other conservation practices planned section",null,null,"Wildlife/Idle"]
[null,null,null,null,null,null,null,null,null,null,0,null,null,null,null,null," ",null,1,1,"","","","",null,null,null,"","",11,null,{"$f":"IF(ISNA(VLOOKUP(D22,#REF!,2,FALSE)),\"\",VLOOKUP(D22,#REF!,2,FALSE))","v":{"$error":"#REF!"}},0,0,0,0,0,0,0,0,0,0,0,0,0,0,null,0,null,0,0,0,0,0,0,null,null,null,"Non-degraded",null,null,{"$f":"SUM($AG$14:$AG$161)","v":0},{"$f":"COUNTIF($AG$14:$AG$161,\">0\")","v":0},null,null,null,null,null,null,null,null,null,null,null,"Forest Land"]
[null,null,null,null,null,null,null,null,null,null,0,null,null,null,null,null," ",null,1,1,"","","","",null,null,null,"","",11,null,{"$f":"IF(ISNA(VLOOKUP(D23,#REF!,2,FALSE)),\"\",VLOOKUP(D23,#REF!,2,FALSE))","v":{"$error":"#REF!"}},0,0,0,0,0,0,0,0,0,0,0,0,0,0,null,0,null,0,0,0,0,0,0,null,null,null,"Degraded",null,null,{"$f":"SUM($AR$14:$AR$161)","v":0},{"$f":"SUM($AS$14:$AS$161)","v":0}]
[null,null,null,null,null,null,null,null,null,null,0,null,null,null,null,null," ",null,1,1,"","","","",null,null,null,"","",11,null,{"$f":"IF(ISNA(VLOOKUP(D24,#REF!,2,FALSE)),\"\",VLOOKUP(D24,#REF!,2,FALSE))","v":{"$error":"#REF!"}},0,0,0,0,0,0,0,0,0,0,0,0,0,0,null,0,null,0,0,0,0,0,0,null,null,null,"Following may not add up to Degraded total"]
[null,null,null,null,null,null,null,null,null,null,0,null,null,null,null,null," ",null,1,1,"","","","",null,null,null,"","",11,null,{"$f":"IF(ISNA(VLOOKUP(D25,#REF!,2,FALSE)),\"\",VLOOKUP(D25,#REF!,2,FALSE))","v":{"$error":"#REF!"}},0,0,0,0,0,0,0,0,0,0,0,0,0,0,null,0,null,0,0,0,0,0,0,null,null,null,"Degraded - existing cover",null,null,{"$f":"SUM($AH$14:$AH$161)","v":0},{"$f":"COUNTIF($AH$14:$AH$161,\">0\")","v":0}]
[null,null,null,null,null,null,null,null,null,null,0,null,null,null,null,null," ",null,1,1,"","","","",null,null,null,"","",11,null,{"$f":"IF(ISNA(VLOOKUP(D26,#REF!,2,FALSE)),\"\",VLOOKUP(D26,#REF!,2,FALSE))","v":{"$error":"#REF!"}},0,0,0,0,0,0,0,0,0,0,0,0,0,0,null,0,null,0,0,0,0,0,0,null,null,null,"Degraded vegetatively",null,null,{"$f":"SUM($AJ$14:$AK$161)","v":0},{"$f":"SUM($AL$14:$AL$161)","v":0},"<-- used for factor 1"]
[null,null,null,null,null,null,null,null,null,null,0,null,null,null,null,null," ",null,1,1,"","","","",null,null,null,"","",11,null,{"$f":"IF(ISNA(VLOOKUP(D27,#REF!,2,FALSE)),\"\",VLOOKUP(D27,#REF!,2,FALSE))","v":{"$error":"#REF!"}},0,0,0,0,0,0,0,0,0,0,0,0,0,0,null,0,null,0,0,0,0,0,0,null,null,null,"Degraded mechanically",null,null,{"$f":"SUM($AQ$14:$AQ$161)","v":0},{"$f":"COUNTIF($AQ$14:$AQ$161,\">0\")","v":0},"<-- used for factor 2"]
[null,null,null,null,null,null,null,null,null,null,0,null,null,null,null,null," ",null,1,1,"","","","",null,null,null,"","",11,null,{"$f":"IF(ISNA(VLOOKUP(D28,#REF!,2,FALSE)),\"\",VLOOKUP(D28,#REF!,2,FALSE))","v":{"$error":"#REF!"}},0,0,0,0,0,0,0,0,0,0,0,0,0,0,null,0,null,0,0,0,0,0,0,null,null,null,"- Plugs/Retention & Sed.",null,null,{"$f":"SUM($AX$14:$AX$161)","v":0},{"$f":"COUNTIF($AX$14:$AX$161,\">0\")","v":0},"<-- used for factor 2"]
[null,null,null,null,null,null,null,null,null,null,0,null,null,null,null,null," ",null,1,1,"","","","",null,null,null,"","",11,null,{"$f":"IF(ISNA(VLOOKUP(D29,#REF!,2,FALSE)),\"\",VLOOKUP(D29,#REF!,2,FALSE))","v":{"$error":"#REF!"}},0,0,0,0,0,0,0,0,0,0,0,0,0,0,null,0,null,0,0,0,0,0,0,null,null,null,"- Plugs/Retention Only",null,null,{"$f":"SUM($AZ$14:$AZ$161)","v":0},{"$f":"COUNTIF($AZ$14:$AZ$161,\">0\")","v":0},"<-- used for factor 2"]
[null,null,null,null,null,null,null,null,null,null,0,null,null,null,null,null," ",null,1,1,"","","","",null,null,null,"","",11,null,{"$f":"IF(ISNA(VLOOKUP(D30,#REF!,2,FALSE)),\"\",VLOOKUP(D30,#REF!,2,FALSE))","v":{"$error":"#REF!"}},0,0,0,0,0,0,0,0,0,0,0,0,0,0,null,0,null,0,0,0,0,0,0,null,null,null,"- Sed. Removal/Dugout Only",null,null,{"$f":"SUM($BB$14:$BB$161)","v":0},{"$f":"COUNTIF($BB$14:$BB$161,\">0\")","v":0},null,null,null,null,null,null,null,null,null,null,null,"Error Checking - field section",null,null,null,null,"Error Checking - wetland section"]
[null,null,null,null,null,null,null,null,null,null,0,null,null,null,null,null," ",null,1,1,"","","","",null,null,null,"","",11,null,{"$f":"IF(ISNA(VLOOKUP(D31,#REF!,2,FALSE)),\"\",VLOOKUP(D31,#REF!,2,FALSE))","v":{"$error":"#REF!"}},0,0,0,0,0,0,0,0,0,0,0,0,0,0,null,0,null,0,0,0,0,0,0,null,null,null,"Degraded with sediment",null,null,{"$f":"SUM($AM$14:$AM$161)","v":0},{"$f":"COUNTIF($AM$14:$AM$161,\">0\")","v":0},"total acres for sediment removal",null,null,null,null,null,null,null,null,null,null,1," ",null,null,null,1," "]
[null,null,null,null,null,null,null,null,null,null,0,null,null,null,null,null," ",null,1,1,"","","","",null,null,null,"","",11,null,{"$f":"IF(ISNA(VLOOKUP(D32,#REF!,2,FALSE)),\"\",VLOOKUP(D32,#REF!,2,FALSE))","v":{"$error":"#REF!"}},0,0,0,0,0,0,0,0,0,0,0,0,0,0,null,0,null,0,0,0,0,0,0,null,null,null,null,null,null,null,null,null,null,null,null,null,null,null,null,null,null,null,2,"Enter Land Use",null,null,null,2,"Enter Wetland Acres"]
[null,null,null,null,null,null,null,null,null,null,0,null,null,null,null,null," ",null,1,1,"","","","",null,null,null,"","",11,null,{"$f":"IF(ISNA(VLOOKUP(D33,#REF!,2,FALSE)),\"\",VLOOKUP(D33,#REF!,2,FALSE))","v":{"$error":"#REF!"}},0,0,0,0,0,0,0,0,0,0,0,0,0,0,null,0,null,0,0,0,0,0,0,null,null,null,null,null,null,null,null,null,null,null,null,null,null,null,null,null,null,null,3,"Enter Land Use Acres",null,null,null,3,"Enter Wetland Type"]
[null,null,null,null,null,null,null,null,null,null,0,null,null,null,null,null," ",null,1,1,"","",{"$f":"IF(AND(AND(AND(SUM(D34:M34)+P34=0,AND(N34<>\"Yes\",O34<>\"Yes\")),F34<>\"yes\"),A34<>\"\"),W$13,\"\")","v":""},{"$f":"IF(AND(A34<>\"\",(D34+E34)>B34),X$13,\"\")","v":""},null,null,null,{"$f":"IF(AND(SUM(E34:P34)>0,F34=\"yes\",A34<>\"\"),AB$13,\"\")","v":""},{"$f":"IF(AND(F34=\"yes\",A34<>\"\"),AC$13,\"\")","v":""},11,null,{"$f":"IF(ISNA(VLOOKUP(D34,#REF!,2,FALSE)),\"\",VLOOKUP(D34,#REF!,2,FALSE))","v":{"$error":"#REF!"}},0,0,0,0,0,0,0,0,0,0,0,0,0,0,null,0,null,0,0,0,0,0,0,null,null,null,null,null,null,null,null,null,null,null,null,null,null,null,null,null,null,null,4,"Enter Acres to be Planted",null,null,null,4,"Non-degraded or Restoration Needed"]
[null,null,null,null,null,null,null,null,null,null,0,null,null,null,null,null," ",null,1,1,"","",{"$f":"IF(AND(AND(AND(SUM(D35:M35)+P35=0,AND(N35<>\"Yes\",O35<>\"Yes\")),F35<>\"yes\"),A35<>\"\"),W$13,\"\")","v":""},{"$f":"IF(AND(A35<>\"\",(D35+E35)>B35),X$13,\"\")","v":""},null,null,null,{"$f":"IF(AND(SUM(E35:P35)>0,F35=\"yes\",A35<>\"\"),AB$13,\"\")","v":""},{"$f":"IF(AND(F35=\"yes\",A35<>\"\"),AC$13,\"\")","v":""},11,null,{"$f":"IF(ISNA(VLOOKUP(D35,#REF!,2,FALSE)),\"\",VLOOKUP(D35,#REF!,2,FALSE))","v":{"$error":"#REF!"}},0,0,0,0,0,0,0,0,0,0,0,0,0,0,null,0,null,0,0,0,0,0,0,null,null,null,null,null,null,null,null,null,null,null,null,null,null,null,null,null,null,null,5,"Acres Planted (Upland) > Field Acres",null,null,null,5,"Planted acres > wetland acres"]
[null,null,null,null,null,null,null,null,null,null,0,null,null,null,null,null," ",null,1,1,"","","","",null,null,null,"","",11,null,{"$f":"IF(ISNA(VLOOKUP(D36,#REF!,2,FALSE)),\"\",VLOOKUP(D36,#REF!,2,FALSE))","v":{"$error":"#REF!"}},0,0,0,0,0,0,0,0,0,0,0,0,0,0,null,0,null,0,0,0,0,0,0,null,null,null,"Wetland Restoration Items",null,null,null,"Number","Basins",null,null,null,null,null,null,null,null,null,null,6,"Wetland Acres > Field Acres",null,null,null,6,"not used"]
[null,null,null,null,null,null,null,null,null,null,0,null,null,null,null,null," ",null,1,1,"","","","",null,null,null,"","",11,null,{"$f":"IF(ISNA(VLOOKUP(D37,#REF!,2,FALSE)),\"\",VLOOKUP(D37,#REF!,2,FALSE))","v":{"$error":"#REF!"}},0,0,0,0,0,0,0,0,0,0,0,0,0,0,null,0,null,0,0,0,0,0,0,null,null,null,"Number of ditch plugs needed",null,null,null,{"$f":"SUM($G$14:$G$161)","v":0},{"$f":"COUNT($G$14:$G$161)","v":0},null,null,null,null,null,null,null,null,null,null,7,"Acres Planted (wet.+up.) > Field Acres",null,null,null,7,"not used"]
[null,null,null,null,null,null,null,null,null,null,0,null,null,null,null,null," ",null,1,1,"","","","",null,null,null,"","",11,null,{"$f":"IF(ISNA(VLOOKUP(D38,#REF!,2,FALSE)),\"\",VLOOKUP(D38,#REF!,2,FALSE))","v":{"$error":"#REF!"}},0,0,0,0,0,0,0,0,0,0,0,0,0,0,null,0,null,0,0,0,0,0,0,null,null,null,"Number of Water Retention",null,null,null,{"$f":"SUM($H$14:$H$161)","v":0},{"$f":"COUNT($H$14:$H$161)","v":0},"<-- makes factor 8 structural",null,null,null,null,null,null,null,null,null,8,"Not used",null,null,null,8,"not used"]
[null,null,null,null,null,null,null,null,null,null,0,null,null,null,null,null," ",null,1,1,"","","","",null,null,null,"","",11,null,{"$f":"IF(ISNA(VLOOKUP(D39,#REF!,2,FALSE)),\"\",VLOOKUP(D39,#REF!,2,FALSE))","v":{"$error":"#REF!"}},0,0,0,0,0,0,0,0,0,0,0,0,0,0,null,0,null,0,0,0,0,0,0,null,null,null,"CuYds of sediment removal",null,null,null,{"$f":"SUM($K$14:$K$161)","v":0},{"$f":"COUNT($J$14:$J$161)","v":0},null,null,null,null,null,null,null,null,null,null,9,"Not used",null,null,null,9,"Can NOT have Restor. & No Restor. Needed"]
[null,null,null,null,null,null,null,null,null,null,0,null,null,null,null,null," ",null,1,1,"","","","",null,null,null,"","",11,null,{"$f":"IF(ISNA(VLOOKUP(D40,#REF!,2,FALSE)),\"\",VLOOKUP(D40,#REF!,2,FALSE))","v":{"$error":"#REF!"}},0,0,0,0,0,0,0,0,0,0,0,0,0,0,null,0,null,0,0,0,0,0,0,null,null,null,"Rockpiles",null,null,null,{"$f":"SUM($L$14:$L$161)","v":0},{"$f":"COUNT($L$14:$L$161)","v":0},{"$f":"BK40*0.1","v":0},"Acres",null,null,null,null,null,null,null,null,10,"Not used",null,null,null,10,"OK - Wetland Degraded - No Restoration Needed"]
[null,null,null,null,null,null,null,null,null,null,0,null,null,null,null,null," ",null,1,1,"","","","",null,null,null,"","",11,null,{"$f":"IF(ISNA(VLOOKUP(D41,#REF!,2,FALSE)),\"\",VLOOKUP(D41,#REF!,2,FALSE))","v":{"$error":"#REF!"}},0,0,0,0,0,0,0,0,0,0,0,0,0,0,null,0,null,0,0,0,0,0,0,null,null,null,"Trees",null,null,null,{"$f":"SUM($M$14:$M$161)","v":0},{"$f":"COUNT($M$14:$M$161)","v":0},{"$f":"BK41*0.1","v":0},"Acres",null,null,null,null,null,null,null,null,11,"OK",null,null,null,11,"OK"]
[null,null,null,null,null,null,null,null,null,null,0,null,null,null,null,null," ",null,1,1,"","","","",null,null,null,"","",11,null,{"$f":"IF(ISNA(VLOOKUP(D42,#REF!,2,FALSE)),\"\",VLOOKUP(D42,#REF!,2,FALSE))","v":{"$error":"#REF!"}},0,0,0,0,0,0,0,0,0,0,0,0,0,0,null,0,null,0,0,0,0,0,0,null,null,null,"Tree rows",null,null,null,{"$f":"IF(COUNTIF($N$14:$N$161,\"Yes\")>0,\"Yes\",\"\")","v":""},{"$f":"IF(COUNTIF($N$14:$N$161,\"Yes\")>0,\"Yes\",\"\")","v":""},{"$f":"ROUND(BK42*50/43560,1)","v":{"$error":"#VALUE!"}},"Acres"]
[null,null,null,null,null,null,null,null,null,null,0,null,null,null,null,null," ",null,1,1,"","","","",null,null,null,"","",11,null,{"$f":"IF(ISNA(VLOOKUP(D43,#REF!,2,FALSE)),\"\",VLOOKUP(D43,#REF!,2,FALSE))","v":{"$error":"#REF!"}},0,0,0,0,0,0,0,0,0,0,0,0,0,0,null,0,null,0,0,0,0,0,0,null,null,null,"Dugouts",null,null,null,{"$f":"SUM($I$14:$I$161)","v":0},{"$f":"COUNT($I$14:$I$161)","v":0},{"$f":"BK43*1500","v":0},"cuyd","1500 cuyd/dugout"]
[null,null,null,null,null,null,null,null,null,null,0,null,null,null,null,null," ",null,1,1,"","","","",null,null,null,"","",11,null,{"$f":"IF(ISNA(VLOOKUP(D44,#REF!,2,FALSE)),\"\",VLOOKUP(D44,#REF!,2,FALSE))","v":{"$error":"#REF!"}},0,0,0,0,0,0,0,0,0,0,0,0,0,0,null,0,null,0,0,0,0,0,0,null,null,null,"Fence removal - ft",null,null,null,{"$f":"IF(COUNTIF($O$14:$O$161,\"Yes\")>0,\"Yes\",\"\")","v":""},{"$f":"IF(COUNTIF($O$14:$O$161,\"Yes\")>0,\"Yes\",\"\")","v":""}]
[null,null,null,null,null,null,null,null,null,null,0,null,null,null,null,null," ",null,1,1,"","","","",null,null,null,"","",11,null,{"$f":"IF(ISNA(VLOOKUP(D45,#REF!,2,FALSE)),\"\",VLOOKUP(D45,#REF!,2,FALSE))","v":{"$error":"#REF!"}},0,0,0,0,0,0,0,0,0,0,0,0,0,0,null,0,null,0,0,0,0,0,0,null,null,null,"Acres of vegetation needed - Wetland Species",null,null,null,{"$f":"SUM($E$14:$E$161)","v":0},{"$f":"COUNT($E$14:$E$161)","v":0}]
[null,null,null,null,null,null,null,null,null,null,0,null,null,null,null,null,{"$f":"CHOOSE(S46,$CC$31,$CC$32,$CC$33,$CC$34,$CC$35,$CC$36,$CC$37,$CC$38,$CC$39,$CC$40,$CC$41)","v":" "},null,1,1,"","","","",null,null,null,"","",11,null,{"$f":"IF(ISNA(VLOOKUP(D46,#REF!,2,FALSE)),\"\",VLOOKUP(D46,#REF!,2,FALSE))","v":{"$error":"#REF!"}},0,0,0,0,0,0,0,0,0,0,0,0,0,0,null,0,null,0,0,0,0,0,0,null,null,null,"Acres of vegetation needed - Upland species",null,null,null,{"$f":"SUM($D$14:$D$161)","v":0},{"$f":"COUNT($D$14:$D$161)","v":0}]
[null,null,null,null,null,null,null,null,null,null,0,null,null,null,null,null," ",null,1,1,"","","","",null,null,null,"","",11,null,{"$f":"IF(ISNA(VLOOKUP(D47,#REF!,2,FALSE)),\"\",VLOOKUP(D47,#REF!,2,FALSE))","v":{"$error":"#REF!"}},0,0,0,0,0,0,0,0,0,0,0,0,0,0,null,0,null,0,0,0,0,0,0]
[null,null,null,null,null,null,null,null,null,null,0,null,null,null,null,null," ",null,1,1,"","","","",null,null,null,"","",11,null,{"$f":"IF(ISNA(VLOOKUP(D48,#REF!,2,FALSE)),\"\",VLOOKUP(D48,#REF!,2,FALSE))","v":{"$error":"#REF!"}},0,0,0,0,0,0,0,0,0,0,0,0,0,0,null,0,null,0,0,0,0,0,0]
[null,null,null,null,null,null,null,null,null,null,0,null,null,null,null,null," ",null,1,1,"","","","",null,null,null,"","",11,null,{"$f":"IF(ISNA(VLOOKUP(D49,#REF!,2,FALSE)),\"\",VLOOKUP(D49,#REF!,2,FALSE))","v":{"$error":"#REF!"}},0,0,0,0,0,0,0,0,0,0,0,0,0,0,null,0,null,0,0,0,0,0,0,null,null,null,"pemf acres hydrologically restored"]
[null,null,null,null,null,null,null,null,null,null,0,null,null,null,null,null," ",null,1,1,"","","","",null,null,null,"","",11,null,{"$f":"IF(ISNA(VLOOKUP(D50,#REF!,2,FALSE)),\"\",VLOOKUP(D50,#REF!,2,FALSE))","v":{"$error":"#REF!"}},0,0,0,0,0,0,0,0,0,0,0,0,0,0,null,0,null,0,0,0,0,0,0,null,null,null,null,"Acres","Ratio"]
[null,null,null,null,null,null,null,null,null,null,0,null,null,null,null,null," ",null,1,1,"","","","",null,null,null,"","",11,null,{"$f":"IF(ISNA(VLOOKUP(D51,#REF!,2,FALSE)),\"\",VLOOKUP(D51,#REF!,2,FALSE))","v":{"$error":"#REF!"}},0,0,0,0,0,0,0,0,0,0,0,0,0,0,null,0,null,0,0,0,0,0,0,null,null,null,"Total",{"$f":"E8","v":0},{"$f":"IF(BH51=0,0,$BH$55/BH51)","v":0}]
[null,null,null,null,null,null,null,null,null,null,0,null,null,null,null,null," ",null,1,1,"","","","",null,null,null,"","",11,null,{"$f":"IF(ISNA(VLOOKUP(D52,#REF!,2,FALSE)),\"\",VLOOKUP(D52,#REF!,2,FALSE))","v":{"$error":"#REF!"}},0,0,0,0,0,0,0,0,0,0,0,0,0,0,null,0,null,0,0,0,0,0,0,null,null,null,"Restored",{"$f":"SUMIF($C$14:$C$161,$BY$18,$AN$14:$AN$161)","v":0},{"$f":"IF(BH52=0,0,$BH$55/BH52)","v":0}]
[null,null,null,null,null,null,null,null,null,null,0,null,null,null,null,null," ",null,1,1,"","","","",null,null,null,"","",11,null,{"$f":"IF(ISNA(VLOOKUP(D53,#REF!,2,FALSE)),\"\",VLOOKUP(D53,#REF!,2,FALSE))","v":{"$error":"#REF!"}},0,0,0,0,0,0,0,0,0,0,0,0,0,0,null,0,null,0,0,0,0,0,0,null,null,null,"Not restored",{"$f":"BH51-BH52","v":0},{"$f":"IF(BH53=0,0,$BH$55/BH53)","v":0}]
[null,null,null,null,null,null,null,null,null,null,0,null,null,null,null,null," ",null,1,1,"","","","",null,null,null,"","",11,null,{"$f":"IF(ISNA(VLOOKUP(D54,#REF!,2,FALSE)),\"\",VLOOKUP(D54,#REF!,2,FALSE))","v":{"$error":"#REF!"}},0,0,0,0,0,0,0,0,0,0,0,0,0,0,null,0,null,0,0,0,0,0,0]
[null,null,null,null,null,null,null,null,null,null,0,null,null,null,null,null," ",null,1,1,"","","","",null,null,null,"","",11,null,{"$f":"IF(ISNA(VLOOKUP(D55,#REF!,2,FALSE)),\"\",VLOOKUP(D55,#REF!,2,FALSE))","v":{"$error":"#REF!"}},0,0,0,0,0,0,0,0,0,0,0,0,0,0,null,0,null,0,0,0,0,0,0,null,null,null,"Upland Acres",{"$f":"Landuse_Inventory!K15","v":0}]
[null,null,null,null,null,null,null,null,null,null,0,null,null,null,null,null," ",null,1,1,"","","","",null,null,null,"","",11,null,{"$f":"IF(ISNA(VLOOKUP(D56,#REF!,2,FALSE)),\"\",VLOOKUP(D56,#REF!,2,FALSE))","v":{"$error":"#REF!"}},0,0,0,0,0,0,0,0,0,0,0,0,0,0,null,0,null,0,0,0,0,0,0]
[null,null,null,null,null,null,null,null,null,null,0,null,null,null,null,null," ",null,1,1,"","","","",null,null,null,"","",11,null,{"$f":"IF(ISNA(VLOOKUP(D57,#REF!,2,FALSE)),\"\",VLOOKUP(D57,#REF!,2,FALSE))","v":{"$error":"#REF!"}},0,0,0,0,0,0,0,0,0,0,0,0,0,0,null,0,null,0,0,0,0,0,0]
[null,null,null,null,null,null,null,null,null,null,0,null,null,null,null,null," ",null,1,1,"","","","",null,null,null,"","",11,null,{"$f":"IF(ISNA(VLOOKUP(D58,#REF!,2,FALSE)),\"\",VLOOKUP(D58,#REF!,2,FALSE))","v":{"$error":"#REF!"}},0,0,0,0,0,0,0,0,0,0,0,0,0,0,null,0,null,0,0,0,0,0,0]
[null,null,null,null,null,null,null,null,null,null,0,null,null,null,null,null," ",null,1,1,"","","","",null,null,null,"","",11,null,{"$f":"IF(ISNA(VLOOKUP(D59,#REF!,2,FALSE)),\"\",VLOOKUP(D59,#REF!,2,FALSE))","v":{"$error":"#REF!"}},0,0,0,0,0,0,0,0,0,0,0,0,0,0,null,0,null,0,0,0,0,0,0]
[null,null,null,null,null,null,null,null,null,null,0,null,null,null,null,null," ",null,1,1,"","","","",null,null,null,"","",11,null,{"$f":"IF(ISNA(VLOOKUP(D60,#REF!,2,FALSE)),\"\",VLOOKUP(D60,#REF!,2,FALSE))","v":{"$error":"#REF!"}},0,0,0,0,0,0,0,0,0,0,0,0,0,0,null,0,null,0,0,0,0,0,0]
[null,null,null,null,null,null,null,null,null,null,0,null,null,null,null,null," ",null,1,1,"","","","",null,null,null,"","",11,null,{"$f":"IF(ISNA(VLOOKUP(D61,#REF!,2,FALSE)),\"\",VLOOKUP(D61,#REF!,2,FALSE))","v":{"$error":"#REF!"}},0,0,0,0,0,0,0,0,0,0,0,0,0,0,null,0,null,0,0,0,0,0,0]
[null,null,null,null,null,null,null,null,null,null,0,null,null,null,null,null," ",null,1,1,"","","","",null,null,null,"","",11,null,{"$f":"IF(ISNA(VLOOKUP(D62,#REF!,2,FALSE)),\"\",VLOOKUP(D62,#REF!,2,FALSE))","v":{"$error":"#REF!"}},0,0,0,0,0,0,0,0,0,0,0,0,0,0,null,0,null,0,0,0,0,0,0]
[null,null,null,null,null,null,null,null,null,null,0,null,null,null,null,null," ",null,1,1,"","","","",null,null,null,"","",11,null,{"$f":"IF(ISNA(VLOOKUP(D63,#REF!,2,FALSE)),\"\",VLOOKUP(D63,#REF!,2,FALSE))","v":{"$error":"#REF!"}},0,0,0,0,0,0,0,0,0,0,0,0,0,0,null,0,null,0,0,0,0,0,0]
[null,null,null,null,null,null,null,null,null,null,0,null,null,null,null,null," ",null,1,1,"","","","",null,null,null,"","",11,null,{"$f":"IF(ISNA(VLOOKUP(D64,#REF!,2,FALSE)),\"\",VLOOKUP(D64,#REF!,2,FALSE))","v":{"$error":"#REF!"}},0,0,0,0,0,0,0,0,0,0,0,0,0,0,null,0,null,0,0,0,0,0,0]
[null,null,null,null,null,null,null,null,null,null,0,null,null,null,null,null," ",null,1,1,"","","","",null,null,null,"","",11,null,{"$f":"IF(ISNA(VLOOKUP(D65,#REF!,2,FALSE)),\"\",VLOOKUP(D65,#REF!,2,FALSE))","v":{"$error":"#REF!"}},0,0,0,0,0,0,0,0,0,0,0,0,0,0,null,0,null,0,0,0,0,0,0]
[null,null,null,null,null,null,null,null,null,null,0,null,null,null,null,null," ",null,1,1,"","","","",null,null,null,"","",11,null,{"$f":"IF(ISNA(VLOOKUP(D66,#REF!,2,FALSE)),\"\",VLOOKUP(D66,#REF!,2,FALSE))","v":{"$error":"#REF!"}},0,0,0,0,0,0,0,0,0,0,0,0,0,0,null,0,null,0,0,0,0,0,0]
[null,null,null,null,null,null,null,null,null,null,0,null,null,null,null,null," ",null,1,1,"","","","",null,null,null,"","",11,null,{"$f":"IF(ISNA(VLOOKUP(D67,#REF!,2,FALSE)),\"\",VLOOKUP(D67,#REF!,2,FALSE))","v":{"$error":"#REF!"}},0,0,0,0,0,0,0,0,0,0,0,0,0,0,null,0,null,0,0,0,0,0,0]
[null,null,null,null,null,null,null,null,null,null,0,null,null,null,null,null," ",null,1,1,"","","","",null,null,null,"","",11,null,{"$f":"IF(ISNA(VLOOKUP(D68,#REF!,2,FALSE)),\"\",VLOOKUP(D68,#REF!,2,FALSE))","v":{"$error":"#REF!"}},0,0,0,0,0,0,0,0,0,0,0,0,0,0,null,0,null,0,0,0,0,0,0]
[null,null,null,null,null,null,null,null,null,null,0,null,null,null,null,null," ",null,1,1,"","","","",null,null,null,"","",11,null,{"$f":"IF(ISNA(VLOOKUP(D69,#REF!,2,FALSE)),\"\",VLOOKUP(D69,#REF!,2,FALSE))","v":{"$error":"#REF!"}},0,0,0,0,0,0,0,0,0,0,0,0,0,0,null,0,null,0,0,0,0,0,0]
[null,null,null,null,null,null,null,null,null,null,0,null,null,null,null,null," ",null,1,1,"","","","",null,null,null,"","",11,null,{"$f":"IF(ISNA(VLOOKUP(D70,#REF!,2,FALSE)),\"\",VLOOKUP(D70,#REF!,2,FALSE))","v":{"$error":"#REF!"}},0,0,0,0,0,0,0,0,0,0,0,0,0,0,null,0,null,0,0,0,0,0,0]
[null,null,null,null,null,null,null,null,null,null,0,null,null,null,null,null," ",null,1,1,"","","","",null,null,null,"","",11,null,{"$f":"IF(ISNA(VLOOKUP(D71,#REF!,2,FALSE)),\"\",VLOOKUP(D71,#REF!,2,FALSE))","v":{"$error":"#REF!"}},0,0,0,0,0,0,0,0,0,0,0,0,0,0,null,0,null,0,0,0,0,0,0]
[null,null,null,null,null,null,null,null,null,null,0,null,null,null,null,null," ",null,1,1,"","","","",null,null,null,"","",11,null,{"$f":"IF(ISNA(VLOOKUP(D72,#REF!,2,FALSE)),\"\",VLOOKUP(D72,#REF!,2,FALSE))","v":{"$error":"#REF!"}},0,0,0,0,0,0,0,0,0,0,0,0,0,0,null,0,null,0,0,0,0,0,0]
[null,null,null,null,null,null,null,null,null,null,0,null,null,null,null,null," ",null,1,1,"","","","",null,null,null,"","",11,null,{"$f":"IF(ISNA(VLOOKUP(D73,#REF!,2,FALSE)),\"\",VLOOKUP(D73,#REF!,2,FALSE))","v":{"$error":"#REF!"}},0,0,0,0,0,0,0,0,0,0,0,0,0,0,null,0,null,0,0,0,0,0,0]
[null,null,null,null,null,null,null,null,null,null,0,null,null,null,null,null," ",null,1,1,"","","","",null,null,null,"","",11,null,{"$f":"IF(ISNA(VLOOKUP(D74,#REF!,2,FALSE)),\"\",VLOOKUP(D74,#REF!,2,FALSE))","v":{"$error":"#REF!"}},0,0,0,0,0,0,0,0,0,0,0,0,0,0,null,0,null,0,0,0,0,0,0]
[null,null,null,null,null,null,null,null,null,null,0,null,null,null,null,null," ",null,1,1,"","","","",null,null,null,"","",11,null,{"$f":"IF(ISNA(VLOOKUP(D75,#REF!,2,FALSE)),\"\",VLOOKUP(D75,#REF!,2,FALSE))","v":{"$error":"#REF!"}},0,0,0,0,0,0,0,0,0,0,0,0,0,0,null,0,null,0,0,0,0,0,0]
[null,null,null,null,null,null,null,null,null,null,0,null,null,null,null,null," ",null,1,1,"","","","",null,null,null,"","",11,null,{"$f":"IF(ISNA(VLOOKUP(D76,#REF!,2,FALSE)),\"\",VLOOKUP(D76,#REF!,2,FALSE))","v":{"$error":"#REF!"}},0,0,0,0,0,0,0,0,0,0,0,0,0,0,null,0,null,0,0,0,0,0,0]
[null,null,null,null,null,null,null,null,null,null,0,null,null,null,null,null," ",null,1,1,"","","","",null,null,null,"","",11,null,{"$f":"IF(ISNA(VLOOKUP(D77,#REF!,2,FALSE)),\"\",VLOOKUP(D77,#REF!,2,FALSE))","v":{"$error":"#REF!"}},0,0,0,0,0,0,0,0,0,0,0,0,0,0,null,0,null,0,0,0,0,0,0]
[null,null,null,null,null,null,null,null,null,null,{"$f":"ROUND(J78*43560*0.5/27,1)","v":0},null,null,null,null,null,{"$f":"CHOOSE(S78,$CC$31,$CC$32,$CC$33,$CC$34,$CC$35,$CC$36,$CC$37,$CC$38,$CC$39,$CC$40,$CC$41)","v":" "},null,1,1,"","","","",null,null,null,"","",11,null,{"$f":"IF(ISNA(VLOOKUP(D78,#REF!,2,FALSE)),\"\",VLOOKUP(D78,#REF!,2,FALSE))","v":{"$error":"#REF!"}},0,0,0,0,0,0,0,0,0,0,0,0,0,0,null,0,null,0,0,0,{"$f":"IF($AX78>0,0,IF($AN78>0,1,0))","v":0},0,0]
[null,null,null,null,null,null,null,null,null,null,0,null,null,null,null,null," ",null,{"$f":"MIN(T79:AD79)","v":1},{"$f":"IF(AND(A79=\"\",D79=\"\"),T$13,\"\")","v":1},{"$f":"IF(AND(B79=\"\",A79<>\"\"),U$13,\"\")","v":""},{"$f":"IF(AND(C79=\"\",A79<>\"\"),V$13,\"\")","v":""},"","",null,null,null,"","",{"$f":"AD$13","v":11},null,{"$f":"IF(ISNA(VLOOKUP(D79,#REF!,2,FALSE)),\"\",VLOOKUP(D79,#REF!,2,FALSE))","v":{"$error":"#REF!"}},{"$f":"IF(Q79=$CC$34,B79,0)","v":0},{"$f":"IF(Q79=$CC$40,B79,IF(B79-AG79-AI79-AK79-AM79-AQ79>0,B79-AG79-AI79-AK79-AM79-AQ79,0))","v":0},{"$f":"D79","v":0},{"$f":"E79","v":0},{"$f":"IF(M79<>\"\",M79*0.1,0)","v":0},{"$f":"IF(OR(AJ79>0,AK79>0),1,0)","v":0},{"$f":"J79","v":0},{"$f":"IF(SUM(G79:H79)>0,B79,0)","v":0},{"$f":"L79*$AJ$5","v":0},{"$f":"I79*$AJ$6","v":0},{"$f":"IF(AN79>0,AN79,IF(SUM(AO79:AP79)+AM79>B79,B79,SUM(AO79:AP79)+AM79))","v":0},{"$f":"IF(AQ79+SUM(AH79:AK79)+AM79>B79,B79,AQ79+SUM(AH79:AK79)+AM79)","v":0},{"$f":"IF(AR79>0,1,0)","v":0},{"$f":"IF(B79<>\"\",IF(AR79=0,1,0),0)","v":0},null,{"$f":"IF(AM79+AP79>B79,B79,AM79+AP79)","v":0},null,{"$f":"IF(AND($AV79>0,$AN79>0),B79,0)","v":0},{"$f":"IF(AND($AV79>0,$AN79>0),1,0)","v":0},{"$f":"IF($AX79>0,0,IF($AN79>0,$B79,0))","v":0},0,{"$f":"IF($AX79>0,0,IF($AV79>0,$AV79,0))","v":0},{"$f":"IF($AX79>0,0,IF($AV79>0,1,0))","v":0}]
[null,null,null,null,null,null,null,null,null,null,0,null,null,null,null,null," ",null,1,1,"","","","",null,null,null,"","",11,null,{"$f":"IF(ISNA(VLOOKUP(D80,#REF!,2,FALSE)),\"\",VLOOKUP(D80,#REF!,2,FALSE))","v":{"$error":"#REF!"}},0,0,0,0,0,0,0,0,0,0,0,0,0,0,null,0,null,0,0,0,0,0,0]
[null,null,null,null,null,null,null,null,null,null,0,null,null,null,null,null," ",null,1,1,"","","","",null,null,null,"","",11,null,{"$f":"IF(ISNA(VLOOKUP(D81,#REF!,2,FALSE)),\"\",VLOOKUP(D81,#REF!,2,FALSE))","v":{"$error":"#REF!"}},0,0,0,0,0,0,0,0,0,0,0,0,0,0,null,0,null,0,0,0,0,0,0]
[null,null,null,null,null,null,null,null,null,null,0,null,null,null,null,null," ",null,1,1,"","","","",null,null,null,"","",11,null,{"$f":"IF(ISNA(VLOOKUP(D82,#REF!,2,FALSE)),\"\",VLOOKUP(D82,#REF!,2,FALSE))","v":{"$error":"#REF!"}},0,0,0,0,0,0,0,0,0,0,0,0,0,0,null,0,null,0,0,0,0,0,0]
[null,null,null,null,null,null,null,null,null,null,0,null,null,null,null,null," ",null,1,1,"","","","",null,null,null,"","",11,null,{"$f":"IF(ISNA(VLOOKUP(D83,#REF!,2,FALSE)),\"\",VLOOKUP(D83,#REF!,2,FALSE))","v":{"$error":"#REF!"}},0,0,0,0,0,0,0,0,0,0,0,0,0,0,null,0,null,0,0,0,0,0,0]
[null,null,null,null,null,null,null,null,null,null,0,null,null,null,null,null," ",null,1,1,"","","","",null,null,null,"","",11,null,{"$f":"IF(ISNA(VLOOKUP(D84,#REF!,2,FALSE)),\"\",VLOOKUP(D84,#REF!,2,FALSE))","v":{"$error":"#REF!"}},0,0,0,0,0,0,0,0,0,0,0,0,0,0,null,0,null,0,0,0,0,0,0]
[null,null,null,null,null,null,null,null,null,null,0,null,null,null,null,null," ",null,1,1,"","","","",null,null,null,"","",11,null,{"$f":"IF(ISNA(VLOOKUP(D85,#REF!,2,FALSE)),\"\",VLOOKUP(D85,#REF!,2,FALSE))","v":{"$error":"#REF!"}},0,0,0,0,0,0,0,0,0,0,0,0,0,0,null,0,null,0,0,0,0,0,0]
[null,null,null,null,null,null,null,null,null,null,0,null,null,null,null,null," ",null,1,1,"","","","",null,null,null,"","",11,null,{"$f":"IF(ISNA(VLOOKUP(D86,#REF!,2,FALSE)),\"\",VLOOKUP(D86,#REF!,2,FALSE))","v":{"$error":"#REF!"}},0,0,0,0,0,0,0,0,0,0,0,0,0,0,null,0,null,0,0,0,0,0,0]
[null,null,null,null,null,null,null,null,null,null,0,null,null,null,null,null," ",null,1,1,"","","","",null,null,null,"","",11,null,{"$f":"IF(ISNA(VLOOKUP(D87,#REF!,2,FALSE)),\"\",VLOOKUP(D87,#REF!,2,FALSE))","v":{"$error":"#REF!"}},0,0,0,0,0,0,0,0,0,0,0,0,0,0,null,0,null,0,0,0,0,0,0]
[null,null,null,null,null,null,null,null,null,null,0,null,null,null,null,null," ",null,1,1,"","","","",null,null,null,"","",11,null,{"$f":"IF(ISNA(VLOOKUP(D88,#REF!,2,FALSE)),\"\",VLOOKUP(D88,#REF!,2,FALSE))","v":{"$error":"#REF!"}},0,0,0,0,0,0,0,0,0,0,0,0,0,0,null,0,null,0,0,0,0,0,0]
[null,null,null,null,null,null,null,null,null,null,0,null,null,null,null,null," ",null,1,1,"","","","",null,null,null,"","",11,null,{"$f":"IF(ISNA(VLOOKUP(D89,#REF!,2,FALSE)),\"\",VLOOKUP(D89,#REF!,2,FALSE))","v":{"$error":"#REF!"}},0,0,0,0,0,0,0,0,0,0,0,0,0,0,null,0,null,0,0,0,0,0,0]
[null,null,null,null,null,null,null,null,null,null,0,null,null,null,null,null," ",null,1,1,"","","","",null,null,null,"","",11,null,{"$f":"IF(ISNA(VLOOKUP(D90,#REF!,2,FALSE)),\"\",VLOOKUP(D90,#REF!,2,FALSE))","v":{"$error":"#REF!"}},0,0,0,0,0,0,0,0,0,0,0,0,0,0,null,0,null,0,0,0,0,0,0]
[null,null,null,null,null,null,null,null,null,null,0,null,null,null,null,null," ",null,1,1,"","","","",null,null,null,"","",11,null,{"$f":"IF(ISNA(VLOOKUP(D91,#REF!,2,FALSE)),\"\",VLOOKUP(D91,#REF!,2,FALSE))","v":{"$error":"#REF!"}},0,0,0,0,0,0,0,0,0,0,0,0,0,0,null,0,null,0,0,0,0,0,0]
[null,null,null,null,null,null,null,null,null,null,0,null,null,null,null,null," ",null,1,1,"","","","",null,null,null,"","",11,null,{"$f":"IF(ISNA(VLOOKUP(D92,#REF!,2,FALSE)),\"\",VLOOKUP(D92,#REF!,2,FALSE))","v":{"$error":"#REF!"}},0,0,0,0,0,0,0,0,0,0,0,0,0,0,null,0,null,0,0,0,0,0,0]
[null,null,null,null,null,null,null,null,null,null,0,null,null,null,null,null," ",null,1,1,"","","","",null,null,null,"","",11,null,{"$f":"IF(ISNA(VLOOKUP(D93,#REF!,2,FALSE)),\"\",VLOOKUP(D93,#REF!,2,FALSE))","v":{"$error":"#REF!"}},0,0,0,0,0,0,0,0,0,0,0,0,0,0,null,0,null,0,0,0,0,0,0]
[null,null,null,null,null,null,null,null,null,null,0,null,null,null,null,null," ",null,1,1,"","","","",null,null,null,"","",11,null,{"$f":"IF(ISNA(VLOOKUP(D94,#REF!,2,FALSE)),\"\",VLOOKUP(D94,#REF!,2,FALSE))","v":{"$error":"#REF!"}},0,0,0,0,0,0,0,0,0,0,0,0,0,0,null,0,null,0,0,0,0,0,0]
[null,null,null,null,null,null,null,null,null,null,0,null,null,null,null,null," ",null,1,1,"","","","",null,null,null,"","",11,null,{"$f":"IF(ISNA(VLOOKUP(D95,#REF!,2,FALSE)),\"\",VLOOKUP(D95,#REF!,2,FALSE))","v":{"$error":"#REF!"}},0,0,0,0,0,0,0,0,0,0,0,0,0,0,null,0,null,0,0,0,0,0,0]
[null,null,null,null,null,null,null,null,null,null,0,null,null,null,null,null," ",null,1,1,"","","","",null,null,null,"","",11,null,{"$f":"IF(ISNA(VLOOKUP(D96,#REF!,2,FALSE)),\"\",VLOOKUP(D96,#REF!,2,FALSE))","v":{"$error":"#REF!"}},0,0,0,0,0,0,0,0,0,0,0,0,0,0,null,0,null,0,0,0,0,0,0]
[null,null,null,null,null,null,null,null,null,null,0,null,null,null,null,null," ",null,1,1,"","","","",null,null,null,"","",11,null,{"$f":"IF(ISNA(VLOOKUP(D97,#REF!,2,FALSE)),\"\",VLOOKUP(D97,#REF!,2,FALSE))","v":{"$error":"#REF!"}},0,0,0,0,0,0,0,0,0,0,0,0,0,0,null,0,null,0,0,0,0,0,0]
[null,null,null,null,null,null,null,null,null,null,0,null,null,null,null,null," ",null,1,1,"","","","",null,null,null,"","",11,null,{"$f":"IF(ISNA(VLOOKUP(D98,#REF!,2,FALSE)),\"\",VLOOKUP(D98,#REF!,2,FALSE))","v":{"$error":"#REF!"}},0,0,0,0,0,0,0,0,0,0,0,0,0,0,null,0,null,0,0,0,0,0,0]
[null,null,null,null,null,null,null,null,null,null,0,null,null,null,null,null," ",null,1,1,"","",{"$f":"IF(AND(AND(AND(SUM(D99:M99)+P99=0,AND(N99<>\"Yes\",O99<>\"Yes\")),F99<>\"yes\"),A99<>\"\"),W$13,\"\")","v":""},{"$f":"IF(AND(A99<>\"\",(D99+E99)>B99),X$13,\"\")","v":""},null,null,null,{"$f":"IF(AND(SUM(E99:P99)>0,F99=\"yes\",A99<>\"\"),AB$13,\"\")","v":""},{"$f":"IF(AND(F99=\"yes\",A99<>\"\"),AC$13,\"\")","v":""},11,null,{"$f":"IF(ISNA(VLOOKUP(D99,#REF!,2,FALSE)),\"\",VLOOKUP(D99,#REF!,2,FALSE))","v":{"$error":"#REF!"}},0,0,0,0,0,0,0,0,0,0,0,0,0,0,null,0,null,0,0,0,0,0,0]
[null,null,null,null,null,null,null,null,null,null,0,null,null,null,null,null," ",null,1,1,"","","","",null,null,null,"","",11,null,{"$f":"IF(ISNA(VLOOKUP(D100,#REF!,2,FALSE)),\"\",VLOOKUP(D100,#REF!,2,FALSE))","v":{"$error":"#REF!"}},0,0,0,0,0,0,0,0,0,0,0,0,0,0,null,0,null,0,0,0,0,0,0]
[null,null,null,null,null,null,null,null,null,null,0,null,null,null,null,null," ",null,1,1,"","","","",null,null,null,"","",11,null,{"$f":"IF(ISNA(VLOOKUP(D101,#REF!,2,FALSE)),\"\",VLOOKUP(D101,#REF!,2,FALSE))","v":{"$error":"#REF!"}},0,0,0,0,0,0,0,0,0,0,0,0,0,0,null,0,null,0,0,0,0,0,0]
[null,null,null,null,null,null,null,null,null,null,0,null,null,null,null,null," ",null,1,1,"","","","",null,null,null,"","",11,null,{"$f":"IF(ISNA(VLOOKUP(D102,#REF!,2,FALSE)),\"\",VLOOKUP(D102,#REF!,2,FALSE))","v":{"$error":"#REF!"}},0,0,0,0,0,0,0,0,0,0,0,0,0,0,null,0,null,0,0,0,0,0,0]
[null,null,null,null,null,null,null,null,null,null,0,null,null,null,null,null," ",null,1,1,"","","","",null,null,null,"","",11,null,{"$f":"IF(ISNA(VLOOKUP(D103,#REF!,2,FALSE)),\"\",VLOOKUP(D103,#REF!,2,FALSE))","v":{"$error":"#REF!"}},0,0,0,0,0,0,0,0,0,0,0,0,0,0,null,0,null,0,0,0,0,0,0]
[null,null,null,null,null,null,null,null,null,null,0,null,null,null,null,null," ",null,1,1,"","","","",null,null,null,"","",11,null,{"$f":"IF(ISNA(VLOOKUP(D104,#REF!,2,FALSE)),\"\",VLOOKUP(D104,#REF!,2,FALSE))","v":{"$error":"#REF!"}},0,0,0,0,0,0,0,0,0,0,0,0,0,0,null,0,null,0,0,0,0,0,0]
[null,null,null,null,null,null,null,null,null,null,0,null,null,null,null,null," ",null,1,1,"","","","",null,null,null,"","",11,null,{"$f":"IF(ISNA(VLOOKUP(D105,#REF!,2,FALSE)),\"\",VLOOKUP(D105,#REF!,2,FALSE))","v":{"$error":"#REF!"}},0,0,0,0,0,0,0,0,0,0,0,0,0,0,null,0,null,0,0,0,0,0,0]
[null,null,null,null,null,null,null,null,null,null,0,null,null,null,null,null," ",null,1,1,"","","","",null,null,null,"","",11,null,{"$f":"IF(ISNA(VLOOKUP(D106,#REF!,2,FALSE)),\"\",VLOOKUP(D106,#REF!,2,FALSE))","v":{"$error":"#REF!"}},0,0,0,0,0,0,0,0,0,0,0,0,0,0,null,0,null,0,0,0,0,0,0]
[null,null,null,null,null,null,null,null,null,null,0,null,null,null,null,null," ",null,1,1,"","","","",null,null,null,"","",11,null,{"$f":"IF(ISNA(VLOOKUP(D107,#REF!,2,FALSE)),\"\",VLOOKUP(D107,#REF!,2,FALSE))","v":{"$error":"#REF!"}},0,0,0,0,0,0,0,0,0,0,0,0,0,0,null,0,null,0,0,0,0,0,0]
[null,null,null,null,null,null,null,null,null,null,0,null,null,null,null,null," ",null,1,1,"","","","",null,null,null,"","",11,null,{"$f":"IF(ISNA(VLOOKUP(D108,#REF!,2,FALSE)),\"\",VLOOKUP(D108,#REF!,2,FALSE))","v":{"$error":"#REF!"}},0,0,0,0,0,0,0,0,0,0,0,0,0,0,null,0,null,0,0,0,0,0,0]
[null,null,null,null,null,null,null,null,null,null,0,null,null,null,null,null," ",null,1,1,"","","","",null,null,null,"","",11,null,{"$f":"IF(ISNA(VLOOKUP(D109,#REF!,2,FALSE)),\"\",VLOOKUP(D109,#REF!,2,FALSE))","v":{"$error":"#REF!"}},0,0,0,0,0,0,0,0,0,0,0,0,0,0,null,0,null,0,0,0,0,0,0]
[null,null,null,null,null,null,null,null,null,null,0,null,null,null,null,null,{"$f":"CHOOSE(S110,$CC$31,$CC$32,$CC$33,$CC$34,$CC$35,$CC$36,$CC$37,$CC$38,$CC$39,$CC$40,$CC$41)","v":" "},null,1,1,"","","","",null,null,null,"","",11,null,{"$f":"IF(ISNA(VLOOKUP(D110,#REF!,2,FALSE)),\"\",VLOOKUP(D110,#REF!,2,FALSE))","v":{"$error":"#REF!"}},0,0,0,0,0,0,0,0,0,0,0,0,0,0,null,0,null,0,0,0,0,0,0]
[null,null,null,null,null,null,null,null,null,null,0,null,null,null,null,null," ",null,1,1,"","","","",null,null,null,"","",11,null,{"$f":"IF(ISNA(VLOOKUP(D111,#REF!,2,FALSE)),\"\",VLOOKUP(D111,#REF!,2,FALSE))","v":{"$error":"#REF!"}},0,0,0,0,0,0,0,0,0,0,0,0,0,0,null,0,null,0,0,0,0,0,0]
[null,null,null,null,null,null,null,null,null,null,0,null,null,null,null,null," ",null,1,1,"","","","",null,null,null,"","",11,null,{"$f":"IF(ISNA(VLOOKUP(D112,#REF!,2,FALSE)),\"\",VLOOKUP(D112,#REF!,2,FALSE))","v":{"$error":"#REF!"}},0,0,0,0,0,0,0,0,0,0,0,0,0,0,null,0,null,0,0,0,0,0,0]
[null,null,null,null,null,null,null,null,null,null,0,null,null,null,null,null," ",null,1,1,"","","","",null,null,null,"","",11,null,{"$f":"IF(ISNA(VLOOKUP(D113,#REF!,2,FALSE)),\"\",VLOOKUP(D113,#REF!,2,FALSE))","v":{"$error":"#REF!"}},0,0,0,0,0,0,0,0,0,0,0,0,0,0,null,0,null,0,0,0,0,0,0]
[null,null,null,null,null,null,null,null,null,null,0,null,null,null,null,null," ",null,1,1,"","","","",null,null,null,"","",11,null,{"$f":"IF(ISNA(VLOOKUP(D114,#REF!,2,FALSE)),\"\",VLOOKUP(D114,#REF!,2,FALSE))","v":{"$error":"#REF!"}},0,0,0,0,0,0,0,0,0,0,0,0,0,0,null,0,null,0,0,0,0,0,0]
[null,null,null,null,null,null,null,null,null,null,0,null,null,null,null,null," ",null,1,1,"","","","",null,null,null,"","",11,null,{"$f":"IF(ISNA(VLOOKUP(D115,#REF!,2,FALSE)),\"\",VLOOKUP(D115,#REF!,2,FALSE))","v":{"$error":"#REF!"}},0,0,0,0,0,0,0,0,0,0,0,0,0,0,null,0,null,0,0,0,0,0,0]
[null,null,null,null,null,null,null,null,null,null,0,null,null,null,null,null," ",null,1,1,"","","","",null,null,null,"","",11,null,{"$f":"IF(ISNA(VLOOKUP(D116,#REF!,2,FALSE)),\"\",VLOOKUP(D116,#REF!,2,FALSE))","v":{"$error":"#REF!"}},0,0,0,0,0,0,0,0,0,0,0,0,0,0,null,0,null,0,0,0,0,0,0]
[null,null,null,null,null,null,null,null,null,null,0,null,null,null,null,null," ",null,1,1,"","","","",null,null,null,"","",11,null,{"$f":"IF(ISNA(VLOOKUP(D117,#REF!,2,FALSE)),\"\",VLOOKUP(D117,#REF!,2,FALSE))","v":{"$error":"#REF!"}},0,0,0,0,0,0,0,0,0,0,0,0,0,0,null,0,null,0,0,0,0,0,0]
[null,null,null,null,null,null,null,null,null,null,0,null,null,null,null,null," ",null,1,1,"","","","",null,null,null,"","",11,null,{"$f":"IF(ISNA(VLOOKUP(D118,#REF!,2,FALSE)),\"\",VLOOKUP(D118,#REF!,2,FALSE))","v":{"$error":"#REF!"}},0,0,0,0,0,0,0,0,0,0,0,0,0,0,null,0,null,0,0,0,0,0,0]
[null,null,null,null,null,null,null,null,null,null,0,null,null,null,null,null," ",null,1,1,"","","","",null,null,null,"","",11,null,{"$f":"IF(ISNA(VLOOKUP(D119,#REF!,2,FALSE)),\"\",VLOOKUP(D119,#REF!,2,FALSE))","v":{"$error":"#REF!"}},0,0,0,0,0,0,0,0,0,0,0,0,0,0,null,0,null,0,0,0,0,0,0]
[null,null,null,null,null,null,null,null,null,null,0,null,null,null,null,null," ",null,1,1,"","","","",null,null,null,"","",11,null,{"$f":"IF(ISNA(VLOOKUP(D120,#REF!,2,FALSE)),\"\",VLOOKUP(D120,#REF!,2,FALSE))","v":{"$error":"#REF!"}},0,0,0,0,0,0,0,0,0,0,0,0,0,0,null,0,null,0,0,0,0,0,0]
[null,null,null,null,null,null,null,null,null,null,0,null,null,null,null,null," ",null,1,1,"","","","",null,null,null,"","",11,null,{"$f":"IF(ISNA(VLOOKUP(D121,#REF!,2,FALSE)),\"\",VLOOKUP(D121,#REF!,2,FALSE))","v":{"$error":"#REF!"}},0,0,0,0,0,0,0,0,0,0,0,0,0,0,null,0,null,0,0,0,0,0,0]
[null,null,null,null,null,null,null,null,null,null,0,null,null,null,null,null," ",null,1,1,"","","","",null,null,null,"","",11,null,{"$f":"IF(ISNA(VLOOKUP(D122,#REF!,2,FALSE)),\"\",VLOOKUP(D122,#REF!,2,FALSE))","v":{"$error":"#REF!"}},0,0,0,0,0,0,0,0,0,0,0,0,0,0,null,0,null,0,0,0,0,0,0]
[null,null,null,null,null,null,null,null,null,null,0,null,null,null,null,null," ",null,1,1,"","","","",null,null,null,"","",11,null,{"$f":"IF(ISNA(VLOOKUP(D123,#REF!,2,FALSE)),\"\",VLOOKUP(D123,#REF!,2,FALSE))","v":{"$error":"#REF!"}},0,0,0,0,0,0,0,0,0,0,0,0,0,0,null,0,null,0,0,0,0,0,0]
[null,null,null,null,null,null,null,null,null,null,0,null,null,null,null,null," ",null,1,1,"","","","",null,null,null,"","",11,null,{"$f":"IF(ISNA(VLOOKUP(D124,#REF!,2,FALSE)),\"\",VLOOKUP(D124,#REF!,2,FALSE))","v":{"$error":"#REF!"}},0,0,0,0,0,0,0,0,0,0,0,0,0,0,null,0,null,0,0,0,0,0,0]
[null,null,null,null,null,null,null,null,null,null,0,null,null,null,null,null," ",null,1,1,"","","","",null,null,null,"","",11,null,{"$f":"IF(ISNA(VLOOKUP(D125,#REF!,2,FALSE)),\"\",VLOOKUP(D125,#REF!,2,FALSE))","v":{"$error":"#REF!"}},0,0,0,0,0,0,0,0,0,0,0,0,0,0,null,0,null,0,0,0,0,0,0]
[null,null,null,null,null,null,null,null,null,null,0,null,null,null,null,null," ",null,1,1,"","","","",null,null,null,"","",11,null,{"$f":"IF(ISNA(VLOOKUP(D126,#REF!,2,FALSE)),\"\",VLOOKUP(D126,#REF!,2,FALSE))","v":{"$error":"#REF!"}},0,0,0,0,0,0,0,0,0,0,0,0,0,0,null,0,null,0,0,0,0,0,0]
[null,null,null,null,null,null,null,null,null,null,0,null,null,null,null,null," ",null,1,1,"","","","",null,null,null,"","",11,null,{"$f":"IF(ISNA(VLOOKUP(D127,#REF!,2,FALSE)),\"\",VLOOKUP(D127,#REF!,2,FALSE))","v":{"$error":"#REF!"}},0,0,0,0,0,0,0,0,0,0,0,0,0,0,null,0,null,0,0,0,0,0,0]
[null,null,null,null,null,null,null,null,null,null,0,null,null,null,null,null," ",null,1,1,"","","","",null,null,null,"","",11,null,{"$f":"IF(ISNA(VLOOKUP(D128,#REF!,2,FALSE)),\"\",VLOOKUP(D128,#REF!,2,FALSE))","v":{"$error":"#REF!"}},0,0,0,0,0,0,0,0,0,0,0,0,0,0,null,0,null,0,0,0,0,0,0]
[null,null,null,null,null,null,null,null,null,null,0,null,null,null,null,null," ",null,1,1,"","","","",null,null,null,"","",11,null,{"$f":"IF(ISNA(VLOOKUP(D129,#REF!,2,FALSE)),\"\",VLOOKUP(D129,#REF!,2,FALSE))","v":{"$error":"#REF!"}},0,0,0,0,0,0,0,0,0,0,0,0,0,0,null,0,null,0,0,0,0,0,0]
[null,null,null,null,null,null,null,null,null,null,0,null,null,null,null,null," ",null,1,1,"","","","",null,null,null,"","",11,null,{"$f":"IF(ISNA(VLOOKUP(D130,#REF!,2,FALSE)),\"\",VLOOKUP(D130,#REF!,2,FALSE))","v":{"$error":"#REF!"}},0,0,0,0,0,0,0,0,0,0,0,0,0,0,null,0,null,0,0,0,0,0,0]
[null,null,null,null,null,null,null,null,null,null,0,null,null,null,null,null," ",null,1,1,"","","","",null,null,null,"","",11,null,{"$f":"IF(ISNA(VLOOKUP(D131,#REF!,2,FALSE)),\"\",VLOOKUP(D131,#REF!,2,FALSE))","v":{"$error":"#REF!"}},0,0,0,0,0,0,0,0,0,0,0,0,0,0,null,0,null,0,0,0,0,0,0]
[null,null,null,null,null,null,null,null,null,null,0,null,null,null,null,null," ",null,1,1,"","","","",null,null,null,"","",11,null,{"$f":"IF(ISNA(VLOOKUP(D132,#REF!,2,FALSE)),\"\",VLOOKUP(D132,#REF!,2,FALSE))","v":{"$error":"#REF!"}},0,0,0,0,0,0,0,0,0,0,0,0,0,0,null,0,null,0,0,0,0,0,0]
[null,null,null,null,null,null,null,null,null,null,0,null,null,null,null,null," ",null,1,1,"","","","",null,null,null,"","",11,null,{"$f":"IF(ISNA(VLOOKUP(D133,#REF!,2,FALSE)),\"\",VLOOKUP(D133,#REF!,2,FALSE))","v":{"$error":"#REF!"}},0,0,0,0,0,0,0,0,0,0,0,0,0,0,null,0,null,0,0,0,0,0,0]
[null,null,null,null,null,null,null,null,null,null,0,null,null,null,null,null," ",null,1,1,"","","","",null,null,null,"","",11,null,{"$f":"IF(ISNA(VLOOKUP(D134,#REF!,2,FALSE)),\"\",VLOOKUP(D134,#REF!,2,FALSE))","v":{"$error":"#REF!"}},0,0,0,0,0,0,0,0,0,0,0,0,0,0,null,0,null,0,0,0,0,0,0]
[null,null,null,null,null,null,null,null,null,null,0,null,null,null,null,null," ",null,1,1,"","","","",null,null,null,"","",11,null,{"$f":"IF(ISNA(VLOOKUP(D135,#REF!,2,FALSE)),\"\",VLOOKUP(D135,#REF!,2,FALSE))","v":{"$error":"#REF!"}},0,0,0,0,0,0,0,0,0,0,0,0,0,0,null,0,null,0,0,0,0,0,0]
[null,null,null,null,null,null,null,null,null,null,0,null,null,null,null,null," ",null,1,1,"","","","",null,null,null,"","",11,null,{"$f":"IF(ISNA(VLOOKUP(D136,#REF!,2,FALSE)),\"\",VLOOKUP(D136,#REF!,2,FALSE))","v":{"$error":"#REF!"}},0,0,0,0,0,0,0,0,0,0,0,0,0,0,null,0,null,0,0,0,0,0,0]
[null,null,null,null,null,null,null,null,null,null,0,null,null,null,null,null," ",null,1,1,"","","","",null,null,null,"","",11,null,{"$f":"IF(ISNA(VLOOKUP(D137,#REF!,2,FALSE)),\"\",VLOOKUP(D137,#REF!,2,FALSE))","v":{"$error":"#REF!"}},0,0,0,0,0,0,0,0,0,0,0,0,0,0,null,0,null,0,0,0,0,0,0]
[null,null,null,null,null,null,null,null,null,null,0,null,null,null,null,null," ",null,1,1,"","","","",null,null,null,"","",11,null,{"$f":"IF(ISNA(VLOOKUP(D138,#REF!,2,FALSE)),\"\",VLOOKUP(D138,#REF!,2,FALSE))","v":{"$error":"#REF!"}},0,0,0,0,0,0,0,0,0,0,0,0,0,0,null,0,null,0,0,0,0,0,0]
[null,null,null,null,null,null,null,null,null,null,0,null,null,null,null,null," ",null,1,1,"","","","",null,null,null,"","",11,null,{"$f":"IF(ISNA(VLOOKUP(D139,#REF!,2,FALSE)),\"\",VLOOKUP(D139,#REF!,2,FALSE))","v":{"$error":"#REF!"}},0,0,0,0,0,0,0,0,0,0,0,0,0,0,null,0,null,0,0,0,0,0,0]
[null,null,null,null,null,null,null,null,null,null,0,null,null,null,null,null," ",null,1,1,"","","","",null,null,null,"","",11,null,{"$f":"IF(ISNA(VLOOKUP(D140,#REF!,2,FALSE)),\"\",VLOOKUP(D140,#REF!,2,FALSE))","v":{"$error":"#REF!"}},0,0,0,0,0,0,0,0,0,0,0,0,0,0,null,0,null,0,0,0,0,0,0]
[null,null,null,null,null,null,null,null,null,null,0,null,null,null,null,null," ",null,1,1,"","","","",null,null,null,"","",11,null,{"$f":"IF(ISNA(VLOOKUP(D141,#REF!,2,FALSE)),\"\",VLOOKUP(D141,#REF!,2,FALSE))","v":{"$error":"#REF!"}},0,0,0,0,0,0,0,0,0,0,0,0,0,0,null,0,null,0,0,0,0,0,0]
[null,null,null,null,null,null,null,null,null,null,{"$f":"ROUND(J142*43560*0.5/27,1)","v":0},null,null,null,null,null,{"$f":"CHOOSE(S142,$CC$31,$CC$32,$CC$33,$CC$34,$CC$35,$CC$36,$CC$37,$CC$38,$CC$39,$CC$40,$CC$41)","v":" "},null,1,1,"","","","",null,null,null,"","",11,null,{"$f":"IF(ISNA(VLOOKUP(D142,#REF!,2,FALSE)),\"\",VLOOKUP(D142,#REF!,2,FALSE))","v":{"$error":"#REF!"}},0,0,0,0,0,0,0,0,0,0,0,0,0,0,null,0,null,0,0,0,{"$f":"IF($AX142>0,0,IF($AN142>0,1,0))","v":0},0,0]
[null,null,null,null,null,null,null,null,null,null,0,null,null,null,null,null," ",null,{"$f":"MIN(T143:AD143)","v":1},{"$f":"IF(AND(A143=\"\",D143=\"\"),T$13,\"\")","v":1},{"$f":"IF(AND(B143=\"\",A143<>\"\"),U$13,\"\")","v":""},{"$f":"IF(AND(C143=\"\",A143<>\"\"),V$13,\"\")","v":""},"","",null,null,null,"","",{"$f":"AD$13","v":11},null,{"$f":"IF(ISNA(VLOOKUP(D143,#REF!,2,FALSE)),\"\",VLOOKUP(D143,#REF!,2,FALSE))","v":{"$error":"#REF!"}},{"$f":"IF(Q143=$CC$34,B143,0)","v":0},{"$f":"IF(Q143=$CC$40,B143,IF(B143-AG143-AI143-AK143-AM143-AQ143>0,B143-AG143-AI143-AK143-AM143-AQ143,0))","v":0},{"$f":"D143","v":0},{"$f":"E143","v":0},{"$f":"IF(M143<>\"\",M143*0.1,0)","v":0},{"$f":"IF(OR(AJ143>0,AK143>0),1,0)","v":0},{"$f":"J143","v":0},{"$f":"IF(SUM(G143:H143)>0,B143,0)","v":0},{"$f":"L143*$AJ$5","v":0},{"$f":"I143*$AJ$6","v":0},{"$f":"IF(AN143>0,AN143,IF(SUM(AO143:AP143)+AM143>B143,B143,SUM(AO143:AP143)+AM143))","v":0},{"$f":"IF(AQ143+SUM(AH143:AK143)+AM143>B143,B143,AQ143+SUM(AH143:AK143)+AM143)","v":0},{"$f":"IF(AR143>0,1,0)","v":0},{"$f":"IF(B143<>\"\",IF(AR143=0,1,0),0)","v":0},null,{"$f":"IF(AM143+AP143>B143,B143,AM143+AP143)","v":0},null,{"$f":"IF(AND($AV143>0,$AN143>0),B143,0)","v":0},{"$f":"IF(AND($AV143>0,$AN143>0),1,0)","v":0},{"$f":"IF($AX143>0,0,IF($AN143>0,$B143,0))","v":0},0,{"$f":"IF($AX143>0,0,IF($AV143>0,$AV143,0))","v":0},{"$f":"IF($AX143>0,0,IF($AV143>0,1,0))","v":0}]
[null,null,null,null,null,null,null,null,null,null,0,null,null,null,null,null," ",null,1,1,"","","","",null,null,null,"","",11,null,{"$f":"IF(ISNA(VLOOKUP(D144,#REF!,2,FALSE)),\"\",VLOOKUP(D144,#REF!,2,FALSE))","v":{"$error":"#REF!"}},0,0,0,0,0,0,0,0,0,0,0,0,0,0,null,0,null,0,0,0,0,0,0]
[null,null,null,null,null,null,null,null,null,null,0,null,null,null,null,null," ",null,1,1,"","","","",null,null,null,"","",11,null,{"$f":"IF(ISNA(VLOOKUP(D145,#REF!,2,FALSE)),\"\",VLOOKUP(D145,#REF!,2,FALSE))","v":{"$error":"#REF!"}},0,0,0,0,0,0,0,0,0,0,0,0,0,0,null,0,null,0,0,0,0,0,0]
[null,null,null,null,null,null,null,null,null,null,0,null,null,null,null,null," ",null,1,1,"","","","",null,null,null,"","",11,null,{"$f":"IF(ISNA(VLOOKUP(D146,#REF!,2,FALSE)),\"\",VLOOKUP(D146,#REF!,2,FALSE))","v":{"$error":"#REF!"}},0,0,0,0,0,0,0,0,0,0,0,0,0,0,null,0,null,0,0,0,0,0,0]
[null,null,null,null,null,null,null,null,null,null,0,null,null,null,null,null," ",null,1,1,"","","","",null,null,null,"","",11,null,{"$f":"IF(ISNA(VLOOKUP(D147,#REF!,2,FALSE)),\"\",VLOOKUP(D147,#REF!,2,FALSE))","v":{"$error":"#REF!"}},0,0,0,0,0,0,0,0,0,0,0,0,0,0,null,0,null,0,0,0,0,0,0]
[null,null,null,null,null,null,null,null,null,null,0,null,null,null,null,null," ",null,1,1,"","","","",null,null,null,"","",11,null,{"$f":"IF(ISNA(VLOOKUP(D148,#REF!,2,FALSE)),\"\",VLOOKUP(D148,#REF!,2,FALSE))","v":{"$error":"#REF!"}},0,0,0,0,0,0,0,0,0,0,0,0,0,0,null,0,null,0,0,0,0,0,0]
[null,null,null,null,null,null,null,null,null,null,0,null,null,null,null,null," ",null,1,1,"","","","",null,null,null,"","",11,null,{"$f":"IF(ISNA(VLOOKUP(D149,#REF!,2,FALSE)),\"\",VLOOKUP(D149,#REF!,2,FALSE))","v":{"$error":"#REF!"}},0,0,0,0,0,0,0,0,0,0,0,0,0,0,null,0,null,0,0,0,0,0,0]
[null,null,null,null,null,null,null,null,null,null,0,null,null,null,null,null," ",null,1,1,"","","","",null,null,null,"","",11,null,{"$f":"IF(ISNA(VLOOKUP(D150,#REF!,2,FALSE)),\"\",VLOOKUP(D150,#REF!,2,FALSE))","v":{"$error":"#REF!"}},0,0,0,0,0,0,0,0,0,0,0,0,0,0,null,0,null,0,0,0,0,0,0]
[null,null,null,null,null,null,null,null,null,null,0,null,null,null,null,null," ",null,1,1,"","","","",null,null,null,"","",11,null,{"$f":"IF(ISNA(VLOOKUP(D151,#REF!,2,FALSE)),\"\",VLOOKUP(D151,#REF!,2,FALSE))","v":{"$error":"#REF!"}},0,0,0,0,0,0,0,0,0,0,0,0,0,0,null,0,null,0,0,0,0,0,0]
[null,null,null,null,null,null,null,null,null,null,0,null,null,null,null,null," ",null,1,1,"","","","",null,null,null,"","",11,null,{"$f":"IF(ISNA(VLOOKUP(D152,#REF!,2,FALSE)),\"\",VLOOKUP(D152,#REF!,2,FALSE))","v":{"$error":"#REF!"}},0,0,0,0,0,0,0,0,0,0,0,0,0,0,null,0,null,0,0,0,0,0,0]
[null,null,null,null,null,null,null,null,null,null,0,null,null,null,null,null," ",null,1,1,"","","","",null,null,null,"","",11,null,{"$f":"IF(ISNA(VLOOKUP(D153,#REF!,2,FALSE)),\"\",VLOOKUP(D153,#REF!,2,FALSE))","v":{"$error":"#REF!"}},0,0,0,0,0,0,0,0,0,0,0,0,0,0,null,0,null,0,0,0,0,0,0]
[null,null,null,null,null,null,null,null,null,null,0,null,null,null,null,null," ",null,1,1,"","","","",null,null,null,"","",11,null,{"$f":"IF(ISNA(VLOOKUP(D154,#REF!,2,FALSE)),\"\",VLOOKUP(D154,#REF!,2,FALSE))","v":{"$error":"#REF!"}},0,0,0,0,0,0,0,0,0,0,0,0,0,0,null,0,null,0,0,0,0,0,0]
[null,null,null,null,null,null,null,null,null,null,0,null,null,null,null,null," ",null,1,1,"","","","",null,null,null,"","",11,null,{"$f":"IF(ISNA(VLOOKUP(D155,#REF!,2,FALSE)),\"\",VLOOKUP(D155,#REF!,2,FALSE))","v":{"$error":"#REF!"}},0,0,0,0,0,0,0,0,0,0,0,0,0,0,null,0,null,0,0,0,0,0,0]
[null,null,null,null,null,null,null,null,null,null,0,null,null,null,null,null," ",null,1,1,"","","","",null,null,null,"","",11,null,{"$f":"IF(ISNA(VLOOKUP(D156,#REF!,2,FALSE)),\"\",VLOOKUP(D156,#REF!,2,FALSE))","v":{"$error":"#REF!"}},0,0,0,0,0,0,0,0,0,0,0,0,0,0,null,0,null,0,0,0,0,0,0]
[null,null,null,null,null,null,null,null,null,null,0,null,null,null,null,null," ",null,1,1,"","","","",null,null,null,"","",11,null,{"$f":"IF(ISNA(VLOOKUP(D157,#REF!,2,FALSE)),\"\",VLOOKUP(D157,#REF!,2,FALSE))","v":{"$error":"#REF!"}},0,0,0,0,0,0,0,0,0,0,0,0,0,0,null,0,null,0,0,0,0,0,0]
[null,null,null,null,null,null,null,null,null,null,0,null,null,null,null,null," ",null,1,1,"","","","",null,null,null,"","",11,null,{"$f":"IF(ISNA(VLOOKUP(D158,#REF!,2,FALSE)),\"\",VLOOKUP(D158,#REF!,2,FALSE))","v":{"$error":"#REF!"}},0,0,0,0,0,0,0,0,0,0,0,0,0,0,null,0,null,0,0,0,0,0,0]
[null,null,null,null,null,null,null,null,null,null,0,null,null,null,null,null," ",null,1,1,"","","","",null,null,null,"","",11,null,{"$f":"IF(ISNA(VLOOKUP(D159,#REF!,2,FALSE)),\"\",VLOOKUP(D159,#REF!,2,FALSE))","v":{"$error":"#REF!"}},0,0,0,0,0,0,0,0,0,0,0,0,0,0,null,0,null,0,0,0,0,0,0]
[null,null,null,null,null,null,null,null,null,null,0,null,null,null,null,null," ",null,1,1,"","","","",null,null,null,"","",11,null,{"$f":"IF(ISNA(VLOOKUP(D160,#REF!,2,FALSE)),\"\",VLOOKUP(D160,#REF!,2,FALSE))","v":{"$error":"#REF!"}},0,0,0,0,0,0,0,0,0,0,0,0,0,0,null,0,null,0,0,0,0,0,0]
[null,null,null,null,null,null,null,null,null,null,0,null,null,null,null,null," ",null,1,1,"","","","",null,null,null,"","",11,null,{"$f":"IF(ISNA(VLOOKUP(D161,#REF!,2,FALSE)),\"\",VLOOKUP(D161,#REF!,2,FALSE))","v":{"$error":"#REF!"}},0,0,0,0,0,0,0,0,0,0,0,0,0,0,null,0,null,0,0,0,0,0,0]
["If more lines are needed, contact your area office ARC or Biologist"]
[null,null,null,null,null,null,null,null,null,null,{"$f":"ROUND(J163*43560*0.5/27,1)","v":0},null,null,null,null,null,{"$f":"CHOOSE(S163,$CC$31,$CC$32,$CC$33,$CC$34,$CC$35,$CC$36,$CC$37,$CC$38,$CC$39,$CC$40,$CC$41)","v":" "},null,{"$f":"MIN(T163:AD163)","v":1},{"$f":"IF(AND(A163=\"\",D163=\"\"),T$13,\"\")","v":1},{"$f":"IF(AND(B163=\"\",A163<>\"\"),U$13,\"\")","v":""},{"$f":"IF(AND(C163=\"\",A163<>\"\"),V$13,\"\")","v":""},{"$f":"IF(AND(AND(AND(SUM(D163:M163)+P163=0,AND(N163<>\"Yes\",O163<>\"Yes\")),F163<>\"yes\"),A163<>\"\"),W$13,\"\")","v":""},{"$f":"IF(AND(A163<>\"\",(D163+E163)>B163),X$13,\"\")","v":""},null,null,null,{"$f":"IF(AND(SUM(E163:P163)>0,F163=\"yes\",A163<>\"\"),AB$13,\"\")","v":""},{"$f":"IF(AND(F163=\"yes\",A163<>\"\"),AC$13,\"\")","v":""},{"$f":"AD$13","v":11},null,{"$f":"IF(ISNA(VLOOKUP(D163,#REF!,2,FALSE)),\"\",VLOOKUP(D163,#REF!,2,FALSE))","v":{"$error":"#REF!"}},{"$f":"IF(Q163=$CC$34,B163,0)","v":0},{"$f":"IF(Q163=$CC$40,B163,IF(B163-AG163-AI163-AK163-AM163-AQ163>0,B163-AG163-AI163-AK163-AM163-AQ163,0))","v":0},{"$f":"D163","v":0},{"$f":"E163","v":0},{"$f":"IF(M163<>\"\",M163*0.1,0)","v":0},{"$f":"IF(OR(AJ163>0,AK163>0),1,0)","v":0},{"$f":"J163","v":0},{"$f":"IF(SUM(G163:H163)>0,B163,0)","v":0},{"$f":"L163*$AJ$5","v":0},{"$f":"I163*$AJ$6","v":0},{"$f":"IF(AN163>0,AN163,IF(SUM(AO163:AP163)+AM163>B163,B163,SUM(AO163:AP163)+AM163))","v":0},{"$f":"IF(AQ163+SUM(AH163:AK163)+AM163>B163,B163,AQ163+SUM(AH163:AK163)+AM163)","v":0},{"$f":"IF(AR163>0,1,0)","v":0},{"$f":"IF(B163<>\"\",IF(AR163=0,1,0),0)","v":0},null,{"$f":"IF(AM163+AP163>B163,B163,AM163+AP163)","v":0},null,{"$f":"IF(AND($AV163>0,$AN163>0),B163,0)","v":0},0,0,0,0,0]
["x","x","x","x","x","x","x","x","x","x","x","x","x","x","x","x"]

{"sheet":"Landuse_Inventory","index":2,"n_rows":169,"n_cols":65,"rows_kept":169,"cut":false,"hidden":false,"merged":[[16,12,17,12],[16,5,17,5],[16,6,17,6],[16,7,17,7],[16,8,17,8],[3,7,3,9],[16,9,17,9],[2,7,2,9],[16,10,17,10],[16,11,17,11]]}
["Wetlands / Prairie Potholes Inventory (FY 2016)"]
["Wetlands by Landuse Inventory - Enter wetland information by basin"]
[null,null,"Field #","Land Use","Acres","Upland Acres  Planted","Existing Upland Cover","Wetland Acres\n(from below)",null,null,"Upland Acres",null,null,"Comments/Needs",null,"Error Checking - field section",null,null,null,null,null,null,null,null,null,null,null,null,"Land Use",null,"Error Checking - field section"]
[null,null,null,null,null,null,null,null,null,null,null,null,null,null,null,"result",1,2,3,4,5,6,7,8,9,10,11,null,null,null,1," ",null,null,null,null,null,null,null,"Upland","pema","pemc","pemf","other","Total"]
[null,null,null,null,null,null,{"$f":"E5-F5-I5","v":0},null,{"$f":"SUMIF($H$19:$H$166,C5,$I$19:$I$166)+SUMIF($J$19:$J$166,C5,$K$19:$K$166)+SUMIF($F$19:$F$166,C5,$G$19:$G$166)","v":0},null,{"$f":"E5-I5","v":0},null,null,{"$f":"CHOOSE(P5,$AF$4,$AF$5,$AF$6,$AF$7,$AF$8,$AF$9,$AF$10,$AF$11,$AF$12,$AF$13,$AF$14)","v":" "},null,{"$f":"MIN(Q5:AA5)","v":1},{"$f":"IF(AND(C5=\"\",D5=\"\"),Q$4,\"\")","v":1},{"$f":"IF(AND(C5<>\"\",D5=\"\"),R$4,\"\")","v":""},{"$f":"IF(AND(E5=\"\",D5<>\"\"),S$4,\"\")","v":""},{"$f":"IF(AND(F5=\"\",D5=$AC$5),T$4,\"\")","v":""},{"$f":"IF(F5>E5,U$4,\"\")","v":""},{"$f":"IF(I5>E5,V$4,\"\")","v":""},{"$f":"IF((I5+F5)>E5,W$4,\"\")","v":""},{"$f":"IF(C5=\"\",\"\",IF(I5=0,X$4,\"\"))","v":""},null,null,{"$f":"AA$4","v":11},null,"Cropland",null,2,"Enter Land Use",null,null,null,null,null,null,"Cropland",{"$f":"SUMIF($D$5:$D$14,AM5,$K$5:$K$14)","v":0},{"$f":"SUMIF($AI$19:$AI$166,AO$4,$AJ$19:$AJ$166)","v":0},{"$f":"SUMIF($AI$19:$AI$166,AP$4,$AJ$19:$AJ$166)","v":0},0,0,{"$f":"SUM(AN5:AR5)","v":0}]
[null,null,null,null,null,null,{"$f":"E6-F6-I6","v":0},null,0,null,{"$f":"E6-I6","v":0},null,null," ",null,{"$f":"MIN(Q6:AA6)","v":1},1,"","","","","",{"$f":"IF((H6+F6)>E6,W$4,\"\")","v":""},"",null,null,{"$f":"AA$4","v":11},null,"CRP (Active)",null,3,"Enter Land Use Acres",null,null,null,null,null,null,"CRP (Active)",{"$f":"SUMIF($D$5:$D$14,AM6,$K$5:$K$14)","v":0},{"$f":"SUMIF($AI$19:$AI$166,AO$4,$AK$19:$AK$166)","v":0},{"$f":"SUMIF($AI$19:$AI$166,AP$4,$AK$19:$AK$166)","v":0},0,0,{"$f":"SUM(AN6:AR6)","v":0}]
[null,null,null,null,null,null,0,null,0,null,0,null,null," ",null,1,1,"","","","","","","",null,null,11,null,"Rangeland",null,4,"Enter Acres to be Planted",null,null,null,null,null,null,"Rangeland",0,{"$f":"SUMIF($AI$19:$AI$166,AO$4,$AL$19:$AL$166)","v":0},{"$f":"SUMIF($AI$19:$AI$166,AP$4,$AL$19:$AL$166)","v":0},0,0,0]
[null,null,null,null,null,null,0,null,0,null,0,null,null," ",null,1,1,"","","","","","","",null,null,11,null,"Pastureland",null,5,"Acres Planted (Upland) > Field Acres",null,null,null,null,null,null,"Pastureland",0,{"$f":"SUMIF($AI$19:$AI$166,AO$4,$AM$19:$AM$166)","v":0},{"$f":"SUMIF($AI$19:$AI$166,AP$4,$AM$19:$AM$166)","v":0},0,0,0]
[null,null,null,null,null,null,0,null,0,null,0,null,null," ",null,{"$f":"MIN(Q9:AA9)","v":1},1,"","","","","","","",null,null,11,null,"Hayland",null,6,"Wetland Acres > Field Acres - Check Field # below to ensure wetlands are in correct field!!",null,null,null,null,null,null,"Hayland",0,{"$f":"SUMIF($AI$19:$AI$166,AO$4,$AN$19:$AN$166)","v":0},{"$f":"SUMIF($AI$19:$AI$166,AP$4,$AN$19:$AN$166)","v":0},0,0,0]
[null,null,null,null,null,null,0,null,0,null,0,null,null," ",null,{"$f":"MIN(Q10:AA10)","v":1},1,"","","","","","","",null,null,11,null,"Wildlife/Idle",null,7,"Upland Acres Planted + Wetland Acres > Field Acres",null,null,null,null,null,null,"Wildlife/Idle",0,{"$f":"SUMIF($AI$19:$AI$166,AO$4,$AO$19:$AO$166)","v":0},{"$f":"SUMIF($AI$19:$AI$166,AP$4,$AO$19:$AO$166)","v":0},0,0,0]
[null,null,null,null,null,null,0,null,0,null,0,null,null," ",null,1,1,"","","","","","","",null,null,11,null,"Forest Land",null,8,"No wetlands located in this field - OK?",null,null,null,null,null,null,"Forest Land",0,{"$f":"SUMIF($AI$19:$AI$166,AO$4,$AP$19:$AP$166)","v":0},{"$f":"SUMIF($AI$19:$AI$166,AP$4,$AP$19:$AP$166)","v":0},0,0,0]
[null,null,null,null,null,null,0,null,0,null,0,null,null," ",null,{"$f":"MIN(Q12:AA12)","v":1},1,"","","","","","","",null,null,11,null,null,null,9,"Not used",null,null,null,null,null,null,null,{"$f":"SUM(AN5:AN11)","v":0},{"$f":"SUM(AO5:AO11)","v":0},0,0,0,0]
[null,null,null,null,null,null,0,null,0,null,0,null,null," ",null,{"$f":"MIN(Q13:AA13)","v":1},1,"","","","","","","",null,null,11,null,null,null,10,"Not used"]
[null,null,null,null,null,null,0,null,0,null,0,null,null," ",null,1,1,"","","","","","",{"$f":"IF(C14=\"\",\"\",IF(I14=0,X$4,\"\"))","v":""},null,null,11,null,null,null,11,"OK"]
[null,null,"Total",null,{"$f":"SUM(E5:E14)","v":0},{"$f":"SUM(F5:F14)","v":0},{"$f":"SUM(G5:G14)","v":0},null,{"$f":"SUM(I5:I14)","v":0},null,{"$f":"SUM(K5:K14)","v":0}]
["Wetland by Landuse Inventory - Enter wetland information",null,null,null,null,null,null,null,null,null,null,null,{"$f":"Ranking!H1","v":"FY16-ver1"}]
["Wetland Info",null,null,"Acres Planted",null,"Primary Field","Wetland Acres\nin\nPrimary Field","Secondary Field","Wetland Acres\nin Second ary\nField","Tertiary Field","Wetland Acres\nin Tertiary Field","Wetland\nAcres\nCheck","Wetland Acres  remaining",null,null,null,null,null,null,null,null,null,null,null,null,null,null,null,null,null,null,null,null,null,null,"Total",null,null,null,null,null,null,null,null,"First",null,null,null,null,null,null,"Second",null,null,null,null,null,null,"Third"]
["Basin #","Acres","Type","To\nUpland\nSpecies","To\nHydrophytic\nSpecies",null,null,null,null,null,null,null,null,null,null,null,null,null,null,null,null,null,null,null,null,null,null,"First Landuse","First Landuse Acres","Second Landuse","Second Landuse Acres","Third Landuse","Third Landuse Acres",null,"wetland","Cropland","CRP (Active)","Rangeland","Pastureland","Hayland","Wildlife/Idle","Forest Land",null,null,"Cropland","CRP (Active)","Rangeland","Pastureland","Hayland","Wildlife/Idle","Forest Land","Cropland","CRP (Active)","Rangeland","Pastureland","Hayland","Wildlife/Idle","Forest Land","Cropland","CRP (Active)","Rangeland","Pastureland","Hayland","Wildlife/Idle","Forest Land"]
[{"$f":"IF(Wetland_Inventory!A14<>\"\",Wetland_Inventory!A14,\"\")","v":""},{"$f":"IF(Wetland_Inventory!B14<>\"\",Wetland_Inventory!B14,\"\")","v":""},{"$f":"IF(Wetland_Inventory!C14<>\"\",Wetland_Inventory!C14,\"\")","v":""},{"$f":"IF(Wetland_Inventory!D14<>\"\",Wetland_Inventory!D14,\"\")","v":""},{"$f":"IF(Wetland_Inventory!E14<>\"\",Wetland_Inventory!E14,\"\")","v":""},null,null,null,null,null,null,{"$f":"IF(A19=\"\",\"\",G19+I19+K19)","v":""},{"$f":"IF(A19=\"\",\"\",B19-L19)","v":""},null,null,null,null,null,null,null,null,null,null,null,null,null,null,{"$f":"IF(ISNA(VLOOKUP(F19,$C$5:$D$14,2,FALSE)),\"\",VLOOKUP(F19,$C$5:$D$14,2,FALSE))","v":""},{"$f":"IF(AB19<>\"\",G19,\"\")","v":""},{"$f":"IF(ISNA(VLOOKUP(H19,$C$5:$D$14,2,FALSE)),\"\",VLOOKUP(H19,$C$5:$D$14,2,FALSE))","v":""},{"$f":"IF(AD19<>\"\",I19,\"\")","v":""},{"$f":"IF(ISNA(VLOOKUP(J19,$C$5:$D$14,2,FALSE)),\"\",VLOOKUP(J19,$C$5:$D$14,2,FALSE))","v":""},{"$f":"IF(AF19<>\"\",K19,\"\")","v":""},null,{"$f":"IF(C19<>\"\",C19,\"\")","v":""},{"$f":"AS19+AZ19+BG19","v":0},{"$f":"AT19+BA19+BH19","v":0},{"$f":"AU19+BB19+BI19","v":0},{"$f":"AV19+BC19+BJ19","v":0},{"$f":"AW19+BD19+BK19","v":0},{"$f":"AX19+BE19+BL19","v":0},{"$f":"AY19+BF19+BM19","v":0},{"$f":"SUM(AJ19:AP19)","v":0},null,{"$f":"IF($AB19=AS$18,$AC19,0)","v":0},0,0,0,0,0,0,{"$f":"IF($AD19=AZ$18,$AE19,0)","v":0},0,0,0,0,0,0,{"$f":"IF($AF19=BG$18,$AG19,0)","v":0},0,0,0,0,0,0]
[{"$f":"IF(Wetland_Inventory!A15<>\"\",Wetland_Inventory!A15,\"\")","v":""},{"$f":"IF(Wetland_Inventory!B15<>\"\",Wetland_Inventory!B15,\"\")","v":""},{"$f":"IF(Wetland_Inventory!C15<>\"\",Wetland_Inventory!C15,\"\")","v":""},{"$f":"IF(Wetland_Inventory!D15<>\"\",Wetland_Inventory!D15,\"\")","v":""},{"$f":"IF(Wetland_Inventory!E15<>\"\",Wetland_Inventory!E15,\"\")","v":""},null,null,null,null,null,null,{"$f":"IF(A20=\"\",\"\",G20+I20+K20)","v":""},{"$f":"IF(A20=\"\",\"\",B20-L20)","v":""},null,null,null,null,null,null,null,null,null,null,null,null,null,null,"","","","","","",null,"",0,0,0,0,0,0,0,0,null,0,0,0,0,0,0,0,0,0,0,0,0,0,0,0,0,0,0,0,0,0]
[{"$f":"IF(Wetland_Inventory!A16<>\"\",Wetland_Inventory!A16,\"\")","v":""},{"$f":"IF(Wetland_Inventory!B16<>\"\",Wetland_Inventory!B16,\"\")","v":""},{"$f":"IF(Wetland_Inventory!C16<>\"\",Wetland_Inventory!C16,\"\")","v":""},{"$f":"IF(Wetland_Inventory!D16<>\"\",Wetland_Inventory!D16,\"\")","v":""},{"$f":"IF(Wetland_Inventory!E16<>\"\",Wetland_Inventory!E16,\"\")","v":""},null,null,null,null,null,null,"","",null,null,null,null,null,null,null,null,null,null,null,null,null,null,"","","","","","",null,"",0,0,0,0,0,0,0,0,null,0,0,0,0,0,0,0,0,0,0,0,0,0,0,0,0,0,0,0,0,0]
[{"$f":"IF(Wetland_Inventory!A17<>\"\",Wetland_Inventory!A17,\"\")","v":""},{"$f":"IF(Wetland_Inventory!B17<>\"\",Wetland_Inventory!B17,\"\")","v":""},{"$f":"IF(Wetland_Inventory!C17<>\"\",Wetland_Inventory!C17,\"\")","v":""},{"$f":"IF(Wetland_Inventory!D17<>\"\",Wetland_Inventory!D17,\"\")","v":""},{"$f":"IF(Wetland_Inventory!E17<>\"\",Wetland_Inventory!E17,\"\")","v":""},null,null,null,null,null,null,"","",null,null,null,null,null,null,null,null,null,null,null,null,null,null,"","","","","","",null,"",0,0,0,0,0,0,0,0,null,0,0,0,0,0,0,0,0,0,0,0,0,0,0,0,0,0,0,0,0,0]
[{"$f":"IF(Wetland_Inventory!A18<>\"\",Wetland_Inventory!A18,\"\")","v":""},{"$f":"IF(Wetland_Inventory!B18<>\"\",Wetland_Inventory!B18,\"\")","v":""},{"$f":"IF(Wetland_Inventory!C18<>\"\",Wetland_Inventory!C18,\"\")","v":""},{"$f":"IF(Wetland_Inventory!D18<>\"\",Wetland_Inventory!D18,\"\")","v":""},{"$f":"IF(Wetland_Inventory!E18<>\"\",Wetland_Inventory!E18,\"\")","v":""},null,null,null,null,null,null,"","",null,null,null,null,null,null,null,null,null,null,null,null,null,null,{"$f":"IF(ISNA(VLOOKUP(F23,$C$5:$D$14,2,FALSE)),\"\",VLOOKUP(F23,$C$5:$D$14,2,FALSE))","v":""},{"$f":"IF(AB23<>\"\",G23,\"\")","v":""},{"$f":"IF(ISNA(VLOOKUP(H23,$C$5:$D$14,2,FALSE)),\"\",VLOOKUP(H23,$C$5:$D$14,2,FALSE))","v":""},{"$f":"IF(AD23<>\"\",I23,\"\")","v":""},{"$f":"IF(ISNA(VLOOKUP(J23,$C$5:$D$14,2,FALSE)),\"\",VLOOKUP(J23,$C$5:$D$14,2,FALSE))","v":""},{"$f":"IF(AF23<>\"\",K23,\"\")","v":""},null,{"$f":"IF(C23<>\"\",C23,\"\")","v":""},{"$f":"AS23+AZ23+BG23","v":0},{"$f":"AT23+BA23+BH23","v":0},0,0,0,0,0,{"$f":"SUM(AJ23:AP23)","v":0},null,0,0,0,0,0,0,0,0,0,0,0,0,0,0,0,0,0,0,0,0,0]
[{"$f":"IF(Wetland_Inventory!A19<>\"\",Wetland_Inventory!A19,\"\")","v":""},{"$f":"IF(Wetland_Inventory!B19<>\"\",Wetland_Inventory!B19,\"\")","v":""},{"$f":"IF(Wetland_Inventory!C19<>\"\",Wetland_Inventory!C19,\"\")","v":""},{"$f":"IF(Wetland_Inventory!D19<>\"\",Wetland_Inventory!D19,\"\")","v":""},{"$f":"IF(Wetland_Inventory!E19<>\"\",Wetland_Inventory!E19,\"\")","v":""},null,null,null,null,null,null,"","",null,null,null,null,null,null,null,null,null,null,null,null,null,null,"","","","","","",null,"",0,0,0,0,0,0,0,0,null,0,0,0,0,0,0,0,0,0,0,0,0,0,0,0,0,0,0,0,0,0]
[{"$f":"IF(Wetland_Inventory!A20<>\"\",Wetland_Inventory!A20,\"\")","v":""},{"$f":"IF(Wetland_Inventory!B20<>\"\",Wetland_Inventory!B20,\"\")","v":""},{"$f":"IF(Wetland_Inventory!C20<>\"\",Wetland_Inventory!C20,\"\")","v":""},{"$f":"IF(Wetland_Inventory!D20<>\"\",Wetland_Inventory!D20,\"\")","v":""},{"$f":"IF(Wetland_Inventory!E20<>\"\",Wetland_Inventory!E20,\"\")","v":""},null,null,null,null,null,null,"","",null,null,null,null,null,null,null,null,null,null,null,null,null,null,"","","","","","",null,"",0,0,0,0,0,0,0,0,null,0,0,0,0,0,0,0,0,0,0,0,0,0,0,0,0,0,0,0,0,0]
[{"$f":"IF(Wetland_Inventory!A21<>\"\",Wetland_Inventory!A21,\"\")","v":""},{"$f":"IF(Wetland_Inventory!B21<>\"\",Wetland_Inventory!B21,\"\")","v":""},{"$f":"IF(Wetland_Inventory!C21<>\"\",Wetland_Inventory!C21,\"\")","v":""},{"$f":"IF(Wetland_Inventory!D21<>\"\",Wetland_Inventory!D21,\"\")","v":""},{"$f":"IF(Wetland_Inventory!E21<>\"\",Wetland_Inventory!E21,\"\")","v":""},null,null,null,null,null,null,"","",null,null,null,null,null,null,null,null,null,null,null,null,null,null,"","","","","","",null,"",0,0,0,0,0,0,0,0,null,0,0,0,0,0,0,0,0,0,0,0,0,0,0,0,0,0,0,0,0,0]
[{"$f":"IF(Wetland_Inventory!A22<>\"\",Wetland_Inventory!A22,\"\")","v":""},{"$f":"IF(Wetland_Inventory!B22<>\"\",Wetland_Inventory!B22,\"\")","v":""},{"$f":"IF(Wetland_Inventory!C22<>\"\",Wetland_Inventory!C22,\"\")","v":""},{"$f":"IF(Wetland_Inventory!D22<>\"\",Wetland_Inventory!D22,\"\")","v":""},{"$f":"IF(Wetland_Inventory!E22<>\"\",Wetland_Inventory!E22,\"\")","v":""},null,null,null,null,null,null,"","",null,null,null,null,null,null,null,null,null,null,null,null,null,null,"","","","","","",null,"",0,0,0,0,0,0,0,0,null,0,0,0,0,0,0,0,0,0,0,0,0,0,0,0,0,0,0,0,0,0]
[{"$f":"IF(Wetland_Inventory!A23<>\"\",Wetland_Inventory!A23,\"\")","v":""},{"$f":"IF(Wetland_Inventory!B23<>\"\",Wetland_Inventory!B23,\"\")","v":""},{"$f":"IF(Wetland_Inventory!C23<>\"\",Wetland_Inventory!C23,\"\")","v":""},{"$f":"IF(Wetland_Inventory!D23<>\"\",Wetland_Inventory!D23,\"\")","v":""},{"$f":"IF(Wetland_Inventory!E23<>\"\",Wetland_Inventory!E23,\"\")","v":""},null,null,null,null,null,null,"","",null,null,null,null,null,null,null,null,null,null,null,null,null,null,"","","","","","",null,"",0,0,0,0,0,0,0,0,null,0,0,0,0,0,0,0,0,0,0,0,0,0,0,0,0,0,0,0,0,0]
[{"$f":"IF(Wetland_Inventory!A24<>\"\",Wetland_Inventory!A24,\"\")","v":""},{"$f":"IF(Wetland_Inventory!B24<>\"\",Wetland_Inventory!B24,\"\")","v":""},{"$f":"IF(Wetland_Inventory!C24<>\"\",Wetland_Inventory!C24,\"\")","v":""},{"$f":"IF(Wetland_Inventory!D24<>\"\",Wetland_Inventory!D24,\"\")","v":""},{"$f":"IF(Wetland_Inventory!E24<>\"\",Wetland_Inventory!E24,\"\")","v":""},null,null,null,null,null,null,"","",null,null,null,null,null,null,null,null,null,null,null,null,null,null,"","","","","","",null,"",0,0,0,0,0,0,0,0,null,0,0,0,0,0,0,0,0,0,0,0,0,0,0,0,0,0,0,0,0,0]
[{"$f":"IF(Wetland_Inventory!A25<>\"\",Wetland_Inventory!A25,\"\")","v":""},{"$f":"IF(Wetland_Inventory!B25<>\"\",Wetland_Inventory!B25,\"\")","v":""},{"$f":"IF(Wetland_Inventory!C25<>\"\",Wetland_Inventory!C25,\"\")","v":""},{"$f":"IF(Wetland_Inventory!D25<>\"\",Wetland_Inventory!D25,\"\")","v":""},{"$f":"IF(Wetland_Inventory!E25<>\"\",Wetland_Inventory!E25,\"\")","v":""},null,null,null,null,null,null,"","",null,null,null,null,null,null,null,null,null,null,null,null,null,null,"","","","","","",null,"",0,0,0,0,0,0,0,0,null,0,0,0,0,0,0,0,0,0,0,0,0,0,0,0,0,0,0,0,0,0]
[{"$f":"IF(Wetland_Inventory!A26<>\"\",Wetland_Inventory!A26,\"\")","v":""},{"$f":"IF(Wetland_Inventory!B26<>\"\",Wetland_Inventory!B26,\"\")","v":""},{"$f":"IF(Wetland_Inventory!C26<>\"\",Wetland_Inventory!C26,\"\")","v":""},{"$f":"IF(Wetland_Inventory!D26<>\"\",Wetland_Inventory!D26,\"\")","v":""},{"$f":"IF(Wetland_Inventory!E26<>\"\",Wetland_Inventory!E26,\"\")","v":""},null,null,null,null,null,null,"","",null,null,null,null,null,null,null,null,null,null,null,null,null,null,"","","","","","",null,"",0,0,0,0,0,0,0,0,null,0,0,0,0,0,0,0,0,0,0,0,0,0,0,0,0,0,0,0,0,0]
[{"$f":"IF(Wetland_Inventory!A27<>\"\",Wetland_Inventory!A27,\"\")","v":""},{"$f":"IF(Wetland_Inventory!B27<>\"\",Wetland_Inventory!B27,\"\")","v":""},{"$f":"IF(Wetland_Inventory!C27<>\"\",Wetland_Inventory!C27,\"\")","v":""},{"$f":"IF(Wetland_Inventory!D27<>\"\",Wetland_Inventory!D27,\"\")","v":""},{"$f":"IF(Wetland_Inventory!E27<>\"\",Wetland_Inventory!E27,\"\")","v":""},null,null,null,null,null,null,"","",null,null,null,null,null,null,null,null,null,null,null,null,null,null,"","","","","","",null,"",0,0,0,0,0,0,0,0,null,0,0,0,0,0,0,0,0,0,0,0,0,0,0,0,0,0,0,0,0,0]
[{"$f":"IF(Wetland_Inventory!A28<>\"\",Wetland_Inventory!A28,\"\")","v":""},{"$f":"IF(Wetland_Inventory!B28<>\"\",Wetland_Inventory!B28,\"\")","v":""},{"$f":"IF(Wetland_Inventory!C28<>\"\",Wetland_Inventory!C28,\"\")","v":""},{"$f":"IF(Wetland_Inventory!D28<>\"\",Wetland_Inventory!D28,\"\")","v":""},{"$f":"IF(Wetland_Inventory!E28<>\"\",Wetland_Inventory!E28,\"\")","v":""},null,null,null,null,null,null,"","",null,null,null,null,null,null,null,null,null,null,null,null,null,null,"","","","","","",null,"",0,0,0,0,0,0,0,0,null,0,0,0,0,0,0,0,0,0,0,0,0,0,0,0,0,0,0,0,0,0]
[{"$f":"IF(Wetland_Inventory!A29<>\"\",Wetland_Inventory!A29,\"\")","v":""},{"$f":"IF(Wetland_Inventory!B29<>\"\",Wetland_Inventory!B29,\"\")","v":""},{"$f":"IF(Wetland_Inventory!C29<>\"\",Wetland_Inventory!C29,\"\")","v":""},{"$f":"IF(Wetland_Inventory!D29<>\"\",Wetland_Inventory!D29,\"\")","v":""},{"$f":"IF(Wetland_Inventory!E29<>\"\",Wetland_Inventory!E29,\"\")","v":""},null,null,null,null,null,null,"","",null,null,null,null,null,null,null,null,null,null,null,null,null,null,"","","","","","",null,"",0,0,0,0,0,0,0,0,null,0,0,0,0,0,0,0,0,0,0,0,0,0,0,0,0,0,0,0,0,0]
[{"$f":"IF(Wetland_Inventory!A30<>\"\",Wetland_Inventory!A30,\"\")","v":""},{"$f":"IF(Wetland_Inventory!B30<>\"\",Wetland_Inventory!B30,\"\")","v":""},{"$f":"IF(Wetland_Inventory!C30<>\"\",Wetland_Inventory!C30,\"\")","v":""},{"$f":"IF(Wetland_Inventory!D30<>\"\",Wetland_Inventory!D30,\"\")","v":""},{"$f":"IF(Wetland_Inventory!E30<>\"\",Wetland_Inventory!E30,\"\")","v":""},null,null,null,null,null,null,"","",null,null,null,null,null,null,null,null,null,null,null,null,null,null,"","","","","","",null,"",0,{"$f":"AT35+BA35+BH35","v":0},{"$f":"AU35+BB35+BI35","v":0},{"$f":"AV35+BC35+BJ35","v":0},{"$f":"AW35+BD35+BK35","v":0},{"$f":"AX35+BE35+BL35","v":0},{"$f":"AY35+BF35+BM35","v":0},0,null,0,0,0,0,0,0,0,0,0,0,0,0,0,0,0,0,0,0,0,0,0]
[{"$f":"IF(Wetland_Inventory!A31<>\"\",Wetland_Inventory!A31,\"\")","v":""},{"$f":"IF(Wetland_Inventory!B31<>\"\",Wetland_Inventory!B31,\"\")","v":""},{"$f":"IF(Wetland_Inventory!C31<>\"\",Wetland_Inventory!C31,\"\")","v":""},{"$f":"IF(Wetland_Inventory!D31<>\"\",Wetland_Inventory!D31,\"\")","v":""},{"$f":"IF(Wetland_Inventory!E31<>\"\",Wetland_Inventory!E31,\"\")","v":""},null,null,null,null,null,null,"","",null,null,null,null,null,null,null,null,null,null,null,null,null,null,"","","","","","",null,"",0,0,0,0,0,0,0,0,null,{"$f":"IF($AB36=AS$18,$AC36,0)","v":0},0,0,0,0,0,0,{"$f":"IF($AD36=AZ$18,$AE36,0)","v":0},0,0,0,0,0,0,{"$f":"IF($AF36=BG$18,$AG36,0)","v":0},0,0,0,0,0,0]
[{"$f":"IF(Wetland_Inventory!A32<>\"\",Wetland_Inventory!A32,\"\")","v":""},{"$f":"IF(Wetland_Inventory!B32<>\"\",Wetland_Inventory!B32,\"\")","v":""},{"$f":"IF(Wetland_Inventory!C32<>\"\",Wetland_Inventory!C32,\"\")","v":""},{"$f":"IF(Wetland_Inventory!D32<>\"\",Wetland_Inventory!D32,\"\")","v":""},{"$f":"IF(Wetland_Inventory!E32<>\"\",Wetland_Inventory!E32,\"\")","v":""},null,null,null,null,null,null,"","",null,null,null,null,null,null,null,null,null,null,null,null,null,null,"","","","","","",null,"",0,0,0,0,0,0,0,0,null,0,0,0,0,0,0,0,0,0,0,0,0,0,0,0,0,0,0,0,0,0]
[{"$f":"IF(Wetland_Inventory!A33<>\"\",Wetland_Inventory!A33,\"\")","v":""},{"$f":"IF(Wetland_Inventory!B33<>\"\",Wetland_Inventory!B33,\"\")","v":""},{"$f":"IF(Wetland_Inventory!C33<>\"\",Wetland_Inventory!C33,\"\")","v":""},{"$f":"IF(Wetland_Inventory!D33<>\"\",Wetland_Inventory!D33,\"\")","v":""},{"$f":"IF(Wetland_Inventory!E33<>\"\",Wetland_Inventory!E33,\"\")","v":""},null,null,null,null,null,null,"","",null,null,null,null,null,null,null,null,null,null,null,null,null,null,"","","","","","",null,"",0,0,0,0,0,0,0,0,null,0,0,0,0,0,0,0,0,0,0,0,0,0,0,0,0,0,0,0,0,0]
[{"$f":"IF(Wetland_Inventory!A34<>\"\",Wetland_Inventory!A34,\"\")","v":""},{"$f":"IF(Wetland_Inventory!B34<>\"\",Wetland_Inventory!B34,\"\")","v":""},{"$f":"IF(Wetland_Inventory!C34<>\"\",Wetland_Inventory!C34,\"\")","v":""},{"$f":"IF(Wetland_Inventory!D34<>\"\",Wetland_Inventory!D34,\"\")","v":""},{"$f":"IF(Wetland_Inventory!E34<>\"\",Wetland_Inventory!E34,\"\")","v":""},null,null,null,null,null,null,"","",null,null,null,null,null,null,null,null,null,null,null,null,null,null,"","","","","","",null,"",0,0,0,0,0,0,0,0,null,0,0,0,0,0,0,0,0,0,0,0,0,0,0,0,0,0,0,0,0,0]
[{"$f":"IF(Wetland_Inventory!A35<>\"\",Wetland_Inventory!A35,\"\")","v":""},{"$f":"IF(Wetland_Inventory!B35<>\"\",Wetland_Inventory!B35,\"\")","v":""},{"$f":"IF(Wetland_Inventory!C35<>\"\",Wetland_Inventory!C35,\"\")","v":""},{"$f":"IF(Wetland_Inventory!D35<>\"\",Wetland_Inventory!D35,\"\")","v":""},{"$f":"IF(Wetland_Inventory!E35<>\"\",Wetland_Inventory!E35,\"\")","v":""},null,null,null,null,null,null,"","",null,null,null,null,null,null,null,null,null,null,null,null,null,null,"","","","","","",null,"",0,0,0,0,0,0,0,0,null,0,0,0,0,0,0,0,0,0,0,0,0,0,0,0,0,0,0,0,0,0]
[{"$f":"IF(Wetland_Inventory!A36<>\"\",Wetland_Inventory!A36,\"\")","v":""},{"$f":"IF(Wetland_Inventory!B36<>\"\",Wetland_Inventory!B36,\"\")","v":""},{"$f":"IF(Wetland_Inventory!C36<>\"\",Wetland_Inventory!C36,\"\")","v":""},{"$f":"IF(Wetland_Inventory!D36<>\"\",Wetland_Inventory!D36,\"\")","v":""},{"$f":"IF(Wetland_Inventory!E36<>\"\",Wetland_Inventory!E36,\"\")","v":""},null,null,null,null,null,null,"","",null,null,null,null,null,null,null,null,null,null,null,null,null,null,"","","","","","",null,"",0,0,0,0,0,0,0,0,null,0,0,0,0,0,0,0,0,0,0,0,0,0,0,0,0,0,0,0,0,0]
[{"$f":"IF(Wetland_Inventory!A37<>\"\",Wetland_Inventory!A37,\"\")","v":""},{"$f":"IF(Wetland_Inventory!B37<>\"\",Wetland_Inventory!B37,\"\")","v":""},{"$f":"IF(Wetland_Inventory!C37<>\"\",Wetland_Inventory!C37,\"\")","v":""},{"$f":"IF(Wetland_Inventory!D37<>\"\",Wetland_Inventory!D37,\"\")","v":""},{"$f":"IF(Wetland_Inventory!E37<>\"\",Wetland_Inventory!E37,\"\")","v":""},null,null,null,null,null,null,"","",null,null,null,null,null,null,null,null,null,null,null,null,null,null,"","","","","","",null,"",0,0,0,0,0,0,0,0,null,0,0,0,0,0,0,0,0,0,0,0,0,0,0,0,0,0,0,0,0,0]
[{"$f":"IF(Wetland_Inventory!A38<>\"\",Wetland_Inventory!A38,\"\")","v":""},{"$f":"IF(Wetland_Inventory!B38<>\"\",Wetland_Inventory!B38,\"\")","v":""},{"$f":"IF(Wetland_Inventory!C38<>\"\",Wetland_Inventory!C38,\"\")","v":""},{"$f":"IF(Wetland_Inventory!D38<>\"\",Wetland_Inventory!D38,\"\")","v":""},{"$f":"IF(Wetland_Inventory!E38<>\"\",Wetland_Inventory!E38,\"\")","v":""},null,null,null,null,null,null,"","",null,null,null,null,null,null,null,null,null,null,null,null,null,null,"","","","","","",null,"",0,0,0,0,0,0,0,0,null,0,0,0,0,0,0,0,0,0,0,0,0,0,0,0,0,0,0,0,0,0]
[{"$f":"IF(Wetland_Inventory!A39<>\"\",Wetland_Inventory!A39,\"\")","v":""},{"$f":"IF(Wetland_Inventory!B39<>\"\",Wetland_Inventory!B39,\"\")","v":""},{"$f":"IF(Wetland_Inventory!C39<>\"\",Wetland_Inventory!C39,\"\")","v":""},{"$f":"IF(Wetland_Inventory!D39<>\"\",Wetland_Inventory!D39,\"\")","v":""},{"$f":"IF(Wetland_Inventory!E39<>\"\",Wetland_Inventory!E39,\"\")","v":""},null,null,null,null,null,null,"","",null,null,null,null,null,null,null,null,null,null,null,null,null,null,"","","","","","",null,"",0,0,0,0,0,0,0,0,null,0,0,0,0,0,0,0,0,0,0,0,0,0,0,0,0,0,0,0,0,0]
[{"$f":"IF(Wetland_Inventory!A40<>\"\",Wetland_Inventory!A40,\"\")","v":""},{"$f":"IF(Wetland_Inventory!B40<>\"\",Wetland_Inventory!B40,\"\")","v":""},{"$f":"IF(Wetland_Inventory!C40<>\"\",Wetland_Inventory!C40,\"\")","v":""},{"$f":"IF(Wetland_Inventory!D40<>\"\",Wetland_Inventory!D40,\"\")","v":""},{"$f":"IF(Wetland_Inventory!E40<>\"\",Wetland_Inventory!E40,\"\")","v":""},null,null,null,null,null,null,"","",null,null,null,null,null,null,null,null,null,null,null,null,null,null,"","","","","","",null,"",0,0,0,0,0,0,0,0,null,0,0,0,0,0,0,0,0,0,0,0,0,0,0,0,0,0,0,0,0,0]
[{"$f":"IF(Wetland_Inventory!A41<>\"\",Wetland_Inventory!A41,\"\")","v":""},{"$f":"IF(Wetland_Inventory!B41<>\"\",Wetland_Inventory!B41,\"\")","v":""},{"$f":"IF(Wetland_Inventory!C41<>\"\",Wetland_Inventory!C41,\"\")","v":""},{"$f":"IF(Wetland_Inventory!D41<>\"\",Wetland_Inventory!D41,\"\")","v":""},{"$f":"IF(Wetland_Inventory!E41<>\"\",Wetland_Inventory!E41,\"\")","v":""},null,null,null,null,null,null,"","",null,null,null,null,null,null,null,null,null,null,null,null,null,null,"","","","","","",null,"",0,0,0,0,0,0,0,0,null,0,0,0,0,0,0,0,0,0,0,0,0,0,0,0,0,0,0,0,0,0]
[{"$f":"IF(Wetland_Inventory!A42<>\"\",Wetland_Inventory!A42,\"\")","v":""},{"$f":"IF(Wetland_Inventory!B42<>\"\",Wetland_Inventory!B42,\"\")","v":""},{"$f":"IF(Wetland_Inventory!C42<>\"\",Wetland_Inventory!C42,\"\")","v":""},{"$f":"IF(Wetland_Inventory!D42<>\"\",Wetland_Inventory!D42,\"\")","v":""},{"$f":"IF(Wetland_Inventory!E42<>\"\",Wetland_Inventory!E42,\"\")","v":""},null,null,null,null,null,null,"","",null,null,null,null,null,null,null,null,null,null,null,null,null,null,"","","","","","",null,"",0,0,0,0,0,0,0,0,null,0,0,0,0,0,0,0,0,0,0,0,0,0,0,0,0,0,0,0,0,0]
[{"$f":"IF(Wetland_Inventory!A43<>\"\",Wetland_Inventory!A43,\"\")","v":""},{"$f":"IF(Wetland_Inventory!B43<>\"\",Wetland_Inventory!B43,\"\")","v":""},{"$f":"IF(Wetland_Inventory!C43<>\"\",Wetland_Inventory!C43,\"\")","v":""},{"$f":"IF(Wetland_Inventory!D43<>\"\",Wetland_Inventory!D43,\"\")","v":""},{"$f":"IF(Wetland_Inventory!E43<>\"\",Wetland_Inventory!E43,\"\")","v":""},null,null,null,null,null,null,"","",null,null,null,null,null,null,null,null,null,null,null,null,null,null,"","","","","","",null,"",0,0,0,0,0,0,0,0,null,0,0,0,0,0,0,0,0,0,0,0,0,0,0,0,0,0,0,0,0,0]
[{"$f":"IF(Wetland_Inventory!A44<>\"\",Wetland_Inventory!A44,\"\")","v":""},{"$f":"IF(Wetland_Inventory!B44<>\"\",Wetland_Inventory!B44,\"\")","v":""},{"$f":"IF(Wetland_Inventory!C44<>\"\",Wetland_Inventory!C44,\"\")","v":""},{"$f":"IF(Wetland_Inventory!D44<>\"\",Wetland_Inventory!D44,\"\")","v":""},{"$f":"IF(Wetland_Inventory!E44<>\"\",Wetland_Inventory!E44,\"\")","v":""},null,null,null,null,null,null,"","",null,null,null,null,null,null,null,null,null,null,null,null,null,null,"","","","","","",null,"",0,0,0,0,0,0,0,0,null,0,0,0,0,0,0,0,0,0,0,0,0,0,0,0,0,0,0,0,0,0]
[{"$f":"IF(Wetland_Inventory!A45<>\"\",Wetland_Inventory!A45,\"\")","v":""},{"$f":"IF(Wetland_Inventory!B45<>\"\",Wetland_Inventory!B45,\"\")","v":""},{"$f":"IF(Wetland_Inventory!C45<>\"\",Wetland_Inventory!C45,\"\")","v":""},{"$f":"IF(Wetland_Inventory!D45<>\"\",Wetland_Inventory!D45,\"\")","v":""},{"$f":"IF(Wetland_Inventory!E45<>\"\",Wetland_Inventory!E45,\"\")","v":""},null,null,null,null,null,null,"","",null,null,null,null,null,null,null,null,null,null,null,null,null,null,"","","","","","",null,"",0,0,0,0,0,0,0,0,null,0,0,0,0,0,0,0,0,0,0,0,0,0,0,0,0,0,0,0,0,0]
[{"$f":"IF(Wetland_Inventory!A46<>\"\",Wetland_Inventory!A46,\"\")","v":""},{"$f":"IF(Wetland_Inventory!B46<>\"\",Wetland_Inventory!B46,\"\")","v":""},{"$f":"IF(Wetland_Inventory!C46<>\"\",Wetland_Inventory!C46,\"\")","v":""},{"$f":"IF(Wetland_Inventory!D46<>\"\",Wetland_Inventory!D46,\"\")","v":""},{"$f":"IF(Wetland_Inventory!E46<>\"\",Wetland_Inventory!E46,\"\")","v":""},null,null,null,null,null,null,"","",null,null,null,null,null,null,null,null,null,null,null,null,null,null,"","","","","","",null,"",0,0,0,0,0,0,0,0,null,0,0,0,0,0,0,0,0,0,0,0,0,0,0,0,0,0,0,0,0,0]
[{"$f":"IF(Wetland_Inventory!A47<>\"\",Wetland_Inventory!A47,\"\")","v":""},{"$f":"IF(Wetland_Inventory!B47<>\"\",Wetland_Inventory!B47,\"\")","v":""},{"$f":"IF(Wetland_Inventory!C47<>\"\",Wetland_Inventory!C47,\"\")","v":""},{"$f":"IF(Wetland_Inventory!D47<>\"\",Wetland_Inventory!D47,\"\")","v":""},{"$f":"IF(Wetland_Inventory!E47<>\"\",Wetland_Inventory!E47,\"\")","v":""},null,null,null,null,null,null,"","",null,null,null,null,null,null,null,null,null,null,null,null,null,null,"","","","","","",null,"",0,0,0,0,0,0,0,0,null,0,0,0,0,0,0,0,0,0,0,0,0,0,0,0,0,0,0,0,0,0]
[{"$f":"IF(Wetland_Inventory!A48<>\"\",Wetland_Inventory!A48,\"\")","v":""},{"$f":"IF(Wetland_Inventory!B48<>\"\",Wetland_Inventory!B48,\"\")","v":""},{"$f":"IF(Wetland_Inventory!C48<>\"\",Wetland_Inventory!C48,\"\")","v":""},{"$f":"IF(Wetland_Inventory!D48<>\"\",Wetland_Inventory!D48,\"\")","v":""},{"$f":"IF(Wetland_Inventory!E48<>\"\",Wetland_Inventory!E48,\"\")","v":""},null,null,null,null,null,null,"","",null,null,null,null,null,null,null,null,null,null,null,null,null,null,"","","","","","",null,"",0,0,0,0,0,0,0,0,null,0,0,0,0,0,0,0,0,0,0,0,0,0,0,0,0,0,0,0,0,0]
[{"$f":"IF(Wetland_Inventory!A49<>\"\",Wetland_Inventory!A49,\"\")","v":""},{"$f":"IF(Wetland_Inventory!B49<>\"\",Wetland_Inventory!B49,\"\")","v":""},{"$f":"IF(Wetland_Inventory!C49<>\"\",Wetland_Inventory!C49,\"\")","v":""},{"$f":"IF(Wetland_Inventory!D49<>\"\",Wetland_Inventory!D49,\"\")","v":""},{"$f":"IF(Wetland_Inventory!E49<>\"\",Wetland_Inventory!E49,\"\")","v":""},null,null,null,null,null,null,"","",null,null,null,null,null,null,null,null,null,null,null,null,null,null,"","","","","","",null,"",0,0,0,0,0,0,0,0,null,0,0,0,0,0,0,0,0,0,0,0,0,0,0,0,0,0,0,0,0,0]
[{"$f":"IF(Wetland_Inventory!A50<>\"\",Wetland_Inventory!A50,\"\")","v":""},{"$f":"IF(Wetland_Inventory!B50<>\"\",Wetland_Inventory!B50,\"\")","v":""},{"$f":"IF(Wetland_Inventory!C50<>\"\",Wetland_Inventory!C50,\"\")","v":""},{"$f":"IF(Wetland_Inventory!D50<>\"\",Wetland_Inventory!D50,\"\")","v":""},{"$f":"IF(Wetland_Inventory!E50<>\"\",Wetland_Inventory!E50,\"\")","v":""},null,null,null,null,null,null,"","",null,null,null,null,null,null,null,null,null,null,null,null,null,null,"","","","","","",null,"",0,0,0,0,0,0,0,0,null,0,0,0,0,0,0,0,0,0,0,0,0,0,0,0,0,0,0,0,0,0]
[{"$f":"IF(Wetland_Inventory!A51<>\"\",Wetland_Inventory!A51,\"\")","v":""},{"$f":"IF(Wetland_Inventory!B51<>\"\",Wetland_Inventory!B51,\"\")","v":""},{"$f":"IF(Wetland_Inventory!C51<>\"\",Wetland_Inventory!C51,\"\")","v":""},{"$f":"IF(Wetland_Inventory!D51<>\"\",Wetland_Inventory!D51,\"\")","v":""},{"$f":"IF(Wetland_Inventory!E51<>\"\",Wetland_Inventory!E51,\"\")","v":""},null,null,null,null,null,null,"","",null,null,null,null,null,null,null,null,null,null,null,null,null,null,"","","","","","",null,"",0,0,0,0,0,0,0,0,null,0,0,0,0,0,0,0,0,0,0,0,0,0,0,0,0,0,0,0,0,0]
[{"$f":"IF(Wetland_Inventory!A52<>\"\",Wetland_Inventory!A52,\"\")","v":""},{"$f":"IF(Wetland_Inventory!B52<>\"\",Wetland_Inventory!B52,\"\")","v":""},{"$f":"IF(Wetland_Inventory!C52<>\"\",Wetland_Inventory!C52,\"\")","v":""},{"$f":"IF(Wetland_Inventory!D52<>\"\",Wetland_Inventory!D52,\"\")","v":""},{"$f":"IF(Wetland_Inventory!E52<>\"\",Wetland_Inventory!E52,\"\")","v":""},null,null,null,null,null,null,"","",null,null,null,null,null,null,null,null,null,null,null,null,null,null,"","","","","","",null,"",0,0,0,0,0,0,0,0,null,0,0,0,0,0,0,0,0,0,0,0,0,0,0,0,0,0,0,0,0,0]
[{"$f":"IF(Wetland_Inventory!A53<>\"\",Wetland_Inventory!A53,\"\")","v":""},{"$f":"IF(Wetland_Inventory!B53<>\"\",Wetland_Inventory!B53,\"\")","v":""},{"$f":"IF(Wetland_Inventory!C53<>\"\",Wetland_Inventory!C53,\"\")","v":""},{"$f":"IF(Wetland_Inventory!D53<>\"\",Wetland_Inventory!D53,\"\")","v":""},{"$f":"IF(Wetland_Inventory!E53<>\"\",Wetland_Inventory!E53,\"\")","v":""},null,null,null,null,null,null,"","",null,null,null,null,null,null,null,null,null,null,null,null,null,null,"","","","","","",null,"",0,0,0,0,0,0,0,0,null,0,0,0,0,0,0,0,0,0,0,0,0,0,0,0,0,0,0,0,0,0]
[{"$f":"IF(Wetland_Inventory!A54<>\"\",Wetland_Inventory!A54,\"\")","v":""},{"$f":"IF(Wetland_Inventory!B54<>\"\",Wetland_Inventory!B54,\"\")","v":""},{"$f":"IF(Wetland_Inventory!C54<>\"\",Wetland_Inventory!C54,\"\")","v":""},{"$f":"IF(Wetland_Inventory!D54<>\"\",Wetland_Inventory!D54,\"\")","v":""},{"$f":"IF(Wetland_Inventory!E54<>\"\",Wetland_Inventory!E54,\"\")","v":""},null,null,null,null,null,null,"","",null,null,null,null,null,null,null,null,null,null,null,null,null,null,"","","","","","",null,"",0,0,0,0,0,0,0,0,null,0,0,0,0,0,0,0,0,0,0,0,0,0,0,0,0,0,0,0,0,0]
[{"$f":"IF(Wetland_Inventory!A55<>\"\",Wetland_Inventory!A55,\"\")","v":""},{"$f":"IF(Wetland_Inventory!B55<>\"\",Wetland_Inventory!B55,\"\")","v":""},{"$f":"IF(Wetland_Inventory!C55<>\"\",Wetland_Inventory!C55,\"\")","v":""},{"$f":"IF(Wetland_Inventory!D55<>\"\",Wetland_Inventory!D55,\"\")","v":""},{"$f":"IF(Wetland_Inventory!E55<>\"\",Wetland_Inventory!E55,\"\")","v":""},null,null,null,null,null,null,"","",null,null,null,null,null,null,null,null,null,null,null,null,null,null,"","","","","","",null,"",0,0,0,0,0,0,0,0,null,0,0,0,0,0,0,0,0,0,0,0,0,0,0,0,0,0,0,0,0,0]
[{"$f":"IF(Wetland_Inventory!A56<>\"\",Wetland_Inventory!A56,\"\")","v":""},{"$f":"IF(Wetland_Inventory!B56<>\"\",Wetland_Inventory!B56,\"\")","v":""},{"$f":"IF(Wetland_Inventory!C56<>\"\",Wetland_Inventory!C56,\"\")","v":""},{"$f":"IF(Wetland_Inventory!D56<>\"\",Wetland_Inventory!D56,\"\")","v":""},{"$f":"IF(Wetland_Inventory!E56<>\"\",Wetland_Inventory!E56,\"\")","v":""},null,null,null,null,null,null,"","",null,null,null,null,null,null,null,null,null,null,null,null,null,null,"","","","","","",null,"",0,0,0,0,0,0,0,0,null,0,0,0,0,0,0,0,0,0,0,0,0,0,0,0,0,0,0,0,0,0]
[{"$f":"IF(Wetland_Inventory!A57<>\"\",Wetland_Inventory!A57,\"\")","v":""},{"$f":"IF(Wetland_Inventory!B57<>\"\",Wetland_Inventory!B57,\"\")","v":""},{"$f":"IF(Wetland_Inventory!C57<>\"\",Wetland_Inventory!C57,\"\")","v":""},{"$f":"IF(Wetland_Inventory!D57<>\"\",Wetland_Inventory!D57,\"\")","v":""},{"$f":"IF(Wetland_Inventory!E57<>\"\",Wetland_Inventory!E57,\"\")","v":""},null,null,null,null,null,null,"","",null,null,null,null,null,null,null,null,null,null,null,null,null,null,"","","","","","",null,"",0,0,0,0,0,0,0,0,null,0,0,0,0,0,0,0,0,0,0,0,0,0,0,0,0,0,0,0,0,0]
[{"$f":"IF(Wetland_Inventory!A58<>\"\",Wetland_Inventory!A58,\"\")","v":""},{"$f":"IF(Wetland_Inventory!B58<>\"\",Wetland_Inventory!B58,\"\")","v":""},{"$f":"IF(Wetland_Inventory!C58<>\"\",Wetland_Inventory!C58,\"\")","v":""},{"$f":"IF(Wetland_Inventory!D58<>\"\",Wetland_Inventory!D58,\"\")","v":""},{"$f":"IF(Wetland_Inventory!E58<>\"\",Wetland_Inventory!E58,\"\")","v":""},null,null,null,null,null,null,"","",null,null,null,null,null,null,null,null,null,null,null,null,null,null,"","","","","","",null,"",0,0,0,0,0,0,0,0,null,0,0,0,0,0,0,0,0,0,0,0,0,0,0,0,0,0,0,0,0,0]
[{"$f":"IF(Wetland_Inventory!A59<>\"\",Wetland_Inventory!A59,\"\")","v":""},{"$f":"IF(Wetland_Inventory!B59<>\"\",Wetland_Inventory!B59,\"\")","v":""},{"$f":"IF(Wetland_Inventory!C59<>\"\",Wetland_Inventory!C59,\"\")","v":""},{"$f":"IF(Wetland_Inventory!D59<>\"\",Wetland_Inventory!D59,\"\")","v":""},{"$f":"IF(Wetland_Inventory!E59<>\"\",Wetland_Inventory!E59,\"\")","v":""},null,null,null,null,null,null,"","",null,null,null,null,null,null,null,null,null,null,null,null,null,null,"","","","","","",null,"",0,0,0,0,0,0,0,0,null,0,0,0,0,0,0,0,0,0,0,0,0,0,0,0,0,0,0,0,0,0]
[{"$f":"IF(Wetland_Inventory!A60<>\"\",Wetland_Inventory!A60,\"\")","v":""},{"$f":"IF(Wetland_Inventory!B60<>\"\",Wetland_Inventory!B60,\"\")","v":""},{"$f":"IF(Wetland_Inventory!C60<>\"\",Wetland_Inventory!C60,\"\")","v":""},{"$f":"IF(Wetland_Inventory!D60<>\"\",Wetland_Inventory!D60,\"\")","v":""},{"$f":"IF(Wetland_Inventory!E60<>\"\",Wetland_Inventory!E60,\"\")","v":""},null,null,null,null,null,null,"","",null,null,null,null,null,null,null,null,null,null,null,null,null,null,"","","","","","",null,"",0,0,0,0,0,0,0,0,null,0,0,0,0,0,0,0,0,0,0,0,0,0,0,0,0,0,0,0,0,0]
[{"$f":"IF(Wetland_Inventory!A61<>\"\",Wetland_Inventory!A61,\"\")","v":""},{"$f":"IF(Wetland_Inventory!B61<>\"\",Wetland_Inventory!B61,\"\")","v":""},{"$f":"IF(Wetland_Inventory!C61<>\"\",Wetland_Inventory!C61,\"\")","v":""},{"$f":"IF(Wetland_Inventory!D61<>\"\",Wetland_Inventory!D61,\"\")","v":""},{"$f":"IF(Wetland_Inventory!E61<>\"\",Wetland_Inventory!E61,\"\")","v":""},null,null,null,null,null,null,"","",null,null,null,null,null,null,null,null,null,null,null,null,null,null,"","","","","","",null,"",0,0,0,0,0,0,0,0,null,0,0,0,0,0,0,0,0,0,0,0,0,0,0,0,0,0,0,0,0,0]
[{"$f":"IF(Wetland_Inventory!A62<>\"\",Wetland_Inventory!A62,\"\")","v":""},{"$f":"IF(Wetland_Inventory!B62<>\"\",Wetland_Inventory!B62,\"\")","v":""},{"$f":"IF(Wetland_Inventory!C62<>\"\",Wetland_Inventory!C62,\"\")","v":""},{"$f":"IF(Wetland_Inventory!D62<>\"\",Wetland_Inventory!D62,\"\")","v":""},{"$f":"IF(Wetland_Inventory!E62<>\"\",Wetland_Inventory!E62,\"\")","v":""},null,null,null,null,null,null,"","",null,null,null,null,null,null,null,null,null,null,null,null,null,null,"","","","","","",null,"",0,0,0,0,0,0,0,0,null,0,0,0,0,0,0,0,0,0,0,0,0,0,0,0,0,0,0,0,0,0]
[{"$f":"IF(Wetland_Inventory!A63<>\"\",Wetland_Inventory!A63,\"\")","v":""},{"$f":"IF(Wetland_Inventory!B63<>\"\",Wetland_Inventory!B63,\"\")","v":""},{"$f":"IF(Wetland_Inventory!C63<>\"\",Wetland_Inventory!C63,\"\")","v":""},{"$f":"IF(Wetland_Inventory!D63<>\"\",Wetland_Inventory!D63,\"\")","v":""},{"$f":"IF(Wetland_Inventory!E63<>\"\",Wetland_Inventory!E63,\"\")","v":""},null,null,null,null,null,null,"","",null,null,null,null,null,null,null,null,null,null,null,null,null,null,"","","","","","",null,"",0,0,0,0,0,0,0,0,null,{"$f":"IF($AB68=AS$18,$AC68,0)","v":0},0,0,0,0,0,0,{"$f":"IF($AD68=AZ$18,$AE68,0)","v":0},0,0,0,0,0,0,{"$f":"IF($AF68=BG$18,$AG68,0)","v":0},0,0,0,0,0,0]
[{"$f":"IF(Wetland_Inventory!A64<>\"\",Wetland_Inventory!A64,\"\")","v":""},{"$f":"IF(Wetland_Inventory!B64<>\"\",Wetland_Inventory!B64,\"\")","v":""},{"$f":"IF(Wetland_Inventory!C64<>\"\",Wetland_Inventory!C64,\"\")","v":""},{"$f":"IF(Wetland_Inventory!D64<>\"\",Wetland_Inventory!D64,\"\")","v":""},{"$f":"IF(Wetland_Inventory!E64<>\"\",Wetland_Inventory!E64,\"\")","v":""},null,null,null,null,null,null,"","",null,null,null,null,null,null,null,null,null,null,null,null,null,null,"","","","","","",null,"",0,0,0,0,0,0,0,0,null,0,0,0,0,0,0,0,0,0,0,0,0,0,0,0,0,0,0,0,0,0]
[{"$f":"IF(Wetland_Inventory!A65<>\"\",Wetland_Inventory!A65,\"\")","v":""},{"$f":"IF(Wetland_Inventory!B65<>\"\",Wetland_Inventory!B65,\"\")","v":""},{"$f":"IF(Wetland_Inventory!C65<>\"\",Wetland_Inventory!C65,\"\")","v":""},{"$f":"IF(Wetland_Inventory!D65<>\"\",Wetland_Inventory!D65,\"\")","v":""},{"$f":"IF(Wetland_Inventory!E65<>\"\",Wetland_Inventory!E65,\"\")","v":""},null,null,null,null,null,null,"","",null,null,null,null,null,null,null,null,null,null,null,null,null,null,"","","","","","",null,"",0,0,0,0,0,0,0,0,null,0,0,0,0,0,0,0,0,0,0,0,0,0,0,0,0,0,0,0,0,0]
[{"$f":"IF(Wetland_Inventory!A66<>\"\",Wetland_Inventory!A66,\"\")","v":""},{"$f":"IF(Wetland_Inventory!B66<>\"\",Wetland_Inventory!B66,\"\")","v":""},{"$f":"IF(Wetland_Inventory!C66<>\"\",Wetland_Inventory!C66,\"\")","v":""},{"$f":"IF(Wetland_Inventory!D66<>\"\",Wetland_Inventory!D66,\"\")","v":""},{"$f":"IF(Wetland_Inventory!E66<>\"\",Wetland_Inventory!E66,\"\")","v":""},null,null,null,null,null,null,"","",null,null,null,null,null,null,null,null,null,null,null,null,null,null,"","","","","","",null,"",0,0,0,0,0,0,0,0,null,0,0,0,0,0,0,0,0,0,0,0,0,0,0,0,0,0,0,0,0,0]
[{"$f":"IF(Wetland_Inventory!A67<>\"\",Wetland_Inventory!A67,\"\")","v":""},{"$f":"IF(Wetland_Inventory!B67<>\"\",Wetland_Inventory!B67,\"\")","v":""},{"$f":"IF(Wetland_Inventory!C67<>\"\",Wetland_Inventory!C67,\"\")","v":""},{"$f":"IF(Wetland_Inventory!D67<>\"\",Wetland_Inventory!D67,\"\")","v":""},{"$f":"IF(Wetland_Inventory!E67<>\"\",Wetland_Inventory!E67,\"\")","v":""},null,null,null,null,null,null,"","",null,null,null,null,null,null,null,null,null,null,null,null,null,null,"","","","","","",null,"",0,0,0,0,0,0,0,0,null,0,0,0,0,0,0,0,0,0,0,0,0,0,0,0,0,0,0,0,0,0]
[{"$f":"IF(Wetland_Inventory!A68<>\"\",Wetland_Inventory!A68,\"\")","v":""},{"$f":"IF(Wetland_Inventory!B68<>\"\",Wetland_Inventory!B68,\"\")","v":""},{"$f":"IF(Wetland_Inventory!C68<>\"\",Wetland_Inventory!C68,\"\")","v":""},{"$f":"IF(Wetland_Inventory!D68<>\"\",Wetland_Inventory!D68,\"\")","v":""},{"$f":"IF(Wetland_Inventory!E68<>\"\",Wetland_Inventory!E68,\"\")","v":""},null,null,null,null,null,null,"","",null,null,null,null,null,null,null,null,null,null,null,null,null,null,"","","","","","",null,"",0,0,0,0,0,0,0,0,null,0,0,0,0,0,0,0,0,0,0,0,0,0,0,0,0,0,0,0,0,0]
[{"$f":"IF(Wetland_Inventory!A69<>\"\",Wetland_Inventory!A69,\"\")","v":""},{"$f":"IF(Wetland_Inventory!B69<>\"\",Wetland_Inventory!B69,\"\")","v":""},{"$f":"IF(Wetland_Inventory!C69<>\"\",Wetland_Inventory!C69,\"\")","v":""},{"$f":"IF(Wetland_Inventory!D69<>\"\",Wetland_Inventory!D69,\"\")","v":""},{"$f":"IF(Wetland_Inventory!E69<>\"\",Wetland_Inventory!E69,\"\")","v":""},null,null,null,null,null,null,"","",null,null,null,null,null,null,null,null,null,null,null,null,null,null,"","","","","","",null,"",0,0,0,0,0,0,0,0,null,0,0,0,0,0,0,0,0,0,0,0,0,0,0,0,0,0,0,0,0,0]
[{"$f":"IF(Wetland_Inventory!A70<>\"\",Wetland_Inventory!A70,\"\")","v":""},{"$f":"IF(Wetland_Inventory!B70<>\"\",Wetland_Inventory!B70,\"\")","v":""},{"$f":"IF(Wetland_Inventory!C70<>\"\",Wetland_Inventory!C70,\"\")","v":""},{"$f":"IF(Wetland_Inventory!D70<>\"\",Wetland_Inventory!D70,\"\")","v":""},{"$f":"IF(Wetland_Inventory!E70<>\"\",Wetland_Inventory!E70,\"\")","v":""},null,null,null,null,null,null,"","",null,null,null,null,null,null,null,null,null,null,null,null,null,null,"","","","","","",null,"",0,0,0,0,0,0,0,0,null,0,0,0,0,0,0,0,0,0,0,0,0,0,0,0,0,0,0,0,0,0]
[{"$f":"IF(Wetland_Inventory!A71<>\"\",Wetland_Inventory!A71,\"\")","v":""},{"$f":"IF(Wetland_Inventory!B71<>\"\",Wetland_Inventory!B71,\"\")","v":""},{"$f":"IF(Wetland_Inventory!C71<>\"\",Wetland_Inventory!C71,\"\")","v":""},{"$f":"IF(Wetland_Inventory!D71<>\"\",Wetland_Inventory!D71,\"\")","v":""},{"$f":"IF(Wetland_Inventory!E71<>\"\",Wetland_Inventory!E71,\"\")","v":""},null,null,null,null,null,null,"","",null,null,null,null,null,null,null,null,null,null,null,null,null,null,"","","","","","",null,"",0,0,0,0,0,0,0,0,null,0,0,0,0,0,0,0,0,0,0,0,0,0,0,0,0,0,0,0,0,0]
[{"$f":"IF(Wetland_Inventory!A72<>\"\",Wetland_Inventory!A72,\"\")","v":""},{"$f":"IF(Wetland_Inventory!B72<>\"\",Wetland_Inventory!B72,\"\")","v":""},{"$f":"IF(Wetland_Inventory!C72<>\"\",Wetland_Inventory!C72,\"\")","v":""},{"$f":"IF(Wetland_Inventory!D72<>\"\",Wetland_Inventory!D72,\"\")","v":""},{"$f":"IF(Wetland_Inventory!E72<>\"\",Wetland_Inventory!E72,\"\")","v":""},null,null,null,null,null,null,"","",null,null,null,null,null,null,null,null,null,null,null,null,null,null,"","","","","","",null,"",0,0,0,0,0,0,0,0,null,0,0,0,0,0,0,0,0,0,0,0,0,0,0,0,0,0,0,0,0,0]
[{"$f":"IF(Wetland_Inventory!A73<>\"\",Wetland_Inventory!A73,\"\")","v":""},{"$f":"IF(Wetland_Inventory!B73<>\"\",Wetland_Inventory!B73,\"\")","v":""},{"$f":"IF(Wetland_Inventory!C73<>\"\",Wetland_Inventory!C73,\"\")","v":""},{"$f":"IF(Wetland_Inventory!D73<>\"\",Wetland_Inventory!D73,\"\")","v":""},{"$f":"IF(Wetland_Inventory!E73<>\"\",Wetland_Inventory!E73,\"\")","v":""},null,null,null,null,null,null,"","",null,null,null,null,null,null,null,null,null,null,null,null,null,null,"","","","","","",null,"",0,0,0,0,0,0,0,0,null,0,0,0,0,0,0,0,0,0,0,0,0,0,0,0,0,0,0,0,0,0]
[{"$f":"IF(Wetland_Inventory!A74<>\"\",Wetland_Inventory!A74,\"\")","v":""},{"$f":"IF(Wetland_Inventory!B74<>\"\",Wetland_Inventory!B74,\"\")","v":""},{"$f":"IF(Wetland_Inventory!C74<>\"\",Wetland_Inventory!C74,\"\")","v":""},{"$f":"IF(Wetland_Inventory!D74<>\"\",Wetland_Inventory!D74,\"\")","v":""},{"$f":"IF(Wetland_Inventory!E74<>\"\",Wetland_Inventory!E74,\"\")","v":""},null,null,null,null,null,null,"","",null,null,null,null,null,null,null,null,null,null,null,null,null,null,"","","","","","",null,"",0,0,0,0,0,0,0,0,null,0,0,0,0,0,0,0,0,0,0,0,0,0,0,0,0,0,0,0,0,0]
[{"$f":"IF(Wetland_Inventory!A75<>\"\",Wetland_Inventory!A75,\"\")","v":""},{"$f":"IF(Wetland_Inventory!B75<>\"\",Wetland_Inventory!B75,\"\")","v":""},{"$f":"IF(Wetland_Inventory!C75<>\"\",Wetland_Inventory!C75,\"\")","v":""},{"$f":"IF(Wetland_Inventory!D75<>\"\",Wetland_Inventory!D75,\"\")","v":""},{"$f":"IF(Wetland_Inventory!E75<>\"\",Wetland_Inventory!E75,\"\")","v":""},null,null,null,null,null,null,"","",null,null,null,null,null,null,null,null,null,null,null,null,null,null,"","","","","","",null,"",0,0,0,0,0,0,0,0,null,0,0,0,0,0,0,0,0,0,0,0,0,0,0,0,0,0,0,0,0,0]
[{"$f":"IF(Wetland_Inventory!A76<>\"\",Wetland_Inventory!A76,\"\")","v":""},{"$f":"IF(Wetland_Inventory!B76<>\"\",Wetland_Inventory!B76,\"\")","v":""},{"$f":"IF(Wetland_Inventory!C76<>\"\",Wetland_Inventory!C76,\"\")","v":""},{"$f":"IF(Wetland_Inventory!D76<>\"\",Wetland_Inventory!D76,\"\")","v":""},{"$f":"IF(Wetland_Inventory!E76<>\"\",Wetland_Inventory!E76,\"\")","v":""},null,null,null,null,null,null,"","",null,null,null,null,null,null,null,null,null,null,null,null,null,null,"","","","","","",null,"",0,0,0,0,0,0,0,0,null,0,0,0,0,0,0,0,0,0,0,0,0,0,0,0,0,0,0,0,0,0]
[{"$f":"IF(Wetland_Inventory!A77<>\"\",Wetland_Inventory!A77,\"\")","v":""},{"$f":"IF(Wetland_Inventory!B77<>\"\",Wetland_Inventory!B77,\"\")","v":""},{"$f":"IF(Wetland_Inventory!C77<>\"\",Wetland_Inventory!C77,\"\")","v":""},{"$f":"IF(Wetland_Inventory!D77<>\"\",Wetland_Inventory!D77,\"\")","v":""},{"$f":"IF(Wetland_Inventory!E77<>\"\",Wetland_Inventory!E77,\"\")","v":""},null,null,null,null,null,null,"","",null,null,null,null,null,null,null,null,null,null,null,null,null,null,"","","","","","",null,"",0,0,0,0,0,0,0,0,null,0,0,0,0,0,0,0,0,0,0,0,0,0,0,0,0,0,0,0,0,0]
[{"$f":"IF(Wetland_Inventory!A78<>\"\",Wetland_Inventory!A78,\"\")","v":""},{"$f":"IF(Wetland_Inventory!B78<>\"\",Wetland_Inventory!B78,\"\")","v":""},{"$f":"IF(Wetland_Inventory!C78<>\"\",Wetland_Inventory!C78,\"\")","v":""},{"$f":"IF(Wetland_Inventory!D78<>\"\",Wetland_Inventory!D78,\"\")","v":""},{"$f":"IF(Wetland_Inventory!E78<>\"\",Wetland_Inventory!E78,\"\")","v":""},null,null,null,null,null,null,"","",null,null,null,null,null,null,null,null,null,null,null,null,null,null,"","","","","","",null,"",0,0,0,0,0,0,0,0,null,0,0,0,0,0,0,0,0,0,0,0,0,0,0,0,0,0,0,0,0,0]
[{"$f":"IF(Wetland_Inventory!A79<>\"\",Wetland_Inventory!A79,\"\")","v":""},{"$f":"IF(Wetland_Inventory!B79<>\"\",Wetland_Inventory!B79,\"\")","v":""},{"$f":"IF(Wetland_Inventory!C79<>\"\",Wetland_Inventory!C79,\"\")","v":""},{"$f":"IF(Wetland_Inventory!D79<>\"\",Wetland_Inventory!D79,\"\")","v":""},{"$f":"IF(Wetland_Inventory!E79<>\"\",Wetland_Inventory!E79,\"\")","v":""},null,null,null,null,null,null,{"$f":"IF(A84=\"\",\"\",G84+I84+K84)","v":""},{"$f":"IF(A84=\"\",\"\",B84-L84)","v":""},null,null,null,null,null,null,null,null,null,null,null,null,null,null,{"$f":"IF(ISNA(VLOOKUP(F84,$C$5:$D$14,2,FALSE)),\"\",VLOOKUP(F84,$C$5:$D$14,2,FALSE))","v":""},{"$f":"IF(AB84<>\"\",G84,\"\")","v":""},{"$f":"IF(ISNA(VLOOKUP(H84,$C$5:$D$14,2,FALSE)),\"\",VLOOKUP(H84,$C$5:$D$14,2,FALSE))","v":""},{"$f":"IF(AD84<>\"\",I84,\"\")","v":""},{"$f":"IF(ISNA(VLOOKUP(J84,$C$5:$D$14,2,FALSE)),\"\",VLOOKUP(J84,$C$5:$D$14,2,FALSE))","v":""},{"$f":"IF(AF84<>\"\",K84,\"\")","v":""},null,{"$f":"IF(C84<>\"\",C84,\"\")","v":""},{"$f":"AS84+AZ84+BG84","v":0},0,0,0,0,0,0,{"$f":"SUM(AJ84:AP84)","v":0},null,0,0,0,0,0,0,0,0,0,0,0,0,0,0,0,0,0,0,0,0,0]
[{"$f":"IF(Wetland_Inventory!A80<>\"\",Wetland_Inventory!A80,\"\")","v":""},{"$f":"IF(Wetland_Inventory!B80<>\"\",Wetland_Inventory!B80,\"\")","v":""},{"$f":"IF(Wetland_Inventory!C80<>\"\",Wetland_Inventory!C80,\"\")","v":""},{"$f":"IF(Wetland_Inventory!D80<>\"\",Wetland_Inventory!D80,\"\")","v":""},{"$f":"IF(Wetland_Inventory!E80<>\"\",Wetland_Inventory!E80,\"\")","v":""},null,null,null,null,null,null,"","",null,null,null,null,null,null,null,null,null,null,null,null,null,null,"","","","","","",null,"",0,0,0,0,0,0,0,0,null,0,0,0,0,0,0,0,0,0,0,0,0,0,0,0,0,0,0,0,0,0]
[{"$f":"IF(Wetland_Inventory!A81<>\"\",Wetland_Inventory!A81,\"\")","v":""},{"$f":"IF(Wetland_Inventory!B81<>\"\",Wetland_Inventory!B81,\"\")","v":""},{"$f":"IF(Wetland_Inventory!C81<>\"\",Wetland_Inventory!C81,\"\")","v":""},{"$f":"IF(Wetland_Inventory!D81<>\"\",Wetland_Inventory!D81,\"\")","v":""},{"$f":"IF(Wetland_Inventory!E81<>\"\",Wetland_Inventory!E81,\"\")","v":""},null,null,null,null,null,null,"","",null,null,null,null,null,null,null,null,null,null,null,null,null,null,"","","","","","",null,"",0,0,0,0,0,0,0,0,null,0,0,0,0,0,0,0,0,0,0,0,0,0,0,0,0,0,0,0,0,0]
[{"$f":"IF(Wetland_Inventory!A82<>\"\",Wetland_Inventory!A82,\"\")","v":""},{"$f":"IF(Wetland_Inventory!B82<>\"\",Wetland_Inventory!B82,\"\")","v":""},{"$f":"IF(Wetland_Inventory!C82<>\"\",Wetland_Inventory!C82,\"\")","v":""},{"$f":"IF(Wetland_Inventory!D82<>\"\",Wetland_Inventory!D82,\"\")","v":""},{"$f":"IF(Wetland_Inventory!E82<>\"\",Wetland_Inventory!E82,\"\")","v":""},null,null,null,null,null,null,"","",null,null,null,null,null,null,null,null,null,null,null,null,null,null,"","","","","","",null,"",0,0,0,0,0,0,0,0,null,0,0,0,0,0,0,0,0,0,0,0,0,0,0,0,0,0,0,0,0,0]
[{"$f":"IF(Wetland_Inventory!A83<>\"\",Wetland_Inventory!A83,\"\")","v":""},{"$f":"IF(Wetland_Inventory!B83<>\"\",Wetland_Inventory!B83,\"\")","v":""},{"$f":"IF(Wetland_Inventory!C83<>\"\",Wetland_Inventory!C83,\"\")","v":""},{"$f":"IF(Wetland_Inventory!D83<>\"\",Wetland_Inventory!D83,\"\")","v":""},{"$f":"IF(Wetland_Inventory!E83<>\"\",Wetland_Inventory!E83,\"\")","v":""},null,null,null,null,null,null,"","",null,null,null,null,null,null,null,null,null,null,null,null,null,null,"","","","","","",null,"",0,0,0,0,0,0,0,0,null,0,0,0,0,0,0,0,0,0,0,0,0,0,0,0,0,0,0,0,0,0]
[{"$f":"IF(Wetland_Inventory!A84<>\"\",Wetland_Inventory!A84,\"\")","v":""},{"$f":"IF(Wetland_Inventory!B84<>\"\",Wetland_Inventory!B84,\"\")","v":""},{"$f":"IF(Wetland_Inventory!C84<>\"\",Wetland_Inventory!C84,\"\")","v":""},{"$f":"IF(Wetland_Inventory!D84<>\"\",Wetland_Inventory!D84,\"\")","v":""},{"$f":"IF(Wetland_Inventory!E84<>\"\",Wetland_Inventory!E84,\"\")","v":""},null,null,null,null,null,null,"","",null,null,null,null,null,null,null,null,null,null,null,null,null,null,"","","","","","",null,"",0,0,0,0,0,0,0,0,null,0,0,0,0,0,0,0,0,0,0,0,0,0,0,0,0,0,0,0,0,0]
[{"$f":"IF(Wetland_Inventory!A85<>\"\",Wetland_Inventory!A85,\"\")","v":""},{"$f":"IF(Wetland_Inventory!B85<>\"\",Wetland_Inventory!B85,\"\")","v":""},{"$f":"IF(Wetland_Inventory!C85<>\"\",Wetland_Inventory!C85,\"\")","v":""},{"$f":"IF(Wetland_Inventory!D85<>\"\",Wetland_Inventory!D85,\"\")","v":""},{"$f":"IF(Wetland_Inventory!E85<>\"\",Wetland_Inventory!E85,\"\")","v":""},null,null,null,null,null,null,"","",null,null,null,null,null,null,null,null,null,null,null,null,null,null,"","","","","","",null,"",0,0,0,0,0,0,0,0,null,0,0,0,0,0,0,0,0,0,0,0,0,0,0,0,0,0,0,0,0,0]
[{"$f":"IF(Wetland_Inventory!A86<>\"\",Wetland_Inventory!A86,\"\")","v":""},{"$f":"IF(Wetland_Inventory!B86<>\"\",Wetland_Inventory!B86,\"\")","v":""},{"$f":"IF(Wetland_Inventory!C86<>\"\",Wetland_Inventory!C86,\"\")","v":""},{"$f":"IF(Wetland_Inventory!D86<>\"\",Wetland_Inventory!D86,\"\")","v":""},{"$f":"IF(Wetland_Inventory!E86<>\"\",Wetland_Inventory!E86,\"\")","v":""},null,null,null,null,null,null,"","",null,null,null,null,null,null,null,null,null,null,null,null,null,null,"","","","","","",null,"",0,0,0,0,0,0,0,0,null,0,0,0,0,0,0,0,0,0,0,0,0,0,0,0,0,0,0,0,0,0]
[{"$f":"IF(Wetland_Inventory!A87<>\"\",Wetland_Inventory!A87,\"\")","v":""},{"$f":"IF(Wetland_Inventory!B87<>\"\",Wetland_Inventory!B87,\"\")","v":""},{"$f":"IF(Wetland_Inventory!C87<>\"\",Wetland_Inventory!C87,\"\")","v":""},{"$f":"IF(Wetland_Inventory!D87<>\"\",Wetland_Inventory!D87,\"\")","v":""},{"$f":"IF(Wetland_Inventory!E87<>\"\",Wetland_Inventory!E87,\"\")","v":""},null,null,null,null,null,null,"","",null,null,null,null,null,null,null,null,null,null,null,null,null,null,"","","","","","",null,"",0,0,0,0,0,0,0,0,null,0,0,0,0,0,0,0,0,0,0,0,0,0,0,0,0,0,0,0,0,0]
[{"$f":"IF(Wetland_Inventory!A88<>\"\",Wetland_Inventory!A88,\"\")","v":""},{"$f":"IF(Wetland_Inventory!B88<>\"\",Wetland_Inventory!B88,\"\")","v":""},{"$f":"IF(Wetland_Inventory!C88<>\"\",Wetland_Inventory!C88,\"\")","v":""},{"$f":"IF(Wetland_Inventory!D88<>\"\",Wetland_Inventory!D88,\"\")","v":""},{"$f":"IF(Wetland_Inventory!E88<>\"\",Wetland_Inventory!E88,\"\")","v":""},null,null,null,null,null,null,"","",null,null,null,null,null,null,null,null,null,null,null,null,null,null,"","","","","","",null,"",0,0,0,0,0,0,0,0,null,0,0,0,0,0,0,0,0,0,0,0,0,0,0,0,0,0,0,0,0,0]
[{"$f":"IF(Wetland_Inventory!A89<>\"\",Wetland_Inventory!A89,\"\")","v":""},{"$f":"IF(Wetland_Inventory!B89<>\"\",Wetland_Inventory!B89,\"\")","v":""},{"$f":"IF(Wetland_Inventory!C89<>\"\",Wetland_Inventory!C89,\"\")","v":""},{"$f":"IF(Wetland_Inventory!D89<>\"\",Wetland_Inventory!D89,\"\")","v":""},{"$f":"IF(Wetland_Inventory!E89<>\"\",Wetland_Inventory!E89,\"\")","v":""},null,null,null,null,null,null,"","",null,null,null,null,null,null,null,null,null,null,null,null,null,null,"","","","","","",null,"",0,0,0,0,0,0,0,0,null,0,0,0,0,0,0,0,0,0,0,0,0,0,0,0,0,0,0,0,0,0]
[{"$f":"IF(Wetland_Inventory!A90<>\"\",Wetland_Inventory!A90,\"\")","v":""},{"$f":"IF(Wetland_Inventory!B90<>\"\",Wetland_Inventory!B90,\"\")","v":""},{"$f":"IF(Wetland_Inventory!C90<>\"\",Wetland_Inventory!C90,\"\")","v":""},{"$f":"IF(Wetland_Inventory!D90<>\"\",Wetland_Inventory!D90,\"\")","v":""},{"$f":"IF(Wetland_Inventory!E90<>\"\",Wetland_Inventory!E90,\"\")","v":""},null,null,null,null,null,null,"","",null,null,null,null,null,null,null,null,null,null,null,null,null,null,"","","","","","",null,"",0,0,0,0,0,0,0,0,null,0,0,0,0,0,0,0,0,0,0,0,0,0,0,0,0,0,0,0,0,0]
[{"$f":"IF(Wetland_Inventory!A91<>\"\",Wetland_Inventory!A91,\"\")","v":""},{"$f":"IF(Wetland_Inventory!B91<>\"\",Wetland_Inventory!B91,\"\")","v":""},{"$f":"IF(Wetland_Inventory!C91<>\"\",Wetland_Inventory!C91,\"\")","v":""},{"$f":"IF(Wetland_Inventory!D91<>\"\",Wetland_Inventory!D91,\"\")","v":""},{"$f":"IF(Wetland_Inventory!E91<>\"\",Wetland_Inventory!E91,\"\")","v":""},null,null,null,null,null,null,"","",null,null,null,null,null,null,null,null,null,null,null,null,null,null,"","","","","","",null,"",0,0,0,0,0,0,0,0,null,0,0,0,0,0,0,0,0,0,0,0,0,0,0,0,0,0,0,0,0,0]
[{"$f":"IF(Wetland_Inventory!A92<>\"\",Wetland_Inventory!A92,\"\")","v":""},{"$f":"IF(Wetland_Inventory!B92<>\"\",Wetland_Inventory!B92,\"\")","v":""},{"$f":"IF(Wetland_Inventory!C92<>\"\",Wetland_Inventory!C92,\"\")","v":""},{"$f":"IF(Wetland_Inventory!D92<>\"\",Wetland_Inventory!D92,\"\")","v":""},{"$f":"IF(Wetland_Inventory!E92<>\"\",Wetland_Inventory!E92,\"\")","v":""},null,null,null,null,null,null,"","",null,null,null,null,null,null,null,null,null,null,null,null,null,null,"","","","","","",null,"",0,0,0,0,0,0,0,0,null,0,0,0,0,0,0,0,0,0,0,0,0,0,0,0,0,0,0,0,0,0]
[{"$f":"IF(Wetland_Inventory!A93<>\"\",Wetland_Inventory!A93,\"\")","v":""},{"$f":"IF(Wetland_Inventory!B93<>\"\",Wetland_Inventory!B93,\"\")","v":""},{"$f":"IF(Wetland_Inventory!C93<>\"\",Wetland_Inventory!C93,\"\")","v":""},{"$f":"IF(Wetland_Inventory!D93<>\"\",Wetland_Inventory!D93,\"\")","v":""},{"$f":"IF(Wetland_Inventory!E93<>\"\",Wetland_Inventory!E93,\"\")","v":""},null,null,null,null,null,null,"","",null,null,null,null,null,null,null,null,null,null,null,null,null,null,"","","","","","",null,"",0,0,0,0,0,0,0,0,null,0,0,0,0,0,0,0,0,0,0,0,0,0,0,0,0,0,0,0,0,0]
[{"$f":"IF(Wetland_Inventory!A94<>\"\",Wetland_Inventory!A94,\"\")","v":""},{"$f":"IF(Wetland_Inventory!B94<>\"\",Wetland_Inventory!B94,\"\")","v":""},{"$f":"IF(Wetland_Inventory!C94<>\"\",Wetland_Inventory!C94,\"\")","v":""},{"$f":"IF(Wetland_Inventory!D94<>\"\",Wetland_Inventory!D94,\"\")","v":""},{"$f":"IF(Wetland_Inventory!E94<>\"\",Wetland_Inventory!E94,\"\")","v":""},null,null,null,null,null,null,"","",null,null,null,null,null,null,null,null,null,null,null,null,null,null,"","","","","","",null,"",0,{"$f":"AT99+BA99+BH99","v":0},{"$f":"AU99+BB99+BI99","v":0},{"$f":"AV99+BC99+BJ99","v":0},{"$f":"AW99+BD99+BK99","v":0},{"$f":"AX99+BE99+BL99","v":0},{"$f":"AY99+BF99+BM99","v":0},0,null,0,0,0,0,0,0,0,0,0,0,0,0,0,0,0,0,0,0,0,0,0]
[{"$f":"IF(Wetland_Inventory!A95<>\"\",Wetland_Inventory!A95,\"\")","v":""},{"$f":"IF(Wetland_Inventory!B95<>\"\",Wetland_Inventory!B95,\"\")","v":""},{"$f":"IF(Wetland_Inventory!C95<>\"\",Wetland_Inventory!C95,\"\")","v":""},{"$f":"IF(Wetland_Inventory!D95<>\"\",Wetland_Inventory!D95,\"\")","v":""},{"$f":"IF(Wetland_Inventory!E95<>\"\",Wetland_Inventory!E95,\"\")","v":""},null,null,null,null,null,null,"","",null,null,null,null,null,null,null,null,null,null,null,null,null,null,"","","","","","",null,"",0,0,0,0,0,0,0,0,null,{"$f":"IF($AB100=AS$18,$AC100,0)","v":0},0,0,0,0,0,0,{"$f":"IF($AD100=AZ$18,$AE100,0)","v":0},0,0,0,0,0,0,{"$f":"IF($AF100=BG$18,$AG100,0)","v":0},0,0,0,0,0,0]
[{"$f":"IF(Wetland_Inventory!A96<>\"\",Wetland_Inventory!A96,\"\")","v":""},{"$f":"IF(Wetland_Inventory!B96<>\"\",Wetland_Inventory!B96,\"\")","v":""},{"$f":"IF(Wetland_Inventory!C96<>\"\",Wetland_Inventory!C96,\"\")","v":""},{"$f":"IF(Wetland_Inventory!D96<>\"\",Wetland_Inventory!D96,\"\")","v":""},{"$f":"IF(Wetland_Inventory!E96<>\"\",Wetland_Inventory!E96,\"\")","v":""},null,null,null,null,null,null,"","",null,null,null,null,null,null,null,null,null,null,null,null,null,null,"","","","","","",null,"",0,0,0,0,0,0,0,0,null,0,0,0,0,0,0,0,0,0,0,0,0,0,0,0,0,0,0,0,0,0]
[{"$f":"IF(Wetland_Inventory!A97<>\"\",Wetland_Inventory!A97,\"\")","v":""},{"$f":"IF(Wetland_Inventory!B97<>\"\",Wetland_Inventory!B97,\"\")","v":""},{"$f":"IF(Wetland_Inventory!C97<>\"\",Wetland_Inventory!C97,\"\")","v":""},{"$f":"IF(Wetland_Inventory!D97<>\"\",Wetland_Inventory!D97,\"\")","v":""},{"$f":"IF(Wetland_Inventory!E97<>\"\",Wetland_Inventory!E97,\"\")","v":""},null,null,null,null,null,null,"","",null,null,null,null,null,null,null,null,null,null,null,null,null,null,"","","","","","",null,"",0,0,0,0,0,0,0,0,null,0,0,0,0,0,0,0,0,0,0,0,0,0,0,0,0,0,0,0,0,0]
[{"$f":"IF(Wetland_Inventory!A98<>\"\",Wetland_Inventory!A98,\"\")","v":""},{"$f":"IF(Wetland_Inventory!B98<>\"\",Wetland_Inventory!B98,\"\")","v":""},{"$f":"IF(Wetland_Inventory!C98<>\"\",Wetland_Inventory!C98,\"\")","v":""},{"$f":"IF(Wetland_Inventory!D98<>\"\",Wetland_Inventory!D98,\"\")","v":""},{"$f":"IF(Wetland_Inventory!E98<>\"\",Wetland_Inventory!E98,\"\")","v":""},null,null,null,null,null,null,"","",null,null,null,null,null,null,null,null,null,null,null,null,null,null,"","","","","","",null,"",0,0,0,0,0,0,0,0,null,0,0,0,0,0,0,0,0,0,0,0,0,0,0,0,0,0,0,0,0,0]
[{"$f":"IF(Wetland_Inventory!A99<>\"\",Wetland_Inventory!A99,\"\")","v":""},{"$f":"IF(Wetland_Inventory!B99<>\"\",Wetland_Inventory!B99,\"\")","v":""},{"$f":"IF(Wetland_Inventory!C99<>\"\",Wetland_Inventory!C99,\"\")","v":""},{"$f":"IF(Wetland_Inventory!D99<>\"\",Wetland_Inventory!D99,\"\")","v":""},{"$f":"IF(Wetland_Inventory!E99<>\"\",Wetland_Inventory!E99,\"\")","v":""},null,null,null,null,null,null,"","",null,null,null,null,null,null,null,null,null,null,null,null,null,null,"","","","","","",null,"",0,0,0,0,0,0,0,0,null,0,0,0,0,0,0,0,0,0,0,0,0,0,0,0,0,0,0,0,0,0]
[{"$f":"IF(Wetland_Inventory!A100<>\"\",Wetland_Inventory!A100,\"\")","v":""},{"$f":"IF(Wetland_Inventory!B100<>\"\",Wetland_Inventory!B100,\"\")","v":""},{"$f":"IF(Wetland_Inventory!C100<>\"\",Wetland_Inventory!C100,\"\")","v":""},{"$f":"IF(Wetland_Inventory!D100<>\"\",Wetland_Inventory!D100,\"\")","v":""},{"$f":"IF(Wetland_Inventory!E100<>\"\",Wetland_Inventory!E100,\"\")","v":""},null,null,null,null,null,null,"","",null,null,null,null,null,null,null,null,null,null,null,null,null,null,"","","","","","",null,"",0,0,0,0,0,0,0,0,null,0,0,0,0,0,0,0,0,0,0,0,0,0,0,0,0,0,0,0,0,0]
[{"$f":"IF(Wetland_Inventory!A101<>\"\",Wetland_Inventory!A101,\"\")","v":""},{"$f":"IF(Wetland_Inventory!B101<>\"\",Wetland_Inventory!B101,\"\")","v":""},{"$f":"IF(Wetland_Inventory!C101<>\"\",Wetland_Inventory!C101,\"\")","v":""},{"$f":"IF(Wetland_Inventory!D101<>\"\",Wetland_Inventory!D101,\"\")","v":""},{"$f":"IF(Wetland_Inventory!E101<>\"\",Wetland_Inventory!E101,\"\")","v":""},null,null,null,null,null,null,"","",null,null,null,null,null,null,null,null,null,null,null,null,null,null,"","","","","","",null,"",0,0,0,0,0,0,0,0,null,0,0,0,0,0,0,0,0,0,0,0,0,0,0,0,0,0,0,0,0,0]
[{"$f":"IF(Wetland_Inventory!A102<>\"\",Wetland_Inventory!A102,\"\")","v":""},{"$f":"IF(Wetland_Inventory!B102<>\"\",Wetland_Inventory!B102,\"\")","v":""},{"$f":"IF(Wetland_Inventory!C102<>\"\",Wetland_Inventory!C102,\"\")","v":""},{"$f":"IF(Wetland_Inventory!D102<>\"\",Wetland_Inventory!D102,\"\")","v":""},{"$f":"IF(Wetland_Inventory!E102<>\"\",Wetland_Inventory!E102,\"\")","v":""},null,null,null,null,null,null,"","",null,null,null,null,null,null,null,null,null,null,null,null,null,null,"","","","","","",null,"",0,0,0,0,0,0,0,0,null,0,0,0,0,0,0,0,0,0,0,0,0,0,0,0,0,0,0,0,0,0]
[{"$f":"IF(Wetland_Inventory!A103<>\"\",Wetland_Inventory!A103,\"\")","v":""},{"$f":"IF(Wetland_Inventory!B103<>\"\",Wetland_Inventory!B103,\"\")","v":""},{"$f":"IF(Wetland_Inventory!C103<>\"\",Wetland_Inventory!C103,\"\")","v":""},{"$f":"IF(Wetland_Inventory!D103<>\"\",Wetland_Inventory!D103,\"\")","v":""},{"$f":"IF(Wetland_Inventory!E103<>\"\",Wetland_Inventory!E103,\"\")","v":""},null,null,null,null,null,null,"","",null,null,null,null,null,null,null,null,null,null,null,null,null,null,"","","","","","",null,"",0,0,0,0,0,0,0,0,null,0,0,0,0,0,0,0,0,0,0,0,0,0,0,0,0,0,0,0,0,0]
[{"$f":"IF(Wetland_Inventory!A104<>\"\",Wetland_Inventory!A104,\"\")","v":""},{"$f":"IF(Wetland_Inventory!B104<>\"\",Wetland_Inventory!B104,\"\")","v":""},{"$f":"IF(Wetland_Inventory!C104<>\"\",Wetland_Inventory!C104,\"\")","v":""},{"$f":"IF(Wetland_Inventory!D104<>\"\",Wetland_Inventory!D104,\"\")","v":""},{"$f":"IF(Wetland_Inventory!E104<>\"\",Wetland_Inventory!E104,\"\")","v":""},null,null,null,null,null,null,"","",null,null,null,null,null,null,null,null,null,null,null,null,null,null,"","","","","","",null,"",0,0,0,0,0,0,0,0,null,0,0,0,0,0,0,0,0,0,0,0,0,0,0,0,0,0,0,0,0,0]
[{"$f":"IF(Wetland_Inventory!A105<>\"\",Wetland_Inventory!A105,\"\")","v":""},{"$f":"IF(Wetland_Inventory!B105<>\"\",Wetland_Inventory!B105,\"\")","v":""},{"$f":"IF(Wetland_Inventory!C105<>\"\",Wetland_Inventory!C105,\"\")","v":""},{"$f":"IF(Wetland_Inventory!D105<>\"\",Wetland_Inventory!D105,\"\")","v":""},{"$f":"IF(Wetland_Inventory!E105<>\"\",Wetland_Inventory!E105,\"\")","v":""},null,null,null,null,null,null,"","",null,null,null,null,null,null,null,null,null,null,null,null,null,null,"","","","","","",null,"",0,0,0,0,0,0,0,0,null,0,0,0,0,0,0,0,0,0,0,0,0,0,0,0,0,0,0,0,0,0]
[{"$f":"IF(Wetland_Inventory!A106<>\"\",Wetland_Inventory!A106,\"\")","v":""},{"$f":"IF(Wetland_Inventory!B106<>\"\",Wetland_Inventory!B106,\"\")","v":""},{"$f":"IF(Wetland_Inventory!C106<>\"\",Wetland_Inventory!C106,\"\")","v":""},{"$f":"IF(Wetland_Inventory!D106<>\"\",Wetland_Inventory!D106,\"\")","v":""},{"$f":"IF(Wetland_Inventory!E106<>\"\",Wetland_Inventory!E106,\"\")","v":""},null,null,null,null,null,null,"","",null,null,null,null,null,null,null,null,null,null,null,null,null,null,"","","","","","",null,"",0,0,0,0,0,0,0,0,null,0,0,0,0,0,0,0,0,0,0,0,0,0,0,0,0,0,0,0,0,0]
[{"$f":"IF(Wetland_Inventory!A107<>\"\",Wetland_Inventory!A107,\"\")","v":""},{"$f":"IF(Wetland_Inventory!B107<>\"\",Wetland_Inventory!B107,\"\")","v":""},{"$f":"IF(Wetland_Inventory!C107<>\"\",Wetland_Inventory!C107,\"\")","v":""},{"$f":"IF(Wetland_Inventory!D107<>\"\",Wetland_Inventory!D107,\"\")","v":""},{"$f":"IF(Wetland_Inventory!E107<>\"\",Wetland_Inventory!E107,\"\")","v":""},null,null,null,null,null,null,"","",null,null,null,null,null,null,null,null,null,null,null,null,null,null,"","","","","","",null,"",0,0,0,0,0,0,0,0,null,0,0,0,0,0,0,0,0,0,0,0,0,0,0,0,0,0,0,0,0,0]
[{"$f":"IF(Wetland_Inventory!A108<>\"\",Wetland_Inventory!A108,\"\")","v":""},{"$f":"IF(Wetland_Inventory!B108<>\"\",Wetland_Inventory!B108,\"\")","v":""},{"$f":"IF(Wetland_Inventory!C108<>\"\",Wetland_Inventory!C108,\"\")","v":""},{"$f":"IF(Wetland_Inventory!D108<>\"\",Wetland_Inventory!D108,\"\")","v":""},{"$f":"IF(Wetland_Inventory!E108<>\"\",Wetland_Inventory!E108,\"\")","v":""},null,null,null,null,null,null,"","",null,null,null,null,null,null,null,null,null,null,null,null,null,null,"","","","","","",null,"",0,0,0,0,0,0,0,0,null,0,0,0,0,0,0,0,0,0,0,0,0,0,0,0,0,0,0,0,0,0]
[{"$f":"IF(Wetland_Inventory!A109<>\"\",Wetland_Inventory!A109,\"\")","v":""},{"$f":"IF(Wetland_Inventory!B109<>\"\",Wetland_Inventory!B109,\"\")","v":""},{"$f":"IF(Wetland_Inventory!C109<>\"\",Wetland_Inventory!C109,\"\")","v":""},{"$f":"IF(Wetland_Inventory!D109<>\"\",Wetland_Inventory!D109,\"\")","v":""},{"$f":"IF(Wetland_Inventory!E109<>\"\",Wetland_Inventory!E109,\"\")","v":""},null,null,null,null,null,null,"","",null,null,null,null,null,null,null,null,null,null,null,null,null,null,"","","","","","",null,"",0,0,0,0,0,0,0,0,null,0,0,0,0,0,0,0,0,0,0,0,0,0,0,0,0,0,0,0,0,0]
[{"$f":"IF(Wetland_Inventory!A110<>\"\",Wetland_Inventory!A110,\"\")","v":""},{"$f":"IF(Wetland_Inventory!B110<>\"\",Wetland_Inventory!B110,\"\")","v":""},{"$f":"IF(Wetland_Inventory!C110<>\"\",Wetland_Inventory!C110,\"\")","v":""},{"$f":"IF(Wetland_Inventory!D110<>\"\",Wetland_Inventory!D110,\"\")","v":""},{"$f":"IF(Wetland_Inventory!E110<>\"\",Wetland_Inventory!E110,\"\")","v":""},null,null,null,null,null,null,"","",null,null,null,null,null,null,null,null,null,null,null,null,null,null,"","","","","","",null,"",0,0,0,0,0,0,0,0,null,0,0,0,0,0,0,0,0,0,0,0,0,0,0,0,0,0,0,0,0,0]
[{"$f":"IF(Wetland_Inventory!A111<>\"\",Wetland_Inventory!A111,\"\")","v":""},{"$f":"IF(Wetland_Inventory!B111<>\"\",Wetland_Inventory!B111,\"\")","v":""},{"$f":"IF(Wetland_Inventory!C111<>\"\",Wetland_Inventory!C111,\"\")","v":""},{"$f":"IF(Wetland_Inventory!D111<>\"\",Wetland_Inventory!D111,\"\")","v":""},{"$f":"IF(Wetland_Inventory!E111<>\"\",Wetland_Inventory!E111,\"\")","v":""},null,null,null,null,null,null,"","",null,null,null,null,null,null,null,null,null,null,null,null,null,null,"","","","","","",null,"",0,0,0,0,0,0,0,0,null,0,0,0,0,0,0,0,0,0,0,0,0,0,0,0,0,0,0,0,0,0]
[{"$f":"IF(Wetland_Inventory!A112<>\"\",Wetland_Inventory!A112,\"\")","v":""},{"$f":"IF(Wetland_Inventory!B112<>\"\",Wetland_Inventory!B112,\"\")","v":""},{"$f":"IF(Wetland_Inventory!C112<>\"\",Wetland_Inventory!C112,\"\")","v":""},{"$f":"IF(Wetland_Inventory!D112<>\"\",Wetland_Inventory!D112,\"\")","v":""},{"$f":"IF(Wetland_Inventory!E112<>\"\",Wetland_Inventory!E112,\"\")","v":""},null,null,null,null,null,null,"","",null,null,null,null,null,null,null,null,null,null,null,null,null,null,"","","","","","",null,"",0,0,0,0,0,0,0,0,null,0,0,0,0,0,0,0,0,0,0,0,0,0,0,0,0,0,0,0,0,0]
[{"$f":"IF(Wetland_Inventory!A113<>\"\",Wetland_Inventory!A113,\"\")","v":""},{"$f":"IF(Wetland_Inventory!B113<>\"\",Wetland_Inventory!B113,\"\")","v":""},{"$f":"IF(Wetland_Inventory!C113<>\"\",Wetland_Inventory!C113,\"\")","v":""},{"$f":"IF(Wetland_Inventory!D113<>\"\",Wetland_Inventory!D113,\"\")","v":""},{"$f":"IF(Wetland_Inventory!E113<>\"\",Wetland_Inventory!E113,\"\")","v":""},null,null,null,null,null,null,"","",null,null,null,null,null,null,null,null,null,null,null,null,null,null,"","","","","","",null,"",0,0,0,0,0,0,0,0,null,0,0,0,0,0,0,0,0,0,0,0,0,0,0,0,0,0,0,0,0,0]
[{"$f":"IF(Wetland_Inventory!A114<>\"\",Wetland_Inventory!A114,\"\")","v":""},{"$f":"IF(Wetland_Inventory!B114<>\"\",Wetland_Inventory!B114,\"\")","v":""},{"$f":"IF(Wetland_Inventory!C114<>\"\",Wetland_Inventory!C114,\"\")","v":""},{"$f":"IF(Wetland_Inventory!D114<>\"\",Wetland_Inventory!D114,\"\")","v":""},{"$f":"IF(Wetland_Inventory!E114<>\"\",Wetland_Inventory!E114,\"\")","v":""},null,null,null,null,null,null,"","",null,null,null,null,null,null,null,null,null,null,null,null,null,null,"","","","","","",null,"",0,0,0,0,0,0,0,0,null,0,0,0,0,0,0,0,0,0,0,0,0,0,0,0,0,0,0,0,0,0]
[{"$f":"IF(Wetland_Inventory!A115<>\"\",Wetland_Inventory!A115,\"\")","v":""},{"$f":"IF(Wetland_Inventory!B115<>\"\",Wetland_Inventory!B115,\"\")","v":""},{"$f":"IF(Wetland_Inventory!C115<>\"\",Wetland_Inventory!C115,\"\")","v":""},{"$f":"IF(Wetland_Inventory!D115<>\"\",Wetland_Inventory!D115,\"\")","v":""},{"$f":"IF(Wetland_Inventory!E115<>\"\",Wetland_Inventory!E115,\"\")","v":""},null,null,null,null,null,null,"","",null,null,null,null,null,null,null,null,null,null,null,null,null,null,"","","","","","",null,"",0,0,0,0,0,0,0,0,null,0,0,0,0,0,0,0,0,0,0,0,0,0,0,0,0,0,0,0,0,0]
[{"$f":"IF(Wetland_Inventory!A116<>\"\",Wetland_Inventory!A116,\"\")","v":""},{"$f":"IF(Wetland_Inventory!B116<>\"\",Wetland_Inventory!B116,\"\")","v":""},{"$f":"IF(Wetland_Inventory!C116<>\"\",Wetland_Inventory!C116,\"\")","v":""},{"$f":"IF(Wetland_Inventory!D116<>\"\",Wetland_Inventory!D116,\"\")","v":""},{"$f":"IF(Wetland_Inventory!E116<>\"\",Wetland_Inventory!E116,\"\")","v":""},null,null,null,null,null,null,"","",null,null,null,null,null,null,null,null,null,null,null,null,null,null,"","","","","","",null,"",0,0,0,0,0,0,0,0,null,0,0,0,0,0,0,0,0,0,0,0,0,0,0,0,0,0,0,0,0,0]
[{"$f":"IF(Wetland_Inventory!A117<>\"\",Wetland_Inventory!A117,\"\")","v":""},{"$f":"IF(Wetland_Inventory!B117<>\"\",Wetland_Inventory!B117,\"\")","v":""},{"$f":"IF(Wetland_Inventory!C117<>\"\",Wetland_Inventory!C117,\"\")","v":""},{"$f":"IF(Wetland_Inventory!D117<>\"\",Wetland_Inventory!D117,\"\")","v":""},{"$f":"IF(Wetland_Inventory!E117<>\"\",Wetland_Inventory!E117,\"\")","v":""},null,null,null,null,null,null,"","",null,null,null,null,null,null,null,null,null,null,null,null,null,null,"","","","","","",null,"",0,0,0,0,0,0,0,0,null,0,0,0,0,0,0,0,0,0,0,0,0,0,0,0,0,0,0,0,0,0]
[{"$f":"IF(Wetland_Inventory!A118<>\"\",Wetland_Inventory!A118,\"\")","v":""},{"$f":"IF(Wetland_Inventory!B118<>\"\",Wetland_Inventory!B118,\"\")","v":""},{"$f":"IF(Wetland_Inventory!C118<>\"\",Wetland_Inventory!C118,\"\")","v":""},{"$f":"IF(Wetland_Inventory!D118<>\"\",Wetland_Inventory!D118,\"\")","v":""},{"$f":"IF(Wetland_Inventory!E118<>\"\",Wetland_Inventory!E118,\"\")","v":""},null,null,null,null,null,null,"","",null,null,null,null,null,null,null,null,null,null,null,null,null,null,"","","","","","",null,"",0,0,0,0,0,0,0,0,null,0,0,0,0,0,0,0,0,0,0,0,0,0,0,0,0,0,0,0,0,0]
[{"$f":"IF(Wetland_Inventory!A119<>\"\",Wetland_Inventory!A119,\"\")","v":""},{"$f":"IF(Wetland_Inventory!B119<>\"\",Wetland_Inventory!B119,\"\")","v":""},{"$f":"IF(Wetland_Inventory!C119<>\"\",Wetland_Inventory!C119,\"\")","v":""},{"$f":"IF(Wetland_Inventory!D119<>\"\",Wetland_Inventory!D119,\"\")","v":""},{"$f":"IF(Wetland_Inventory!E119<>\"\",Wetland_Inventory!E119,\"\")","v":""},null,null,null,null,null,null,"","",null,null,null,null,null,null,null,null,null,null,null,null,null,null,"","","","","","",null,"",0,0,0,0,0,0,0,0,null,0,0,0,0,0,0,0,0,0,0,0,0,0,0,0,0,0,0,0,0,0]
[{"$f":"IF(Wetland_Inventory!A120<>\"\",Wetland_Inventory!A120,\"\")","v":""},{"$f":"IF(Wetland_Inventory!B120<>\"\",Wetland_Inventory!B120,\"\")","v":""},{"$f":"IF(Wetland_Inventory!C120<>\"\",Wetland_Inventory!C120,\"\")","v":""},{"$f":"IF(Wetland_Inventory!D120<>\"\",Wetland_Inventory!D120,\"\")","v":""},{"$f":"IF(Wetland_Inventory!E120<>\"\",Wetland_Inventory!E120,\"\")","v":""},null,null,null,null,null,null,"","",null,null,null,null,null,null,null,null,null,null,null,null,null,null,"","","","","","",null,"",0,0,0,0,0,0,0,0,null,0,0,0,0,0,0,0,0,0,0,0,0,0,0,0,0,0,0,0,0,0]
[{"$f":"IF(Wetland_Inventory!A121<>\"\",Wetland_Inventory!A121,\"\")","v":""},{"$f":"IF(Wetland_Inventory!B121<>\"\",Wetland_Inventory!B121,\"\")","v":""},{"$f":"IF(Wetland_Inventory!C121<>\"\",Wetland_Inventory!C121,\"\")","v":""},{"$f":"IF(Wetland_Inventory!D121<>\"\",Wetland_Inventory!D121,\"\")","v":""},{"$f":"IF(Wetland_Inventory!E121<>\"\",Wetland_Inventory!E121,\"\")","v":""},null,null,null,null,null,null,"","",null,null,null,null,null,null,null,null,null,null,null,null,null,null,"","","","","","",null,"",0,0,0,0,0,0,0,0,null,0,0,0,0,0,0,0,0,0,0,0,0,0,0,0,0,0,0,0,0,0]
[{"$f":"IF(Wetland_Inventory!A122<>\"\",Wetland_Inventory!A122,\"\")","v":""},{"$f":"IF(Wetland_Inventory!B122<>\"\",Wetland_Inventory!B122,\"\")","v":""},{"$f":"IF(Wetland_Inventory!C122<>\"\",Wetland_Inventory!C122,\"\")","v":""},{"$f":"IF(Wetland_Inventory!D122<>\"\",Wetland_Inventory!D122,\"\")","v":""},{"$f":"IF(Wetland_Inventory!E122<>\"\",Wetland_Inventory!E122,\"\")","v":""},null,null,null,null,null,null,"","",null,null,null,null,null,null,null,null,null,null,null,null,null,null,"","","","","","",null,"",0,0,0,0,0,0,0,0,null,0,0,0,0,0,0,0,0,0,0,0,0,0,0,0,0,0,0,0,0,0]
[{"$f":"IF(Wetland_Inventory!A123<>\"\",Wetland_Inventory!A123,\"\")","v":""},{"$f":"IF(Wetland_Inventory!B123<>\"\",Wetland_Inventory!B123,\"\")","v":""},{"$f":"IF(Wetland_Inventory!C123<>\"\",Wetland_Inventory!C123,\"\")","v":""},{"$f":"IF(Wetland_Inventory!D123<>\"\",Wetland_Inventory!D123,\"\")","v":""},{"$f":"IF(Wetland_Inventory!E123<>\"\",Wetland_Inventory!E123,\"\")","v":""},null,null,null,null,null,null,"","",null,null,null,null,null,null,null,null,null,null,null,null,null,null,"","","","","","",null,"",0,0,0,0,0,0,0,0,null,0,0,0,0,0,0,0,0,0,0,0,0,0,0,0,0,0,0,0,0,0]
[{"$f":"IF(Wetland_Inventory!A124<>\"\",Wetland_Inventory!A124,\"\")","v":""},{"$f":"IF(Wetland_Inventory!B124<>\"\",Wetland_Inventory!B124,\"\")","v":""},{"$f":"IF(Wetland_Inventory!C124<>\"\",Wetland_Inventory!C124,\"\")","v":""},{"$f":"IF(Wetland_Inventory!D124<>\"\",Wetland_Inventory!D124,\"\")","v":""},{"$f":"IF(Wetland_Inventory!E124<>\"\",Wetland_Inventory!E124,\"\")","v":""},null,null,null,null,null,null,"","",null,null,null,null,null,null,null,null,null,null,null,null,null,null,"","","","","","",null,"",0,0,0,0,0,0,0,0,null,0,0,0,0,0,0,0,0,0,0,0,0,0,0,0,0,0,0,0,0,0]
[{"$f":"IF(Wetland_Inventory!A125<>\"\",Wetland_Inventory!A125,\"\")","v":""},{"$f":"IF(Wetland_Inventory!B125<>\"\",Wetland_Inventory!B125,\"\")","v":""},{"$f":"IF(Wetland_Inventory!C125<>\"\",Wetland_Inventory!C125,\"\")","v":""},{"$f":"IF(Wetland_Inventory!D125<>\"\",Wetland_Inventory!D125,\"\")","v":""},{"$f":"IF(Wetland_Inventory!E125<>\"\",Wetland_Inventory!E125,\"\")","v":""},null,null,null,null,null,null,"","",null,null,null,null,null,null,null,null,null,null,null,null,null,null,"","","","","","",null,"",0,0,0,0,0,0,0,0,null,0,0,0,0,0,0,0,0,0,0,0,0,0,0,0,0,0,0,0,0,0]
[{"$f":"IF(Wetland_Inventory!A126<>\"\",Wetland_Inventory!A126,\"\")","v":""},{"$f":"IF(Wetland_Inventory!B126<>\"\",Wetland_Inventory!B126,\"\")","v":""},{"$f":"IF(Wetland_Inventory!C126<>\"\",Wetland_Inventory!C126,\"\")","v":""},{"$f":"IF(Wetland_Inventory!D126<>\"\",Wetland_Inventory!D126,\"\")","v":""},{"$f":"IF(Wetland_Inventory!E126<>\"\",Wetland_Inventory!E126,\"\")","v":""},null,null,null,null,null,null,"","",null,null,null,null,null,null,null,null,null,null,null,null,null,null,"","","","","","",null,"",0,0,0,0,0,0,0,0,null,0,0,0,0,0,0,0,0,0,0,0,0,0,0,0,0,0,0,0,0,0]
[{"$f":"IF(Wetland_Inventory!A127<>\"\",Wetland_Inventory!A127,\"\")","v":""},{"$f":"IF(Wetland_Inventory!B127<>\"\",Wetland_Inventory!B127,\"\")","v":""},{"$f":"IF(Wetland_Inventory!C127<>\"\",Wetland_Inventory!C127,\"\")","v":""},{"$f":"IF(Wetland_Inventory!D127<>\"\",Wetland_Inventory!D127,\"\")","v":""},{"$f":"IF(Wetland_Inventory!E127<>\"\",Wetland_Inventory!E127,\"\")","v":""},null,null,null,null,null,null,"","",null,null,null,null,null,null,null,null,null,null,null,null,null,null,"","","","","","",null,"",0,0,0,0,0,0,0,0,null,{"$f":"IF($AB132=AS$18,$AC132,0)","v":0},0,0,0,0,0,0,{"$f":"IF($AD132=AZ$18,$AE132,0)","v":0},0,0,0,0,0,0,{"$f":"IF($AF132=BG$18,$AG132,0)","v":0},0,0,0,0,0,0]
[{"$f":"IF(Wetland_Inventory!A128<>\"\",Wetland_Inventory!A128,\"\")","v":""},{"$f":"IF(Wetland_Inventory!B128<>\"\",Wetland_Inventory!B128,\"\")","v":""},{"$f":"IF(Wetland_Inventory!C128<>\"\",Wetland_Inventory!C128,\"\")","v":""},{"$f":"IF(Wetland_Inventory!D128<>\"\",Wetland_Inventory!D128,\"\")","v":""},{"$f":"IF(Wetland_Inventory!E128<>\"\",Wetland_Inventory!E128,\"\")","v":""},null,null,null,null,null,null,"","",null,null,null,null,null,null,null,null,null,null,null,null,null,null,"","","","","","",null,"",0,0,0,0,0,0,0,0,null,0,0,0,0,0,0,0,0,0,0,0,0,0,0,0,0,0,0,0,0,0]
[{"$f":"IF(Wetland_Inventory!A129<>\"\",Wetland_Inventory!A129,\"\")","v":""},{"$f":"IF(Wetland_Inventory!B129<>\"\",Wetland_Inventory!B129,\"\")","v":""},{"$f":"IF(Wetland_Inventory!C129<>\"\",Wetland_Inventory!C129,\"\")","v":""},{"$f":"IF(Wetland_Inventory!D129<>\"\",Wetland_Inventory!D129,\"\")","v":""},{"$f":"IF(Wetland_Inventory!E129<>\"\",Wetland_Inventory!E129,\"\")","v":""},null,null,null,null,null,null,"","",null,null,null,null,null,null,null,null,null,null,null,null,null,null,"","","","","","",null,"",0,0,0,0,0,0,0,0,null,0,0,0,0,0,0,0,0,0,0,0,0,0,0,0,0,0,0,0,0,0]
[{"$f":"IF(Wetland_Inventory!A130<>\"\",Wetland_Inventory!A130,\"\")","v":""},{"$f":"IF(Wetland_Inventory!B130<>\"\",Wetland_Inventory!B130,\"\")","v":""},{"$f":"IF(Wetland_Inventory!C130<>\"\",Wetland_Inventory!C130,\"\")","v":""},{"$f":"IF(Wetland_Inventory!D130<>\"\",Wetland_Inventory!D130,\"\")","v":""},{"$f":"IF(Wetland_Inventory!E130<>\"\",Wetland_Inventory!E130,\"\")","v":""},null,null,null,null,null,null,"","",null,null,null,null,null,null,null,null,null,null,null,null,null,null,"","","","","","",null,"",0,0,0,0,0,0,0,0,null,0,0,0,0,0,0,0,0,0,0,0,0,0,0,0,0,0,0,0,0,0]
[{"$f":"IF(Wetland_Inventory!A131<>\"\",Wetland_Inventory!A131,\"\")","v":""},{"$f":"IF(Wetland_Inventory!B131<>\"\",Wetland_Inventory!B131,\"\")","v":""},{"$f":"IF(Wetland_Inventory!C131<>\"\",Wetland_Inventory!C131,\"\")","v":""},{"$f":"IF(Wetland_Inventory!D131<>\"\",Wetland_Inventory!D131,\"\")","v":""},{"$f":"IF(Wetland_Inventory!E131<>\"\",Wetland_Inventory!E131,\"\")","v":""},null,null,null,null,null,null,"","",null,null,null,null,null,null,null,null,null,null,null,null,null,null,"","","","","","",null,"",0,0,0,0,0,0,0,0,null,0,0,0,0,0,0,0,0,0,0,0,0,0,0,0,0,0,0,0,0,0]
[{"$f":"IF(Wetland_Inventory!A132<>\"\",Wetland_Inventory!A132,\"\")","v":""},{"$f":"IF(Wetland_Inventory!B132<>\"\",Wetland_Inventory!B132,\"\")","v":""},{"$f":"IF(Wetland_Inventory!C132<>\"\",Wetland_Inventory!C132,\"\")","v":""},{"$f":"IF(Wetland_Inventory!D132<>\"\",Wetland_Inventory!D132,\"\")","v":""},{"$f":"IF(Wetland_Inventory!E132<>\"\",Wetland_Inventory!E132,\"\")","v":""},null,null,null,null,null,null,"","",null,null,null,null,null,null,null,null,null,null,null,null,null,null,"","","","","","",null,"",0,0,0,0,0,0,0,0,null,0,0,0,0,0,0,0,0,0,0,0,0,0,0,0,0,0,0,0,0,0]
[{"$f":"IF(Wetland_Inventory!A133<>\"\",Wetland_Inventory!A133,\"\")","v":""},{"$f":"IF(Wetland_Inventory!B133<>\"\",Wetland_Inventory!B133,\"\")","v":""},{"$f":"IF(Wetland_Inventory!C133<>\"\",Wetland_Inventory!C133,\"\")","v":""},{"$f":"IF(Wetland_Inventory!D133<>\"\",Wetland_Inventory!D133,\"\")","v":""},{"$f":"IF(Wetland_Inventory!E133<>\"\",Wetland_Inventory!E133,\"\")","v":""},null,null,null,null,null,null,"","",null,null,null,null,null,null,null,null,null,null,null,null,null,null,"","","","","","",null,"",0,0,0,0,0,0,0,0,null,0,0,0,0,0,0,0,0,0,0,0,0,0,0,0,0,0,0,0,0,0]
[{"$f":"IF(Wetland_Inventory!A134<>\"\",Wetland_Inventory!A134,\"\")","v":""},{"$f":"IF(Wetland_Inventory!B134<>\"\",Wetland_Inventory!B134,\"\")","v":""},{"$f":"IF(Wetland_Inventory!C134<>\"\",Wetland_Inventory!C134,\"\")","v":""},{"$f":"IF(Wetland_Inventory!D134<>\"\",Wetland_Inventory!D134,\"\")","v":""},{"$f":"IF(Wetland_Inventory!E134<>\"\",Wetland_Inventory!E134,\"\")","v":""},null,null,null,null,null,null,"","",null,null,null,null,null,null,null,null,null,null,null,null,null,null,"","","","","","",null,"",0,0,0,0,0,0,0,0,null,0,0,0,0,0,0,0,0,0,0,0,0,0,0,0,0,0,0,0,0,0]
[{"$f":"IF(Wetland_Inventory!A135<>\"\",Wetland_Inventory!A135,\"\")","v":""},{"$f":"IF(Wetland_Inventory!B135<>\"\",Wetland_Inventory!B135,\"\")","v":""},{"$f":"IF(Wetland_Inventory!C135<>\"\",Wetland_Inventory!C135,\"\")","v":""},{"$f":"IF(Wetland_Inventory!D135<>\"\",Wetland_Inventory!D135,\"\")","v":""},{"$f":"IF(Wetland_Inventory!E135<>\"\",Wetland_Inventory!E135,\"\")","v":""},null,null,null,null,null,null,"","",null,null,null,null,null,null,null,null,null,null,null,null,null,null,"","","","","","",null,"",0,0,0,0,0,0,0,0,null,0,0,0,0,0,0,0,0,0,0,0,0,0,0,0,0,0,0,0,0,0]
[{"$f":"IF(Wetland_Inventory!A136<>\"\",Wetland_Inventory!A136,\"\")","v":""},{"$f":"IF(Wetland_Inventory!B136<>\"\",Wetland_Inventory!B136,\"\")","v":""},{"$f":"IF(Wetland_Inventory!C136<>\"\",Wetland_Inventory!C136,\"\")","v":""},{"$f":"IF(Wetland_Inventory!D136<>\"\",Wetland_Inventory!D136,\"\")","v":""},{"$f":"IF(Wetland_Inventory!E136<>\"\",Wetland_Inventory!E136,\"\")","v":""},null,null,null,null,null,null,"","",null,null,null,null,null,null,null,null,null,null,null,null,null,null,"","","","","","",null,"",0,0,0,0,0,0,0,0,null,0,0,0,0,0,0,0,0,0,0,0,0,0,0,0,0,0,0,0,0,0]
[{"$f":"IF(Wetland_Inventory!A137<>\"\",Wetland_Inventory!A137,\"\")","v":""},{"$f":"IF(Wetland_Inventory!B137<>\"\",Wetland_Inventory!B137,\"\")","v":""},{"$f":"IF(Wetland_Inventory!C137<>\"\",Wetland_Inventory!C137,\"\")","v":""},{"$f":"IF(Wetland_Inventory!D137<>\"\",Wetland_Inventory!D137,\"\")","v":""},{"$f":"IF(Wetland_Inventory!E137<>\"\",Wetland_Inventory!E137,\"\")","v":""},null,null,null,null,null,null,"","",null,null,null,null,null,null,null,null,null,null,null,null,null,null,"","","","","","",null,"",0,0,0,0,0,0,0,0,null,0,0,0,0,0,0,0,0,0,0,0,0,0,0,0,0,0,0,0,0,0]
[{"$f":"IF(Wetland_Inventory!A138<>\"\",Wetland_Inventory!A138,\"\")","v":""},{"$f":"IF(Wetland_Inventory!B138<>\"\",Wetland_Inventory!B138,\"\")","v":""},{"$f":"IF(Wetland_Inventory!C138<>\"\",Wetland_Inventory!C138,\"\")","v":""},{"$f":"IF(Wetland_Inventory!D138<>\"\",Wetland_Inventory!D138,\"\")","v":""},{"$f":"IF(Wetland_Inventory!E138<>\"\",Wetland_Inventory!E138,\"\")","v":""},null,null,null,null,null,null,"","",null,null,null,null,null,null,null,null,null,null,null,null,null,null,"","","","","","",null,"",0,0,0,0,0,0,0,0,null,0,0,0,0,0,0,0,0,0,0,0,0,0,0,0,0,0,0,0,0,0]
[{"$f":"IF(Wetland_Inventory!A139<>\"\",Wetland_Inventory!A139,\"\")","v":""},{"$f":"IF(Wetland_Inventory!B139<>\"\",Wetland_Inventory!B139,\"\")","v":""},{"$f":"IF(Wetland_Inventory!C139<>\"\",Wetland_Inventory!C139,\"\")","v":""},{"$f":"IF(Wetland_Inventory!D139<>\"\",Wetland_Inventory!D139,\"\")","v":""},{"$f":"IF(Wetland_Inventory!E139<>\"\",Wetland_Inventory!E139,\"\")","v":""},null,null,null,null,null,null,"","",null,null,null,null,null,null,null,null,null,null,null,null,null,null,"","","","","","",null,"",0,0,0,0,0,0,0,0,null,0,0,0,0,0,0,0,0,0,0,0,0,0,0,0,0,0,0,0,0,0]
[{"$f":"IF(Wetland_Inventory!A140<>\"\",Wetland_Inventory!A140,\"\")","v":""},{"$f":"IF(Wetland_Inventory!B140<>\"\",Wetland_Inventory!B140,\"\")","v":""},{"$f":"IF(Wetland_Inventory!C140<>\"\",Wetland_Inventory!C140,\"\")","v":""},{"$f":"IF(Wetland_Inventory!D140<>\"\",Wetland_Inventory!D140,\"\")","v":""},{"$f":"IF(Wetland_Inventory!E140<>\"\",Wetland_Inventory!E140,\"\")","v":""},null,null,null,null,null,null,"","",null,null,null,null,null,null,null,null,null,null,null,null,null,null,"","","","","","",null,"",0,0,0,0,0,0,0,0,null,0,0,0,0,0,0,0,0,0,0,0,0,0,0,0,0,0,0,0,0,0]
[{"$f":"IF(Wetland_Inventory!A141<>\"\",Wetland_Inventory!A141,\"\")","v":""},{"$f":"IF(Wetland_Inventory!B141<>\"\",Wetland_Inventory!B141,\"\")","v":""},{"$f":"IF(Wetland_Inventory!C141<>\"\",Wetland_Inventory!C141,\"\")","v":""},{"$f":"IF(Wetland_Inventory!D141<>\"\",Wetland_Inventory!D141,\"\")","v":""},{"$f":"IF(Wetland_Inventory!E141<>\"\",Wetland_Inventory!E141,\"\")","v":""},null,null,null,null,null,null,"","",null,null,null,null,null,null,null,null,null,null,null,null,null,null,"","","","","","",null,"",0,0,0,0,0,0,0,0,null,0,0,0,0,0,0,0,0,0,0,0,0,0,0,0,0,0,0,0,0,0]
[{"$f":"IF(Wetland_Inventory!A142<>\"\",Wetland_Inventory!A142,\"\")","v":""},{"$f":"IF(Wetland_Inventory!B142<>\"\",Wetland_Inventory!B142,\"\")","v":""},{"$f":"IF(Wetland_Inventory!C142<>\"\",Wetland_Inventory!C142,\"\")","v":""},{"$f":"IF(Wetland_Inventory!D142<>\"\",Wetland_Inventory!D142,\"\")","v":""},{"$f":"IF(Wetland_Inventory!E142<>\"\",Wetland_Inventory!E142,\"\")","v":""},null,null,null,null,null,null,"","",null,null,null,null,null,null,null,null,null,null,null,null,null,null,"","","","","","",null,"",0,0,0,0,0,0,0,0,null,0,0,0,0,0,0,0,0,0,0,0,0,0,0,0,0,0,0,0,0,0]
[{"$f":"IF(Wetland_Inventory!A143<>\"\",Wetland_Inventory!A143,\"\")","v":""},{"$f":"IF(Wetland_Inventory!B143<>\"\",Wetland_Inventory!B143,\"\")","v":""},{"$f":"IF(Wetland_Inventory!C143<>\"\",Wetland_Inventory!C143,\"\")","v":""},{"$f":"IF(Wetland_Inventory!D143<>\"\",Wetland_Inventory!D143,\"\")","v":""},{"$f":"IF(Wetland_Inventory!E143<>\"\",Wetland_Inventory!E143,\"\")","v":""},null,null,null,null,null,null,{"$f":"IF(A148=\"\",\"\",G148+I148+K148)","v":""},{"$f":"IF(A148=\"\",\"\",B148-L148)","v":""},null,null,null,null,null,null,null,null,null,null,null,null,null,null,{"$f":"IF(ISNA(VLOOKUP(F148,$C$5:$D$14,2,FALSE)),\"\",VLOOKUP(F148,$C$5:$D$14,2,FALSE))","v":""},{"$f":"IF(AB148<>\"\",G148,\"\")","v":""},{"$f":"IF(ISNA(VLOOKUP(H148,$C$5:$D$14,2,FALSE)),\"\",VLOOKUP(H148,$C$5:$D$14,2,FALSE))","v":""},{"$f":"IF(AD148<>\"\",I148,\"\")","v":""},{"$f":"IF(ISNA(VLOOKUP(J148,$C$5:$D$14,2,FALSE)),\"\",VLOOKUP(J148,$C$5:$D$14,2,FALSE))","v":""},{"$f":"IF(AF148<>\"\",K148,\"\")","v":""},null,{"$f":"IF(C148<>\"\",C148,\"\")","v":""},{"$f":"AS148+AZ148+BG148","v":0},0,0,0,0,0,0,{"$f":"SUM(AJ148:AP148)","v":0},null,0,0,0,0,0,0,0,0,0,0,0,0,0,0,0,0,0,0,0,0,0]
[{"$f":"IF(Wetland_Inventory!A144<>\"\",Wetland_Inventory!A144,\"\")","v":""},{"$f":"IF(Wetland_Inventory!B144<>\"\",Wetland_Inventory!B144,\"\")","v":""},{"$f":"IF(Wetland_Inventory!C144<>\"\",Wetland_Inventory!C144,\"\")","v":""},{"$f":"IF(Wetland_Inventory!D144<>\"\",Wetland_Inventory!D144,\"\")","v":""},{"$f":"IF(Wetland_Inventory!E144<>\"\",Wetland_Inventory!E144,\"\")","v":""},null,null,null,null,null,null,"","",null,null,null,null,null,null,null,null,null,null,null,null,null,null,"","","","","","",null,"",0,0,0,0,0,0,0,0,null,0,0,0,0,0,0,0,0,0,0,0,0,0,0,0,0,0,0,0,0,0]
[{"$f":"IF(Wetland_Inventory!A145<>\"\",Wetland_Inventory!A145,\"\")","v":""},{"$f":"IF(Wetland_Inventory!B145<>\"\",Wetland_Inventory!B145,\"\")","v":""},{"$f":"IF(Wetland_Inventory!C145<>\"\",Wetland_Inventory!C145,\"\")","v":""},{"$f":"IF(Wetland_Inventory!D145<>\"\",Wetland_Inventory!D145,\"\")","v":""},{"$f":"IF(Wetland_Inventory!E145<>\"\",Wetland_Inventory!E145,\"\")","v":""},null,null,null,null,null,null,"","",null,null,null,null,null,null,null,null,null,null,null,null,null,null,"","","","","","",null,"",0,0,0,0,0,0,0,0,null,0,0,0,0,0,0,0,0,0,0,0,0,0,0,0,0,0,0,0,0,0]
[{"$f":"IF(Wetland_Inventory!A146<>\"\",Wetland_Inventory!A146,\"\")","v":""},{"$f":"IF(Wetland_Inventory!B146<>\"\",Wetland_Inventory!B146,\"\")","v":""},{"$f":"IF(Wetland_Inventory!C146<>\"\",Wetland_Inventory!C146,\"\")","v":""},{"$f":"IF(Wetland_Inventory!D146<>\"\",Wetland_Inventory!D146,\"\")","v":""},{"$f":"IF(Wetland_Inventory!E146<>\"\",Wetland_Inventory!E146,\"\")","v":""},null,null,null,null,null,null,"","",null,null,null,null,null,null,null,null,null,null,null,null,null,null,"","","","","","",null,"",0,0,0,0,0,0,0,0,null,0,0,0,0,0,0,0,0,0,0,0,0,0,0,0,0,0,0,0,0,0]
[{"$f":"IF(Wetland_Inventory!A147<>\"\",Wetland_Inventory!A147,\"\")","v":""},{"$f":"IF(Wetland_Inventory!B147<>\"\",Wetland_Inventory!B147,\"\")","v":""},{"$f":"IF(Wetland_Inventory!C147<>\"\",Wetland_Inventory!C147,\"\")","v":""},{"$f":"IF(Wetland_Inventory!D147<>\"\",Wetland_Inventory!D147,\"\")","v":""},{"$f":"IF(Wetland_Inventory!E147<>\"\",Wetland_Inventory!E147,\"\")","v":""},null,null,null,null,null,null,"","",null,null,null,null,null,null,null,null,null,null,null,null,null,null,"","","","","","",null,"",0,0,0,0,0,0,0,0,null,0,0,0,0,0,0,0,0,0,0,0,0,0,0,0,0,0,0,0,0,0]
[{"$f":"IF(Wetland_Inventory!A148<>\"\",Wetland_Inventory!A148,\"\")","v":""},{"$f":"IF(Wetland_Inventory!B148<>\"\",Wetland_Inventory!B148,\"\")","v":""},{"$f":"IF(Wetland_Inventory!C148<>\"\",Wetland_Inventory!C148,\"\")","v":""},{"$f":"IF(Wetland_Inventory!D148<>\"\",Wetland_Inventory!D148,\"\")","v":""},{"$f":"IF(Wetland_Inventory!E148<>\"\",Wetland_Inventory!E148,\"\")","v":""},null,null,null,null,null,null,"","",null,null,null,null,null,null,null,null,null,null,null,null,null,null,"","","","","","",null,"",0,0,0,0,0,0,0,0,null,0,0,0,0,0,0,0,0,0,0,0,0,0,0,0,0,0,0,0,0,0]
[{"$f":"IF(Wetland_Inventory!A149<>\"\",Wetland_Inventory!A149,\"\")","v":""},{"$f":"IF(Wetland_Inventory!B149<>\"\",Wetland_Inventory!B149,\"\")","v":""},{"$f":"IF(Wetland_Inventory!C149<>\"\",Wetland_Inventory!C149,\"\")","v":""},{"$f":"IF(Wetland_Inventory!D149<>\"\",Wetland_Inventory!D149,\"\")","v":""},{"$f":"IF(Wetland_Inventory!E149<>\"\",Wetland_Inventory!E149,\"\")","v":""},null,null,null,null,null,null,"","",null,null,null,null,null,null,null,null,null,null,null,null,null,null,"","","","","","",null,"",0,0,0,0,0,0,0,0,null,0,0,0,0,0,0,0,0,0,0,0,0,0,0,0,0,0,0,0,0,0]
[{"$f":"IF(Wetland_Inventory!A150<>\"\",Wetland_Inventory!A150,\"\")","v":""},{"$f":"IF(Wetland_Inventory!B150<>\"\",Wetland_Inventory!B150,\"\")","v":""},{"$f":"IF(Wetland_Inventory!C150<>\"\",Wetland_Inventory!C150,\"\")","v":""},{"$f":"IF(Wetland_Inventory!D150<>\"\",Wetland_Inventory!D150,\"\")","v":""},{"$f":"IF(Wetland_Inventory!E150<>\"\",Wetland_Inventory!E150,\"\")","v":""},null,null,null,null,null,null,"","",null,null,null,null,null,null,null,null,null,null,null,null,null,null,"","","","","","",null,"",0,0,0,0,0,0,0,0,null,0,0,0,0,0,0,0,0,0,0,0,0,0,0,0,0,0,0,0,0,0]
[{"$f":"IF(Wetland_Inventory!A151<>\"\",Wetland_Inventory!A151,\"\")","v":""},{"$f":"IF(Wetland_Inventory!B151<>\"\",Wetland_Inventory!B151,\"\")","v":""},{"$f":"IF(Wetland_Inventory!C151<>\"\",Wetland_Inventory!C151,\"\")","v":""},{"$f":"IF(Wetland_Inventory!D151<>\"\",Wetland_Inventory!D151,\"\")","v":""},{"$f":"IF(Wetland_Inventory!E151<>\"\",Wetland_Inventory!E151,\"\")","v":""},null,null,null,null,null,null,"","",null,null,null,null,null,null,null,null,null,null,null,null,null,null,"","","","","","",null,"",0,0,0,0,0,0,0,0,null,0,0,0,0,0,0,0,0,0,0,0,0,0,0,0,0,0,0,0,0,0]
[{"$f":"IF(Wetland_Inventory!A152<>\"\",Wetland_Inventory!A152,\"\")","v":""},{"$f":"IF(Wetland_Inventory!B152<>\"\",Wetland_Inventory!B152,\"\")","v":""},{"$f":"IF(Wetland_Inventory!C152<>\"\",Wetland_Inventory!C152,\"\")","v":""},{"$f":"IF(Wetland_Inventory!D152<>\"\",Wetland_Inventory!D152,\"\")","v":""},{"$f":"IF(Wetland_Inventory!E152<>\"\",Wetland_Inventory!E152,\"\")","v":""},null,null,null,null,null,null,"","",null,null,null,null,null,null,null,null,null,null,null,null,null,null,"","","","","","",null,"",0,0,0,0,0,0,0,0,null,0,0,0,0,0,0,0,0,0,0,0,0,0,0,0,0,0,0,0,0,0]
[{"$f":"IF(Wetland_Inventory!A153<>\"\",Wetland_Inventory!A153,\"\")","v":""},{"$f":"IF(Wetland_Inventory!B153<>\"\",Wetland_Inventory!B153,\"\")","v":""},{"$f":"IF(Wetland_Inventory!C153<>\"\",Wetland_Inventory!C153,\"\")","v":""},{"$f":"IF(Wetland_Inventory!D153<>\"\",Wetland_Inventory!D153,\"\")","v":""},{"$f":"IF(Wetland_Inventory!E153<>\"\",Wetland_Inventory!E153,\"\")","v":""},null,null,null,null,null,null,"","",null,null,null,null,null,null,null,null,null,null,null,null,null,null,"","","","","","",null,"",0,0,0,0,0,0,0,0,null,0,0,0,0,0,0,0,0,0,0,0,0,0,0,0,0,0,0,0,0,0]
[{"$f":"IF(Wetland_Inventory!A154<>\"\",Wetland_Inventory!A154,\"\")","v":""},{"$f":"IF(Wetland_Inventory!B154<>\"\",Wetland_Inventory!B154,\"\")","v":""},{"$f":"IF(Wetland_Inventory!C154<>\"\",Wetland_Inventory!C154,\"\")","v":""},{"$f":"IF(Wetland_Inventory!D154<>\"\",Wetland_Inventory!D154,\"\")","v":""},{"$f":"IF(Wetland_Inventory!E154<>\"\",Wetland_Inventory!E154,\"\")","v":""},null,null,null,null,null,null,"","",null,null,null,null,null,null,null,null,null,null,null,null,null,null,"","","","","","",null,"",0,0,0,0,0,0,0,0,null,0,0,0,0,0,0,0,0,0,0,0,0,0,0,0,0,0,0,0,0,0]
[{"$f":"IF(Wetland_Inventory!A155<>\"\",Wetland_Inventory!A155,\"\")","v":""},{"$f":"IF(Wetland_Inventory!B155<>\"\",Wetland_Inventory!B155,\"\")","v":""},{"$f":"IF(Wetland_Inventory!C155<>\"\",Wetland_Inventory!C155,\"\")","v":""},{"$f":"IF(Wetland_Inventory!D155<>\"\",Wetland_Inventory!D155,\"\")","v":""},{"$f":"IF(Wetland_Inventory!E155<>\"\",Wetland_Inventory!E155,\"\")","v":""},null,null,null,null,null,null,"","",null,null,null,null,null,null,null,null,null,null,null,null,null,null,"","","","","","",null,"",0,0,0,0,0,0,0,0,null,0,0,0,0,0,0,0,0,0,0,0,0,0,0,0,0,0,0,0,0,0]
[{"$f":"IF(Wetland_Inventory!A156<>\"\",Wetland_Inventory!A156,\"\")","v":""},{"$f":"IF(Wetland_Inventory!B156<>\"\",Wetland_Inventory!B156,\"\")","v":""},{"$f":"IF(Wetland_Inventory!C156<>\"\",Wetland_Inventory!C156,\"\")","v":""},{"$f":"IF(Wetland_Inventory!D156<>\"\",Wetland_Inventory!D156,\"\")","v":""},{"$f":"IF(Wetland_Inventory!E156<>\"\",Wetland_Inventory!E156,\"\")","v":""},null,null,null,null,null,null,"","",null,null,null,null,null,null,null,null,null,null,null,null,null,null,"","","","","","",null,"",0,0,0,0,0,0,0,0,null,0,0,0,0,0,0,0,0,0,0,0,0,0,0,0,0,0,0,0,0,0]
[{"$f":"IF(Wetland_Inventory!A157<>\"\",Wetland_Inventory!A157,\"\")","v":""},{"$f":"IF(Wetland_Inventory!B157<>\"\",Wetland_Inventory!B157,\"\")","v":""},{"$f":"IF(Wetland_Inventory!C157<>\"\",Wetland_Inventory!C157,\"\")","v":""},{"$f":"IF(Wetland_Inventory!D157<>\"\",Wetland_Inventory!D157,\"\")","v":""},{"$f":"IF(Wetland_Inventory!E157<>\"\",Wetland_Inventory!E157,\"\")","v":""},null,null,null,null,null,null,"","",null,null,null,null,null,null,null,null,null,null,null,null,null,null,"","","","","","",null,"",0,0,0,0,0,0,0,0,null,0,0,0,0,0,0,0,0,0,0,0,0,0,0,0,0,0,0,0,0,0]
[{"$f":"IF(Wetland_Inventory!A158<>\"\",Wetland_Inventory!A158,\"\")","v":""},{"$f":"IF(Wetland_Inventory!B158<>\"\",Wetland_Inventory!B158,\"\")","v":""},{"$f":"IF(Wetland_Inventory!C158<>\"\",Wetland_Inventory!C158,\"\")","v":""},{"$f":"IF(Wetland_Inventory!D158<>\"\",Wetland_Inventory!D158,\"\")","v":""},{"$f":"IF(Wetland_Inventory!E158<>\"\",Wetland_Inventory!E158,\"\")","v":""},null,null,null,null,null,null,"","",null,null,null,null,null,null,null,null,null,null,null,null,null,null,"","","","","","",null,"",0,{"$f":"AT163+BA163+BH163","v":0},{"$f":"AU163+BB163+BI163","v":0},{"$f":"AV163+BC163+BJ163","v":0},{"$f":"AW163+BD163+BK163","v":0},{"$f":"AX163+BE163+BL163","v":0},{"$f":"AY163+BF163+BM163","v":0},0,null,0,0,0,0,0,0,0,0,0,0,0,0,0,0,0,0,0,0,0,0,0]
[{"$f":"IF(Wetland_Inventory!A159<>\"\",Wetland_Inventory!A159,\"\")","v":""},{"$f":"IF(Wetland_Inventory!B159<>\"\",Wetland_Inventory!B159,\"\")","v":""},{"$f":"IF(Wetland_Inventory!C159<>\"\",Wetland_Inventory!C159,\"\")","v":""},{"$f":"IF(Wetland_Inventory!D159<>\"\",Wetland_Inventory!D159,\"\")","v":""},{"$f":"IF(Wetland_Inventory!E159<>\"\",Wetland_Inventory!E159,\"\")","v":""},null,null,null,null,null,null,"","",null,null,null,null,null,null,null,null,null,null,null,null,null,null,"","","","","","",null,"",0,0,0,0,0,0,0,0,null,0,0,0,0,0,0,0,0,0,0,0,0,0,0,0,0,0,0,0,0,0]
[{"$f":"IF(Wetland_Inventory!A160<>\"\",Wetland_Inventory!A160,\"\")","v":""},{"$f":"IF(Wetland_Inventory!B160<>\"\",Wetland_Inventory!B160,\"\")","v":""},{"$f":"IF(Wetland_Inventory!C160<>\"\",Wetland_Inventory!C160,\"\")","v":""},{"$f":"IF(Wetland_Inventory!D160<>\"\",Wetland_Inventory!D160,\"\")","v":""},{"$f":"IF(Wetland_Inventory!E160<>\"\",Wetland_Inventory!E160,\"\")","v":""},null,null,null,null,null,null,"","",null,null,null,null,null,null,null,null,null,null,null,null,null,null,"","","","","","",null,"",0,0,0,0,0,0,0,0,null,0,0,0,0,0,0,0,0,0,0,0,0,0,0,0,0,0,0,0,0,0]
[{"$f":"IF(Wetland_Inventory!A161<>\"\",Wetland_Inventory!A161,\"\")","v":""},{"$f":"IF(Wetland_Inventory!B161<>\"\",Wetland_Inventory!B161,\"\")","v":""},{"$f":"IF(Wetland_Inventory!C161<>\"\",Wetland_Inventory!C161,\"\")","v":""},{"$f":"IF(Wetland_Inventory!D161<>\"\",Wetland_Inventory!D161,\"\")","v":""},{"$f":"IF(Wetland_Inventory!E161<>\"\",Wetland_Inventory!E161,\"\")","v":""},null,null,null,null,null,null,"","",null,null,null,null,null,null,null,null,null,null,null,null,null,null,"","","","","","",null,"",0,0,0,0,0,0,0,0,null,0,0,0,0,0,0,0,0,0,0,0,0,0,0,0,0,0,0,0,0,0]
["If more lines are needed, contact your area office ARC or Biologist"]
[{"$f":"IF(Wetland_Inventory!A163<>\"\",Wetland_Inventory!A163,\"\")","v":""},{"$f":"IF(Wetland_Inventory!B163<>\"\",Wetland_Inventory!B163,\"\")","v":""},{"$f":"IF(Wetland_Inventory!C163<>\"\",Wetland_Inventory!C163,\"\")","v":""},{"$f":"IF(Wetland_Inventory!D163<>\"\",Wetland_Inventory!D163,\"\")","v":""},{"$f":"IF(Wetland_Inventory!E163<>\"\",Wetland_Inventory!E163,\"\")","v":""},null,null,null,null,null,null,{"$f":"IF(A168=\"\",\"\",G168+I168+K168)","v":""},{"$f":"IF(A168=\"\",\"\",B168-L168)","v":""},null,null,null,null,null,null,null,null,null,null,null,null,null,null,{"$f":"IF(ISNA(VLOOKUP(F168,$C$5:$D$14,2,FALSE)),\"\",VLOOKUP(F168,$C$5:$D$14,2,FALSE))","v":""},{"$f":"IF(AB168<>\"\",G168,\"\")","v":""},{"$f":"IF(ISNA(VLOOKUP(H168,$C$5:$D$14,2,FALSE)),\"\",VLOOKUP(H168,$C$5:$D$14,2,FALSE))","v":""},{"$f":"IF(AD168<>\"\",I168,\"\")","v":""},{"$f":"IF(ISNA(VLOOKUP(J168,$C$5:$D$14,2,FALSE)),\"\",VLOOKUP(J168,$C$5:$D$14,2,FALSE))","v":""},{"$f":"IF(AF168<>\"\",K168,\"\")","v":""},null,{"$f":"IF(C168<>\"\",C168,\"\")","v":""},{"$f":"AS168+AZ168+BG168","v":0},{"$f":"AT168+BA168+BH168","v":0},{"$f":"AU168+BB168+BI168","v":0},{"$f":"AV168+BC168+BJ168","v":0},{"$f":"AW168+BD168+BK168","v":0},{"$f":"AX168+BE168+BL168","v":0},{"$f":"AY168+BF168+BM168","v":0},{"$f":"SUM(AJ168:AP168)","v":0},null,{"$f":"IF($AB168=AS$18,$AC168,0)","v":0},{"$f":"IF($AB168=AT$18,$AC168,0)","v":0},0,0,0,0,0,{"$f":"IF($AD168=AZ$18,$AE168,0)","v":0},{"$f":"IF($AD168=BA$18,$AE168,0)","v":0},0,0,0,0,0,{"$f":"IF($AF168=BG$18,$AG168,0)","v":0},{"$f":"IF($AF168=BH$18,$AG168,0)","v":0},0,0,0,0,0]
["x","x","x","x","x","x","x","x","x","x","x","x","x"]

{"sheet":"Inventory","index":3,"n_rows":104,"n_cols":25,"rows_kept":104,"cut":false,"hidden":false,"merged":[[2,2,2,4],[2,7,2,9],[4,2,4,4],[8,8,8,9],[6,2,6,9],[8,2,8,4],[3,7,3,9],[4,8,4,9],[3,2,3,4],[19,5,19,6],[22,5,22,6],[23,5,23,6],[24,5,24,6],[60,5,60,6],[25,5,25,6],[26,5,26,6],[27,5,27,6],[28,5,28,6],[29,5,29,6],[30,5,30,6],[31,5,31,6],[32,5,32,6],[33,5,33,6],[34,5,34,6],[50,5,50,6],[36,5,36,6],[37,5,37,6],[38,5,38,6],[39,5,39,6],[20,5,20,6],[21,5,21,6],[35,5,35,6],[40,5,40,6],[51,5,51,6],[42,5,42,6],[43,5,43,6],[44,5,44,6],[45,5,45,6],[46,5,46,6],[47,5,47,6],[48,5,48,6],[52,5,52,6],[54,5,54,6],[55,5,55,6],[56,5,56,6],[57,5,57,6],[59,5,59,6],[58,5,58,6],[71,5,71,6],[72,5,72,6],[63,5,63,6],[67,5,67,6],[68,2,68,3],[69,5,69,6],[65,5,65,6],[70,5,70,6],[61,5,61,6],[68,5,68,6],[69,2,69,3],[75,5,75,6],[76,5,76,6],[77,5,77,6],[78,5,78,6],[103,1,105,3],[87,5,87,6],[86,5,86,6],[81,5,81,6],[85,5,85,6],[84,5,84,6],[83,5,83,6],[82,5,82,6],[79,5,79,6],[93,1,98,8],[92,3,92,5]]}
["WRE Wetland Restoration & Vegetation Establishment Estimate - FY 2016"]
[null,null,{"$f":"IF($C$5=$R$27,IF(ISNA(VLOOKUP($C$3,$V$26:$V$64,1,FALSE)),\"Currently, County not eligible for Grazing Reserve Rights\",\"\"),\"\")","v":""},null,null,null,null,null,null,{"$f":"Ranking!H1","v":"FY16-ver1"}]
[null,"County:",null,null,null,null,"Date:"]
[null,"Administering County:",null,null,null,null,"Assisted by:"]
[null,"Application Type:",null,null,null,null,null,"NEST# (if applicable)"]
[]
[null,"Applicant(s):"]
[]
[null,"Application Acreage:",{"$f":"Landuse_Inventory!$E$15","v":0},null,null,null,null,"Flooded Land - Acres:"]
[null,null,null,null,null,null,null,"(Criteria in Instructions)"]
["Wetland Inventory (must be completed for all apps)"]
[null,null,{"$f":"IF(C9=D16+I16,\"\",IF(C9>D16+I16,\"Check acres -  App Acres > Wetland Ac. + Upland Ac. (\"&C9&\">\"&D16&\"+\"&I16&\")\",\"Check acres -  App Acres < Wetland Ac. + Upland Ac.(\"&C9&\"<\"&D16&\"+\"&I16&\")\"))","v":""}]
[null,"Wetlands",null,"Acres","Number of Basins",null,"Uplands",null,"Acres","Planted Upland Acres"]
[null,"Non-degraded",null,{"$f":"Wetland_Inventory!BJ22","v":0},{"$f":"Wetland_Inventory!BK22","v":0},null,"Cropland",null,{"$f":"SUMIF(Landuse_Inventory!$D$5:$D$14,Inventory!G14,Landuse_Inventory!$K$5:$K$14)","v":0},{"$f":"SUMIF(Landuse_Inventory!$D$5:$D$14,Inventory!G14,Landuse_Inventory!$F$5:$F$14)","v":0},null,null,"working comments "]
[null,"Degraded",null,{"$f":"Wetland_Inventory!BJ23","v":0},{"$f":"Wetland_Inventory!BK23","v":0},null,"Other",null,{"$f":"Landuse_Inventory!$K$15-Inventory!I14","v":0},null,null,null,"considered any wetlands with more then one degredation in the following order for inclusion to wetland categories"]
[null,null," Wetland Subtotal",{"$f":"SUM(D14:D15)","v":0},{"$f":"SUM(E14:E15)","v":0},null,null," Upland Subtotal",{"$f":"SUM(I14:I15)","v":0},null,null,null,"1. mechanically - water retention / dike"]
[null,null,null,null,null,null,null,null,null,null,null,null,"2. sediment - sediment / obstruction removal"]
["Estimated Restoration Costs",null,null,null,null,null,null,null,null,null,null,null,"3. vegetative"]
[null,null,null,null,"Units","Number of Units",null,"Cost/Unit","Subtotal","Total",null,null,"4. no restoration"]
["Wetland Restoration (657)"]
[null,"Sediment Removal",null,null,"cuyds",{"$f":"Wetland_Inventory!BK39","v":0},null,{"$f":"VLOOKUP(B21,costs_Inventory!$A$2:$D$14,4,FALSE)","v":8.1},{"$f":"IF(AND(F21<>0,H21<>0),F21*H21,\"\")","v":""}]
[null,"Dikes or Plugs",null,null,"each",{"$f":"Wetland_Inventory!BK37","v":0},null,{"$f":"VLOOKUP(B22,costs_Inventory!$A$2:$D$14,4,FALSE)","v":1000},{"$f":"IF(AND(F22<>0,H22<>0),F22*H22,\"\")","v":""}]
[null,"Fill in dugouts",null,null,"cuyds",{"$f":"Wetland_Inventory!BM43","v":0},null,{"$f":"VLOOKUP(B23,costs_Inventory!$A$2:$D$14,4,FALSE)","v":4.4000000000000004},"",null,null,null,null,null,null,null,null,null,null,null,null,"New counties added FY15"]
[null,null,null,null,null,null,null,null,"",null,null,null,null,null,"County","FIPS",null,"Easement type",null,null,null,"Grazing Reserve Rights counties",null,null,"Administering County"]
[null,null,null,null,null,null,null,null,""]
["Total Wetland Restoration Cost",null,null,null,null,null,null,null,null,{"$f":"SUM(I20:I25)","v":0},null,null,null,null,"Adams","001",null,"30 year easement",null,null,null,"Barnes",null,null,"Adams"]
[null,null,null,null,null,null,null,null,null,null,null,null,null,null,"Barnes","003",null,"30 year grazing reserve rights",null,null,null,"Benson",null,null,"Barnes"]
["Conservation Cover (327)",null,null,null,null,null,null,null,null,{"$f":"IF(AND(F28<>0,H28<>0),F28*H28,\"\")","v":""},null,null,null,null,"Benson","005",null,"30 year contract (tribal land only)",null,null,null,"Bottineau",null,null,"Benson"]
[null,"Upland Grass Seeding (cost shared)",null,null,null,null,null,null,null,null,null,null,null,null,"Billings","007",null,null,null,null,null,"Burke",null,null,"Billings"]
[null,"Chemical Seedbed Preparation",null,null,{"$f":"VLOOKUP(B30,costs_Inventory!$A$2:$D$14,3,FALSE)","v":"acre"},{"$f":"Landuse_Inventory!$F$15","v":0},null,{"$f":"VLOOKUP(B30,costs_Inventory!$A$2:$D$14,4,FALSE)","v":20},{"$f":"IF(AND(F30<>0,H30<>0),F30*H30,\"\")","v":""},null,null,null,null,null,"Bottineau","009",null,null,null,null,null,"Burleigh",null,null,"Bottineau"]
[null,"Mechanical Seedbed Prep. (per Pass)",null,"(Est. assumes 2X)",{"$f":"VLOOKUP(B31,costs_Inventory!$A$2:$D$14,3,FALSE)","v":"acre"},{"$f":"Landuse_Inventory!$F$15","v":0},null,{"$f":"VLOOKUP(B31,costs_Inventory!$A$2:$D$14,4,FALSE)","v":12},{"$f":"IF(AND(F31<>0,H31<>0),F31*H31*2,\"\")","v":""},null,null,null,null,null,"Bowman","011",null,null,null,null,null,"Cass",null,null,"Bowman"]
[null,"Grass/Grain Drill",null,null,{"$f":"VLOOKUP(B32,costs_Inventory!$A$2:$D$14,3,FALSE)","v":"acre"},{"$f":"Landuse_Inventory!$F$15","v":0},null,{"$f":"VLOOKUP(B32,costs_Inventory!$A$2:$D$14,4,FALSE)","v":20},"",null,null,null,null,null,"Burke","013",null,null,null,null,null,"Cavalier",null,null,"Burke"]
[null,"Native Grass Mix",null,null,{"$f":"VLOOKUP(B33,costs_Inventory!$A$2:$D$14,3,FALSE)","v":"acre"},{"$f":"Landuse_Inventory!$F$15","v":0},null,{"$f":"VLOOKUP(B33,costs_Inventory!$A$2:$D$14,4,FALSE)","v":100},"",null,null,null,null,null,"Burleigh","015",null,null,null,null,null,"Dickey",null,null,"Burleigh"]
[null,"Mechanical weed control",null,null,{"$f":"VLOOKUP(B34,costs_Inventory!$A$2:$D$14,3,FALSE)","v":"acre"},{"$f":"Landuse_Inventory!$F$15","v":0},null,{"$f":"VLOOKUP(B34,costs_Inventory!$A$2:$D$14,4,FALSE)","v":12},"",null,null,null,null,null,"Cass","017",null,null,null,null,null,"Divide",null,null,"Cass"]
[null,"Subtotal - Upland Grass Seeding (cost shared)",null,null,null,null,null,null,{"$f":"SUM(I30:I34)","v":0},null,null,null,null,null,"Cavalier","019",null,null,null,null,null,"Eddy",null,null,"Cavalier"]
[null,"Wetland Grass Seeding - Upland Species (cost shared)",null,null,null,null,null,null,null,null,null,null,null,null,"Dickey","021",null,null,null,null,null,"Emmons",null,null,"Dickey"]
[null,"Chemical Seedbed Preparation",null,null,{"$f":"VLOOKUP(B37,costs_Inventory!$A$2:$D$14,3,FALSE)","v":"acre"},{"$f":"Wetland_Inventory!$BK$46","v":0},null,{"$f":"VLOOKUP(B37,costs_Inventory!$A$2:$D$14,4,FALSE)","v":20},{"$f":"IF(AND(F37<>0,H37<>0),F37*H37,\"\")","v":""},null,null,null,null,null,"Divide","023",null,null,null,null,null,"Foster",null,null,"Divide"]
[null,"Mechanical Seedbed Prep. (per Pass)",null,"(Est. assumes 2X)",{"$f":"VLOOKUP(B38,costs_Inventory!$A$2:$D$14,3,FALSE)","v":"acre"},{"$f":"Wetland_Inventory!$BK$46","v":0},null,{"$f":"VLOOKUP(B38,costs_Inventory!$A$2:$D$14,4,FALSE)","v":12},{"$f":"IF(AND(F38<>0,H38<>0),F38*H38*2,\"\")","v":""},null,null,null,null,null,"Dunn","025",null,null,null,null,null,"Grand Forks",null,null,"Dunn"]
[null,"Grass/Grain Drill",null,null,{"$f":"VLOOKUP(B39,costs_Inventory!$A$2:$D$14,3,FALSE)","v":"acre"},{"$f":"Wetland_Inventory!$BK$46","v":0},null,{"$f":"VLOOKUP(B39,costs_Inventory!$A$2:$D$14,4,FALSE)","v":20},"",null,null,null,null,null,"Eddy","027",null,null,null,null,null,"Griggs",null,null,"Eddy"]
[null,"Native Grass Mix",null,null,{"$f":"VLOOKUP(B40,costs_Inventory!$A$2:$D$14,3,FALSE)","v":"acre"},{"$f":"Wetland_Inventory!$BK$46","v":0},null,{"$f":"VLOOKUP(B40,costs_Inventory!$A$2:$D$14,4,FALSE)","v":100},"",null,null,null,null,null,"Emmons","029",null,null,null,null,null,"Kidder",null,null,"Emmons"]
[null,"Mechanical weed control",null,null,{"$f":"VLOOKUP(B41,costs_Inventory!$A$2:$D$14,3,FALSE)","v":"acre"},{"$f":"Wetland_Inventory!$BK$46","v":0},null,{"$f":"VLOOKUP(B41,costs_Inventory!$A$2:$D$14,4,FALSE)","v":12},"",null,null,null,null,null,"Foster","031",null,null,null,null,null,"LaMoure",null,null,"Foster"]
[null,"Subtotal - Wetland Grass Seeding - Upland Species (cost shared)",null,null,null,null,null,null,{"$f":"SUM(I37:I41)","v":0},null,null,null,null,null,"Golden Valley","033",null,null,null,null,null,"Logan",null,null,"Golden Valley"]
[null,"Wetland Grass Seeding - Hydrophytic Species (cost shared)",null,null,null,null,null,null,null,null,null,null,null,null,"Grand Forks","035",null,null,null,null,null,"McHenry",null,null,"Grand Forks"]
[null,"Chemical Seedbed Preparation",null,null,{"$f":"VLOOKUP(B44,costs_Inventory!$A$2:$D$14,3,FALSE)","v":"acre"},{"$f":"Wetland_Inventory!$BK$45","v":0},null,{"$f":"VLOOKUP(B44,costs_Inventory!$A$2:$D$14,4,FALSE)","v":20},{"$f":"IF(AND(F44<>0,H44<>0),F44*H44,\"\")","v":""},null,null,null,null,null,"Grant","037",null,null,null,null,null,"McIntosh",null,null,"Grant"]
[null,"Mechanical Seedbed Prep. (per Pass)",null,"(Est. assumes 2X)",{"$f":"VLOOKUP(B45,costs_Inventory!$A$2:$D$14,3,FALSE)","v":"acre"},{"$f":"Wetland_Inventory!$BK$45","v":0},null,{"$f":"VLOOKUP(B45,costs_Inventory!$A$2:$D$14,4,FALSE)","v":12},{"$f":"IF(AND(F45<>0,H45<>0),F45*H45*2,\"\")","v":""},null,null,null,null,null,"Griggs","039",null,null,null,null,null,"McLean",null,null,"Griggs"]
[null,"Grass/Grain Drill",null,null,{"$f":"VLOOKUP(B46,costs_Inventory!$A$2:$D$14,3,FALSE)","v":"acre"},{"$f":"Wetland_Inventory!$BK$45","v":0},null,{"$f":"VLOOKUP(B46,costs_Inventory!$A$2:$D$14,4,FALSE)","v":20},"",null,null,null,null,null,"Hettinger","041",null,null,null,null,null,"Mountrail",null,null,"Hettinger"]
[null,"Native Grass Mix",null,null,{"$f":"VLOOKUP(B47,costs_Inventory!$A$2:$D$14,3,FALSE)","v":"acre"},{"$f":"Wetland_Inventory!$BK$45","v":0},null,{"$f":"VLOOKUP(B47,costs_Inventory!$A$2:$D$14,4,FALSE)","v":100},"",null,null,null,null,null,"Kidder","043",null,null,null,null,null,"Nelson",null,null,"Kidder"]
[null,"Individual Vegetative Plug (Planted)",null,null,{"$f":"VLOOKUP(B48,costs_Inventory!$A$2:$D$14,3,FALSE)","v":"each"},null,null,{"$f":"VLOOKUP(B48,costs_Inventory!$A$2:$D$14,4,FALSE)","v":1},"",null,null,null,null,null,"LaMoure","045",null,null,null,null,null,"Pembina",null,null,"LaMoure"]
[null,"Mechanical weed control",null,null,{"$f":"VLOOKUP(B49,costs_Inventory!$A$2:$D$14,3,FALSE)","v":"acre"},{"$f":"Wetland_Inventory!$BK$45","v":0},null,{"$f":"VLOOKUP(B49,costs_Inventory!$A$2:$D$14,4,FALSE)","v":12},"",null,null,null,null,null,"Logan","047",null,null,null,null,null,"Pierce",null,null,"Logan"]
[null,"Subtotal - Wetland Grass Seeding - Upland Species (cost shared)",null,null,null,null,null,null,{"$f":"SUM(I44:I49)","v":0},null,null,null,null,null,"McHenry","049",null,null,null,null,null,"Ramsey",null,null,"McHenry"]
[null,"Upland Existing Cover (NOT cost shared)",null,null,"acre",{"$f":"Landuse_Inventory!G15","v":0},null,null,0,null,null,null,null,null,"McIntosh","051",null,null,null,null,null,"Ransom",null,null,"McIntosh"]
[null,"Wetland Existing Cover (NOT cost shared)",null,null,"acre",{"$f":"Wetland_Inventory!E10-Inventory!F37-Inventory!F44","v":0},null,null,0,null,null,null,null,null,"McKenzie","053",null,null,null,null,null,"Renville",null,null,"McKenzie"]
["Total Conservation Cover Cost",null,null,null,null,null,null,null,null,{"$f":"SUM(I37:I41)+SUM(I44:I49)+SUM(I30:I34)","v":0},null,null,null,null,"McLean","055",null,null,null,null,null,"Richland",null,null,"McLean - Garrison"]
[null,null,null,null,null,null,null,null,null,null,null,null,null,null,"Mercer","057",null,null,null,null,null,"Rolette",null,null,"McLean - Turtle Lake"]
["Pest Management (595)",null,null,null,null,null,null,null,null,null,null,null,null,null,"Morton","059",null,null,null,null,null,"Sargent",null,null,"Mercer"]
[null,"Anticipated cost-share on seeded acres",null,null,null,null,null,null,null,null,null,null,null,null,"Mountrail","061",null,null,null,null,null,"Sheridan",null,null,"Morton"]
[null,"Mechanical weed control",null,"year 2",{"$f":"VLOOKUP(B57,costs_Inventory!$A$2:$D$14,3,FALSE)","v":"acre"},{"$f":"F30+F37+F44","v":0},null,{"$f":"VLOOKUP(B57,costs_Inventory!$A$2:$D$14,4,FALSE)","v":12},{"$f":"IF(AND(F57<>0,H57<>0),F57*H57,\"\")","v":""},null,null,null,null,null,"Nelson","063",null,null,null,null,null,"Steele",null,null,"Mountrail"]
[null,"Mechanical weed control",null,"year 3",{"$f":"VLOOKUP(B58,costs_Inventory!$A$2:$D$14,3,FALSE)","v":"acre"},{"$f":"F57","v":0},null,{"$f":"VLOOKUP(B58,costs_Inventory!$A$2:$D$14,4,FALSE)","v":12},"",null,null,null,null,null,"Oliver","065",null,null,null,null,null,"Stutsman",null,null,"Nelson"]
[null,"Anticipated non-cost shared existing cover acres",null,null,null,null,null,null,null,null,null,null,null,null,"Pembina","067",null,null,null,null,null,"Towner",null,null,"Oliver"]
[null,"Mechanical weed control",null,"year 2",{"$f":"VLOOKUP(B60,costs_Inventory!$A$2:$D$14,3,FALSE)","v":"acre"},{"$f":"C9-F57","v":0},null,{"$f":"VLOOKUP(B60,costs_Inventory!$A$2:$D$14,4,FALSE)","v":12},null,null,null,null,null,null,"Pierce","069",null,null,null,null,null,"Traill",null,null,"Pembina"]
[null,"Mechanical weed control",null,"year 3",{"$f":"VLOOKUP(B61,costs_Inventory!$A$2:$D$14,3,FALSE)","v":"acre"},{"$f":"F60","v":0},null,{"$f":"VLOOKUP(B61,costs_Inventory!$A$2:$D$14,4,FALSE)","v":12},null,null,null,null,null,null,"Ramsey","071",null,null,null,null,null,"Walsh",null,null,"Pierce"]
["Total Pest Management Cost",null,null,null,null,null,null,null,null,{"$f":"SUM(I57:I61)","v":0},null,null,null,null,"Ransom","073",null,null,null,null,null,"Ward",null,null,"Ramsey"]
[null,null,null,null,null,null,null,null,null,null,null,null,null,null,"Renville","075",null,null,null,null,null,"Wells",null,null,"Ransom"]
["Upland Habitat Management (645) ",null,null,null,"acre",{"$f":"I16","v":0},null,"N/C",null,null,null,null,null,null,"Richland","077",null,null,null,null,null,"Williams",null,null,"Renville"]
[null,null,null,null,null,null,null,null,null,null,null,null,null,null,"Rolette","079",null,null,null,null,null,null,null,null,"Richland"]
["Wetland Habitat Management (644)",null,null,null,"acre",{"$f":"D16","v":0},null,"N/C",null,null,null,null,null,null,"Sargent","081",null,null,null,null,null,"New counties added FY15",null,null,"Rolette"]
[null,null,null,null,null,null,null,null,null,null,null,null,null,null,"Sheridan","083",null,null,null,null,null,null,null,null,"Sargent"]
["Obstruction Removal (500)",null,null,null,null,null,null,null,null,null,null,null,null,null,"Sioux","085",null,null,null,null,null,null,null,null,"Sheridan"]
[null,"Fence Removal",{"$f":"IF(Wetland_Inventory!BK44=\"Yes\",\"Enter feet of fence\",\"\")","v":""},null,"Feet",null,null,{"$f":"VLOOKUP(B69,costs_Inventory!$A$2:$D$14,4,FALSE)","v":0.6},{"$f":"IF(AND(F69<>0,H69<>0),F69*H69,\"\")","v":""},null,null,null,null,null,"Slope","087",null,null,null,null,null,null,null,null,"Sioux - Selfridge"]
[null,"Tree Removal Rows",{"$f":"IF(Wetland_Inventory!BK42=\"Yes\",\"Enter acres of trees\",\"\")","v":""},null,"acre",null,null,{"$f":"VLOOKUP(B70,costs_Inventory!$A$2:$D$14,4,FALSE)","v":1350},"",null,null,null,null,null,"Stark","089",null,null,null,null,null,null,null,null,"Sioux - Standing Rock"]
[null,"Tree Removal Individuals",null,null,"acre",{"$f":"Wetland_Inventory!$BM$41","v":0},null,{"$f":"VLOOKUP(B71,costs_Inventory!$A$2:$D$14,4,FALSE)","v":1350},"",null,null,null,null,null,"Steele","091",null,null,null,null,null,null,null,null,"Slope"]
[null,"Rock/debris removal",null,null,"acre",{"$f":"Wetland_Inventory!$BM$40","v":0},null,{"$f":"VLOOKUP(B72,costs_Inventory!$A$2:$D$14,4,FALSE)","v":1350},"",null,null,null,null,null,"Stutsman","093",null,null,null,null,null,null,null,null,"Stark"]
["Total Obstruction Removal Costs",null,null,null,null,null,null,null,null,{"$f":"SUM(I69:I72)","v":0},null,null,null,null,"Towner","095",null,null,null,null,null,null,null,null,"Steele"]
[null,null,null,null,null,null,null,null,null,null,null,null,null,null,"Traill","097",null,null,null,null,null,null,null,null,"Stutsman"]
["Grazing Rerserve Rights ONLY",null,null,{"$f":"IF(C5=\"30 year grazing land pilot easement\",\"(See Graze Worksheet for Cost Calculations)\",\"\")","v":""},null,null,null,null,null,null,null,null,null,null,"Walsh","099",null,null,null,null,null,null,null,null,"Towner"]
[null,"Fence (382)",null,null,"Feet",{"$f":"IF($C$5=\"30 year grazing reserve rights\",Graze!D5,\"N/A\")","v":"N/A"},null,{"$f":"IF($C$5=\"30 year grazing reserve rights\",Graze!H5,\"N/A\")","v":"N/A"},{"$f":"IF($C$5=\"30 year grazing reserve rights\",Graze!G5,\"N/A\")","v":"N/A"},null,null,null,null,null,"Ward","101",null,null,null,null,null,null,null,null,"Traill"]
[null,"Watering Facility (614)",null,null,"No.",{"$f":"IF($C$5=\"30 year grazing reserve rights\",Graze!D16,\"N/A\")","v":"N/A"},null,{"$f":"IF($C$5=\"30 year grazing reserve rights\",Graze!H16,\"N/A\")","v":"N/A"},{"$f":"IF($C$5=\"30 year grazing reserve rights\",Graze!G16,\"N/A\")","v":"N/A"},null,null,null,null,null,"Wells","103",null,null,null,null,null,null,null,null,"Walsh"]
[null,"Pipeline (516)",null,null,"Feet",{"$f":"IF($C$5=\"30 year grazing reserve rights\",Graze!D31,\"N/A\")","v":"N/A"},null,{"$f":"IF($C$5=\"30 year grazing reserve rights\",Graze!H31,\"N/A\")","v":"N/A"},{"$f":"IF($C$5=\"30 year grazing reserve rights\",Graze!G31,\"N/A\")","v":"N/A"},null,null,null,null,null,"Williams","105",null,null,null,null,null,null,null,null,"Ward"]
[null,"Water Well (642)",null,null,"No.",{"$f":"IF($C$5=\"30 year grazing reserve rights\",Graze!D55,\"N/A\")","v":"N/A"},null,{"$f":"IF($C$5=\"30 year grazing reserve rights\",Graze!H55,\"N/A\")","v":"N/A"},{"$f":"IF($C$5=\"30 year grazing reserve rights\",Graze!G55,\"N/A\")","v":"N/A"},null,null,null,null,null,null,null,null,null,null,null,null,null,null,null,"Wells"]
["Total Grazing Land Pilot ONLY Costs",null,null,null,null,null,null,null,null,{"$f":"SUM(I76:I79)","v":0},null,null,null,null,null,null,null,null,null,null,null,null,null,null,"Williams"]
[]
["Other Conservation Practices Planned",null,null,null,null,null,null,null,{"$f":"IF(AND(F82<>0,H82<>0),F82*H82,\"\")","v":""}]
[null,"Wildlife water developments",null,null,"Number",null,null,null,{"$f":"IF(AND(F83<>0,H83<>0),F83*H83,\"\")","v":""}]
[null,"Well decommision",null,null,"Number",null,null,null,""]
[null,null,null,null,null,null,null,null,"",null,null,null,null,null,"To determine cost share rate if different from 75%"]
[null,null,null,null,null,null,null,null,"",null,null,null,null,null,"Equal to the per-unit cost on the WRP cost list",null,null,null,"<-- control"]
[null,null,null,null,null,null,null,null,"",null,null,null,null,null,{"$f":"Ranking!C86","v":"Equal to the per-unit cost on the WRP cost list"},null,null,null,"<-- from ranking sheet"]
["Total Other Conservation Practices Costs",null,null,null,null,null,null,null,null,{"$f":"SUM(I83:I87)","v":0},null,null,null,null,{"$f":"IF(Inventory!O87=Inventory!O86,75,Ranking!E82)","v":75},{"$f":"O88/100","v":0.75},null,{"$f":"\"NRCS Share - \"&O88&\"%\"","v":"NRCS Share - 75%"}]
[null,null,null,null,null,null,null,null,null,null,null,null,null,null,{"$f":"100-O88","v":25},null,null,{"$f":"\"Landowner(s) Share - \"&O89&\"%\"","v":"Landowner(s) Share - 25%"}]
[null,null,null,null,null,null,null,null,"Total Estimated Restoration Cost",{"$f":"SUM(J21:J88)","v":0}]
["Estimated Easement Value               $",null,null,{"$f":"IF(C3=\"\",0,IF(Ranking!D81=\"No\",IF(C5=R27,C9*VLOOKUP(C3,GARC!B4:D56,3,FALSE)*0.75,C9*VLOOKUP(C3,GARC!B4:D56,3,FALSE)),IF(C5=R27,C9*VLOOKUP(C3,GARC!B4:D56,2,FALSE)*0.75*Ranking!D81/100,C9*VLOOKUP(C3,GARC!B4:D56,2,FALSE)*Ranking!D81/100)))","v":0},null,null,null,null,{"$f":"R88","v":"NRCS Share - 75%"},{"$f":"ROUND(J90*P88,2)","v":0},null,null,null,null,"To determine other types of offers"]
[null,{"$f":"IF(Q93=\"(Enter Factor 12 on Ranking Sheet)\",\"(Enter Factor 12 on Ranking Sheet)\",IF(AND(Q92=\"N/A\", Q93=\"N/A\"),\"N/A\",IF(AND(Q92=\"(Grazing Reserve Rights)\",Q93=\"(Land Owner Offer)\"),\"(Grazing Reserve Rights & Land Owner Offer)\",IF(Q92=\"(Grazing Reserve Rights)\",\"(Grazing Reserve Rights)\",\"(Land Owner Offer)\"))))","v":"N/A"},null,null,null,null,null,null,{"$f":"R89","v":"Landowner(s) Share - 25%"},{"$f":"J90-J91","v":0},null,null,null,null,"Grazing Reserve Rights",null,{"$f":"IF(C5=\"30 year grazing reserve rights\",\"(Grazing Reserve Rights)\",\"N/A\")","v":"N/A"}]
[null,null,null,{"$f":"IF(ISNA(VLOOKUP(Ranking!$E$6,SO_Summary!$Q$8:$Q$25,1,FALSE)),\"\",\"APPRAISAL WILL BE OBTAINED\")","v":""},null,null,null,null,null,null,null,null,null,null,{"$f":"IF(E78<>\"No\",\"Landowner Offer\",\"N/A\")","v":"Landowner Offer"},{"$f":"Ranking!E78","v":"No"},{"$f":"IF(P93=0,\"(Enter Factor 12 on Ranking Sheet)\",IF(P93=\"No\",\"N/A\",\"(Land Owner Offer)\"))","v":"N/A"}]
[null,"The restoration costs calculated here are developed during ranking and pre-planning application phase.  If an offer is made and accepted, a more thorough inventory may result in different costs."]
[]
[]
[]
[]
[]
[]
["Signatures:"]
[]
[]
[null,{"$f":"C7","v":0},null,null,"Date",null,"District Conservationist",null,null,"Date"]

{"sheet":"Ranking","index":4,"n_rows":138,"n_cols":22,"rows_kept":138,"cut":false,"hidden":false,"merged":[[92,0,94,0],[92,1,92,3],[92,4,94,4],[92,5,94,5],[92,6,94,6],[92,7,94,7],[93,1,93,3],[134,16,134,17],[135,16,135,17],[136,16,136,17],[95,0,97,0],[95,1,95,3],[95,4,97,4],[95,5,97,5],[95,6,97,6],[95,7,97,7],[96,1,97,3],[133,16,133,17],[122,13,123,13],[106,16,107,16],[99,4,99,7],[106,15,107,15],[106,0,108,7],[103,0,105,7],[109,0,111,7],[112,0,114,7],[101,4,101,6],[100,1,100,2],[101,1,101,2],[43,0,48,0],[44,1,47,3],[25,0,29,0],[30,1,30,3],[31,1,32,3],[30,6,37,6],[30,4,37,4],[30,5,37,5],[30,0,37,0],[25,1,25,3],[26,1,27,3],[11,5,14,5],[11,6,14,6],[15,1,15,3],[11,0,14,0],[25,7,29,7],[25,4,29,4],[25,5,29,5],[22,6,24,6],[86,7,88,7],[81,7,85,7],[72,1,75,3],[71,4,76,4],[71,5,76,5],[71,6,76,6],[71,7,76,7],[77,6,80,6],[66,5,70,5],[60,4,65,4],[66,4,70,4],[60,5,65,5],[49,4,56,4],[49,5,56,5],[49,6,56,6],[86,6,88,6],[9,10,9,12],[17,10,17,12],[18,10,18,12],[19,10,19,12],[20,10,20,12],[19,6,21,6],[9,21,11,21],[15,19,15,20],[19,15,19,16],[20,15,20,16],[9,19,11,20],[12,19,12,20],[13,19,13,20],[14,19,14,20],[21,15,21,16],[10,10,10,12],[11,10,11,12],[12,10,12,12],[11,7,14,7],[22,15,22,16],[23,15,23,16],[38,7,42,7],[60,6,65,6],[38,4,42,4],[38,5,42,5],[43,7,48,7],[19,7,24,7],[25,6,29,6],[30,7,37,7],[60,7,65,7],[57,7,59,7],[49,7,56,7],[19,5,21,5],[22,5,24,5],[4,0,4,1],[5,4,5,5],[9,1,9,3],[4,2,5,2],[4,5,4,7],[60,1,60,3],[66,0,70,0],[38,1,38,3],[67,1,69,3],[49,1,49,3],[11,4,14,4],[6,4,6,5],[48,2,48,3],[61,1,64,3],[43,6,48,6],[66,6,70,6],[57,4,59,4],[57,5,59,5],[57,6,59,6],[66,7,70,7],[43,1,43,3],[15,0,24,0],[12,1,14,3],[16,1,18,3],[89,6,91,6],[71,1,71,3],[8,2,8,5],[98,4,98,7],[60,0,65,0],[57,1,57,3],[39,1,41,3],[58,1,58,3],[66,1,66,3],[81,4,85,4],[81,6,85,6],[77,7,80,7],[43,5,48,5],[43,4,48,4],[38,6,42,6],[38,0,42,0],[87,1,88,3],[90,1,90,3],[89,7,91,7],[89,4,91,4],[89,5,91,5],[82,1,84,3],[85,2,85,3],[11,1,11,3],[81,0,85,0],[86,1,86,3],[77,0,80,0],[89,1,89,3],[81,1,81,3],[50,1,55,3],[49,0,56,0],[77,5,80,5],[86,4,88,4],[77,1,77,3],[89,0,91,0],[86,0,88,0],[57,0,59,0],[71,0,76,0],[78,1,79,3],[77,4,80,4],[86,5,88,5],[81,5,85,5]]}
[null,null,null,null,null,null,null,"FY16-ver1"]
[]
["North Dakota"]
["WRE Environmental Ranking Worksheet - FY 2016"]
["Applicant ID:",null,{"$f":"IF(Inventory!C7=\"\",\"\",Inventory!C7)","v":""},null,"Application Type:",{"$f":"IF(Inventory!C5=\"\",\"\",Inventory!C5)","v":""}]
[null,null,null,"County:",{"$f":"IF(Inventory!C3=\"\",\"\",Inventory!C3)","v":""},null,"Date:",{"$f":"IF(Inventory!H3=\"\",\"\",Inventory!H3)","v":""}]
["Flooded Land:",null,{"$f":"IF(Inventory!I9=\"\",\"\",Inventory!I9&\" Acres\")","v":""},"Administering County:",{"$f":"IF(Inventory!C4=\"\",\"\",Inventory!C4)","v":""},null,{"$f":"IF(Inventory!I5=\"\",\"\",\"NEST#\")","v":""},{"$f":"IF(Inventory!I5=\"\",\"\",Inventory!I5)","v":""}]
["Acres:",null,{"$f":"IF(Inventory!C9=\"\",\"\",Inventory!C9)","v":0},null,null,null,"Total Application Points",{"$f":"IF(AND(E99=\"not eligible\",E100=\"not eligible\"),\"INELIGIBLE\",IF(AND(E99=\"not ranked\",E100=\"not eligible\"),\"INELIGIBLE\",IF(AND(E99=\"not eligible\",E100=\"not ranked\"),\"INELIGIBLE\",MAX(E99:E100))))","v":"INELIGIBLE"}]
[null,null,{"$f":"IF(Inventory!D16=0,\"COMPLETE INVENTORY ACRES\",\"\")","v":"COMPLETE INVENTORY ACRES"},null,null,null,null,null,null,null,"Factor 2A - per basin restored",null,null,null,null,"Factor 1",null,null,null,"Factor 4b"]
["Factor","Environmental Factor Considerations",null,null,"Number\nof Units","Units","Points","Comments",null,null," Criteria",null,null,"points",null," Criteria","breaks","points",null,"Number of Different Wetland Types",null,"Factor"]
["Prairie Pothole Ranking Factors",null,null,null,null,null,null,null,null,null,"Plugs/Retention & Sed.Removal",null,null,15,null,"per acre",1,1]
[1,{"$f":"VLOOKUP(A12,Instructions!$L$325:$N$340,2,FALSE)","v":"Estimate Surface Acres of Basins to be Restored (657) vegetatively "},null,null,{"$f":"Wetland_Inventory!BJ26","v":0},"Acres",{"$f":"IF(E12<>\"\",IF(E12*R11<=R12,E12*R11,R12),\"\")","v":0},null,null,null,"Ditch Plugs / Water Retention",null,null,13,null,"Max",null,30]
[null,{"$f":"VLOOKUP(A12,Instructions!$L$325:$N$340,3,FALSE)","v":"This is the measured or estimated acres of wetland or former wetland acres which will be restored vegetatively.  To be considered restored the acres MUST be seeded to wetland species.  Tree removal from the wetland also qualifies for this factor.  Reference the e-FOTG for 657 standard."},null,null,null,null,{"$f":"IF(E13<>\"\",E13*R8,\"\")","v":""},null,null,null,"Sediment Removal Only",null,null,3,null,null,null,null,null,1,null,0.2]
[null,null,null,null,null,null,{"$f":"IF(E14<>\"\",E14*N9,\"\")","v":""},null,null,null,null,null,null,null,null,null,null,null,null,2,null,0.4]
[null,null,null,null,null,null,{"$f":"IF(E15<>\"\",E15*N10,\"\")","v":""},null,null,null,null,null,null,null,null,null,null,null,null,3,null,0.9]
[2,{"$f":"VLOOKUP(A16,Instructions!$L$325:$N$340,2,FALSE)","v":"Wetland Basins to be Hydrologically Restored "},null,null,null,null,null,null,null,null,null,null,null,null,null,null,null,null,null,4,null,1.2]
[null,{"$f":"VLOOKUP(A16,Instructions!$L$325:$N$340,3,FALSE)","v":"This factor considers both the number of basins and acres restored  to be hydrologically restored (e.g. ditch plug, broken tile, dike, diversion, sediment removal, etc.).  Factor 2A is the number of wetland basins.  Factor 2B is the wetland acres restored."},null,null,null,null,null,null,null,null,"Factor 2B - per acre restored"]
[null,null,null,null,null,null,null,null,null,null," Criteria",null,null,"points",null,null,null,null,null,"Factor 4c","breaks"]
[null,null,null,null,null,null,null,null,null,null,"Plugs/Retention & Sed.Removal",null,null,5,null,"Factor 4a",null,null,null," Criteria",null,"points"]
[null,null,"Factor 2A - Basins Restored","Plugs/Retention & Sed.Rem/dgout",{"$f":"Wetland_Inventory!BK28","v":0},"Basins",{"$f":"IF(SUM(E20:E22)>0,E20*N11+E21*N12+E22*N13,0)","v":0},null,null,null,"Ditch Plugs / Water Retention",null,null,4,null,"Wetland Type",null,"Points per basin","Actual",">=10",10,0]
[null,null,null,"Ditch Plugs / Water Retention",{"$f":"Wetland_Inventory!BK29","v":0},null,null,null,null,null,"Sediment Removal Only",null,null,1,null,"pema",null,2.5,{"$f":"IF(ISNUMBER(VLOOKUP(P21,$C$34:$D$37,2,FALSE)),VLOOKUP(P21,$C$34:$D$37,2,FALSE)*R21,0)","v":0},">=7 and <10",7,-10]
[null,null,null,"Sed. Removal &/or Dugout Only",{"$f":"Wetland_Inventory!BK30","v":0},null,null,null,null,null,null,null,null,null,null,"pemc",null,2,{"$f":"IF(ISNUMBER(VLOOKUP(P22,$C$34:$D$37,2,FALSE)),VLOOKUP(P22,$C$34:$D$37,2,FALSE)*R22,0)","v":0},">=4 and <7",4,-20]
[null,null,"Factor 2B - Acres Restored","Plugs/Retention & Sed.Rem/dgout",{"$f":"Wetland_Inventory!BJ28","v":0},"Acres",{"$f":"IF(SUM(E23:E25)>0,E23*N19+E24*N20+E25*N21,0)","v":0},null,null,null,null,null,null,null,null,"pem/abf or pemf",null,1,{"$f":"IF(ISNUMBER(VLOOKUP(P23,$C$34:$D$37,2,FALSE)),VLOOKUP(P23,$C$34:$D$37,2,FALSE)*R23,0)","v":0},">0 and <4",0,-30]
[null,null,null,"Ditch Plugs / Water Retention",{"$f":"Wetland_Inventory!BJ29","v":0},null,null,null,null,null,"Factor 5",null,null,null,null,"other",null,0.5,{"$f":"IF(ISNUMBER(VLOOKUP(P24,$C$34:$D$37,2,FALSE)),VLOOKUP(P24,$C$34:$D$37,2,FALSE)*R24,0)","v":0},0,null,0]
[null,null,null,"Sed. Removal &/or Dugout Only",{"$f":"Wetland_Inventory!BJ30","v":0},null,null,null,null,null,"Choice",null,null,"Points",null,null,null,null,{"$f":"SUM(S21:S24)","v":0}]
[3,{"$f":"VLOOKUP(A26,Instructions!$L$325:$N$340,2,FALSE)","v":"Upland to Wetland Ratio"},null,null,{"$f":"IF(D30=\"NA\",\"\",ROUND(D29/D30,2))","v":""},"Ratio",{"$f":"IF(D30<>0,IF(E26>Q30,R30,IF(E26>=Q31,R31,IF(E26>=Q32,R32,IF(E26>=Q33,R33,R34)))),0)","v":0},{"$f":"IF(D30=\"NA\",\"WETLAND NOT RANKED\",IF(E26>Q30,\"NOT ELIGIBLE FOR WRP\",\"ELIGIBLE FOR WRP\"))","v":"WETLAND NOT RANKED"},null,null,null,null,null,0]
[null,{"$f":"VLOOKUP(A26,Instructions!$L$325:$N$340,3,FALSE)","v":"For pothole wetland type areas, this score is the result of a ratio between upland (includes non-degraded wetlands) and wetland acres. A ratio greater than 6:1 scores makes the application ineligible."},null,null,null,null,null,null,null,null,"Red",null,null,25]
[null,null,null,null,null,null,null,null,null,null,"Yellow",null,null,25,null,"Factor 3"]
[null,null,"Upland and Non-degraded wetland Acres:",{"$f":"IF(D30=\"NA\",\"NA\",Inventory!I16+Inventory!D14)","v":"NA"},null,null,null,null,null,null,"Dark Green",null,null,20,null," Criteria","breaks","points"]
[null,null,"Degraded Wetland Acres:",{"$f":"IF(Inventory!D15=0,\"NA\",Inventory!D15)","v":"NA"},null,null,null,null,null,null,"Light Green",null,null,15,null,">6",6,0]
[4,{"$f":"VLOOKUP(A31,Instructions!$L$325:$N$340,2,FALSE)","v":"Wetland Types"},null,null,{"$f":"IF(COUNT(D34:D37)=0,\"\",COUNT(D34:D37))","v":""},"Number of Types",{"$f":"IF(E31=\"\",0,IF(S25*VLOOKUP(E31,T13:V16,3)>75,75+H31,IF(S25*VLOOKUP(E31,T13:V16,3)+H31<0,0,S25*VLOOKUP(E31,T13:V16,3)+H31)))","v":0},{"$f":"IF(D38>=U20,V20,IF(D38>=U21:U21,V21,IF(D38>=U22,V22,IF(D38>U23,V23,V24))))","v":0},null,null,"Beige",null,null,10,null,">=4 and <=6",4,15]
[null,{"$f":"VLOOKUP(A31,Instructions!$L$325:$N$340,3,FALSE)","v":"This score is the combination of the wetland type, variability of wetland types within the offer, and the ratio of upland acres to existing pemf acres NOT being hydrologically restored."},null,null,null,null,null,null,null,null,"Dark Blue",null,null,5,null,">=2 and <4",2,10]
[null,null,null,null,null,null,null,null,null,null,"Light Blue",null,null,5,null,">=1 and <2",1,5]
[null,null,"pema",{"$f":"IF(Wetland_Inventory!F6=0,\"\",Wetland_Inventory!F6)","v":""},null,null,null,null,null,null,"South & West of Missouri River",null,null,10,null,">0 and <1",null,0]
[null,null,"pemc",{"$f":"IF(Wetland_Inventory!F7=0,\"\",Wetland_Inventory!F7)","v":""}]
[null,null,"pem/abf or pemf",{"$f":"IF(Wetland_Inventory!F8=0,\"\",Wetland_Inventory!F8)","v":""}]
[null,null,"other",{"$f":"IF(Wetland_Inventory!F9=0,\"\",Wetland_Inventory!F9)","v":""},null,null,null,null,null,null,"Factor 8",null,null,null,null,"Factor 6"]
[null,null,"Upland to pemf ratio",{"$f":"Wetland_Inventory!BI53","v":0},null,null,null,null,null,null,"Estimated Level of Maintenance Required",null,null,"Points",null,"Choice",null,null,null,null,"Points"]
[5,{"$f":"VLOOKUP(A39,Instructions!$L$325:$N$340,2,FALSE)","v":"State Geographic Area From USFWS Water Breeding Pairs Map"},null,null,null,null,{"$f":"IF(D43=\"\",0,VLOOKUP(D43,$K$27:$N$34,4,FALSE))","v":0}]
[null,{"$f":"VLOOKUP(A39,Instructions!$L$325:$N$340,3,FALSE)","v":"Locate the offer on the statewide 2012 Waterfowl Breeding Pairs per square mile thunderstorm maps and choose the majority color for the WRE offer.  See  \"Breeding_Pairs_Map\" worksheet tab."},null,null,null,null,null,null,null,null,"Vegetative O&M only",null,null,10,null,"Immediately Adjacent to protected wetland easement ",null,null,null,null,20]
[null,null,null,null,null,null,null,null,null,null,"Structural and vegetative O&M",null,null,0,null,"Not Adjacent",null,null,null,null,0]
[]
[null,null,"Color Code:",null,null,null,null,null,null,null,"Factor 9"]
[6,{"$f":"VLOOKUP(A44,Instructions!$L$325:$N$340,2,FALSE)","v":"Proximity to Other Protected Wetlands"},null,null,null,null,{"$f":"IF(C49=\"\",0,VLOOKUP(C49,$P$39:$U$41,6,FALSE))","v":0},null,null,null,"Choice","Points",null,null,null,"Factor 7"]
[null,{"$f":"VLOOKUP(A44,Instructions!$L$325:$N$340,3,FALSE)","v":"Protected wetlands are wetlands in public ownership or protected by public easement.  Examples of such programs are Waterfowl Production Areas, State Game Management Areas, Emergency Watershed Protection Easement areas, or lands with USFWS permanent wetland easements.  Other WRE Easements do NOT qualify since they are not permanent."},null,null,null,null,null,null,null,null,null,null,null,null,null,"County","FIPS","Points"]
[null,null,null,null,null,null,null,null,null,null,"Yes",5,null,null,null,"Adams","001",{"$f":"VLOOKUP(P46,'T&E'!$A$4:$P$56,16,FALSE)","v":8}]
[null,{"$f":"VLOOKUP(A46,Instructions!$L$325:$N$340,3,FALSE)","v":{"$error":"#N/A"}},null,null,null,null,null,null,null,null,"No",0,null,null,null,"Barnes","003",{"$f":"VLOOKUP(P47,'T&E'!$A$4:$P$56,16,FALSE)","v":8}]
[null,null,null,null,null,null,null,null,null,null,null,null,null,null,null,"Benson","005",{"$f":"VLOOKUP(P48,'T&E'!$A$4:$P$56,16,FALSE)","v":17}]
[null,null,"Not Adjacent",null,null,null,null,null,null,null,null,null,null,null,null,"Billings","007",{"$f":"VLOOKUP(P49,'T&E'!$A$4:$P$56,16,FALSE)","v":8}]
[7,{"$f":"VLOOKUP(A50,Instructions!$L$325:$N$340,2,FALSE)","v":"Threatened and Endangered Species Occur in County "},null,null,null,null,{"$f":"IF(D57=\"\",0,VLOOKUP(D57,$P$46:$R$98,3,FALSE))","v":0},null,null,null,null,"Factor 10",null,null,null,"Bottineau","009",{"$f":"VLOOKUP(P50,'T&E'!$A$4:$P$56,16,FALSE)","v":11}]
[null,{"$f":"VLOOKUP(A50,Instructions!$L$325:$N$340,3,FALSE)","v":"See the “County Occurrence of Endangered, Threatened and Candidate Species and Designated Critical Habitat in North Dakota” in Section I of the FOTG (is be updated for FY16).  When the WRE offer is in a County recognized as having T & E species, the points are awarded.  Points awarded based status of selected species.  The two following tables identify the points assigned to the selected species and then the number of points for each county due to the presence of those selected species."},null,null,null,null,null,null,null,null,null,"Watershed Rating","Points",null,null,"Bowman","011",{"$f":"VLOOKUP(P51,'T&E'!$A$4:$P$56,16,FALSE)","v":8}]
[null,null,null,null,null,null,null,null,null,null,null,"Yes",5,null,null,"Burke","013",{"$f":"VLOOKUP(P52,'T&E'!$A$4:$P$56,16,FALSE)","v":20}]
[null,null,null,null,null,null,null,null,null,null,null,"No",0,null,null,"Burleigh","015",{"$f":"VLOOKUP(P53,'T&E'!$A$4:$P$56,16,FALSE)","v":17}]
[null,null,null,null,null,null,null,null,null,null,null,null,null,null,null,"Cass","017",{"$f":"VLOOKUP(P54,'T&E'!$A$4:$P$56,16,FALSE)","v":7}]
[null,null,null,null,null,null,null,null,null,null,null,null,null,null,null,"Cavalier","019",{"$f":"VLOOKUP(P55,'T&E'!$A$4:$P$56,16,FALSE)","v":8}]
[null,null,null,null,null,null,null,null,null,null,null,null,null,null,null,"Dickey","021",{"$f":"VLOOKUP(P56,'T&E'!$A$4:$P$56,16,FALSE)","v":8}]
[null,null,"County:",{"$f":"E6","v":""},null,null,null,null,null,null,null,"Watershed HUC","Priority","Points",null,"Divide","023",{"$f":"VLOOKUP(P57,'T&E'!$A$4:$P$56,16,FALSE)","v":17}]
[8,{"$f":"VLOOKUP(A58,Instructions!$L$325:$N$340,2,FALSE)","v":"Operation and Maintenance"},null,null,null,null,{"$f":"IF(D60=\"\",0,VLOOKUP(D60,$K$39:$N$41,4,FALSE))","v":0},null,null,null,null,null,null,null,null,"Dunn","025",{"$f":"VLOOKUP(P58,'T&E'!$A$4:$P$56,16,FALSE)","v":20}]
[null,{"$f":"VLOOKUP(A58,Instructions!$L$325:$N$340,3,FALSE)","v":"How much maintenance will be needed after restoration?"},null,null,null,null,null,null,null,null,null,"09010001",{"$f":"VLOOKUP(L59,HUC_Priorities!$A$3:$C$54,2,FALSE)","v":"No"},{"$f":"VLOOKUP(M59,$L$52:$M$55,2,FALSE)","v":0},null,"Eddy","027",{"$f":"VLOOKUP(P59,'T&E'!$A$4:$P$56,16,FALSE)","v":20}]
[null,null,null,{"$f":"IF(Inventory!D16>0,IF(Wetland_Inventory!BL38>0,K41,K40),\"\")","v":""},null,null,null,null,null,null,null,"09010002",{"$f":"VLOOKUP(L60,HUC_Priorities!$A$3:$C$54,2,FALSE)","v":"Yes"},5,null,"Emmons","029",{"$f":"VLOOKUP(P60,'T&E'!$A$4:$P$56,16,FALSE)","v":17}]
[9,{"$f":"VLOOKUP(A61,Instructions!$L$325:$N$340,2,FALSE)","v":"Partners Release Form"},null,null,null,null,{"$f":"IF(D66=\"\",0,VLOOKUP(D66,$K$45:$L$47,2,FALSE))","v":0},null,null,null,null,"09010003",{"$f":"VLOOKUP(L61,HUC_Priorities!$A$3:$C$54,2,FALSE)","v":"Yes"},5,null,"Foster","031",{"$f":"VLOOKUP(P61,'T&E'!$A$4:$P$56,16,FALSE)","v":14}]
[null,{"$f":"VLOOKUP(A61,Instructions!$L$325:$N$340,3,FALSE)","v":"Partners include SCDs, Ducks Unlimited, FWS, local Water boards, Pheasants Forever, etc.  The document allows NRCD to release client information to Conservation Partners, but does not constitute a financial commitment.  The release form must be signed and attached to award points. This document is attached to the bulletin."},null,null,null,null,null,null,null,null,null,"09010004",{"$f":"VLOOKUP(L62,HUC_Priorities!$A$3:$C$54,2,FALSE)","v":"Yes"},5,null,"Golden Valley","033",{"$f":"VLOOKUP(P62,'T&E'!$A$4:$P$56,16,FALSE)","v":8}]
[null,null,null,null,null,null,null,null,null,null,null,"09010005",{"$f":"VLOOKUP(L63,HUC_Priorities!$A$3:$C$54,2,FALSE)","v":"No"},0,null,"Grand Forks","035",{"$f":"VLOOKUP(P63,'T&E'!$A$4:$P$56,16,FALSE)","v":7}]
[null,{"$f":"VLOOKUP(A63,Instructions!$L$325:$N$340,3,FALSE)","v":{"$error":"#N/A"}},null,null,null,null,null,null,null,null,null,"09020101",{"$f":"VLOOKUP(L64,HUC_Priorities!$A$3:$C$54,2,FALSE)","v":"Yes"},5,null,"Grant","037",{"$f":"VLOOKUP(P64,'T&E'!$A$4:$P$56,16,FALSE)","v":8}]
[null,null,null,null,null,null,null,null,null,null,null,"09020104",{"$f":"VLOOKUP(L65,HUC_Priorities!$A$3:$C$54,2,FALSE)","v":"Yes"},5,null,"Griggs","039",{"$f":"VLOOKUP(P65,'T&E'!$A$4:$P$56,16,FALSE)","v":7}]
[null,null,null,"No",null,null,null,null,null,null,null,"09020105",{"$f":"VLOOKUP(L66,HUC_Priorities!$A$3:$C$54,2,FALSE)","v":"Yes"},5,null,"Hettinger","041",{"$f":"VLOOKUP(P66,'T&E'!$A$4:$P$56,16,FALSE)","v":8}]
[10,{"$f":"VLOOKUP(A67,Instructions!$L$325:$N$340,2,FALSE)","v":"Water Quality Improvement"},null,null,null,null,{"$f":"IF(D71=\"\",0,VLOOKUP(D71,$L$58:$N$111,3,FALSE))","v":0},null,null,null,null,"09020107",{"$f":"VLOOKUP(L67,HUC_Priorities!$A$3:$C$54,2,FALSE)","v":"Yes"},5,null,"Kidder","043",{"$f":"VLOOKUP(P67,'T&E'!$A$4:$P$56,16,FALSE)","v":17}]
[null,{"$f":"VLOOKUP(A67,Instructions!$L$325:$N$340,3,FALSE)","v":"The ND Health Dept. has identified priority watersheds by 8 digit HUCs.  Those watersheds with impaired waters are granted 5 points.  See  \"HUC_map\" worksheet tab for watershed HUC."},null,null,null,null,null,null,null,null,null,"09020109",{"$f":"VLOOKUP(L68,HUC_Priorities!$A$3:$C$54,2,FALSE)","v":"Yes"},5,null,"LaMoure","045",{"$f":"VLOOKUP(P68,'T&E'!$A$4:$P$56,16,FALSE)","v":8}]
[null,null,null,null,null,null,null,null,null,null,null,"09020201",{"$f":"VLOOKUP(L69,HUC_Priorities!$A$3:$C$54,2,FALSE)","v":"Yes"},5,null,"Logan","047",{"$f":"VLOOKUP(P69,'T&E'!$A$4:$P$56,16,FALSE)","v":14}]
[null,null,null,null,null,null,null,null,null,null,null,"09020202",{"$f":"VLOOKUP(L70,HUC_Priorities!$A$3:$C$54,2,FALSE)","v":"Yes"},5,null,"McHenry","049",{"$f":"VLOOKUP(P70,'T&E'!$A$4:$P$56,16,FALSE)","v":23}]
[null,null,"Watershed HUC:",null,null,null,null,null,null,null,null,"09020203",{"$f":"VLOOKUP(L71,HUC_Priorities!$A$3:$C$54,2,FALSE)","v":"Yes"},5,null,"McIntosh","051",{"$f":"VLOOKUP(P71,'T&E'!$A$4:$P$56,16,FALSE)","v":17}]
[11,{"$f":"VLOOKUP(A72,Instructions!$L$325:$N$340,2,FALSE)","v":"Retention  "},null,null,null,null,{"$f":"IF(D77=\"\",0,VLOOKUP(D77,$P$102:$Q$104,2,FALSE))","v":0},null,null,null,null,"09020204",{"$f":"VLOOKUP(L72,HUC_Priorities!$A$3:$C$54,2,FALSE)","v":"Yes"},5,null,"McKenzie","053",{"$f":"VLOOKUP(P72,'T&E'!$A$4:$P$56,16,FALSE)","v":23}]
[null,{"$f":"VLOOKUP(A72,Instructions!$L$325:$N$340,3,FALSE)","v":"Will the easement's vegetative and hydrologically restored areas remain protected after the WRE easement has expired or will it return to cropland?  If a public entity i.e. Natural Resources Trust, NDGF, USFWS (purchase agreement or easement) has formally agreed to extend the life of the restoration, then answer yes.  "},null,null,null,null,null,null,null,null,null,"09020205",{"$f":"VLOOKUP(L73,HUC_Priorities!$A$3:$C$54,2,FALSE)","v":"Yes"},5,null,"McLean","055",{"$f":"VLOOKUP(P73,'T&E'!$A$4:$P$56,16,FALSE)","v":20}]
[null,null,null,null,null,null,null,null,null,null,null,"09020301",{"$f":"VLOOKUP(L74,HUC_Priorities!$A$3:$C$54,2,FALSE)","v":"Yes"},5,null,"Mercer","057",{"$f":"VLOOKUP(P74,'T&E'!$A$4:$P$56,16,FALSE)","v":17}]
[null,null,null,null,null,null,null,null,null,null,null,"09020306",{"$f":"VLOOKUP(L75,HUC_Priorities!$A$3:$C$54,2,FALSE)","v":"Yes"},5,null,"Morton","059",{"$f":"VLOOKUP(P75,'T&E'!$A$4:$P$56,16,FALSE)","v":17}]
[null,null,null,null,null,null,null,null,null,null,null,"09020307",{"$f":"VLOOKUP(L76,HUC_Priorities!$A$3:$C$54,2,FALSE)","v":"Yes"},5,null,"Mountrail","061",{"$f":"VLOOKUP(P76,'T&E'!$A$4:$P$56,16,FALSE)","v":20}]
[null,null,null,"No",null,null,null,null,null,null,null,"09020308",{"$f":"VLOOKUP(L77,HUC_Priorities!$A$3:$C$54,2,FALSE)","v":"Yes"},5,null,"Nelson","063",{"$f":"VLOOKUP(P77,'T&E'!$A$4:$P$56,16,FALSE)","v":7}]
[12,{"$f":"VLOOKUP(A78,Instructions!$L$325:$N$340,2,FALSE)","v":"Producer will accept less than 75% of NRCS GARC for 30-Year Easement"},null,null,{"$f":"D81","v":"No"},null,{"$f":"IF(D81=\"\",0,VLOOKUP(D81,$P$109:$Q$115,2,FALSE))","v":0},null,null,null,null,"09020310",{"$f":"VLOOKUP(L78,HUC_Priorities!$A$3:$C$54,2,FALSE)","v":"Yes"},5,null,"Oliver","065",{"$f":"VLOOKUP(P78,'T&E'!$A$4:$P$56,16,FALSE)","v":20}]
[null,{"$f":"VLOOKUP(A78,Instructions!$L$325:$N$340,3,FALSE)","v":"Will landowner (in writing) accept less than 75% of NRCS established value?  If YES, enter the percent of appraised value chosen by the applicant."},null,null,null,null,null,null,null,null,null,"09020311",{"$f":"VLOOKUP(L79,HUC_Priorities!$A$3:$C$54,2,FALSE)","v":"Yes"},5,null,"Pembina","067",{"$f":"VLOOKUP(P79,'T&E'!$A$4:$P$56,16,FALSE)","v":8}]
[null,null,null,null,null,null,null,null,null,null,null,"09020313",{"$f":"VLOOKUP(L80,HUC_Priorities!$A$3:$C$54,2,FALSE)","v":"Yes"},5,null,"Pierce","069",{"$f":"VLOOKUP(P80,'T&E'!$A$4:$P$56,16,FALSE)","v":17}]
[null,null,null,"No",null,null,null,null,null,null,null,"09020315",{"$f":"VLOOKUP(L81,HUC_Priorities!$A$3:$C$54,2,FALSE)","v":"Yes"},{"$f":"VLOOKUP(M81,$L$52:$M$55,2,FALSE)","v":5},null,"Ramsey","071",{"$f":"VLOOKUP(P81,'T&E'!$A$4:$P$56,16,FALSE)","v":8}]
[13,{"$f":"VLOOKUP(A82,Instructions!$L$325:$N$340,2,FALSE)","v":"USDA Restoration Costs"},null,null,null,null,{"$f":"IF(C86=\"\",0,VLOOKUP(C86,$P$122:$U$124,6,FALSE))","v":0},null,null,null,null,"09020316",{"$f":"VLOOKUP(L82,HUC_Priorities!$A$3:$C$54,2,FALSE)","v":"Yes"},{"$f":"VLOOKUP(M82,$L$52:$M$55,2,FALSE)","v":5},null,"Ransom","073",{"$f":"VLOOKUP(P82,'T&E'!$A$4:$P$56,16,FALSE)","v":17}]
[null,{"$f":"VLOOKUP(A82,Instructions!$L$325:$N$340,3,FALSE)","v":"The intent of this factor is to rank the cost efficiency of restoration activities.  Consideration should be given if a conservation partner will decrease USDA restoration cost by paying for part of the restoration. (If COST REDUCED, enter the NRCS percent in column E)."},null,null,null,null,null,null,null,null,null,"10060005",{"$f":"VLOOKUP(L83,HUC_Priorities!$A$3:$C$54,2,FALSE)","v":"No"},0,null,"Renville","075",{"$f":"VLOOKUP(P83,'T&E'!$A$4:$P$56,16,FALSE)","v":17}]
[null,null,null,null,null,null,null,null,null,null,null,"10060006",{"$f":"VLOOKUP(L84,HUC_Priorities!$A$3:$C$54,2,FALSE)","v":"No"},0,null,"Richland","077",{"$f":"VLOOKUP(P84,'T&E'!$A$4:$P$56,16,FALSE)","v":23}]
[null,null,null,null,null,null,null,null,null,null,null,"10060007",{"$f":"VLOOKUP(L85,HUC_Priorities!$A$3:$C$54,2,FALSE)","v":"No"},0,null,"Rolette","079",{"$f":"VLOOKUP(P85,'T&E'!$A$4:$P$56,16,FALSE)","v":14}]
[null,null,"Equal to the per-unit cost on the WRP cost list",null,null,null,null,null,null,null,null,"10100004",{"$f":"VLOOKUP(L86,HUC_Priorities!$A$3:$C$54,2,FALSE)","v":"No"},0,null,"Sargent","081",{"$f":"VLOOKUP(P86,'T&E'!$A$4:$P$56,16,FALSE)","v":15}]
[14,{"$f":"VLOOKUP(A87,Instructions!$L$325:$N$340,2,FALSE)","v":"Percentage of upland area planted to annual crops"},null,null,{"$f":"IF(Inventory!I16=0,\"\",IF(Inventory!J14>0,Inventory!J14/Inventory!I16,0))","v":""},"Percent",{"$f":"IF(E87<>\"\",IF(E87>=M116,N116,IF(E87>=M117,N117,IF(E87>=M118,N118,N119))),0)","v":0},null,null,null,null,"10110101",{"$f":"VLOOKUP(L87,HUC_Priorities!$A$3:$C$54,2,FALSE)","v":"Yes"},5,null,"Sheridan","083",{"$f":"VLOOKUP(P87,'T&E'!$A$4:$P$56,16,FALSE)","v":17}]
[null,{"$f":"VLOOKUP(A87,Instructions!$L$325:$N$340,3,FALSE)","v":"Note: Existing hay land fields in rotation for more than 4 years are not considered as an annually planted cropland."},null,null,null,null,null,null,null,null,null,"10110102",{"$f":"VLOOKUP(L88,HUC_Priorities!$A$3:$C$54,2,FALSE)","v":"Yes"},5,null,"Sioux","085",{"$f":"VLOOKUP(P88,'T&E'!$A$4:$P$56,16,FALSE)","v":17}]
[null,null,null,null,null,null,null,null,null,null,null,"10110201",{"$f":"VLOOKUP(L89,HUC_Priorities!$A$3:$C$54,2,FALSE)","v":"No"},0,null,"Slope","087",{"$f":"VLOOKUP(P89,'T&E'!$A$4:$P$56,16,FALSE)","v":8}]
[15,{"$f":"VLOOKUP(A90,Instructions!$L$325:$N$340,2,FALSE)","v":"Survey Extent"},null,null,null,"Turns",{"$f":"IF(E90=\"\",\"\",IF(E90<=M125,N125,IF(E90>=M130,N130,VLOOKUP(E90,M126:N129,2,FALSE))))","v":""},null,null,null,null,"10110202",{"$f":"VLOOKUP(L90,HUC_Priorities!$A$3:$C$54,2,FALSE)","v":"No"},0,null,"Stark","089",{"$f":"VLOOKUP(P90,'T&E'!$A$4:$P$56,16,FALSE)","v":8}]
[null,{"$f":"VLOOKUP(A90,Instructions!$L$325:$N$340,3,FALSE)","v":"This factor considers how many turns will be needed to conduct the survey."},null,null,null,null,null,null,null,null,null,"10110203",{"$f":"VLOOKUP(L91,HUC_Priorities!$A$3:$C$54,2,FALSE)","v":"Yes"},5,null,"Steele","091",{"$f":"VLOOKUP(P91,'T&E'!$A$4:$P$56,16,FALSE)","v":7}]
[null,null,null,"Number of Survey Turns:",null,null,null,null,null,null,null,"10110204",{"$f":"VLOOKUP(L92,HUC_Priorities!$A$3:$C$54,2,FALSE)","v":"No"},0,null,"Stutsman","093",{"$f":"VLOOKUP(P92,'T&E'!$A$4:$P$56,16,FALSE)","v":20}]
[16,{"$f":"VLOOKUP(A93,Instructions!$L$325:$N$342,2,FALSE)","v":"CRP set to expire within one year."},null,null,null,null,{"$f":"IF(D95=\"\",0,VLOOKUP(D95,$L$136:$M$138,2,FALSE))","v":0},null,null,null,null,"10110205",{"$f":"VLOOKUP(L93,HUC_Priorities!$A$3:$C$54,2,FALSE)","v":"Yes"},{"$f":"VLOOKUP(M93,$L$52:$M$55,2,FALSE)","v":5},null,"Towner","095",{"$f":"VLOOKUP(P93,'T&E'!$A$4:$P$56,16,FALSE)","v":8}]
[null,{"$f":"VLOOKUP(A93,Instructions!$L$325:$N$342,3,FALSE)","v":"Is the offered land currently in a CRP contract set to expire within one year."},null,null,null,null,null,null,null,null,null,"10130101",{"$f":"VLOOKUP(L94,HUC_Priorities!$A$3:$C$54,2,FALSE)","v":"Yes"},5,null,"Traill","097",{"$f":"VLOOKUP(P94,'T&E'!$A$4:$P$56,16,FALSE)","v":7}]
[null,null,null,null,null,null,null,null,null,null,null,"10130102",{"$f":"VLOOKUP(L95,HUC_Priorities!$A$3:$C$54,2,FALSE)","v":"No"},0,null,"Walsh","099",{"$f":"VLOOKUP(P95,'T&E'!$A$4:$P$56,16,FALSE)","v":8}]
[17,{"$f":"VLOOKUP(A96,Instructions!$L$325:$N$342,2,FALSE)","v":"Cost Effectiveness"},null,null,null,null,{"$f":"IF(Q137<=Q129,R129,IF(Q137<=Q130,R130,IF(Q137<=Q131,R131,R132)))","v":{"$error":"#DIV/0!"}},null,null,null,null,"10130103",{"$f":"VLOOKUP(L96,HUC_Priorities!$A$3:$C$54,2,FALSE)","v":"Yes"},5,null,"Ward","101",{"$f":"VLOOKUP(P96,'T&E'!$A$4:$P$56,16,FALSE)","v":20}]
[null,{"$f":"VLOOKUP(A96,Instructions!$L$325:$N$342,3,FALSE)","v":"This factor evaluates the cost of the easement against all other factors in order to try to maximize the environmental benefit per dollar expended."},null,null,null,null,null,null,null,null,null,"10130104",{"$f":"VLOOKUP(L97,HUC_Priorities!$A$3:$C$54,2,FALSE)","v":"Yes"},5,null,"Wells","103",{"$f":"VLOOKUP(P97,'T&E'!$A$4:$P$56,16,FALSE)","v":17}]
[null,null,null,null,null,null,null,null,null,null,null,"10130106",{"$f":"VLOOKUP(L98,HUC_Priorities!$A$3:$C$54,2,FALSE)","v":"Yes"},5,null,"Williams","105",{"$f":"VLOOKUP(P98,'T&E'!$A$4:$P$56,16,FALSE)","v":17}]
["Prairie Pothole Ranking",null,null,null,{"$f":"IF(H26=\"PRAIRIE POTHOLE WETLAND NOT RANKED\",\"NOT RANKED\",IF(H26<>\"ELIGIBLE FOR WRP\",\"NOT ELIGIBLE\",SUM(G12:G98)))","v":"NOT ELIGIBLE"},null,null,null,null,null,null,"10130201",{"$f":"VLOOKUP(L99,HUC_Priorities!$A$3:$C$54,2,FALSE)","v":"Yes"},5]
["Floodplain Ranking",null,null,null,{"$f":"IF(H90=\"FLOODPLAIN NOT RANKED\",\"NOT RANKED\",IF(H90<>\"ELIGIBLE AS FLOODPLAIN\",\"NOT ELIGIBLE\",SUM(G31:G92)+SUM(G39:G57)+SUM(G61:G86)+#REF!))","v":"NOT ELIGIBLE"},null,null,null,null,null,null,"10130202",{"$f":"VLOOKUP(L100,HUC_Priorities!$A$3:$C$54,2,FALSE)","v":"Yes"},5,null,"Factor 11"]
["Add'l 1","Is the land currently in CRP?",null,null,null,null,null,null,null,null,null,"10130203",{"$f":"VLOOKUP(L101,HUC_Priorities!$A$3:$C$54,2,FALSE)","v":"Yes"},5,null,"Choice","Points"]
["Add'l 2","If land is in or was previously in CRP, were trees planted?\n(if yes explain the type of tree planting and CRP practice in comment section below.",null,null,"If trees planted, how many acres of trees?",null,null,null,null,null,null,"10130204",{"$f":"VLOOKUP(L102,HUC_Priorities!$A$3:$C$54,2,FALSE)","v":"Yes"},5]
["Comments:",null,null,null,null,null,null,null,null,null,null,"10130205",{"$f":"VLOOKUP(L103,HUC_Priorities!$A$3:$C$54,2,FALSE)","v":"Yes"},5,null,"Yes",20]
[null,null,null,null,null,null,null,null,null,null,null,"10130206",{"$f":"VLOOKUP(L104,HUC_Priorities!$A$3:$C$54,2,FALSE)","v":"Yes"},5,null,"No",0]
[null,null,null,null,null,null,null,null,null,null,null,"10130301",{"$f":"VLOOKUP(L105,HUC_Priorities!$A$3:$C$54,2,FALSE)","v":"No"},0]
[null,null,null,null,null,null,null,null,null,null,null,"10130303",{"$f":"VLOOKUP(L106,HUC_Priorities!$A$3:$C$54,2,FALSE)","v":"Yes"},5,null,"Factor 12"]
[null,null,null,null,null,null,null,null,null,null,null,"10160001",{"$f":"VLOOKUP(L107,HUC_Priorities!$A$3:$C$54,2,FALSE)","v":"Yes"},5,null,"% of Appraised Value","Points"]
[null,null,null,null,null,null,null,null,null,null,null,"10160002",{"$f":"VLOOKUP(L108,HUC_Priorities!$A$3:$C$54,2,FALSE)","v":"Yes"},5]
[null,null,null,null,null,null,null,null,null,null,null,"10160003",{"$f":"VLOOKUP(L109,HUC_Priorities!$A$3:$C$54,2,FALSE)","v":"Yes"},5]
[null,null,null,null,null,null,null,null,null,null,null,"10160004",{"$f":"VLOOKUP(L110,HUC_Priorities!$A$3:$C$54,2,FALSE)","v":"Yes"},5,null,"No",0]
[null,null,null,null,null,null,null,null,null,null,null,null,null,null,null,50,25]
[null,null,null,null,null,null,null,null,null,null,null,null,null,null,null,55,20]
[null,null,null,null,null,null,null,null,null,null,null,null,null,null,null,60,15]
[null,null,null,null,null,null,null,null,null,null,null,"Factor 14",null,null,null,65,10]
[null,null,null,null,null,null,null,null,null,null,null," Criteria","breaks","points",null,70,5]
[null,null,null,null,null,null,null,null,null,null,null,">=75",0.75,10]
[null,null,null,null,null,null,null,null,null,null,null,">=50 and <75",0.5,7]
["Ranking package has reviewed by:",null,null,null,null,null,null,null,null,null,null,">=25 and <50",0.25,2]
[null,null,null,null,null,null,null,null,null,null,null,"< 25",null,0,null,"Factor 13"]
[null,null,null,null,null,null,null,null,null,null,null,null,null,null,null,"Restoration Cost",null,null,null,null,"Points"]
[null,null,null,"          "]
[null,"Field Office Representative",null,"Date",null,null,null,null,null,null,null,"Factor 15",null,null,null,"Less than the per-unit cost on the WRP cost list",null,null,null,null,5]
[null,null,null,null,null,null,null,null,null,null,null,null,null,"point bonus",null,"Equal to the per-unit cost on the WRP cost list",null,null,null,null,0]
[null,null,null,null,null,null,null,null,null,null,null," Criteria","breaks",null,null,"Greater than the per-unit cost on the WRP cost list",null,null,null,null,-5]
[null,null,null,null,null,null,null,null,null,null,null,"<=4",4,10,null,null,null,null,{"$f":"IF($C$86=\"Less than the per-unit cost on the WRP cost list\",0,\"\")","v":""}]
[null,null,null,"          ",null,null,null,null,null,null,null,5,5,7]
[null,"Area Office Representative",null,"Date",null,null,null,null,null,null,null,6,6,5,null,"Factor 17"]
[null,null,null,null,null,null,null,null,null,null,null,7,7,3,null,"Criteria","breaks","points"]
[null,null,null,null,null,null,null,null,null,null,null,8,8,2,null,"<= 4",4,20]
[null,null,null,null,null,null,null,null,null,null,null,">=9",9,0,null,"4.01 - 8",8,15]
[null,null,null,"          ",null,null,null,null,null,null,null,null,null,null,null,"8.01 - 12",12,10]
[null,"State Office Representative",null,"Date",null,null,null,null,null,null,null,null,null,null,null,"> 12",null,0]
[null,null,null,null,null,null,null,null,null,null,null,null,null,null,null,"Calculations"]
[null,null,null,null,null,null,null,null,null,null,null,"Factor 16",null,null,null,"Costs",{"$f":"Inventory!D91+Inventory!J91","v":0}]
[null,null,null,null,null,null,null,null,null,null,null,"Choice","Points",null,null,"Acres",{"$f":"Inventory!C9","v":0}]
[null,null,null,null,null,null,null,null,null,null,null,null,null,null,null,"Pts for 1-15",{"$f":"SUM(G12:G92)","v":0}]
[null,null,null,null,null,null,null,null,null,null,null,"Yes",5,null,null,"Cost/Ac/Pts",{"$f":"ROUND(Q134/Q135/Q136,2)","v":{"$error":"#DIV/0!"}}]
[null,null,null,null,null,null,null,null,null,null,null,"No",0]

{"sheet":"Graze","index":5,"n_rows":71,"n_cols":8,"rows_kept":71,"cut":false,"hidden":false,"merged":[[70,4,70,6]]}
["ND WRE FY 2016"]
["Grazing Land Practices"]
[null,null,null,null,null,null,null,{"$f":"Ranking!H1","v":"FY16-ver1"}]
["Practice","Practice Component","Units","Number of Units","Per Unit Cost","Cost Share Type","Total Cost","Total Cost Per Unit"]
["Fence (382)",null,"Feet of Fence:",null,null,null,{"$f":"SUM(G6:G14)","v":0},{"$f":"IF(D5<>\"\",ROUND(G5/D5,2),\"\")","v":""}]
[null,"Fence (barbed or smooth)",{"$f":"VLOOKUP($B6,costs_list!$D$424:$G$432,2,FALSE)","v":"lf."},null,{"$f":"VLOOKUP($B6,costs_list!$D$424:$G$432,3,FALSE)","v":1.07},{"$f":"VLOOKUP($B6,costs_list!$D$424:$G$432,4,FALSE)","v":"AC"},{"$f":"IF(D6>0,D6*E6,\"\")","v":""}]
[null,"Fence, chain link",{"$f":"VLOOKUP($B7,costs_list!$D$424:$G$432,2,FALSE)","v":"lf."},null,{"$f":"VLOOKUP($B7,costs_list!$D$424:$G$432,3,FALSE)","v":14.05},{"$f":"VLOOKUP($B7,costs_list!$D$424:$G$432,4,FALSE)","v":"AC"},{"$f":"IF(D7>0,D7*E7,\"\")","v":""}]
[null,"Fence, Feedlot",{"$f":"VLOOKUP($B8,costs_list!$D$424:$G$432,2,FALSE)","v":"lf."},null,{"$f":"VLOOKUP($B8,costs_list!$D$424:$G$432,3,FALSE)","v":8.1999999999999993},{"$f":"VLOOKUP($B8,costs_list!$D$424:$G$432,4,FALSE)","v":"AC"},""]
[null,"Fence, Feedlot for wind protection",{"$f":"VLOOKUP($B9,costs_list!$D$424:$G$432,2,FALSE)","v":"lf."},null,{"$f":"VLOOKUP($B9,costs_list!$D$424:$G$432,3,FALSE)","v":12.85},{"$f":"VLOOKUP($B9,costs_list!$D$424:$G$432,4,FALSE)","v":"AC"},""]
[null,"Fence, power (electric) - 1 wire",{"$f":"VLOOKUP($B10,costs_list!$D$424:$G$432,2,FALSE)","v":"lf."},null,{"$f":"VLOOKUP($B10,costs_list!$D$424:$G$432,3,FALSE)","v":0.51},{"$f":"VLOOKUP($B10,costs_list!$D$424:$G$432,4,FALSE)","v":"AC"},""]
[null,"Fence, power (electric) - multiple wire",{"$f":"VLOOKUP($B11,costs_list!$D$424:$G$432,2,FALSE)","v":"lf."},null,{"$f":"VLOOKUP($B11,costs_list!$D$424:$G$432,3,FALSE)","v":0.67},{"$f":"VLOOKUP($B11,costs_list!$D$424:$G$432,4,FALSE)","v":"AC"},""]
[null,"Fence, Power (Electric) Fence Energizers",{"$f":"VLOOKUP($B12,costs_list!$D$424:$G$432,2,FALSE)","v":"each"},null,{"$f":"VLOOKUP($B12,costs_list!$D$424:$G$432,3,FALSE)","v":400},{"$f":"VLOOKUP($B12,costs_list!$D$424:$G$432,4,FALSE)","v":"AC"},""]
[null,"Fence, Solar panel and energizer (electric) fence",{"$f":"VLOOKUP($B13,costs_list!$D$424:$G$432,2,FALSE)","v":"each"},null,{"$f":"VLOOKUP($B13,costs_list!$D$424:$G$432,3,FALSE)","v":495},{"$f":"VLOOKUP($B13,costs_list!$D$424:$G$432,4,FALSE)","v":"AC"},""]
[null,"Fence, woven wire",{"$f":"VLOOKUP($B14,costs_list!$D$424:$G$432,2,FALSE)","v":"lf."},null,{"$f":"VLOOKUP($B14,costs_list!$D$424:$G$432,3,FALSE)","v":1.46},{"$f":"VLOOKUP($B14,costs_list!$D$424:$G$432,4,FALSE)","v":"AC"},""]
[]
["Watering Facility (614)",null,"Number of Water Facilities:",null,null,null,{"$f":"SUM(G17:G29)","v":0},{"$f":"IF(D16<>\"\",ROUND(G16/D16,2),\"\")","v":""}]
[null,"Formed steel reinforced concrete (4000 psi)",{"$f":"VLOOKUP($B17,costs_list!$D$746:$G$758,2,FALSE)","v":"cu.yd."},null,{"$f":"VLOOKUP($B17,costs_list!$D$746:$G$758,3,FALSE)","v":708.8},{"$f":"VLOOKUP($B17,costs_list!$D$746:$G$758,4,FALSE)","v":"AC"},{"$f":"IF(D17>0,D17*E17,\"\")","v":""}]
[null,"Formed steel reinforced concrete (M strength)",{"$f":"VLOOKUP($B18,costs_list!$D$746:$G$758,2,FALSE)","v":"cu.yd."},null,{"$f":"VLOOKUP($B18,costs_list!$D$746:$G$758,3,FALSE)","v":567.5},{"$f":"VLOOKUP($B18,costs_list!$D$746:$G$758,4,FALSE)","v":"AC"},{"$f":"IF(D18>0,D18*E18,\"\")","v":""}]
[null,"Gravel (pit run)",{"$f":"VLOOKUP($B19,costs_list!$D$746:$G$758,2,FALSE)","v":"cu.yd."},null,{"$f":"VLOOKUP($B19,costs_list!$D$746:$G$758,3,FALSE)","v":17.25},{"$f":"VLOOKUP($B19,costs_list!$D$746:$G$758,4,FALSE)","v":"AC"},""]
[null,"Livestock Water - Storage Tank",{"$f":"VLOOKUP($B20,costs_list!$D$746:$G$758,2,FALSE)","v":"gal."},null,{"$f":"VLOOKUP($B20,costs_list!$D$746:$G$758,3,FALSE)","v":1.1299999999999999},{"$f":"VLOOKUP($B20,costs_list!$D$746:$G$758,4,FALSE)","v":"AC"},""]
[null,"Livestock Water - Storage Tank, Frost-free",{"$f":"VLOOKUP($B21,costs_list!$D$746:$G$758,2,FALSE)","v":"gal."},null,{"$f":"VLOOKUP($B21,costs_list!$D$746:$G$758,3,FALSE)","v":3.4},{"$f":"VLOOKUP($B21,costs_list!$D$746:$G$758,4,FALSE)","v":"AC"},""]
[null,"Non-reinforced concrete or cement bedding/grouting",{"$f":"VLOOKUP($B22,costs_list!$D$746:$G$758,2,FALSE)","v":"cu.yd."},null,{"$f":"VLOOKUP($B22,costs_list!$D$746:$G$758,3,FALSE)","v":216.3},{"$f":"VLOOKUP($B22,costs_list!$D$746:$G$758,4,FALSE)","v":"AC"},""]
[null,"Nose Pump",{"$f":"VLOOKUP($B23,costs_list!$D$746:$G$758,2,FALSE)","v":"each"},null,{"$f":"VLOOKUP($B23,costs_list!$D$746:$G$758,3,FALSE)","v":541},{"$f":"VLOOKUP($B23,costs_list!$D$746:$G$758,4,FALSE)","v":"AC"},""]
[null,"Rural Water System Hookup",{"$f":"VLOOKUP($B24,costs_list!$D$746:$G$758,2,FALSE)","v":"each"},null,{"$f":"VLOOKUP($B24,costs_list!$D$746:$G$758,3,FALSE)","v":853},{"$f":"VLOOKUP($B24,costs_list!$D$746:$G$758,4,FALSE)","v":"AC"},""]
[null,"Sand (pit run)",{"$f":"VLOOKUP($B25,costs_list!$D$746:$G$758,2,FALSE)","v":"cu.yd."},null,{"$f":"VLOOKUP($B25,costs_list!$D$746:$G$758,3,FALSE)","v":21.6},{"$f":"VLOOKUP($B25,costs_list!$D$746:$G$758,4,FALSE)","v":"AC"},""]
[null,"Scoria (pit run)",{"$f":"VLOOKUP($B26,costs_list!$D$746:$G$758,2,FALSE)","v":"cu.yd."},null,{"$f":"VLOOKUP($B26,costs_list!$D$746:$G$758,3,FALSE)","v":21.6},{"$f":"VLOOKUP($B26,costs_list!$D$746:$G$758,4,FALSE)","v":"AC"},""]
[null,"Steel reinforced concrete flatwork",{"$f":"VLOOKUP($B27,costs_list!$D$746:$G$758,2,FALSE)","v":"cu.yd."},null,{"$f":"VLOOKUP($B27,costs_list!$D$746:$G$758,3,FALSE)","v":392.5},{"$f":"VLOOKUP($B27,costs_list!$D$746:$G$758,4,FALSE)","v":"AC"},""]
[null,"Water fountain",{"$f":"VLOOKUP($B28,costs_list!$D$746:$G$758,2,FALSE)","v":"each"},null,{"$f":"VLOOKUP($B28,costs_list!$D$746:$G$758,3,FALSE)","v":378},{"$f":"VLOOKUP($B28,costs_list!$D$746:$G$758,4,FALSE)","v":"AC"},""]
[null,"Wildlife Guzzler",{"$f":"VLOOKUP($B29,costs_list!$D$746:$G$758,2,FALSE)","v":"each"},null,{"$f":"VLOOKUP($B29,costs_list!$D$746:$G$758,3,FALSE)","v":1348.33},{"$f":"VLOOKUP($B29,costs_list!$D$746:$G$758,4,FALSE)","v":"AC"},""]
[]
["Pipeline (516)",null,"Feet of Pipeline:",null,null,null,{"$f":"SUM(G32:G53)","v":0},{"$f":"IF(D31<>\"\",ROUND(G31/D31,2),\"\")","v":""}]
[null,"Alternative pumping plant power source - Engineer's Estimate",{"$f":"VLOOKUP($B32,costs_list!$D$704:$G$725,2,FALSE)","v":"each"},null,{"$f":"VLOOKUP($B32,costs_list!$D$704:$G$725,3,FALSE)","v":0},{"$f":"VLOOKUP($B32,costs_list!$D$704:$G$725,4,FALSE)","v":"AC"},{"$f":"IF(D32>0,D32*E32,\"\")","v":""}]
[null,"Excavation Small Structures",{"$f":"VLOOKUP($B33,costs_list!$D$704:$G$725,2,FALSE)","v":"cu.yd."},null,{"$f":"VLOOKUP($B33,costs_list!$D$704:$G$725,3,FALSE)","v":7.1},{"$f":"VLOOKUP($B33,costs_list!$D$704:$G$725,4,FALSE)","v":"AC"},{"$f":"IF(D33>0,D33*E33,\"\")","v":""}]
[null,"Gravel (pit run)",{"$f":"VLOOKUP($B34,costs_list!$D$704:$G$725,2,FALSE)","v":"cu.yd."},null,{"$f":"VLOOKUP($B34,costs_list!$D$704:$G$725,3,FALSE)","v":17.25},{"$f":"VLOOKUP($B34,costs_list!$D$704:$G$725,4,FALSE)","v":"AC"},""]
[null,"Gravel (washed & graded)",{"$f":"VLOOKUP($B35,costs_list!$D$704:$G$725,2,FALSE)","v":"cu.yd."},null,{"$f":"VLOOKUP($B35,costs_list!$D$704:$G$725,3,FALSE)","v":28},{"$f":"VLOOKUP($B35,costs_list!$D$704:$G$725,4,FALSE)","v":"AC"},""]
[null,"Rural Water System Hookup",{"$f":"VLOOKUP($B36,costs_list!$D$704:$G$725,2,FALSE)","v":"each"},null,{"$f":"VLOOKUP($B36,costs_list!$D$704:$G$725,3,FALSE)","v":853},{"$f":"VLOOKUP($B36,costs_list!$D$704:$G$725,4,FALSE)","v":"AC"},""]
[null,"Sand (pit run)",{"$f":"VLOOKUP($B37,costs_list!$D$704:$G$725,2,FALSE)","v":"cu.yd."},null,{"$f":"VLOOKUP($B37,costs_list!$D$704:$G$725,3,FALSE)","v":21.6},{"$f":"VLOOKUP($B37,costs_list!$D$704:$G$725,4,FALSE)","v":"AC"},""]
[null,"Scoria (pit run)",{"$f":"VLOOKUP($B38,costs_list!$D$704:$G$725,2,FALSE)","v":"cu.yd."},null,{"$f":"VLOOKUP($B38,costs_list!$D$704:$G$725,3,FALSE)","v":21.6},{"$f":"VLOOKUP($B38,costs_list!$D$704:$G$725,4,FALSE)","v":"AC"},""]
[null,"Small Diameter Pipe - 1 1/4 Inches to 2 inches - HDPE pipe",{"$f":"VLOOKUP($B39,costs_list!$D$704:$G$725,2,FALSE)","v":"foot"},null,{"$f":"VLOOKUP($B39,costs_list!$D$704:$G$725,3,FALSE)","v":1.25},{"$f":"VLOOKUP($B39,costs_list!$D$704:$G$725,4,FALSE)","v":"AC"},""]
[null,"Small Diameter Pipe - 1 1/4 Inches to 2 inches - PVC pipe",{"$f":"VLOOKUP($B40,costs_list!$D$704:$G$725,2,FALSE)","v":"foot"},null,{"$f":"VLOOKUP($B40,costs_list!$D$704:$G$725,3,FALSE)","v":0.55000000000000004},{"$f":"VLOOKUP($B40,costs_list!$D$704:$G$725,4,FALSE)","v":"AC"},""]
[null,"Small Diameter Pipe - 1 Inches or Less - HDPE pipe",{"$f":"VLOOKUP($B41,costs_list!$D$704:$G$725,2,FALSE)","v":"foot"},null,{"$f":"VLOOKUP($B41,costs_list!$D$704:$G$725,3,FALSE)","v":0.73},{"$f":"VLOOKUP($B41,costs_list!$D$704:$G$725,4,FALSE)","v":"AC"},""]
[null,"Small Diameter Pipe - 1 Inches or Less - PVC pipe",{"$f":"VLOOKUP($B42,costs_list!$D$704:$G$725,2,FALSE)","v":"foot"},null,{"$f":"VLOOKUP($B42,costs_list!$D$704:$G$725,3,FALSE)","v":0.49},{"$f":"VLOOKUP($B42,costs_list!$D$704:$G$725,4,FALSE)","v":"AC"},""]
[null,"Small Diameter Pipe - Over 2 Inches - HDPE pipe",{"$f":"VLOOKUP($B43,costs_list!$D$704:$G$725,2,FALSE)","v":"foot"},null,{"$f":"VLOOKUP($B43,costs_list!$D$704:$G$725,3,FALSE)","v":3.4},{"$f":"VLOOKUP($B43,costs_list!$D$704:$G$725,4,FALSE)","v":"AC"},""]
[null,"Small Diameter Pipe - Over 2 Inches - PVC pipe",{"$f":"VLOOKUP($B44,costs_list!$D$704:$G$725,2,FALSE)","v":"foot"},null,{"$f":"VLOOKUP($B44,costs_list!$D$704:$G$725,3,FALSE)","v":1.04},{"$f":"VLOOKUP($B44,costs_list!$D$704:$G$725,4,FALSE)","v":"AC"},""]
[null,"Trenching - Boring (roadways and stream crossings)",{"$f":"VLOOKUP($B45,costs_list!$D$704:$G$725,2,FALSE)","v":"lf."},null,{"$f":"VLOOKUP($B45,costs_list!$D$704:$G$725,3,FALSE)","v":28.4},{"$f":"VLOOKUP($B45,costs_list!$D$704:$G$725,4,FALSE)","v":"AC"},""]
[null,"Trenching - Shallow Plow",{"$f":"VLOOKUP($B46,costs_list!$D$704:$G$725,2,FALSE)","v":"lf."},null,{"$f":"VLOOKUP($B46,costs_list!$D$704:$G$725,3,FALSE)","v":0.5},{"$f":"VLOOKUP($B46,costs_list!$D$704:$G$725,4,FALSE)","v":"AC"},""]
[null,"Trenching - Trenching or deep plow (frost protected plowing)",{"$f":"VLOOKUP($B47,costs_list!$D$704:$G$725,2,FALSE)","v":"lf."},null,{"$f":"VLOOKUP($B47,costs_list!$D$704:$G$725,3,FALSE)","v":2.2999999999999998},{"$f":"VLOOKUP($B47,costs_list!$D$704:$G$725,4,FALSE)","v":"AC"},""]
[null,"Trenching - Trenching or deep plow and backhoe",{"$f":"VLOOKUP($B48,costs_list!$D$704:$G$725,2,FALSE)","v":"lf."},null,{"$f":"VLOOKUP($B48,costs_list!$D$704:$G$725,3,FALSE)","v":3},{"$f":"VLOOKUP($B48,costs_list!$D$704:$G$725,4,FALSE)","v":"AC"},""]
[null,"Trenching - Backhoe",{"$f":"VLOOKUP($B49,costs_list!$D$704:$G$725,2,FALSE)","v":"lf."},null,{"$f":"VLOOKUP($B49,costs_list!$D$704:$G$725,3,FALSE)","v":3.7},{"$f":"VLOOKUP($B49,costs_list!$D$704:$G$725,4,FALSE)","v":"AC"},""]
[null,"Water Pump (installed)",{"$f":"VLOOKUP($B50,costs_list!$D$704:$G$725,2,FALSE)","v":"HP"},null,{"$f":"VLOOKUP($B50,costs_list!$D$704:$G$725,3,FALSE)","v":3013},{"$f":"VLOOKUP($B50,costs_list!$D$704:$G$725,4,FALSE)","v":"AC"},""]
[null,"Well - Pitless Well Units (steel)",{"$f":"VLOOKUP($B51,costs_list!$D$704:$G$725,2,FALSE)","v":"dia.in."},null,{"$f":"VLOOKUP($B51,costs_list!$D$704:$G$725,3,FALSE)","v":168},{"$f":"VLOOKUP($B51,costs_list!$D$704:$G$725,4,FALSE)","v":"AC"},""]
[null,"Well - Pressure Tank",{"$f":"VLOOKUP($B52,costs_list!$D$704:$G$725,2,FALSE)","v":"gal."},null,{"$f":"VLOOKUP($B52,costs_list!$D$704:$G$725,3,FALSE)","v":7},{"$f":"VLOOKUP($B52,costs_list!$D$704:$G$725,4,FALSE)","v":"AC"},""]
[null,"Well - Vault",{"$f":"VLOOKUP($B53,costs_list!$D$704:$G$725,2,FALSE)","v":"each"},null,{"$f":"VLOOKUP($B53,costs_list!$D$704:$G$725,3,FALSE)","v":1134},{"$f":"VLOOKUP($B53,costs_list!$D$704:$G$725,4,FALSE)","v":"AC"},""]
[]
["Water Well (642)",null,"Number of Wells:",null,null,null,{"$f":"SUM(G56:G69)","v":0},{"$f":"IF(D55<>\"\",ROUND(G55/D55,2),\"\")","v":""}]
[null,"Alternative pumping plant power source - Engineer's Estimate",{"$f":"VLOOKUP($B56,costs_list!$D$759:$G$772,2,FALSE)","v":"each"},null,null,{"$f":"VLOOKUP($B56,costs_list!$D$759:$G$772,4,FALSE)","v":"AC"},{"$f":"IF(D56>0,D56*E56,\"\")","v":""}]
[null,"Structural Steel",{"$f":"VLOOKUP($B57,costs_list!$D$759:$G$772,2,FALSE)","v":"lb."},null,{"$f":"VLOOKUP($B57,costs_list!$D$759:$G$772,3,FALSE)","v":5.7},{"$f":"VLOOKUP($B57,costs_list!$D$759:$G$772,4,FALSE)","v":"AC"},{"$f":"IF(D57>0,D57*E57,\"\")","v":""}]
[null,"Water Pump (installed)",{"$f":"VLOOKUP($B58,costs_list!$D$759:$G$772,2,FALSE)","v":"HP"},null,{"$f":"VLOOKUP($B58,costs_list!$D$759:$G$772,3,FALSE)","v":3013},{"$f":"VLOOKUP($B58,costs_list!$D$759:$G$772,4,FALSE)","v":"AC"},""]
[null,"Well - Bored or dug & case 12\" or larger",{"$f":"VLOOKUP($B59,costs_list!$D$759:$G$772,2,FALSE)","v":"foot"},null,{"$f":"VLOOKUP($B59,costs_list!$D$759:$G$772,3,FALSE)","v":78},{"$f":"VLOOKUP($B59,costs_list!$D$759:$G$772,4,FALSE)","v":"AC"},""]
[null,"Well - Drill & case <4\"",{"$f":"VLOOKUP($B60,costs_list!$D$759:$G$772,2,FALSE)","v":"foot"},null,{"$f":"VLOOKUP($B60,costs_list!$D$759:$G$772,3,FALSE)","v":24.32},{"$f":"VLOOKUP($B60,costs_list!$D$759:$G$772,4,FALSE)","v":"AC"},""]
[null,"Well - Drill & case <4\", Artesian",{"$f":"VLOOKUP($B61,costs_list!$D$759:$G$772,2,FALSE)","v":"foot"},null,{"$f":"VLOOKUP($B61,costs_list!$D$759:$G$772,3,FALSE)","v":28.6},{"$f":"VLOOKUP($B61,costs_list!$D$759:$G$772,4,FALSE)","v":"AC"},""]
[null,"Well - Drill & case 4\" & over, Artesian",{"$f":"VLOOKUP($B62,costs_list!$D$759:$G$772,2,FALSE)","v":"foot"},null,{"$f":"VLOOKUP($B62,costs_list!$D$759:$G$772,3,FALSE)","v":31.85},{"$f":"VLOOKUP($B62,costs_list!$D$759:$G$772,4,FALSE)","v":"AC"},""]
[null,"Well - Drill & case 4\" and over",{"$f":"VLOOKUP($B63,costs_list!$D$759:$G$772,2,FALSE)","v":"foot"},null,{"$f":"VLOOKUP($B63,costs_list!$D$759:$G$772,3,FALSE)","v":26.68},{"$f":"VLOOKUP($B63,costs_list!$D$759:$G$772,4,FALSE)","v":"AC"},""]
[null,"Well - Drilling not requiring casing",{"$f":"VLOOKUP($B64,costs_list!$D$759:$G$772,2,FALSE)","v":"foot"},null,{"$f":"VLOOKUP($B64,costs_list!$D$759:$G$772,3,FALSE)","v":11.35},{"$f":"VLOOKUP($B64,costs_list!$D$759:$G$772,4,FALSE)","v":"AC"},""]
[null,"Well - Pitless Well Units (steel)",{"$f":"VLOOKUP($B65,costs_list!$D$759:$G$772,2,FALSE)","v":"dia.in."},null,{"$f":"VLOOKUP($B65,costs_list!$D$759:$G$772,3,FALSE)","v":168},{"$f":"VLOOKUP($B65,costs_list!$D$759:$G$772,4,FALSE)","v":"AC"},""]
[null,"Well - Pressure Tank",{"$f":"VLOOKUP($B66,costs_list!$D$759:$G$772,2,FALSE)","v":"gal."},null,{"$f":"VLOOKUP($B66,costs_list!$D$759:$G$772,3,FALSE)","v":7},{"$f":"VLOOKUP($B66,costs_list!$D$759:$G$772,4,FALSE)","v":"AC"},""]
[null,"Well - Vault",{"$f":"VLOOKUP($B67,costs_list!$D$759:$G$772,2,FALSE)","v":"each"},null,{"$f":"VLOOKUP($B67,costs_list!$D$759:$G$772,3,FALSE)","v":1134},{"$f":"VLOOKUP($B67,costs_list!$D$759:$G$772,4,FALSE)","v":"AC"},""]
[null,"Well screen, plastic or galvan. steel (installed)",{"$f":"VLOOKUP($B68,costs_list!$D$759:$G$772,2,FALSE)","v":"foot"},null,{"$f":"VLOOKUP($B68,costs_list!$D$759:$G$772,3,FALSE)","v":28},{"$f":"VLOOKUP($B68,costs_list!$D$759:$G$772,4,FALSE)","v":"AC"},""]
[null,"Well screen, stainless steel or brass (installed)",{"$f":"VLOOKUP($B69,costs_list!$D$759:$G$772,2,FALSE)","v":"foot"},null,{"$f":"VLOOKUP($B69,costs_list!$D$759:$G$772,3,FALSE)","v":90.75},{"$f":"VLOOKUP($B69,costs_list!$D$759:$G$772,4,FALSE)","v":"AC"},""]
[]
["Total for Grazing Land Practices",null,null,null,{"$f":"G5+G16+G31+G55","v":0}]

{"sheet":"SO_Summary","index":6,"n_rows":57,"n_cols":17,"rows_kept":57,"cut":false,"hidden":false,"merged":[[29,0,31,1],[4,16,6,16],[28,5,28,8],[4,12,6,12],[4,14,6,14],[36,2,36,3],[35,4,35,5],[6,1,7,4],[8,7,8,8],[8,1,8,2],[10,1,10,3],[24,0,24,7],[25,0,25,7],[28,2,28,3],[34,2,34,3],[35,2,35,3],[26,0,26,7]]}
["North Dakota"]
["WRE Environmental Ranking Worksheet - FY 2016"]
["State Office Summary"]
[null,null,null,null,null,null,null,null,{"$f":"Ranking!H1","v":"FY16-ver1"}]
[null,null,null,null,null,null,null,null,null,null,null,null,"Red River Valley Basins",null,"Counties Southwest of Missouri River",null,"Counties West of Highway 83"]
["Applicant ID:",null,null,null,null,"Total Application Points",null,null,{"$f":"IF(Ranking!H8=\"\",\"\",Ranking!H8)","v":"INELIGIBLE"}]
["Applicant(s):",{"$f":"IF(Inventory!C7=\"\",\"\",Inventory!C7)","v":""},null,null,null,"NEST# (if applicable)",null,null,{"$f":"IF(Inventory!I5=\"\",\"N/A\",Inventory!I5)","v":"N/A"}]
[null,null,null,null,null,null,null,null,null,null,null,null,"09020101",null,"Adams",null,"Adams"]
["County:",{"$f":"IF(Inventory!C3=\"\",\"\",Inventory!C3)","v":""},null,null,null,"Administering County:",null,{"$f":"IF(Inventory!C4=\"\",\"\",Inventory!C4)","v":""},null,null,null,null,"09020104",null,"Billings",null,"Billings"]
[null,null,null,null,null,null,null,null,null,null,null,null,"09020105",null,"Bowman",null,"Bowman"]
["Application Type:",{"$f":"IF(Inventory!C5=\"\",\"\",Inventory!C5)","v":""},null,null,null,"Priority Area:",null,null,null,null,null,null,"09020107",null,"Dunn",null,"Burke"]
[null,null,null,null,null,"Devils Lake Basin",null,null,{"$f":"IF(Ranking!D71=\"09020201\",\"Yes\",\"No\")","v":"No"},null,null,null,"09020109",null,"Golden Valley",null,"Divide"]
["Meets Flooded Land Criteria:",null,{"$f":"IF(OR(Inventory!I9=\"\",Inventory!I9=0),\"No\",\"Yes\")","v":"No"},null,null,"Red River Valley",null,null,{"$f":"IF(ISNA(VLOOKUP(Ranking!$D$71,$M$8:$M$24,1,FALSE)),\"No\",\"Yes\")","v":"No"},null,null,null,"09020201",null,"Grant",null,"Dunn"]
[null,null,null,null,null,"Southwest of Missouri River",null,null,{"$f":"IF(ISNA(VLOOKUP(Ranking!$E$6,$O$8:$O$21,1,FALSE)),\"No\",\"Yes\")","v":"No"},null,null,null,"09020202",null,"Hettinger",null,"Golden Valley"]
["Acres:",{"$f":"IF(Inventory!C9=\"\",\"\",Inventory!C9)","v":0},null,null,null,"Tribal Contract (30-Yr)",null,null,{"$f":"IF(B11=\"30 year contract (tribal land only)\",\"Yes\",\"No\")","v":"No"},null,null,null,"09020203",null,"McKenzie",null,"Grant"]
["Cropland Acres (includes CRP)",null,{"$f":"SUM(B50:C51)+0.25*SUM(D50:D51)","v":0},null,null,"Statewide (None)",null,null,{"$f":"IF(AND(I12=\"No\",I13=\"No\",I14=\"No\",I15=\"No\"),\"Yes\",\"No\")","v":"Yes"},null,null,null,"09020204",null,"Mercer",null,"Hettinger"]
["Wetland Acres",null,{"$f":"Inventory!D16","v":0},null,null,null,null,null,null,null,null,null,"09020205",null,"Morton",null,"McKenzie"]
[null,null,null,null,null,"Funding Area:",null,null,null,null,null,null,"09020301",null,"Oliver",null,"Mercer"]
[null,"Watershed HUC:",{"$f":"Ranking!D71","v":0},null,null,"Red River Basin Initiative",null,null,{"$f":"IF(ISNA(VLOOKUP(Ranking!$D$71,$M$8:$M$24,1,FALSE)),\"No\",IF(SUM(Ranking!$E$20:$E$21)>0,\"Yes\",\"No\"))","v":"No"},null,null,null,"09020306",null,"Sioux",null,"Morton"]
[null,"CRP Expires in 1 yr:",{"$f":"Ranking!D95","v":0},null,null,"WRE-GRR (Currently N/A)",null,null,{"$f":"IF(AND(B11=\"30 year grazing reserve rights\",I14=\"Yes\"),\"Yes\",\"No\")","v":"No"},null,null,null,"09020307",null,"Slope",null,"Mountrail"]
[null,"Currently in CRP:",{"$f":"Ranking!D101","v":0},null,null,"Grazing Reserve Rights",null,null,{"$f":"IF(B11=\"30 year grazing reserve rights\",\"Yes\",\"No\")","v":"No"},null,null,null,"09020308",null,"Stark",null,"Oliver"]
[null,"Were Trees Planted With CRP:",{"$f":"Ranking!D102","v":0},null,null,"None",null,null,{"$f":"IF(AND(I19=\"No\",I20=\"No\",I21=\"No\"),\"Yes\",\"No\")","v":"Yes"},null,null,null,"09020310",null,null,null,"Sioux"]
[null,"If Trees Planted, Acres?",{"$f":"IF(Ranking!H102=\"\",\"N/A\",Ranking!H102)","v":"N/A"},null,null,null,null,null,null,null,null,null,"09020311",null,null,null,"Slope"]
[null,null,null,null,null,null,null,null,null,null,null,null,"09020313",null,null,null,"Stark"]
["Factor 9 - Signed Partners Release Form",null,null,null,null,null,null,null,{"$f":"Ranking!D66","v":"No"},null,null,null,null,null,null,null,"Williams"]
["Factor 12 - Producer will accept less than 75% of NRCS GARC for 30-Year Easement?",null,null,null,null,null,null,null,{"$f":"IF(Ranking!D81=\"\",\"\",Ranking!D81)","v":"No"}]
["Factor 13 - Producer will accept less than 75% of Restoration Cost?",null,null,null,null,null,null,null,{"$f":"IF(Ranking!C86<>\"Less than the per-unit cost on the WRP cost list\",\"No\",Ranking!E82)","v":"No"}]
[]
["Estimated Easement Value ",null,{"$f":"IF(Inventory!D91=\"\",\"\",Inventory!D91)","v":0},null,null,{"$f":"IF(ISNA(VLOOKUP(Ranking!$E$6,$Q$8:$Q$25,1,FALSE)),\"\",\"APPRAISAL REQUIRED\")","v":""}]
["(From Inventory Sheet - Must equal lowest of GARC or Landowner Value to right)",null,null,null,null,"Market Analysis Value",null,null,{"$f":"VLOOKUP($B$9,GARC!$B$4:$F$56,5,FALSE)*B15","v":{"$error":"#N/A"}}]
[null,null,null,null,null,"GARC Value (30-Yr)",null,null,{"$f":"VLOOKUP($B$9,GARC!$B$4:$F$56,3,FALSE)*B15","v":{"$error":"#N/A"}}]
[null,null,null,null,null," - Grazing Reserve Rights",null,null,{"$f":"IF(B11<>\"30 year grazing reserve rights\",\"N/A\",I31*0.75)","v":"N/A"}]
[null,null,null,null,null,"Landowner Value",null,null,{"$f":"IF(I26=\"No\",\"N/A\",IF(B11<>\"30 year grazing reserve rights\",VLOOKUP($B$9,GARC!$B$4:$F$56,2,FALSE),VLOOKUP($B$9,GARC!$B$4:$F$56,3,FALSE))*B15*I26/100)","v":"N/A"}]
[]
["Total Estimated Restoration Cost",null,{"$f":"IF(Inventory!J90=\"\",\"\",Inventory!J90)","v":0}]
[{"$f":"Inventory!I91","v":"NRCS Share - 75%"},null,{"$f":"IF(Inventory!J91=\"\",\"\",Inventory!J91)","v":0},null,{"$f":"ROUND(C36,-2)","v":0}]
[{"$f":"Inventory!I92","v":"Landowner(s) Share - 25%"},null,{"$f":"IF(Inventory!J92=\"\",\"\",Inventory!J92)","v":0}]
[]
["T&E species potentially present"]
["Endangered",null,null,null,{"$f":"IF(VLOOKUP($B$9,'T&E'!$V$4:$AP$56,16,FALSE)=\"\",\"None\",VLOOKUP($B$9,'T&E'!$V$4:$AP$56,16,FALSE))","v":{"$error":"#N/A"}}]
["Threatened",null,null,null,{"$f":"IF(VLOOKUP($B$9,'T&E'!$V$4:$AP$56,17,FALSE)=\"\",\"None\",VLOOKUP($B$9,'T&E'!$V$4:$AP$56,17,FALSE))","v":{"$error":"#N/A"}}]
["Candidate",null,null,null,{"$f":"IF(VLOOKUP($B$9,'T&E'!$V$4:$AP$56,18,FALSE)=\"\",\"None\",VLOOKUP($B$9,'T&E'!$V$4:$AP$56,18,FALSE))","v":{"$error":"#N/A"}}]
["Designated Critical Habitat"]
["Piping Plover",null,null,null,{"$f":"IF(VLOOKUP($B$9,'T&E'!$V$4:$AP$56,19,FALSE)=\"\",\"None\",VLOOKUP($B$9,'T&E'!$V$4:$AP$56,19,FALSE))","v":{"$error":"#N/A"}}]
["Piping Plover",null,null,null,{"$f":"IF(VLOOKUP($B$9,'T&E'!$V$4:$AP$56,19,FALSE)=\"\",\"None\",VLOOKUP($B$9,'T&E'!$V$4:$AP$56,19,FALSE))","v":{"$error":"#N/A"}}]
["Piping Plover",null,null,null,{"$f":"IF(VLOOKUP($B$9,'T&E'!$V$4:$AP$56,19,FALSE)=\"\",\"None\",VLOOKUP($B$9,'T&E'!$V$4:$AP$56,19,FALSE))","v":{"$error":"#N/A"}}]
[]
["Offer Acres"]
[null,"Upland","pema","pemc","pemf","other","Total"]
["Cropland",{"$f":"Landuse_Inventory!AN5","v":0},{"$f":"Landuse_Inventory!AO5","v":0},{"$f":"Landuse_Inventory!AP5","v":0},{"$f":"Landuse_Inventory!AQ5","v":0},{"$f":"Landuse_Inventory!AR5","v":0},{"$f":"SUM(B50:F50)","v":0}]
["CRP (Active)",{"$f":"Landuse_Inventory!AN6","v":0},{"$f":"Landuse_Inventory!AO6","v":0},{"$f":"Landuse_Inventory!AP6","v":0},{"$f":"Landuse_Inventory!AQ6","v":0},{"$f":"Landuse_Inventory!AR6","v":0},0]
["Rangeland",{"$f":"Landuse_Inventory!AN7","v":0},{"$f":"Landuse_Inventory!AO7","v":0},{"$f":"Landuse_Inventory!AP7","v":0},{"$f":"Landuse_Inventory!AQ7","v":0},{"$f":"Landuse_Inventory!AR7","v":0},0]
["Pastureland",{"$f":"Landuse_Inventory!AN8","v":0},{"$f":"Landuse_Inventory!AO8","v":0},{"$f":"Landuse_Inventory!AP8","v":0},{"$f":"Landuse_Inventory!AQ8","v":0},{"$f":"Landuse_Inventory!AR8","v":0},0]
["Hayland",{"$f":"Landuse_Inventory!AN9","v":0},{"$f":"Landuse_Inventory!AO9","v":0},{"$f":"Landuse_Inventory!AP9","v":0},{"$f":"Landuse_Inventory!AQ9","v":0},{"$f":"Landuse_Inventory!AR9","v":0},0]
["Wildlife/Idle",{"$f":"Landuse_Inventory!AN10","v":0},{"$f":"Landuse_Inventory!AO10","v":0},{"$f":"Landuse_Inventory!AP10","v":0},{"$f":"Landuse_Inventory!AQ10","v":0},{"$f":"Landuse_Inventory!AR10","v":0},0]
["Forest Land",{"$f":"Landuse_Inventory!AN11","v":0},{"$f":"Landuse_Inventory!AO11","v":0},{"$f":"Landuse_Inventory!AP11","v":0},{"$f":"Landuse_Inventory!AQ11","v":0},{"$f":"Landuse_Inventory!AR11","v":0},0]
[null,{"$f":"SUM(B50:B56)","v":0},{"$f":"SUM(C50:C56)","v":0},{"$f":"SUM(D50:D56)","v":0},{"$f":"SUM(E50:E56)","v":0},{"$f":"SUM(F50:F56)","v":0},0]

{"sheet":"HUC_map","index":7,"n_rows":0,"n_cols":0,"rows_kept":0,"cut":false,"hidden":false,"merged":[]}

{"sheet":"Breeding_Pairs_Map","index":8,"n_rows":2,"n_cols":1,"rows_kept":2,"cut":false,"hidden":false,"merged":[]}
["The Breeding Pairs Map was developed by US Fish and Wildlife Service."]
["For a site specific map, please refer to the GIS file located in F:\\geodata\\project_data\\nrcs."]

{"sheet":"GrazingPilotMap","index":9,"n_rows":0,"n_cols":0,"rows_kept":0,"cut":false,"hidden":false,"merged":[]}

{"sheet":"costs_Inventory","index":10,"n_rows":316,"n_cols":6,"rows_kept":316,"cut":false,"hidden":true,"merged":[]}
["practice lookup",null,"Units","$/Unit",null,"Component"]
["Sediment Removal","Excavation - Sediment Removal",{"$f":"VLOOKUP(B2,costs_components!$B$2:$F$315,2,FALSE)","v":"cu.yd."},{"$f":"VLOOKUP(B2,costs_components!$B$2:$F$315,3,FALSE)","v":8.1},null,"Air Relief Valve"]
["Dikes or Plugs","Wetland Restoration - Ditch Plug",{"$f":"VLOOKUP(B3,costs_components!$B$2:$F$315,2,FALSE)","v":"struct"},{"$f":"VLOOKUP(B3,costs_components!$B$2:$F$315,3,FALSE)","v":1000},null,"Alfalfa Valve 8\"-12\" (installed)"]
["Fill in dugouts","Excavation",{"$f":"VLOOKUP(B4,costs_components!$B$2:$F$315,2,FALSE)","v":"cu.yd."},{"$f":"VLOOKUP(B4,costs_components!$B$2:$F$315,3,FALSE)","v":4.4000000000000004},null,"Alternative pumping plant power source - Engineer's Estimate"]
["Chemical Seedbed Preparation","Chemical Seedbed Preparation",{"$f":"VLOOKUP(B5,costs_components!$B$2:$F$315,2,FALSE)","v":"acre"},{"$f":"VLOOKUP(B5,costs_components!$B$2:$F$315,3,FALSE)","v":20},null,"Anchor mulch w/netting"]
["Mechanical Seedbed Prep. (per Pass)","Mechanical Seedbed Preparation (per time)",{"$f":"VLOOKUP(B6,costs_components!$B$2:$F$315,2,FALSE)","v":"acre"},{"$f":"VLOOKUP(B6,costs_components!$B$2:$F$315,3,FALSE)","v":12},null,"Anchor mulch w/treader"]
["Grass/Grain Drill","Grass/Grain Drill",{"$f":"VLOOKUP(B7,costs_components!$B$2:$F$315,2,FALSE)","v":"acre"},{"$f":"VLOOKUP(B7,costs_components!$B$2:$F$315,3,FALSE)","v":20},null,"Anti-Seep Collar, Butyl Rubber/Neoprene With Wood Frame"]
["Native Grass Mix","Native Grass Mix",{"$f":"VLOOKUP(B8,costs_components!$B$2:$F$315,2,FALSE)","v":"acre"},{"$f":"VLOOKUP(B8,costs_components!$B$2:$F$315,3,FALSE)","v":100},null,"Cedar"]
["Mechanical weed control","Mechanical weed control",{"$f":"VLOOKUP(B9,costs_components!$B$2:$F$315,2,FALSE)","v":"acre"},{"$f":"VLOOKUP(B9,costs_components!$B$2:$F$315,3,FALSE)","v":12},null,"Chemical for Weed or Pest Control"]
["Individual Vegetative Plug (Planted)","Individual Vegetative Plug (Planted)",{"$f":"VLOOKUP(B10,costs_components!$B$2:$F$315,2,FALSE)","v":"each"},{"$f":"VLOOKUP(B10,costs_components!$B$2:$F$315,3,FALSE)","v":1},null,"Chemical Seedbed Preparation"]
["Fence Removal","Other Fence Removal",{"$f":"VLOOKUP(B11,costs_components!$B$2:$F$315,2,FALSE)","v":"foot"},{"$f":"VLOOKUP(B11,costs_components!$B$2:$F$315,3,FALSE)","v":0.6},null,"Chemical Site Preparation - trees or shrubs"]
["Tree Removal Rows","Site Clearing",{"$f":"VLOOKUP(B12,costs_components!$B$2:$F$315,2,FALSE)","v":"acre"},{"$f":"VLOOKUP(B12,costs_components!$B$2:$F$315,3,FALSE)","v":1350},null,"Chemical weed control - trees or shrubs"]
["Tree Removal Individuals","Site Clearing",{"$f":"VLOOKUP(B13,costs_components!$B$2:$F$315,2,FALSE)","v":"acre"},{"$f":"VLOOKUP(B13,costs_components!$B$2:$F$315,3,FALSE)","v":1350},null,"CMP Aluminum, CR/CS, 10 gauge"]
["Rock/debris removal","Site Clearing",{"$f":"VLOOKUP(B14,costs_components!$B$2:$F$315,2,FALSE)","v":"acre"},{"$f":"VLOOKUP(B14,costs_components!$B$2:$F$315,3,FALSE)","v":1350},null,"CMP Aluminum, CR/CS, 12 gauge"]
[null,null,null,null,null,"CMP Standard Galvanized Steel, CR/CS, 10 gauge"]
[null,null,null,null,null,"CMP Standard Galvanized Steel, CR/CS, 12 gauge"]
["Practice_Code",null,null,null,null,"CMP Standard Galvanized Steel, CR/CS, 14 gauge"]
["327",null,null,null,null,"CMP Standard Galvanized Steel, CR/CS, 16 gauge"]
["342",null,null,null,null,"CMP Steel, Polymeric Coated 10 gauge"]
["351",null,null,null,null,"CMP Steel, Polymeric Coated 12 gauge"]
["356",null,null,null,null,"CMP Steel, Polymeric Coated 14 gauge"]
["362",null,null,null,null,"CMP Steel, Polymeric Coated 16 gauge"]
["378",null,null,null,null,"CMP Steel, Polymeric Coated, CR/CS 10 gauge"]
["382",null,null,null,null,"CMP Steel, Polymeric Coated, CR/CS 12 gauge"]
["390",null,null,null,null,"CMP Steel, Polymeric Coated, CR/CS 14 gauge"]
["391",null,null,null,null,"CMP Steel, Polymeric Coated, CR/CS 16 gauge"]
["393",null,null,null,null,"CMP, Anti-Seep Diaphram - PC Steel, 2 piece, watertight coupling, rods/lugs"]
["410",null,null,null,null,"CMP, Anti-Seep Diaphram - SG Steel, 2 piece, watertight coupling, rods/lugs"]
["500",null,null,null,null,"CMP, Anti-Vortex Vane,  SG Steel, for hooded inlets"]
["516",null,null,null,null,"CMP, Conical Trash Rack, SG Steel 36\" and less (base on riser dia.)"]
["595",null,null,null,null,"CMP, Conical Trash Rack, SG Steel 42\" and over (base on riser dia.)"]
["612",null,null,null,null,"CMP, Connecting Band - Aluminum - 12\" wide 12 gauge"]
["614",null,null,null,null,"CMP, Connecting Band - Aluminum - 12\" wide 14 gauge"]
["642",null,null,null,null,"CMP, Connecting Band - Aluminum - 12\" wide 16 gauge"]
["643",null,null,null,null,"CMP, Connecting Band - Aluminum - 24\" wide 12 gauge"]
["644",null,null,null,null,"CMP, Connecting Band - Aluminum - 24\" wide 14 gauge"]
["645",null,null,null,null,"CMP, Connecting Band - Aluminum - 24\" wide 16 gauge"]
["646",null,null,null,null,"CMP, Connecting Band - Aluminum - 7 1/2\" wide 12 gauge"]
["647",null,null,null,null,"CMP, Connecting Band - Aluminum - 7 1/2\" wide 14 gauge"]
["656",null,null,null,null,"CMP, Connecting Band - Aluminum - 7 1/2\" wide 16 gauge"]
["657",null,null,null,null,"CMP, Connecting Band - Polymeric Coated Steel - 12\" wide 12 gauge"]
["658",null,null,null,null,"CMP, Connecting Band - Polymeric Coated Steel - 12\" wide 14 gauge"]
["659",null,null,null,null,"CMP, Connecting Band - Polymeric Coated Steel - 12\" wide 16 gauge"]
[null,null,null,null,null,"CMP, Connecting Band - Polymeric Coated Steel - 24\" wide 12 gauge"]
[null,null,null,null,null,"CMP, Connecting Band - Polymeric Coated Steel - 24\" wide 14 gauge"]
[null,null,null,null,null,"CMP, Connecting Band - Polymeric Coated Steel - 24\" wide 16 gauge"]
[null,null,null,null,null,"CMP, Connecting Band - Polymeric Coated Steel - 7 1/2\" wide 12 gauge"]
[null,null,null,null,null,"CMP, Connecting Band - Polymeric Coated Steel - 7 1/2\" wide 14 gauge"]
[null,null,null,null,null,"CMP, Connecting Band - Polymeric Coated Steel - 7 1/2\" wide 16 gauge"]
[null,null,null,null,null,"CMP, Connecting Band - Standard Galvanized Steel - 12\" wide 12 gauge"]
[null,null,null,null,null,"CMP, Connecting Band - Standard Galvanized Steel - 12\" wide 14 gauge"]
[null,null,null,null,null,"CMP, Connecting Band - Standard Galvanized Steel - 12\" wide 16 gauge"]
[null,null,null,null,null,"CMP, Connecting Band - Standard Galvanized Steel - 24\" wide 12 gauge"]
[null,null,null,null,null,"CMP, Connecting Band - Standard Galvanized Steel - 24\" wide 14 gauge"]
[null,null,null,null,null,"CMP, Connecting Band - Standard Galvanized Steel - 24\" wide 16 gauge"]
[null,null,null,null,null,"CMP, Connecting Band - Standard Galvanized Steel - 7 1/2\" wide 12 gauge"]
[null,null,null,null,null,"CMP, Connecting Band - Standard Galvanized Steel - 7 1/2\" wide 14 gauge"]
[null,null,null,null,null,"CMP, Connecting Band - Standard Galvanized Steel - 7 1/2\" wide 16 gauge"]
[null,null,null,null,null,"CMP, Connecting Band - Watertight PC Steel, incl. 4 rods/lugs - 24\" wide 12 gauge"]
[null,null,null,null,null,"CMP, Connecting Band - Watertight PC Steel, incl. 4 rods/lugs - 24\" wide 14 gauge"]
[null,null,null,null,null,"CMP, Connecting Band - Watertight PC Steel, incl. 4 rods/lugs - 24\" wide 16 gauge"]
[null,null,null,null,null,"CMP, Connecting Band - Watertight SG Steel, incl. 4 rods/lugs - 24\" wide 12 gauge"]
[null,null,null,null,null,"CMP, Connecting Band - Watertight SG Steel, incl. 4 rods/lugs - 24\" wide 14 gauge"]
[null,null,null,null,null,"CMP, Connecting Band - Watertight SG Steel, incl. 4 rods/lugs - 24\" wide 16 gauge"]
[null,null,null,null,null,"CMP, End Section 12\"-24\" diameter"]
[null,null,null,null,null,"CMP, End Section 30\"-36\" diameter"]
[null,null,null,null,null,"CMP, End Section 42\"-54\" diameter"]
[null,null,null,null,null,"CMP, End Section 60\" and larger diameter"]
[null,null,null,null,null,"CMP, Fabricated Trash Rack, SG Steel, based on riser diameter"]
[null,null,null,null,null,"CMP, Fabrication (labor only) - Elbows"]
[null,null,null,null,null,"CMP, Fabrication (labor only) - Skewed or Beveled Ends"]
[null,null,null,null,null,"CMP, Fabrication (labor only) - Tees, Wyes, and Riser Stubs"]
[null,null,null,null,null,"CMP, Flap Gate, SG Steel"]
[null,null,null,null,null,"CMP, Hooded Inlet Baffle Plate - SG Steel, double angle iron"]
[null,null,null,null,null,"CMP, Screen or End Cap, SG Steel"]
[null,null,null,null,null,"CMP, Splitter Type Anti-Vortex Wall - SG Steel (base on riser diameter)"]
[null,null,null,null,null,"CMP, Standard Aluminum 10 gauge"]
[null,null,null,null,null,"CMP, Standard Aluminum 12 gauge"]
[null,null,null,null,null,"CMP, Standard Aluminum 14 gauge"]
[null,null,null,null,null,"CMP, Standard Aluminum 16 gauge"]
[null,null,null,null,null,"CMP, Standard Galvanized Steel 10 gauge"]
[null,null,null,null,null,"CMP, Standard Galvanized Steel 12 gauge"]
[null,null,null,null,null,"CMP, Standard Galvanized Steel 14 gauge"]
[null,null,null,null,null,"CMP, Standard Galvanized Steel 16 gauge"]
[null,null,null,null,null,"CMP, Weir Trash Rack, SG Steel, for hooded inlets"]
[null,null,null,null,null,"Corrugated Plastic Pipe - Dual-Wall Pipe 10\""]
[null,null,null,null,null,"Corrugated Plastic Pipe - Dual-Wall Pipe 12\""]
[null,null,null,null,null,"Corrugated Plastic Pipe - Dual-Wall Pipe 15\""]
[null,null,null,null,null,"Corrugated Plastic Pipe - Dual-Wall Pipe 18\""]
[null,null,null,null,null,"Corrugated Plastic Pipe - Dual-Wall Pipe 24\""]
[null,null,null,null,null,"Corrugated Plastic Pipe - Dual-Wall Pipe 4\""]
[null,null,null,null,null,"Corrugated Plastic Pipe - Dual-Wall Pipe 6\""]
[null,null,null,null,null,"Corrugated Plastic Pipe - Dual-Wall Pipe 8\""]
[null,null,null,null,null,"Corrugated Plastic Pipe - End Section 10\""]
[null,null,null,null,null,"Corrugated Plastic Pipe - End Section 12\""]
[null,null,null,null,null,"Corrugated Plastic Pipe - End Section 15\""]
[null,null,null,null,null,"Corrugated Plastic Pipe - End Section 18\""]
[null,null,null,null,null,"Corrugated Plastic Pipe - End Section 24\""]
[null,null,null,null,null,"Corrugated Plastic Pipe - End Section 8\""]
[null,null,null,null,null,"Corrugated Plastic Pipe - Gasketed Sleeve Coupler 12\""]
[null,null,null,null,null,"Corrugated Plastic Pipe - Gasketed Sleeve Coupler 15\""]
[null,null,null,null,null,"Corrugated Plastic Pipe - Gasketed Sleeve Coupler 18\""]
[null,null,null,null,null,"Corrugated Plastic Pipe - Gasketed Sleeve Coupler 24\""]
[null,null,null,null,null,"Corrugated Plastic Pipe - Plastic Anti-Seep Collar (4X4) 10\""]
[null,null,null,null,null,"Corrugated Plastic Pipe - Plastic Anti-Seep Collar (4X4) 12\""]
[null,null,null,null,null,"Corrugated Plastic Pipe - Plastic Anti-Seep Collar (4X4) 15\""]
[null,null,null,null,null,"Corrugated Plastic Pipe - Plastic Anti-Seep Collar (4X4) 18\""]
[null,null,null,null,null,"Corrugated Plastic Pipe - Plastic Anti-Seep Collar (4X4) 24\""]
[null,null,null,null,null,"Corrugated Plastic Pipe - Plastic Anti-Seep Collar (4X4) 4\""]
[null,null,null,null,null,"Corrugated Plastic Pipe - Plastic Anti-Seep Collar (4X4) 6\""]
[null,null,null,null,null,"Corrugated Plastic Pipe - Plastic Anti-Seep Collar (4X4) 8\""]
[null,null,null,null,null,"Corrugated Plastic Pipe - Rodent Guard 10\""]
[null,null,null,null,null,"Corrugated Plastic Pipe - Rodent Guard 12\""]
[null,null,null,null,null,"Corrugated Plastic Pipe - Rodent Guard 15\""]
[null,null,null,null,null,"Corrugated Plastic Pipe - Rodent Guard 18\""]
[null,null,null,null,null,"Corrugated Plastic Pipe - Rodent Guard 24\""]
[null,null,null,null,null,"Corrugated Plastic Pipe - Rodent Guard 4\""]
[null,null,null,null,null,"Corrugated Plastic Pipe - Rodent Guard 6\""]
[null,null,null,null,null,"Corrugated Plastic Pipe - Rodent Guard 8\""]
[null,null,null,null,null,"Corrugated Plastic Pipe - Soil-Tight Split Coupler 12\""]
[null,null,null,null,null,"Corrugated Plastic Pipe - Soil-Tight Split Coupler 18\""]
[null,null,null,null,null,"Corrugated Plastic Pipe - Soil-Tight Split Coupler 24\""]
[null,null,null,null,null,"Corrugated Plastic Pipe - Split Coupler 10\""]
[null,null,null,null,null,"Corrugated Plastic Pipe - Split Coupler 12\""]
[null,null,null,null,null,"Corrugated Plastic Pipe - Split Coupler 15\""]
[null,null,null,null,null,"Corrugated Plastic Pipe - Split Coupler 18\""]
[null,null,null,null,null,"Corrugated Plastic Pipe - Split Coupler 24\""]
[null,null,null,null,null,"Corrugated Plastic Pipe - Split Coupler 4\""]
[null,null,null,null,null,"Corrugated Plastic Pipe - Split Coupler 6\""]
[null,null,null,null,null,"Corrugated Plastic Pipe - Split Coupler 8\""]
[null,null,null,null,null,"Corrugated Plastic Pipe - Tubing/Culverts - 10\""]
[null,null,null,null,null,"Corrugated Plastic Pipe - Tubing/Culverts - 12\""]
[null,null,null,null,null,"Corrugated Plastic Pipe - Tubing/Culverts - 15\""]
[null,null,null,null,null,"Corrugated Plastic Pipe - Tubing/Culverts - 18\""]
[null,null,null,null,null,"Corrugated Plastic Pipe - Tubing/Culverts - 24"]
[null,null,null,null,null,"Corrugated Plastic Pipe - Tubing/Culverts - 3\""]
[null,null,null,null,null,"Corrugated Plastic Pipe - Tubing/Culverts - 4\""]
[null,null,null,null,null,"Corrugated Plastic Pipe - Tubing/Culverts - 5\""]
[null,null,null,null,null,"Corrugated Plastic Pipe - Tubing/Culverts - 6\""]
[null,null,null,null,null,"Corrugated Plastic Pipe - Tubing/Culverts - 8\""]
[null,null,null,null,null,"Corrugated Plastic Pipe - Tubing/Culverts w/sock - 10\""]
[null,null,null,null,null,"Corrugated Plastic Pipe - Tubing/Culverts w/sock - 12\""]
[null,null,null,null,null,"Corrugated Plastic Pipe - Tubing/Culverts w/sock - 15\""]
[null,null,null,null,null,"Corrugated Plastic Pipe - Tubing/Culverts w/sock - 18\""]
[null,null,null,null,null,"Corrugated Plastic Pipe - Tubing/Culverts w/sock - 24"]
[null,null,null,null,null,"Corrugated Plastic Pipe - Tubing/Culverts w/sock - 3\""]
[null,null,null,null,null,"Corrugated Plastic Pipe - Tubing/Culverts w/sock - 4\""]
[null,null,null,null,null,"Corrugated Plastic Pipe - Tubing/Culverts w/sock - 5\""]
[null,null,null,null,null,"Corrugated Plastic Pipe - Tubing/Culverts w/sock - 6\""]
[null,null,null,null,null,"Corrugated Plastic Pipe - Tubing/Culverts w/sock - 8\""]
[null,null,null,null,null,"Critical Area Planting - Introduced / Native Grass Mix"]
[null,null,null,null,null,"Critical Area Planting - Native Grass Mix"]
[null,null,null,null,null,"Critical Area Treatment - Heavy shaping"]
[null,null,null,null,null,"Critical Area Treatment - Light shaping"]
[null,null,null,null,null,"Decomm. Well diameter <4\""]
[null,null,null,null,null,"Decomm. Well diameter 30\" and larger"]
[null,null,null,null,null,"Decomm. Well diameter 4\""]
[null,null,null,null,null,"Decomm. Well diameter 5\""]
[null,null,null,null,null,"Decomm. Well diameter 6-29\""]
[null,null,null,null,null,"Earth Fill - Class A Compaction - Clay Liners (specified density)"]
[null,null,null,null,null,"Earth Fill - Class A Compaction (specified density)"]
[null,null,null,null,null,"Earth Fill - Class C Compaction (specified method)"]
[null,null,null,null,null,"Earth Fill (hand compaction)"]
[null,null,null,null,null,"Excavation"]
[null,null,null,null,null,"Excavation - Sediment Removal"]
[null,null,null,null,null,"Excavation Small Structures"]
[null,null,null,null,null,"Feedlot Fence Removal"]
[null,null,null,null,null,"Fence (barbed or smooth)"]
[null,null,null,null,null,"Fence, chain link"]
[null,null,null,null,null,"Fence, Feedlot"]
[null,null,null,null,null,"Fence, Feedlot for wind protection"]
[null,null,null,null,null,"Fence, power (electric) - 1 wire"]
[null,null,null,null,null,"Fence, power (electric) - multiple wire"]
[null,null,null,null,null,"Fence, Power (Electric) Fence Energizers"]
[null,null,null,null,null,"Fence, Solar panel and energizer (electric) fence"]
[null,null,null,null,null,"Fence, woven wire"]
[null,null,null,null,null,"Fence, Silt"]
[null,null,null,null,null,"Formed steel reinforced concrete (4000 psi)"]
[null,null,null,null,null,"Formed steel reinforced concrete (M strength)"]
[null,null,null,null,null,"FS Potted or Containerized Tree or Shrub Planting"]
[null,null,null,null,null,"FS Replacement Planting"]
[null,null,null,null,null,"FS Site Prep. - Dozing, Scarifying, etc."]
[null,null,null,null,null,"FS Trees and Shrubs Planted"]
[null,null,null,null,null,"Gate Valve"]
[null,null,null,null,null,"Geotextile Fabric - Woven or non-woven fabric"]
[null,null,null,null,null,"Grade Stabilization - Engineer's Estimate (for items not currently in cost tables)"]
[null,null,null,null,null,"Grade Transition Section"]
[null,null,null,null,null,"Grass seeding between rows (sideoats grama and blue grama)"]
[null,null,null,null,null,"Grass/Grain Drill"]
[null,null,null,null,null,"Gravel (pit run)"]
[null,null,null,null,null,"Gravel (washed & graded)"]
[null,null,null,null,null,"Hand Opening Slide Gate"]
[null,null,null,null,null,"Hand Plant (Bare root or container)"]
[null,null,null,null,null,"Hand Plant (unrooted cuttings)"]
[null,null,null,null,null,"Hauling Materials (offsite borrow)"]
[null,null,null,null,null,"Heavy Site preparation (dozed, sheared, clipped, etc)"]
[null,null,null,null,null,"Hydoseeder, seeding and mulch"]
[null,null,null,null,null,"Individual Vegetative Plug (Planted)"]
[null,null,null,null,null,"Introduced Species (1 to 2 species)"]
[null,null,null,null,null,"Introduced Species (3 or more species)"]
[null,null,null,null,null,"Large Diameter Pipe 10\", Head 50 ft (22 psi)"]
[null,null,null,null,null,"Large Diameter Pipe 10\", SDR-26 (160 psi)"]
[null,null,null,null,null,"Large Diameter Pipe 10\", SDR-32.5 (125 psi)"]
[null,null,null,null,null,"Large Diameter Pipe 10\", SDR-41 (100 psi)"]
[null,null,null,null,null,"Large Diameter Pipe 10\", SDR-51 (80 psi)"]
[null,null,null,null,null,"Large Diameter Pipe 10\", SDR-81 (50 psi)"]
[null,null,null,null,null,"Large Diameter Pipe 12\", Head 50 ft (22 psi)"]
[null,null,null,null,null,"Large Diameter Pipe 12\", SDR-26 (160 psi)"]
[null,null,null,null,null,"Large Diameter Pipe 12\", SDR-32.5 (125 psi)"]
[null,null,null,null,null,"Large Diameter Pipe 12\", SDR-41 (100 psi)"]
[null,null,null,null,null,"Large Diameter Pipe 12\", SDR-51 (80 psi)"]
[null,null,null,null,null,"Large Diameter Pipe 12\", SDR-81 (50 psi)"]
[null,null,null,null,null,"Large Diameter Pipe 15\", Head 50 ft (22 psi)"]
[null,null,null,null,null,"Large Diameter Pipe 15\", SDR-26 (160 psi)"]
[null,null,null,null,null,"Large Diameter Pipe 15\", SDR-32.5 (125 psi)"]
[null,null,null,null,null,"Large Diameter Pipe 15\", SDR-41 (100 psi)"]
[null,null,null,null,null,"Large Diameter Pipe 15\", SDR-51 (80 psi)"]
[null,null,null,null,null,"Large Diameter Pipe 15\", SDR-81 (50 psi)"]
[null,null,null,null,null,"Large Diameter Pipe 18\", SDR-26 (160 psi)"]
[null,null,null,null,null,"Large Diameter Pipe 18\", SDR-32.5 (125 psi)"]
[null,null,null,null,null,"Large Diameter Pipe 18\", SDR-41 (100 psi)"]
[null,null,null,null,null,"Large Diameter Pipe 18\", SDR-51 (80 psi)"]
[null,null,null,null,null,"Large Diameter Pipe 18\", SDR-81 (50 psi)"]
[null,null,null,null,null,"Large Diameter Pipe 21\", SDR-32.5 (125 psi)"]
[null,null,null,null,null,"Large Diameter Pipe 21\", SDR-41 (100 psi)"]
[null,null,null,null,null,"Large Diameter Pipe 21\", SDR-51 (80 psi)"]
[null,null,null,null,null,"Large Diameter Pipe 21\", SDR-81 (50 psi)"]
[null,null,null,null,null,"Large Diameter Pipe 24\", SDR-32.5 (125 psi)"]
[null,null,null,null,null,"Large Diameter Pipe 24\", SDR-41 (100 psi)"]
[null,null,null,null,null,"Large Diameter Pipe 24\", SDR-51 (80 psi)"]
[null,null,null,null,null,"Large Diameter Pipe 24\", SDR-81 (50 psi)"]
[null,null,null,null,null,"Large Diameter Pipe 6\", Head 50 ft (22 psi)"]
[null,null,null,null,null,"Large Diameter Pipe 6\", SDR-26 (160 psi)"]
[null,null,null,null,null,"Large Diameter Pipe 6\", SDR-32.5 (125 psi)"]
[null,null,null,null,null,"Large Diameter Pipe 6\", SDR-41 (100 psi)"]
[null,null,null,null,null,"Large Diameter Pipe 6\", SDR-51 (80 psi)"]
[null,null,null,null,null,"Large Diameter Pipe 6\", SDR-81 (50 psi)"]
[null,null,null,null,null,"Large Diameter Pipe 8\", Head 50 ft (22 psi)"]
[null,null,null,null,null,"Large Diameter Pipe 8\", SDR-26 (160 psi)"]
[null,null,null,null,null,"Large Diameter Pipe 8\", SDR-32.5 (125 psi)"]
[null,null,null,null,null,"Large Diameter Pipe 8\", SDR-41 (100 psi)"]
[null,null,null,null,null,"Large Diameter Pipe 8\", SDR-51 (80 psi)"]
[null,null,null,null,null,"Large Diameter Pipe 8\", SDR-81 (50 psi)"]
[null,null,null,null,null,"Livestock Water - Storage Tank"]
[null,null,null,null,null,"Livestock Water - Storage Tank, Frost-free"]
[null,null,null,null,null,"Machine Plant (Bare root or containerized - also includes sod scalped)"]
[null,null,null,null,null,"Mechanical Seedbed Preparation (per time)"]
[null,null,null,null,null,"Mechanical Site preparation - trees or shrubs"]
[null,null,null,null,null,"Mechanical weed control"]
[null,null,null,null,null,"Mechanical Weed Control - trees and shrubs"]
[null,null,null,null,null,"Mulch Blankets"]
[null,null,null,null,null,"Native and Introduced Species"]
[null,null,null,null,null,"Native Grass Mix"]
[null,null,null,null,null,"Native Grass with Shrub and/or Forb Species"]
[null,null,null,null,null,"Non-reinforced concrete or cement bedding/grouting"]
[null,null,null,null,null,"Nose Pump"]
[null,null,null,null,null,"Other Fence Removal"]
[null,null,null,null,null,"Preservation-treated Lumber"]
[null,null,null,null,null,"Pressure Relief Valve"]
[null,null,null,null,null,"Redwood"]
[null,null,null,null,null,"Reverse Flow Check Valve"]
[null,null,null,null,null,"Riprap in place"]
[null,null,null,null,null,"Rural Water System Hookup"]
[null,null,null,null,null,"Sand (pit run)"]
[null,null,null,null,null,"Scoria (pit run)"]
[null,null,null,null,null,"Site Clearing"]
[null,null,null,null,null,"Small Diameter Pipe - 1 1/4 Inches to 2 inches - HDPE pipe"]
[null,null,null,null,null,"Small Diameter Pipe - 1 1/4 Inches to 2 inches - PVC pipe"]
[null,null,null,null,null,"Small Diameter Pipe - 1 Inches or Less - HDPE pipe"]
[null,null,null,null,null,"Small Diameter Pipe - 1 Inches or Less - PVC pipe"]
[null,null,null,null,null,"Small Diameter Pipe - Over 2 Inches - HDPE pipe"]
[null,null,null,null,null,"Small Diameter Pipe - Over 2 Inches - PVC pipe"]
[null,null,null,null,null,"Sod in-place"]
[null,null,null,null,null,"Steel reinforced concrete flatwork"]
[null,null,null,null,null,"Structural Renovations - Engineer's Estimate (for items not currently in cost tables)"]
[null,null,null,null,null,"Structural Steel"]
[null,null,null,null,null,"Structure Removal"]
[null,null,null,null,null,"Surge Valve 6\"-12\" (installed)"]
[null,null,null,null,null,"Synthetic composites"]
[null,null,null,null,null,"Synthetic Weed Barrier (6' wide)"]
[null,null,null,null,null,"Synthetic Weed Barrier Squares (4X4)"]
[null,null,null,null,null,"Temporary Cover"]
[null,null,null,null,null,"Topsoil - salvage and re-spreading"]
[null,null,null,null,null,"Tree shelter, 2 ft"]
[null,null,null,null,null,"Tree shelter, 3 ft"]
[null,null,null,null,null,"Tree shelter, 4 ft"]
[null,null,null,null,null,"Trenching - Shallow Plow"]
[null,null,null,null,null,"Trenching - Trenching or deep plow (frost protected plowing)"]
[null,null,null,null,null,"Trenching - Trenching or deep plow and backhoe"]
[null,null,null,null,null,"Trenching - Backhoe"]
[null,null,null,null,null,"Trenching - Boring (roadways and stream crossings)"]
[null,null,null,null,null,"Turf reinforcing materials"]
[null,null,null,null,null,"Water for Fill"]
[null,null,null,null,null,"Water fountain"]
[null,null,null,null,null,"Water Pump (installed)"]
[null,null,null,null,null,"Well - Bored or dug & case 12\" or larger"]
[null,null,null,null,null,"Well - Drill & case <4\""]
[null,null,null,null,null,"Well - Drill & case <4\", Artesian"]
[null,null,null,null,null,"Well - Drill & case 4\" & over, Artesian"]
[null,null,null,null,null,"Well - Drill & case 4\" and over"]
[null,null,null,null,null,"Well - Drilling not requiring casing"]
[null,null,null,null,null,"Well - Pitless Well Units (steel)"]
[null,null,null,null,null,"Well - Pressure Tank"]
[null,null,null,null,null,"Well - Vault"]
[null,null,null,null,null,"Well screen, plastic or galvan. steel (installed)"]
[null,null,null,null,null,"Well screen, stainless steel or brass (installed)"]
[null,null,null,null,null,"Wetland Restoration - Ditch Plug"]
[null,null,null,null,null,"Wheel Opening Slide Gate"]
[null,null,null,null,null,"Wildlife Guzzler"]
[null,null,null,null,null,"Wood Piling/construction poles (per dia. in. butt thickness)"]
[]
[]
[]
[null,null,null,null,null,"Corrugated Plastic Pipe - Soil-Tight Split Coupler 10\""]
[null,null,null,null,null,"Corrugated Plastic Pipe - Split Coupler 5\""]
[null,null,null,null,null,"Tree shelter, 5 ft"]

{"sheet":"costs_list","index":11,"n_rows":1079,"n_cols":14,"rows_kept":1079,"cut":false,"hidden":true,"merged":[]}
["Grazing Reserve Rights",null,"No Change - Reviewed","Changed Costs"]
[]
["Practice_Code","Cost_Share_Program","Practice_Name","Component","Unit_Type","Unit_Cost","Cost_Type","Share_Rate",null,"Unit_Cost","different",null,null,"Practice_Code"]
["327","WRP","Conservation Cover","Chemical for Weed or Pest Control","acre",{"$f":"VLOOKUP($D4,costs_components!$B$2:$F$315,3,FALSE)","v":25},"AC",75,null,20,{"$f":"IF(F4<>J4,\"XXX\",\"\")","v":"XXX"},null,null,"327"]
["327","WRP","Conservation Cover","Chemical Seedbed Preparation","acre",{"$f":"VLOOKUP($D5,costs_components!$B$2:$F$315,3,FALSE)","v":20},"AC",75,null,20,{"$f":"IF(F5<>J5,\"XXX\",\"\")","v":""},null,null,"342"]
["327","WRP","Conservation Cover","Grass/Grain Drill","acre",{"$f":"VLOOKUP($D6,costs_components!$B$2:$F$315,3,FALSE)","v":20},"AC",75,null,20,"",null,null,"351"]
["327","WRP","Conservation Cover","Individual Vegetative Plug (Planted)","each",{"$f":"VLOOKUP($D7,costs_components!$B$2:$F$315,3,FALSE)","v":1},"AC",75,null,1,"",null,null,"356"]
["327","WRP","Conservation Cover","Mechanical Seedbed Preparation (per time)","acre",{"$f":"VLOOKUP($D8,costs_components!$B$2:$F$315,3,FALSE)","v":12},"AC",75,null,20,"XXX",null,null,"362"]
["327","WRP","Conservation Cover","Mechanical weed control","acre",{"$f":"VLOOKUP($D9,costs_components!$B$2:$F$315,3,FALSE)","v":12},"AC",75,null,12,"",null,null,"378"]
["327","WRP","Conservation Cover","Native Grass Mix","acre",{"$f":"VLOOKUP($D10,costs_components!$B$2:$F$315,3,FALSE)","v":100},"AC",75,null,100,"",null,null,"382"]
["327","WRP","Conservation Cover","Native Grass with Shrub and/or Forb Species","acre",{"$f":"VLOOKUP($D11,costs_components!$B$2:$F$315,3,FALSE)","v":100},"AC",75,null,88.78,"XXX",null,null,"390"]
["342","WRP","Critical Area Planting","Anchor mulch w/netting","sq.yd.",{"$f":"VLOOKUP($D12,costs_components!$B$2:$F$315,3,FALSE)","v":1.1000000000000001},"AC",75,null,1.1000000000000001,"",null,null,"391"]
["342","WRP","Critical Area Planting","Anchor mulch w/treader","sq.yd.",{"$f":"VLOOKUP($D13,costs_components!$B$2:$F$315,3,FALSE)","v":0.16},"AC",75,null,0.16,"",null,null,"393"]
["342","WRP","Critical Area Planting","Chemical for Weed or Pest Control","acre",{"$f":"VLOOKUP($D14,costs_components!$B$2:$F$315,3,FALSE)","v":25},"AC",75,null,20,"XXX",null,null,"410"]
["342","WRP","Critical Area Planting","Chemical Seedbed Preparation","acre",{"$f":"VLOOKUP($D15,costs_components!$B$2:$F$315,3,FALSE)","v":20},"AC",75,null,20,"",null,null,"500"]
["342","WRP","Critical Area Planting","Critical Area Planting - Introduced / Native Grass Mix","acre",{"$f":"VLOOKUP($D16,costs_components!$B$2:$F$315,3,FALSE)","v":61.8},"AC",75,null,61.8,"",null,null,"516"]
["342","WRP","Critical Area Planting","Critical Area Planting - Native Grass Mix","acre",{"$f":"VLOOKUP($D17,costs_components!$B$2:$F$315,3,FALSE)","v":75.75},"AC",75,null,75.75,"",null,null,"595"]
["342","WRP","Critical Area Planting","Critical Area Treatment - Heavy shaping","acre",{"$f":"VLOOKUP($D18,costs_components!$B$2:$F$315,3,FALSE)","v":910},"AC",75,null,910,"",null,null,"612"]
["342","WRP","Critical Area Planting","Critical Area Treatment - Light shaping","acre",{"$f":"VLOOKUP($D19,costs_components!$B$2:$F$315,3,FALSE)","v":455},"AC",75,null,455,"",null,null,"614"]
["342","WRP","Critical Area Planting","Grass/Grain Drill","acre",{"$f":"VLOOKUP($D20,costs_components!$B$2:$F$315,3,FALSE)","v":20},"AC",75,null,20,"",null,null,"642"]
["342","WRP","Critical Area Planting","Hydoseeder, seeding and mulch","sq.yd.",{"$f":"VLOOKUP($D21,costs_components!$B$2:$F$315,3,FALSE)","v":0.21},"AC",75,null,0.21,"",null,null,"643"]
["342","WRP","Critical Area Planting","Individual Vegetative Plug (Planted)","each",{"$f":"VLOOKUP($D22,costs_components!$B$2:$F$315,3,FALSE)","v":1},"AC",75,null,1,"",null,null,"644"]
["342","WRP","Critical Area Planting","Mechanical Seedbed Preparation (per time)","acre",{"$f":"VLOOKUP($D23,costs_components!$B$2:$F$315,3,FALSE)","v":12},"AC",75,null,20,"XXX",null,null,"645"]
["342","WRP","Critical Area Planting","Mechanical weed control","acre",{"$f":"VLOOKUP($D24,costs_components!$B$2:$F$315,3,FALSE)","v":12},"AC",75,null,12,"",null,null,"646"]
["342","WRP","Critical Area Planting","Mulch Blankets","sq.yd.",{"$f":"VLOOKUP($D25,costs_components!$B$2:$F$315,3,FALSE)","v":1.66},"AC",75,null,1.66,"",null,null,"647"]
["342","WRP","Critical Area Planting","Sod in-place","sq.yd.",{"$f":"VLOOKUP($D26,costs_components!$B$2:$F$315,3,FALSE)","v":1.1000000000000001},"AC",75,null,1.1000000000000001,"",null,null,"656"]
["342","WRP","Critical Area Planting","Temporary Cover","acre",{"$f":"VLOOKUP($D27,costs_components!$B$2:$F$315,3,FALSE)","v":20},"AC",75,null,20,"",null,null,"657"]
["342","WRP","Critical Area Planting","Turf reinforcing materials","sq.yd.",{"$f":"VLOOKUP($D28,costs_components!$B$2:$F$315,3,FALSE)","v":3.9},"AC",75,null,3.9,"",null,null,"658"]
["351","WRP","Well Decommissioning","Decomm. Well diameter <4\"","foot",{"$f":"VLOOKUP($D29,costs_components!$B$2:$F$315,3,FALSE)","v":5.5},"AC",75,null,5.5,"",null,null,"659"]
["351","WRP","Well Decommissioning","Decomm. Well diameter 30\" and larger","foot",{"$f":"VLOOKUP($D30,costs_components!$B$2:$F$315,3,FALSE)","v":27.5},"AC",75,null,27.5,""]
["351","WRP","Well Decommissioning","Decomm. Well diameter 4\"","foot",{"$f":"VLOOKUP($D31,costs_components!$B$2:$F$315,3,FALSE)","v":3},"AC",75,null,3,""]
["351","WRP","Well Decommissioning","Decomm. Well diameter 5\"","foot",{"$f":"VLOOKUP($D32,costs_components!$B$2:$F$315,3,FALSE)","v":5.0999999999999996},"AC",75,null,5.0999999999999996,""]
["351","WRP","Well Decommissioning","Decomm. Well diameter 6-29\"","foot",{"$f":"VLOOKUP($D33,costs_components!$B$2:$F$315,3,FALSE)","v":10},"AC",75,null,10,""]
["356","WRP","Dike","Earth Fill - Class A Compaction - Clay Liners (specified density)","cu.yd.",{"$f":"VLOOKUP($D34,costs_components!$B$2:$F$315,3,FALSE)","v":5.3},"AC",75,null,4.25,"XXX"]
["356","WRP","Dike","Earth Fill - Class A Compaction (specified density)","cu.yd.",{"$f":"VLOOKUP($D35,costs_components!$B$2:$F$315,3,FALSE)","v":3.6},"AC",75,null,2.85,"XXX"]
["356","WRP","Dike","Earth Fill - Class C Compaction (specified method)","cu.yd.",{"$f":"VLOOKUP($D36,costs_components!$B$2:$F$315,3,FALSE)","v":3},"AC",75,null,2.4,"XXX"]
["356","WRP","Dike","Earth Fill (hand compaction)","cu.yd.",{"$f":"VLOOKUP($D37,costs_components!$B$2:$F$315,3,FALSE)","v":7.1},"AC",75,null,5.67,"XXX"]
["356","WRP","Dike","Excavation","cu.yd.",{"$f":"VLOOKUP($D38,costs_components!$B$2:$F$315,3,FALSE)","v":4.4000000000000004},"AC",75,null,2.1,"XXX"]
["356","WRP","Dike","Fence, Silt","lf.",{"$f":"VLOOKUP($D39,costs_components!$B$2:$F$315,3,FALSE)","v":3.3},"AC",75,null,2.6,"XXX"]
["356","WRP","Dike","Site Clearing","acre",{"$f":"VLOOKUP($D40,costs_components!$B$2:$F$315,3,FALSE)","v":1350},"AC",75,null,1200,"XXX"]
["356","WRP","Dike","Structure Removal","acre",{"$f":"VLOOKUP($D41,costs_components!$B$2:$F$315,3,FALSE)","v":1350},"AC",75,null,1080,"XXX"]
["356","WRP","Dike","Water for Fill","1000gal",{"$f":"VLOOKUP($D42,costs_components!$B$2:$F$315,3,FALSE)","v":14.75},"AC",75,null,14.75,""]
["362","WRP","Diversion","CMP Aluminum, CR/CS, 10 gauge","lf-in.",{"$f":"VLOOKUP($D43,costs_components!$B$2:$F$315,3,FALSE)","v":4.09},"AC",75,null,4.09,""]
["362","WRP","Diversion","CMP Aluminum, CR/CS, 12 gauge","lf-in.",{"$f":"VLOOKUP($D44,costs_components!$B$2:$F$315,3,FALSE)","v":3.23},"AC",75,null,3.23,""]
["362","WRP","Diversion","CMP Aluminum, CR/CS, 14 gauge","lf-in.",{"$f":"VLOOKUP($D45,costs_components!$B$2:$F$315,3,FALSE)","v":2.58},"AC",75,null,2.58,""]
["362","WRP","Diversion","CMP Aluminum, CR/CS, 16 gauge","lf-in.",{"$f":"VLOOKUP($D46,costs_components!$B$2:$F$315,3,FALSE)","v":2.15},"AC",75,null,2.15,""]
["362","WRP","Diversion","CMP Standard Galvanized Steel, CR/CS, 10 gauge","lf-in.",{"$f":"VLOOKUP($D47,costs_components!$B$2:$F$315,3,FALSE)","v":3.71},"AC",75,null,3.71,""]
["362","WRP","Diversion","CMP Standard Galvanized Steel, CR/CS, 12 gauge","lf-in.",{"$f":"VLOOKUP($D48,costs_components!$B$2:$F$315,3,FALSE)","v":2.93},"AC",75,null,2.93,""]
["362","WRP","Diversion","CMP Standard Galvanized Steel, CR/CS, 14 gauge","lf-in.",{"$f":"VLOOKUP($D49,costs_components!$B$2:$F$315,3,FALSE)","v":2.34},"AC",75,null,2.34,""]
["362","WRP","Diversion","CMP Standard Galvanized Steel, CR/CS, 16 gauge","lf-in.",{"$f":"VLOOKUP($D50,costs_components!$B$2:$F$315,3,FALSE)","v":1.95},"AC",75,null,1.95,""]
["362","WRP","Diversion","CMP Steel, Polymeric Coated 10 gauge","lf-in.",{"$f":"VLOOKUP($D51,costs_components!$B$2:$F$315,3,FALSE)","v":3.99},"AC",75,null,3.99,""]
["362","WRP","Diversion","CMP Steel, Polymeric Coated 12 gauge","lf-in.",{"$f":"VLOOKUP($D52,costs_components!$B$2:$F$315,3,FALSE)","v":3.15},"AC",75,null,3.15,""]
["362","WRP","Diversion","CMP Steel, Polymeric Coated 14 gauge","lf-in.",{"$f":"VLOOKUP($D53,costs_components!$B$2:$F$315,3,FALSE)","v":2.52},"AC",75,null,2.52,""]
["362","WRP","Diversion","CMP Steel, Polymeric Coated 16 gauge","lf-in.",{"$f":"VLOOKUP($D54,costs_components!$B$2:$F$315,3,FALSE)","v":2.1},"AC",75,null,2.1,""]
["362","WRP","Diversion","CMP Steel, Polymeric Coated, CR/CS 10 gauge","lf-in.",{"$f":"VLOOKUP($D55,costs_components!$B$2:$F$315,3,FALSE)","v":4.75},"AC",75,null,4.75,""]
["362","WRP","Diversion","CMP Steel, Polymeric Coated, CR/CS 12 gauge","lf-in.",{"$f":"VLOOKUP($D56,costs_components!$B$2:$F$315,3,FALSE)","v":3.75},"AC",75,null,3.75,""]
["362","WRP","Diversion","CMP Steel, Polymeric Coated, CR/CS 14 gauge","lf-in.",{"$f":"VLOOKUP($D57,costs_components!$B$2:$F$315,3,FALSE)","v":3},"AC",75,null,3,""]
["362","WRP","Diversion","CMP Steel, Polymeric Coated, CR/CS 16 gauge","lf-in.",{"$f":"VLOOKUP($D58,costs_components!$B$2:$F$315,3,FALSE)","v":2.5},"AC",75,null,2.5,""]
["362","WRP","Diversion","CMP, Anti-Seep Diaphram - PC Steel, 2 piece, watertight coupling, rods/lugs","dia.in.",{"$f":"VLOOKUP($D59,costs_components!$B$2:$F$315,3,FALSE)","v":46.25},"AC",75,null,46.25,""]
["362","WRP","Diversion","CMP, Anti-Seep Diaphram - SG Steel, 2 piece, watertight coupling, rods/lugs","dia.in.",{"$f":"VLOOKUP($D60,costs_components!$B$2:$F$315,3,FALSE)","v":33.25},"AC",75,null,33.25,""]
["362","WRP","Diversion","CMP, Anti-Vortex Vane,  SG Steel, for hooded inlets","dia.in.",{"$f":"VLOOKUP($D61,costs_components!$B$2:$F$315,3,FALSE)","v":3.5},"AC",75,null,8.5,"XXX"]
["362","WRP","Diversion","CMP, Conical Trash Rack, SG Steel 36\" and less (base on riser dia.)","dia.in.",{"$f":"VLOOKUP($D62,costs_components!$B$2:$F$315,3,FALSE)","v":39.75},"AC",75,null,39.75,""]
["362","WRP","Diversion","CMP, Conical Trash Rack, SG Steel 42\" and over (base on riser dia.)","dia.in.",{"$f":"VLOOKUP($D63,costs_components!$B$2:$F$315,3,FALSE)","v":66.25},"AC",75,null,66.25,""]
["362","WRP","Diversion","CMP, Connecting Band - Aluminum - 12\" wide 12 gauge","dia.in.",{"$f":"VLOOKUP($D64,costs_components!$B$2:$F$315,3,FALSE)","v":3.83},"AC",75,null,3.83,""]
["362","WRP","Diversion","CMP, Connecting Band - Aluminum - 12\" wide 14 gauge","dia.in.",{"$f":"VLOOKUP($D65,costs_components!$B$2:$F$315,3,FALSE)","v":2.7},"AC",75,null,2.7,""]
["362","WRP","Diversion","CMP, Connecting Band - Aluminum - 12\" wide 16 gauge","dia.in.",{"$f":"VLOOKUP($D66,costs_components!$B$2:$F$315,3,FALSE)","v":2.25},"AC",75,null,2.25,""]
["362","WRP","Diversion","CMP, Connecting Band - Aluminum - 24\" wide 12 gauge","dia.in.",{"$f":"VLOOKUP($D67,costs_components!$B$2:$F$315,3,FALSE)","v":7.23},"AC",75,null,7.23,""]
["362","WRP","Diversion","CMP, Connecting Band - Aluminum - 24\" wide 14 gauge","dia.in.",{"$f":"VLOOKUP($D68,costs_components!$B$2:$F$315,3,FALSE)","v":5.0999999999999996},"AC",75,null,5.0999999999999996,""]
["362","WRP","Diversion","CMP, Connecting Band - Aluminum - 24\" wide 16 gauge","dia.in.",{"$f":"VLOOKUP($D69,costs_components!$B$2:$F$315,3,FALSE)","v":4.25},"AC",75,null,4.25,{"$f":"IF(F69<>J69,\"XXX\",\"\")","v":""}]
["362","WRP","Diversion","CMP, Connecting Band - Aluminum - 7 1/2\" wide 12 gauge","dia.in.",{"$f":"VLOOKUP($D70,costs_components!$B$2:$F$315,3,FALSE)","v":2.5499999999999998},"AC",75,null,2.5499999999999998,""]
["362","WRP","Diversion","CMP, Connecting Band - Aluminum - 7 1/2\" wide 14 gauge","dia.in.",{"$f":"VLOOKUP($D71,costs_components!$B$2:$F$315,3,FALSE)","v":1.8},"AC",75,null,1.8,""]
["362","WRP","Diversion","CMP, Connecting Band - Aluminum - 7 1/2\" wide 16 gauge","dia.in.",{"$f":"VLOOKUP($D72,costs_components!$B$2:$F$315,3,FALSE)","v":1.5},"AC",75,null,1.5,""]
["362","WRP","Diversion","CMP, Connecting Band - Polymeric Coated Steel - 12\" wide 12 gauge","dia.in.",{"$f":"VLOOKUP($D73,costs_components!$B$2:$F$315,3,FALSE)","v":4.68},"AC",75,null,4.68,""]
["362","WRP","Diversion","CMP, Connecting Band - Polymeric Coated Steel - 12\" wide 14 gauge","dia.in.",{"$f":"VLOOKUP($D74,costs_components!$B$2:$F$315,3,FALSE)","v":3.3},"AC",75,null,3.3,""]
["362","WRP","Diversion","CMP, Connecting Band - Polymeric Coated Steel - 12\" wide 16 gauge","dia.in.",{"$f":"VLOOKUP($D75,costs_components!$B$2:$F$315,3,FALSE)","v":2.75},"AC",75,null,2.75,""]
["362","WRP","Diversion","CMP, Connecting Band - Polymeric Coated Steel - 24\" wide 12 gauge","dia.in.",{"$f":"VLOOKUP($D76,costs_components!$B$2:$F$315,3,FALSE)","v":9.35},"AC",75,null,9.35,""]
["362","WRP","Diversion","CMP, Connecting Band - Polymeric Coated Steel - 24\" wide 14 gauge","dia.in.",{"$f":"VLOOKUP($D77,costs_components!$B$2:$F$315,3,FALSE)","v":6.6},"AC",75,null,6.6,""]
["362","WRP","Diversion","CMP, Connecting Band - Polymeric Coated Steel - 24\" wide 16 gauge","dia.in.",{"$f":"VLOOKUP($D78,costs_components!$B$2:$F$315,3,FALSE)","v":5.5},"AC",75,null,5.5,""]
["362","WRP","Diversion","CMP, Connecting Band - Polymeric Coated Steel - 7 1/2\" wide 12 gauge","dia.in.",{"$f":"VLOOKUP($D79,costs_components!$B$2:$F$315,3,FALSE)","v":3.4},"AC",75,null,3.4,""]
["362","WRP","Diversion","CMP, Connecting Band - Polymeric Coated Steel - 7 1/2\" wide 14 gauge","dia.in.",{"$f":"VLOOKUP($D80,costs_components!$B$2:$F$315,3,FALSE)","v":2.4},"AC",75,null,2.4,""]
["362","WRP","Diversion","CMP, Connecting Band - Polymeric Coated Steel - 7 1/2\" wide 16 gauge","dia.in.",{"$f":"VLOOKUP($D81,costs_components!$B$2:$F$315,3,FALSE)","v":2},"AC",75,null,2,""]
["362","WRP","Diversion","CMP, Connecting Band - Standard Galvanized Steel - 12\" wide 12 gauge","dia.in.",{"$f":"VLOOKUP($D82,costs_components!$B$2:$F$315,3,FALSE)","v":3.4},"AC",75,null,3.4,""]
["362","WRP","Diversion","CMP, Connecting Band - Standard Galvanized Steel - 12\" wide 14 gauge","dia.in.",{"$f":"VLOOKUP($D83,costs_components!$B$2:$F$315,3,FALSE)","v":2.4},"AC",75,null,2.4,""]
["362","WRP","Diversion","CMP, Connecting Band - Standard Galvanized Steel - 12\" wide 16 gauge","dia.in.",{"$f":"VLOOKUP($D84,costs_components!$B$2:$F$315,3,FALSE)","v":2},"AC",75,null,2,""]
["362","WRP","Diversion","CMP, Connecting Band - Standard Galvanized Steel - 24\" wide 12 gauge","dia.in.",{"$f":"VLOOKUP($D85,costs_components!$B$2:$F$315,3,FALSE)","v":6.38},"AC",75,null,6.38,""]
["362","WRP","Diversion","CMP, Connecting Band - Standard Galvanized Steel - 24\" wide 14 gauge","dia.in.",{"$f":"VLOOKUP($D86,costs_components!$B$2:$F$315,3,FALSE)","v":4.5},"AC",75,null,4.5,""]
["362","WRP","Diversion","CMP, Connecting Band - Standard Galvanized Steel - 24\" wide 16 gauge","dia.in.",{"$f":"VLOOKUP($D87,costs_components!$B$2:$F$315,3,FALSE)","v":3.75},"AC",75,null,3.75,""]
["362","WRP","Diversion","CMP, Connecting Band - Standard Galvanized Steel - 7 1/2\" wide 12 gauge","dia.in.",{"$f":"VLOOKUP($D88,costs_components!$B$2:$F$315,3,FALSE)","v":2.5499999999999998},"AC",75,null,2.5499999999999998,""]
["362","WRP","Diversion","CMP, Connecting Band - Standard Galvanized Steel - 7 1/2\" wide 14 gauge","dia.in.",{"$f":"VLOOKUP($D89,costs_components!$B$2:$F$315,3,FALSE)","v":1.8},"AC",75,null,1.8,""]
["362","WRP","Diversion","CMP, Connecting Band - Standard Galvanized Steel - 7 1/2\" wide 16 gauge","dia.in.",{"$f":"VLOOKUP($D90,costs_components!$B$2:$F$315,3,FALSE)","v":1.5},"AC",75,null,150,"XXX"]
["362","WRP","Diversion","CMP, Connecting Band - Watertight PC Steel, incl. 4 rods/lugs - 24\" wide 12 gauge","dia.in.",{"$f":"VLOOKUP($D91,costs_components!$B$2:$F$315,3,FALSE)","v":16.579999999999998},"AC",75,null,16.579999999999998,""]
["362","WRP","Diversion","CMP, Connecting Band - Watertight PC Steel, incl. 4 rods/lugs - 24\" wide 14 gauge","dia.in.",{"$f":"VLOOKUP($D92,costs_components!$B$2:$F$315,3,FALSE)","v":11.7},"AC",75,null,11.7,""]
["362","WRP","Diversion","CMP, Connecting Band - Watertight PC Steel, incl. 4 rods/lugs - 24\" wide 16 gauge","dia.in.",{"$f":"VLOOKUP($D93,costs_components!$B$2:$F$315,3,FALSE)","v":9.75},"AC",75,null,9.75,""]
["362","WRP","Diversion","CMP, Connecting Band - Watertight SG Steel, incl. 4 rods/lugs - 24\" wide 12 gauge","dia.in.",{"$f":"VLOOKUP($D94,costs_components!$B$2:$F$315,3,FALSE)","v":12.33},"AC",75,null,12.33,""]
["362","WRP","Diversion","CMP, Connecting Band - Watertight SG Steel, incl. 4 rods/lugs - 24\" wide 14 gauge","dia.in.",{"$f":"VLOOKUP($D95,costs_components!$B$2:$F$315,3,FALSE)","v":8.6999999999999993},"AC",75,null,8.6999999999999993,""]
["362","WRP","Diversion","CMP, Connecting Band - Watertight SG Steel, incl. 4 rods/lugs - 24\" wide 16 gauge","dia.in.",{"$f":"VLOOKUP($D96,costs_components!$B$2:$F$315,3,FALSE)","v":7.25},"AC",75,null,7.25,""]
["362","WRP","Diversion","CMP, End Section 12\"-24\" diameter","dia.in.",{"$f":"VLOOKUP($D97,costs_components!$B$2:$F$315,3,FALSE)","v":8.5},"AC",75,null,8.5,""]
["362","WRP","Diversion","CMP, End Section 30\"-36\" diameter","dia.in.",{"$f":"VLOOKUP($D98,costs_components!$B$2:$F$315,3,FALSE)","v":13.25},"AC",75,null,13.25,""]
["362","WRP","Diversion","CMP, End Section 42\"-54\" diameter","dia.in.",{"$f":"VLOOKUP($D99,costs_components!$B$2:$F$315,3,FALSE)","v":25},"AC",75,null,25,""]
["362","WRP","Diversion","CMP, End Section 60\" and larger diameter","dia.in.",{"$f":"VLOOKUP($D100,costs_components!$B$2:$F$315,3,FALSE)","v":33},"AC",75,null,33,""]
["362","WRP","Diversion","CMP, Fabrication (labor only) - Elbows","dia.in.",{"$f":"VLOOKUP($D101,costs_components!$B$2:$F$315,3,FALSE)","v":10},"AC",75,null,10,""]
["362","WRP","Diversion","CMP, Fabrication (labor only) - Skewed or Beveled Ends","dia.in.",{"$f":"VLOOKUP($D102,costs_components!$B$2:$F$315,3,FALSE)","v":6},"AC",75,null,6,""]
["362","WRP","Diversion","CMP, Fabrication (labor only) - Tees, Wyes, and Riser Stubs","dia.in.",{"$f":"VLOOKUP($D103,costs_components!$B$2:$F$315,3,FALSE)","v":13.25},"AC",75,null,13.25,""]
["362","WRP","Diversion","CMP, Flap Gate, SG Steel","dia.in.",{"$f":"VLOOKUP($D104,costs_components!$B$2:$F$315,3,FALSE)","v":20},"AC",75,null,20,""]
["362","WRP","Diversion","CMP, Hooded Inlet Baffle Plate - SG Steel, double angle iron","dia.in.",{"$f":"VLOOKUP($D105,costs_components!$B$2:$F$315,3,FALSE)","v":15.5},"AC",75,null,15.5,""]
["362","WRP","Diversion","CMP, Screen or End Cap, SG Steel","dia.in.",{"$f":"VLOOKUP($D106,costs_components!$B$2:$F$315,3,FALSE)","v":8.25},"AC",75,null,8.25,""]
["362","WRP","Diversion","CMP, Splitter Type Anti-Vortex Wall - SG Steel (base on riser diameter)","dia.in.",{"$f":"VLOOKUP($D107,costs_components!$B$2:$F$315,3,FALSE)","v":8.5},"AC",75,null,8.5,""]
["362","WRP","Diversion","CMP, Standard Aluminum 10 gauge","lf-in.",{"$f":"VLOOKUP($D108,costs_components!$B$2:$F$315,3,FALSE)","v":3.42},"AC",75,null,3.42,""]
["362","WRP","Diversion","CMP, Standard Aluminum 12 gauge","lf-in.",{"$f":"VLOOKUP($D109,costs_components!$B$2:$F$315,3,FALSE)","v":2.7},"AC",75,null,2.7,""]
["362","WRP","Diversion","CMP, Standard Aluminum 14 gauge","lf-in.",{"$f":"VLOOKUP($D110,costs_components!$B$2:$F$315,3,FALSE)","v":2.16},"AC",75,null,2.16,""]
["362","WRP","Diversion","CMP, Standard Aluminum 16 gauge","lf-in.",{"$f":"VLOOKUP($D111,costs_components!$B$2:$F$315,3,FALSE)","v":1.8},"AC",75,null,1.8,""]
["362","WRP","Diversion","CMP, Standard Galvanized Steel 10 gauge","lf-in.",{"$f":"VLOOKUP($D112,costs_components!$B$2:$F$315,3,FALSE)","v":2.79},"AC",75,null,2.79,""]
["362","WRP","Diversion","CMP, Standard Galvanized Steel 12 gauge","lf-in.",{"$f":"VLOOKUP($D113,costs_components!$B$2:$F$315,3,FALSE)","v":2.21},"AC",75,null,2.21,""]
["362","WRP","Diversion","CMP, Standard Galvanized Steel 14 gauge","lf-in.",{"$f":"VLOOKUP($D114,costs_components!$B$2:$F$315,3,FALSE)","v":1.76},"AC",75,null,1.76,""]
["362","WRP","Diversion","CMP, Standard Galvanized Steel 16 gauge","lf-in.",{"$f":"VLOOKUP($D115,costs_components!$B$2:$F$315,3,FALSE)","v":1.47},"AC",75,null,1.47,""]
["362","WRP","Diversion","CMP, Weir Trash Rack, SG Steel, for hooded inlets","dia.in.",{"$f":"VLOOKUP($D116,costs_components!$B$2:$F$315,3,FALSE)","v":13.25},"AC",75,null,13.25,""]
["362","WRP","Diversion","Corrugated Plastic Pipe - Dual-Wall Pipe 10\"","foot",{"$f":"VLOOKUP($D117,costs_components!$B$2:$F$315,3,FALSE)","v":5.75},"AC",75,null,5.75,""]
["362","WRP","Diversion","Corrugated Plastic Pipe - Dual-Wall Pipe 12\"","foot",{"$f":"VLOOKUP($D118,costs_components!$B$2:$F$315,3,FALSE)","v":7.5},"AC",75,null,7.5,""]
["362","WRP","Diversion","Corrugated Plastic Pipe - Dual-Wall Pipe 15\"","foot",{"$f":"VLOOKUP($D119,costs_components!$B$2:$F$315,3,FALSE)","v":9},"AC",75,null,9,""]
["362","WRP","Diversion","Corrugated Plastic Pipe - Dual-Wall Pipe 18\"","foot",{"$f":"VLOOKUP($D120,costs_components!$B$2:$F$315,3,FALSE)","v":14.25},"AC",75,null,14.25,""]
["362","WRP","Diversion","Corrugated Plastic Pipe - Dual-Wall Pipe 24\"","foot",{"$f":"VLOOKUP($D121,costs_components!$B$2:$F$315,3,FALSE)","v":21.75},"AC",75,null,21.75,""]
["362","WRP","Diversion","Corrugated Plastic Pipe - Dual-Wall Pipe 4\"","foot",{"$f":"VLOOKUP($D122,costs_components!$B$2:$F$315,3,FALSE)","v":1.1000000000000001},"AC",75,null,1.1000000000000001,""]
["362","WRP","Diversion","Corrugated Plastic Pipe - Dual-Wall Pipe 6\"","foot",{"$f":"VLOOKUP($D123,costs_components!$B$2:$F$315,3,FALSE)","v":2.5},"AC",75,null,2.5,""]
["362","WRP","Diversion","Corrugated Plastic Pipe - Dual-Wall Pipe 8\"","foot",{"$f":"VLOOKUP($D124,costs_components!$B$2:$F$315,3,FALSE)","v":4},"AC",75,null,4,""]
["362","WRP","Diversion","Corrugated Plastic Pipe - End Section 10\"","each",{"$f":"VLOOKUP($D125,costs_components!$B$2:$F$315,3,FALSE)","v":80},"AC",75,null,80,""]
["362","WRP","Diversion","Corrugated Plastic Pipe - End Section 12\"","each",{"$f":"VLOOKUP($D126,costs_components!$B$2:$F$315,3,FALSE)","v":93.25},"AC",75,null,93.25,""]
["362","WRP","Diversion","Corrugated Plastic Pipe - End Section 15\"","each",{"$f":"VLOOKUP($D127,costs_components!$B$2:$F$315,3,FALSE)","v":116.5},"AC",75,null,116.5,""]
["362","WRP","Diversion","Corrugated Plastic Pipe - End Section 18\"","each",{"$f":"VLOOKUP($D128,costs_components!$B$2:$F$315,3,FALSE)","v":153},"AC",75,null,153,""]
["362","WRP","Diversion","Corrugated Plastic Pipe - End Section 24\"","each",{"$f":"VLOOKUP($D129,costs_components!$B$2:$F$315,3,FALSE)","v":225.75},"AC",75,null,225.75,""]
["362","WRP","Diversion","Corrugated Plastic Pipe - End Section 8\"","each",{"$f":"VLOOKUP($D130,costs_components!$B$2:$F$315,3,FALSE)","v":73},"AC",75,null,73,""]
["362","WRP","Diversion","Corrugated Plastic Pipe - Gasketed Sleeve Coupler 12\"","each",{"$f":"VLOOKUP($D131,costs_components!$B$2:$F$315,3,FALSE)","v":35.25},"AC",75,null,35.25,""]
["362","WRP","Diversion","Corrugated Plastic Pipe - Gasketed Sleeve Coupler 15\"","each",{"$f":"VLOOKUP($D132,costs_components!$B$2:$F$315,3,FALSE)","v":51.5},"AC",75,null,51.5,""]
["362","WRP","Diversion","Corrugated Plastic Pipe - Gasketed Sleeve Coupler 18\"","each",{"$f":"VLOOKUP($D133,costs_components!$B$2:$F$315,3,FALSE)","v":70},"AC",75,null,70,{"$f":"IF(F133<>J133,\"XXX\",\"\")","v":""}]
["362","WRP","Diversion","Corrugated Plastic Pipe - Gasketed Sleeve Coupler 24\"","each",{"$f":"VLOOKUP($D134,costs_components!$B$2:$F$315,3,FALSE)","v":215.75},"AC",75,null,215.75,""]
["362","WRP","Diversion","Corrugated Plastic Pipe - Plastic Anti-Seep Collar (4X4) 10\"","each",{"$f":"VLOOKUP($D135,costs_components!$B$2:$F$315,3,FALSE)","v":174},"AC",75,null,174,""]
["362","WRP","Diversion","Corrugated Plastic Pipe - Plastic Anti-Seep Collar (4X4) 12\"","each",{"$f":"VLOOKUP($D136,costs_components!$B$2:$F$315,3,FALSE)","v":178},"AC",75,null,178,""]
["362","WRP","Diversion","Corrugated Plastic Pipe - Plastic Anti-Seep Collar (4X4) 15\"","each",{"$f":"VLOOKUP($D137,costs_components!$B$2:$F$315,3,FALSE)","v":188.75},"AC",75,null,188.75,""]
["362","WRP","Diversion","Corrugated Plastic Pipe - Plastic Anti-Seep Collar (4X4) 18\"","each",{"$f":"VLOOKUP($D138,costs_components!$B$2:$F$315,3,FALSE)","v":194},"AC",75,null,194,""]
["362","WRP","Diversion","Corrugated Plastic Pipe - Plastic Anti-Seep Collar (4X4) 24\"","each",{"$f":"VLOOKUP($D139,costs_components!$B$2:$F$315,3,FALSE)","v":215.75},"AC",75,null,215.75,""]
["362","WRP","Diversion","Corrugated Plastic Pipe - Plastic Anti-Seep Collar (4X4) 4\"","each",{"$f":"VLOOKUP($D140,costs_components!$B$2:$F$315,3,FALSE)","v":156.5},"AC",75,null,156.5,""]
["362","WRP","Diversion","Corrugated Plastic Pipe - Plastic Anti-Seep Collar (4X4) 6\"","each",{"$f":"VLOOKUP($D141,costs_components!$B$2:$F$315,3,FALSE)","v":155.75},"AC",75,null,155.75,""]
["362","WRP","Diversion","Corrugated Plastic Pipe - Plastic Anti-Seep Collar (4X4) 8\"","each",{"$f":"VLOOKUP($D142,costs_components!$B$2:$F$315,3,FALSE)","v":161.75},"AC",75,null,161.75,""]
["362","WRP","Diversion","Corrugated Plastic Pipe - Rodent Guard 10\"","each",{"$f":"VLOOKUP($D143,costs_components!$B$2:$F$315,3,FALSE)","v":29},"AC",75,null,29,""]
["362","WRP","Diversion","Corrugated Plastic Pipe - Rodent Guard 12\"","each",{"$f":"VLOOKUP($D144,costs_components!$B$2:$F$315,3,FALSE)","v":37.25},"AC",75,null,37.25,""]
["362","WRP","Diversion","Corrugated Plastic Pipe - Rodent Guard 15\"","each",{"$f":"VLOOKUP($D145,costs_components!$B$2:$F$315,3,FALSE)","v":55.25},"AC",75,null,55.25,""]
["362","WRP","Diversion","Corrugated Plastic Pipe - Rodent Guard 18\"","each",{"$f":"VLOOKUP($D146,costs_components!$B$2:$F$315,3,FALSE)","v":94.5},"AC",75,null,94.5,""]
["362","WRP","Diversion","Corrugated Plastic Pipe - Rodent Guard 24\"","each",{"$f":"VLOOKUP($D147,costs_components!$B$2:$F$315,3,FALSE)","v":122},"AC",75,null,122,""]
["362","WRP","Diversion","Corrugated Plastic Pipe - Rodent Guard 4\"","each",{"$f":"VLOOKUP($D148,costs_components!$B$2:$F$315,3,FALSE)","v":16},"AC",75,null,16,""]
["362","WRP","Diversion","Corrugated Plastic Pipe - Rodent Guard 6\"","each",{"$f":"VLOOKUP($D149,costs_components!$B$2:$F$315,3,FALSE)","v":18},"AC",75,null,18,""]
["362","WRP","Diversion","Corrugated Plastic Pipe - Rodent Guard 8\"","each",{"$f":"VLOOKUP($D150,costs_components!$B$2:$F$315,3,FALSE)","v":22.5},"AC",75,null,22.5,""]
["362","WRP","Diversion","Corrugated Plastic Pipe - Soil-Tight Split Coupler 12\"","each",{"$f":"VLOOKUP($D151,costs_components!$B$2:$F$315,3,FALSE)","v":23.5},"AC",75,null,23.5,""]
["362","WRP","Diversion","Corrugated Plastic Pipe - Soil-Tight Split Coupler 18\"","each",{"$f":"VLOOKUP($D152,costs_components!$B$2:$F$315,3,FALSE)","v":36.5},"AC",75,null,36.5,""]
["362","WRP","Diversion","Corrugated Plastic Pipe - Soil-Tight Split Coupler 24\"","each",{"$f":"VLOOKUP($D153,costs_components!$B$2:$F$315,3,FALSE)","v":54},"AC",75,null,54,""]
["362","WRP","Diversion","Corrugated Plastic Pipe - Split Coupler 10\"","each",{"$f":"VLOOKUP($D154,costs_components!$B$2:$F$315,3,FALSE)","v":6},"AC",75,null,6,""]
["362","WRP","Diversion","Corrugated Plastic Pipe - Split Coupler 12\"","each",{"$f":"VLOOKUP($D155,costs_components!$B$2:$F$315,3,FALSE)","v":8},"AC",75,null,8,""]
["362","WRP","Diversion","Corrugated Plastic Pipe - Split Coupler 15\"","each",{"$f":"VLOOKUP($D156,costs_components!$B$2:$F$315,3,FALSE)","v":13.75},"AC",75,null,13.75,""]
["362","WRP","Diversion","Corrugated Plastic Pipe - Split Coupler 18\"","each",{"$f":"VLOOKUP($D157,costs_components!$B$2:$F$315,3,FALSE)","v":18.5},"AC",75,null,18.5,""]
["362","WRP","Diversion","Corrugated Plastic Pipe - Split Coupler 24\"","each",{"$f":"VLOOKUP($D158,costs_components!$B$2:$F$315,3,FALSE)","v":29.75},"AC",75,null,29.75,""]
["362","WRP","Diversion","Corrugated Plastic Pipe - Split Coupler 4\"","each",{"$f":"VLOOKUP($D159,costs_components!$B$2:$F$315,3,FALSE)","v":1.75},"AC",75,null,1.75,""]
["362","WRP","Diversion","Corrugated Plastic Pipe - Split Coupler 6\"","each",{"$f":"VLOOKUP($D160,costs_components!$B$2:$F$315,3,FALSE)","v":3},"AC",75,null,3,""]
["362","WRP","Diversion","Corrugated Plastic Pipe - Split Coupler 8\"","each",{"$f":"VLOOKUP($D161,costs_components!$B$2:$F$315,3,FALSE)","v":4.5},"AC",75,null,4.5,""]
["362","WRP","Diversion","Corrugated Plastic Pipe - Tubing/Culverts - 10\"","foot",{"$f":"VLOOKUP($D162,costs_components!$B$2:$F$315,3,FALSE)","v":3.75},"AC",75,null,3.75,""]
["362","WRP","Diversion","Corrugated Plastic Pipe - Tubing/Culverts - 12\"","foot",{"$f":"VLOOKUP($D163,costs_components!$B$2:$F$315,3,FALSE)","v":4.75},"AC",75,null,4.75,""]
["362","WRP","Diversion","Corrugated Plastic Pipe - Tubing/Culverts - 15\"","foot",{"$f":"VLOOKUP($D164,costs_components!$B$2:$F$315,3,FALSE)","v":7},"AC",75,null,7,""]
["362","WRP","Diversion","Corrugated Plastic Pipe - Tubing/Culverts - 18\"","foot",{"$f":"VLOOKUP($D165,costs_components!$B$2:$F$315,3,FALSE)","v":11},"AC",75,null,11,""]
["362","WRP","Diversion","Corrugated Plastic Pipe - Tubing/Culverts - 24","foot",{"$f":"VLOOKUP($D166,costs_components!$B$2:$F$315,3,FALSE)","v":17.75},"AC",75,null,17.75,""]
["362","WRP","Diversion","Corrugated Plastic Pipe - Tubing/Culverts - 3\"","foot",{"$f":"VLOOKUP($D167,costs_components!$B$2:$F$315,3,FALSE)","v":0.45},"AC",75,null,0.45,""]
["362","WRP","Diversion","Corrugated Plastic Pipe - Tubing/Culverts - 4\"","foot",{"$f":"VLOOKUP($D168,costs_components!$B$2:$F$315,3,FALSE)","v":0.5},"AC",75,null,0.5,""]
["362","WRP","Diversion","Corrugated Plastic Pipe - Tubing/Culverts - 5\"","foot",{"$f":"VLOOKUP($D169,costs_components!$B$2:$F$315,3,FALSE)","v":0.75},"AC",75,null,0.75,""]
["362","WRP","Diversion","Corrugated Plastic Pipe - Tubing/Culverts - 6\"","foot",{"$f":"VLOOKUP($D170,costs_components!$B$2:$F$315,3,FALSE)","v":1},"AC",75,null,1,""]
["362","WRP","Diversion","Corrugated Plastic Pipe - Tubing/Culverts - 8\"","foot",{"$f":"VLOOKUP($D171,costs_components!$B$2:$F$315,3,FALSE)","v":2},"AC",75,null,2,""]
["362","WRP","Diversion","Corrugated Plastic Pipe - Tubing/Culverts w/sock - 10\"","foot",{"$f":"VLOOKUP($D172,costs_components!$B$2:$F$315,3,FALSE)","v":4},"AC",75,null,4,""]
["362","WRP","Diversion","Corrugated Plastic Pipe - Tubing/Culverts w/sock - 12\"","foot",{"$f":"VLOOKUP($D173,costs_components!$B$2:$F$315,3,FALSE)","v":5.5},"AC",75,null,5.5,""]
["362","WRP","Diversion","Corrugated Plastic Pipe - Tubing/Culverts w/sock - 15\"","foot",{"$f":"VLOOKUP($D174,costs_components!$B$2:$F$315,3,FALSE)","v":8.75},"AC",75,null,8.75,""]
["362","WRP","Diversion","Corrugated Plastic Pipe - Tubing/Culverts w/sock - 18\"","foot",{"$f":"VLOOKUP($D175,costs_components!$B$2:$F$315,3,FALSE)","v":12},"AC",75,null,12,""]
["362","WRP","Diversion","Corrugated Plastic Pipe - Tubing/Culverts w/sock - 24","foot",{"$f":"VLOOKUP($D176,costs_components!$B$2:$F$315,3,FALSE)","v":18.75},"AC",75,null,18.75,""]
["362","WRP","Diversion","Corrugated Plastic Pipe - Tubing/Culverts w/sock - 3\"","foot",{"$f":"VLOOKUP($D177,costs_components!$B$2:$F$315,3,FALSE)","v":0.6},"AC",75,null,0.6,""]
["362","WRP","Diversion","Corrugated Plastic Pipe - Tubing/Culverts w/sock - 4\"","foot",{"$f":"VLOOKUP($D178,costs_components!$B$2:$F$315,3,FALSE)","v":0.75},"AC",75,null,0.75,""]
["362","WRP","Diversion","Corrugated Plastic Pipe - Tubing/Culverts w/sock - 5\"","foot",{"$f":"VLOOKUP($D179,costs_components!$B$2:$F$315,3,FALSE)","v":1},"AC",75,null,1,""]
["362","WRP","Diversion","Corrugated Plastic Pipe - Tubing/Culverts w/sock - 6\"","foot",{"$f":"VLOOKUP($D180,costs_components!$B$2:$F$315,3,FALSE)","v":1.5},"AC",75,null,1.5,""]
["362","WRP","Diversion","Corrugated Plastic Pipe - Tubing/Culverts w/sock - 8\"","foot",{"$f":"VLOOKUP($D181,costs_components!$B$2:$F$315,3,FALSE)","v":2.25},"AC",75,null,2.25,""]
["362","WRP","Diversion","Earth Fill - Class A Compaction - Clay Liners (specified density)","cu.yd.",{"$f":"VLOOKUP($D182,costs_components!$B$2:$F$315,3,FALSE)","v":5.3},"AC",75,null,4.25,"XXX"]
["362","WRP","Diversion","Earth Fill - Class A Compaction (specified density)","cu.yd.",{"$f":"VLOOKUP($D183,costs_components!$B$2:$F$315,3,FALSE)","v":3.6},"AC",75,null,2.85,"XXX"]
["362","WRP","Diversion","Earth Fill - Class C Compaction (specified method)","cu.yd.",{"$f":"VLOOKUP($D184,costs_components!$B$2:$F$315,3,FALSE)","v":3},"AC",75,null,2.4,"XXX"]
["362","WRP","Diversion","Earth Fill (hand compaction)","cu.yd.",{"$f":"VLOOKUP($D185,costs_components!$B$2:$F$315,3,FALSE)","v":7.1},"AC",75,null,5.67,"XXX"]
["362","WRP","Diversion","Excavation","cu.yd.",{"$f":"VLOOKUP($D186,costs_components!$B$2:$F$315,3,FALSE)","v":4.4000000000000004},"AC",75,null,2.1,"XXX"]
["362","WRP","Diversion","Excavation Small Structures","cu.yd.",{"$f":"VLOOKUP($D187,costs_components!$B$2:$F$315,3,FALSE)","v":7.1},"AC",75,null,5.7,"XXX"]
["362","WRP","Diversion","Fence, Silt","lf.",{"$f":"VLOOKUP($D188,costs_components!$B$2:$F$315,3,FALSE)","v":3.3},"AC",75,null,2.6,"XXX"]
["362","WRP","Diversion","Geotextile Fabric - Woven or non-woven fabric","sq.yd.",{"$f":"VLOOKUP($D189,costs_components!$B$2:$F$315,3,FALSE)","v":2.8},"AC",75,null,2.8,""]
["362","WRP","Diversion","Hauling Materials (offsite borrow)","yd/.25mi",{"$f":"VLOOKUP($D190,costs_components!$B$2:$F$315,3,FALSE)","v":0.2},"AC",75,null,0.14000000000000001,"XXX"]
["362","WRP","Diversion","Site Clearing","acre",{"$f":"VLOOKUP($D191,costs_components!$B$2:$F$315,3,FALSE)","v":1350},"AC",75,null,1200,"XXX"]
["362","WRP","Diversion","Structure Removal","acre",{"$f":"VLOOKUP($D192,costs_components!$B$2:$F$315,3,FALSE)","v":1350},"AC",75,null,1080,"XXX"]
["362","WRP","Diversion","Topsoil - salvage and re-spreading","sq.yd.",{"$f":"VLOOKUP($D193,costs_components!$B$2:$F$315,3,FALSE)","v":0.6},"AC",75,null,0.51,"XXX"]
["362","WRP","Diversion","Water for Fill","1000gal",{"$f":"VLOOKUP($D194,costs_components!$B$2:$F$315,3,FALSE)","v":14.75},"AC",75,null,14.75,""]
["378","WRP","Pond","Air Relief Valve","dia.in.",{"$f":"VLOOKUP($D195,costs_components!$B$2:$F$315,3,FALSE)","v":44},"AC",75,null,44,""]
["378","WRP","Pond","Alfalfa Valve 8\"-12\" (installed)","dia.in.",{"$f":"VLOOKUP($D196,costs_components!$B$2:$F$315,3,FALSE)","v":22},"AC",75,null,22,""]
["378","WRP","Pond","Anti-Seep Collar, Butyl Rubber/Neoprene With Wood Frame","sqft.",{"$f":"VLOOKUP($D197,costs_components!$B$2:$F$315,3,FALSE)","v":3.25},"AC",75,null,3.25,{"$f":"IF(F197<>J197,\"XXX\",\"\")","v":""}]
["378","WRP","Pond","Cedar","bd.ft.",{"$f":"VLOOKUP($D198,costs_components!$B$2:$F$315,3,FALSE)","v":4.05},"AC",75,null,4.05,""]
["378","WRP","Pond","CMP Aluminum, CR/CS, 10 gauge","lf-in.",{"$f":"VLOOKUP($D199,costs_components!$B$2:$F$315,3,FALSE)","v":4.09},"AC",75,null,4.09,""]
["378","WRP","Pond","CMP Aluminum, CR/CS, 12 gauge","lf-in.",{"$f":"VLOOKUP($D200,costs_components!$B$2:$F$315,3,FALSE)","v":3.23},"AC",75,null,3.23,""]
["378","WRP","Pond","CMP Aluminum, CR/CS, 14 gauge","lf-in.",{"$f":"VLOOKUP($D201,costs_components!$B$2:$F$315,3,FALSE)","v":2.58},"AC",75,null,2.58,""]
["378","WRP","Pond","CMP Aluminum, CR/CS, 16 gauge","lf-in.",{"$f":"VLOOKUP($D202,costs_components!$B$2:$F$315,3,FALSE)","v":2.15},"AC",75,null,2.15,""]
["378","WRP","Pond","CMP Standard Galvanized Steel, CR/CS, 10 gauge","lf-in.",{"$f":"VLOOKUP($D203,costs_components!$B$2:$F$315,3,FALSE)","v":3.71},"AC",75,null,3.71,""]
["378","WRP","Pond","CMP Standard Galvanized Steel, CR/CS, 12 gauge","lf-in.",{"$f":"VLOOKUP($D204,costs_components!$B$2:$F$315,3,FALSE)","v":2.93},"AC",75,null,2.93,""]
["378","WRP","Pond","CMP Standard Galvanized Steel, CR/CS, 14 gauge","lf-in.",{"$f":"VLOOKUP($D205,costs_components!$B$2:$F$315,3,FALSE)","v":2.34},"AC",75,null,2.34,""]
["378","WRP","Pond","CMP Standard Galvanized Steel, CR/CS, 16 gauge","lf-in.",{"$f":"VLOOKUP($D206,costs_components!$B$2:$F$315,3,FALSE)","v":1.95},"AC",75,null,1.95,""]
["378","WRP","Pond","CMP Steel, Polymeric Coated 10 gauge","lf-in.",{"$f":"VLOOKUP($D207,costs_components!$B$2:$F$315,3,FALSE)","v":3.99},"AC",75,null,3.99,""]
["378","WRP","Pond","CMP Steel, Polymeric Coated 12 gauge","lf-in.",{"$f":"VLOOKUP($D208,costs_components!$B$2:$F$315,3,FALSE)","v":3.15},"AC",75,null,3.15,""]
["378","WRP","Pond","CMP Steel, Polymeric Coated 14 gauge","lf-in.",{"$f":"VLOOKUP($D209,costs_components!$B$2:$F$315,3,FALSE)","v":2.52},"AC",75,null,2.52,""]
["378","WRP","Pond","CMP Steel, Polymeric Coated 16 gauge","lf-in.",{"$f":"VLOOKUP($D210,costs_components!$B$2:$F$315,3,FALSE)","v":2.1},"AC",75,null,2.1,""]
["378","WRP","Pond","CMP Steel, Polymeric Coated, CR/CS 10 gauge","lf-in.",{"$f":"VLOOKUP($D211,costs_components!$B$2:$F$315,3,FALSE)","v":4.75},"AC",75,null,4.75,""]
["378","WRP","Pond","CMP Steel, Polymeric Coated, CR/CS 12 gauge","lf-in.",{"$f":"VLOOKUP($D212,costs_components!$B$2:$F$315,3,FALSE)","v":3.75},"AC",75,null,3.75,""]
["378","WRP","Pond","CMP Steel, Polymeric Coated, CR/CS 14 gauge","lf-in.",{"$f":"VLOOKUP($D213,costs_components!$B$2:$F$315,3,FALSE)","v":3},"AC",75,null,3,""]
["378","WRP","Pond","CMP Steel, Polymeric Coated, CR/CS 16 gauge","lf-in.",{"$f":"VLOOKUP($D214,costs_components!$B$2:$F$315,3,FALSE)","v":2.5},"AC",75,null,2.5,""]
["378","WRP","Pond","CMP, Anti-Seep Diaphram - PC Steel, 2 piece, watertight coupling, rods/lugs","dia.in.",{"$f":"VLOOKUP($D215,costs_components!$B$2:$F$315,3,FALSE)","v":46.25},"AC",75,null,46.25,""]
["378","WRP","Pond","CMP, Anti-Seep Diaphram - SG Steel, 2 piece, watertight coupling, rods/lugs","dia.in.",{"$f":"VLOOKUP($D216,costs_components!$B$2:$F$315,3,FALSE)","v":33.25},"AC",75,null,33.25,""]
["378","WRP","Pond","CMP, Anti-Vortex Vane,  SG Steel, for hooded inlets","dia.in.",{"$f":"VLOOKUP($D217,costs_components!$B$2:$F$315,3,FALSE)","v":3.5},"AC",75,null,8.5,"XXX"]
["378","WRP","Pond","CMP, Conical Trash Rack, SG Steel 36\" and less (base on riser dia.)","dia.in.",{"$f":"VLOOKUP($D218,costs_components!$B$2:$F$315,3,FALSE)","v":39.75},"AC",75,null,39.75,""]
["378","WRP","Pond","CMP, Conical Trash Rack, SG Steel 42\" and over (base on riser dia.)","dia.in.",{"$f":"VLOOKUP($D219,costs_components!$B$2:$F$315,3,FALSE)","v":66.25},"AC",75,null,66.25,""]
["378","WRP","Pond","CMP, Connecting Band - Aluminum - 12\" wide 12 gauge","dia.in.",{"$f":"VLOOKUP($D220,costs_components!$B$2:$F$315,3,FALSE)","v":3.83},"AC",75,null,3.83,""]
["378","WRP","Pond","CMP, Connecting Band - Aluminum - 12\" wide 14 gauge","dia.in.",{"$f":"VLOOKUP($D221,costs_components!$B$2:$F$315,3,FALSE)","v":2.7},"AC",75,null,2.7,""]
["378","WRP","Pond","CMP, Connecting Band - Aluminum - 12\" wide 16 gauge","dia.in.",{"$f":"VLOOKUP($D222,costs_components!$B$2:$F$315,3,FALSE)","v":2.25},"AC",75,null,2.25,""]
["378","WRP","Pond","CMP, Connecting Band - Aluminum - 24\" wide 12 gauge","dia.in.",{"$f":"VLOOKUP($D223,costs_components!$B$2:$F$315,3,FALSE)","v":7.23},"AC",75,null,7.23,""]
["378","WRP","Pond","CMP, Connecting Band - Aluminum - 24\" wide 14 gauge","dia.in.",{"$f":"VLOOKUP($D224,costs_components!$B$2:$F$315,3,FALSE)","v":5.0999999999999996},"AC",75,null,5.0999999999999996,""]
["378","WRP","Pond","CMP, Connecting Band - Aluminum - 24\" wide 16 gauge","dia.in.",{"$f":"VLOOKUP($D225,costs_components!$B$2:$F$315,3,FALSE)","v":4.25},"AC",75,null,4.25,""]
["378","WRP","Pond","CMP, Connecting Band - Aluminum - 7 1/2\" wide 12 gauge","dia.in.",{"$f":"VLOOKUP($D226,costs_components!$B$2:$F$315,3,FALSE)","v":2.5499999999999998},"AC",75,null,2.5499999999999998,""]
["378","WRP","Pond","CMP, Connecting Band - Aluminum - 7 1/2\" wide 14 gauge","dia.in.",{"$f":"VLOOKUP($D227,costs_components!$B$2:$F$315,3,FALSE)","v":1.8},"AC",75,null,1.8,""]
["378","WRP","Pond","CMP, Connecting Band - Aluminum - 7 1/2\" wide 16 gauge","dia.in.",{"$f":"VLOOKUP($D228,costs_components!$B$2:$F$315,3,FALSE)","v":1.5},"AC",75,null,1.5,""]
["378","WRP","Pond","CMP, Connecting Band - Polymeric Coated Steel - 12\" wide 12 gauge","dia.in.",{"$f":"VLOOKUP($D229,costs_components!$B$2:$F$315,3,FALSE)","v":4.68},"AC",75,null,4.68,""]
["378","WRP","Pond","CMP, Connecting Band - Polymeric Coated Steel - 12\" wide 14 gauge","dia.in.",{"$f":"VLOOKUP($D230,costs_components!$B$2:$F$315,3,FALSE)","v":3.3},"AC",75,null,3.3,""]
["378","WRP","Pond","CMP, Connecting Band - Polymeric Coated Steel - 12\" wide 16 gauge","dia.in.",{"$f":"VLOOKUP($D231,costs_components!$B$2:$F$315,3,FALSE)","v":2.75},"AC",75,null,2.75,""]
["378","WRP","Pond","CMP, Connecting Band - Polymeric Coated Steel - 24\" wide 12 gauge","dia.in.",{"$f":"VLOOKUP($D232,costs_components!$B$2:$F$315,3,FALSE)","v":9.35},"AC",75,null,9.35,""]
["378","WRP","Pond","CMP, Connecting Band - Polymeric Coated Steel - 24\" wide 14 gauge","dia.in.",{"$f":"VLOOKUP($D233,costs_components!$B$2:$F$315,3,FALSE)","v":6.6},"AC",75,null,6.6,""]
["378","WRP","Pond","CMP, Connecting Band - Polymeric Coated Steel - 24\" wide 16 gauge","dia.in.",{"$f":"VLOOKUP($D234,costs_components!$B$2:$F$315,3,FALSE)","v":5.5},"AC",75,null,5.5,""]
["378","WRP","Pond","CMP, Connecting Band - Polymeric Coated Steel - 7 1/2\" wide 12 gauge","dia.in.",{"$f":"VLOOKUP($D235,costs_components!$B$2:$F$315,3,FALSE)","v":3.4},"AC",75,null,3.4,""]
["378","WRP","Pond","CMP, Connecting Band - Polymeric Coated Steel - 7 1/2\" wide 14 gauge","dia.in.",{"$f":"VLOOKUP($D236,costs_components!$B$2:$F$315,3,FALSE)","v":2.4},"AC",75,null,2.4,""]
["378","WRP","Pond","CMP, Connecting Band - Polymeric Coated Steel - 7 1/2\" wide 16 gauge","dia.in.",{"$f":"VLOOKUP($D237,costs_components!$B$2:$F$315,3,FALSE)","v":2},"AC",75,null,2,""]
["378","WRP","Pond","CMP, Connecting Band - Standard Galvanized Steel - 12\" wide 12 gauge","dia.in.",{"$f":"VLOOKUP($D238,costs_components!$B$2:$F$315,3,FALSE)","v":3.4},"AC",75,null,3.4,""]
["378","WRP","Pond","CMP, Connecting Band - Standard Galvanized Steel - 12\" wide 14 gauge","dia.in.",{"$f":"VLOOKUP($D239,costs_components!$B$2:$F$315,3,FALSE)","v":2.4},"AC",75,null,2.4,""]
["378","WRP","Pond","CMP, Connecting Band - Standard Galvanized Steel - 12\" wide 16 gauge","dia.in.",{"$f":"VLOOKUP($D240,costs_components!$B$2:$F$315,3,FALSE)","v":2},"AC",75,null,2,""]
["378","WRP","Pond","CMP, Connecting Band - Standard Galvanized Steel - 24\" wide 12 gauge","dia.in.",{"$f":"VLOOKUP($D241,costs_components!$B$2:$F$315,3,FALSE)","v":6.38},"AC",75,null,6.38,""]
["378","WRP","Pond","CMP, Connecting Band - Standard Galvanized Steel - 24\" wide 14 gauge","dia.in.",{"$f":"VLOOKUP($D242,costs_components!$B$2:$F$315,3,FALSE)","v":4.5},"AC",75,null,4.5,""]
["378","WRP","Pond","CMP, Connecting Band - Standard Galvanized Steel - 24\" wide 16 gauge","dia.in.",{"$f":"VLOOKUP($D243,costs_components!$B$2:$F$315,3,FALSE)","v":3.75},"AC",75,null,3.75,""]
["378","WRP","Pond","CMP, Connecting Band - Standard Galvanized Steel - 7 1/2\" wide 12 gauge","dia.in.",{"$f":"VLOOKUP($D244,costs_components!$B$2:$F$315,3,FALSE)","v":2.5499999999999998},"AC",75,null,2.5499999999999998,""]
["378","WRP","Pond","CMP, Connecting Band - Standard Galvanized Steel - 7 1/2\" wide 14 gauge","dia.in.",{"$f":"VLOOKUP($D245,costs_components!$B$2:$F$315,3,FALSE)","v":1.8},"AC",75,null,1.8,""]
["378","WRP","Pond","CMP, Connecting Band - Standard Galvanized Steel - 7 1/2\" wide 16 gauge","dia.in.",{"$f":"VLOOKUP($D246,costs_components!$B$2:$F$315,3,FALSE)","v":1.5},"AC",75,null,150,"XXX"]
["378","WRP","Pond","CMP, Connecting Band - Watertight PC Steel, incl. 4 rods/lugs - 24\" wide 12 gauge","dia.in.",{"$f":"VLOOKUP($D247,costs_components!$B$2:$F$315,3,FALSE)","v":16.579999999999998},"AC",75,null,16.579999999999998,""]
["378","WRP","Pond","CMP, Connecting Band - Watertight PC Steel, incl. 4 rods/lugs - 24\" wide 14 gauge","dia.in.",{"$f":"VLOOKUP($D248,costs_components!$B$2:$F$315,3,FALSE)","v":11.7},"AC",75,null,11.7,""]
["378","WRP","Pond","CMP, Connecting Band - Watertight PC Steel, incl. 4 rods/lugs - 24\" wide 16 gauge","dia.in.",{"$f":"VLOOKUP($D249,costs_components!$B$2:$F$315,3,FALSE)","v":9.75},"AC",75,null,9.75,""]
["378","WRP","Pond","CMP, Connecting Band - Watertight SG Steel, incl. 4 rods/lugs - 24\" wide 12 gauge","dia.in.",{"$f":"VLOOKUP($D250,costs_components!$B$2:$F$315,3,FALSE)","v":12.33},"AC",75,null,12.33,""]
["378","WRP","Pond","CMP, Connecting Band - Watertight SG Steel, incl. 4 rods/lugs - 24\" wide 14 gauge","dia.in.",{"$f":"VLOOKUP($D251,costs_components!$B$2:$F$315,3,FALSE)","v":8.6999999999999993},"AC",75,null,8.6999999999999993,""]
["378","WRP","Pond","CMP, Connecting Band - Watertight SG Steel, incl. 4 rods/lugs - 24\" wide 16 gauge","dia.in.",{"$f":"VLOOKUP($D252,costs_components!$B$2:$F$315,3,FALSE)","v":7.25},"AC",75,null,7.25,""]
["378","WRP","Pond","CMP, End Section 12\"-24\" diameter","dia.in.",{"$f":"VLOOKUP($D253,costs_components!$B$2:$F$315,3,FALSE)","v":8.5},"AC",75,null,8.5,""]
["378","WRP","Pond","CMP, End Section 30\"-36\" diameter","dia.in.",{"$f":"VLOOKUP($D254,costs_components!$B$2:$F$315,3,FALSE)","v":13.25},"AC",75,null,13.25,""]
["378","WRP","Pond","CMP, End Section 42\"-54\" diameter","dia.in.",{"$f":"VLOOKUP($D255,costs_components!$B$2:$F$315,3,FALSE)","v":25},"AC",75,null,25,""]
["378","WRP","Pond","CMP, End Section 60\" and larger diameter","dia.in.",{"$f":"VLOOKUP($D256,costs_components!$B$2:$F$315,3,FALSE)","v":33},"AC",75,null,33,""]
["378","WRP","Pond","CMP, Fabricated Trash Rack, SG Steel, based on riser diameter","dia.in.",{"$f":"VLOOKUP($D257,costs_components!$B$2:$F$315,3,FALSE)","v":20},"AC",75,null,18.899999999999999,"XXX"]
["378","WRP","Pond","CMP, Fabrication (labor only) - Elbows","dia.in.",{"$f":"VLOOKUP($D258,costs_components!$B$2:$F$315,3,FALSE)","v":10},"AC",75,null,10,""]
["378","WRP","Pond","CMP, Fabrication (labor only) - Skewed or Beveled Ends","dia.in.",{"$f":"VLOOKUP($D259,costs_components!$B$2:$F$315,3,FALSE)","v":6},"AC",75,null,6,""]
["378","WRP","Pond","CMP, Fabrication (labor only) - Tees, Wyes, and Riser Stubs","dia.in.",{"$f":"VLOOKUP($D260,costs_components!$B$2:$F$315,3,FALSE)","v":13.25},"AC",75,null,13.25,""]
["378","WRP","Pond","CMP, Flap Gate, SG Steel","dia.in.",{"$f":"VLOOKUP($D261,costs_components!$B$2:$F$315,3,FALSE)","v":20},"AC",75,null,20,{"$f":"IF(F261<>J261,\"XXX\",\"\")","v":""}]
["378","WRP","Pond","CMP, Hooded Inlet Baffle Plate - SG Steel, double angle iron","dia.in.",{"$f":"VLOOKUP($D262,costs_components!$B$2:$F$315,3,FALSE)","v":15.5},"AC",75,null,15.5,""]
["378","WRP","Pond","CMP, Screen or End Cap, SG Steel","dia.in.",{"$f":"VLOOKUP($D263,costs_components!$B$2:$F$315,3,FALSE)","v":8.25},"AC",75,null,8.25,""]
["378","WRP","Pond","CMP, Splitter Type Anti-Vortex Wall - SG Steel (base on riser diameter)","dia.in.",{"$f":"VLOOKUP($D264,costs_components!$B$2:$F$315,3,FALSE)","v":8.5},"AC",75,null,8.5,""]
["378","WRP","Pond","CMP, Standard Aluminum 10 gauge","lf-in.",{"$f":"VLOOKUP($D265,costs_components!$B$2:$F$315,3,FALSE)","v":3.42},"AC",75,null,3.42,""]
["378","WRP","Pond","CMP, Standard Aluminum 12 gauge","lf-in.",{"$f":"VLOOKUP($D266,costs_components!$B$2:$F$315,3,FALSE)","v":2.7},"AC",75,null,2.7,""]
["378","WRP","Pond","CMP, Standard Aluminum 14 gauge","lf-in.",{"$f":"VLOOKUP($D267,costs_components!$B$2:$F$315,3,FALSE)","v":2.16},"AC",75,null,2.16,""]
["378","WRP","Pond","CMP, Standard Aluminum 16 gauge","lf-in.",{"$f":"VLOOKUP($D268,costs_components!$B$2:$F$315,3,FALSE)","v":1.8},"AC",75,null,1.8,""]
["378","WRP","Pond","CMP, Standard Galvanized Steel 10 gauge","lf-in.",{"$f":"VLOOKUP($D269,costs_components!$B$2:$F$315,3,FALSE)","v":2.79},"AC",75,null,2.79,""]
["378","WRP","Pond","CMP, Standard Galvanized Steel 12 gauge","lf-in.",{"$f":"VLOOKUP($D270,costs_components!$B$2:$F$315,3,FALSE)","v":2.21},"AC",75,null,2.21,""]
["378","WRP","Pond","CMP, Standard Galvanized Steel 14 gauge","lf-in.",{"$f":"VLOOKUP($D271,costs_components!$B$2:$F$315,3,FALSE)","v":1.76},"AC",75,null,1.76,""]
["378","WRP","Pond","CMP, Standard Galvanized Steel 16 gauge","lf-in.",{"$f":"VLOOKUP($D272,costs_components!$B$2:$F$315,3,FALSE)","v":1.47},"AC",75,null,1.47,""]
["378","WRP","Pond","CMP, Weir Trash Rack, SG Steel, for hooded inlets","dia.in.",{"$f":"VLOOKUP($D273,costs_components!$B$2:$F$315,3,FALSE)","v":13.25},"AC",75,null,13.25,""]
["378","WRP","Pond","Corrugated Plastic Pipe - Dual-Wall Pipe 10\"","foot",{"$f":"VLOOKUP($D274,costs_components!$B$2:$F$315,3,FALSE)","v":5.75},"AC",75,null,5.75,""]
["378","WRP","Pond","Corrugated Plastic Pipe - Dual-Wall Pipe 12\"","foot",{"$f":"VLOOKUP($D275,costs_components!$B$2:$F$315,3,FALSE)","v":7.5},"AC",75,null,7.5,""]
["378","WRP","Pond","Corrugated Plastic Pipe - Dual-Wall Pipe 15\"","foot",{"$f":"VLOOKUP($D276,costs_components!$B$2:$F$315,3,FALSE)","v":9},"AC",75,null,9,""]
["378","WRP","Pond","Corrugated Plastic Pipe - Dual-Wall Pipe 18\"","foot",{"$f":"VLOOKUP($D277,costs_components!$B$2:$F$315,3,FALSE)","v":14.25},"AC",75,null,14.25,""]
["378","WRP","Pond","Corrugated Plastic Pipe - Dual-Wall Pipe 24\"","foot",{"$f":"VLOOKUP($D278,costs_components!$B$2:$F$315,3,FALSE)","v":21.75},"AC",75,null,21.75,""]
["378","WRP","Pond","Corrugated Plastic Pipe - Dual-Wall Pipe 4\"","foot",{"$f":"VLOOKUP($D279,costs_components!$B$2:$F$315,3,FALSE)","v":1.1000000000000001},"AC",75,null,1.1000000000000001,""]
["378","WRP","Pond","Corrugated Plastic Pipe - Dual-Wall Pipe 6\"","foot",{"$f":"VLOOKUP($D280,costs_components!$B$2:$F$315,3,FALSE)","v":2.5},"AC",75,null,2.5,""]
["378","WRP","Pond","Corrugated Plastic Pipe - Dual-Wall Pipe 8\"","foot",{"$f":"VLOOKUP($D281,costs_components!$B$2:$F$315,3,FALSE)","v":4},"AC",75,null,4,""]
["378","WRP","Pond","Corrugated Plastic Pipe - End Section 10\"","each",{"$f":"VLOOKUP($D282,costs_components!$B$2:$F$315,3,FALSE)","v":80},"AC",75,null,80,""]
["378","WRP","Pond","Corrugated Plastic Pipe - End Section 12\"","each",{"$f":"VLOOKUP($D283,costs_components!$B$2:$F$315,3,FALSE)","v":93.25},"AC",75,null,93.25,""]
["378","WRP","Pond","Corrugated Plastic Pipe - End Section 15\"","each",{"$f":"VLOOKUP($D284,costs_components!$B$2:$F$315,3,FALSE)","v":116.5},"AC",75,null,116.5,""]
["378","WRP","Pond","Corrugated Plastic Pipe - End Section 18\"","each",{"$f":"VLOOKUP($D285,costs_components!$B$2:$F$315,3,FALSE)","v":153},"AC",75,null,153,""]
["378","WRP","Pond","Corrugated Plastic Pipe - End Section 24\"","each",{"$f":"VLOOKUP($D286,costs_components!$B$2:$F$315,3,FALSE)","v":225.75},"AC",75,null,225.75,""]
["378","WRP","Pond","Corrugated Plastic Pipe - End Section 8\"","each",{"$f":"VLOOKUP($D287,costs_components!$B$2:$F$315,3,FALSE)","v":73},"AC",75,null,73,""]
["378","WRP","Pond","Corrugated Plastic Pipe - Gasketed Sleeve Coupler 12\"","each",{"$f":"VLOOKUP($D288,costs_components!$B$2:$F$315,3,FALSE)","v":35.25},"AC",75,null,35.25,""]
["378","WRP","Pond","Corrugated Plastic Pipe - Gasketed Sleeve Coupler 15\"","each",{"$f":"VLOOKUP($D289,costs_components!$B$2:$F$315,3,FALSE)","v":51.5},"AC",75,null,51.5,""]
["378","WRP","Pond","Corrugated Plastic Pipe - Gasketed Sleeve Coupler 18\"","each",{"$f":"VLOOKUP($D290,costs_components!$B$2:$F$315,3,FALSE)","v":70},"AC",75,null,70,""]
["378","WRP","Pond","Corrugated Plastic Pipe - Gasketed Sleeve Coupler 24\"","each",{"$f":"VLOOKUP($D291,costs_components!$B$2:$F$315,3,FALSE)","v":215.75},"AC",75,null,215.75,""]
["378","WRP","Pond","Corrugated Plastic Pipe - Plastic Anti-Seep Collar (4X4) 10\"","each",{"$f":"VLOOKUP($D292,costs_components!$B$2:$F$315,3,FALSE)","v":174},"AC",75,null,174,""]
["378","WRP","Pond","Corrugated Plastic Pipe - Plastic Anti-Seep Collar (4X4) 12\"","each",{"$f":"VLOOKUP($D293,costs_components!$B$2:$F$315,3,FALSE)","v":178},"AC",75,null,178,""]
["378","WRP","Pond","Corrugated Plastic Pipe - Plastic Anti-Seep Collar (4X4) 15\"","each",{"$f":"VLOOKUP($D294,costs_components!$B$2:$F$315,3,FALSE)","v":188.75},"AC",75,null,188.75,""]
["378","WRP","Pond","Corrugated Plastic Pipe - Plastic Anti-Seep Collar (4X4) 18\"","each",{"$f":"VLOOKUP($D295,costs_components!$B$2:$F$315,3,FALSE)","v":194},"AC",75,null,194,""]
["378","WRP","Pond","Corrugated Plastic Pipe - Plastic Anti-Seep Collar (4X4) 24\"","each",{"$f":"VLOOKUP($D296,costs_components!$B$2:$F$315,3,FALSE)","v":215.75},"AC",75,null,215.75,""]
["378","WRP","Pond","Corrugated Plastic Pipe - Plastic Anti-Seep Collar (4X4) 4\"","each",{"$f":"VLOOKUP($D297,costs_components!$B$2:$F$315,3,FALSE)","v":156.5},"AC",75,null,156.5,""]
["378","WRP","Pond","Corrugated Plastic Pipe - Plastic Anti-Seep Collar (4X4) 6\"","each",{"$f":"VLOOKUP($D298,costs_components!$B$2:$F$315,3,FALSE)","v":155.75},"AC",75,null,155.75,""]
["378","WRP","Pond","Corrugated Plastic Pipe - Plastic Anti-Seep Collar (4X4) 8\"","each",{"$f":"VLOOKUP($D299,costs_components!$B$2:$F$315,3,FALSE)","v":161.75},"AC",75,null,161.75,""]
["378","WRP","Pond","Corrugated Plastic Pipe - Rodent Guard 10\"","each",{"$f":"VLOOKUP($D300,costs_components!$B$2:$F$315,3,FALSE)","v":29},"AC",75,null,29,""]
["378","WRP","Pond","Corrugated Plastic Pipe - Rodent Guard 12\"","each",{"$f":"VLOOKUP($D301,costs_components!$B$2:$F$315,3,FALSE)","v":37.25},"AC",75,null,37.25,""]
["378","WRP","Pond","Corrugated Plastic Pipe - Rodent Guard 15\"","each",{"$f":"VLOOKUP($D302,costs_components!$B$2:$F$315,3,FALSE)","v":55.25},"AC",75,null,55.25,""]
["378","WRP","Pond","Corrugated Plastic Pipe - Rodent Guard 18\"","each",{"$f":"VLOOKUP($D303,costs_components!$B$2:$F$315,3,FALSE)","v":94.5},"AC",75,null,94.5,""]
["378","WRP","Pond","Corrugated Plastic Pipe - Rodent Guard 24\"","each",{"$f":"VLOOKUP($D304,costs_components!$B$2:$F$315,3,FALSE)","v":122},"AC",75,null,122,""]
["378","WRP","Pond","Corrugated Plastic Pipe - Rodent Guard 4\"","each",{"$f":"VLOOKUP($D305,costs_components!$B$2:$F$315,3,FALSE)","v":16},"AC",75,null,16,""]
["378","WRP","Pond","Corrugated Plastic Pipe - Rodent Guard 6\"","each",{"$f":"VLOOKUP($D306,costs_components!$B$2:$F$315,3,FALSE)","v":18},"AC",75,null,18,""]
["378","WRP","Pond","Corrugated Plastic Pipe - Rodent Guard 8\"","each",{"$f":"VLOOKUP($D307,costs_components!$B$2:$F$315,3,FALSE)","v":22.5},"AC",75,null,22.5,""]
["378","WRP","Pond","Corrugated Plastic Pipe - Soil-Tight Split Coupler 12\"","each",{"$f":"VLOOKUP($D308,costs_components!$B$2:$F$315,3,FALSE)","v":23.5},"AC",75,null,23.5,""]
["378","WRP","Pond","Corrugated Plastic Pipe - Soil-Tight Split Coupler 18\"","each",{"$f":"VLOOKUP($D309,costs_components!$B$2:$F$315,3,FALSE)","v":36.5},"AC",75,null,36.5,""]
["378","WRP","Pond","Corrugated Plastic Pipe - Soil-Tight Split Coupler 24\"","each",{"$f":"VLOOKUP($D310,costs_components!$B$2:$F$315,3,FALSE)","v":54},"AC",75,null,54,""]
["378","WRP","Pond","Corrugated Plastic Pipe - Split Coupler 10\"","each",{"$f":"VLOOKUP($D311,costs_components!$B$2:$F$315,3,FALSE)","v":6},"AC",75,null,6,""]
["378","WRP","Pond","Corrugated Plastic Pipe - Split Coupler 12\"","each",{"$f":"VLOOKUP($D312,costs_components!$B$2:$F$315,3,FALSE)","v":8},"AC",75,null,8,""]
["378","WRP","Pond","Corrugated Plastic Pipe - Split Coupler 15\"","each",{"$f":"VLOOKUP($D313,costs_components!$B$2:$F$315,3,FALSE)","v":13.75},"AC",75,null,13.75,""]
["378","WRP","Pond","Corrugated Plastic Pipe - Split Coupler 18\"","each",{"$f":"VLOOKUP($D314,costs_components!$B$2:$F$315,3,FALSE)","v":18.5},"AC",75,null,18.5,""]
["378","WRP","Pond","Corrugated Plastic Pipe - Split Coupler 24\"","each",{"$f":"VLOOKUP($D315,costs_components!$B$2:$F$315,3,FALSE)","v":29.75},"AC",75,null,29.75,""]
["378","WRP","Pond","Corrugated Plastic Pipe - Split Coupler 4\"","each",{"$f":"VLOOKUP($D316,costs_components!$B$2:$F$315,3,FALSE)","v":1.75},"AC",75,null,1.75,""]
["378","WRP","Pond","Corrugated Plastic Pipe - Split Coupler 6\"","each",{"$f":"VLOOKUP($D317,costs_components!$B$2:$F$315,3,FALSE)","v":3},"AC",75,null,3,""]
["378","WRP","Pond","Corrugated Plastic Pipe - Split Coupler 8\"","each",{"$f":"VLOOKUP($D318,costs_components!$B$2:$F$315,3,FALSE)","v":4.5},"AC",75,null,4.5,""]
["378","WRP","Pond","Corrugated Plastic Pipe - Tubing/Culverts - 10\"","foot",{"$f":"VLOOKUP($D319,costs_components!$B$2:$F$315,3,FALSE)","v":3.75},"AC",75,null,3.75,""]
["378","WRP","Pond","Corrugated Plastic Pipe - Tubing/Culverts - 12\"","foot",{"$f":"VLOOKUP($D320,costs_components!$B$2:$F$315,3,FALSE)","v":4.75},"AC",75,null,4.75,""]
["378","WRP","Pond","Corrugated Plastic Pipe - Tubing/Culverts - 15\"","foot",{"$f":"VLOOKUP($D321,costs_components!$B$2:$F$315,3,FALSE)","v":7},"AC",75,null,7,""]
["378","WRP","Pond","Corrugated Plastic Pipe - Tubing/Culverts - 18\"","foot",{"$f":"VLOOKUP($D322,costs_components!$B$2:$F$315,3,FALSE)","v":11},"AC",75,null,11,""]
["378","WRP","Pond","Corrugated Plastic Pipe - Tubing/Culverts - 24","foot",{"$f":"VLOOKUP($D323,costs_components!$B$2:$F$315,3,FALSE)","v":17.75},"AC",75,null,17.75,""]
["378","WRP","Pond","Corrugated Plastic Pipe - Tubing/Culverts - 3\"","foot",{"$f":"VLOOKUP($D324,costs_components!$B$2:$F$315,3,FALSE)","v":0.45},"AC",75,null,0.45,""]
["378","WRP","Pond","Corrugated Plastic Pipe - Tubing/Culverts - 4\"","foot",{"$f":"VLOOKUP($D325,costs_components!$B$2:$F$315,3,FALSE)","v":0.5},"AC",75,null,0.5,{"$f":"IF(F325<>J325,\"XXX\",\"\")","v":""}]
["378","WRP","Pond","Corrugated Plastic Pipe - Tubing/Culverts - 5\"","foot",{"$f":"VLOOKUP($D326,costs_components!$B$2:$F$315,3,FALSE)","v":0.75},"AC",75,null,0.75,""]
["378","WRP","Pond","Corrugated Plastic Pipe - Tubing/Culverts - 6\"","foot",{"$f":"VLOOKUP($D327,costs_components!$B$2:$F$315,3,FALSE)","v":1},"AC",75,null,1,""]
["378","WRP","Pond","Corrugated Plastic Pipe - Tubing/Culverts - 8\"","foot",{"$f":"VLOOKUP($D328,costs_components!$B$2:$F$315,3,FALSE)","v":2},"AC",75,null,2,""]
["378","WRP","Pond","Corrugated Plastic Pipe - Tubing/Culverts w/sock - 10\"","foot",{"$f":"VLOOKUP($D329,costs_components!$B$2:$F$315,3,FALSE)","v":4},"AC",75,null,4,""]
["378","WRP","Pond","Corrugated Plastic Pipe - Tubing/Culverts w/sock - 12\"","foot",{"$f":"VLOOKUP($D330,costs_components!$B$2:$F$315,3,FALSE)","v":5.5},"AC",75,null,5.5,""]
["378","WRP","Pond","Corrugated Plastic Pipe - Tubing/Culverts w/sock - 15\"","foot",{"$f":"VLOOKUP($D331,costs_components!$B$2:$F$315,3,FALSE)","v":8.75},"AC",75,null,8.75,""]
["378","WRP","Pond","Corrugated Plastic Pipe - Tubing/Culverts w/sock - 18\"","foot",{"$f":"VLOOKUP($D332,costs_components!$B$2:$F$315,3,FALSE)","v":12},"AC",75,null,12,""]
["378","WRP","Pond","Corrugated Plastic Pipe - Tubing/Culverts w/sock - 24","foot",{"$f":"VLOOKUP($D333,costs_components!$B$2:$F$315,3,FALSE)","v":18.75},"AC",75,null,18.75,""]
["378","WRP","Pond","Corrugated Plastic Pipe - Tubing/Culverts w/sock - 3\"","foot",{"$f":"VLOOKUP($D334,costs_components!$B$2:$F$315,3,FALSE)","v":0.6},"AC",75,null,0.6,""]
["378","WRP","Pond","Corrugated Plastic Pipe - Tubing/Culverts w/sock - 4\"","foot",{"$f":"VLOOKUP($D335,costs_components!$B$2:$F$315,3,FALSE)","v":0.75},"AC",75,null,0.75,""]
["378","WRP","Pond","Corrugated Plastic Pipe - Tubing/Culverts w/sock - 5\"","foot",{"$f":"VLOOKUP($D336,costs_components!$B$2:$F$315,3,FALSE)","v":1},"AC",75,null,1,""]
["378","WRP","Pond","Corrugated Plastic Pipe - Tubing/Culverts w/sock - 6\"","foot",{"$f":"VLOOKUP($D337,costs_components!$B$2:$F$315,3,FALSE)","v":1.5},"AC",75,null,1.5,""]
["378","WRP","Pond","Corrugated Plastic Pipe - Tubing/Culverts w/sock - 8\"","foot",{"$f":"VLOOKUP($D338,costs_components!$B$2:$F$315,3,FALSE)","v":2.25},"AC",75,null,2.25,""]
["378","WRP","Pond","Earth Fill - Class A Compaction - Clay Liners (specified density)","cu.yd.",{"$f":"VLOOKUP($D339,costs_components!$B$2:$F$315,3,FALSE)","v":5.3},"AC",75,null,4.25,"XXX"]
["378","WRP","Pond","Earth Fill - Class A Compaction (specified density)","cu.yd.",{"$f":"VLOOKUP($D340,costs_components!$B$2:$F$315,3,FALSE)","v":3.6},"AC",75,null,2.85,"XXX"]
["378","WRP","Pond","Earth Fill - Class C Compaction (specified method)","cu.yd.",{"$f":"VLOOKUP($D341,costs_components!$B$2:$F$315,3,FALSE)","v":3},"AC",75,null,2.4,"XXX"]
["378","WRP","Pond","Earth Fill (hand compaction)","cu.yd.",{"$f":"VLOOKUP($D342,costs_components!$B$2:$F$315,3,FALSE)","v":7.1},"AC",75,null,5.67,"XXX"]
["378","WRP","Pond","Excavation","cu.yd.",{"$f":"VLOOKUP($D343,costs_components!$B$2:$F$315,3,FALSE)","v":4.4000000000000004},"AC",75,null,2.1,"XXX"]
["378","WRP","Pond","Excavation Small Structures","cu.yd.",{"$f":"VLOOKUP($D344,costs_components!$B$2:$F$315,3,FALSE)","v":7.1},"AC",75,null,5.7,"XXX"]
["378","WRP","Pond","Fence, Silt","lf.",{"$f":"VLOOKUP($D345,costs_components!$B$2:$F$315,3,FALSE)","v":3.3},"AC",75,null,2.6,"XXX"]
["378","WRP","Pond","Formed steel reinforced concrete (4000 psi)","cu.yd.",{"$f":"VLOOKUP($D346,costs_components!$B$2:$F$315,3,FALSE)","v":708.8},"AC",75,null,567,"XXX"]
["378","WRP","Pond","Formed steel reinforced concrete (M strength)","cu.yd.",{"$f":"VLOOKUP($D347,costs_components!$B$2:$F$315,3,FALSE)","v":567.5},"AC",75,null,454,"XXX"]
["378","WRP","Pond","Gate Valve","dia.in.",{"$f":"VLOOKUP($D348,costs_components!$B$2:$F$315,3,FALSE)","v":56},"AC",75,null,56,""]
["378","WRP","Pond","Geotextile Fabric - Woven or non-woven fabric","sq.yd.",{"$f":"VLOOKUP($D349,costs_components!$B$2:$F$315,3,FALSE)","v":2.8},"AA",75,null,2.8,""]
["378","WRP","Pond","Grade Transition Section","dia.in.",{"$f":"VLOOKUP($D350,costs_components!$B$2:$F$315,3,FALSE)","v":56},"AC",75,null,56,""]
["378","WRP","Pond","Gravel (pit run)","cu.yd.",{"$f":"VLOOKUP($D351,costs_components!$B$2:$F$315,3,FALSE)","v":17.25},"AC",75,null,17.25,""]
["378","WRP","Pond","Gravel (washed & graded)","cu.yd.",{"$f":"VLOOKUP($D352,costs_components!$B$2:$F$315,3,FALSE)","v":28},"AC",75,null,28,""]
["378","WRP","Pond","Hand Opening Slide Gate","dia.in.",{"$f":"VLOOKUP($D353,costs_components!$B$2:$F$315,3,FALSE)","v":10},"AC",75,null,10,""]
["378","WRP","Pond","Hauling Materials (offsite borrow)","yd/.25mi",{"$f":"VLOOKUP($D354,costs_components!$B$2:$F$315,3,FALSE)","v":0.2},"AC",75,null,0.14000000000000001,"XXX"]
["378","WRP","Pond","Large Diameter Pipe 10\", Head 50 ft (22 psi)","foot",{"$f":"VLOOKUP($D355,costs_components!$B$2:$F$315,3,FALSE)","v":2.2000000000000002},"AC",75,null,2.2000000000000002,""]
["378","WRP","Pond","Large Diameter Pipe 10\", SDR-26 (160 psi)","foot",{"$f":"VLOOKUP($D356,costs_components!$B$2:$F$315,3,FALSE)","v":10.4},"AC",75,null,10.4,""]
["378","WRP","Pond","Large Diameter Pipe 10\", SDR-32.5 (125 psi)","foot",{"$f":"VLOOKUP($D357,costs_components!$B$2:$F$315,3,FALSE)","v":7.3},"AC",75,null,7.3,""]
["378","WRP","Pond","Large Diameter Pipe 10\", SDR-41 (100 psi)","foot",{"$f":"VLOOKUP($D358,costs_components!$B$2:$F$315,3,FALSE)","v":4.25},"AC",75,null,6,"XXX"]
["378","WRP","Pond","Large Diameter Pipe 10\", SDR-51 (80 psi)","foot",{"$f":"VLOOKUP($D359,costs_components!$B$2:$F$315,3,FALSE)","v":3.41},"AC",75,null,5,"XXX"]
["378","WRP","Pond","Large Diameter Pipe 10\", SDR-81 (50 psi)","foot",{"$f":"VLOOKUP($D360,costs_components!$B$2:$F$315,3,FALSE)","v":3.1},"AC",75,null,3.6,"XXX"]
["378","WRP","Pond","Large Diameter Pipe 12\", Head 50 ft (22 psi)","foot",{"$f":"VLOOKUP($D361,costs_components!$B$2:$F$315,3,FALSE)","v":2.6},"AC",75,null,2.6,""]
["378","WRP","Pond","Large Diameter Pipe 12\", SDR-26 (160 psi)","foot",{"$f":"VLOOKUP($D362,costs_components!$B$2:$F$315,3,FALSE)","v":14.6},"AC",75,null,14.6,""]
["378","WRP","Pond","Large Diameter Pipe 12\", SDR-32.5 (125 psi)","foot",{"$f":"VLOOKUP($D363,costs_components!$B$2:$F$315,3,FALSE)","v":10.4},"AC",75,null,10.4,""]
["378","WRP","Pond","Large Diameter Pipe 12\", SDR-41 (100 psi)","foot",{"$f":"VLOOKUP($D364,costs_components!$B$2:$F$315,3,FALSE)","v":6.13},"AC",75,null,7.75,"XXX"]
["378","WRP","Pond","Large Diameter Pipe 12\", SDR-51 (80 psi)","foot",{"$f":"VLOOKUP($D365,costs_components!$B$2:$F$315,3,FALSE)","v":4.84},"AC",75,null,6.9,"XXX"]
["378","WRP","Pond","Large Diameter Pipe 12\", SDR-81 (50 psi)","foot",{"$f":"VLOOKUP($D366,costs_components!$B$2:$F$315,3,FALSE)","v":4.25},"AC",75,null,4.55,"XXX"]
["378","WRP","Pond","Large Diameter Pipe 15\", Head 50 ft (22 psi)","foot",{"$f":"VLOOKUP($D367,costs_components!$B$2:$F$315,3,FALSE)","v":4.2},"AC",75,null,4.2,""]
["378","WRP","Pond","Large Diameter Pipe 15\", SDR-26 (160 psi)","foot",{"$f":"VLOOKUP($D368,costs_components!$B$2:$F$315,3,FALSE)","v":20.95},"AC",75,null,20.95,""]
["378","WRP","Pond","Large Diameter Pipe 15\", SDR-32.5 (125 psi)","foot",{"$f":"VLOOKUP($D369,costs_components!$B$2:$F$315,3,FALSE)","v":16.649999999999999},"AC",75,null,16.649999999999999,""]
["378","WRP","Pond","Large Diameter Pipe 15\", SDR-41 (100 psi)","foot",{"$f":"VLOOKUP($D370,costs_components!$B$2:$F$315,3,FALSE)","v":8.4600000000000009},"AC",75,null,13.35,"XXX"]
["378","WRP","Pond","Large Diameter Pipe 15\", SDR-51 (80 psi)","foot",{"$f":"VLOOKUP($D371,costs_components!$B$2:$F$315,3,FALSE)","v":6.8},"AC",75,null,11,"XXX"]
["378","WRP","Pond","Large Diameter Pipe 15\", SDR-81 (50 psi)","foot",{"$f":"VLOOKUP($D372,costs_components!$B$2:$F$315,3,FALSE)","v":5.75},"AC",75,null,7,"XXX"]
["378","WRP","Pond","Large Diameter Pipe 18\", SDR-26 (160 psi)","foot",{"$f":"VLOOKUP($D373,costs_components!$B$2:$F$315,3,FALSE)","v":32},"AC",75,null,32,""]
["378","WRP","Pond","Large Diameter Pipe 18\", SDR-32.5 (125 psi)","foot",{"$f":"VLOOKUP($D374,costs_components!$B$2:$F$315,3,FALSE)","v":25.15},"AC",75,null,25.15,""]
["378","WRP","Pond","Large Diameter Pipe 18\", SDR-41 (100 psi)","foot",{"$f":"VLOOKUP($D375,costs_components!$B$2:$F$315,3,FALSE)","v":20},"AC",75,null,20,""]
["378","WRP","Pond","Large Diameter Pipe 18\", SDR-51 (80 psi)","foot",{"$f":"VLOOKUP($D376,costs_components!$B$2:$F$315,3,FALSE)","v":16.7},"AC",75,null,16.7,""]
["378","WRP","Pond","Large Diameter Pipe 18\", SDR-81 (50 psi)","foot",{"$f":"VLOOKUP($D377,costs_components!$B$2:$F$315,3,FALSE)","v":12.5},"AC",75,null,12.5,""]
["378","WRP","Pond","Large Diameter Pipe 21\", SDR-32.5 (125 psi)","foot",{"$f":"VLOOKUP($D378,costs_components!$B$2:$F$315,3,FALSE)","v":36.4},"AC",75,null,36.4,""]
["378","WRP","Pond","Large Diameter Pipe 21\", SDR-41 (100 psi)","foot",{"$f":"VLOOKUP($D379,costs_components!$B$2:$F$315,3,FALSE)","v":28.4},"AC",75,null,28.4,""]
["378","WRP","Pond","Large Diameter Pipe 21\", SDR-51 (80 psi)","foot",{"$f":"VLOOKUP($D380,costs_components!$B$2:$F$315,3,FALSE)","v":24},"AC",75,null,24,""]
["378","WRP","Pond","Large Diameter Pipe 21\", SDR-81 (50 psi)","foot",{"$f":"VLOOKUP($D381,costs_components!$B$2:$F$315,3,FALSE)","v":18.05},"AC",75,null,18.05,""]
["378","WRP","Pond","Large Diameter Pipe 24\", SDR-32.5 (125 psi)","foot",{"$f":"VLOOKUP($D382,costs_components!$B$2:$F$315,3,FALSE)","v":46.2},"AC",75,null,46.2,""]
["378","WRP","Pond","Large Diameter Pipe 24\", SDR-41 (100 psi)","foot",{"$f":"VLOOKUP($D383,costs_components!$B$2:$F$315,3,FALSE)","v":37.200000000000003},"AC",75,null,37.200000000000003,""]
["378","WRP","Pond","Large Diameter Pipe 24\", SDR-51 (80 psi)","foot",{"$f":"VLOOKUP($D384,costs_components!$B$2:$F$315,3,FALSE)","v":30.35},"AC",75,null,30.35,""]
["378","WRP","Pond","Large Diameter Pipe 24\", SDR-81 (50 psi)","foot",{"$f":"VLOOKUP($D385,costs_components!$B$2:$F$315,3,FALSE)","v":20.85},"AC",75,null,20.85,""]
["378","WRP","Pond","Large Diameter Pipe 6\", Head 50 ft (22 psi)","foot",{"$f":"VLOOKUP($D386,costs_components!$B$2:$F$315,3,FALSE)","v":1.1499999999999999},"AC",75,null,1.1499999999999999,""]
["378","WRP","Pond","Large Diameter Pipe 6\", SDR-26 (160 psi)","foot",{"$f":"VLOOKUP($D387,costs_components!$B$2:$F$315,3,FALSE)","v":4.25},"AC",75,null,4.25,""]
["378","WRP","Pond","Large Diameter Pipe 6\", SDR-32.5 (125 psi)","foot",{"$f":"VLOOKUP($D388,costs_components!$B$2:$F$315,3,FALSE)","v":2.8},"AC",75,null,2.8,""]
["378","WRP","Pond","Large Diameter Pipe 6\", SDR-41 (100 psi)","foot",{"$f":"VLOOKUP($D389,costs_components!$B$2:$F$315,3,FALSE)","v":2.4},"AC",75,null,2.4,{"$f":"IF(F389<>J389,\"XXX\",\"\")","v":""}]
["378","WRP","Pond","Large Diameter Pipe 6\", SDR-51 (80 psi)","foot",{"$f":"VLOOKUP($D390,costs_components!$B$2:$F$315,3,FALSE)","v":2.1},"AC",75,null,2.1,""]
["378","WRP","Pond","Large Diameter Pipe 6\", SDR-81 (50 psi)","foot",{"$f":"VLOOKUP($D391,costs_components!$B$2:$F$315,3,FALSE)","v":1.5},"AC",75,null,1.5,""]
["378","WRP","Pond","Large Diameter Pipe 8\", Head 50 ft (22 psi)","foot",{"$f":"VLOOKUP($D392,costs_components!$B$2:$F$315,3,FALSE)","v":1.5},"AC",75,null,1.5,""]
["378","WRP","Pond","Large Diameter Pipe 8\", SDR-26 (160 psi)","foot",{"$f":"VLOOKUP($D393,costs_components!$B$2:$F$315,3,FALSE)","v":6.7},"AC",75,null,6.7,""]
["378","WRP","Pond","Large Diameter Pipe 8\", SDR-32.5 (125 psi)","foot",{"$f":"VLOOKUP($D394,costs_components!$B$2:$F$315,3,FALSE)","v":4.8},"AC",75,null,4.8,""]
["378","WRP","Pond","Large Diameter Pipe 8\", SDR-41 (100 psi)","foot",{"$f":"VLOOKUP($D395,costs_components!$B$2:$F$315,3,FALSE)","v":2.71},"AC",75,null,4.05,"XXX"]
["378","WRP","Pond","Large Diameter Pipe 8\", SDR-51 (80 psi)","foot",{"$f":"VLOOKUP($D396,costs_components!$B$2:$F$315,3,FALSE)","v":2.2799999999999998},"AC",75,null,3.4,"XXX"]
["378","WRP","Pond","Large Diameter Pipe 8\", SDR-81 (50 psi)","foot",{"$f":"VLOOKUP($D397,costs_components!$B$2:$F$315,3,FALSE)","v":2.1},"AC",75,null,2.5,"XXX"]
["378","WRP","Pond","Non-reinforced concrete or cement bedding/grouting","cu.yd.",{"$f":"VLOOKUP($D398,costs_components!$B$2:$F$315,3,FALSE)","v":216.3},"AC",75,null,173,"XXX"]
["378","WRP","Pond","Preservation-treated Lumber","bd.ft.",{"$f":"VLOOKUP($D399,costs_components!$B$2:$F$315,3,FALSE)","v":4.05},"AC",75,null,4.05,""]
["378","WRP","Pond","Pressure Relief Valve","dia.in.",{"$f":"VLOOKUP($D400,costs_components!$B$2:$F$315,3,FALSE)","v":66},"AC",75,null,66,""]
["378","WRP","Pond","Redwood","bd.ft.",{"$f":"VLOOKUP($D401,costs_components!$B$2:$F$315,3,FALSE)","v":4.05},"AC",75,null,4.05,""]
["378","WRP","Pond","Reverse Flow Check Valve","dia.in.",{"$f":"VLOOKUP($D402,costs_components!$B$2:$F$315,3,FALSE)","v":39},"AC",75,null,39,""]
["378","WRP","Pond","Riprap in place","cu.yd.",{"$f":"VLOOKUP($D403,costs_components!$B$2:$F$315,3,FALSE)","v":81.3},"AC",75,null,34.6,"XXX"]
["378","WRP","Pond","Sand (pit run)","cu.yd.",{"$f":"VLOOKUP($D404,costs_components!$B$2:$F$315,3,FALSE)","v":21.6},"AC",75,null,17.25,"XXX"]
["378","WRP","Pond","Scoria (pit run)","cu.yd.",{"$f":"VLOOKUP($D405,costs_components!$B$2:$F$315,3,FALSE)","v":21.6},"AC",75,null,17.25,"XXX"]
["378","WRP","Pond","Site Clearing","acre",{"$f":"VLOOKUP($D406,costs_components!$B$2:$F$315,3,FALSE)","v":1350},"AC",75,null,1200,"XXX"]
["378","WRP","Pond","Small Diameter Pipe - 1 1/4 Inches to 2 inches - HDPE pipe","foot",{"$f":"VLOOKUP($D407,costs_components!$B$2:$F$315,3,FALSE)","v":1.25},"AC",75,null,1.25,""]
["378","WRP","Pond","Small Diameter Pipe - 1 1/4 Inches to 2 inches - PVC pipe","foot",{"$f":"VLOOKUP($D408,costs_components!$B$2:$F$315,3,FALSE)","v":0.55000000000000004},"AC",75,null,0.55000000000000004,""]
["378","WRP","Pond","Small Diameter Pipe - 1 Inches or Less - HDPE pipe","foot",{"$f":"VLOOKUP($D409,costs_components!$B$2:$F$315,3,FALSE)","v":0.73},"AC",75,null,0.73,""]
["378","WRP","Pond","Small Diameter Pipe - 1 Inches or Less - PVC pipe","foot",{"$f":"VLOOKUP($D410,costs_components!$B$2:$F$315,3,FALSE)","v":0.49},"AC",75,null,0.49,""]
["378","WRP","Pond","Small Diameter Pipe - Over 2 Inches - HDPE pipe","foot",{"$f":"VLOOKUP($D411,costs_components!$B$2:$F$315,3,FALSE)","v":3.4},"AC",75,null,3.4,""]
["378","WRP","Pond","Small Diameter Pipe - Over 2 Inches - PVC pipe","foot",{"$f":"VLOOKUP($D412,costs_components!$B$2:$F$315,3,FALSE)","v":1.04},"AC",75,null,1.04,""]
["378","WRP","Pond","Steel reinforced concrete flatwork","cu.yd.",{"$f":"VLOOKUP($D413,costs_components!$B$2:$F$315,3,FALSE)","v":392.5},"AC",75,null,314,"XXX"]
["378","WRP","Pond","Structural Renovations - Engineer's Estimate (for items not currently in cost tables)","struct",{"$f":"VLOOKUP($D414,costs_components!$B$2:$F$315,3,FALSE)","v":0},"AC",75,null,0,""]
["378","WRP","Pond","Surge Valve 6\"-12\" (installed)","dia.in.",{"$f":"VLOOKUP($D415,costs_components!$B$2:$F$315,3,FALSE)","v":248},"AC",75,null,248,""]
["378","WRP","Pond","Synthetic composites","bd.ft.",{"$f":"VLOOKUP($D416,costs_components!$B$2:$F$315,3,FALSE)","v":4.05},"AC",75,null,4.05,""]
["378","WRP","Pond","Trenching - Shallow Plow","lf.",{"$f":"VLOOKUP($D417,costs_components!$B$2:$F$315,3,FALSE)","v":0.5},"AC",75,null,3,"XXX"]
["378","WRP","Pond","Trenching - Trenching or deep plow (frost protected plowing)","lf.",{"$f":"VLOOKUP($D418,costs_components!$B$2:$F$315,3,FALSE)","v":2.2999999999999998},"AC",75,null,3,"XXX"]
["378","WRP","Pond","Trenching - Trenching or deep plow and backhoe","lf.",{"$f":"VLOOKUP($D419,costs_components!$B$2:$F$315,3,FALSE)","v":3},"AC",75,null,3,""]
["378","WRP","Pond","Trenching - Backhoe","lf.",{"$f":"VLOOKUP($D420,costs_components!$B$2:$F$315,3,FALSE)","v":3.7},"AC",75,null,3,"XXX"]
["378","WRP","Pond","Water for Fill","1000gal",{"$f":"VLOOKUP($D421,costs_components!$B$2:$F$315,3,FALSE)","v":14.75},"AC",75,null,14.75,""]
["378","WRP","Pond","Wheel Opening Slide Gate","dia.in.",{"$f":"VLOOKUP($D422,costs_components!$B$2:$F$315,3,FALSE)","v":49},"AC",75,null,49,""]
["378","WRP","Pond","Wood Piling/construction poles (per dia. in. butt thickness)","lf-in.",{"$f":"VLOOKUP($D423,costs_components!$B$2:$F$315,3,FALSE)","v":1.1000000000000001},"AC",75,null,1.1000000000000001,""]
["382","WRP","Fence","Fence (barbed or smooth)","lf.",{"$f":"VLOOKUP($D424,costs_components!$B$2:$F$315,3,FALSE)","v":1.07},"AC",75]
["382","WRP","Fence","Fence, chain link","lf.",{"$f":"VLOOKUP($D425,costs_components!$B$2:$F$315,3,FALSE)","v":14.05},"AC",75]
["382","WRP","Fence","Fence, Feedlot","lf.",{"$f":"VLOOKUP($D426,costs_components!$B$2:$F$315,3,FALSE)","v":8.1999999999999993},"AC",75]
["382","WRP","Fence","Fence, Feedlot for wind protection","lf.",{"$f":"VLOOKUP($D427,costs_components!$B$2:$F$315,3,FALSE)","v":12.85},"AC",75]
["382","WRP","Fence","Fence, power (electric) - 1 wire","lf.",{"$f":"VLOOKUP($D428,costs_components!$B$2:$F$315,3,FALSE)","v":0.51},"AC",75]
["382","WRP","Fence","Fence, power (electric) - multiple wire","lf.",{"$f":"VLOOKUP($D429,costs_components!$B$2:$F$315,3,FALSE)","v":0.67},"AC",75]
["382","WRP","Fence","Fence, Power (Electric) Fence Energizers","each",{"$f":"VLOOKUP($D430,costs_components!$B$2:$F$315,3,FALSE)","v":400},"AC",75]
["382","WRP","Fence","Fence, Solar panel and energizer (electric) fence","each",{"$f":"VLOOKUP($D431,costs_components!$B$2:$F$315,3,FALSE)","v":495},"AC",75]
["382","WRP","Fence","Fence, woven wire","lf.",{"$f":"VLOOKUP($D432,costs_components!$B$2:$F$315,3,FALSE)","v":1.46},"AC",75]
["390","WRP","Riparian Herbaceous Cover","Chemical for Weed or Pest Control","acre",{"$f":"VLOOKUP($D433,costs_components!$B$2:$F$315,3,FALSE)","v":25},"AC",75,null,20,"XXX"]
["390","WRP","Riparian Herbaceous Cover","Chemical Seedbed Preparation","acre",{"$f":"VLOOKUP($D434,costs_components!$B$2:$F$315,3,FALSE)","v":20},"AC",75,null,20,""]
["390","WRP","Riparian Herbaceous Cover","Grass/Grain Drill","acre",{"$f":"VLOOKUP($D435,costs_components!$B$2:$F$315,3,FALSE)","v":20},"AC",75,null,20,""]
["390","WRP","Riparian Herbaceous Cover","Individual Vegetative Plug (Planted)","each",{"$f":"VLOOKUP($D436,costs_components!$B$2:$F$315,3,FALSE)","v":1},"AC",75,null,1,""]
["390","WRP","Riparian Herbaceous Cover","Introduced Species (1 to 2 species)","acre",{"$f":"VLOOKUP($D437,costs_components!$B$2:$F$315,3,FALSE)","v":15.23},"AC",75,null,15.23,""]
["390","WRP","Riparian Herbaceous Cover","Introduced Species (3 or more species)","acre",{"$f":"VLOOKUP($D438,costs_components!$B$2:$F$315,3,FALSE)","v":25.59},"AC",75,null,25.59,""]
["390","WRP","Riparian Herbaceous Cover","Mechanical Seedbed Preparation (per time)","acre",{"$f":"VLOOKUP($D439,costs_components!$B$2:$F$315,3,FALSE)","v":12},"AC",75,null,20,"XXX"]
["390","WRP","Riparian Herbaceous Cover","Mechanical weed control","acre",{"$f":"VLOOKUP($D440,costs_components!$B$2:$F$315,3,FALSE)","v":12},"AC",75,null,12,""]
["390","WRP","Riparian Herbaceous Cover","Native and Introduced Species","acre",{"$f":"VLOOKUP($D441,costs_components!$B$2:$F$315,3,FALSE)","v":41.97},"AC",75,null,41.97,""]
["390","WRP","Riparian Herbaceous Cover","Native Grass Mix","acre",{"$f":"VLOOKUP($D442,costs_components!$B$2:$F$315,3,FALSE)","v":100},"AC",75,null,100,""]
["390","WRP","Riparian Herbaceous Cover","Native Grass with Shrub and/or Forb Species","acre",{"$f":"VLOOKUP($D443,costs_components!$B$2:$F$315,3,FALSE)","v":100},"AC",75,null,88.78,"XXX"]
["390","WRP","Riparian Herbaceous Cover","Temporary Cover","acre",{"$f":"VLOOKUP($D444,costs_components!$B$2:$F$315,3,FALSE)","v":20},"AC",75,null,20,""]
["391","WRP","Riparian Forest Buffer","Chemical for Weed or Pest Control","acre",{"$f":"VLOOKUP($D445,costs_components!$B$2:$F$315,3,FALSE)","v":25},"AC",75,null,20,"XXX"]
["391","WRP","Riparian Forest Buffer","Chemical Seedbed Preparation","acre",{"$f":"VLOOKUP($D446,costs_components!$B$2:$F$315,3,FALSE)","v":20},"AC",75,null,20,""]
["391","WRP","Riparian Forest Buffer","Chemical Site Preparation - trees or shrubs","acre",{"$f":"VLOOKUP($D447,costs_components!$B$2:$F$315,3,FALSE)","v":20},"AC",75,null,17.43,"XXX"]
["391","WRP","Riparian Forest Buffer","Chemical weed control - trees or shrubs","100ft.",{"$f":"VLOOKUP($D448,costs_components!$B$2:$F$315,3,FALSE)","v":8},"AC",75,null,4.5999999999999996,"XXX"]
["391","WRP","Riparian Forest Buffer","Grass seeding between rows (sideoats grama and blue grama)","acre",{"$f":"VLOOKUP($D449,costs_components!$B$2:$F$315,3,FALSE)","v":45},"AC",75,null,45,""]
["391","WRP","Riparian Forest Buffer","Grass/Grain Drill","acre",{"$f":"VLOOKUP($D450,costs_components!$B$2:$F$315,3,FALSE)","v":20},"AC",75,null,20,""]
["391","WRP","Riparian Forest Buffer","Hand Plant (Bare root or container)","each",{"$f":"VLOOKUP($D451,costs_components!$B$2:$F$315,3,FALSE)","v":1.2},"AC",75,null,1.1000000000000001,"XXX"]
["391","WRP","Riparian Forest Buffer","Hand Plant (unrooted cuttings)","each",{"$f":"VLOOKUP($D452,costs_components!$B$2:$F$315,3,FALSE)","v":0.4},"AC",75,null,0.4,""]
["391","WRP","Riparian Forest Buffer","Individual Vegetative Plug (Planted)","each",{"$f":"VLOOKUP($D453,costs_components!$B$2:$F$315,3,FALSE)","v":1},"AC",75,null,1,""]
["391","WRP","Riparian Forest Buffer","Machine Plant (Bare root or containerized - also includes sod scalped)","100ft.",{"$f":"VLOOKUP($D454,costs_components!$B$2:$F$315,3,FALSE)","v":21},"AC",75,null,19,"XXX"]
["391","WRP","Riparian Forest Buffer","Mechanical Seedbed Preparation (per time)","acre",{"$f":"VLOOKUP($D455,costs_components!$B$2:$F$315,3,FALSE)","v":12},"AC",75,null,20,"XXX"]
["391","WRP","Riparian Forest Buffer","Mechanical weed control","acre",{"$f":"VLOOKUP($D456,costs_components!$B$2:$F$315,3,FALSE)","v":12},"AC",75,null,12,""]
["391","WRP","Riparian Forest Buffer","Mechanical Site preparation - trees or shrubs","acre",{"$f":"VLOOKUP($D457,costs_components!$B$2:$F$315,3,FALSE)","v":10},"AC",75,null,9.75,"XXX"]
["391","WRP","Riparian Forest Buffer","Mechanical Weed Control - trees and shrubs","100ft.",{"$f":"VLOOKUP($D458,costs_components!$B$2:$F$315,3,FALSE)","v":2.4},"AC",75,null,2.4,{"$f":"IF(F458<>J458,\"XXX\",\"\")","v":""}]
["391","WRP","Riparian Forest Buffer","Synthetic Weed Barrier (6' wide)","100ft.",{"$f":"VLOOKUP($D459,costs_components!$B$2:$F$315,3,FALSE)","v":48.5},"AC",75,null,45,"XXX"]
["391","WRP","Riparian Forest Buffer","Synthetic Weed Barrier Squares (4X4)","square",{"$f":"VLOOKUP($D460,costs_components!$B$2:$F$315,3,FALSE)","v":2.8},"AC",75,null,2.8,""]
["391","WRP","Riparian Forest Buffer","Temporary Cover","acre",{"$f":"VLOOKUP($D461,costs_components!$B$2:$F$315,3,FALSE)","v":20},"AC",75,null,20,""]
["391","WRP","Riparian Forest Buffer","Native and Introduced species","acre",{"$f":"VLOOKUP($D462,costs_components!$B$2:$F$315,3,FALSE)","v":41.97},"AC",75,null,41.97,""]
["391","WRP","Riparian Forest Buffer","Introduced Species (1 to 2 species)","acre",{"$f":"VLOOKUP($D463,costs_components!$B$2:$F$315,3,FALSE)","v":15.23},"AC",75,null,15.23,""]
["391","WRP","Riparian Forest Buffer","Introduced Species (3 or more species)","acre",{"$f":"VLOOKUP($D464,costs_components!$B$2:$F$315,3,FALSE)","v":25.59},"AC",75,null,25.59,""]
["391","WRP","Riparian Forest Buffer","Native Grass Mix","acre",{"$f":"VLOOKUP($D465,costs_components!$B$2:$F$315,3,FALSE)","v":100},"AC",75,null,100,""]
["391","WRP","Riparian Forest Buffer","Native Grass with Shrub and/or Forb Species","acre",{"$f":"VLOOKUP($D466,costs_components!$B$2:$F$315,3,FALSE)","v":100},"AC",75,null,88.78,"XXX"]
["393","WRP","Filter Strip","Chemical for Weed or Pest Control","acre",{"$f":"VLOOKUP($D467,costs_components!$B$2:$F$315,3,FALSE)","v":25},"AC",75,null,20,"XXX"]
["393","WRP","Filter Strip","Chemical Seedbed Preparation","acre",{"$f":"VLOOKUP($D468,costs_components!$B$2:$F$315,3,FALSE)","v":20},"AC",75,null,20,""]
["393","WRP","Filter Strip","Native and Introduced species","acre",{"$f":"VLOOKUP($D469,costs_components!$B$2:$F$315,3,FALSE)","v":41.97},"AC",75,null,41.97,""]
["393","WRP","Filter Strip","Introduced Species (1 to 2 species)","acre",{"$f":"VLOOKUP($D470,costs_components!$B$2:$F$315,3,FALSE)","v":15.23},"AC",75,null,15.23,""]
["393","WRP","Filter Strip","Introduced Species (3 or more species)","acre",{"$f":"VLOOKUP($D471,costs_components!$B$2:$F$315,3,FALSE)","v":25.59},"AC",75,null,25.59,""]
["393","WRP","Filter Strip","Native Grass Mix","acre",{"$f":"VLOOKUP($D472,costs_components!$B$2:$F$315,3,FALSE)","v":100},"AC",75,null,100,""]
["393","WRP","Filter Strip","Native Grass with Shrub and/or Forb Species","acre",{"$f":"VLOOKUP($D473,costs_components!$B$2:$F$315,3,FALSE)","v":100},"AC",75,null,88.78,"XXX"]
["393","WRP","Filter Strip","Grass/Grain Drill","acre",{"$f":"VLOOKUP($D474,costs_components!$B$2:$F$315,3,FALSE)","v":20},"AC",75,null,20,""]
["393","WRP","Filter Strip","Individual Vegetative Plug (Planted)","each",{"$f":"VLOOKUP($D475,costs_components!$B$2:$F$315,3,FALSE)","v":1},"AC",75,null,1,""]
["393","WRP","Filter Strip","Mechanical Seedbed Preparation (per time)","acre",{"$f":"VLOOKUP($D476,costs_components!$B$2:$F$315,3,FALSE)","v":12},"AC",75,null,20,"XXX"]
["393","WRP","Filter Strip","Mechanical weed control","acre",{"$f":"VLOOKUP($D477,costs_components!$B$2:$F$315,3,FALSE)","v":12},"AC",75,null,12,""]
["393","WRP","Filter Strip","Temporary Cover","acre",{"$f":"VLOOKUP($D478,costs_components!$B$2:$F$315,3,FALSE)","v":20},"AC",75,null,20,""]
["410","WRP","Grade Stabilization Structure","Air Relief Valve","dia.in.",{"$f":"VLOOKUP($D479,costs_components!$B$2:$F$315,3,FALSE)","v":44},"AC",75,null,44,""]
["410","WRP","Grade Stabilization Structure","Alfalfa Valve 8\"-12\" (installed)","dia.in.",{"$f":"VLOOKUP($D480,costs_components!$B$2:$F$315,3,FALSE)","v":22},"AC",75,null,22,""]
["410","WRP","Grade Stabilization Structure","Anti-Seep Collar, Butyl Rubber/Neoprene With Wood Frame","sqft.",{"$f":"VLOOKUP($D481,costs_components!$B$2:$F$315,3,FALSE)","v":3.25},"AC",75,null,3.25,""]
["410","WRP","Grade Stabilization Structure","Cedar","bd.ft.",{"$f":"VLOOKUP($D482,costs_components!$B$2:$F$315,3,FALSE)","v":4.05},"AC",75,null,4.05,""]
["410","WRP","Grade Stabilization Structure","CMP Aluminum, CR/CS, 10 gauge","lf-in.",{"$f":"VLOOKUP($D483,costs_components!$B$2:$F$315,3,FALSE)","v":4.09},"AC",75,null,4.09,""]
["410","WRP","Grade Stabilization Structure","CMP Aluminum, CR/CS, 12 gauge","lf-in.",{"$f":"VLOOKUP($D484,costs_components!$B$2:$F$315,3,FALSE)","v":3.23},"AC",75,null,3.23,""]
["410","WRP","Grade Stabilization Structure","CMP Aluminum, CR/CS, 14 gauge","lf-in.",{"$f":"VLOOKUP($D485,costs_components!$B$2:$F$315,3,FALSE)","v":2.58},"AC",75,null,2.58,""]
["410","WRP","Grade Stabilization Structure","CMP Aluminum, CR/CS, 16 gauge","lf-in.",{"$f":"VLOOKUP($D486,costs_components!$B$2:$F$315,3,FALSE)","v":2.15},"AC",75,null,2.15,""]
["410","WRP","Grade Stabilization Structure","CMP Standard Galvanized Steel, CR/CS, 10 gauge","lf-in.",{"$f":"VLOOKUP($D487,costs_components!$B$2:$F$315,3,FALSE)","v":3.71},"AC",75,null,3.71,""]
["410","WRP","Grade Stabilization Structure","CMP Standard Galvanized Steel, CR/CS, 12 gauge","lf-in.",{"$f":"VLOOKUP($D488,costs_components!$B$2:$F$315,3,FALSE)","v":2.93},"AC",75,null,2.93,""]
["410","WRP","Grade Stabilization Structure","CMP Standard Galvanized Steel, CR/CS, 14 gauge","lf-in.",{"$f":"VLOOKUP($D489,costs_components!$B$2:$F$315,3,FALSE)","v":2.34},"AC",75,null,2.34,""]
["410","WRP","Grade Stabilization Structure","CMP Standard Galvanized Steel, CR/CS, 16 gauge","lf-in.",{"$f":"VLOOKUP($D490,costs_components!$B$2:$F$315,3,FALSE)","v":1.95},"AC",75,null,1.95,""]
["410","WRP","Grade Stabilization Structure","CMP Steel, Polymeric Coated 10 gauge","lf-in.",{"$f":"VLOOKUP($D491,costs_components!$B$2:$F$315,3,FALSE)","v":3.99},"AC",75,null,3.99,""]
["410","WRP","Grade Stabilization Structure","CMP Steel, Polymeric Coated 12 gauge","lf-in.",{"$f":"VLOOKUP($D492,costs_components!$B$2:$F$315,3,FALSE)","v":3.15},"AC",75,null,3.15,""]
["410","WRP","Grade Stabilization Structure","CMP Steel, Polymeric Coated 14 gauge","lf-in.",{"$f":"VLOOKUP($D493,costs_components!$B$2:$F$315,3,FALSE)","v":2.52},"AC",75,null,2.52,""]
["410","WRP","Grade Stabilization Structure","CMP Steel, Polymeric Coated 16 gauge","lf-in.",{"$f":"VLOOKUP($D494,costs_components!$B$2:$F$315,3,FALSE)","v":2.1},"AC",75,null,2.1,""]
["410","WRP","Grade Stabilization Structure","CMP Steel, Polymeric Coated, CR/CS 10 gauge","lf-in.",{"$f":"VLOOKUP($D495,costs_components!$B$2:$F$315,3,FALSE)","v":4.75},"AC",75,null,4.75,""]
["410","WRP","Grade Stabilization Structure","CMP Steel, Polymeric Coated, CR/CS 12 gauge","lf-in.",{"$f":"VLOOKUP($D496,costs_components!$B$2:$F$315,3,FALSE)","v":3.75},"AC",75,null,3.75,""]
["410","WRP","Grade Stabilization Structure","CMP Steel, Polymeric Coated, CR/CS 14 gauge","lf-in.",{"$f":"VLOOKUP($D497,costs_components!$B$2:$F$315,3,FALSE)","v":3},"AC",75,null,3,""]
["410","WRP","Grade Stabilization Structure","CMP Steel, Polymeric Coated, CR/CS 16 gauge","lf-in.",{"$f":"VLOOKUP($D498,costs_components!$B$2:$F$315,3,FALSE)","v":2.5},"AC",75,null,2.5,""]
["410","WRP","Grade Stabilization Structure","CMP, Anti-Seep Diaphram - PC Steel, 2 piece, watertight coupling, rods/lugs","dia.in.",{"$f":"VLOOKUP($D499,costs_components!$B$2:$F$315,3,FALSE)","v":46.25},"AC",75,null,46.25,""]
["410","WRP","Grade Stabilization Structure","CMP, Anti-Seep Diaphram - SG Steel, 2 piece, watertight coupling, rods/lugs","dia.in.",{"$f":"VLOOKUP($D500,costs_components!$B$2:$F$315,3,FALSE)","v":33.25},"AC",75,null,33.25,""]
["410","WRP","Grade Stabilization Structure","CMP, Anti-Vortex Vane,  SG Steel, for hooded inlets","dia.in.",{"$f":"VLOOKUP($D501,costs_components!$B$2:$F$315,3,FALSE)","v":3.5},"AC",75,null,8.5,"XXX"]
["410","WRP","Grade Stabilization Structure","CMP, Conical Trash Rack, SG Steel 36\" and less (base on riser dia.)","dia.in.",{"$f":"VLOOKUP($D502,costs_components!$B$2:$F$315,3,FALSE)","v":39.75},"AC",75,null,39.75,""]
["410","WRP","Grade Stabilization Structure","CMP, Conical Trash Rack, SG Steel 42\" and over (base on riser dia.)","dia.in.",{"$f":"VLOOKUP($D503,costs_components!$B$2:$F$315,3,FALSE)","v":66.25},"AC",75,null,66.25,""]
["410","WRP","Grade Stabilization Structure","CMP, Connecting Band - Aluminum - 12\" wide 12 gauge","dia.in.",{"$f":"VLOOKUP($D504,costs_components!$B$2:$F$315,3,FALSE)","v":3.83},"AC",75,null,3.83,""]
["410","WRP","Grade Stabilization Structure","CMP, Connecting Band - Aluminum - 12\" wide 14 gauge","dia.in.",{"$f":"VLOOKUP($D505,costs_components!$B$2:$F$315,3,FALSE)","v":2.7},"AC",75,null,2.7,""]
["410","WRP","Grade Stabilization Structure","CMP, Connecting Band - Aluminum - 12\" wide 16 gauge","dia.in.",{"$f":"VLOOKUP($D506,costs_components!$B$2:$F$315,3,FALSE)","v":2.25},"AC",75,null,2.25,""]
["410","WRP","Grade Stabilization Structure","CMP, Connecting Band - Aluminum - 24\" wide 12 gauge","dia.in.",{"$f":"VLOOKUP($D507,costs_components!$B$2:$F$315,3,FALSE)","v":7.23},"AC",75,null,7.23,""]
["410","WRP","Grade Stabilization Structure","CMP, Connecting Band - Aluminum - 24\" wide 14 gauge","dia.in.",{"$f":"VLOOKUP($D508,costs_components!$B$2:$F$315,3,FALSE)","v":5.0999999999999996},"AC",75,null,5.0999999999999996,""]
["410","WRP","Grade Stabilization Structure","CMP, Connecting Band - Aluminum - 24\" wide 16 gauge","dia.in.",{"$f":"VLOOKUP($D509,costs_components!$B$2:$F$315,3,FALSE)","v":4.25},"AC",75,null,4.25,""]
["410","WRP","Grade Stabilization Structure","CMP, Connecting Band - Aluminum - 7 1/2\" wide 12 gauge","dia.in.",{"$f":"VLOOKUP($D510,costs_components!$B$2:$F$315,3,FALSE)","v":2.5499999999999998},"AC",75,null,2.5499999999999998,""]
["410","WRP","Grade Stabilization Structure","CMP, Connecting Band - Aluminum - 7 1/2\" wide 14 gauge","dia.in.",{"$f":"VLOOKUP($D511,costs_components!$B$2:$F$315,3,FALSE)","v":1.8},"AC",75,null,1.8,""]
["410","WRP","Grade Stabilization Structure","CMP, Connecting Band - Aluminum - 7 1/2\" wide 16 gauge","dia.in.",{"$f":"VLOOKUP($D512,costs_components!$B$2:$F$315,3,FALSE)","v":1.5},"AC",75,null,1.5,""]
["410","WRP","Grade Stabilization Structure","CMP, Connecting Band - Polymeric Coated Steel - 12\" wide 12 gauge","dia.in.",{"$f":"VLOOKUP($D513,costs_components!$B$2:$F$315,3,FALSE)","v":4.68},"AC",75,null,4.68,""]
["410","WRP","Grade Stabilization Structure","CMP, Connecting Band - Polymeric Coated Steel - 12\" wide 14 gauge","dia.in.",{"$f":"VLOOKUP($D514,costs_components!$B$2:$F$315,3,FALSE)","v":3.3},"AC",75,null,3.3,""]
["410","WRP","Grade Stabilization Structure","CMP, Connecting Band - Polymeric Coated Steel - 12\" wide 16 gauge","dia.in.",{"$f":"VLOOKUP($D515,costs_components!$B$2:$F$315,3,FALSE)","v":2.75},"AC",75,null,2.75,""]
["410","WRP","Grade Stabilization Structure","CMP, Connecting Band - Polymeric Coated Steel - 24\" wide 12 gauge","dia.in.",{"$f":"VLOOKUP($D516,costs_components!$B$2:$F$315,3,FALSE)","v":9.35},"AC",75,null,9.35,""]
["410","WRP","Grade Stabilization Structure","CMP, Connecting Band - Polymeric Coated Steel - 24\" wide 14 gauge","dia.in.",{"$f":"VLOOKUP($D517,costs_components!$B$2:$F$315,3,FALSE)","v":6.6},"AC",75,null,6.6,""]
["410","WRP","Grade Stabilization Structure","CMP, Connecting Band - Polymeric Coated Steel - 24\" wide 16 gauge","dia.in.",{"$f":"VLOOKUP($D518,costs_components!$B$2:$F$315,3,FALSE)","v":5.5},"AC",75,null,5.5,""]
["410","WRP","Grade Stabilization Structure","CMP, Connecting Band - Polymeric Coated Steel - 7 1/2\" wide 12 gauge","dia.in.",{"$f":"VLOOKUP($D519,costs_components!$B$2:$F$315,3,FALSE)","v":3.4},"AC",75,null,3.4,""]
["410","WRP","Grade Stabilization Structure","CMP, Connecting Band - Polymeric Coated Steel - 7 1/2\" wide 14 gauge","dia.in.",{"$f":"VLOOKUP($D520,costs_components!$B$2:$F$315,3,FALSE)","v":2.4},"AC",75,null,2.4,""]
["410","WRP","Grade Stabilization Structure","CMP, Connecting Band - Polymeric Coated Steel - 7 1/2\" wide 16 gauge","dia.in.",{"$f":"VLOOKUP($D521,costs_components!$B$2:$F$315,3,FALSE)","v":2},"AC",75,null,2,""]
["410","WRP","Grade Stabilization Structure","CMP, Connecting Band - Standard Galvanized Steel - 12\" wide 12 gauge","dia.in.",{"$f":"VLOOKUP($D522,costs_components!$B$2:$F$315,3,FALSE)","v":3.4},"AC",75,null,3.4,{"$f":"IF(F522<>J522,\"XXX\",\"\")","v":""}]
["410","WRP","Grade Stabilization Structure","CMP, Connecting Band - Standard Galvanized Steel - 12\" wide 14 gauge","dia.in.",{"$f":"VLOOKUP($D523,costs_components!$B$2:$F$315,3,FALSE)","v":2.4},"AC",75,null,2.4,""]
["410","WRP","Grade Stabilization Structure","CMP, Connecting Band - Standard Galvanized Steel - 12\" wide 16 gauge","dia.in.",{"$f":"VLOOKUP($D524,costs_components!$B$2:$F$315,3,FALSE)","v":2},"AC",75,null,2,""]
["410","WRP","Grade Stabilization Structure","CMP, Connecting Band - Standard Galvanized Steel - 24\" wide 12 gauge","dia.in.",{"$f":"VLOOKUP($D525,costs_components!$B$2:$F$315,3,FALSE)","v":6.38},"AC",75,null,6.38,""]
["410","WRP","Grade Stabilization Structure","CMP, Connecting Band - Standard Galvanized Steel - 24\" wide 14 gauge","dia.in.",{"$f":"VLOOKUP($D526,costs_components!$B$2:$F$315,3,FALSE)","v":4.5},"AC",75,null,4.5,""]
["410","WRP","Grade Stabilization Structure","CMP, Connecting Band - Standard Galvanized Steel - 24\" wide 16 gauge","dia.in.",{"$f":"VLOOKUP($D527,costs_components!$B$2:$F$315,3,FALSE)","v":3.75},"AC",75,null,3.75,""]
["410","WRP","Grade Stabilization Structure","CMP, Connecting Band - Standard Galvanized Steel - 7 1/2\" wide 12 gauge","dia.in.",{"$f":"VLOOKUP($D528,costs_components!$B$2:$F$315,3,FALSE)","v":2.5499999999999998},"AC",75,null,2.5499999999999998,""]
["410","WRP","Grade Stabilization Structure","CMP, Connecting Band - Standard Galvanized Steel - 7 1/2\" wide 14 gauge","dia.in.",{"$f":"VLOOKUP($D529,costs_components!$B$2:$F$315,3,FALSE)","v":1.8},"AC",75,null,1.8,""]
["410","WRP","Grade Stabilization Structure","CMP, Connecting Band - Standard Galvanized Steel - 7 1/2\" wide 16 gauge","dia.in.",{"$f":"VLOOKUP($D530,costs_components!$B$2:$F$315,3,FALSE)","v":1.5},"AC",75,null,150,"XXX"]
["410","WRP","Grade Stabilization Structure","CMP, Connecting Band - Watertight PC Steel, incl. 4 rods/lugs - 24\" wide 12 gauge","dia.in.",{"$f":"VLOOKUP($D531,costs_components!$B$2:$F$315,3,FALSE)","v":16.579999999999998},"AC",75,null,16.579999999999998,""]
["410","WRP","Grade Stabilization Structure","CMP, Connecting Band - Watertight PC Steel, incl. 4 rods/lugs - 24\" wide 14 gauge","dia.in.",{"$f":"VLOOKUP($D532,costs_components!$B$2:$F$315,3,FALSE)","v":11.7},"AC",75,null,11.7,""]
["410","WRP","Grade Stabilization Structure","CMP, Connecting Band - Watertight PC Steel, incl. 4 rods/lugs - 24\" wide 16 gauge","dia.in.",{"$f":"VLOOKUP($D533,costs_components!$B$2:$F$315,3,FALSE)","v":9.75},"AC",75,null,9.75,""]
["410","WRP","Grade Stabilization Structure","CMP, Connecting Band - Watertight SG Steel, incl. 4 rods/lugs - 24\" wide 12 gauge","dia.in.",{"$f":"VLOOKUP($D534,costs_components!$B$2:$F$315,3,FALSE)","v":12.33},"AC",75,null,12.33,""]
["410","WRP","Grade Stabilization Structure","CMP, Connecting Band - Watertight SG Steel, incl. 4 rods/lugs - 24\" wide 14 gauge","dia.in.",{"$f":"VLOOKUP($D535,costs_components!$B$2:$F$315,3,FALSE)","v":8.6999999999999993},"AC",75,null,8.6999999999999993,""]
["410","WRP","Grade Stabilization Structure","CMP, Connecting Band - Watertight SG Steel, incl. 4 rods/lugs - 24\" wide 16 gauge","dia.in.",{"$f":"VLOOKUP($D536,costs_components!$B$2:$F$315,3,FALSE)","v":7.25},"AC",75,null,7.25,""]
["410","WRP","Grade Stabilization Structure","CMP, End Section 12\"-24\" diameter","dia.in.",{"$f":"VLOOKUP($D537,costs_components!$B$2:$F$315,3,FALSE)","v":8.5},"AC",75,null,8.5,""]
["410","WRP","Grade Stabilization Structure","CMP, End Section 30\"-36\" diameter","dia.in.",{"$f":"VLOOKUP($D538,costs_components!$B$2:$F$315,3,FALSE)","v":13.25},"AC",75,null,13.25,""]
["410","WRP","Grade Stabilization Structure","CMP, End Section 42\"-54\" diameter","dia.in.",{"$f":"VLOOKUP($D539,costs_components!$B$2:$F$315,3,FALSE)","v":25},"AC",75,null,25,""]
["410","WRP","Grade Stabilization Structure","CMP, End Section 60\" and larger diameter","dia.in.",{"$f":"VLOOKUP($D540,costs_components!$B$2:$F$315,3,FALSE)","v":33},"AC",75,null,33,""]
["410","WRP","Grade Stabilization Structure","CMP, Fabricated Trash Rack, SG Steel, based on riser diameter","dia.in.",{"$f":"VLOOKUP($D541,costs_components!$B$2:$F$315,3,FALSE)","v":20},"AC",75,null,18.899999999999999,"XXX"]
["410","WRP","Grade Stabilization Structure","CMP, Fabrication (labor only) - Elbows","dia.in.",{"$f":"VLOOKUP($D542,costs_components!$B$2:$F$315,3,FALSE)","v":10},"AC",75,null,10,""]
["410","WRP","Grade Stabilization Structure","CMP, Fabrication (labor only) - Skewed or Beveled Ends","dia.in.",{"$f":"VLOOKUP($D543,costs_components!$B$2:$F$315,3,FALSE)","v":6},"AC",75,null,6,""]
["410","WRP","Grade Stabilization Structure","CMP, Fabrication (labor only) - Tees, Wyes, and Riser Stubs","dia.in.",{"$f":"VLOOKUP($D544,costs_components!$B$2:$F$315,3,FALSE)","v":13.25},"AC",75,null,13.25,""]
["410","WRP","Grade Stabilization Structure","CMP, Flap Gate, SG Steel","dia.in.",{"$f":"VLOOKUP($D545,costs_components!$B$2:$F$315,3,FALSE)","v":20},"AC",75,null,20,""]
["410","WRP","Grade Stabilization Structure","CMP, Hooded Inlet Baffle Plate - SG Steel, double angle iron","dia.in.",{"$f":"VLOOKUP($D546,costs_components!$B$2:$F$315,3,FALSE)","v":15.5},"AC",75,null,15.5,""]
["410","WRP","Grade Stabilization Structure","CMP, Screen or End Cap, SG Steel","dia.in.",{"$f":"VLOOKUP($D547,costs_components!$B$2:$F$315,3,FALSE)","v":8.25},"AC",75,null,8.25,""]
["410","WRP","Grade Stabilization Structure","CMP, Splitter Type Anti-Vortex Wall - SG Steel (base on riser diameter)","dia.in.",{"$f":"VLOOKUP($D548,costs_components!$B$2:$F$315,3,FALSE)","v":8.5},"AC",75,null,8.5,""]
["410","WRP","Grade Stabilization Structure","CMP, Standard Aluminum 10 gauge","lf-in.",{"$f":"VLOOKUP($D549,costs_components!$B$2:$F$315,3,FALSE)","v":3.42},"AC",75,null,3.42,""]
["410","WRP","Grade Stabilization Structure","CMP, Standard Aluminum 12 gauge","lf-in.",{"$f":"VLOOKUP($D550,costs_components!$B$2:$F$315,3,FALSE)","v":2.7},"AC",75,null,2.7,""]
["410","WRP","Grade Stabilization Structure","CMP, Standard Aluminum 14 gauge","lf-in.",{"$f":"VLOOKUP($D551,costs_components!$B$2:$F$315,3,FALSE)","v":2.16},"AC",75,null,2.16,""]
["410","WRP","Grade Stabilization Structure","CMP, Standard Aluminum 16 gauge","lf-in.",{"$f":"VLOOKUP($D552,costs_components!$B$2:$F$315,3,FALSE)","v":1.8},"AC",75,null,1.8,""]
["410","WRP","Grade Stabilization Structure","CMP, Standard Galvanized Steel 10 gauge","lf-in.",{"$f":"VLOOKUP($D553,costs_components!$B$2:$F$315,3,FALSE)","v":2.79},"AC",75,null,2.79,""]
["410","WRP","Grade Stabilization Structure","CMP, Standard Galvanized Steel 12 gauge","lf-in.",{"$f":"VLOOKUP($D554,costs_components!$B$2:$F$315,3,FALSE)","v":2.21},"AC",75,null,2.21,""]
["410","WRP","Grade Stabilization Structure","CMP, Standard Galvanized Steel 14 gauge","lf-in.",{"$f":"VLOOKUP($D555,costs_components!$B$2:$F$315,3,FALSE)","v":1.76},"AC",75,null,1.76,""]
["410","WRP","Grade Stabilization Structure","CMP, Standard Galvanized Steel 16 gauge","lf-in.",{"$f":"VLOOKUP($D556,costs_components!$B$2:$F$315,3,FALSE)","v":1.47},"AC",75,null,1.47,""]
["410","WRP","Grade Stabilization Structure","CMP, Weir Trash Rack, SG Steel, for hooded inlets","dia.in.",{"$f":"VLOOKUP($D557,costs_components!$B$2:$F$315,3,FALSE)","v":13.25},"AC",75,null,13.25,""]
["410","WRP","Grade Stabilization Structure","Corrugated Plastic Pipe - Dual-Wall Pipe 10\"","foot",{"$f":"VLOOKUP($D558,costs_components!$B$2:$F$315,3,FALSE)","v":5.75},"AC",75,null,5.75,""]
["410","WRP","Grade Stabilization Structure","Corrugated Plastic Pipe - Dual-Wall Pipe 12\"","foot",{"$f":"VLOOKUP($D559,costs_components!$B$2:$F$315,3,FALSE)","v":7.5},"AC",75,null,7.5,""]
["410","WRP","Grade Stabilization Structure","Corrugated Plastic Pipe - Dual-Wall Pipe 15\"","foot",{"$f":"VLOOKUP($D560,costs_components!$B$2:$F$315,3,FALSE)","v":9},"AC",75,null,9,""]
["410","WRP","Grade Stabilization Structure","Corrugated Plastic Pipe - Dual-Wall Pipe 18\"","foot",{"$f":"VLOOKUP($D561,costs_components!$B$2:$F$315,3,FALSE)","v":14.25},"AC",75,null,14.25,""]
["410","WRP","Grade Stabilization Structure","Corrugated Plastic Pipe - Dual-Wall Pipe 24\"","foot",{"$f":"VLOOKUP($D562,costs_components!$B$2:$F$315,3,FALSE)","v":21.75},"AC",75,null,21.75,""]
["410","WRP","Grade Stabilization Structure","Corrugated Plastic Pipe - Dual-Wall Pipe 4\"","foot",{"$f":"VLOOKUP($D563,costs_components!$B$2:$F$315,3,FALSE)","v":1.1000000000000001},"AC",75,null,1.1000000000000001,""]
["410","WRP","Grade Stabilization Structure","Corrugated Plastic Pipe - Dual-Wall Pipe 6\"","foot",{"$f":"VLOOKUP($D564,costs_components!$B$2:$F$315,3,FALSE)","v":2.5},"AC",75,null,2.5,""]
["410","WRP","Grade Stabilization Structure","Corrugated Plastic Pipe - Dual-Wall Pipe 8\"","foot",{"$f":"VLOOKUP($D565,costs_components!$B$2:$F$315,3,FALSE)","v":4},"AC",75,null,4,""]
["410","WRP","Grade Stabilization Structure","Corrugated Plastic Pipe - End Section 10\"","each",{"$f":"VLOOKUP($D566,costs_components!$B$2:$F$315,3,FALSE)","v":80},"AC",75,null,80,""]
["410","WRP","Grade Stabilization Structure","Corrugated Plastic Pipe - End Section 12\"","each",{"$f":"VLOOKUP($D567,costs_components!$B$2:$F$315,3,FALSE)","v":93.25},"AC",75,null,93.25,""]
["410","WRP","Grade Stabilization Structure","Corrugated Plastic Pipe - End Section 15\"","each",{"$f":"VLOOKUP($D568,costs_components!$B$2:$F$315,3,FALSE)","v":116.5},"AC",75,null,116.5,""]
["410","WRP","Grade Stabilization Structure","Corrugated Plastic Pipe - End Section 18\"","each",{"$f":"VLOOKUP($D569,costs_components!$B$2:$F$315,3,FALSE)","v":153},"AC",75,null,153,""]
["410","WRP","Grade Stabilization Structure","Corrugated Plastic Pipe - End Section 24\"","each",{"$f":"VLOOKUP($D570,costs_components!$B$2:$F$315,3,FALSE)","v":225.75},"AC",75,null,225.75,""]
["410","WRP","Grade Stabilization Structure","Corrugated Plastic Pipe - End Section 8\"","each",{"$f":"VLOOKUP($D571,costs_components!$B$2:$F$315,3,FALSE)","v":73},"AC",75,null,73,""]
["410","WRP","Grade Stabilization Structure","Corrugated Plastic Pipe - Gasketed Sleeve Coupler 12\"","each",{"$f":"VLOOKUP($D572,costs_components!$B$2:$F$315,3,FALSE)","v":35.25},"AC",75,null,35.25,""]
["410","WRP","Grade Stabilization Structure","Corrugated Plastic Pipe - Gasketed Sleeve Coupler 15\"","each",{"$f":"VLOOKUP($D573,costs_components!$B$2:$F$315,3,FALSE)","v":51.5},"AC",75,null,51.5,""]
["410","WRP","Grade Stabilization Structure","Corrugated Plastic Pipe - Gasketed Sleeve Coupler 18\"","each",{"$f":"VLOOKUP($D574,costs_components!$B$2:$F$315,3,FALSE)","v":70},"AC",75,null,70,""]
["410","WRP","Grade Stabilization Structure","Corrugated Plastic Pipe - Gasketed Sleeve Coupler 24\"","each",{"$f":"VLOOKUP($D575,costs_components!$B$2:$F$315,3,FALSE)","v":215.75},"AC",75,null,215.75,""]
["410","WRP","Grade Stabilization Structure","Corrugated Plastic Pipe - Plastic Anti-Seep Collar (4X4) 10\"","each",{"$f":"VLOOKUP($D576,costs_components!$B$2:$F$315,3,FALSE)","v":174},"AC",75,null,174,""]
["410","WRP","Grade Stabilization Structure","Corrugated Plastic Pipe - Plastic Anti-Seep Collar (4X4) 12\"","each",{"$f":"VLOOKUP($D577,costs_components!$B$2:$F$315,3,FALSE)","v":178},"AC",75,null,178,""]
["410","WRP","Grade Stabilization Structure","Corrugated Plastic Pipe - Plastic Anti-Seep Collar (4X4) 15\"","each",{"$f":"VLOOKUP($D578,costs_components!$B$2:$F$315,3,FALSE)","v":188.75},"AC",75,null,188.75,""]
["410","WRP","Grade Stabilization Structure","Corrugated Plastic Pipe - Plastic Anti-Seep Collar (4X4) 18\"","each",{"$f":"VLOOKUP($D579,costs_components!$B$2:$F$315,3,FALSE)","v":194},"AC",75,null,194,""]
["410","WRP","Grade Stabilization Structure","Corrugated Plastic Pipe - Plastic Anti-Seep Collar (4X4) 24\"","each",{"$f":"VLOOKUP($D580,costs_components!$B$2:$F$315,3,FALSE)","v":215.75},"AC",75,null,215.75,""]
["410","WRP","Grade Stabilization Structure","Corrugated Plastic Pipe - Plastic Anti-Seep Collar (4X4) 4\"","each",{"$f":"VLOOKUP($D581,costs_components!$B$2:$F$315,3,FALSE)","v":156.5},"AC",75,null,156.5,""]
["410","WRP","Grade Stabilization Structure","Corrugated Plastic Pipe - Plastic Anti-Seep Collar (4X4) 6\"","each",{"$f":"VLOOKUP($D582,costs_components!$B$2:$F$315,3,FALSE)","v":155.75},"AC",75,null,155.75,""]
["410","WRP","Grade Stabilization Structure","Corrugated Plastic Pipe - Plastic Anti-Seep Collar (4X4) 8\"","each",{"$f":"VLOOKUP($D583,costs_components!$B$2:$F$315,3,FALSE)","v":161.75},"AC",75,null,161.75,""]
["410","WRP","Grade Stabilization Structure","Corrugated Plastic Pipe - Rodent Guard 10\"","each",{"$f":"VLOOKUP($D584,costs_components!$B$2:$F$315,3,FALSE)","v":29},"AC",75,null,29,""]
["410","WRP","Grade Stabilization Structure","Corrugated Plastic Pipe - Rodent Guard 12\"","each",{"$f":"VLOOKUP($D585,costs_components!$B$2:$F$315,3,FALSE)","v":37.25},"AC",75,null,37.25,""]
["410","WRP","Grade Stabilization Structure","Corrugated Plastic Pipe - Rodent Guard 15\"","each",{"$f":"VLOOKUP($D586,costs_components!$B$2:$F$315,3,FALSE)","v":55.25},"AC",75,null,55.25,{"$f":"IF(F586<>J586,\"XXX\",\"\")","v":""}]
["410","WRP","Grade Stabilization Structure","Corrugated Plastic Pipe - Rodent Guard 18\"","each",{"$f":"VLOOKUP($D587,costs_components!$B$2:$F$315,3,FALSE)","v":94.5},"AC",75,null,94.5,""]
["410","WRP","Grade Stabilization Structure","Corrugated Plastic Pipe - Rodent Guard 24\"","each",{"$f":"VLOOKUP($D588,costs_components!$B$2:$F$315,3,FALSE)","v":122},"AC",75,null,122,""]
["410","WRP","Grade Stabilization Structure","Corrugated Plastic Pipe - Rodent Guard 4\"","each",{"$f":"VLOOKUP($D589,costs_components!$B$2:$F$315,3,FALSE)","v":16},"AC",75,null,16,""]
["410","WRP","Grade Stabilization Structure","Corrugated Plastic Pipe - Rodent Guard 6\"","each",{"$f":"VLOOKUP($D590,costs_components!$B$2:$F$315,3,FALSE)","v":18},"AC",75,null,18,""]
["410","WRP","Grade Stabilization Structure","Corrugated Plastic Pipe - Rodent Guard 8\"","each",{"$f":"VLOOKUP($D591,costs_components!$B$2:$F$315,3,FALSE)","v":22.5},"AC",75,null,22.5,""]
["410","WRP","Grade Stabilization Structure","Corrugated Plastic Pipe - Soil-Tight Split Coupler 12\"","each",{"$f":"VLOOKUP($D592,costs_components!$B$2:$F$315,3,FALSE)","v":23.5},"AC",75,null,23.5,""]
["410","WRP","Grade Stabilization Structure","Corrugated Plastic Pipe - Soil-Tight Split Coupler 18\"","each",{"$f":"VLOOKUP($D593,costs_components!$B$2:$F$315,3,FALSE)","v":36.5},"AC",75,null,36.5,""]
["410","WRP","Grade Stabilization Structure","Corrugated Plastic Pipe - Soil-Tight Split Coupler 24\"","each",{"$f":"VLOOKUP($D594,costs_components!$B$2:$F$315,3,FALSE)","v":54},"AC",75,null,54,""]
["410","WRP","Grade Stabilization Structure","Corrugated Plastic Pipe - Split Coupler 10\"","each",{"$f":"VLOOKUP($D595,costs_components!$B$2:$F$315,3,FALSE)","v":6},"AC",75,null,6,""]
["410","WRP","Grade Stabilization Structure","Corrugated Plastic Pipe - Split Coupler 12\"","each",{"$f":"VLOOKUP($D596,costs_components!$B$2:$F$315,3,FALSE)","v":8},"AC",75,null,8,""]
["410","WRP","Grade Stabilization Structure","Corrugated Plastic Pipe - Split Coupler 15\"","each",{"$f":"VLOOKUP($D597,costs_components!$B$2:$F$315,3,FALSE)","v":13.75},"AC",75,null,13.75,""]
["410","WRP","Grade Stabilization Structure","Corrugated Plastic Pipe - Split Coupler 18\"","each",{"$f":"VLOOKUP($D598,costs_components!$B$2:$F$315,3,FALSE)","v":18.5},"AC",75,null,18.5,""]
["410","WRP","Grade Stabilization Structure","Corrugated Plastic Pipe - Split Coupler 24\"","each",{"$f":"VLOOKUP($D599,costs_components!$B$2:$F$315,3,FALSE)","v":29.75},"AC",75,null,29.75,""]
["410","WRP","Grade Stabilization Structure","Corrugated Plastic Pipe - Split Coupler 4\"","each",{"$f":"VLOOKUP($D600,costs_components!$B$2:$F$315,3,FALSE)","v":1.75},"AC",75,null,1.75,""]
["410","WRP","Grade Stabilization Structure","Corrugated Plastic Pipe - Split Coupler 6\"","each",{"$f":"VLOOKUP($D601,costs_components!$B$2:$F$315,3,FALSE)","v":3},"AC",75,null,3,""]
["410","WRP","Grade Stabilization Structure","Corrugated Plastic Pipe - Split Coupler 8\"","each",{"$f":"VLOOKUP($D602,costs_components!$B$2:$F$315,3,FALSE)","v":4.5},"AC",75,null,4.5,""]
["410","WRP","Grade Stabilization Structure","Corrugated Plastic Pipe - Tubing/Culverts - 10\"","foot",{"$f":"VLOOKUP($D603,costs_components!$B$2:$F$315,3,FALSE)","v":3.75},"AC",75,null,3.75,""]
["410","WRP","Grade Stabilization Structure","Corrugated Plastic Pipe - Tubing/Culverts - 12\"","foot",{"$f":"VLOOKUP($D604,costs_components!$B$2:$F$315,3,FALSE)","v":4.75},"AC",75,null,4.75,""]
["410","WRP","Grade Stabilization Structure","Corrugated Plastic Pipe - Tubing/Culverts - 15\"","foot",{"$f":"VLOOKUP($D605,costs_components!$B$2:$F$315,3,FALSE)","v":7},"AC",75,null,7,""]
["410","WRP","Grade Stabilization Structure","Corrugated Plastic Pipe - Tubing/Culverts - 18\"","foot",{"$f":"VLOOKUP($D606,costs_components!$B$2:$F$315,3,FALSE)","v":11},"AC",75,null,11,""]
["410","WRP","Grade Stabilization Structure","Corrugated Plastic Pipe - Tubing/Culverts - 24","foot",{"$f":"VLOOKUP($D607,costs_components!$B$2:$F$315,3,FALSE)","v":17.75},"AC",75,null,17.75,""]
["410","WRP","Grade Stabilization Structure","Corrugated Plastic Pipe - Tubing/Culverts - 3\"","foot",{"$f":"VLOOKUP($D608,costs_components!$B$2:$F$315,3,FALSE)","v":0.45},"AC",75,null,0.45,""]
["410","WRP","Grade Stabilization Structure","Corrugated Plastic Pipe - Tubing/Culverts - 4\"","foot",{"$f":"VLOOKUP($D609,costs_components!$B$2:$F$315,3,FALSE)","v":0.5},"AC",75,null,0.5,""]
["410","WRP","Grade Stabilization Structure","Corrugated Plastic Pipe - Tubing/Culverts - 5\"","foot",{"$f":"VLOOKUP($D610,costs_components!$B$2:$F$315,3,FALSE)","v":0.75},"AC",75,null,0.75,""]
["410","WRP","Grade Stabilization Structure","Corrugated Plastic Pipe - Tubing/Culverts - 6\"","foot",{"$f":"VLOOKUP($D611,costs_components!$B$2:$F$315,3,FALSE)","v":1},"AC",75,null,1,""]
["410","WRP","Grade Stabilization Structure","Corrugated Plastic Pipe - Tubing/Culverts - 8\"","foot",{"$f":"VLOOKUP($D612,costs_components!$B$2:$F$315,3,FALSE)","v":2},"AC",75,null,2,""]
["410","WRP","Grade Stabilization Structure","Corrugated Plastic Pipe - Tubing/Culverts w/sock - 10\"","foot",{"$f":"VLOOKUP($D613,costs_components!$B$2:$F$315,3,FALSE)","v":4},"AC",75,null,4,""]
["410","WRP","Grade Stabilization Structure","Corrugated Plastic Pipe - Tubing/Culverts w/sock - 12\"","foot",{"$f":"VLOOKUP($D614,costs_components!$B$2:$F$315,3,FALSE)","v":5.5},"AC",75,null,5.5,""]
["410","WRP","Grade Stabilization Structure","Corrugated Plastic Pipe - Tubing/Culverts w/sock - 15\"","foot",{"$f":"VLOOKUP($D615,costs_components!$B$2:$F$315,3,FALSE)","v":8.75},"AC",75,null,8.75,""]
["410","WRP","Grade Stabilization Structure","Corrugated Plastic Pipe - Tubing/Culverts w/sock - 18\"","foot",{"$f":"VLOOKUP($D616,costs_components!$B$2:$F$315,3,FALSE)","v":12},"AC",75,null,12,""]
["410","WRP","Grade Stabilization Structure","Corrugated Plastic Pipe - Tubing/Culverts w/sock - 24","foot",{"$f":"VLOOKUP($D617,costs_components!$B$2:$F$315,3,FALSE)","v":18.75},"AC",75,null,18.75,""]
["410","WRP","Grade Stabilization Structure","Corrugated Plastic Pipe - Tubing/Culverts w/sock - 3\"","foot",{"$f":"VLOOKUP($D618,costs_components!$B$2:$F$315,3,FALSE)","v":0.6},"AC",75,null,0.6,""]
["410","WRP","Grade Stabilization Structure","Corrugated Plastic Pipe - Tubing/Culverts w/sock - 4\"","foot",{"$f":"VLOOKUP($D619,costs_components!$B$2:$F$315,3,FALSE)","v":0.75},"AC",75,null,0.75,""]
["410","WRP","Grade Stabilization Structure","Corrugated Plastic Pipe - Tubing/Culverts w/sock - 5\"","foot",{"$f":"VLOOKUP($D620,costs_components!$B$2:$F$315,3,FALSE)","v":1},"AC",75,null,1,""]
["410","WRP","Grade Stabilization Structure","Corrugated Plastic Pipe - Tubing/Culverts w/sock - 6\"","foot",{"$f":"VLOOKUP($D621,costs_components!$B$2:$F$315,3,FALSE)","v":1.5},"AC",75,null,1.5,""]
["410","WRP","Grade Stabilization Structure","Corrugated Plastic Pipe - Tubing/Culverts w/sock - 8\"","foot",{"$f":"VLOOKUP($D622,costs_components!$B$2:$F$315,3,FALSE)","v":2.25},"AC",75,null,2.25,""]
["410","WRP","Grade Stabilization Structure","Earth Fill - Class A Compaction - Clay Liners (specified density)","cu.yd.",{"$f":"VLOOKUP($D623,costs_components!$B$2:$F$315,3,FALSE)","v":5.3},"AC",75,null,4.25,"XXX"]
["410","WRP","Grade Stabilization Structure","Earth Fill - Class A Compaction (specified density)","cu.yd.",{"$f":"VLOOKUP($D624,costs_components!$B$2:$F$315,3,FALSE)","v":3.6},"AC",75,null,2.85,"XXX"]
["410","WRP","Grade Stabilization Structure","Earth Fill - Class C Compaction (specified method)","cu.yd.",{"$f":"VLOOKUP($D625,costs_components!$B$2:$F$315,3,FALSE)","v":3},"AC",75,null,2.4,"XXX"]
["410","WRP","Grade Stabilization Structure","Earth Fill (hand compaction)","cu.yd.",{"$f":"VLOOKUP($D626,costs_components!$B$2:$F$315,3,FALSE)","v":7.1},"AC",75,null,5.67,"XXX"]
["410","WRP","Grade Stabilization Structure","Excavation","cu.yd.",{"$f":"VLOOKUP($D627,costs_components!$B$2:$F$315,3,FALSE)","v":4.4000000000000004},"AC",75,null,2.1,"XXX"]
["410","WRP","Grade Stabilization Structure","Excavation Small Structures","cu.yd.",{"$f":"VLOOKUP($D628,costs_components!$B$2:$F$315,3,FALSE)","v":7.1},"AC",75,null,5.7,"XXX"]
["410","WRP","Grade Stabilization Structure","Fence, Silt","lf.",{"$f":"VLOOKUP($D629,costs_components!$B$2:$F$315,3,FALSE)","v":3.3},"AC",75,null,2.6,"XXX"]
["410","WRP","Grade Stabilization Structure","Formed steel reinforced concrete (4000 psi)","cu.yd.",{"$f":"VLOOKUP($D630,costs_components!$B$2:$F$315,3,FALSE)","v":708.8},"AC",75,null,567,"XXX"]
["410","WRP","Grade Stabilization Structure","Formed steel reinforced concrete (M strength)","cu.yd.",{"$f":"VLOOKUP($D631,costs_components!$B$2:$F$315,3,FALSE)","v":567.5},"AC",75,null,454,"XXX"]
["410","WRP","Grade Stabilization Structure","Gate Valve","dia.in.",{"$f":"VLOOKUP($D632,costs_components!$B$2:$F$315,3,FALSE)","v":56},"AC",75,null,56,""]
["410","WRP","Grade Stabilization Structure","Geotextile Fabric - Woven or non-woven fabric","sq.yd.",{"$f":"VLOOKUP($D633,costs_components!$B$2:$F$315,3,FALSE)","v":2.8},"AA",75,null,2.8,""]
["410","WRP","Grade Stabilization Structure","Grade Stabilization - Engineer's Estimate (for items not currently in cost tables)","struct",{"$f":"VLOOKUP($D634,costs_components!$B$2:$F$315,3,FALSE)","v":0},"AC",75,null,0,""]
["410","WRP","Grade Stabilization Structure","Grade Transition Section","dia.in.",{"$f":"VLOOKUP($D635,costs_components!$B$2:$F$315,3,FALSE)","v":56},"AC",75,null,56,""]
["410","WRP","Grade Stabilization Structure","Gravel (pit run)","cu.yd.",{"$f":"VLOOKUP($D636,costs_components!$B$2:$F$315,3,FALSE)","v":17.25},"AC",75,null,17.25,""]
["410","WRP","Grade Stabilization Structure","Gravel (washed & graded)","cu.yd.",{"$f":"VLOOKUP($D637,costs_components!$B$2:$F$315,3,FALSE)","v":28},"AC",75,null,28,""]
["410","WRP","Grade Stabilization Structure","Hand Opening Slide Gate","dia.in.",{"$f":"VLOOKUP($D638,costs_components!$B$2:$F$315,3,FALSE)","v":10},"AC",75,null,10,""]
["410","WRP","Grade Stabilization Structure","Hauling Materials (offsite borrow)","yd/.25mi",{"$f":"VLOOKUP($D639,costs_components!$B$2:$F$315,3,FALSE)","v":0.2},"AC",75,null,0.14000000000000001,"XXX"]
["410","WRP","Grade Stabilization Structure","Large Diameter Pipe 10\", Head 50 ft (22 psi)","foot",{"$f":"VLOOKUP($D640,costs_components!$B$2:$F$315,3,FALSE)","v":2.2000000000000002},"AC",75,null,2.2000000000000002,""]
["410","WRP","Grade Stabilization Structure","Large Diameter Pipe 10\", SDR-26 (160 psi)","foot",{"$f":"VLOOKUP($D641,costs_components!$B$2:$F$315,3,FALSE)","v":10.4},"AC",75,null,10.4,""]
["410","WRP","Grade Stabilization Structure","Large Diameter Pipe 10\", SDR-32.5 (125 psi)","foot",{"$f":"VLOOKUP($D642,costs_components!$B$2:$F$315,3,FALSE)","v":7.3},"AC",75,null,7.3,""]
["410","WRP","Grade Stabilization Structure","Large Diameter Pipe 10\", SDR-41 (100 psi)","foot",{"$f":"VLOOKUP($D643,costs_components!$B$2:$F$315,3,FALSE)","v":4.25},"AC",75,null,6,"XXX"]
["410","WRP","Grade Stabilization Structure","Large Diameter Pipe 10\", SDR-51 (80 psi)","foot",{"$f":"VLOOKUP($D644,costs_components!$B$2:$F$315,3,FALSE)","v":3.41},"AC",75,null,5,"XXX"]
["410","WRP","Grade Stabilization Structure","Large Diameter Pipe 10\", SDR-81 (50 psi)","foot",{"$f":"VLOOKUP($D645,costs_components!$B$2:$F$315,3,FALSE)","v":3.1},"AC",75,null,3.6,"XXX"]
["410","WRP","Grade Stabilization Structure","Large Diameter Pipe 12\", Head 50 ft (22 psi)","foot",{"$f":"VLOOKUP($D646,costs_components!$B$2:$F$315,3,FALSE)","v":2.6},"AC",75,null,2.6,""]
["410","WRP","Grade Stabilization Structure","Large Diameter Pipe 12\", SDR-26 (160 psi)","foot",{"$f":"VLOOKUP($D647,costs_components!$B$2:$F$315,3,FALSE)","v":14.6},"AC",75,null,14.6,""]
["410","WRP","Grade Stabilization Structure","Large Diameter Pipe 12\", SDR-32.5 (125 psi)","foot",{"$f":"VLOOKUP($D648,costs_components!$B$2:$F$315,3,FALSE)","v":10.4},"AC",75,null,10.4,""]
["410","WRP","Grade Stabilization Structure","Large Diameter Pipe 12\", SDR-41 (100 psi)","foot",{"$f":"VLOOKUP($D649,costs_components!$B$2:$F$315,3,FALSE)","v":6.13},"AC",75,null,7.75,"XXX"]
["410","WRP","Grade Stabilization Structure","Large Diameter Pipe 12\", SDR-51 (80 psi)","foot",{"$f":"VLOOKUP($D650,costs_components!$B$2:$F$315,3,FALSE)","v":4.84},"AC",75,null,6.9,{"$f":"IF(F650<>J650,\"XXX\",\"\")","v":"XXX"}]
["410","WRP","Grade Stabilization Structure","Large Diameter Pipe 12\", SDR-81 (50 psi)","foot",{"$f":"VLOOKUP($D651,costs_components!$B$2:$F$315,3,FALSE)","v":4.25},"AC",75,null,4.55,"XXX"]
["410","WRP","Grade Stabilization Structure","Large Diameter Pipe 15\", Head 50 ft (22 psi)","foot",{"$f":"VLOOKUP($D652,costs_components!$B$2:$F$315,3,FALSE)","v":4.2},"AC",75,null,4.2,""]
["410","WRP","Grade Stabilization Structure","Large Diameter Pipe 15\", SDR-26 (160 psi)","foot",{"$f":"VLOOKUP($D653,costs_components!$B$2:$F$315,3,FALSE)","v":20.95},"AC",75,null,20.95,""]
["410","WRP","Grade Stabilization Structure","Large Diameter Pipe 15\", SDR-32.5 (125 psi)","foot",{"$f":"VLOOKUP($D654,costs_components!$B$2:$F$315,3,FALSE)","v":16.649999999999999},"AC",75,null,16.649999999999999,""]
["410","WRP","Grade Stabilization Structure","Large Diameter Pipe 15\", SDR-41 (100 psi)","foot",{"$f":"VLOOKUP($D655,costs_components!$B$2:$F$315,3,FALSE)","v":8.4600000000000009},"AC",75,null,13.35,"XXX"]
["410","WRP","Grade Stabilization Structure","Large Diameter Pipe 15\", SDR-51 (80 psi)","foot",{"$f":"VLOOKUP($D656,costs_components!$B$2:$F$315,3,FALSE)","v":6.8},"AC",75,null,11,"XXX"]
["410","WRP","Grade Stabilization Structure","Large Diameter Pipe 15\", SDR-81 (50 psi)","foot",{"$f":"VLOOKUP($D657,costs_components!$B$2:$F$315,3,FALSE)","v":5.75},"AC",75,null,7,"XXX"]
["410","WRP","Grade Stabilization Structure","Large Diameter Pipe 18\", SDR-26 (160 psi)","foot",{"$f":"VLOOKUP($D658,costs_components!$B$2:$F$315,3,FALSE)","v":32},"AC",75,null,32,""]
["410","WRP","Grade Stabilization Structure","Large Diameter Pipe 18\", SDR-32.5 (125 psi)","foot",{"$f":"VLOOKUP($D659,costs_components!$B$2:$F$315,3,FALSE)","v":25.15},"AC",75,null,25.15,""]
["410","WRP","Grade Stabilization Structure","Large Diameter Pipe 18\", SDR-41 (100 psi)","foot",{"$f":"VLOOKUP($D660,costs_components!$B$2:$F$315,3,FALSE)","v":20},"AC",75,null,20,""]
["410","WRP","Grade Stabilization Structure","Large Diameter Pipe 18\", SDR-51 (80 psi)","foot",{"$f":"VLOOKUP($D661,costs_components!$B$2:$F$315,3,FALSE)","v":16.7},"AC",75,null,16.7,""]
["410","WRP","Grade Stabilization Structure","Large Diameter Pipe 18\", SDR-81 (50 psi)","foot",{"$f":"VLOOKUP($D662,costs_components!$B$2:$F$315,3,FALSE)","v":12.5},"AC",75,null,12.5,""]
["410","WRP","Grade Stabilization Structure","Large Diameter Pipe 21\", SDR-32.5 (125 psi)","foot",{"$f":"VLOOKUP($D663,costs_components!$B$2:$F$315,3,FALSE)","v":36.4},"AC",75,null,36.4,""]
["410","WRP","Grade Stabilization Structure","Large Diameter Pipe 21\", SDR-41 (100 psi)","foot",{"$f":"VLOOKUP($D664,costs_components!$B$2:$F$315,3,FALSE)","v":28.4},"AC",75,null,28.4,""]
["410","WRP","Grade Stabilization Structure","Large Diameter Pipe 21\", SDR-51 (80 psi)","foot",{"$f":"VLOOKUP($D665,costs_components!$B$2:$F$315,3,FALSE)","v":24},"AC",75,null,24,""]
["410","WRP","Grade Stabilization Structure","Large Diameter Pipe 21\", SDR-81 (50 psi)","foot",{"$f":"VLOOKUP($D666,costs_components!$B$2:$F$315,3,FALSE)","v":18.05},"AC",75,null,18.05,""]
["410","WRP","Grade Stabilization Structure","Large Diameter Pipe 24\", SDR-32.5 (125 psi)","foot",{"$f":"VLOOKUP($D667,costs_components!$B$2:$F$315,3,FALSE)","v":46.2},"AC",75,null,46.2,""]
["410","WRP","Grade Stabilization Structure","Large Diameter Pipe 24\", SDR-41 (100 psi)","foot",{"$f":"VLOOKUP($D668,costs_components!$B$2:$F$315,3,FALSE)","v":37.200000000000003},"AC",75,null,37.200000000000003,""]
["410","WRP","Grade Stabilization Structure","Large Diameter Pipe 24\", SDR-51 (80 psi)","foot",{"$f":"VLOOKUP($D669,costs_components!$B$2:$F$315,3,FALSE)","v":30.35},"AC",75,null,30.35,""]
["410","WRP","Grade Stabilization Structure","Large Diameter Pipe 24\", SDR-81 (50 psi)","foot",{"$f":"VLOOKUP($D670,costs_components!$B$2:$F$315,3,FALSE)","v":20.85},"AC",75,null,20.85,""]
["410","WRP","Grade Stabilization Structure","Large Diameter Pipe 6\", Head 50 ft (22 psi)","foot",{"$f":"VLOOKUP($D671,costs_components!$B$2:$F$315,3,FALSE)","v":1.1499999999999999},"AC",75,null,1.1499999999999999,""]
["410","WRP","Grade Stabilization Structure","Large Diameter Pipe 6\", SDR-26 (160 psi)","foot",{"$f":"VLOOKUP($D672,costs_components!$B$2:$F$315,3,FALSE)","v":4.25},"AC",75,null,4.25,""]
["410","WRP","Grade Stabilization Structure","Large Diameter Pipe 6\", SDR-32.5 (125 psi)","foot",{"$f":"VLOOKUP($D673,costs_components!$B$2:$F$315,3,FALSE)","v":2.8},"AC",75,null,2.8,""]
["410","WRP","Grade Stabilization Structure","Large Diameter Pipe 6\", SDR-41 (100 psi)","foot",{"$f":"VLOOKUP($D674,costs_components!$B$2:$F$315,3,FALSE)","v":2.4},"AC",75,null,2.4,""]
["410","WRP","Grade Stabilization Structure","Large Diameter Pipe 6\", SDR-51 (80 psi)","foot",{"$f":"VLOOKUP($D675,costs_components!$B$2:$F$315,3,FALSE)","v":2.1},"AC",75,null,2.1,""]
["410","WRP","Grade Stabilization Structure","Large Diameter Pipe 6\", SDR-81 (50 psi)","foot",{"$f":"VLOOKUP($D676,costs_components!$B$2:$F$315,3,FALSE)","v":1.5},"AC",75,null,1.5,""]
["410","WRP","Grade Stabilization Structure","Large Diameter Pipe 8\", Head 50 ft (22 psi)","foot",{"$f":"VLOOKUP($D677,costs_components!$B$2:$F$315,3,FALSE)","v":1.5},"AC",75,null,1.5,""]
["410","WRP","Grade Stabilization Structure","Large Diameter Pipe 8\", SDR-26 (160 psi)","foot",{"$f":"VLOOKUP($D678,costs_components!$B$2:$F$315,3,FALSE)","v":6.7},"AC",75,null,6.7,""]
["410","WRP","Grade Stabilization Structure","Large Diameter Pipe 8\", SDR-32.5 (125 psi)","foot",{"$f":"VLOOKUP($D679,costs_components!$B$2:$F$315,3,FALSE)","v":4.8},"AC",75,null,4.8,""]
["410","WRP","Grade Stabilization Structure","Large Diameter Pipe 8\", SDR-41 (100 psi)","foot",{"$f":"VLOOKUP($D680,costs_components!$B$2:$F$315,3,FALSE)","v":2.71},"AC",75,null,4.05,"XXX"]
["410","WRP","Grade Stabilization Structure","Large Diameter Pipe 8\", SDR-51 (80 psi)","foot",{"$f":"VLOOKUP($D681,costs_components!$B$2:$F$315,3,FALSE)","v":2.2799999999999998},"AC",75,null,3.4,"XXX"]
["410","WRP","Grade Stabilization Structure","Large Diameter Pipe 8\", SDR-81 (50 psi)","foot",{"$f":"VLOOKUP($D682,costs_components!$B$2:$F$315,3,FALSE)","v":2.1},"AC",75,null,2.5,"XXX"]
["410","WRP","Grade Stabilization Structure","Non-reinforced concrete or cement bedding/grouting","cu.yd.",{"$f":"VLOOKUP($D683,costs_components!$B$2:$F$315,3,FALSE)","v":216.3},"AC",75,null,173,"XXX"]
["410","WRP","Grade Stabilization Structure","Preservation-treated Lumber","bd.ft.",{"$f":"VLOOKUP($D684,costs_components!$B$2:$F$315,3,FALSE)","v":4.05},"AC",75,null,4.05,""]
["410","WRP","Grade Stabilization Structure","Pressure Relief Valve","dia.in.",{"$f":"VLOOKUP($D685,costs_components!$B$2:$F$315,3,FALSE)","v":66},"AC",75,null,66,""]
["410","WRP","Grade Stabilization Structure","Redwood","bd.ft.",{"$f":"VLOOKUP($D686,costs_components!$B$2:$F$315,3,FALSE)","v":4.05},"AC",75,null,4.05,""]
["410","WRP","Grade Stabilization Structure","Reverse Flow Check Valve","dia.in.",{"$f":"VLOOKUP($D687,costs_components!$B$2:$F$315,3,FALSE)","v":39},"AC",75,null,39,""]
["410","WRP","Grade Stabilization Structure","Riprap in place","cu.yd.",{"$f":"VLOOKUP($D688,costs_components!$B$2:$F$315,3,FALSE)","v":81.3},"AC",75,null,34.6,"XXX"]
["410","WRP","Grade Stabilization Structure","Sand (pit run)","cu.yd.",{"$f":"VLOOKUP($D689,costs_components!$B$2:$F$315,3,FALSE)","v":21.6},"AC",75,null,17.25,"XXX"]
["410","WRP","Grade Stabilization Structure","Scoria (pit run)","cu.yd.",{"$f":"VLOOKUP($D690,costs_components!$B$2:$F$315,3,FALSE)","v":21.6},"AC",75,null,17.25,"XXX"]
["410","WRP","Grade Stabilization Structure","Site Clearing","acre",{"$f":"VLOOKUP($D691,costs_components!$B$2:$F$315,3,FALSE)","v":1350},"AC",75,null,1200,"XXX"]
["410","WRP","Grade Stabilization Structure","Steel reinforced concrete flatwork","cu.yd.",{"$f":"VLOOKUP($D692,costs_components!$B$2:$F$315,3,FALSE)","v":392.5},"AC",75,null,314,"XXX"]
["410","WRP","Grade Stabilization Structure","Structural Renovations - Engineer's Estimate (for items not currently in cost tables)","struct",{"$f":"VLOOKUP($D693,costs_components!$B$2:$F$315,3,FALSE)","v":0},"AC",75,null,0,""]
["410","WRP","Grade Stabilization Structure","Structure Removal","acre",{"$f":"VLOOKUP($D694,costs_components!$B$2:$F$315,3,FALSE)","v":1350},"AC",75,null,1080,"XXX"]
["410","WRP","Grade Stabilization Structure","Surge Valve 6\"-12\" (installed)","dia.in.",{"$f":"VLOOKUP($D695,costs_components!$B$2:$F$315,3,FALSE)","v":248},"AC",75,null,248,""]
["410","WRP","Grade Stabilization Structure","Synthetic composites","bd.ft.",{"$f":"VLOOKUP($D696,costs_components!$B$2:$F$315,3,FALSE)","v":4.05},"AC",75,null,4.05,""]
["410","WRP","Grade Stabilization Structure","Topsoil - salvage and re-spreading","sq.yd.",{"$f":"VLOOKUP($D697,costs_components!$B$2:$F$315,3,FALSE)","v":0.6},"AC",75,null,0.51,"XXX"]
["410","WRP","Grade Stabilization Structure","Water for Fill","1000gal",{"$f":"VLOOKUP($D698,costs_components!$B$2:$F$315,3,FALSE)","v":14.75},"AC",75,null,14.75,""]
["410","WRP","Grade Stabilization Structure","Wheel Opening Slide Gate","dia.in.",{"$f":"VLOOKUP($D699,costs_components!$B$2:$F$315,3,FALSE)","v":49},"AC",75,null,49,""]
["410","WRP","Grade Stabilization Structure","Wood Piling/construction poles (per dia. in. butt thickness)","lf-in.",{"$f":"VLOOKUP($D700,costs_components!$B$2:$F$315,3,FALSE)","v":1.1000000000000001},"AC",75,null,1.1000000000000001,""]
["500","WRP","Obstruction Removal","Structure Removal","acre",{"$f":"VLOOKUP($D701,costs_components!$B$2:$F$315,3,FALSE)","v":1350},"AC",75,null,1080,"XXX"]
["500","WRP","Obstruction Removal","Feedlot Fence Removal","foot",{"$f":"VLOOKUP($D702,costs_components!$B$2:$F$315,3,FALSE)","v":3.78},"AC",75,null,4.8600000000000003,"XXX"]
["500","WRP","Obstruction Removal","Other Fence Removal","foot",{"$f":"VLOOKUP($D703,costs_components!$B$2:$F$315,3,FALSE)","v":0.6},"AC",75,null,0.66,"XXX"]
["516","WRP","Pipeline","Alternative pumping plant power source - Engineer's Estimate","each",{"$f":"VLOOKUP($D704,costs_components!$B$2:$F$315,3,FALSE)","v":0},"AC",75]
["516","WRP","Pipeline","Excavation Small Structures","cu.yd.",{"$f":"VLOOKUP($D705,costs_components!$B$2:$F$315,3,FALSE)","v":7.1},"AC",75]
["516","WRP","Pipeline","Gravel (pit run)","cu.yd.",{"$f":"VLOOKUP($D706,costs_components!$B$2:$F$315,3,FALSE)","v":17.25},"AC",75]
["516","WRP","Pipeline","Gravel (washed & graded)","cu.yd.",{"$f":"VLOOKUP($D707,costs_components!$B$2:$F$315,3,FALSE)","v":28},"AC",75]
["516","WRP","Pipeline","Rural Water System Hookup","each",{"$f":"VLOOKUP($D708,costs_components!$B$2:$F$315,3,FALSE)","v":853},"AC",75]
["516","WRP","Pipeline","Sand (pit run)","cu.yd.",{"$f":"VLOOKUP($D709,costs_components!$B$2:$F$315,3,FALSE)","v":21.6},"AC",75]
["516","WRP","Pipeline","Scoria (pit run)","cu.yd.",{"$f":"VLOOKUP($D710,costs_components!$B$2:$F$315,3,FALSE)","v":21.6},"AC",75]
["516","WRP","Pipeline","Small Diameter Pipe - 1 1/4 Inches to 2 inches - HDPE pipe","foot",{"$f":"VLOOKUP($D711,costs_components!$B$2:$F$315,3,FALSE)","v":1.25},"AC",75]
["516","WRP","Pipeline","Small Diameter Pipe - 1 1/4 Inches to 2 inches - PVC pipe","foot",{"$f":"VLOOKUP($D712,costs_components!$B$2:$F$315,3,FALSE)","v":0.55000000000000004},"AC",75]
["516","WRP","Pipeline","Small Diameter Pipe - 1 Inches or Less - HDPE pipe","foot",{"$f":"VLOOKUP($D713,costs_components!$B$2:$F$315,3,FALSE)","v":0.73},"AC",75]
["516","WRP","Pipeline","Small Diameter Pipe - 1 Inches or Less - PVC pipe","foot",{"$f":"VLOOKUP($D714,costs_components!$B$2:$F$315,3,FALSE)","v":0.49},"AC",75]
["516","WRP","Pipeline","Small Diameter Pipe - Over 2 Inches - HDPE pipe","foot",{"$f":"VLOOKUP($D715,costs_components!$B$2:$F$315,3,FALSE)","v":3.4},"AC",75]
["516","WRP","Pipeline","Small Diameter Pipe - Over 2 Inches - PVC pipe","foot",{"$f":"VLOOKUP($D716,costs_components!$B$2:$F$315,3,FALSE)","v":1.04},"AC",75]
["516","WRP","Pipeline","Trenching - Boring (roadways and stream crossings)","lf.",{"$f":"VLOOKUP($D717,costs_components!$B$2:$F$315,3,FALSE)","v":28.4},"AC",75]
["516","WRP","Pipeline","Trenching - Shallow Plow","lf.",{"$f":"VLOOKUP($D718,costs_components!$B$2:$F$315,3,FALSE)","v":0.5},"AC",75]
["516","WRP","Pipeline","Trenching - Trenching or deep plow (frost protected plowing)","lf.",{"$f":"VLOOKUP($D719,costs_components!$B$2:$F$315,3,FALSE)","v":2.2999999999999998},"AC",75]
["516","WRP","Pipeline","Trenching - Trenching or deep plow and backhoe","lf.",{"$f":"VLOOKUP($D720,costs_components!$B$2:$F$315,3,FALSE)","v":3},"AC",75]
["516","WRP","Pipeline","Trenching - Backhoe","lf.",{"$f":"VLOOKUP($D721,costs_components!$B$2:$F$315,3,FALSE)","v":3.7},"AC",75]
["516","WRP","Pipeline","Water Pump (installed)","HP",{"$f":"VLOOKUP($D722,costs_components!$B$2:$F$315,3,FALSE)","v":3013},"AC",75]
["516","WRP","Pipeline","Well - Pitless Well Units (steel)","dia.in.",{"$f":"VLOOKUP($D723,costs_components!$B$2:$F$315,3,FALSE)","v":168},"AC",75]
["516","WRP","Pipeline","Well - Pressure Tank","gal.",{"$f":"VLOOKUP($D724,costs_components!$B$2:$F$315,3,FALSE)","v":7},"AC",75]
["516","WRP","Pipeline","Well - Vault","each",{"$f":"VLOOKUP($D725,costs_components!$B$2:$F$315,3,FALSE)","v":1134},"AC",75]
["595","WRP","Pest Management","Chemical for Weed or Pest Control","acre",{"$f":"VLOOKUP($D726,costs_components!$B$2:$F$315,3,FALSE)","v":25},"AC",75,null,20,"XXX"]
["595","WRP","Pest Management","Mechanical weed control","acre",{"$f":"VLOOKUP($D727,costs_components!$B$2:$F$315,3,FALSE)","v":12},"AC",75,null,12,""]
["612","WRP","Tree/Shrub Establishment","Chemical for Weed or Pest Control","acre",{"$f":"VLOOKUP($D728,costs_components!$B$2:$F$315,3,FALSE)","v":25},"AC",75,null,20,"XXX"]
["612","WRP","Tree/Shrub Establishment","Chemical Site Preparation - trees or shrubs","acre",{"$f":"VLOOKUP($D729,costs_components!$B$2:$F$315,3,FALSE)","v":20},"AC",75,null,17.43,"XXX"]
["612","WRP","Tree/Shrub Establishment","Chemical weed control - trees or shrubs","100ft.",{"$f":"VLOOKUP($D730,costs_components!$B$2:$F$315,3,FALSE)","v":8},"AC",75,null,4.5999999999999996,"XXX"]
["612","WRP","Tree/Shrub Establishment","FS Potted or Containerized Tree or Shrub Planting","each",{"$f":"VLOOKUP($D731,costs_components!$B$2:$F$315,3,FALSE)","v":0.9},"AC",75,null,0.9,""]
["612","WRP","Tree/Shrub Establishment","FS Replacement Planting","each",{"$f":"VLOOKUP($D732,costs_components!$B$2:$F$315,3,FALSE)","v":0.8},"AC",75,null,0.8,""]
["612","WRP","Tree/Shrub Establishment","FS Trees and Shrubs Planted","thous",{"$f":"VLOOKUP($D733,costs_components!$B$2:$F$315,3,FALSE)","v":650},"AC",75,null,650,""]
["612","WRP","Tree/Shrub Establishment","Grass seeding between rows (sideoats grama and blue grama)","acre",{"$f":"VLOOKUP($D734,costs_components!$B$2:$F$315,3,FALSE)","v":45},"AC",75,null,45,""]
["612","WRP","Tree/Shrub Establishment","Hand Plant (Bare root or container)","each",{"$f":"VLOOKUP($D735,costs_components!$B$2:$F$315,3,FALSE)","v":1.2},"AC",75,null,1.1000000000000001,"XXX"]
["612","WRP","Tree/Shrub Establishment","Hand Plant (unrooted cuttings)","each",{"$f":"VLOOKUP($D736,costs_components!$B$2:$F$315,3,FALSE)","v":0.4},"AC",75,null,0.4,{"$f":"IF(F736<>J736,\"XXX\",\"\")","v":""}]
["612","WRP","Tree/Shrub Establishment","Heavy Site preparation (dozed, sheared, clipped, etc)","acre",{"$f":"VLOOKUP($D737,costs_components!$B$2:$F$315,3,FALSE)","v":143.1},"AC",75,null,114.5,"XXX"]
["612","WRP","Tree/Shrub Establishment","Machine Plant (Bare root or containerized - also includes sod scalped)","100ft.",{"$f":"VLOOKUP($D738,costs_components!$B$2:$F$315,3,FALSE)","v":21},"AC",75,null,19,"XXX"]
["612","WRP","Tree/Shrub Establishment","Mechanical Site preparation - trees or shrubs","acre",{"$f":"VLOOKUP($D739,costs_components!$B$2:$F$315,3,FALSE)","v":10},"AC",75,null,9.75,"XXX"]
["612","WRP","Tree/Shrub Establishment","Mechanical Weed Control - trees and shrubs","100ft.",{"$f":"VLOOKUP($D740,costs_components!$B$2:$F$315,3,FALSE)","v":2.4},"AC",75,null,2.4,""]
["612","WRP","Tree/Shrub Establishment","Synthetic Weed Barrier (6' wide)","100ft.",{"$f":"VLOOKUP($D741,costs_components!$B$2:$F$315,3,FALSE)","v":48.5},"AC",75,null,45,"XXX"]
["612","WRP","Tree/Shrub Establishment","Synthetic Weed Barrier Squares (4X4)","square",{"$f":"VLOOKUP($D742,costs_components!$B$2:$F$315,3,FALSE)","v":2.8},"AC",75,null,2.8,""]
["612","WRP","Tree/Shrub Establishment","Tree shelter, 2 ft","each",{"$f":"VLOOKUP($D743,costs_components!$B$2:$F$315,3,FALSE)","v":3.4},"AC",75,null,3.4,""]
["612","WRP","Tree/Shrub Establishment","Tree shelter, 3 ft","each",{"$f":"VLOOKUP($D744,costs_components!$B$2:$F$315,3,FALSE)","v":4.3},"AC",75,null,4.3,""]
["612","WRP","Tree/Shrub Establishment","Tree shelter, 4 ft","each",{"$f":"VLOOKUP($D745,costs_components!$B$2:$F$315,3,FALSE)","v":5},"AC",75,null,5,""]
["614","WRP","Watering Facility","Formed steel reinforced concrete (4000 psi)","cu.yd.",{"$f":"VLOOKUP($D746,costs_components!$B$2:$F$315,3,FALSE)","v":708.8},"AC",75,null,567,"XXX"]
["614","WRP","Watering Facility","Formed steel reinforced concrete (M strength)","cu.yd.",{"$f":"VLOOKUP($D747,costs_components!$B$2:$F$315,3,FALSE)","v":567.5},"AC",75,null,454,"XXX"]
["614","WRP","Watering Facility","Gravel (pit run)","cu.yd.",{"$f":"VLOOKUP($D748,costs_components!$B$2:$F$315,3,FALSE)","v":17.25},"AC",75,null,17.25,""]
["614","WRP","Watering Facility","Livestock Water - Storage Tank","gal.",{"$f":"VLOOKUP($D749,costs_components!$B$2:$F$315,3,FALSE)","v":1.1299999999999999},"AC",75,null,1.1000000000000001,"XXX"]
["614","WRP","Watering Facility","Livestock Water - Storage Tank, Frost-free","gal.",{"$f":"VLOOKUP($D750,costs_components!$B$2:$F$315,3,FALSE)","v":3.4},"AC",75,null,3.25,"XXX"]
["614","WRP","Watering Facility","Non-reinforced concrete or cement bedding/grouting","cu.yd.",{"$f":"VLOOKUP($D751,costs_components!$B$2:$F$315,3,FALSE)","v":216.3},"AC",75,null,173,"XXX"]
["614","WRP","Watering Facility","Nose Pump","each",{"$f":"VLOOKUP($D752,costs_components!$B$2:$F$315,3,FALSE)","v":541},"AC",75,null,541,""]
["614","WRP","Watering Facility","Rural Water System Hookup","each",{"$f":"VLOOKUP($D753,costs_components!$B$2:$F$315,3,FALSE)","v":853},"AC",75,null,853,""]
["614","WRP","Watering Facility","Sand (pit run)","cu.yd.",{"$f":"VLOOKUP($D754,costs_components!$B$2:$F$315,3,FALSE)","v":21.6},"AC",75,null,17.25,"XXX"]
["614","WRP","Watering Facility","Scoria (pit run)","cu.yd.",{"$f":"VLOOKUP($D755,costs_components!$B$2:$F$315,3,FALSE)","v":21.6},"AC",75,null,17.25,"XXX"]
["614","WRP","Watering Facility","Steel reinforced concrete flatwork","cu.yd.",{"$f":"VLOOKUP($D756,costs_components!$B$2:$F$315,3,FALSE)","v":392.5},"AC",75,null,314,"XXX"]
["614","WRP","Watering Facility","Water fountain","each",{"$f":"VLOOKUP($D757,costs_components!$B$2:$F$315,3,FALSE)","v":378},"AC",75,null,378,""]
["614","WRP","Watering Facility","Wildlife Guzzler","each",{"$f":"VLOOKUP($D758,costs_components!$B$2:$F$315,3,FALSE)","v":1348.33},"AC",75,null,1348.33,""]
["642","WRP","Water Well","Alternative pumping plant power source - Engineer's Estimate","each",{"$f":"VLOOKUP($D759,costs_components!$B$2:$F$315,3,FALSE)","v":0},"AC",75]
["642","WRP","Water Well","Structural Steel","lb.",{"$f":"VLOOKUP($D760,costs_components!$B$2:$F$315,3,FALSE)","v":5.7},"AC",75]
["642","WRP","Water Well","Water Pump (installed)","HP",{"$f":"VLOOKUP($D761,costs_components!$B$2:$F$315,3,FALSE)","v":3013},"AC",75]
["642","WRP","Water Well","Well - Bored or dug & case 12\" or larger","foot",{"$f":"VLOOKUP($D762,costs_components!$B$2:$F$315,3,FALSE)","v":78},"AC",75]
["642","WRP","Water Well","Well - Drill & case <4\"","foot",{"$f":"VLOOKUP($D763,costs_components!$B$2:$F$315,3,FALSE)","v":24.32},"AC",75]
["642","WRP","Water Well","Well - Drill & case <4\", Artesian","foot",{"$f":"VLOOKUP($D764,costs_components!$B$2:$F$315,3,FALSE)","v":28.6},"AC",75]
["642","WRP","Water Well","Well - Drill & case 4\" & over, Artesian","foot",{"$f":"VLOOKUP($D765,costs_components!$B$2:$F$315,3,FALSE)","v":31.85},"AC",75]
["642","WRP","Water Well","Well - Drill & case 4\" and over","foot",{"$f":"VLOOKUP($D766,costs_components!$B$2:$F$315,3,FALSE)","v":26.68},"AC",75]
["642","WRP","Water Well","Well - Drilling not requiring casing","foot",{"$f":"VLOOKUP($D767,costs_components!$B$2:$F$315,3,FALSE)","v":11.35},"AC",75]
["642","WRP","Water Well","Well - Pitless Well Units (steel)","dia.in.",{"$f":"VLOOKUP($D768,costs_components!$B$2:$F$315,3,FALSE)","v":168},"AC",75]
["642","WRP","Water Well","Well - Pressure Tank","gal.",{"$f":"VLOOKUP($D769,costs_components!$B$2:$F$315,3,FALSE)","v":7},"AC",75]
["642","WRP","Water Well","Well - Vault","each",{"$f":"VLOOKUP($D770,costs_components!$B$2:$F$315,3,FALSE)","v":1134},"AC",75]
["642","WRP","Water Well","Well screen, plastic or galvan. steel (installed)","foot",{"$f":"VLOOKUP($D771,costs_components!$B$2:$F$315,3,FALSE)","v":28},"AC",75]
["642","WRP","Water Well","Well screen, stainless steel or brass (installed)","foot",{"$f":"VLOOKUP($D772,costs_components!$B$2:$F$315,3,FALSE)","v":90.75},"AC",75]
["643","WRP","Restoration And Management Of Declining Habitat","Chemical for Weed or Pest Control","acre",{"$f":"VLOOKUP($D773,costs_components!$B$2:$F$315,3,FALSE)","v":25},"AC",75,null,20,"XXX"]
["643","WRP","Restoration And Management Of Declining Habitat","Chemical Seedbed Preparation","acre",{"$f":"VLOOKUP($D774,costs_components!$B$2:$F$315,3,FALSE)","v":20},"AC",75,null,20,""]
["643","WRP","Restoration And Management Of Declining Habitat","Grass/Grain Drill","acre",{"$f":"VLOOKUP($D775,costs_components!$B$2:$F$315,3,FALSE)","v":20},"AC",75,null,20,""]
["643","WRP","Restoration And Management Of Declining Habitat","Individual Vegetative Plug (Planted)","each",{"$f":"VLOOKUP($D776,costs_components!$B$2:$F$315,3,FALSE)","v":1},"AC",75,null,1,""]
["643","WRP","Restoration And Management Of Declining Habitat","Mechanical Seedbed Preparation (per time)","acre",{"$f":"VLOOKUP($D777,costs_components!$B$2:$F$315,3,FALSE)","v":12},"AC",75,null,20,"XXX"]
["643","WRP","Restoration And Management Of Declining Habitat","Mechanical weed control","acre",{"$f":"VLOOKUP($D778,costs_components!$B$2:$F$315,3,FALSE)","v":12},"AC",75,null,12,""]
["643","WRP","Restoration And Management Of Declining Habitat","Native Grass with Shrub and/or Forb Species","acre",{"$f":"VLOOKUP($D779,costs_components!$B$2:$F$315,3,FALSE)","v":100},"AC",75,null,88.78,"XXX"]
["644","WRP","Wetland Wildlife Habitat Management","Chemical for Weed or Pest Control","acre",{"$f":"VLOOKUP($D780,costs_components!$B$2:$F$315,3,FALSE)","v":25},"AC",75,null,20,"XXX"]
["644","WRP","Wetland Wildlife Habitat Management","Chemical Seedbed Preparation","acre",{"$f":"VLOOKUP($D781,costs_components!$B$2:$F$315,3,FALSE)","v":20},"AC",75,null,20,""]
["644","WRP","Wetland Wildlife Habitat Management","Chemical Site Preparation - trees or shrubs","acre",{"$f":"VLOOKUP($D782,costs_components!$B$2:$F$315,3,FALSE)","v":20},"AC",75,null,17.43,"XXX"]
["644","WRP","Wetland Wildlife Habitat Management","Chemical weed control - trees or shrubs","100ft.",{"$f":"VLOOKUP($D783,costs_components!$B$2:$F$315,3,FALSE)","v":8},"AC",75,null,4.5999999999999996,"XXX"]
["644","WRP","Wetland Wildlife Habitat Management","Grass seeding between rows (sideoats grama and blue grama)","acre",{"$f":"VLOOKUP($D784,costs_components!$B$2:$F$315,3,FALSE)","v":45},"AC",75,null,45,""]
["644","WRP","Wetland Wildlife Habitat Management","Grass/Grain Drill","acre",{"$f":"VLOOKUP($D785,costs_components!$B$2:$F$315,3,FALSE)","v":20},"AC",75,null,20,""]
["644","WRP","Wetland Wildlife Habitat Management","Hand Plant (Bare root or container)","each",{"$f":"VLOOKUP($D786,costs_components!$B$2:$F$315,3,FALSE)","v":1.2},"AC",75,null,1.1000000000000001,"XXX"]
["644","WRP","Wetland Wildlife Habitat Management","Individual Vegetative Plug (Planted)","each",{"$f":"VLOOKUP($D787,costs_components!$B$2:$F$315,3,FALSE)","v":1},"AC",75,null,1,""]
["644","WRP","Wetland Wildlife Habitat Management","Introduced Species (1 to 2 species)","acre",{"$f":"VLOOKUP($D788,costs_components!$B$2:$F$315,3,FALSE)","v":15.23},"AC",75,null,15.23,""]
["644","WRP","Wetland Wildlife Habitat Management","Introduced Species (3 or more species)","acre",{"$f":"VLOOKUP($D789,costs_components!$B$2:$F$315,3,FALSE)","v":25.59},"AC",75,null,25.59,""]
["644","WRP","Wetland Wildlife Habitat Management","Machine Plant (Bare root or containerized - also includes sod scalped)","100ft.",{"$f":"VLOOKUP($D790,costs_components!$B$2:$F$315,3,FALSE)","v":21},"AC",75,null,19,"XXX"]
["644","WRP","Wetland Wildlife Habitat Management","Mechanical Seedbed Preparation (per time)","acre",{"$f":"VLOOKUP($D791,costs_components!$B$2:$F$315,3,FALSE)","v":12},"AC",75,null,20,"XXX"]
["644","WRP","Wetland Wildlife Habitat Management","Mechanical Site preparation - trees or shrubs","acre",{"$f":"VLOOKUP($D792,costs_components!$B$2:$F$315,3,FALSE)","v":10},"AC",75,null,9.75,"XXX"]
["644","WRP","Wetland Wildlife Habitat Management","Mechanical weed control","acre",{"$f":"VLOOKUP($D793,costs_components!$B$2:$F$315,3,FALSE)","v":12},"AC",75,null,12,""]
["644","WRP","Wetland Wildlife Habitat Management","Mechanical Weed Control - trees and shrubs","100ft.",{"$f":"VLOOKUP($D794,costs_components!$B$2:$F$315,3,FALSE)","v":2.4},"AC",75,null,2.4,""]
["644","WRP","Wetland Wildlife Habitat Management","Native and Introduced Species","acre",{"$f":"VLOOKUP($D795,costs_components!$B$2:$F$315,3,FALSE)","v":41.97},"AC",75,null,41.97,""]
["644","WRP","Wetland Wildlife Habitat Management","Native Grass Mix","acre",{"$f":"VLOOKUP($D796,costs_components!$B$2:$F$315,3,FALSE)","v":100},"AC",75,null,100,""]
["644","WRP","Wetland Wildlife Habitat Management","Native Grass with Shrub and/or Forb Species","acre",{"$f":"VLOOKUP($D797,costs_components!$B$2:$F$315,3,FALSE)","v":100},"AC",75,null,88.78,"XXX"]
["644","WRP","Wetland Wildlife Habitat Management","Synthetic Weed Barrier (6' wide)","100ft.",{"$f":"VLOOKUP($D798,costs_components!$B$2:$F$315,3,FALSE)","v":48.5},"AC",75,null,45,"XXX"]
["644","WRP","Wetland Wildlife Habitat Management","Synthetic Weed Barrier Squares (4X4)","square",{"$f":"VLOOKUP($D799,costs_components!$B$2:$F$315,3,FALSE)","v":2.8},"AC",75,null,2.8,""]
["644","WRP","Wetland Wildlife Habitat Management","Wetland Restoration - Ditch Plug","struct",{"$f":"VLOOKUP($D800,costs_components!$B$2:$F$315,3,FALSE)","v":1000},"AC",75,null,340,"XXX"]
["645","WRP","Upland Wildlife Habitat Management","Chemical for Weed or Pest Control","acre",{"$f":"VLOOKUP($D801,costs_components!$B$2:$F$315,3,FALSE)","v":25},"AC",75,null,20,"XXX"]
["645","WRP","Upland Wildlife Habitat Management","Chemical Seedbed Preparation","acre",{"$f":"VLOOKUP($D802,costs_components!$B$2:$F$315,3,FALSE)","v":20},"AC",75,null,20,""]
["645","WRP","Upland Wildlife Habitat Management","Chemical Site Preparation - trees or shrubs","acre",{"$f":"VLOOKUP($D803,costs_components!$B$2:$F$315,3,FALSE)","v":20},"AC",75,null,17.43,"XXX"]
["645","WRP","Upland Wildlife Habitat Management","Chemical weed control - trees or shrubs","100ft.",{"$f":"VLOOKUP($D804,costs_components!$B$2:$F$315,3,FALSE)","v":8},"AC",75,null,4.5999999999999996,"XXX"]
["645","WRP","Upland Wildlife Habitat Management","Grass/Grain Drill","acre",{"$f":"VLOOKUP($D805,costs_components!$B$2:$F$315,3,FALSE)","v":20},"AC",75,null,20,""]
["645","WRP","Upland Wildlife Habitat Management","Hand Plant (Bare root or container)","each",{"$f":"VLOOKUP($D806,costs_components!$B$2:$F$315,3,FALSE)","v":1.2},"AC",75,null,1.1000000000000001,"XXX"]
["645","WRP","Upland Wildlife Habitat Management","Individual Vegetative Plug (Planted)","each",{"$f":"VLOOKUP($D807,costs_components!$B$2:$F$315,3,FALSE)","v":1},"AC",75,null,1,""]
["645","WRP","Upland Wildlife Habitat Management","Introduced Species (1 to 2 species)","acre",{"$f":"VLOOKUP($D808,costs_components!$B$2:$F$315,3,FALSE)","v":15.23},"AC",75,null,15.23,""]
["645","WRP","Upland Wildlife Habitat Management","Introduced Species (3 or more species)","acre",{"$f":"VLOOKUP($D809,costs_components!$B$2:$F$315,3,FALSE)","v":25.59},"AC",75,null,25.59,""]
["645","WRP","Upland Wildlife Habitat Management","Machine Plant (Bare root or containerized - also includes sod scalped)","100ft.",{"$f":"VLOOKUP($D810,costs_components!$B$2:$F$315,3,FALSE)","v":21},"AC",75,null,19,"XXX"]
["645","WRP","Upland Wildlife Habitat Management","Mechanical Seedbed Preparation (per time)","acre",{"$f":"VLOOKUP($D811,costs_components!$B$2:$F$315,3,FALSE)","v":12},"AC",75,null,20,"XXX"]
["645","WRP","Upland Wildlife Habitat Management","Mechanical Site preparation - trees or shrubs","acre",{"$f":"VLOOKUP($D812,costs_components!$B$2:$F$315,3,FALSE)","v":10},"AC",75,null,9.75,"XXX"]
["645","WRP","Upland Wildlife Habitat Management","Mechanical weed control","acre",{"$f":"VLOOKUP($D813,costs_components!$B$2:$F$315,3,FALSE)","v":12},"AC",75,null,12,""]
["645","WRP","Upland Wildlife Habitat Management","Mechanical Weed Control - trees and shrubs","100ft.",{"$f":"VLOOKUP($D814,costs_components!$B$2:$F$315,3,FALSE)","v":2.4},"AC",75,null,2.4,{"$f":"IF(F814<>J814,\"XXX\",\"\")","v":""}]
["645","WRP","Upland Wildlife Habitat Management","Native and Introduced Species","acre",{"$f":"VLOOKUP($D815,costs_components!$B$2:$F$315,3,FALSE)","v":41.97},"AC",75,null,41.97,""]
["645","WRP","Upland Wildlife Habitat Management","Native Grass Mix","acre",{"$f":"VLOOKUP($D816,costs_components!$B$2:$F$315,3,FALSE)","v":100},"AC",75,null,100,""]
["645","WRP","Upland Wildlife Habitat Management","Native Grass with Shrub and/or Forb Species","acre",{"$f":"VLOOKUP($D817,costs_components!$B$2:$F$315,3,FALSE)","v":100},"AC",75,null,88.78,"XXX"]
["645","WRP","Upland Wildlife Habitat Management","Tree shelter, 2 ft","each",{"$f":"VLOOKUP($D818,costs_components!$B$2:$F$315,3,FALSE)","v":3.4},"AC",75,null,3.4,""]
["645","WRP","Upland Wildlife Habitat Management","Tree shelter, 3 ft","each",{"$f":"VLOOKUP($D819,costs_components!$B$2:$F$315,3,FALSE)","v":4.3},"AC",75,null,4.3,""]
["645","WRP","Upland Wildlife Habitat Management","Tree shelter, 4 ft","each",{"$f":"VLOOKUP($D820,costs_components!$B$2:$F$315,3,FALSE)","v":5},"AC",75,null,5,""]
["646","WRP","Shallow Water Management For Wildlife","Earth Fill - Class A Compaction - Clay Liners (specified density)","cu.yd.",{"$f":"VLOOKUP($D821,costs_components!$B$2:$F$315,3,FALSE)","v":5.3},"AC",75,null,4.25,"XXX"]
["646","WRP","Shallow Water Management For Wildlife","Earth Fill - Class A Compaction (specified density)","cu.yd.",{"$f":"VLOOKUP($D822,costs_components!$B$2:$F$315,3,FALSE)","v":3.6},"AC",75,null,2.85,"XXX"]
["646","WRP","Shallow Water Management For Wildlife","Earth Fill - Class C Compaction (specified method)","cu.yd.",{"$f":"VLOOKUP($D823,costs_components!$B$2:$F$315,3,FALSE)","v":3},"AC",75,null,2.4,"XXX"]
["646","WRP","Shallow Water Management For Wildlife","Excavation","cu.yd.",{"$f":"VLOOKUP($D824,costs_components!$B$2:$F$315,3,FALSE)","v":4.4000000000000004},"AC",75,null,2.1,"XXX"]
["646","WRP","Shallow Water Management For Wildlife","Excavation Small Structures","cu.yd.",{"$f":"VLOOKUP($D825,costs_components!$B$2:$F$315,3,FALSE)","v":7.1},"AC",75,null,5.7,"XXX"]
["646","WRP","Shallow Water Management For Wildlife","Fence, Silt","lf.",{"$f":"VLOOKUP($D826,costs_components!$B$2:$F$315,3,FALSE)","v":3.3},"AC",75,null,2.6,"XXX"]
["646","WRP","Shallow Water Management For Wildlife","Site Clearing","acre",{"$f":"VLOOKUP($D827,costs_components!$B$2:$F$315,3,FALSE)","v":1350},"AC",75,null,1200,"XXX"]
["647","WRP","Early Successional Habitat Development/Management","Chemical for Weed or Pest Control","acre",{"$f":"VLOOKUP($D828,costs_components!$B$2:$F$315,3,FALSE)","v":25},"AC",75,null,20,"XXX"]
["647","WRP","Early Successional Habitat Development/Management","Chemical Seedbed Preparation","acre",{"$f":"VLOOKUP($D829,costs_components!$B$2:$F$315,3,FALSE)","v":20},"AC",75,null,20,""]
["647","WRP","Early Successional Habitat Development/Management","FS Site Prep. - Dozing, Scarifying, etc.","acre",{"$f":"VLOOKUP($D830,costs_components!$B$2:$F$315,3,FALSE)","v":143.1},"AC",75,null,114.5,"XXX"]
["647","WRP","Early Successional Habitat Development/Management","Grass/Grain Drill","acre",{"$f":"VLOOKUP($D831,costs_components!$B$2:$F$315,3,FALSE)","v":20},"AC",75,null,20,""]
["647","WRP","Early Successional Habitat Development/Management","Introduced Species (1 to 2 species)","acre",{"$f":"VLOOKUP($D832,costs_components!$B$2:$F$315,3,FALSE)","v":15.23},"AC",75,null,15.23,""]
["647","WRP","Early Successional Habitat Development/Management","Introduced Species (3 or more species)","acre",{"$f":"VLOOKUP($D833,costs_components!$B$2:$F$315,3,FALSE)","v":25.59},"AC",75,null,25.59,""]
["647","WRP","Early Successional Habitat Development/Management","Mechanical weed control","acre",{"$f":"VLOOKUP($D834,costs_components!$B$2:$F$315,3,FALSE)","v":12},"AC",75,null,12,""]
["647","WRP","Early Successional Habitat Development/Management","Mechanical Seedbed Preparation (per time)","acre",{"$f":"VLOOKUP($D835,costs_components!$B$2:$F$315,3,FALSE)","v":12},"AC",75,null,20,"XXX"]
["647","WRP","Early Successional Habitat Development/Management","Native and Introduced Species","acre",{"$f":"VLOOKUP($D836,costs_components!$B$2:$F$315,3,FALSE)","v":41.97},"AC",75,null,41.97,""]
["647","WRP","Early Successional Habitat Development/Management","Native Grass Mix","acre",{"$f":"VLOOKUP($D837,costs_components!$B$2:$F$315,3,FALSE)","v":100},"AC",75,null,100,""]
["647","WRP","Early Successional Habitat Development/Management","Native Grass with Shrub and/or Forb Species","acre",{"$f":"VLOOKUP($D838,costs_components!$B$2:$F$315,3,FALSE)","v":100},"AC",75,null,88.78,"XXX"]
["647","WRP","Early Successional Habitat Development/Management","Temporary Cover","acre",{"$f":"VLOOKUP($D839,costs_components!$B$2:$F$315,3,FALSE)","v":20},"AC",75,null,20,""]
["656","WRP","Constructed Wetland","Earth Fill - Class A Compaction - Clay Liners (specified density)","cu.yd.",{"$f":"VLOOKUP($D840,costs_components!$B$2:$F$315,3,FALSE)","v":5.3},"AC",75,null,4.25,"XXX"]
["656","WRP","Constructed Wetland","Earth Fill - Class A Compaction (specified density)","cu.yd.",{"$f":"VLOOKUP($D841,costs_components!$B$2:$F$315,3,FALSE)","v":3.6},"AC",75,null,2.85,"XXX"]
["656","WRP","Constructed Wetland","Earth Fill - Class C Compaction (specified method)","cu.yd.",{"$f":"VLOOKUP($D842,costs_components!$B$2:$F$315,3,FALSE)","v":3},"AC",75,null,2.4,"XXX"]
["656","WRP","Constructed Wetland","Excavation","cu.yd.",{"$f":"VLOOKUP($D843,costs_components!$B$2:$F$315,3,FALSE)","v":4.4000000000000004},"AC",75,null,2.1,"XXX"]
["656","WRP","Constructed Wetland","Fence, Silt","lf.",{"$f":"VLOOKUP($D844,costs_components!$B$2:$F$315,3,FALSE)","v":3.3},"AC",75,null,2.6,"XXX"]
["657","WRP","Wetland Restoration","Anti-Seep Collar, Butyl Rubber/Neoprene With Wood Frame","sqft.",{"$f":"VLOOKUP($D845,costs_components!$B$2:$F$315,3,FALSE)","v":3.25},"AC",75,null,3.25,""]
["657","WRP","Wetland Restoration","Cedar","bd.ft.",{"$f":"VLOOKUP($D846,costs_components!$B$2:$F$315,3,FALSE)","v":4.05},"AC",75,null,4.05,""]
["657","WRP","Wetland Restoration","Chemical for Weed or Pest Control","acre",{"$f":"VLOOKUP($D847,costs_components!$B$2:$F$315,3,FALSE)","v":25},"AC",75,null,20,"XXX"]
["657","WRP","Wetland Restoration","Chemical Seedbed Preparation","acre",{"$f":"VLOOKUP($D848,costs_components!$B$2:$F$315,3,FALSE)","v":20},"AC",75,null,20,""]
["657","WRP","Wetland Restoration","CMP Aluminum, CR/CS, 10 gauge","lf-in.",{"$f":"VLOOKUP($D849,costs_components!$B$2:$F$315,3,FALSE)","v":4.09},"AC",75,null,4.09,""]
["657","WRP","Wetland Restoration","CMP Aluminum, CR/CS, 12 gauge","lf-in.",{"$f":"VLOOKUP($D850,costs_components!$B$2:$F$315,3,FALSE)","v":3.23},"AC",75,null,3.23,""]
["657","WRP","Wetland Restoration","CMP Aluminum, CR/CS, 14 gauge","lf-in.",{"$f":"VLOOKUP($D851,costs_components!$B$2:$F$315,3,FALSE)","v":2.58},"AC",75,null,2.58,""]
["657","WRP","Wetland Restoration","CMP Aluminum, CR/CS, 16 gauge","lf-in.",{"$f":"VLOOKUP($D852,costs_components!$B$2:$F$315,3,FALSE)","v":2.15},"AC",75,null,2.15,""]
["657","WRP","Wetland Restoration","CMP Standard Galvanized Steel, CR/CS, 10 gauge","lf-in.",{"$f":"VLOOKUP($D853,costs_components!$B$2:$F$315,3,FALSE)","v":3.71},"AC",75,null,3.71,""]
["657","WRP","Wetland Restoration","CMP Standard Galvanized Steel, CR/CS, 12 gauge","lf-in.",{"$f":"VLOOKUP($D854,costs_components!$B$2:$F$315,3,FALSE)","v":2.93},"AC",75,null,2.93,""]
["657","WRP","Wetland Restoration","CMP Standard Galvanized Steel, CR/CS, 14 gauge","lf-in.",{"$f":"VLOOKUP($D855,costs_components!$B$2:$F$315,3,FALSE)","v":2.34},"AC",75,null,2.34,""]
["657","WRP","Wetland Restoration","CMP Standard Galvanized Steel, CR/CS, 16 gauge","lf-in.",{"$f":"VLOOKUP($D856,costs_components!$B$2:$F$315,3,FALSE)","v":1.95},"AC",75,null,1.95,""]
["657","WRP","Wetland Restoration","CMP Steel, Polymeric Coated 10 gauge","lf-in.",{"$f":"VLOOKUP($D857,costs_components!$B$2:$F$315,3,FALSE)","v":3.99},"AC",75,null,3.99,""]
["657","WRP","Wetland Restoration","CMP Steel, Polymeric Coated 12 gauge","lf-in.",{"$f":"VLOOKUP($D858,costs_components!$B$2:$F$315,3,FALSE)","v":3.15},"AC",75,null,3.15,""]
["657","WRP","Wetland Restoration","CMP Steel, Polymeric Coated 14 gauge","lf-in.",{"$f":"VLOOKUP($D859,costs_components!$B$2:$F$315,3,FALSE)","v":2.52},"AC",75,null,2.52,""]
["657","WRP","Wetland Restoration","CMP Steel, Polymeric Coated 16 gauge","lf-in.",{"$f":"VLOOKUP($D860,costs_components!$B$2:$F$315,3,FALSE)","v":2.1},"AC",75,null,2.1,""]
["657","WRP","Wetland Restoration","CMP Steel, Polymeric Coated, CR/CS 10 gauge","lf-in.",{"$f":"VLOOKUP($D861,costs_components!$B$2:$F$315,3,FALSE)","v":4.75},"AC",75,null,4.75,""]
["657","WRP","Wetland Restoration","CMP Steel, Polymeric Coated, CR/CS 12 gauge","lf-in.",{"$f":"VLOOKUP($D862,costs_components!$B$2:$F$315,3,FALSE)","v":3.75},"AC",75,null,3.75,""]
["657","WRP","Wetland Restoration","CMP Steel, Polymeric Coated, CR/CS 14 gauge","lf-in.",{"$f":"VLOOKUP($D863,costs_components!$B$2:$F$315,3,FALSE)","v":3},"AC",75,null,3,""]
["657","WRP","Wetland Restoration","CMP Steel, Polymeric Coated, CR/CS 16 gauge","lf-in.",{"$f":"VLOOKUP($D864,costs_components!$B$2:$F$315,3,FALSE)","v":2.5},"AC",75,null,2.5,""]
["657","WRP","Wetland Restoration","CMP, Anti-Seep Diaphram - PC Steel, 2 piece, watertight coupling, rods/lugs","dia.in.",{"$f":"VLOOKUP($D865,costs_components!$B$2:$F$315,3,FALSE)","v":46.25},"AC",75,null,46.25,""]
["657","WRP","Wetland Restoration","CMP, Anti-Seep Diaphram - SG Steel, 2 piece, watertight coupling, rods/lugs","dia.in.",{"$f":"VLOOKUP($D866,costs_components!$B$2:$F$315,3,FALSE)","v":33.25},"AC",75,null,33.25,""]
["657","WRP","Wetland Restoration","CMP, Anti-Vortex Vane,  SG Steel, for hooded inlets","dia.in.",{"$f":"VLOOKUP($D867,costs_components!$B$2:$F$315,3,FALSE)","v":3.5},"AC",75,null,8.5,"XXX"]
["657","WRP","Wetland Restoration","CMP, Conical Trash Rack, SG Steel 36\" and less (base on riser dia.)","dia.in.",{"$f":"VLOOKUP($D868,costs_components!$B$2:$F$315,3,FALSE)","v":39.75},"AC",75,null,39.75,""]
["657","WRP","Wetland Restoration","CMP, Conical Trash Rack, SG Steel 42\" and over (base on riser dia.)","dia.in.",{"$f":"VLOOKUP($D869,costs_components!$B$2:$F$315,3,FALSE)","v":66.25},"AC",75,null,66.25,""]
["657","WRP","Wetland Restoration","CMP, Connecting Band - Aluminum - 12\" wide 12 gauge","dia.in.",{"$f":"VLOOKUP($D870,costs_components!$B$2:$F$315,3,FALSE)","v":3.83},"AC",75,null,3.83,""]
["657","WRP","Wetland Restoration","CMP, Connecting Band - Aluminum - 12\" wide 14 gauge","dia.in.",{"$f":"VLOOKUP($D871,costs_components!$B$2:$F$315,3,FALSE)","v":2.7},"AC",75,null,2.7,""]
["657","WRP","Wetland Restoration","CMP, Connecting Band - Aluminum - 12\" wide 16 gauge","dia.in.",{"$f":"VLOOKUP($D872,costs_components!$B$2:$F$315,3,FALSE)","v":2.25},"AC",75,null,2.25,""]
["657","WRP","Wetland Restoration","CMP, Connecting Band - Aluminum - 24\" wide 12 gauge","dia.in.",{"$f":"VLOOKUP($D873,costs_components!$B$2:$F$315,3,FALSE)","v":7.23},"AC",75,null,7.23,""]
["657","WRP","Wetland Restoration","CMP, Connecting Band - Aluminum - 24\" wide 14 gauge","dia.in.",{"$f":"VLOOKUP($D874,costs_components!$B$2:$F$315,3,FALSE)","v":5.0999999999999996},"AC",75,null,5.0999999999999996,""]
["657","WRP","Wetland Restoration","CMP, Connecting Band - Aluminum - 24\" wide 16 gauge","dia.in.",{"$f":"VLOOKUP($D875,costs_components!$B$2:$F$315,3,FALSE)","v":4.25},"AC",75,null,4.25,""]
["657","WRP","Wetland Restoration","CMP, Connecting Band - Aluminum - 7 1/2\" wide 12 gauge","dia.in.",{"$f":"VLOOKUP($D876,costs_components!$B$2:$F$315,3,FALSE)","v":2.5499999999999998},"AC",75,null,2.5499999999999998,""]
["657","WRP","Wetland Restoration","CMP, Connecting Band - Aluminum - 7 1/2\" wide 14 gauge","dia.in.",{"$f":"VLOOKUP($D877,costs_components!$B$2:$F$315,3,FALSE)","v":1.8},"AC",75,null,1.8,""]
["657","WRP","Wetland Restoration","CMP, Connecting Band - Aluminum - 7 1/2\" wide 16 gauge","dia.in.",{"$f":"VLOOKUP($D878,costs_components!$B$2:$F$315,3,FALSE)","v":1.5},"AC",75,null,1.5,{"$f":"IF(F878<>J878,\"XXX\",\"\")","v":""}]
["657","WRP","Wetland Restoration","CMP, Connecting Band - Polymeric Coated Steel - 12\" wide 12 gauge","dia.in.",{"$f":"VLOOKUP($D879,costs_components!$B$2:$F$315,3,FALSE)","v":4.68},"AC",75,null,4.68,""]
["657","WRP","Wetland Restoration","CMP, Connecting Band - Polymeric Coated Steel - 12\" wide 14 gauge","dia.in.",{"$f":"VLOOKUP($D880,costs_components!$B$2:$F$315,3,FALSE)","v":3.3},"AC",75,null,3.3,""]
["657","WRP","Wetland Restoration","CMP, Connecting Band - Polymeric Coated Steel - 12\" wide 16 gauge","dia.in.",{"$f":"VLOOKUP($D881,costs_components!$B$2:$F$315,3,FALSE)","v":2.75},"AC",75,null,2.75,""]
["657","WRP","Wetland Restoration","CMP, Connecting Band - Polymeric Coated Steel - 24\" wide 12 gauge","dia.in.",{"$f":"VLOOKUP($D882,costs_components!$B$2:$F$315,3,FALSE)","v":9.35},"AC",75,null,9.35,""]
["657","WRP","Wetland Restoration","CMP, Connecting Band - Polymeric Coated Steel - 24\" wide 14 gauge","dia.in.",{"$f":"VLOOKUP($D883,costs_components!$B$2:$F$315,3,FALSE)","v":6.6},"AC",75,null,6.6,""]
["657","WRP","Wetland Restoration","CMP, Connecting Band - Polymeric Coated Steel - 24\" wide 16 gauge","dia.in.",{"$f":"VLOOKUP($D884,costs_components!$B$2:$F$315,3,FALSE)","v":5.5},"AC",75,null,5.5,""]
["657","WRP","Wetland Restoration","CMP, Connecting Band - Polymeric Coated Steel - 7 1/2\" wide 12 gauge","dia.in.",{"$f":"VLOOKUP($D885,costs_components!$B$2:$F$315,3,FALSE)","v":3.4},"AC",75,null,3.4,""]
["657","WRP","Wetland Restoration","CMP, Connecting Band - Polymeric Coated Steel - 7 1/2\" wide 14 gauge","dia.in.",{"$f":"VLOOKUP($D886,costs_components!$B$2:$F$315,3,FALSE)","v":2.4},"AC",75,null,2.4,""]
["657","WRP","Wetland Restoration","CMP, Connecting Band - Polymeric Coated Steel - 7 1/2\" wide 16 gauge","dia.in.",{"$f":"VLOOKUP($D887,costs_components!$B$2:$F$315,3,FALSE)","v":2},"AC",75,null,2,""]
["657","WRP","Wetland Restoration","CMP, Connecting Band - Standard Galvanized Steel - 12\" wide 12 gauge","dia.in.",{"$f":"VLOOKUP($D888,costs_components!$B$2:$F$315,3,FALSE)","v":3.4},"AC",75,null,3.4,""]
["657","WRP","Wetland Restoration","CMP, Connecting Band - Standard Galvanized Steel - 12\" wide 14 gauge","dia.in.",{"$f":"VLOOKUP($D889,costs_components!$B$2:$F$315,3,FALSE)","v":2.4},"AC",75,null,2.4,""]
["657","WRP","Wetland Restoration","CMP, Connecting Band - Standard Galvanized Steel - 12\" wide 16 gauge","dia.in.",{"$f":"VLOOKUP($D890,costs_components!$B$2:$F$315,3,FALSE)","v":2},"AC",75,null,2,""]
["657","WRP","Wetland Restoration","CMP, Connecting Band - Standard Galvanized Steel - 24\" wide 12 gauge","dia.in.",{"$f":"VLOOKUP($D891,costs_components!$B$2:$F$315,3,FALSE)","v":6.38},"AC",75,null,6.38,""]
["657","WRP","Wetland Restoration","CMP, Connecting Band - Standard Galvanized Steel - 24\" wide 14 gauge","dia.in.",{"$f":"VLOOKUP($D892,costs_components!$B$2:$F$315,3,FALSE)","v":4.5},"AC",75,null,4.5,""]
["657","WRP","Wetland Restoration","CMP, Connecting Band - Standard Galvanized Steel - 24\" wide 16 gauge","dia.in.",{"$f":"VLOOKUP($D893,costs_components!$B$2:$F$315,3,FALSE)","v":3.75},"AC",75,null,3.75,""]
["657","WRP","Wetland Restoration","CMP, Connecting Band - Standard Galvanized Steel - 7 1/2\" wide 12 gauge","dia.in.",{"$f":"VLOOKUP($D894,costs_components!$B$2:$F$315,3,FALSE)","v":2.5499999999999998},"AC",75,null,2.5499999999999998,""]
["657","WRP","Wetland Restoration","CMP, Connecting Band - Standard Galvanized Steel - 7 1/2\" wide 14 gauge","dia.in.",{"$f":"VLOOKUP($D895,costs_components!$B$2:$F$315,3,FALSE)","v":1.8},"AC",75,null,1.8,""]
["657","WRP","Wetland Restoration","CMP, Connecting Band - Standard Galvanized Steel - 7 1/2\" wide 16 gauge","dia.in.",{"$f":"VLOOKUP($D896,costs_components!$B$2:$F$315,3,FALSE)","v":1.5},"AC",75,null,150,"XXX"]
["657","WRP","Wetland Restoration","CMP, Connecting Band - Watertight PC Steel, incl. 4 rods/lugs - 24\" wide 12 gauge","dia.in.",{"$f":"VLOOKUP($D897,costs_components!$B$2:$F$315,3,FALSE)","v":16.579999999999998},"AC",75,null,16.579999999999998,""]
["657","WRP","Wetland Restoration","CMP, Connecting Band - Watertight PC Steel, incl. 4 rods/lugs - 24\" wide 14 gauge","dia.in.",{"$f":"VLOOKUP($D898,costs_components!$B$2:$F$315,3,FALSE)","v":11.7},"AC",75,null,11.7,""]
["657","WRP","Wetland Restoration","CMP, Connecting Band - Watertight PC Steel, incl. 4 rods/lugs - 24\" wide 16 gauge","dia.in.",{"$f":"VLOOKUP($D899,costs_components!$B$2:$F$315,3,FALSE)","v":9.75},"AC",75,null,9.75,""]
["657","WRP","Wetland Restoration","CMP, Connecting Band - Watertight SG Steel, incl. 4 rods/lugs - 24\" wide 12 gauge","dia.in.",{"$f":"VLOOKUP($D900,costs_components!$B$2:$F$315,3,FALSE)","v":12.33},"AC",75,null,12.33,""]
["657","WRP","Wetland Restoration","CMP, Connecting Band - Watertight SG Steel, incl. 4 rods/lugs - 24\" wide 14 gauge","dia.in.",{"$f":"VLOOKUP($D901,costs_components!$B$2:$F$315,3,FALSE)","v":8.6999999999999993},"AC",75,null,8.6999999999999993,""]
["657","WRP","Wetland Restoration","CMP, Connecting Band - Watertight SG Steel, incl. 4 rods/lugs - 24\" wide 16 gauge","dia.in.",{"$f":"VLOOKUP($D902,costs_components!$B$2:$F$315,3,FALSE)","v":7.25},"AC",75,null,7.25,""]
["657","WRP","Wetland Restoration","CMP, End Section 12\"-24\" diameter","dia.in.",{"$f":"VLOOKUP($D903,costs_components!$B$2:$F$315,3,FALSE)","v":8.5},"AC",75,null,8.5,""]
["657","WRP","Wetland Restoration","CMP, End Section 30\"-36\" diameter","dia.in.",{"$f":"VLOOKUP($D904,costs_components!$B$2:$F$315,3,FALSE)","v":13.25},"AC",75,null,13.25,""]
["657","WRP","Wetland Restoration","CMP, End Section 42\"-54\" diameter","dia.in.",{"$f":"VLOOKUP($D905,costs_components!$B$2:$F$315,3,FALSE)","v":25},"AC",75,null,25,""]
["657","WRP","Wetland Restoration","CMP, End Section 60\" and larger diameter","dia.in.",{"$f":"VLOOKUP($D906,costs_components!$B$2:$F$315,3,FALSE)","v":33},"AC",75,null,33,""]
["657","WRP","Wetland Restoration","CMP, Fabrication (labor only) - Elbows","dia.in.",{"$f":"VLOOKUP($D907,costs_components!$B$2:$F$315,3,FALSE)","v":10},"AC",75,null,10,""]
["657","WRP","Wetland Restoration","CMP, Fabrication (labor only) - Skewed or Beveled Ends","dia.in.",{"$f":"VLOOKUP($D908,costs_components!$B$2:$F$315,3,FALSE)","v":6},"AC",75,null,6,""]
["657","WRP","Wetland Restoration","CMP, Fabrication (labor only) - Tees, Wyes, and Riser Stubs","dia.in.",{"$f":"VLOOKUP($D909,costs_components!$B$2:$F$315,3,FALSE)","v":13.25},"AC",75,null,13.25,""]
["657","WRP","Wetland Restoration","CMP, Flap Gate, SG Steel","dia.in.",{"$f":"VLOOKUP($D910,costs_components!$B$2:$F$315,3,FALSE)","v":20},"AC",75,null,20,""]
["657","WRP","Wetland Restoration","CMP, Hooded Inlet Baffle Plate - SG Steel, double angle iron","dia.in.",{"$f":"VLOOKUP($D911,costs_components!$B$2:$F$315,3,FALSE)","v":15.5},"AC",75,null,15.5,""]
["657","WRP","Wetland Restoration","CMP, Screen or End Cap, SG Steel","dia.in.",{"$f":"VLOOKUP($D912,costs_components!$B$2:$F$315,3,FALSE)","v":8.25},"AC",75,null,8.25,""]
["657","WRP","Wetland Restoration","CMP, Splitter Type Anti-Vortex Wall - SG Steel (base on riser diameter)","dia.in.",{"$f":"VLOOKUP($D913,costs_components!$B$2:$F$315,3,FALSE)","v":8.5},"AC",75,null,8.5,""]
["657","WRP","Wetland Restoration","CMP, Standard Aluminum 10 gauge","lf-in.",{"$f":"VLOOKUP($D914,costs_components!$B$2:$F$315,3,FALSE)","v":3.42},"AC",75,null,3.42,""]
["657","WRP","Wetland Restoration","CMP, Standard Aluminum 12 gauge","lf-in.",{"$f":"VLOOKUP($D915,costs_components!$B$2:$F$315,3,FALSE)","v":2.7},"AC",75,null,2.7,""]
["657","WRP","Wetland Restoration","CMP, Standard Aluminum 14 gauge","lf-in.",{"$f":"VLOOKUP($D916,costs_components!$B$2:$F$315,3,FALSE)","v":2.16},"AC",75,null,2.16,""]
["657","WRP","Wetland Restoration","CMP, Standard Aluminum 16 gauge","lf-in.",{"$f":"VLOOKUP($D917,costs_components!$B$2:$F$315,3,FALSE)","v":1.8},"AC",75,null,1.8,""]
["657","WRP","Wetland Restoration","CMP, Standard Galvanized Steel 10 gauge","lf-in.",{"$f":"VLOOKUP($D918,costs_components!$B$2:$F$315,3,FALSE)","v":2.79},"AC",75,null,2.79,""]
["657","WRP","Wetland Restoration","CMP, Standard Galvanized Steel 12 gauge","lf-in.",{"$f":"VLOOKUP($D919,costs_components!$B$2:$F$315,3,FALSE)","v":2.21},"AC",75,null,2.21,""]
["657","WRP","Wetland Restoration","CMP, Standard Galvanized Steel 14 gauge","lf-in.",{"$f":"VLOOKUP($D920,costs_components!$B$2:$F$315,3,FALSE)","v":1.76},"AC",75,null,1.76,""]
["657","WRP","Wetland Restoration","CMP, Standard Galvanized Steel 16 gauge","lf-in.",{"$f":"VLOOKUP($D921,costs_components!$B$2:$F$315,3,FALSE)","v":1.47},"AC",75,null,1.47,""]
["657","WRP","Wetland Restoration","CMP, Weir Trash Rack, SG Steel, for hooded inlets","dia.in.",{"$f":"VLOOKUP($D922,costs_components!$B$2:$F$315,3,FALSE)","v":13.25},"AC",75,null,13.25,""]
["657","WRP","Wetland Restoration","Corrugated Plastic Pipe - Dual-Wall Pipe 10\"","foot",{"$f":"VLOOKUP($D923,costs_components!$B$2:$F$315,3,FALSE)","v":5.75},"AC",75,null,5.75,""]
["657","WRP","Wetland Restoration","Corrugated Plastic Pipe - Dual-Wall Pipe 12\"","foot",{"$f":"VLOOKUP($D924,costs_components!$B$2:$F$315,3,FALSE)","v":7.5},"AC",75,null,7.5,""]
["657","WRP","Wetland Restoration","Corrugated Plastic Pipe - Dual-Wall Pipe 15\"","foot",{"$f":"VLOOKUP($D925,costs_components!$B$2:$F$315,3,FALSE)","v":9},"AC",75,null,9,""]
["657","WRP","Wetland Restoration","Corrugated Plastic Pipe - Dual-Wall Pipe 18\"","foot",{"$f":"VLOOKUP($D926,costs_components!$B$2:$F$315,3,FALSE)","v":14.25},"AC",75,null,14.25,""]
["657","WRP","Wetland Restoration","Corrugated Plastic Pipe - Dual-Wall Pipe 24\"","foot",{"$f":"VLOOKUP($D927,costs_components!$B$2:$F$315,3,FALSE)","v":21.75},"AC",75,null,21.75,""]
["657","WRP","Wetland Restoration","Corrugated Plastic Pipe - Dual-Wall Pipe 4\"","foot",{"$f":"VLOOKUP($D928,costs_components!$B$2:$F$315,3,FALSE)","v":1.1000000000000001},"AC",75,null,1.1000000000000001,""]
["657","WRP","Wetland Restoration","Corrugated Plastic Pipe - Dual-Wall Pipe 6\"","foot",{"$f":"VLOOKUP($D929,costs_components!$B$2:$F$315,3,FALSE)","v":2.5},"AC",75,null,2.5,""]
["657","WRP","Wetland Restoration","Corrugated Plastic Pipe - Dual-Wall Pipe 8\"","foot",{"$f":"VLOOKUP($D930,costs_components!$B$2:$F$315,3,FALSE)","v":4},"AC",75,null,4,""]
["657","WRP","Wetland Restoration","Corrugated Plastic Pipe - End Section 10\"","each",{"$f":"VLOOKUP($D931,costs_components!$B$2:$F$315,3,FALSE)","v":80},"AC",75,null,80,""]
["657","WRP","Wetland Restoration","Corrugated Plastic Pipe - End Section 12\"","each",{"$f":"VLOOKUP($D932,costs_components!$B$2:$F$315,3,FALSE)","v":93.25},"AC",75,null,93.25,""]
["657","WRP","Wetland Restoration","Corrugated Plastic Pipe - End Section 15\"","each",{"$f":"VLOOKUP($D933,costs_components!$B$2:$F$315,3,FALSE)","v":116.5},"AC",75,null,116.5,""]
["657","WRP","Wetland Restoration","Corrugated Plastic Pipe - End Section 18\"","each",{"$f":"VLOOKUP($D934,costs_components!$B$2:$F$315,3,FALSE)","v":153},"AC",75,null,153,""]
["657","WRP","Wetland Restoration","Corrugated Plastic Pipe - End Section 24\"","each",{"$f":"VLOOKUP($D935,costs_components!$B$2:$F$315,3,FALSE)","v":225.75},"AC",75,null,225.75,""]
["657","WRP","Wetland Restoration","Corrugated Plastic Pipe - End Section 8\"","each",{"$f":"VLOOKUP($D936,costs_components!$B$2:$F$315,3,FALSE)","v":73},"AC",75,null,73,""]
["657","WRP","Wetland Restoration","Corrugated Plastic Pipe - Gasketed Sleeve Coupler 12\"","each",{"$f":"VLOOKUP($D937,costs_components!$B$2:$F$315,3,FALSE)","v":35.25},"AC",75,null,35.25,""]
["657","WRP","Wetland Restoration","Corrugated Plastic Pipe - Gasketed Sleeve Coupler 15\"","each",{"$f":"VLOOKUP($D938,costs_components!$B$2:$F$315,3,FALSE)","v":51.5},"AC",75,null,51.5,""]
["657","WRP","Wetland Restoration","Corrugated Plastic Pipe - Gasketed Sleeve Coupler 18\"","each",{"$f":"VLOOKUP($D939,costs_components!$B$2:$F$315,3,FALSE)","v":70},"AC",75,null,70,""]
["657","WRP","Wetland Restoration","Corrugated Plastic Pipe - Gasketed Sleeve Coupler 24\"","each",{"$f":"VLOOKUP($D940,costs_components!$B$2:$F$315,3,FALSE)","v":215.75},"AC",75,null,215.75,""]
["657","WRP","Wetland Restoration","Corrugated Plastic Pipe - Plastic Anti-Seep Collar (4X4) 10\"","each",{"$f":"VLOOKUP($D941,costs_components!$B$2:$F$315,3,FALSE)","v":174},"AC",75,null,174,""]
["657","WRP","Wetland Restoration","Corrugated Plastic Pipe - Plastic Anti-Seep Collar (4X4) 12\"","each",{"$f":"VLOOKUP($D942,costs_components!$B$2:$F$315,3,FALSE)","v":178},"AC",75,null,178,{"$f":"IF(F942<>J942,\"XXX\",\"\")","v":""}]
["657","WRP","Wetland Restoration","Corrugated Plastic Pipe - Plastic Anti-Seep Collar (4X4) 15\"","each",{"$f":"VLOOKUP($D943,costs_components!$B$2:$F$315,3,FALSE)","v":188.75},"AC",75,null,188.75,""]
["657","WRP","Wetland Restoration","Corrugated Plastic Pipe - Plastic Anti-Seep Collar (4X4) 18\"","each",{"$f":"VLOOKUP($D944,costs_components!$B$2:$F$315,3,FALSE)","v":194},"AC",75,null,194,""]
["657","WRP","Wetland Restoration","Corrugated Plastic Pipe - Plastic Anti-Seep Collar (4X4) 24\"","each",{"$f":"VLOOKUP($D945,costs_components!$B$2:$F$315,3,FALSE)","v":215.75},"AC",75,null,215.75,""]
["657","WRP","Wetland Restoration","Corrugated Plastic Pipe - Plastic Anti-Seep Collar (4X4) 4\"","each",{"$f":"VLOOKUP($D946,costs_components!$B$2:$F$315,3,FALSE)","v":156.5},"AC",75,null,156.5,""]
["657","WRP","Wetland Restoration","Corrugated Plastic Pipe - Plastic Anti-Seep Collar (4X4) 6\"","each",{"$f":"VLOOKUP($D947,costs_components!$B$2:$F$315,3,FALSE)","v":155.75},"AC",75,null,155.75,""]
["657","WRP","Wetland Restoration","Corrugated Plastic Pipe - Plastic Anti-Seep Collar (4X4) 8\"","each",{"$f":"VLOOKUP($D948,costs_components!$B$2:$F$315,3,FALSE)","v":161.75},"AC",75,null,161.75,""]
["657","WRP","Wetland Restoration","Corrugated Plastic Pipe - Rodent Guard 10\"","each",{"$f":"VLOOKUP($D949,costs_components!$B$2:$F$315,3,FALSE)","v":29},"AC",75,null,29,""]
["657","WRP","Wetland Restoration","Corrugated Plastic Pipe - Rodent Guard 12\"","each",{"$f":"VLOOKUP($D950,costs_components!$B$2:$F$315,3,FALSE)","v":37.25},"AC",75,null,37.25,""]
["657","WRP","Wetland Restoration","Corrugated Plastic Pipe - Rodent Guard 15\"","each",{"$f":"VLOOKUP($D951,costs_components!$B$2:$F$315,3,FALSE)","v":55.25},"AC",75,null,55.25,""]
["657","WRP","Wetland Restoration","Corrugated Plastic Pipe - Rodent Guard 18\"","each",{"$f":"VLOOKUP($D952,costs_components!$B$2:$F$315,3,FALSE)","v":94.5},"AC",75,null,94.5,""]
["657","WRP","Wetland Restoration","Corrugated Plastic Pipe - Rodent Guard 24\"","each",{"$f":"VLOOKUP($D953,costs_components!$B$2:$F$315,3,FALSE)","v":122},"AC",75,null,122,""]
["657","WRP","Wetland Restoration","Corrugated Plastic Pipe - Rodent Guard 4\"","each",{"$f":"VLOOKUP($D954,costs_components!$B$2:$F$315,3,FALSE)","v":16},"AC",75,null,16,""]
["657","WRP","Wetland Restoration","Corrugated Plastic Pipe - Rodent Guard 6\"","each",{"$f":"VLOOKUP($D955,costs_components!$B$2:$F$315,3,FALSE)","v":18},"AC",75,null,18,""]
["657","WRP","Wetland Restoration","Corrugated Plastic Pipe - Rodent Guard 8\"","each",{"$f":"VLOOKUP($D956,costs_components!$B$2:$F$315,3,FALSE)","v":22.5},"AC",75,null,22.5,""]
["657","WRP","Wetland Restoration","Corrugated Plastic Pipe - Soil-Tight Split Coupler 12\"","each",{"$f":"VLOOKUP($D957,costs_components!$B$2:$F$315,3,FALSE)","v":23.5},"AC",75,null,23.5,""]
["657","WRP","Wetland Restoration","Corrugated Plastic Pipe - Soil-Tight Split Coupler 18\"","each",{"$f":"VLOOKUP($D958,costs_components!$B$2:$F$315,3,FALSE)","v":36.5},"AC",75,null,36.5,""]
["657","WRP","Wetland Restoration","Corrugated Plastic Pipe - Soil-Tight Split Coupler 24\"","each",{"$f":"VLOOKUP($D959,costs_components!$B$2:$F$315,3,FALSE)","v":54},"AC",75,null,54,""]
["657","WRP","Wetland Restoration","Corrugated Plastic Pipe - Split Coupler 10\"","each",{"$f":"VLOOKUP($D960,costs_components!$B$2:$F$315,3,FALSE)","v":6},"AC",75,null,6,""]
["657","WRP","Wetland Restoration","Corrugated Plastic Pipe - Split Coupler 12\"","each",{"$f":"VLOOKUP($D961,costs_components!$B$2:$F$315,3,FALSE)","v":8},"AC",75,null,8,""]
["657","WRP","Wetland Restoration","Corrugated Plastic Pipe - Split Coupler 15\"","each",{"$f":"VLOOKUP($D962,costs_components!$B$2:$F$315,3,FALSE)","v":13.75},"AC",75,null,13.75,""]
["657","WRP","Wetland Restoration","Corrugated Plastic Pipe - Split Coupler 18\"","each",{"$f":"VLOOKUP($D963,costs_components!$B$2:$F$315,3,FALSE)","v":18.5},"AC",75,null,18.5,""]
["657","WRP","Wetland Restoration","Corrugated Plastic Pipe - Split Coupler 24\"","each",{"$f":"VLOOKUP($D964,costs_components!$B$2:$F$315,3,FALSE)","v":29.75},"AC",75,null,29.75,""]
["657","WRP","Wetland Restoration","Corrugated Plastic Pipe - Split Coupler 4\"","each",{"$f":"VLOOKUP($D965,costs_components!$B$2:$F$315,3,FALSE)","v":1.75},"AC",75,null,1.75,""]
["657","WRP","Wetland Restoration","Corrugated Plastic Pipe - Split Coupler 6\"","each",{"$f":"VLOOKUP($D966,costs_components!$B$2:$F$315,3,FALSE)","v":3},"AC",75,null,3,""]
["657","WRP","Wetland Restoration","Corrugated Plastic Pipe - Split Coupler 8\"","each",{"$f":"VLOOKUP($D967,costs_components!$B$2:$F$315,3,FALSE)","v":4.5},"AC",75,null,4.5,""]
["657","WRP","Wetland Restoration","Corrugated Plastic Pipe - Tubing/Culverts - 10\"","foot",{"$f":"VLOOKUP($D968,costs_components!$B$2:$F$315,3,FALSE)","v":3.75},"AC",75,null,3.75,""]
["657","WRP","Wetland Restoration","Corrugated Plastic Pipe - Tubing/Culverts - 12\"","foot",{"$f":"VLOOKUP($D969,costs_components!$B$2:$F$315,3,FALSE)","v":4.75},"AC",75,null,4.75,""]
["657","WRP","Wetland Restoration","Corrugated Plastic Pipe - Tubing/Culverts - 15\"","foot",{"$f":"VLOOKUP($D970,costs_components!$B$2:$F$315,3,FALSE)","v":7},"AC",75,null,7,""]
["657","WRP","Wetland Restoration","Corrugated Plastic Pipe - Tubing/Culverts - 18\"","foot",{"$f":"VLOOKUP($D971,costs_components!$B$2:$F$315,3,FALSE)","v":11},"AC",75,null,11,""]
["657","WRP","Wetland Restoration","Corrugated Plastic Pipe - Tubing/Culverts - 24","foot",{"$f":"VLOOKUP($D972,costs_components!$B$2:$F$315,3,FALSE)","v":17.75},"AC",75,null,17.75,""]
["657","WRP","Wetland Restoration","Corrugated Plastic Pipe - Tubing/Culverts - 3\"","foot",{"$f":"VLOOKUP($D973,costs_components!$B$2:$F$315,3,FALSE)","v":0.45},"AC",75,null,0.45,""]
["657","WRP","Wetland Restoration","Corrugated Plastic Pipe - Tubing/Culverts - 4\"","foot",{"$f":"VLOOKUP($D974,costs_components!$B$2:$F$315,3,FALSE)","v":0.5},"AC",75,null,0.5,""]
["657","WRP","Wetland Restoration","Corrugated Plastic Pipe - Tubing/Culverts - 5\"","foot",{"$f":"VLOOKUP($D975,costs_components!$B$2:$F$315,3,FALSE)","v":0.75},"AC",75,null,0.75,""]
["657","WRP","Wetland Restoration","Corrugated Plastic Pipe - Tubing/Culverts - 6\"","foot",{"$f":"VLOOKUP($D976,costs_components!$B$2:$F$315,3,FALSE)","v":1},"AC",75,null,1,""]
["657","WRP","Wetland Restoration","Corrugated Plastic Pipe - Tubing/Culverts - 8\"","foot",{"$f":"VLOOKUP($D977,costs_components!$B$2:$F$315,3,FALSE)","v":2},"AC",75,null,2,""]
["657","WRP","Wetland Restoration","Corrugated Plastic Pipe - Tubing/Culverts w/sock - 10\"","foot",{"$f":"VLOOKUP($D978,costs_components!$B$2:$F$315,3,FALSE)","v":4},"AC",75,null,4,""]
["657","WRP","Wetland Restoration","Corrugated Plastic Pipe - Tubing/Culverts w/sock - 12\"","foot",{"$f":"VLOOKUP($D979,costs_components!$B$2:$F$315,3,FALSE)","v":5.5},"AC",75,null,5.5,""]
["657","WRP","Wetland Restoration","Corrugated Plastic Pipe - Tubing/Culverts w/sock - 15\"","foot",{"$f":"VLOOKUP($D980,costs_components!$B$2:$F$315,3,FALSE)","v":8.75},"AC",75,null,8.75,""]
["657","WRP","Wetland Restoration","Corrugated Plastic Pipe - Tubing/Culverts w/sock - 18\"","foot",{"$f":"VLOOKUP($D981,costs_components!$B$2:$F$315,3,FALSE)","v":12},"AC",75,null,12,""]
["657","WRP","Wetland Restoration","Corrugated Plastic Pipe - Tubing/Culverts w/sock - 24","foot",{"$f":"VLOOKUP($D982,costs_components!$B$2:$F$315,3,FALSE)","v":18.75},"AC",75,null,18.75,""]
["657","WRP","Wetland Restoration","Corrugated Plastic Pipe - Tubing/Culverts w/sock - 3\"","foot",{"$f":"VLOOKUP($D983,costs_components!$B$2:$F$315,3,FALSE)","v":0.6},"AC",75,null,0.6,""]
["657","WRP","Wetland Restoration","Corrugated Plastic Pipe - Tubing/Culverts w/sock - 4\"","foot",{"$f":"VLOOKUP($D984,costs_components!$B$2:$F$315,3,FALSE)","v":0.75},"AC",75,null,0.75,""]
["657","WRP","Wetland Restoration","Corrugated Plastic Pipe - Tubing/Culverts w/sock - 5\"","foot",{"$f":"VLOOKUP($D985,costs_components!$B$2:$F$315,3,FALSE)","v":1},"AC",75,null,1,""]
["657","WRP","Wetland Restoration","Corrugated Plastic Pipe - Tubing/Culverts w/sock - 6\"","foot",{"$f":"VLOOKUP($D986,costs_components!$B$2:$F$315,3,FALSE)","v":1.5},"AC",75,null,1.5,""]
["657","WRP","Wetland Restoration","Corrugated Plastic Pipe - Tubing/Culverts w/sock - 8\"","foot",{"$f":"VLOOKUP($D987,costs_components!$B$2:$F$315,3,FALSE)","v":2.25},"AC",75,null,2.25,""]
["657","WRP","Wetland Restoration","Earth Fill - Class A Compaction - Clay Liners (specified density)","cu.yd.",{"$f":"VLOOKUP($D988,costs_components!$B$2:$F$315,3,FALSE)","v":5.3},"AC",75,null,4.25,"XXX"]
["657","WRP","Wetland Restoration","Earth Fill - Class A Compaction (specified density)","cu.yd.",{"$f":"VLOOKUP($D989,costs_components!$B$2:$F$315,3,FALSE)","v":3.6},"AC",75,null,2.85,"XXX"]
["657","WRP","Wetland Restoration","Earth Fill - Class C Compaction (specified method)","cu.yd.",{"$f":"VLOOKUP($D990,costs_components!$B$2:$F$315,3,FALSE)","v":3},"AC",75,"fill in dug out",2.4,"XXX"]
["657","WRP","Wetland Restoration","Earth Fill (hand compaction)","cu.yd.",{"$f":"VLOOKUP($D991,costs_components!$B$2:$F$315,3,FALSE)","v":7.1},"AC",75,null,5.67,"XXX"]
["657","WRP","Wetland Restoration","Excavation","cu.yd.",{"$f":"VLOOKUP($D992,costs_components!$B$2:$F$315,3,FALSE)","v":4.4000000000000004},"AC",75,"sediment removal",2.1,"XXX"]
["657","WRP","Wetland Restoration","Excavation - Sediment Removal","cu.yd.",{"$f":"VLOOKUP($D993,costs_components!$B$2:$F$315,3,FALSE)","v":8.1},"AC",75,"sediment removal",2.1,{"$f":"IF(F993<>J993,\"XXX\",\"\")","v":"XXX"}]
["657","WRP","Wetland Restoration","Excavation Small Structures","cu.yd.",{"$f":"VLOOKUP($D994,costs_components!$B$2:$F$315,3,FALSE)","v":7.1},"AC",75,null,5.7,"XXX"]
["657","WRP","Wetland Restoration","Fence, Silt","lf.",{"$f":"VLOOKUP($D995,costs_components!$B$2:$F$315,3,FALSE)","v":3.3},"AC",75,null,2.6,"XXX"]
["657","WRP","Wetland Restoration","Formed steel reinforced concrete (4000 psi)","cu.yd.",{"$f":"VLOOKUP($D996,costs_components!$B$2:$F$315,3,FALSE)","v":708.8},"AC",75,null,567,"XXX"]
["657","WRP","Wetland Restoration","Formed steel reinforced concrete (M strength)","cu.yd.",{"$f":"VLOOKUP($D997,costs_components!$B$2:$F$315,3,FALSE)","v":567.5},"AC",75,null,454,"XXX"]
["657","WRP","Wetland Restoration","Gate Valve","dia.in.",{"$f":"VLOOKUP($D998,costs_components!$B$2:$F$315,3,FALSE)","v":56},"AC",75,null,56,""]
["657","WRP","Wetland Restoration","Grade Transition Section","dia.in.",{"$f":"VLOOKUP($D999,costs_components!$B$2:$F$315,3,FALSE)","v":56},"AC",75,null,56,""]
["657","WRP","Wetland Restoration","Grass/Grain Drill","acre",{"$f":"VLOOKUP($D1000,costs_components!$B$2:$F$315,3,FALSE)","v":20},"AC",75,null,20,""]
["657","WRP","Wetland Restoration","Hand Opening Slide Gate","dia.in.",{"$f":"VLOOKUP($D1001,costs_components!$B$2:$F$315,3,FALSE)","v":10},"AC",75,null,10,""]
["657","WRP","Wetland Restoration","Hauling Materials (offsite borrow)","yd/.25mi",{"$f":"VLOOKUP($D1002,costs_components!$B$2:$F$315,3,FALSE)","v":0.2},"AC",75,null,0.14000000000000001,"XXX"]
["657","WRP","Wetland Restoration","Individual Vegetative Plug (Planted)","each",{"$f":"VLOOKUP($D1003,costs_components!$B$2:$F$315,3,FALSE)","v":1},"AC",75,null,1,""]
["657","WRP","Wetland Restoration","Introduced Species (1 to 2 species)","acre",{"$f":"VLOOKUP($D1004,costs_components!$B$2:$F$315,3,FALSE)","v":15.23},"AC",75,null,15.23,""]
["657","WRP","Wetland Restoration","Introduced Species (3 or more species)","acre",{"$f":"VLOOKUP($D1005,costs_components!$B$2:$F$315,3,FALSE)","v":25.59},"AC",75,null,25.59,""]
["657","WRP","Wetland Restoration","Large Diameter Pipe 10\", Head 50 ft (22 psi)","foot",{"$f":"VLOOKUP($D1006,costs_components!$B$2:$F$315,3,FALSE)","v":2.2000000000000002},"AC",75,null,2.2000000000000002,""]
["657","WRP","Wetland Restoration","Large Diameter Pipe 10\", SDR-26 (160 psi)","foot",{"$f":"VLOOKUP($D1007,costs_components!$B$2:$F$315,3,FALSE)","v":10.4},"AC",75,null,10.4,{"$f":"IF(F1007<>J1007,\"XXX\",\"\")","v":""}]
["657","WRP","Wetland Restoration","Large Diameter Pipe 10\", SDR-32.5 (125 psi)","foot",{"$f":"VLOOKUP($D1008,costs_components!$B$2:$F$315,3,FALSE)","v":7.3},"AC",75,null,7.3,""]
["657","WRP","Wetland Restoration","Large Diameter Pipe 10\", SDR-41 (100 psi)","foot",{"$f":"VLOOKUP($D1009,costs_components!$B$2:$F$315,3,FALSE)","v":4.25},"AC",75,null,6,"XXX"]
["657","WRP","Wetland Restoration","Large Diameter Pipe 10\", SDR-51 (80 psi)","foot",{"$f":"VLOOKUP($D1010,costs_components!$B$2:$F$315,3,FALSE)","v":3.41},"AC",75,null,5,"XXX"]
["657","WRP","Wetland Restoration","Large Diameter Pipe 10\", SDR-81 (50 psi)","foot",{"$f":"VLOOKUP($D1011,costs_components!$B$2:$F$315,3,FALSE)","v":3.1},"AC",75,null,3.6,"XXX"]
["657","WRP","Wetland Restoration","Large Diameter Pipe 12\", Head 50 ft (22 psi)","foot",{"$f":"VLOOKUP($D1012,costs_components!$B$2:$F$315,3,FALSE)","v":2.6},"AC",75,null,2.6,""]
["657","WRP","Wetland Restoration","Large Diameter Pipe 12\", SDR-26 (160 psi)","foot",{"$f":"VLOOKUP($D1013,costs_components!$B$2:$F$315,3,FALSE)","v":14.6},"AC",75,null,14.6,""]
["657","WRP","Wetland Restoration","Large Diameter Pipe 12\", SDR-32.5 (125 psi)","foot",{"$f":"VLOOKUP($D1014,costs_components!$B$2:$F$315,3,FALSE)","v":10.4},"AC",75,null,10.4,""]
["657","WRP","Wetland Restoration","Large Diameter Pipe 12\", SDR-41 (100 psi)","foot",{"$f":"VLOOKUP($D1015,costs_components!$B$2:$F$315,3,FALSE)","v":6.13},"AC",75,null,7.75,"XXX"]
["657","WRP","Wetland Restoration","Large Diameter Pipe 12\", SDR-51 (80 psi)","foot",{"$f":"VLOOKUP($D1016,costs_components!$B$2:$F$315,3,FALSE)","v":4.84},"AC",75,null,6.9,"XXX"]
["657","WRP","Wetland Restoration","Large Diameter Pipe 12\", SDR-81 (50 psi)","foot",{"$f":"VLOOKUP($D1017,costs_components!$B$2:$F$315,3,FALSE)","v":4.25},"AC",75,null,4.55,"XXX"]
["657","WRP","Wetland Restoration","Large Diameter Pipe 15\", Head 50 ft (22 psi)","foot",{"$f":"VLOOKUP($D1018,costs_components!$B$2:$F$315,3,FALSE)","v":4.2},"AC",75,null,4.2,""]
["657","WRP","Wetland Restoration","Large Diameter Pipe 15\", SDR-26 (160 psi)","foot",{"$f":"VLOOKUP($D1019,costs_components!$B$2:$F$315,3,FALSE)","v":20.95},"AC",75,null,20.95,""]
["657","WRP","Wetland Restoration","Large Diameter Pipe 15\", SDR-32.5 (125 psi)","foot",{"$f":"VLOOKUP($D1020,costs_components!$B$2:$F$315,3,FALSE)","v":16.649999999999999},"AC",75,null,16.649999999999999,""]
["657","WRP","Wetland Restoration","Large Diameter Pipe 15\", SDR-41 (100 psi)","foot",{"$f":"VLOOKUP($D1021,costs_components!$B$2:$F$315,3,FALSE)","v":8.4600000000000009},"AC",75,null,13.35,"XXX"]
["657","WRP","Wetland Restoration","Large Diameter Pipe 15\", SDR-51 (80 psi)","foot",{"$f":"VLOOKUP($D1022,costs_components!$B$2:$F$315,3,FALSE)","v":6.8},"AC",75,null,11,"XXX"]
["657","WRP","Wetland Restoration","Large Diameter Pipe 15\", SDR-81 (50 psi)","foot",{"$f":"VLOOKUP($D1023,costs_components!$B$2:$F$315,3,FALSE)","v":5.75},"AC",75,null,7,"XXX"]
["657","WRP","Wetland Restoration","Large Diameter Pipe 18\", SDR-26 (160 psi)","foot",{"$f":"VLOOKUP($D1024,costs_components!$B$2:$F$315,3,FALSE)","v":32},"AC",75,null,32,""]
["657","WRP","Wetland Restoration","Large Diameter Pipe 18\", SDR-32.5 (125 psi)","foot",{"$f":"VLOOKUP($D1025,costs_components!$B$2:$F$315,3,FALSE)","v":25.15},"AC",75,null,25.15,""]
["657","WRP","Wetland Restoration","Large Diameter Pipe 18\", SDR-41 (100 psi)","foot",{"$f":"VLOOKUP($D1026,costs_components!$B$2:$F$315,3,FALSE)","v":20},"AC",75,null,20,""]
["657","WRP","Wetland Restoration","Large Diameter Pipe 18\", SDR-51 (80 psi)","foot",{"$f":"VLOOKUP($D1027,costs_components!$B$2:$F$315,3,FALSE)","v":16.7},"AC",75,null,16.7,""]
["657","WRP","Wetland Restoration","Large Diameter Pipe 18\", SDR-81 (50 psi)","foot",{"$f":"VLOOKUP($D1028,costs_components!$B$2:$F$315,3,FALSE)","v":12.5},"AC",75,null,12.5,""]
["657","WRP","Wetland Restoration","Large Diameter Pipe 21\", SDR-32.5 (125 psi)","foot",{"$f":"VLOOKUP($D1029,costs_components!$B$2:$F$315,3,FALSE)","v":36.4},"AC",75,null,36.4,""]
["657","WRP","Wetland Restoration","Large Diameter Pipe 21\", SDR-41 (100 psi)","foot",{"$f":"VLOOKUP($D1030,costs_components!$B$2:$F$315,3,FALSE)","v":28.4},"AC",75,null,28.4,""]
["657","WRP","Wetland Restoration","Large Diameter Pipe 21\", SDR-51 (80 psi)","foot",{"$f":"VLOOKUP($D1031,costs_components!$B$2:$F$315,3,FALSE)","v":24},"AC",75,null,24,""]
["657","WRP","Wetland Restoration","Large Diameter Pipe 21\", SDR-81 (50 psi)","foot",{"$f":"VLOOKUP($D1032,costs_components!$B$2:$F$315,3,FALSE)","v":18.05},"AC",75,null,18.05,""]
["657","WRP","Wetland Restoration","Large Diameter Pipe 24\", SDR-32.5 (125 psi)","foot",{"$f":"VLOOKUP($D1033,costs_components!$B$2:$F$315,3,FALSE)","v":46.2},"AC",75,null,46.2,""]
["657","WRP","Wetland Restoration","Large Diameter Pipe 24\", SDR-41 (100 psi)","foot",{"$f":"VLOOKUP($D1034,costs_components!$B$2:$F$315,3,FALSE)","v":37.200000000000003},"AC",75,null,37.200000000000003,""]
["657","WRP","Wetland Restoration","Large Diameter Pipe 24\", SDR-51 (80 psi)","foot",{"$f":"VLOOKUP($D1035,costs_components!$B$2:$F$315,3,FALSE)","v":30.35},"AC",75,null,30.35,""]
["657","WRP","Wetland Restoration","Large Diameter Pipe 24\", SDR-81 (50 psi)","foot",{"$f":"VLOOKUP($D1036,costs_components!$B$2:$F$315,3,FALSE)","v":20.85},"AC",75,null,20.85,""]
["657","WRP","Wetland Restoration","Large Diameter Pipe 6\", Head 50 ft (22 psi)","foot",{"$f":"VLOOKUP($D1037,costs_components!$B$2:$F$315,3,FALSE)","v":1.1499999999999999},"AC",75,null,1.1499999999999999,""]
["657","WRP","Wetland Restoration","Large Diameter Pipe 6\", SDR-26 (160 psi)","foot",{"$f":"VLOOKUP($D1038,costs_components!$B$2:$F$315,3,FALSE)","v":4.25},"AC",75,null,4.25,""]
["657","WRP","Wetland Restoration","Large Diameter Pipe 6\", SDR-32.5 (125 psi)","foot",{"$f":"VLOOKUP($D1039,costs_components!$B$2:$F$315,3,FALSE)","v":2.8},"AC",75,null,2.8,""]
["657","WRP","Wetland Restoration","Large Diameter Pipe 6\", SDR-41 (100 psi)","foot",{"$f":"VLOOKUP($D1040,costs_components!$B$2:$F$315,3,FALSE)","v":2.4},"AC",75,null,2.4,""]
["657","WRP","Wetland Restoration","Large Diameter Pipe 6\", SDR-51 (80 psi)","foot",{"$f":"VLOOKUP($D1041,costs_components!$B$2:$F$315,3,FALSE)","v":2.1},"AC",75,null,2.1,""]
["657","WRP","Wetland Restoration","Large Diameter Pipe 6\", SDR-81 (50 psi)","foot",{"$f":"VLOOKUP($D1042,costs_components!$B$2:$F$315,3,FALSE)","v":1.5},"AC",75,null,1.5,""]
["657","WRP","Wetland Restoration","Large Diameter Pipe 8\", Head 50 ft (22 psi)","foot",{"$f":"VLOOKUP($D1043,costs_components!$B$2:$F$315,3,FALSE)","v":1.5},"AC",75,null,1.5,""]
["657","WRP","Wetland Restoration","Large Diameter Pipe 8\", SDR-26 (160 psi)","foot",{"$f":"VLOOKUP($D1044,costs_components!$B$2:$F$315,3,FALSE)","v":6.7},"AC",75,null,6.7,""]
["657","WRP","Wetland Restoration","Large Diameter Pipe 8\", SDR-32.5 (125 psi)","foot",{"$f":"VLOOKUP($D1045,costs_components!$B$2:$F$315,3,FALSE)","v":4.8},"AC",75,null,4.8,""]
["657","WRP","Wetland Restoration","Large Diameter Pipe 8\", SDR-41 (100 psi)","foot",{"$f":"VLOOKUP($D1046,costs_components!$B$2:$F$315,3,FALSE)","v":2.71},"AC",75,null,4.05,"XXX"]
["657","WRP","Wetland Restoration","Large Diameter Pipe 8\", SDR-51 (80 psi)","foot",{"$f":"VLOOKUP($D1047,costs_components!$B$2:$F$315,3,FALSE)","v":2.2799999999999998},"AC",75,null,3.4,"XXX"]
["657","WRP","Wetland Restoration","Large Diameter Pipe 8\", SDR-81 (50 psi)","foot",{"$f":"VLOOKUP($D1048,costs_components!$B$2:$F$315,3,FALSE)","v":2.1},"AC",75,null,2.5,"XXX"]
["657","WRP","Wetland Restoration","Mechanical Seedbed Preparation (per time)","acre",{"$f":"VLOOKUP($D1049,costs_components!$B$2:$F$315,3,FALSE)","v":12},"AC",75,null,20,"XXX"]
["657","WRP","Wetland Restoration","Mechanical weed control","acre",{"$f":"VLOOKUP($D1050,costs_components!$B$2:$F$315,3,FALSE)","v":12},"AC",75,null,12,""]
["657","WRP","Wetland Restoration","Native and Introduced Species","acre",{"$f":"VLOOKUP($D1051,costs_components!$B$2:$F$315,3,FALSE)","v":41.97},"AC",75,null,41.97,""]
["657","WRP","Wetland Restoration","Native Grass Mix","acre",{"$f":"VLOOKUP($D1052,costs_components!$B$2:$F$315,3,FALSE)","v":100},"AC",75,null,100,""]
["657","WRP","Wetland Restoration","Native Grass with Shrub and/or Forb Species","acre",{"$f":"VLOOKUP($D1053,costs_components!$B$2:$F$315,3,FALSE)","v":100},"AC",75,null,88.78,"XXX"]
["657","WRP","Wetland Restoration","Non-reinforced concrete or cement bedding/grouting","cu.yd.",{"$f":"VLOOKUP($D1054,costs_components!$B$2:$F$315,3,FALSE)","v":216.3},"AC",75,null,173,"XXX"]
["657","WRP","Wetland Restoration","Preservation-treated Lumber","bd.ft.",{"$f":"VLOOKUP($D1055,costs_components!$B$2:$F$315,3,FALSE)","v":4.05},"AC",75,null,4.05,""]
["657","WRP","Wetland Restoration","Pressure Relief Valve","dia.in.",{"$f":"VLOOKUP($D1056,costs_components!$B$2:$F$315,3,FALSE)","v":66},"AC",75,null,66,""]
["657","WRP","Wetland Restoration","Redwood","bd.ft.",{"$f":"VLOOKUP($D1057,costs_components!$B$2:$F$315,3,FALSE)","v":4.05},"AC",75,null,4.05,""]
["657","WRP","Wetland Restoration","Reverse Flow Check Valve","dia.in.",{"$f":"VLOOKUP($D1058,costs_components!$B$2:$F$315,3,FALSE)","v":39},"AC",75,null,39,""]
["657","WRP","Wetland Restoration","Site Clearing","acre",{"$f":"VLOOKUP($D1059,costs_components!$B$2:$F$315,3,FALSE)","v":1350},"AC",75,null,1200,"XXX"]
["657","WRP","Wetland Restoration","Steel reinforced concrete flatwork","cu.yd.",{"$f":"VLOOKUP($D1060,costs_components!$B$2:$F$315,3,FALSE)","v":392.5},"AC",75,null,314,"XXX"]
["657","WRP","Wetland Restoration","Structural Steel","lb.",{"$f":"VLOOKUP($D1061,costs_components!$B$2:$F$315,3,FALSE)","v":5.7},"AC",75,null,4.59,"XXX"]
["657","WRP","Wetland Restoration","Structure Removal","acre",{"$f":"VLOOKUP($D1062,costs_components!$B$2:$F$315,3,FALSE)","v":1350},"AC",75,null,1080,"XXX"]
["657","WRP","Wetland Restoration","Surge Valve 6\"-12\" (installed)","dia.in.",{"$f":"VLOOKUP($D1063,costs_components!$B$2:$F$315,3,FALSE)","v":248},"AC",75,null,248,""]
["657","WRP","Wetland Restoration","Synthetic composites","bd.ft.",{"$f":"VLOOKUP($D1064,costs_components!$B$2:$F$315,3,FALSE)","v":4.05},"AC",75,null,4.05,""]
["657","WRP","Wetland Restoration","Temporary Cover","acre",{"$f":"VLOOKUP($D1065,costs_components!$B$2:$F$315,3,FALSE)","v":20},"AC",75,null,20,""]
["657","WRP","Wetland Restoration","Topsoil - salvage and re-spreading","sq.yd.",{"$f":"VLOOKUP($D1066,costs_components!$B$2:$F$315,3,FALSE)","v":0.6},"AC",75,null,0.51,"XXX"]
["657","WRP","Wetland Restoration","Wetland Restoration - Ditch Plug","struct",{"$f":"VLOOKUP($D1067,costs_components!$B$2:$F$315,3,FALSE)","v":1000},"AC",75,"ditch plug",340,"XXX"]
["657","WRP","Wetland Restoration","Wheel Opening Slide Gate","dia.in.",{"$f":"VLOOKUP($D1068,costs_components!$B$2:$F$315,3,FALSE)","v":49},"AC",75,null,49,""]
["657","WRP","Wetland Restoration","Wood Piling/construction poles (per dia. in. butt thickness)","lf-in.",{"$f":"VLOOKUP($D1069,costs_components!$B$2:$F$315,3,FALSE)","v":1.1000000000000001},"AC",75,null,1.1000000000000001,""]
["658","WRP","Wetland Creation","Earth Fill - Class A Compaction - Clay Liners (specified density)","cu.yd.",{"$f":"VLOOKUP($D1070,costs_components!$B$2:$F$315,3,FALSE)","v":5.3},"AC",75,null,4.25,"XXX"]
["658","WRP","Wetland Creation","Earth Fill - Class A Compaction (specified density)","cu.yd.",{"$f":"VLOOKUP($D1071,costs_components!$B$2:$F$315,3,FALSE)","v":3.6},"AC",75,null,2.85,{"$f":"IF(F1071<>J1071,\"XXX\",\"\")","v":"XXX"}]
["658","WRP","Wetland Creation","Earth Fill - Class C Compaction (specified method)","cu.yd.",{"$f":"VLOOKUP($D1072,costs_components!$B$2:$F$315,3,FALSE)","v":3},"AC",75,null,2.4,"XXX"]
["658","WRP","Wetland Creation","Excavation","cu.yd.",{"$f":"VLOOKUP($D1073,costs_components!$B$2:$F$315,3,FALSE)","v":4.4000000000000004},"AC",75,null,2.1,"XXX"]
["658","WRP","Wetland Creation","Fence, Silt","lf.",{"$f":"VLOOKUP($D1074,costs_components!$B$2:$F$315,3,FALSE)","v":3.3},"AC",75,null,2.6,"XXX"]
["659","WRP","Wetland Enhancement","Earth Fill - Class A Compaction - Clay Liners (specified density)","cu.yd.",{"$f":"VLOOKUP($D1075,costs_components!$B$2:$F$315,3,FALSE)","v":5.3},"AC",75,null,4.25,"XXX"]
["659","WRP","Wetland Enhancement","Earth Fill - Class A Compaction (specified density)","cu.yd.",{"$f":"VLOOKUP($D1076,costs_components!$B$2:$F$315,3,FALSE)","v":3.6},"AC",75,null,2.85,"XXX"]
["659","WRP","Wetland Enhancement","Earth Fill - Class C Compaction (specified method)","cu.yd.",{"$f":"VLOOKUP($D1077,costs_components!$B$2:$F$315,3,FALSE)","v":3},"AC",75,null,2.4,"XXX"]
["659","WRP","Wetland Enhancement","Excavation","cu.yd.",{"$f":"VLOOKUP($D1078,costs_components!$B$2:$F$315,3,FALSE)","v":4.4000000000000004},"AC",75,null,2.1,"XXX"]
["659","WRP","Wetland Enhancement","Fence, Silt","lf.",{"$f":"VLOOKUP($D1079,costs_components!$B$2:$F$315,3,FALSE)","v":3.3},"AC",75,null,2.6,"XXX"]

{"sheet":"costs_components","index":12,"n_rows":315,"n_cols":10,"rows_kept":315,"cut":false,"hidden":true,"merged":[]}
[null,"Component","Unit_Type","Unit_Cost","Cost_Type","Share_Rate",null,"Table","fy15","fy13"]
[null,"Air Relief Valve","dia.in.",44,"AC",75,null,"B",{"$f":"D2","v":44},44]
[null,"Alfalfa Valve 8\"-12\" (installed)","dia.in.",22,"AC",75,null,"B",22,22]
[null,"Alternative pumping plant power source - Engineer's Estimate","each",0,"AC",75,null,"C",0,0]
[null,"Anchor mulch w/netting","sq.yd.",1.1000000000000001,"AC",75,null,"D",1.1000000000000001,1.1000000000000001]
[null,"Anchor mulch w/treader","sq.yd.",0.16,"AC",75,null,"D",0.16,0.16]
[null,"Anti-Seep Collar, Butyl Rubber/Neoprene With Wood Frame","sqft.",3.25,"AC",75,null,"B",3.25,3.25]
[null,"Cedar","bd.ft.",4.05,"AC",75,null,"C",4.05,4.05]
[null,"Chemical for Weed or Pest Control","acre",25,"AC",75,null,"D,G",25,20]
[null,"Chemical Seedbed Preparation","acre",20,"AC",75,null,"D",20,20]
[null,"Chemical Site Preparation - trees or shrubs","acre",20,"AC",75,null,"F",20,20]
[null,"Chemical weed control - trees or shrubs","100ft.",8,"AC",75,null,"F",8,8]
[null,"CMP Aluminum, CR/CS, 10 gauge","lf-in.",4.09,"AC",75,null,"B",4.09,4.09]
[null,"CMP Aluminum, CR/CS, 12 gauge","lf-in.",3.23,"AC",75,null,"B",3.23,3.23]
[null,"CMP Aluminum, CR/CS, 14 gauge","lf-in.",2.58,"AC",75,null,"B",2.58,2.58]
[null,"CMP Aluminum, CR/CS, 16 gauge","lf-in.",2.15,"AC",75,null,"B",2.15,2.15]
[null,"CMP Standard Galvanized Steel, CR/CS, 10 gauge","lf-in.",3.71,"AC",75,null,"B",3.71,3.71]
[null,"CMP Standard Galvanized Steel, CR/CS, 12 gauge","lf-in.",2.93,"AC",75,null,"B",2.93,2.93]
[null,"CMP Standard Galvanized Steel, CR/CS, 14 gauge","lf-in.",2.34,"AC",75,null,"B",2.34,2.34]
[null,"CMP Standard Galvanized Steel, CR/CS, 16 gauge","lf-in.",1.95,"AC",75,null,"B",1.95,1.95]
[null,"CMP Steel, Polymeric Coated 10 gauge","lf-in.",3.99,"AC",75,null,"B",3.99,3.99]
[null,"CMP Steel, Polymeric Coated 12 gauge","lf-in.",3.15,"AC",75,null,"B",3.15,3.15]
[null,"CMP Steel, Polymeric Coated 14 gauge","lf-in.",2.52,"AC",75,null,"B",2.52,2.52]
[null,"CMP Steel, Polymeric Coated 16 gauge","lf-in.",2.1,"AC",75,null,"B",2.1,2.1]
[null,"CMP Steel, Polymeric Coated, CR/CS 10 gauge","lf-in.",4.75,"AC",75,null,"B",4.75,4.75]
[null,"CMP Steel, Polymeric Coated, CR/CS 12 gauge","lf-in.",3.75,"AC",75,null,"B",3.75,3.75]
[null,"CMP Steel, Polymeric Coated, CR/CS 14 gauge","lf-in.",3,"AC",75,null,"B",3,3]
[null,"CMP Steel, Polymeric Coated, CR/CS 16 gauge","lf-in.",2.5,"AC",75,null,"B",2.5,2.5]
[null,"CMP, Anti-Seep Diaphram - PC Steel, 2 piece, watertight coupling, rods/lugs","dia.in.",46.25,"AC",75,null,"B",46.25,46.25]
[null,"CMP, Anti-Seep Diaphram - SG Steel, 2 piece, watertight coupling, rods/lugs","dia.in.",33.25,"AC",75,null,"B",33.25,33.25]
[null,"CMP, Anti-Vortex Vane,  SG Steel, for hooded inlets","dia.in.",3.5,"AC",75,null,"B",3.5,3.5]
[null,"CMP, Conical Trash Rack, SG Steel 36\" and less (base on riser dia.)","dia.in.",39.75,"AC",75,null,"B",39.75,39.75]
[null,"CMP, Conical Trash Rack, SG Steel 42\" and over (base on riser dia.)","dia.in.",66.25,"AC",75,null,"B",66.25,66.25]
[null,"CMP, Connecting Band - Aluminum - 12\" wide 12 gauge","dia.in.",3.83,"AC",75,null,"B",3.83,3.83]
[null,"CMP, Connecting Band - Aluminum - 12\" wide 14 gauge","dia.in.",2.7,"AC",75,null,"B",2.7,2.7]
[null,"CMP, Connecting Band - Aluminum - 12\" wide 16 gauge","dia.in.",2.25,"AC",75,null,"B",2.25,2.25]
[null,"CMP, Connecting Band - Aluminum - 24\" wide 12 gauge","dia.in.",7.23,"AC",75,null,"B",7.23,7.23]
[null,"CMP, Connecting Band - Aluminum - 24\" wide 14 gauge","dia.in.",5.0999999999999996,"AC",75,null,"B",5.0999999999999996,5.0999999999999996]
[null,"CMP, Connecting Band - Aluminum - 24\" wide 16 gauge","dia.in.",4.25,"AC",75,null,"B",4.25,4.25]
[null,"CMP, Connecting Band - Aluminum - 7 1/2\" wide 12 gauge","dia.in.",2.5499999999999998,"AC",75,null,"B",2.5499999999999998,2.5499999999999998]
[null,"CMP, Connecting Band - Aluminum - 7 1/2\" wide 14 gauge","dia.in.",1.8,"AC",75,null,"B",1.8,1.8]
[null,"CMP, Connecting Band - Aluminum - 7 1/2\" wide 16 gauge","dia.in.",1.5,"AC",75,null,"B",1.5,1.5]
[null,"CMP, Connecting Band - Polymeric Coated Steel - 12\" wide 12 gauge","dia.in.",4.68,"AC",75,null,"B",4.68,4.68]
[null,"CMP, Connecting Band - Polymeric Coated Steel - 12\" wide 14 gauge","dia.in.",3.3,"AC",75,null,"B",3.3,3.3]
[null,"CMP, Connecting Band - Polymeric Coated Steel - 12\" wide 16 gauge","dia.in.",2.75,"AC",75,null,"B",2.75,2.75]
[null,"CMP, Connecting Band - Polymeric Coated Steel - 24\" wide 12 gauge","dia.in.",9.35,"AC",75,null,"B",9.35,9.35]
[null,"CMP, Connecting Band - Polymeric Coated Steel - 24\" wide 14 gauge","dia.in.",6.6,"AC",75,null,"B",6.6,6.6]
[null,"CMP, Connecting Band - Polymeric Coated Steel - 24\" wide 16 gauge","dia.in.",5.5,"AC",75,null,"B",5.5,5.5]
[null,"CMP, Connecting Band - Polymeric Coated Steel - 7 1/2\" wide 12 gauge","dia.in.",3.4,"AC",75,null,"B",3.4,3.4]
[null,"CMP, Connecting Band - Polymeric Coated Steel - 7 1/2\" wide 14 gauge","dia.in.",2.4,"AC",75,null,"B",2.4,2.4]
[null,"CMP, Connecting Band - Polymeric Coated Steel - 7 1/2\" wide 16 gauge","dia.in.",2,"AC",75,null,"B",2,2]
[null,"CMP, Connecting Band - Standard Galvanized Steel - 12\" wide 12 gauge","dia.in.",3.4,"AC",75,null,"B",3.4,3.4]
[null,"CMP, Connecting Band - Standard Galvanized Steel - 12\" wide 14 gauge","dia.in.",2.4,"AC",75,null,"B",2.4,2.4]
[null,"CMP, Connecting Band - Standard Galvanized Steel - 12\" wide 16 gauge","dia.in.",2,"AC",75,null,"B",2,2]
[null,"CMP, Connecting Band - Standard Galvanized Steel - 24\" wide 12 gauge","dia.in.",6.38,"AC",75,null,"B",6.38,6.38]
[null,"CMP, Connecting Band - Standard Galvanized Steel - 24\" wide 14 gauge","dia.in.",4.5,"AC",75,null,"B",4.5,4.5]
[null,"CMP, Connecting Band - Standard Galvanized Steel - 24\" wide 16 gauge","dia.in.",3.75,"AC",75,null,"B",3.75,3.75]
[null,"CMP, Connecting Band - Standard Galvanized Steel - 7 1/2\" wide 12 gauge","dia.in.",2.5499999999999998,"AC",75,null,"B",2.5499999999999998,2.5499999999999998]
[null,"CMP, Connecting Band - Standard Galvanized Steel - 7 1/2\" wide 14 gauge","dia.in.",1.8,"AC",75,null,"B",1.8,1.8]
[null,"CMP, Connecting Band - Standard Galvanized Steel - 7 1/2\" wide 16 gauge","dia.in.",1.5,"AC",75,null,"B",1.5,1.5]
[null,"CMP, Connecting Band - Watertight PC Steel, incl. 4 rods/lugs - 24\" wide 12 gauge","dia.in.",16.579999999999998,"AC",75,null,"B",16.579999999999998,16.579999999999998]
[null,"CMP, Connecting Band - Watertight PC Steel, incl. 4 rods/lugs - 24\" wide 14 gauge","dia.in.",11.7,"AC",75,null,"B",11.7,11.7]
[null,"CMP, Connecting Band - Watertight PC Steel, incl. 4 rods/lugs - 24\" wide 16 gauge","dia.in.",9.75,"AC",75,null,"B",9.75,9.75]
[null,"CMP, Connecting Band - Watertight SG Steel, incl. 4 rods/lugs - 24\" wide 12 gauge","dia.in.",12.33,"AC",75,null,"B",12.33,12.33]
[null,"CMP, Connecting Band - Watertight SG Steel, incl. 4 rods/lugs - 24\" wide 14 gauge","dia.in.",8.6999999999999993,"AC",75,null,"B",8.6999999999999993,8.6999999999999993]
[null,"CMP, Connecting Band - Watertight SG Steel, incl. 4 rods/lugs - 24\" wide 16 gauge","dia.in.",7.25,"AC",75,null,"B",{"$f":"D66","v":7.25},7.25]
[null,"CMP, End Section 12\"-24\" diameter","dia.in.",8.5,"AC",75,null,"B",8.5,8.5]
[null,"CMP, End Section 30\"-36\" diameter","dia.in.",13.25,"AC",75,null,"B",13.25,13.25]
[null,"CMP, End Section 42\"-54\" diameter","dia.in.",25,"AC",75,null,"B",25,25]
[null,"CMP, End Section 60\" and larger diameter","dia.in.",33,"AC",75,null,"B",33,33]
[null,"CMP, Fabricated Trash Rack, SG Steel, based on riser diameter","dia.in.",20,"AC",75,null,"B",20,20]
[null,"CMP, Fabrication (labor only) - Elbows","dia.in.",10,"AC",75,null,"B",10,10]
[null,"CMP, Fabrication (labor only) - Skewed or Beveled Ends","dia.in.",6,"AC",75,null,"B",6,6]
[null,"CMP, Fabrication (labor only) - Tees, Wyes, and Riser Stubs","dia.in.",13.25,"AC",75,null,"B",13.25,13.25]
[null,"CMP, Flap Gate, SG Steel","dia.in.",20,"AC",75,null,"B",20,20]
[null,"CMP, Hooded Inlet Baffle Plate - SG Steel, double angle iron","dia.in.",15.5,"AC",75,null,"B",15.5,15.5]
[null,"CMP, Screen or End Cap, SG Steel","dia.in.",8.25,"AC",75,null,"B",8.25,8.25]
[null,"CMP, Splitter Type Anti-Vortex Wall - SG Steel (base on riser diameter)","dia.in.",8.5,"AC",75,null,"B",8.5,8.5]
[null,"CMP, Standard Aluminum 10 gauge","lf-in.",3.42,"AC",75,null,"B",3.42,3.42]
[null,"CMP, Standard Aluminum 12 gauge","lf-in.",2.7,"AC",75,null,"B",2.7,2.7]
[null,"CMP, Standard Aluminum 14 gauge","lf-in.",2.16,"AC",75,null,"B",2.16,2.16]
[null,"CMP, Standard Aluminum 16 gauge","lf-in.",1.8,"AC",75,null,"B",1.8,1.8]
[null,"CMP, Standard Galvanized Steel 10 gauge","lf-in.",2.79,"AC",75,null,"B",2.79,2.79]
[null,"CMP, Standard Galvanized Steel 12 gauge","lf-in.",2.21,"AC",75,null,"B",2.21,2.21]
[null,"CMP, Standard Galvanized Steel 14 gauge","lf-in.",1.76,"AC",75,null,"B",1.76,1.76]
[null,"CMP, Standard Galvanized Steel 16 gauge","lf-in.",1.47,"AC",75,null,"B",1.47,1.47]
[null,"CMP, Weir Trash Rack, SG Steel, for hooded inlets","dia.in.",13.25,"AC",75,null,"B",13.25,13.25]
[null,"Corrugated Plastic Pipe - Dual-Wall Pipe 10\"","foot",5.75,"AC",75,null,"B",5.75,5.75]
[null,"Corrugated Plastic Pipe - Dual-Wall Pipe 12\"","foot",7.5,"AC",75,null,"B",7.5,7.5]
[null,"Corrugated Plastic Pipe - Dual-Wall Pipe 15\"","foot",9,"AC",75,null,"B",9,9]
[null,"Corrugated Plastic Pipe - Dual-Wall Pipe 18\"","foot",14.25,"AC",75,null,"B",14.25,14.25]
[null,"Corrugated Plastic Pipe - Dual-Wall Pipe 24\"","foot",21.75,"AC",75,null,"B",21.75,21.75]
[null,"Corrugated Plastic Pipe - Dual-Wall Pipe 4\"","foot",1.1000000000000001,"AC",75,null,"B",1.1000000000000001,1.1000000000000001]
[null,"Corrugated Plastic Pipe - Dual-Wall Pipe 6\"","foot",2.5,"AC",75,null,"B",2.5,2.5]
[null,"Corrugated Plastic Pipe - Dual-Wall Pipe 8\"","foot",4,"AC",75,null,"B",4,4]
[null,"Corrugated Plastic Pipe - End Section 10\"","each",80,"AC",75,null,"B",80,80]
[null,"Corrugated Plastic Pipe - End Section 12\"","each",93.25,"AC",75,null,"B",93.25,93.25]
[null,"Corrugated Plastic Pipe - End Section 15\"","each",116.5,"AC",75,null,"B",116.5,116.5]
[null,"Corrugated Plastic Pipe - End Section 18\"","each",153,"AC",75,null,"B",153,153]
[null,"Corrugated Plastic Pipe - End Section 24\"","each",225.75,"AC",75,null,"B",225.75,225.75]
[null,"Corrugated Plastic Pipe - End Section 8\"","each",73,"AC",75,null,"B",73,73]
[null,"Corrugated Plastic Pipe - Gasketed Sleeve Coupler 12\"","each",35.25,"AC",75,null,"B",35.25,35.25]
[null,"Corrugated Plastic Pipe - Gasketed Sleeve Coupler 15\"","each",51.5,"AC",75,null,"B",51.5,51.5]
[null,"Corrugated Plastic Pipe - Gasketed Sleeve Coupler 18\"","each",70,"AC",75,null,"B",70,70]
[null,"Corrugated Plastic Pipe - Gasketed Sleeve Coupler 24\"","each",215.75,"AC",75,null,"B",215.75,215.75]
[null,"Corrugated Plastic Pipe - Plastic Anti-Seep Collar (4X4) 10\"","each",174,"AC",75,null,"B",174,174]
[null,"Corrugated Plastic Pipe - Plastic Anti-Seep Collar (4X4) 12\"","each",178,"AC",75,null,"B",178,178]
[null,"Corrugated Plastic Pipe - Plastic Anti-Seep Collar (4X4) 15\"","each",188.75,"AC",75,null,"B",188.75,188.75]
[null,"Corrugated Plastic Pipe - Plastic Anti-Seep Collar (4X4) 18\"","each",194,"AC",75,null,"B",194,194]
[null,"Corrugated Plastic Pipe - Plastic Anti-Seep Collar (4X4) 24\"","each",215.75,"AC",75,null,"B",215.75,215.75]
[null,"Corrugated Plastic Pipe - Plastic Anti-Seep Collar (4X4) 4\"","each",156.5,"AC",75,null,"B",156.5,156.5]
[null,"Corrugated Plastic Pipe - Plastic Anti-Seep Collar (4X4) 6\"","each",155.75,"AC",75,null,"B",155.75,155.75]
[null,"Corrugated Plastic Pipe - Plastic Anti-Seep Collar (4X4) 8\"","each",161.75,"AC",75,null,"B",161.75,161.75]
[null,"Corrugated Plastic Pipe - Rodent Guard 10\"","each",29,"AC",75,null,"B",29,29]
[null,"Corrugated Plastic Pipe - Rodent Guard 12\"","each",37.25,"AC",75,null,"B",37.25,37.25]
[null,"Corrugated Plastic Pipe - Rodent Guard 15\"","each",55.25,"AC",75,null,"B",55.25,55.25]
[null,"Corrugated Plastic Pipe - Rodent Guard 18\"","each",94.5,"AC",75,null,"B",94.5,94.5]
[null,"Corrugated Plastic Pipe - Rodent Guard 24\"","each",122,"AC",75,null,"B",122,122]
[null,"Corrugated Plastic Pipe - Rodent Guard 4\"","each",16,"AC",75,null,"B",16,16]
[null,"Corrugated Plastic Pipe - Rodent Guard 6\"","each",18,"AC",75,null,"B",18,18]
[null,"Corrugated Plastic Pipe - Rodent Guard 8\"","each",22.5,"AC",75,null,"B",22.5,22.5]
[null,"Corrugated Plastic Pipe - Soil-Tight Split Coupler 12\"","each",23.5,"AC",75,null,"B",23.5,23.5]
[null,"Corrugated Plastic Pipe - Soil-Tight Split Coupler 18\"","each",36.5,"AC",75,null,"B",36.5,36.5]
[null,"Corrugated Plastic Pipe - Soil-Tight Split Coupler 24\"","each",54,"AC",75,null,"B",54,54]
[null,"Corrugated Plastic Pipe - Split Coupler 10\"","each",6,"AC",75,null,"B",6,6]
[null,"Corrugated Plastic Pipe - Split Coupler 12\"","each",8,"AC",75,null,"B",8,8]
[null,"Corrugated Plastic Pipe - Split Coupler 15\"","each",13.75,"AC",75,null,"B",13.75,13.75]
[null,"Corrugated Plastic Pipe - Split Coupler 18\"","each",18.5,"AC",75,null,"B",18.5,18.5]
[null,"Corrugated Plastic Pipe - Split Coupler 24\"","each",29.75,"AC",75,null,"B",29.75,29.75]
[null,"Corrugated Plastic Pipe - Split Coupler 4\"","each",1.75,"AC",75,null,"B",{"$f":"D130","v":1.75},1.75]
[null,"Corrugated Plastic Pipe - Split Coupler 6\"","each",3,"AC",75,null,"B",3,3]
[null,"Corrugated Plastic Pipe - Split Coupler 8\"","each",4.5,"AC",75,null,"B",4.5,4.5]
[null,"Corrugated Plastic Pipe - Soil-Tight Split Coupler 10\"","each",21.75,"AC",75,null,null,21.75,21.75]
[null,"Corrugated Plastic Pipe - Split Coupler 5\"","each",3.25,"AC",75,null,null,3.25,3.25]
[null,"Corrugated Plastic Pipe - Tubing/Culverts - 10\"","foot",3.75,"AC",75,null,"B",3.75,3.75]
[null,"Corrugated Plastic Pipe - Tubing/Culverts - 12\"","foot",4.75,"AC",75,null,"B",4.75,4.75]
[null,"Corrugated Plastic Pipe - Tubing/Culverts - 15\"","foot",7,"AC",75,null,"B",7,7]
[null,"Corrugated Plastic Pipe - Tubing/Culverts - 18\"","foot",11,"AC",75,null,"B",11,11]
[null,"Corrugated Plastic Pipe - Tubing/Culverts - 24","foot",17.75,"AC",75,null,"B",17.75,17.75]
[null,"Corrugated Plastic Pipe - Tubing/Culverts - 3\"","foot",0.45,"AC",75,null,"B",0.45,0.45]
[null,"Corrugated Plastic Pipe - Tubing/Culverts - 4\"","foot",0.5,"AC",75,null,"B",0.5,0.5]
[null,"Corrugated Plastic Pipe - Tubing/Culverts - 5\"","foot",0.75,"AC",75,null,"B",0.75,0.75]
[null,"Corrugated Plastic Pipe - Tubing/Culverts - 6\"","foot",1,"AC",75,null,"B",1,1]
[null,"Corrugated Plastic Pipe - Tubing/Culverts - 8\"","foot",2,"AC",75,null,"B",2,2]
[null,"Corrugated Plastic Pipe - Tubing/Culverts w/sock - 10\"","foot",4,"AC",75,null,"B",4,4]
[null,"Corrugated Plastic Pipe - Tubing/Culverts w/sock - 12\"","foot",5.5,"AC",75,null,"B",5.5,5.5]
[null,"Corrugated Plastic Pipe - Tubing/Culverts w/sock - 15\"","foot",8.75,"AC",75,null,"B",8.75,8.75]
[null,"Corrugated Plastic Pipe - Tubing/Culverts w/sock - 18\"","foot",12,"AC",75,null,"B",12,12]
[null,"Corrugated Plastic Pipe - Tubing/Culverts w/sock - 24","foot",18.75,"AC",75,null,"B",18.75,18.75]
[null,"Corrugated Plastic Pipe - Tubing/Culverts w/sock - 3\"","foot",0.6,"AC",75,null,"B",0.6,0.6]
[null,"Corrugated Plastic Pipe - Tubing/Culverts w/sock - 4\"","foot",0.75,"AC",75,null,"B",0.75,0.75]
[null,"Corrugated Plastic Pipe - Tubing/Culverts w/sock - 5\"","foot",1,"AC",75,null,"B",1,1]
[null,"Corrugated Plastic Pipe - Tubing/Culverts w/sock - 6\"","foot",1.5,"AC",75,null,"B",1.5,1.5]
[null,"Corrugated Plastic Pipe - Tubing/Culverts w/sock - 8\"","foot",2.25,"AC",75,null,"B",2.25,2.25]
[null,"Critical Area Planting - Introduced / Native Grass Mix","acre",61.8,"AC",75,null,null,61.8,61.8]
[null,"Critical Area Planting - Native Grass Mix","acre",75.75,"AC",75,null,null,75.75,75.75]
[null,"Critical Area Treatment - Heavy shaping","acre",910,"AC",75,null,"A",910,910]
[null,"Critical Area Treatment - Light shaping","acre",455,"AC",75,null,"A",455,455]
[null,"Decomm. Well diameter <4\"","foot",5.5,"AC",75,null,"C",5.5,5.5]
[null,"Decomm. Well diameter 30\" and larger","foot",27.5,"AC",75,null,"C",27.5,27.5]
[null,"Decomm. Well diameter 4\"","foot",3,"AC",75,null,"C",3,3]
[null,"Decomm. Well diameter 5\"","foot",5.0999999999999996,"AC",75,null,"C",5.0999999999999996,5.0999999999999996]
[null,"Decomm. Well diameter 6-29\"","foot",10,"AC",75,null,"C",10,10]
[null,"Earth Fill - Class A Compaction - Clay Liners (specified density)","cu.yd.",5.3,"AC",75,null,"A",5.3,5.3]
[null,"Earth Fill - Class A Compaction (specified density)","cu.yd.",3.6,"AC",75,null,"A",3.6,3.6]
[null,"Earth Fill - Class C Compaction (specified method)","cu.yd.",3,"AC",75,null,"A",3,3]
[null,"Earth Fill (hand compaction)","cu.yd.",7.1,"AC",75,null,"A",7.1,7.1]
[null,"Excavation","cu.yd.",4.4000000000000004,"AC",75,null,"A",4.4000000000000004,4.4000000000000004]
[null,"Excavation - Sediment Removal","cu.yd.",8.1,"AC",75,null,"A",8.1,8.1]
[null,"Excavation Small Structures","cu.yd.",7.1,"AC",75,null,"A",7.1,7.1]
[null,"Feedlot Fence Removal","foot",3.78,"AC",75,null,"A",3.78,3.78]
[null,"Fence (barbed or smooth)","lf.",1.07,"AC",50,null,"G",1.07,1.07]
[null,"Fence, chain link","lf.",14.05,"AC",50,null,"G",14.05,14.05]
[null,"Fence, Feedlot","lf.",8.1999999999999993,"AC",50,null,"G",8.1999999999999993,8.1999999999999993]
[null,"Fence, Feedlot for wind protection","lf.",12.85,"AC",50,null,"G",12.85,12.85]
[null,"Fence, power (electric) - 1 wire","lf.",0.51,"AC",50,null,"G",0.51,0.51]
[null,"Fence, power (electric) - multiple wire","lf.",0.67,"AC",50,null,"G",0.67,0.67]
[null,"Fence, Power (Electric) Fence Energizers","each",400,"AC",50,null,"G",400,400]
[null,"Fence, Solar panel and energizer (electric) fence","each",495,"AC",50,null,"G",495,495]
[null,"Fence, woven wire","lf.",1.46,"AC",50,null,"G",1.46,1.46]
[null,"Fence, Silt","lf.",3.3,"AC",75,null,"G",3.3,3.3]
[null,"Formed steel reinforced concrete (4000 psi)","cu.yd.",708.8,"AC",75,null,"C",708.8,708.8]
[null,"Formed steel reinforced concrete (M strength)","cu.yd.",567.5,"AC",75,null,"C",567.5,567.5]
[null,"FS Potted or Containerized Tree or Shrub Planting","each",0.9,"AC",75,null,null,0.9,0.9]
[null,"FS Replacement Planting","each",0.8,"AC",75,null,null,0.8,0.8]
[null,"FS Site Prep. - Dozing, Scarifying, etc.","acre",143.1,"AC",75,null,null,143.1,143.1]
[null,"FS Trees and Shrubs Planted","thous",650,"AC",75,null,null,650,650]
[null,"Gate Valve","dia.in.",56,"AC",75,null,"B",56,56]
[null,"Geotextile Fabric - Woven or non-woven fabric","sq.yd.",2.8,"AC",75,null,"C",2.8,2.8]
[null,"Grade Stabilization - Engineer's Estimate (for items not currently in cost tables)","struct",0,"AC",75,null,null,0,0]
[null,"Grade Transition Section","dia.in.",56,"AC",75,null,"B",56,56]
[null,"Grass seeding between rows (sideoats grama and blue grama)","acre",45,"AC",75,null,null,45,45]
[null,"Grass/Grain Drill","acre",20,"AC",75,null,"D",20,20]
[null,"Gravel (pit run)","cu.yd.",17.25,"AC",75,null,"C",{"$f":"D194","v":17.25},17.25]
[null,"Gravel (washed & graded)","cu.yd.",28,"AC",75,null,"C",28,28]
[null,"Hand Opening Slide Gate","dia.in.",10,"AC",75,null,"B",10,10]
[null,"Hand Plant (Bare root or container)","each",1.2,"AC",75,null,"F",1.2,1.2]
[null,"Hand Plant (unrooted cuttings)","each",0.4,"AC",75,null,"F",0.4,0.4]
[null,"Hauling Materials (offsite borrow)","yd/.25mi",0.2,"AC",75,null,"A",0.2,0.2]
[null,"Heavy Site preparation (dozed, sheared, clipped, etc)","acre",143.1,"AC",75,null,"F",143.1,143.1]
[null,"Hydoseeder, seeding and mulch","sq.yd.",0.21,"AC",75,null,"D",0.21,0.21]
[null,"Individual Vegetative Plug (Planted)","each",1,"AC",75,null,"E",1,1]
[null,"Introduced Species (1 to 2 species)","acre",15.23,"AC",75,null,null,15.23,15.23]
[null,"Introduced Species (3 or more species)","acre",25.59,"AC",75,null,null,25.59,25.59]
[null,"Large Diameter Pipe 10\", Head 50 ft (22 psi)","foot",2.2000000000000002,"AC",75,null,"B",2.2000000000000002,2.2000000000000002]
[null,"Large Diameter Pipe 10\", SDR-26 (160 psi)","foot",10.4,"AC",75,null,"B",10.4,10.4]
[null,"Large Diameter Pipe 10\", SDR-32.5 (125 psi)","foot",7.3,"AC",75,null,"B",7.3,7.3]
[null,"Large Diameter Pipe 10\", SDR-41 (100 psi)","foot",4.25,"AC",75,null,"B",4.25,4.25]
[null,"Large Diameter Pipe 10\", SDR-51 (80 psi)","foot",3.41,"AC",75,null,"B",3.41,3.41]
[null,"Large Diameter Pipe 10\", SDR-81 (50 psi)","foot",3.1,"AC",75,null,"B",3.1,3.1]
[null,"Large Diameter Pipe 12\", Head 50 ft (22 psi)","foot",2.6,"AC",75,null,"B",2.6,2.6]
[null,"Large Diameter Pipe 12\", SDR-26 (160 psi)","foot",14.6,"AC",75,null,"B",14.6,14.6]
[null,"Large Diameter Pipe 12\", SDR-32.5 (125 psi)","foot",10.4,"AC",75,null,"B",10.4,10.4]
[null,"Large Diameter Pipe 12\", SDR-41 (100 psi)","foot",6.13,"AC",75,null,"B",6.13,6.13]
[null,"Large Diameter Pipe 12\", SDR-51 (80 psi)","foot",4.84,"AC",75,null,"B",4.84,4.84]
[null,"Large Diameter Pipe 12\", SDR-81 (50 psi)","foot",4.25,"AC",75,null,"B",4.25,4.25]
[null,"Large Diameter Pipe 15\", Head 50 ft (22 psi)","foot",4.2,"AC",75,null,"B",4.2,4.2]
[null,"Large Diameter Pipe 15\", SDR-26 (160 psi)","foot",20.95,"AC",75,null,"B",20.95,20.95]
[null,"Large Diameter Pipe 15\", SDR-32.5 (125 psi)","foot",16.649999999999999,"AC",75,null,"B",16.649999999999999,16.649999999999999]
[null,"Large Diameter Pipe 15\", SDR-41 (100 psi)","foot",8.4600000000000009,"AC",75,null,"B",8.4600000000000009,8.4600000000000009]
[null,"Large Diameter Pipe 15\", SDR-51 (80 psi)","foot",6.8,"AC",75,null,"B",6.8,6.8]
[null,"Large Diameter Pipe 15\", SDR-81 (50 psi)","foot",5.75,"AC",75,null,"B",5.75,5.75]
[null,"Large Diameter Pipe 18\", SDR-26 (160 psi)","foot",32,"AC",75,null,"B",32,32]
[null,"Large Diameter Pipe 18\", SDR-32.5 (125 psi)","foot",25.15,"AC",75,null,"B",25.15,25.15]
[null,"Large Diameter Pipe 18\", SDR-41 (100 psi)","foot",20,"AC",75,null,"B",20,20]
[null,"Large Diameter Pipe 18\", SDR-51 (80 psi)","foot",16.7,"AC",75,null,"B",16.7,16.7]
[null,"Large Diameter Pipe 18\", SDR-81 (50 psi)","foot",12.5,"AC",75,null,"B",12.5,12.5]
[null,"Large Diameter Pipe 21\", SDR-32.5 (125 psi)","foot",36.4,"AC",75,null,"B",36.4,36.4]
[null,"Large Diameter Pipe 21\", SDR-41 (100 psi)","foot",28.4,"AC",75,null,"B",28.4,28.4]
[null,"Large Diameter Pipe 21\", SDR-51 (80 psi)","foot",24,"AC",75,null,"B",24,24]
[null,"Large Diameter Pipe 21\", SDR-81 (50 psi)","foot",18.05,"AC",75,null,"B",18.05,18.05]
[null,"Large Diameter Pipe 24\", SDR-32.5 (125 psi)","foot",46.2,"AC",75,null,"B",46.2,46.2]
[null,"Large Diameter Pipe 24\", SDR-41 (100 psi)","foot",37.200000000000003,"AC",75,null,"B",37.200000000000003,37.200000000000003]
[null,"Large Diameter Pipe 24\", SDR-51 (80 psi)","foot",30.35,"AC",75,null,"B",30.35,30.35]
[null,"Large Diameter Pipe 24\", SDR-81 (50 psi)","foot",20.85,"AC",75,null,"B",20.85,20.85]
[null,"Large Diameter Pipe 6\", Head 50 ft (22 psi)","foot",1.1499999999999999,"AC",75,null,"B",1.1499999999999999,1.1499999999999999]
[null,"Large Diameter Pipe 6\", SDR-26 (160 psi)","foot",4.25,"AC",75,null,"B",4.25,4.25]
[null,"Large Diameter Pipe 6\", SDR-32.5 (125 psi)","foot",2.8,"AC",75,null,"B",2.8,2.8]
[null,"Large Diameter Pipe 6\", SDR-41 (100 psi)","foot",2.4,"AC",75,null,"B",2.4,2.4]
[null,"Large Diameter Pipe 6\", SDR-51 (80 psi)","foot",2.1,"AC",75,null,"B",2.1,2.1]
[null,"Large Diameter Pipe 6\", SDR-81 (50 psi)","foot",1.5,"AC",75,null,"B",1.5,1.5]
[null,"Large Diameter Pipe 8\", Head 50 ft (22 psi)","foot",1.5,"AC",75,null,"B",1.5,1.5]
[null,"Large Diameter Pipe 8\", SDR-26 (160 psi)","foot",6.7,"AC",75,null,"B",6.7,6.7]
[null,"Large Diameter Pipe 8\", SDR-32.5 (125 psi)","foot",4.8,"AC",75,null,"B",4.8,4.8]
[null,"Large Diameter Pipe 8\", SDR-41 (100 psi)","foot",2.71,"AC",75,null,"B",2.71,2.71]
[null,"Large Diameter Pipe 8\", SDR-51 (80 psi)","foot",2.2799999999999998,"AC",75,null,"B",2.2799999999999998,2.2799999999999998]
[null,"Large Diameter Pipe 8\", SDR-81 (50 psi)","foot",2.1,"AC",75,null,"B",2.1,2.1]
[null,"Livestock Water - Storage Tank","gal.",1.1299999999999999,"AC",75,null,"C",1.1299999999999999,1.1299999999999999]
[null,"Livestock Water - Storage Tank, Frost-free","gal.",3.4,"AC",75,null,"C",3.4,3.4]
[null,"Machine Plant (Bare root or containerized - also includes sod scalped)","100ft.",21,"AC",75,null,"F",21,21]
[null,"Mechanical Seedbed Preparation (per time)","acre",12,"AC",75,null,"D",12,20]
[null,"Mechanical Site preparation - trees or shrubs","acre",10,"AC",75,null,"F",10,10]
[null,"Mechanical weed control","acre",12,"AC",75,null,"D",12,8]
[null,"Mechanical Weed Control - trees and shrubs","100ft.",2.4,"AC",75,null,"F",2.4,2.4]
[null,"Mulch Blankets","sq.yd.",1.66,"AC",75,null,"D",1.66,1.66]
[null,"Native and Introduced Species","acre",41.97,"AC",75,null,null,41.97,41.97]
[null,"Native Grass Mix","acre",100,"AC",75,null,null,100,100]
[null,"Native Grass with Shrub and/or Forb Species","acre",100,"AC",75,null,null,{"$f":"D258","v":100},100]
[null,"Non-reinforced concrete or cement bedding/grouting","cu.yd.",216.3,"AC",75,null,"C",216.3,216.3]
[null,"Nose Pump","each",541,"AC",75,null,"C",541,541]
[null,"Other Fence Removal","foot",0.6,"AC",75,null,"A",0.6,0.54]
[null,"Preservation-treated Lumber","bd.ft.",4.05,"AC",75,null,"C",4.05,4.05]
[null,"Pressure Relief Valve","dia.in.",66,"AC",75,null,"B",66,66]
[null,"Redwood","bd.ft.",4.05,"AC",75,null,"C",4.05,4.05]
[null,"Reverse Flow Check Valve","dia.in.",39,"AC",75,null,"B",39,39]
[null,"Riprap in place","cu.yd.",81.3,"AC",75,null,"C",81.3,81.3]
[null,"Rural Water System Hookup","each",853,"AC",75,null,"C",853,853]
[null,"Sand (pit run)","cu.yd.",21.6,"AC",75,null,"C",21.6,21.6]
[null,"Scoria (pit run)","cu.yd.",21.6,"AC",75,null,"C",21.6,21.6]
[null,"Site Clearing","acre",1350,"AC",75,null,"A",1350,1350]
[null,"Small Diameter Pipe - 1 1/4 Inches to 2 inches - HDPE pipe","foot",1.25,"AC",75,null,"B",1.25,1.25]
[null,"Small Diameter Pipe - 1 1/4 Inches to 2 inches - PVC pipe","foot",0.55000000000000004,"AC",75,null,"B",0.55000000000000004,0.55000000000000004]
[null,"Small Diameter Pipe - 1 Inches or Less - HDPE pipe","foot",0.73,"AC",75,null,"B",0.73,0.73]
[null,"Small Diameter Pipe - 1 Inches or Less - PVC pipe","foot",0.49,"AC",75,null,"B",0.49,0.49]
[null,"Small Diameter Pipe - Over 2 Inches - HDPE pipe","foot",3.4,"AC",75,null,"B",3.4,3.4]
[null,"Small Diameter Pipe - Over 2 Inches - PVC pipe","foot",1.04,"AC",75,null,"B",1.04,1.04]
[null,"Sod in-place","sq.yd.",1.1000000000000001,"AC",75,null,"D",1.1000000000000001,1.1000000000000001]
[null,"Steel reinforced concrete flatwork","cu.yd.",392.5,"AC",75,null,"C",392.5,392.5]
[null,"Structural Renovations - Engineer's Estimate (for items not currently in cost tables)","struct",0,"AC",75,null,null,0,0]
[null,"Structural Steel","lb.",5.7,"AC",75,null,"C",5.7,5.7]
[null,"Structure Removal","acre",1350,"AC",75,null,"A",1350,1350]
[null,"Surge Valve 6\"-12\" (installed)","dia.in.",248,"AC",75,null,"B",248,248]
[null,"Synthetic composites","bd.ft.",4.05,"AC",75,null,"C",4.05,4.05]
[null,"Synthetic Weed Barrier (6' wide)","100ft.",48.5,"AC",75,null,"F",48.5,48.5]
[null,"Synthetic Weed Barrier Squares (4X4)","square",2.8,"AC",75,null,"F",2.8,2.8]
[null,"Temporary Cover","acre",20,"AC",75,null,"D",20,20]
[null,"Topsoil - salvage and re-spreading","sq.yd.",0.6,"AC",75,null,"A",0.6,0.6]
[null,"Tree shelter, 2 ft","each",3.4,"AC",75,null,"F",3.4,3.4]
[null,"Tree shelter, 3 ft","each",4.3,"AC",75,null,"F",4.3,4.3]
[null,"Tree shelter, 4 ft","each",5,"AC",75,null,"F",5,5]
[null,"Tree shelter, 5 ft","each",7,"AC",75,null,"F",7,7]
[null,"Trenching - Shallow Plow","lf.",0.5,"AC",75,null,"A",0.5,0.5]
[null,"Trenching - Trenching or deep plow (frost protected plowing)","lf.",2.2999999999999998,"AC",75,null,"A",2.2999999999999998,2.2999999999999998]
[null,"Trenching - Trenching or deep plow and backhoe","lf.",3,"AC",75,null,"A",3,3]
[null,"Trenching - Backhoe","lf.",3.7,"AC",75,null,"A",3.7,3.7]
[null,"Trenching - Boring (roadways and stream crossings)","lf.",28.4,"AC",50,null,"A",28.4,28.4]
[null,"Turf reinforcing materials","sq.yd.",3.9,"AC",75,null,null,3.9,3.9]
[null,"Water for Fill","1000gal",14.75,"AC",75,null,"A",14.75,14.75]
[null,"Water fountain","each",378,"AC",75,null,"C",378,378]
[null,"Water Pump (installed)","HP",3013,"AC",75,null,"C",3013,3013]
[null,"Well - Bored or dug & case 12\" or larger","foot",78,"AC",75,null,"C",78,78]
[null,"Well - Drill & case <4\"","foot",24.32,"AC",75,null,"C",24.32,24.32]
[null,"Well - Drill & case <4\", Artesian","foot",28.6,"AC",75,null,"C",28.6,28.6]
[null,"Well - Drill & case 4\" & over, Artesian","foot",31.85,"AC",75,null,"C",31.85,31.85]
[null,"Well - Drill & case 4\" and over","foot",26.68,"AC",75,null,"C",26.68,26.68]
[null,"Well - Drilling not requiring casing","foot",11.35,"AC",75,null,"C",11.35,11.35]
[null,"Well - Pitless Well Units (steel)","dia.in.",168,"AC",75,null,"C",168,168]
[null,"Well - Pressure Tank","gal.",7,"AC",75,null,"C",7,7]
[null,"Well - Vault","each",1134,"AC",75,null,"C",1134,1134]
[null,"Well screen, plastic or galvan. steel (installed)","foot",28,"AC",75,null,"C",28,28]
[null,"Well screen, stainless steel or brass (installed)","foot",90.75,"AC",75,null,"C",90.75,90.75]
[null,"Wetland Restoration - Ditch Plug","struct",1000,"AC",75,null,"A",1000,1000]
[null,"Wheel Opening Slide Gate","dia.in.",49,"AC",75,null,"B",49,49]
[null,"Wildlife Guzzler","each",1348.33,"AC",75,null,null,1348.33,1348.33]
[null,"Wood Piling/construction poles (per dia. in. butt thickness)","lf-in.",1.1000000000000001,"AC",75,null,"C",1.1000000000000001,1.1000000000000001]

{"sheet":"WebbProposal","index":13,"n_rows":50,"n_cols":8,"rows_kept":50,"cut":false,"hidden":true,"merged":[]}
["Scenario:","A","B","C"]
["Pristine Wetlands (ac.)",10,10,10]
["Restore Veg. (ac.)",10,15,15]
["Remove Sed. (ac.)",10,15,0]
["Restore Hyd. (ac.)",10,15,30]
["# of basins sec/hyd",10,3,1]
["Upland acres",120,125,125]
["Total Acres",160,180,180]
["Points Factor 3 before",50,15,5]
["Points Factor 3 after",55,40,35]
["Ranking Before",149,124,114]
["Ranking After",154,149,144]
[]
[]
[]
[]
["Current"]
["FACTOR 3 ","Wetland Basins to be Hydrologically Restored "]
[]
[null,"This factor is the number of wetland basins to be hydrologically restored"]
[null," (e.g. ditch plug, broken tile, dike, diversion, sediment removal, etc.)."]
[]
[null,null,null,"Number of Basins",null,"Points"]
[null,null,null,"11 or more",null,75]
[null,null,null,10,null,50]
[null,null,null,9,null,45]
[null,null,null,8,null,40]
[null,null,null,7,null,35]
[null,null,null,6,null,30]
[null,null,null,5,null,25]
[null,null,null,4,null,20]
[null,null,null,3,null,15]
[null,null,null,2,null,10]
[null,null,null,1,null,5]
[]
["Proposed"]
["FACTOR 3 ","Wetlands to be Hydrologically Restored "]
[]
[null,"This factor is the number and acres of wetlands to be hydrologically restored"]
[null," (e.g. ditch plug, broken tile, dike, diversion, sediment removal, etc.)."]
[]
[null,"Number of Basins",null,"Points",null,"Acres of Restoration",null,"Points"]
[null,"11 +",null,30,null,"20 +",null,30]
[null,"9 to 10",null,25,null,"10 to 19.99",null,20]
[null,"7 to 8",null,20,null,"0.1 to 9.99",null,10]
[null,"5 to 6",null,15]
[null,"3 to 4",null,10]
[null,"1 to 2",null,5]
[]
[null,"Points for factor 3 would be the sum of both criteria."]

{"sheet":"GARC","index":14,"n_rows":56,"n_cols":6,"rows_kept":56,"cut":false,"hidden":false,"merged":[]}
["North Dakota Geographic Area Caps (GARC) by county - 2016"]
["Preliminary submitted to NHQ - Approval Dated:",null,null,"2015-12-11"]
[null,"County","2016 WRE GARC\n(Perpetual Easement)","2016 75%  of WRE GARC\n(30 yr easement)","2016 30yr Grazing Land Pilot\n75% of 30 Yr GARC","2016 Market Analysis"]
[null,"Adams",1360,1020,"N/A",1510]
[null,"Barnes",1900,1425,1068.75,2115]
[null,"Benson",1300,975,731.25,1445]
[null,"Billings",1490,1117.5,"N/A",1660]
[null,"Bottineau",1300,975,731.25,1445]
[null,"Bowman",1360,1020,"N/A",1510]
[null,"Burke",900,675,506.25,1005]
[null,"Burleigh",1340,1005,753.75,1485]
[null,"Cass",3590,2692.5,2019.375,3990]
[null,"Cavalier",2210,1657.5,1243.125,2450]
[null,"Dickey",3230,2422.5,1816.875,3590]
[null,"Divide",900,675,506.25,1005]
[null,"Dunn",1490,1117.5,"N/A",1660]
[null,"Eddy",1570,1177.5,883.125,1745]
[null,"Emmons",1810,1357.5,1018.125,2015]
[null,"Foster",1570,1177.5,883.125,1745]
[null,"Golden Valley",1360,1020,"N/A",1510]
[null,"Grand Forks",2210,1657.5,1243.125,2450]
[null,"Grant",1690,1267.5,"N/A",1875]
[null,"Griggs",1900,1425,1068.75,2115]
[null,"Hettinger",1820,1365,"N/A",2020]
[null,"Kidder",1570,1177.5,883.125,1745]
[null,"LaMoure",3230,2422.5,1816.875,3590]
[null,"Logan",1810,1357.5,1018.125,2015]
[null,"McHenry",1300,975,731.25,1445]
[null,"McIntosh",1810,1357.5,1018.125,2015]
[null,"McKenzie",1490,1117.5,"N/A",1660]
[null,"McLean",1410,1057.5,793.125,1565]
[null,"Mercer",1690,1267.5,"N/A",1875]
[null,"Morton",1690,1267.5,"N/A",1875]
[null,"Mountrail",900,675,506.25,1005]
[null,"Nelson",1300,975,731.25,1445]
[null,"Oliver",1690,1267.5,"N/A",1875]
[null,"Pembina",2210,1657.5,1243.125,2450]
[null,"Pierce",1300,975,731.25,1445]
[null,"Ramsey",1300,975,731.25,1445]
[null,"Ransom",3230,2422.5,1816.875,3590]
[null,"Renville",1300,975,731.25,1445]
[null,"Richland",3230,2422.5,1816.875,3590]
[null,"Rolette",1300,975,731.25,1445]
[null,"Sargent",3230,2422.5,1816.875,3590]
[null,"Sheridan",1410,1057.5,793.125,1565]
[null,"Sioux",1810,1357.5,"N/A",2015]
[null,"Slope",1360,1020,"N/A",1510]
[null,"Stark",1820,1365,"N/A",2020]
[null,"Steele",1900,1425,1068.75,2115]
[null,"Stutsman",1570,1177.5,883.125,1745]
[null,"Towner",1300,975,731.25,1445]
[null,"Traill",3590,2692.5,2019.375,3990]
[null,"Walsh",2210,1657.5,1243.125,2450]
[null,"Ward",1300,975,731.25,1445]
[null,"Wells",1570,1177.5,883.125,1745]
[null,"Williams",900,675,506.25,1005]

{"sheet":"T&E","index":15,"n_rows":56,"n_cols":55,"rows_kept":56,"cut":false,"hidden":true,"merged":[]}
["Points",0,4,0,0,4,3,3,3,3,3,1,3,3,3,null,null,null,null,null,null,null,null,"use","use",null,null,"use","use","use","use","use","use","use","use","use"]
[]
["County","Interior Least Tern - E","Whooping Crane - E","Black-footed Ferret - E","Pallid Sturgeon - E","Poweshiek Skipperling - E","Northern Long-Eared Bat - T","Piping Plover - T","Western Prairie Fringed Orchid - T","Dakota Skipper - T","Red Knot - T","Sprague's Pipit - C","Designated Critical Habitat - Piping Plover","Designated Critical Habitat - Dakota Skipper","Designated Critical Habitat - Poweshiek Skipperling","Total Points","original Pre-FY11","Points FY12-FY13","Points FY14-FY15",null,null,"County","Interior Least Tern","Whooping Crane","Poweshiek Skipperling","Black-footed Ferret","Pallid Sturgeon","Northern Long-Eared Bat","Piping Plover","Western Prairie Fringed Orchid","Dakota Skipper","Red Knot","Sprague's Pipit","Designated Critical Habitat - Dakota Skipper","Designated Critical Habitat - Poweshiek Skipperling","Designated Critical Habitat - Piping Plover","Endangered","Threatened","Candidate","Designated Critical Habitat - Dakota Skipper","Designated Critical Habitat - Poweshiek Skipperling","Designated Critical Habitat - Piping Plover",null,null,null,null,null,null,null,null,"Northern Long-earred Bat","Piping Plover","Western Prairie Fringed Orchid","Dakota Skipper","Red Knot"]
["Adams",null,"X","X",null,null,"X",null,null,null,null,"X",null,null,null,{"$f":"SUM(W4:AJ4)","v":8},1,7,9,null,null,"Adams",{"$f":"IF(B4=\"X\",B$1,0)","v":0},{"$f":"IF(C4=\"X\",C$1,0)","v":4},{"$f":"IF(F4=\"X\",F$1,0)","v":0},{"$f":"IF(D4=\"X\",D$1,0)","v":0},{"$f":"IF(E4=\"X\",E$1,0)","v":0},{"$f":"IF(G4=\"X\",G$1,0)","v":3},{"$f":"IF(H4=\"X\",H$1,0)","v":0},{"$f":"IF(I4=\"X\",I$1,0)","v":0},{"$f":"IF(J4=\"X\",J$1,0)","v":0},{"$f":"IF(K4=\"X\",K$1,0)","v":0},{"$f":"IF(L4=\"X\",L$1,0)","v":1},{"$f":"IF(N4=\"X\",N$1,0)","v":0},{"$f":"IF(O4=\"X\",O$1,0)","v":0},{"$f":"IF(M4=\"X\",M$1,0)","v":0},{"$f":"IF(X4=0,IF(Y4=0,\"\",$Y$3),$X$3&IF(Y4=0,\"\",\", \"&$Y$3))","v":"Whooping Crane"},{"$f":"BC4","v":"FALSE"},{"$f":"IF(AG4=0,\"\",AG$3)","v":"Sprague's Pipit"},{"$f":"IF(AH4>0,\"Maybe\",\"No\")","v":"No"},"No",{"$f":"IF(AJ4>0,\"Maybe\",\"No\")","v":"No"},null,null,null,{"$f":"IF(AB4=0,\"\",AB$3)","v":"Northern Long-Eared Bat"},{"$f":"IF(AC4=0,\"\",AC$3)","v":""},{"$f":"IF(AD4=0,\"\",AD$3)","v":""},{"$f":"IF(AE4=0,\"\",AE$3)","v":""},{"$f":"IF(AF4=0,\"\",AF$3)","v":""},{"$f":"IF(AT4=AY$3,AT4,\"\")","v":""},{"$f":"IF(AY4<>\"\",AY4&IF(AU4=AZ$3,\", \"&AZ$3,\"\"))","v":false},"FALSE","FALSE","FALSE"]
["Barnes",null,"X",null,null,null,"X",null,null,null,null,"X",null,null,null,8,1,7,5,null,null,"Barnes",0,4,0,0,0,3,0,0,0,0,1,0,0,{"$f":"IF(M5=\"X\",M$1,0)","v":0},"Whooping Crane",{"$f":"BC5","v":"FALSE"},{"$f":"IF(AG5=0,\"\",AG$3)","v":"Sprague's Pipit"},{"$f":"IF(AH5>0,\"Maybe\",\"No\")","v":"No"},{"$f":"IF(AI5>0,\"Maybe\",\"No\")","v":"No"},{"$f":"IF(AJ5>0,\"Maybe\",\"No\")","v":"No"},null,null,null,{"$f":"IF(AB5=0,\"\",AB$3)","v":"Northern Long-Eared Bat"},{"$f":"IF(AC5=0,\"\",AC$3)","v":""},{"$f":"IF(AD5=0,\"\",AD$3)","v":""},{"$f":"IF(AE5=0,\"\",AE$3)","v":""},{"$f":"IF(AF5=0,\"\",AF$3)","v":""},{"$f":"IF(AT5=AY$3,AT5,\"\")","v":""},false,"FALSE","FALSE","FALSE"]
["Benson",null,"X",null,null,null,"X","X",null,null,"X","X","X",null,null,17,5,11,11,null,null,"Benson",0,4,0,0,0,3,3,0,0,3,1,0,0,3,"Whooping Crane","FALSE, Red Knot","Sprague's Pipit","No","No","Maybe",null,null,null,"Northern Long-Eared Bat","Piping Plover","","","Red Knot",{"$f":"IF(AT6=AY$3,AT6,\"\")","v":""},false,"FALSE","FALSE","FALSE, Red Knot"]
["Billings",null,"X","X",null,null,"X",null,null,null,null,"X",null,null,null,8,1,7,9,null,null,"Billings",0,4,0,0,0,3,0,0,0,0,1,0,0,0,"Whooping Crane","FALSE","Sprague's Pipit","No","No","No",null,null,null,{"$f":"IF(AB7=0,\"\",AB$3)","v":"Northern Long-Eared Bat"},{"$f":"IF(AC7=0,\"\",AC$3)","v":""},{"$f":"IF(AD7=0,\"\",AD$3)","v":""},{"$f":"IF(AE7=0,\"\",AE$3)","v":""},{"$f":"IF(AF7=0,\"\",AF$3)","v":""},{"$f":"IF(AT7=AY$3,AT7,\"\")","v":""},{"$f":"IF(AY7<>\"\",AY7&IF(AU7=AZ$3,\", \"&AZ$3,\"\"))","v":false},"FALSE","FALSE","FALSE"]
["Bottineau",null,"X",null,null,null,"X",null,null,"X",null,"X",null,null,null,11,1,8,11,null,null,"Bottineau",0,4,0,0,0,3,0,0,3,0,1,0,0,0,"Whooping Crane","FALSE, Dakota Skipper","Sprague's Pipit","No","No","No",null,null,null,"Northern Long-Eared Bat","","","Dakota Skipper","","",{"$f":"IF(AY8<>\"\",AY8&IF(AU8=AZ$3,\", \"&AZ$3,\"\"))","v":false},"FALSE","FALSE, Dakota Skipper","FALSE, Dakota Skipper"]
["Bowman",null,"X","X",null,null,"X",null,null,null,null,"X",null,null,null,8,1,7,10,null,null,"Bowman",0,4,0,0,0,3,0,0,0,0,1,0,0,0,"Whooping Crane","FALSE","Sprague's Pipit","No","No","No",null,null,null,"Northern Long-Eared Bat","","","","","",{"$f":"IF(AY9<>\"\",AY9&IF(AU9=AZ$3,\", \"&AZ$3,\"\"))","v":false},"FALSE","FALSE","FALSE"]
["Burke",null,"X",null,null,null,"X","X",null,"X","X","X","X",null,null,20,5,12,17,null,null,"Burke",0,4,0,0,0,3,3,0,3,3,1,0,0,3,"Whooping Crane","FALSE, Dakota Skipper, Red Knot","Sprague's Pipit","No","No","Maybe",null,null,null,"Northern Long-Eared Bat","Piping Plover","","Dakota Skipper","Red Knot","",{"$f":"IF(AY10<>\"\",AY10&IF(AU10=AZ$3,\", \"&AZ$3,\"\"))","v":false},"FALSE","FALSE, Dakota Skipper","FALSE, Dakota Skipper, Red Knot"]
["Burleigh","X","X",null,"X",null,"X","X",null,null,"X","X","X",null,null,17,5,11,11,null,null,"Burleigh",0,4,0,0,0,3,3,0,0,3,1,0,0,3,"Whooping Crane","FALSE, Red Knot","Sprague's Pipit","No","No","Maybe",null,null,null,"Northern Long-Eared Bat","Piping Plover","","","Red Knot","",{"$f":"IF(AY11<>\"\",AY11&IF(AU11=AZ$3,\", \"&AZ$3,\"\"))","v":false},"FALSE","FALSE","FALSE, Red Knot"]
["Cass",null,"X",null,null,null,"X",null,null,null,null,null,null,null,null,7,0,7,6,null,null,"Cass",0,4,0,0,0,3,0,0,0,0,0,0,0,0,"Whooping Crane","FALSE","","No","No","No",null,null,null,"Northern Long-Eared Bat","","","","","",{"$f":"IF(AY12<>\"\",AY12&IF(AU12=AZ$3,\", \"&AZ$3,\"\"))","v":false},"FALSE","FALSE","FALSE"]
["Cavalier",null,"X",null,null,null,"X",null,null,null,null,"X",null,null,null,8,1,7,5,null,null,"Cavalier",0,4,0,0,0,3,0,0,0,0,1,0,0,0,"Whooping Crane","FALSE","Sprague's Pipit","No","No","No",null,null,null,"Northern Long-Eared Bat","","","","","",{"$f":"IF(AY13<>\"\",AY13&IF(AU13=AZ$3,\", \"&AZ$3,\"\"))","v":false},"FALSE","FALSE","FALSE"]
["Dickey",null,"X",null,null,null,"X",null,null,null,null,"X",null,null,null,8,1,8,7,null,null,"Dickey",0,4,0,0,0,3,0,0,0,0,1,0,0,0,"Whooping Crane","FALSE","Sprague's Pipit","No","No","No",null,null,null,"Northern Long-Eared Bat","","","","","",{"$f":"IF(AY14<>\"\",AY14&IF(AU14=AZ$3,\", \"&AZ$3,\"\"))","v":false},"FALSE","FALSE","FALSE"]
["Divide",null,"X",null,null,null,"X","X",null,null,"X","X","X",null,null,17,5,11,15,null,null,"Divide",0,4,0,0,0,3,3,0,0,3,1,0,0,3,"Whooping Crane","FALSE, Red Knot","Sprague's Pipit","No","No","Maybe",null,null,null,"Northern Long-Eared Bat","Piping Plover","","","Red Knot","",{"$f":"IF(AY15<>\"\",AY15&IF(AU15=AZ$3,\", \"&AZ$3,\"\"))","v":false},"FALSE","FALSE","FALSE, Red Knot"]
["Dunn","X","X","X","X",null,"X","X",null,"X","X","X","X",null,null,20,5,12,17,null,null,"Dunn",0,4,0,0,0,3,3,0,3,3,1,0,0,3,"Whooping Crane","FALSE, Dakota Skipper, Red Knot","Sprague's Pipit","No","No","Maybe",null,null,null,"Northern Long-Eared Bat","Piping Plover","","Dakota Skipper","Red Knot","",{"$f":"IF(AY16<>\"\",AY16&IF(AU16=AZ$3,\", \"&AZ$3,\"\"))","v":false},"FALSE","FALSE, Dakota Skipper","FALSE, Dakota Skipper, Red Knot"]
["Eddy",null,"X",null,null,null,"X","X",null,"X","X","X","X",null,null,20,5,12,13,null,null,"Eddy",0,4,0,0,0,3,3,0,3,3,1,0,0,3,"Whooping Crane","FALSE, Dakota Skipper, Red Knot","Sprague's Pipit","No","No","Maybe",null,null,null,"Northern Long-Eared Bat","Piping Plover","","Dakota Skipper","Red Knot","",{"$f":"IF(AY17<>\"\",AY17&IF(AU17=AZ$3,\", \"&AZ$3,\"\"))","v":false},"FALSE","FALSE, Dakota Skipper","FALSE, Dakota Skipper, Red Knot"]
["Emmons","X","X",null,"X",null,"X","X",null,null,"X","X","X",null,null,17,5,11,11,null,null,"Emmons",0,4,0,0,0,3,3,0,0,3,1,0,0,3,"Whooping Crane","FALSE, Red Knot","Sprague's Pipit","No","No","Maybe",null,null,null,"Northern Long-Eared Bat","Piping Plover","","","Red Knot","",{"$f":"IF(AY18<>\"\",AY18&IF(AU18=AZ$3,\", \"&AZ$3,\"\"))","v":false},"FALSE","FALSE","FALSE, Red Knot"]
["Foster",null,"X",null,null,null,"X","X",null,null,"X","X",null,null,null,14,1,9,8,null,null,"Foster",0,4,0,0,0,3,3,0,0,3,1,0,0,0,"Whooping Crane","FALSE, Red Knot","Sprague's Pipit","No","No","No",null,null,null,"Northern Long-Eared Bat","Piping Plover","","","Red Knot","",{"$f":"IF(AY19<>\"\",AY19&IF(AU19=AZ$3,\", \"&AZ$3,\"\"))","v":false},"FALSE","FALSE","FALSE, Red Knot"]
["Golden Valley",null,"X","X",null,null,"X",null,null,null,null,"X",null,null,null,8,1,7,10,null,null,"Golden Valley",0,4,0,0,0,3,0,0,0,0,1,0,0,0,"Whooping Crane","FALSE","Sprague's Pipit","No","No","No",null,null,null,"Northern Long-Eared Bat","","","","","",{"$f":"IF(AY20<>\"\",AY20&IF(AU20=AZ$3,\", \"&AZ$3,\"\"))","v":false},"FALSE","FALSE","FALSE"]
["Grand Forks",null,"X",null,null,null,"X",null,null,null,null,null,null,null,null,7,0,6,8,null,null,"Grand Forks",0,4,0,0,0,3,0,0,0,0,0,0,0,0,"Whooping Crane","FALSE","","No","No","No",null,null,null,"Northern Long-Eared Bat","","","","","",{"$f":"IF(AY21<>\"\",AY21&IF(AU21=AZ$3,\", \"&AZ$3,\"\"))","v":false},"FALSE","FALSE","FALSE"]
["Grant",null,"X","X",null,null,"X",null,null,null,null,"X",null,null,null,8,1,7,9,null,null,"Grant",0,4,0,0,0,3,0,0,0,0,1,0,0,0,"Whooping Crane","FALSE","Sprague's Pipit","No","No","No",null,null,null,"Northern Long-Eared Bat","","","","","",{"$f":"IF(AY22<>\"\",AY22&IF(AU22=AZ$3,\", \"&AZ$3,\"\"))","v":false},"FALSE","FALSE","FALSE"]
["Griggs",null,"X",null,null,null,"X",null,null,null,null,null,null,null,null,7,1,6,8,null,null,"Griggs",0,4,0,0,0,3,0,0,0,0,0,0,0,0,"Whooping Crane","FALSE","","No","No","No",null,null,null,"Northern Long-Eared Bat","","","","","",{"$f":"IF(AY23<>\"\",AY23&IF(AU23=AZ$3,\", \"&AZ$3,\"\"))","v":false},"FALSE","FALSE","FALSE"]
["Hettinger",null,"X","X",null,null,"X",null,null,null,null,"X",null,null,null,8,1,7,9,null,null,"Hettinger",0,4,0,0,0,3,0,0,0,0,1,0,0,0,"Whooping Crane","FALSE","Sprague's Pipit","No","No","No",null,null,null,"Northern Long-Eared Bat","","","","","",{"$f":"IF(AY24<>\"\",AY24&IF(AU24=AZ$3,\", \"&AZ$3,\"\"))","v":false},"FALSE","FALSE","FALSE"]
["Kidder",null,"X",null,null,null,"X","X",null,null,"X","X","X",null,null,17,5,11,15,null,null,"Kidder",0,4,0,0,0,3,3,0,0,3,1,0,0,3,"Whooping Crane","FALSE, Red Knot","Sprague's Pipit","No","No","Maybe",null,null,null,"Northern Long-Eared Bat","Piping Plover","","","Red Knot","",{"$f":"IF(AY25<>\"\",AY25&IF(AU25=AZ$3,\", \"&AZ$3,\"\"))","v":false},"FALSE","FALSE","FALSE, Red Knot"]
["Lamoure",null,"X",null,null,null,"X",null,null,null,null,"X",null,null,null,8,1,8,11,null,null,"Lamoure",0,4,0,0,0,3,0,0,0,0,1,0,0,0,"Whooping Crane","FALSE","Sprague's Pipit","No","No","No",null,null,null,"Northern Long-Eared Bat","","","","","",{"$f":"IF(AY26<>\"\",AY26&IF(AU26=AZ$3,\", \"&AZ$3,\"\"))","v":false},"FALSE","FALSE","FALSE"]
["Logan",null,"X",null,null,null,"X","X",null,null,null,"X","X",null,null,14,5,11,15,null,null,"Logan",0,4,0,0,0,3,3,0,0,0,1,0,0,3,"Whooping Crane","FALSE","Sprague's Pipit","No","No","Maybe",null,null,null,"Northern Long-Eared Bat","Piping Plover","","","","",{"$f":"IF(AY27<>\"\",AY27&IF(AU27=AZ$3,\", \"&AZ$3,\"\"))","v":false},"FALSE","FALSE","FALSE"]
["McHenry",null,"X",null,null,null,"X","X",null,"X","X","X","X","X",null,23,5,12,17,null,null,"McHenry",0,4,0,0,0,3,3,0,3,3,1,3,0,3,"Whooping Crane","FALSE, Dakota Skipper, Red Knot","Sprague's Pipit","Maybe","No","Maybe",null,null,null,"Northern Long-Eared Bat","Piping Plover","","Dakota Skipper","Red Knot","",{"$f":"IF(AY28<>\"\",AY28&IF(AU28=AZ$3,\", \"&AZ$3,\"\"))","v":false},"FALSE","FALSE, Dakota Skipper","FALSE, Dakota Skipper, Red Knot"]
["McIntosh",null,"X",null,null,null,"X","X",null,null,"X","X","X",null,null,17,5,11,15,null,null,"McIntosh",0,4,0,0,0,3,3,0,0,3,1,0,0,3,"Whooping Crane","FALSE, Red Knot","Sprague's Pipit","No","No","Maybe",null,null,null,"Northern Long-Eared Bat","Piping Plover","","","Red Knot","",{"$f":"IF(AY29<>\"\",AY29&IF(AU29=AZ$3,\", \"&AZ$3,\"\"))","v":false},"FALSE","FALSE","FALSE, Red Knot"]
["McKenzie","X","X","X","X",null,"X","X",null,"X","X","X","X","X",null,23,5,12,17,null,null,"McKenzie",0,4,0,0,0,3,3,0,3,3,1,3,0,3,"Whooping Crane","FALSE, Dakota Skipper, Red Knot","Sprague's Pipit","Maybe","No","Maybe",null,null,null,"Northern Long-Eared Bat","Piping Plover","","Dakota Skipper","Red Knot","",{"$f":"IF(AY30<>\"\",AY30&IF(AU30=AZ$3,\", \"&AZ$3,\"\"))","v":false},"FALSE","FALSE, Dakota Skipper","FALSE, Dakota Skipper, Red Knot"]
["McLean","X","X",null,"X",null,"X","X",null,"X","X","X","X",null,null,20,5,12,17,null,null,"McLean",0,4,0,0,0,3,3,0,3,3,1,0,0,3,"Whooping Crane","FALSE, Dakota Skipper, Red Knot","Sprague's Pipit","No","No","Maybe",null,null,null,"Northern Long-Eared Bat","Piping Plover","","Dakota Skipper","Red Knot","",{"$f":"IF(AY31<>\"\",AY31&IF(AU31=AZ$3,\", \"&AZ$3,\"\"))","v":false},"FALSE","FALSE, Dakota Skipper","FALSE, Dakota Skipper, Red Knot"]
["Mercer","X","X","X","X",null,"X","X",null,null,"X","X","X",null,null,17,5,11,15,null,null,"Mercer",0,4,0,0,0,3,3,0,0,3,1,0,0,3,"Whooping Crane","FALSE, Red Knot","Sprague's Pipit","No","No","Maybe",null,null,null,"Northern Long-Eared Bat","Piping Plover","","","Red Knot","",{"$f":"IF(AY32<>\"\",AY32&IF(AU32=AZ$3,\", \"&AZ$3,\"\"))","v":false},"FALSE","FALSE","FALSE, Red Knot"]
["Morton","X","X","X","X",null,"X","X",null,null,"X","X","X",null,null,17,5,11,15,null,null,"Morton",0,4,0,0,0,3,3,0,0,3,1,0,0,3,"Whooping Crane","FALSE, Red Knot","Sprague's Pipit","No","No","Maybe",null,null,null,"Northern Long-Eared Bat","Piping Plover","","","Red Knot","",{"$f":"IF(AY33<>\"\",AY33&IF(AU33=AZ$3,\", \"&AZ$3,\"\"))","v":false},"FALSE","FALSE","FALSE, Red Knot"]
["Mountrail","X","X",null,"X",null,"X","X",null,"X","X","X","X",null,null,20,5,12,17,null,null,"Mountrail",0,4,0,0,0,3,3,0,3,3,1,0,0,3,"Whooping Crane","FALSE, Dakota Skipper, Red Knot","Sprague's Pipit","No","No","Maybe",null,null,null,"Northern Long-Eared Bat","Piping Plover","","Dakota Skipper","Red Knot","",{"$f":"IF(AY34<>\"\",AY34&IF(AU34=AZ$3,\", \"&AZ$3,\"\"))","v":false},"FALSE","FALSE, Dakota Skipper","FALSE, Dakota Skipper, Red Knot"]
["Nelson",null,"X",null,null,null,"X",null,null,null,null,null,null,null,null,7,0,6,8,null,null,"Nelson",0,4,0,0,0,3,0,0,0,0,0,0,0,0,"Whooping Crane","FALSE","","No","No","No",null,null,null,"Northern Long-Eared Bat","","","","","",{"$f":"IF(AY35<>\"\",AY35&IF(AU35=AZ$3,\", \"&AZ$3,\"\"))","v":false},"FALSE","FALSE","FALSE"]
["Oliver","X","X","X","X",null,"X","X",null,"X","X","X","X",null,null,{"$f":"SUM(W36:AJ36)","v":20},5,12,17,null,null,"Oliver",{"$f":"IF(B36=\"X\",B$1,0)","v":0},{"$f":"IF(C36=\"X\",C$1,0)","v":4},{"$f":"IF(F36=\"X\",F$1,0)","v":0},{"$f":"IF(D36=\"X\",D$1,0)","v":0},{"$f":"IF(E36=\"X\",E$1,0)","v":0},{"$f":"IF(G36=\"X\",G$1,0)","v":3},{"$f":"IF(H36=\"X\",H$1,0)","v":3},{"$f":"IF(I36=\"X\",I$1,0)","v":0},{"$f":"IF(J36=\"X\",J$1,0)","v":3},{"$f":"IF(K36=\"X\",K$1,0)","v":3},{"$f":"IF(L36=\"X\",L$1,0)","v":1},{"$f":"IF(N36=\"X\",N$1,0)","v":0},{"$f":"IF(O36=\"X\",O$1,0)","v":0},3,{"$f":"IF(X36=0,IF(Y36=0,\"\",$Y$3),$X$3&IF(Y36=0,\"\",\", \"&$Y$3))","v":"Whooping Crane"},"FALSE, Dakota Skipper, Red Knot","Sprague's Pipit","No","No","Maybe",null,null,null,"Northern Long-Eared Bat","Piping Plover","","Dakota Skipper","Red Knot","",{"$f":"IF(AY36<>\"\",AY36&IF(AU36=AZ$3,\", \"&AZ$3,\"\"))","v":false},"FALSE","FALSE, Dakota Skipper","FALSE, Dakota Skipper, Red Knot"]
["Pembina",null,"X",null,null,null,"X",null,null,null,null,"X",null,null,null,8,0,7,9,null,null,"Pembina",0,4,0,0,0,3,0,0,0,0,1,0,0,{"$f":"IF(M37=\"X\",M$1,0)","v":0},"Whooping Crane","FALSE","Sprague's Pipit","No","No","No",null,null,null,"Northern Long-Eared Bat","","","","","",{"$f":"IF(AY37<>\"\",AY37&IF(AU37=AZ$3,\", \"&AZ$3,\"\"))","v":false},"FALSE","FALSE","FALSE"]
["Pierce",null,"X",null,null,null,"X","X",null,null,"X","X","X",null,null,17,5,11,15,null,null,"Pierce",0,4,0,0,0,3,3,0,0,3,1,0,0,3,"Whooping Crane","FALSE, Red Knot","Sprague's Pipit","No","No","Maybe",null,null,null,"Northern Long-Eared Bat","Piping Plover","","","Red Knot","",{"$f":"IF(AY38<>\"\",AY38&IF(AU38=AZ$3,\", \"&AZ$3,\"\"))","v":false},"FALSE","FALSE","FALSE, Red Knot"]
["Ramsey",null,"X",null,null,null,"X",null,null,null,null,"X",null,null,null,8,0,7,9,null,null,"Ramsey",0,4,0,0,0,3,0,0,0,0,1,0,0,0,"Whooping Crane","FALSE","Sprague's Pipit","No","No","No",null,null,null,"Northern Long-Eared Bat","","","","","",{"$f":"IF(AY39<>\"\",AY39&IF(AU39=AZ$3,\", \"&AZ$3,\"\"))","v":false},"FALSE","FALSE","FALSE"]
["Ransom",null,"X",null,null,null,"X",null,"X","X",null,"X",null,"X",null,17,1,11,16,null,null,"Ransom",0,4,0,0,0,3,0,3,3,0,1,3,0,0,"Whooping Crane","FALSE, Western Prairie Fringed Orchid, Dakota Skipper","Sprague's Pipit","Maybe","No","No",null,null,null,"Northern Long-Eared Bat","","Western Prairie Fringed Orchid","Dakota Skipper","","",{"$f":"IF(AY40<>\"\",AY40&IF(AU40=AZ$3,\", \"&AZ$3,\"\"))","v":false},"FALSE, Western Prairie Fringed Orchid","FALSE, Western Prairie Fringed Orchid, Dakota Skipper","FALSE, Western Prairie Fringed Orchid, Dakota Skipper"]
["Renville",null,"X",null,null,null,"X","X",null,null,"X","X","X",null,null,17,5,11,15,null,null,"Renville",0,4,0,0,0,3,3,0,0,3,1,0,0,3,"Whooping Crane","FALSE, Red Knot","Sprague's Pipit","No","No","Maybe",null,null,null,"Northern Long-Eared Bat","Piping Plover","","","Red Knot","",{"$f":"IF(AY41<>\"\",AY41&IF(AU41=AZ$3,\", \"&AZ$3,\"\"))","v":false},"FALSE","FALSE","FALSE, Red Knot"]
["Richland",null,"X",null,null,"X","X",null,"X","X",null,null,null,"X","X",23,1,10,15,null,null,"Richland",0,4,4,0,0,3,0,3,3,0,0,3,3,0,"Whooping Crane, Poweshiek Skipperling","FALSE, Western Prairie Fringed Orchid, Dakota Skipper","","Maybe","Maybe","No",null,null,null,"Northern Long-Eared Bat","","Western Prairie Fringed Orchid","Dakota Skipper","","",{"$f":"IF(AY42<>\"\",AY42&IF(AU42=AZ$3,\", \"&AZ$3,\"\"))","v":false},"FALSE, Western Prairie Fringed Orchid","FALSE, Western Prairie Fringed Orchid, Dakota Skipper","FALSE, Western Prairie Fringed Orchid, Dakota Skipper"]
["Rolette",null,"X",null,null,null,"X",null,null,"X",null,"X",null,"X",null,14,1,8,11,null,null,"Rolette",0,4,0,0,0,3,0,0,3,0,1,3,0,0,"Whooping Crane","FALSE, Dakota Skipper","Sprague's Pipit","Maybe","No","No",null,null,null,"Northern Long-Eared Bat","","","Dakota Skipper","","",{"$f":"IF(AY43<>\"\",AY43&IF(AU43=AZ$3,\", \"&AZ$3,\"\"))","v":false},"FALSE","FALSE, Dakota Skipper","FALSE, Dakota Skipper"]
["Sargent",null,"X",null,null,"X","X",null,null,"X",null,"X",null,null,null,15,1,9,13,null,null,"Sargent",0,4,4,0,0,3,0,0,3,0,1,0,0,0,"Whooping Crane, Poweshiek Skipperling","FALSE, Dakota Skipper","Sprague's Pipit","No","No","No",null,null,null,"Northern Long-Eared Bat","","","Dakota Skipper","","",{"$f":"IF(AY44<>\"\",AY44&IF(AU44=AZ$3,\", \"&AZ$3,\"\"))","v":false},"FALSE","FALSE, Dakota Skipper","FALSE, Dakota Skipper"]
["Sheridan",null,"X",null,null,null,"X","X",null,null,"X","X","X",null,null,17,5,11,15,null,null,"Sheridan",0,4,0,0,0,3,3,0,0,3,1,0,0,3,"Whooping Crane","FALSE, Red Knot","Sprague's Pipit","No","No","Maybe",null,null,null,"Northern Long-Eared Bat","Piping Plover","","","Red Knot","",{"$f":"IF(AY45<>\"\",AY45&IF(AU45=AZ$3,\", \"&AZ$3,\"\"))","v":false},"FALSE","FALSE","FALSE, Red Knot"]
["Sioux","X","X","X","X",null,"X","X",null,null,"X","X","X",null,null,17,5,11,15,null,null,"Sioux",0,4,0,0,0,3,3,0,0,3,1,0,0,3,"Whooping Crane","FALSE, Red Knot","Sprague's Pipit","No","No","Maybe",null,null,null,"Northern Long-Eared Bat","Piping Plover","","","Red Knot","",{"$f":"IF(AY46<>\"\",AY46&IF(AU46=AZ$3,\", \"&AZ$3,\"\"))","v":false},"FALSE","FALSE","FALSE, Red Knot"]
["Slope",null,"X","X",null,null,"X",null,null,null,null,"X",null,null,null,8,1,7,10,null,null,"Slope",0,4,0,0,0,3,0,0,0,0,1,0,0,0,"Whooping Crane","FALSE","Sprague's Pipit","No","No","No",null,null,null,"Northern Long-Eared Bat","","","","","",{"$f":"IF(AY47<>\"\",AY47&IF(AU47=AZ$3,\", \"&AZ$3,\"\"))","v":false},"FALSE","FALSE","FALSE"]
["Stark",null,"X","X",null,null,"X",null,null,null,null,"X",null,null,null,8,1,7,9,null,null,"Stark",0,4,0,0,0,3,0,0,0,0,1,0,0,0,"Whooping Crane","FALSE","Sprague's Pipit","No","No","No",null,null,null,"Northern Long-Eared Bat","","","","","",{"$f":"IF(AY48<>\"\",AY48&IF(AU48=AZ$3,\", \"&AZ$3,\"\"))","v":false},"FALSE","FALSE","FALSE"]
["Steele",null,"X",null,null,null,"X",null,null,null,null,null,null,null,null,7,0,6,8,null,null,"Steele",0,4,0,0,0,3,0,0,0,0,0,0,0,0,"Whooping Crane","FALSE","","No","No","No",null,null,null,"Northern Long-Eared Bat","","","","","",{"$f":"IF(AY49<>\"\",AY49&IF(AU49=AZ$3,\", \"&AZ$3,\"\"))","v":false},"FALSE","FALSE","FALSE"]
["Stutsman",null,"X",null,null,null,"X","X",null,"X","X","X","X",null,null,20,5,12,17,null,null,"Stutsman",0,4,0,0,0,3,3,0,3,3,1,0,0,3,"Whooping Crane","FALSE, Dakota Skipper, Red Knot","Sprague's Pipit","No","No","Maybe",null,null,null,"Northern Long-Eared Bat","Piping Plover","","Dakota Skipper","Red Knot","",{"$f":"IF(AY50<>\"\",AY50&IF(AU50=AZ$3,\", \"&AZ$3,\"\"))","v":false},"FALSE","FALSE, Dakota Skipper","FALSE, Dakota Skipper, Red Knot"]
["Towner",null,"X",null,null,null,"X",null,null,null,null,"X",null,null,null,8,1,7,9,null,null,"Towner",0,4,0,0,0,3,0,0,0,0,1,0,0,0,"Whooping Crane","FALSE","Sprague's Pipit","No","No","No",null,null,null,"Northern Long-Eared Bat","","","","","",{"$f":"IF(AY51<>\"\",AY51&IF(AU51=AZ$3,\", \"&AZ$3,\"\"))","v":false},"FALSE","FALSE","FALSE"]
["Traill",null,"X",null,null,null,"X",null,null,null,null,null,null,null,null,7,0,6,8,null,null,"Traill",0,4,0,0,0,3,0,0,0,0,0,0,0,0,"Whooping Crane","FALSE","","No","No","No",null,null,null,"Northern Long-Eared Bat","","","","","",{"$f":"IF(AY52<>\"\",AY52&IF(AU52=AZ$3,\", \"&AZ$3,\"\"))","v":false},"FALSE","FALSE","FALSE"]
["Walsh",null,"X",null,null,null,"X",null,null,null,null,"X",null,null,null,8,0,7,9,null,null,"Walsh",0,4,0,0,0,3,0,0,0,0,1,0,0,0,"Whooping Crane","FALSE","Sprague's Pipit","No","No","No",null,null,null,"Northern Long-Eared Bat","","","","","",{"$f":"IF(AY53<>\"\",AY53&IF(AU53=AZ$3,\", \"&AZ$3,\"\"))","v":false},"FALSE","FALSE","FALSE"]
["Ward",null,"X",null,null,null,"X","X",null,"X","X","X","X",null,null,20,5,12,17,null,null,"Ward",0,4,0,0,0,3,3,0,3,3,1,0,0,3,"Whooping Crane","FALSE, Dakota Skipper, Red Knot","Sprague's Pipit","No","No","Maybe",null,null,null,"Northern Long-Eared Bat","Piping Plover","","Dakota Skipper","Red Knot","",{"$f":"IF(AY54<>\"\",AY54&IF(AU54=AZ$3,\", \"&AZ$3,\"\"))","v":false},"FALSE","FALSE, Dakota Skipper","FALSE, Dakota Skipper, Red Knot"]
["Wells",null,"X",null,null,null,"X","X",null,"X","X","X",null,null,null,17,1,10,14,null,null,"Wells",0,4,0,0,0,3,3,0,3,3,1,0,0,0,"Whooping Crane","FALSE, Dakota Skipper, Red Knot","Sprague's Pipit","No","No","No",null,null,null,"Northern Long-Eared Bat","Piping Plover","","Dakota Skipper","Red Knot","",{"$f":"IF(AY55<>\"\",AY55&IF(AU55=AZ$3,\", \"&AZ$3,\"\"))","v":false},"FALSE","FALSE, Dakota Skipper","FALSE, Dakota Skipper, Red Knot"]
["Williams","X","X",null,"X",null,"X","X",null,null,"X","X","X",null,null,17,5,11,15,null,null,"Williams",0,4,0,0,0,3,3,0,0,3,1,0,0,3,"Whooping Crane","FALSE, Red Knot","Sprague's Pipit","No","No","Maybe",null,null,null,"Northern Long-Eared Bat","Piping Plover","","","Red Knot","",{"$f":"IF(AY56<>\"\",AY56&IF(AU56=AZ$3,\", \"&AZ$3,\"\"))","v":false},"FALSE","FALSE","FALSE, Red Knot"]

{"sheet":"HUC_Priorities","index":16,"n_rows":54,"n_cols":11,"rows_kept":54,"cut":false,"hidden":true,"merged":[[23,3,25,3],[23,10,25,10]]}
["From 2014 tmdl report - impaired waters",null,null,null,null,null,null,"Pre2014 Report"]
["HUC","Contains\nImpaired\nWaters","Contains\nWatershed\nProject",null,null,"Changed?",null,"HUC","Contains\nImpaired\nWaters","Contains\nWatershed\nProject"]
["09010001","No","Yes",null,{"$f":"IF(ISNA(VLOOKUP(A3,'TMDL Report 2014'!$A$5:$A$466,1,FALSE)),\"No\",\"Yes\")","v":"No"},{"$f":"IF(E3=I3,\"\",\"X\")","v":"X"},null,"09010001","Yes","Yes"]
["09010002","Yes","No",null,{"$f":"IF(ISNA(VLOOKUP(A4,'TMDL Report 2014'!$A$5:$A$466,1,FALSE)),\"No\",\"Yes\")","v":"Yes"},{"$f":"IF(E4=I4,\"\",\"X\")","v":""},null,"09010002","Yes","No"]
["09010003","Yes","No",null,{"$f":"IF(ISNA(VLOOKUP(A5,'TMDL Report 2014'!$A$5:$A$466,1,FALSE)),\"No\",\"Yes\")","v":"Yes"},"",null,"09010003","Yes","No"]
["09010004","Yes","No",null,{"$f":"IF(ISNA(VLOOKUP(A6,'TMDL Report 2014'!$A$5:$A$466,1,FALSE)),\"No\",\"Yes\")","v":"Yes"},"",null,"09010004","Yes","No"]
["09010005","No","No",null,{"$f":"IF(ISNA(VLOOKUP(A7,'TMDL Report 2014'!$A$5:$A$466,1,FALSE)),\"No\",\"Yes\")","v":"No"},"",null,"09010005","No","No"]
["09020101","Yes","No",null,{"$f":"IF(ISNA(VLOOKUP(A8,'TMDL Report 2014'!$A$5:$A$466,1,FALSE)),\"No\",\"Yes\")","v":"Yes"},"",null,"09020101","Yes","No"]
["09020104","Yes","No",null,{"$f":"IF(ISNA(VLOOKUP(A9,'TMDL Report 2014'!$A$5:$A$466,1,FALSE)),\"No\",\"Yes\")","v":"Yes"},"",null,"09020104","Yes","No"]
["09020105","Yes","Yes",null,{"$f":"IF(ISNA(VLOOKUP(A10,'TMDL Report 2014'!$A$5:$A$466,1,FALSE)),\"No\",\"Yes\")","v":"Yes"},"",null,"09020105","Yes","Yes"]
["09020107","Yes","No",null,{"$f":"IF(ISNA(VLOOKUP(A11,'TMDL Report 2014'!$A$5:$A$466,1,FALSE)),\"No\",\"Yes\")","v":"Yes"},"",null,"09020107","Yes","No"]
["09020109","Yes","No",null,{"$f":"IF(ISNA(VLOOKUP(A12,'TMDL Report 2014'!$A$5:$A$466,1,FALSE)),\"No\",\"Yes\")","v":"Yes"},"",null,"09020109","Yes","No"]
["09020201","Yes","No",null,{"$f":"IF(ISNA(VLOOKUP(A13,'TMDL Report 2014'!$A$5:$A$466,1,FALSE)),\"No\",\"Yes\")","v":"Yes"},"",null,"09020201","Yes","No"]
["09020202","Yes","No",null,{"$f":"IF(ISNA(VLOOKUP(A14,'TMDL Report 2014'!$A$5:$A$466,1,FALSE)),\"No\",\"Yes\")","v":"Yes"},"",null,"09020202","Yes","No"]
["09020203","Yes","Yes",null,{"$f":"IF(ISNA(VLOOKUP(A15,'TMDL Report 2014'!$A$5:$A$466,1,FALSE)),\"No\",\"Yes\")","v":"Yes"},"",null,"09020203","Yes","Yes"]
["09020204","Yes","Yes",null,{"$f":"IF(ISNA(VLOOKUP(A16,'TMDL Report 2014'!$A$5:$A$466,1,FALSE)),\"No\",\"Yes\")","v":"Yes"},"",null,"09020204","Yes","Yes"]
["09020205","Yes","No",null,{"$f":"IF(ISNA(VLOOKUP(A17,'TMDL Report 2014'!$A$5:$A$466,1,FALSE)),\"No\",\"Yes\")","v":"Yes"},"",null,"09020205","Yes","No"]
["09020301","Yes","No",null,{"$f":"IF(ISNA(VLOOKUP(A18,'TMDL Report 2014'!$A$5:$A$466,1,FALSE)),\"No\",\"Yes\")","v":"Yes"},"",null,"09020301","Yes","No"]
["09020306","Yes","No",null,{"$f":"IF(ISNA(VLOOKUP(A19,'TMDL Report 2014'!$A$5:$A$466,1,FALSE)),\"No\",\"Yes\")","v":"Yes"},"",null,"09020306","Yes","No"]
["09020307","Yes","No",null,{"$f":"IF(ISNA(VLOOKUP(A20,'TMDL Report 2014'!$A$5:$A$466,1,FALSE)),\"No\",\"Yes\")","v":"Yes"},"",null,"09020307","Yes","No"]
["09020308","Yes","No",null,{"$f":"IF(ISNA(VLOOKUP(A21,'TMDL Report 2014'!$A$5:$A$466,1,FALSE)),\"No\",\"Yes\")","v":"Yes"},"",null,"09020308","Yes","No"]
["09020310","Yes","No",null,{"$f":"IF(ISNA(VLOOKUP(A22,'TMDL Report 2014'!$A$5:$A$466,1,FALSE)),\"No\",\"Yes\")","v":"Yes"},"",null,"09020310","Yes","No"]
["09020311","Yes","No",null,{"$f":"IF(ISNA(VLOOKUP(A23,'TMDL Report 2014'!$A$5:$A$466,1,FALSE)),\"No\",\"Yes\")","v":"Yes"},"",null,"09020311","Yes","No"]
["09020313","Yes","No","09020313 was separated into 315 and 316","Yes","",null,"09020313","Yes","No","09020313 was separated into 315 and 316"]
["09020315","Yes",null,null,{"$f":"IF(ISNA(VLOOKUP(A25,'TMDL Report 2014'!$A$5:$A$466,1,FALSE)),\"No\",\"Yes\")","v":"Yes"},{"$f":"IF(E25=I24,\"\",\"X\")","v":""},null,"09020315"]
["09020316","Yes",null,null,{"$f":"IF(ISNA(VLOOKUP(A26,'TMDL Report 2014'!$A$5:$A$466,1,FALSE)),\"No\",\"Yes\")","v":"Yes"},{"$f":"IF(E26=I24,\"\",\"X\")","v":""},null,"09020316"]
["10060005","No","No",null,{"$f":"IF(ISNA(VLOOKUP(A27,'TMDL Report 2014'!$A$5:$A$466,1,FALSE)),\"No\",\"Yes\")","v":"No"},"",null,"10060005","No","No"]
["10060006","No","No",null,{"$f":"IF(ISNA(VLOOKUP(A28,'TMDL Report 2014'!$A$5:$A$466,1,FALSE)),\"No\",\"Yes\")","v":"No"},"",null,"10060006","No","No"]
["10060007","No","No",null,{"$f":"IF(ISNA(VLOOKUP(A29,'TMDL Report 2014'!$A$5:$A$466,1,FALSE)),\"No\",\"Yes\")","v":"No"},"",null,"10060007","No","No"]
["10100004","No","No",null,{"$f":"IF(ISNA(VLOOKUP(A30,'TMDL Report 2014'!$A$5:$A$466,1,FALSE)),\"No\",\"Yes\")","v":"No"},"X",null,"10100004","Yes","No"]
["10110101","Yes","Yes",null,{"$f":"IF(ISNA(VLOOKUP(A31,'TMDL Report 2014'!$A$5:$A$466,1,FALSE)),\"No\",\"Yes\")","v":"Yes"},"",null,"10110101","Yes","Yes"]
["10110102","Yes","No",null,{"$f":"IF(ISNA(VLOOKUP(A32,'TMDL Report 2014'!$A$5:$A$466,1,FALSE)),\"No\",\"Yes\")","v":"Yes"},"",null,"10110102","Yes","No"]
["10110201","No","No",null,{"$f":"IF(ISNA(VLOOKUP(A33,'TMDL Report 2014'!$A$5:$A$466,1,FALSE)),\"No\",\"Yes\")","v":"No"},"",null,"10110201","No","No"]
["10110202","No","No",null,{"$f":"IF(ISNA(VLOOKUP(A34,'TMDL Report 2014'!$A$5:$A$466,1,FALSE)),\"No\",\"Yes\")","v":"No"},"",null,"10110202","No","No"]
["10110203","Yes","Yes",null,{"$f":"IF(ISNA(VLOOKUP(A35,'TMDL Report 2014'!$A$5:$A$466,1,FALSE)),\"No\",\"Yes\")","v":"Yes"},"",null,"10110203","Yes","Yes"]
["10110204","No","No",null,{"$f":"IF(ISNA(VLOOKUP(A36,'TMDL Report 2014'!$A$5:$A$466,1,FALSE)),\"No\",\"Yes\")","v":"No"},"",null,"10110204","No","No"]
["10110205","Yes","No",null,{"$f":"IF(ISNA(VLOOKUP(A37,'TMDL Report 2014'!$A$5:$A$466,1,FALSE)),\"No\",\"Yes\")","v":"Yes"},"",null,"10110205","Yes","No"]
["10130101","Yes","No",null,{"$f":"IF(ISNA(VLOOKUP(A38,'TMDL Report 2014'!$A$5:$A$466,1,FALSE)),\"No\",\"Yes\")","v":"Yes"},"",null,"10130101","Yes","No"]
["10130102","No","No",null,{"$f":"IF(ISNA(VLOOKUP(A39,'TMDL Report 2014'!$A$5:$A$466,1,FALSE)),\"No\",\"Yes\")","v":"No"},"X",null,"10130102","Yes","No"]
["10130103","Yes","No",null,{"$f":"IF(ISNA(VLOOKUP(A40,'TMDL Report 2014'!$A$5:$A$466,1,FALSE)),\"No\",\"Yes\")","v":"Yes"},"",null,"10130103","Yes","No"]
["10130104","Yes","Yes",null,{"$f":"IF(ISNA(VLOOKUP(A41,'TMDL Report 2014'!$A$5:$A$466,1,FALSE)),\"No\",\"Yes\")","v":"Yes"},"",null,"10130104","Yes","Yes"]
["10130106","Yes","No",null,{"$f":"IF(ISNA(VLOOKUP(A42,'TMDL Report 2014'!$A$5:$A$466,1,FALSE)),\"No\",\"Yes\")","v":"Yes"},"",null,"10130106","Yes","No"]
["10130201","Yes","Yes",null,{"$f":"IF(ISNA(VLOOKUP(A43,'TMDL Report 2014'!$A$5:$A$466,1,FALSE)),\"No\",\"Yes\")","v":"Yes"},"",null,"10130201","Yes","Yes"]
["10130202","Yes","No",null,{"$f":"IF(ISNA(VLOOKUP(A44,'TMDL Report 2014'!$A$5:$A$466,1,FALSE)),\"No\",\"Yes\")","v":"Yes"},"",null,"10130202","Yes","No"]
["10130203","Yes","No",null,{"$f":"IF(ISNA(VLOOKUP(A45,'TMDL Report 2014'!$A$5:$A$466,1,FALSE)),\"No\",\"Yes\")","v":"Yes"},"",null,"10130203","Yes","No"]
["10130204","Yes","Yes",null,{"$f":"IF(ISNA(VLOOKUP(A46,'TMDL Report 2014'!$A$5:$A$466,1,FALSE)),\"No\",\"Yes\")","v":"Yes"},"",null,"10130204","Yes","Yes"]
["10130205","Yes","Yes",null,{"$f":"IF(ISNA(VLOOKUP(A47,'TMDL Report 2014'!$A$5:$A$466,1,FALSE)),\"No\",\"Yes\")","v":"Yes"},"",null,"10130205","Yes","Yes"]
["10130206","Yes","No",null,{"$f":"IF(ISNA(VLOOKUP(A48,'TMDL Report 2014'!$A$5:$A$466,1,FALSE)),\"No\",\"Yes\")","v":"Yes"},"",null,"10130206","Yes","No"]
["10130301","No","No",null,{"$f":"IF(ISNA(VLOOKUP(A49,'TMDL Report 2014'!$A$5:$A$466,1,FALSE)),\"No\",\"Yes\")","v":"No"},"",null,"10130301","No","No"]
["10130303","Yes","No",null,{"$f":"IF(ISNA(VLOOKUP(A50,'TMDL Report 2014'!$A$5:$A$466,1,FALSE)),\"No\",\"Yes\")","v":"Yes"},"",null,"10130303","Yes","No"]
["10160001","Yes","Yes",null,{"$f":"IF(ISNA(VLOOKUP(A51,'TMDL Report 2014'!$A$5:$A$466,1,FALSE)),\"No\",\"Yes\")","v":"Yes"},"",null,"10160001","Yes","Yes"]
["10160002","Yes","Yes",null,{"$f":"IF(ISNA(VLOOKUP(A52,'TMDL Report 2014'!$A$5:$A$466,1,FALSE)),\"No\",\"Yes\")","v":"Yes"},"",null,"10160002","Yes","Yes"]
["10160003","Yes","Yes",null,{"$f":"IF(ISNA(VLOOKUP(A53,'TMDL Report 2014'!$A$5:$A$466,1,FALSE)),\"No\",\"Yes\")","v":"Yes"},"",null,"10160003","Yes","Yes"]
["10160004","Yes","Yes",null,{"$f":"IF(ISNA(VLOOKUP(A54,'TMDL Report 2014'!$A$5:$A$466,1,FALSE)),\"No\",\"Yes\")","v":"Yes"},"",null,"10160004","Yes","Yes"]

{"sheet":"TMDL Report 2014","index":17,"n_rows":466,"n_cols":9,"rows_kept":466,"cut":false,"hidden":true,"merged":[]}
[null,null,"Report","2014_North_Dakota_Integrated_Report_Final_20150428.pdf"]
[null,null,"Source link:","http://ofmpub.epa.gov/waters10/attains_impaired_waters.impaired_waters_list?p_state=ND&p_cycle=2014"]
[]
[null,null,"Waterbody Name","Waterbody ID","Map","Location","Cause of Impairment","Cycles Listed","Latest TMDL Date"]
[{"$f":"MID(D5,4,8)","v":"09020105"},null,"Antelope Creek","ND-09020105-005-S_00","Waterbody Map","Antelope Creek, in Richland County, from its headwaters downstream to its confluence with the Wild Rice River.","Benthic Macroinvertebrates Bioassessments","2008, 2010, 2012, 2014"]
[{"$f":"MID(D6,4,8)","v":"09020105"},null,"Antelope Creek","ND-09020105-005-S_00","Waterbody Map","Antelope Creek, in Richland County, from its headwaters downstream to its confluence with the Wild Rice River.","Escherichia Coli (E. Coli)","2008, 2010, 2014"]
["09020105",null,"Antelope Creek","ND-09020105-005-S_00","Waterbody Map","Antelope Creek, in Richland County, from its headwaters downstream to its confluence with the Wild Rice River.","Fecal Coliform","2008, 2010, 2014","Sep-28-2010"]
["09020105",null,"Antelope Creek","ND-09020105-005-S_00","Waterbody Map","Antelope Creek, in Richland County, from its headwaters downstream to its confluence with the Wild Rice River.","Sedimentation/Siltation","2008, 2010, 2012, 2014"]
["09020105",null,"Antelope Creek","ND-09020105-005-S_00","Waterbody Map","Antelope Creek, in Richland County, from its headwaters downstream to its confluence with the Wild Rice River.","Temperature, Water","2006, 2008, 2010, 2012, 2014"]
["10130201",null,"Antelope Creek","ND-10130201-014-S_00","Waterbody Map","Antelope Creek from its confluence with East Branch Antelope Creek Watershed (ND-10130201-016-S) downstream to its confluence with the Knife River. Located in Mercer County.","Fecal Coliform","2002, 2004, 2006, 2008, 2010, 2012, 2014"]
["10130201",null,"Antelope Creek","ND-10130201-017-S_00","Waterbody Map","Antelope Creek main stem downstream to its confluence with East Branch Antelope Creek Watershed (ND-10130201-016-S). Located in Mercer County.","Fecal Coliform","2004, 2006, 2008, 2010, 2012, 2014"]
["10130203",null,"Antelope Creek","ND-10130203-006-S_00","Waterbody Map","Antelope Creek from a tributary watershed near Elgin, ND (ND-10130203-054-S) downstream to its confluence with the Heart River.","Escherichia Coli (E. Coli)",2014]
["10130203",null,"Antelope Creek Watershed","ND-10130203-055-S_00","Waterbody Map","Antelope Creek upstream from its confluence with a tributary watershed in Grant County (ND-10130203-054-S).","Escherichia Coli (E. Coli)",2014]
["09020315",null,"Armourdale Dam","ND-09020315-006-L_00","Data Unavailable","Armourdale Dam is a reservoir on Armourdale Coulee in Towner County, N.D. The reservoir was built in 1961 for flood control and recreation. It's watershed has a surface area of 7,770 acres of primarily agricultural lands.","Dissolved Oxygen"]
["09020315",null,"Armourdale Dam","ND-09020315-006-L_00","Data Unavailable","Armourdale Dam is a reservoir on Armourdale Coulee in Towner County, N.D. The reservoir was built in 1961 for flood control and recreation. It's watershed has a surface area of 7,770 acres of primarily agricultural lands.","Nutrient/Eutrophication Biological Indicators"]
["09020203",null,"Baldhill Creek","ND-09020203-002-S_00","Waterbody Map","Baldhill Creek from tributary watershed (ND-09020203-005-S_00) downstream to Lake Ashtabula. Located in Griggs and Barnes County.","Benthic Macroinvertebrates Bioassessments","2012, 2014"]
["09020203",null,"Baldhill Creek","ND-09020203-002-S_00","Waterbody Map","Baldhill Creek from tributary watershed (ND-09020203-005-S_00) downstream to Lake Ashtabula. Located in Griggs and Barnes County.","Escherichia Coli (E. Coli)","2002, 2004, 2006, 2008, 2010, 2012"]
["10160003",null,"Bear Creek","ND-10160003-032-S_00","Waterbody Map","Bear Creek from tributary watershed (ND-10160003-035-S_00), downstream to its confluence with the James River.","Fecal Coliform","2002, 2004, 2006, 2008","Sep-29-2009"]
["10160003",null,"Bear Creek Watershed (Upper)","ND-10160003-034-S_00","Waterbody Map","Bear Creek, upstream from tributary watershed (ND-10160003-035_00), including all tributaries.","Fecal Coliform","2006, 2008","Sep-29-2009"]
["09020109",null,"Beaver Creek","ND-09020109-024-S_00","Waterbody Map","Beaver Creek from the Golden Lake Diversion, downstream to its confluence with the Goose River.","Fecal Coliform","2008, 2010, 2012, 2014"]
["09020109",null,"Beaver Creek","ND-09020109-024-S_00","Waterbody Map","Beaver Creek from the Golden Lake Diversion, downstream to its confluence with the Goose River.","Fish Bioassessments",2014]
["09020109",null,"Beaver Creek","ND-09020109-027-S_00","Waterbody Map","Beaver Creek, downstream to the Golden Lake diversion channel.","Fecal Coliform","2008, 2010, 2012, 2014"]
["09020109",null,"Beaver Creek","ND-09020109-027-S_00","Waterbody Map","Beaver Creek, downstream to the Golden Lake diversion channel.","Fish Bioassessments","2006, 2008, 2010, 2012, 2014"]
["09020109",null,"Beaver Creek","ND-09020109-027-S_00","Waterbody Map","Beaver Creek, downstream to the Golden Lake diversion channel.","Sedimentation/Siltation","2004, 2006, 2008, 2010, 2012, 2014"]
["10130104",null,"Beaver Creek","ND-10130104-001-S_00","Waterbody Map","Beaver Creek from its confluence with Sand Creek downstream to Lake Oahe. Located in Emmons County.","Fecal Coliform","2002, 2004, 2006, 2008, 2010","Sep-28-2010"]
["10130104",null,"Beaver Creek","ND-10130104-003-S_00","Waterbody Map","Beaver Creek from its confluence with Spring Creek downstream to its confluence with Sand Creek. Located in Emmons County.","Fecal Coliform","2002, 2004, 2006, 2008, 2010","Sep-28-2010"]
["10130104",null,"Beaver Creek","ND-10130104-007-S_00","Waterbody Map","Beaver Creek from its confluence with the South Branch Beaver Creek downstream to its confluence with Spring Creek. Located in Emmons County.","Fecal Coliform","2004, 2006, 2008, 2010","Sep-28-2010"]
["10130104",null,"Beaver Creek","ND-10130104-010-S_00","Waterbody Map","Beaver Creek from Beaver Lake downstream to its confluence with the South Branch Beaver Creek. Located in Emmons and Logan Counties.","Fecal Coliform","2002, 2004, 2006, 2008, 2010","Sep-28-2010"]
["10160003",null,"Beaver Creek (SE Stutsman)","ND-10160003-005-S_00","Waterbody Map","Beaver Creek from its confluence with Buffalo Creek, downstream to its confluence with the James River, situated in SE Stutsman County.","Escherichia Coli (E. Coli)","2010, 2012, 2014"]
["10130104",null,"Beaver Lake","ND-10130104-001-L_00","Waterbody Map","A 953.1 acre, hypereutrophic, enhanced, natural lake on Beaver Creek in Logan County, North Dakota. Beaver Lake has a maximum depth of 7 feet and a mean depth of 5.6 feet. It's watershed covers 29,030 acres of fertile agricultural lands.","Dissolved Oxygen","1996, 1998, 2002, 2004, 2006, 2008, 2010, 2012, 2014"]
["10130104",null,"Beaver Lake","ND-10130104-001-L_00","Waterbody Map","A 953.1 acre, hypereutrophic, enhanced, natural lake on Beaver Creek in Logan County, North Dakota. Beaver Lake has a maximum depth of 7 feet and a mean depth of 5.6 feet. It's watershed covers 29,030 acres of fertile agricultural lands.","Nutrient/Eutrophication Biological Indicators","1996, 1998, 2002, 2004, 2006, 2008, 2010, 2012, 2014"]
["10130104",null,"Beaver Lake","ND-10130104-001-L_00","Waterbody Map","A 953.1 acre, hypereutrophic, enhanced, natural lake on Beaver Creek in Logan County, North Dakota. Beaver Lake has a maximum depth of 7 feet and a mean depth of 5.6 feet. It's watershed covers 29,030 acres of fertile agricultural lands.","Sedimentation/Siltation","1998, 2002, 2004, 2006, 2008, 2010, 2012, 2014"]
["10110102",null,"Blacktail Dam","ND-10110102-003-L_00","Waterbody Map","A 160 acre impoundment in Williams County, N.D. The reservoir was constructed in 1959 by the Williams County Park Board for recreation. Blacktail Dam has 18,035 acres of agricultural lands.","Dissolved Oxygen",2008]
["10110102",null,"Blacktail Dam","ND-10110102-003-L_00","Waterbody Map","A 160 acre impoundment in Williams County, N.D. The reservoir was constructed in 1959 by the Williams County Park Board for recreation. Blacktail Dam has 18,035 acres of agricultural lands.","Nutrient/Eutrophication Biological Indicators",2008]
["09020101",null,"Bois De Sioux River","ND-09020101-001-S_00","Waterbody Map","Bois De Sioux River from the ND-SD border, downstream to its confluence with the Rabbit River on MN side. Located in the SE corner of Richland County.","Combination Benthic/Fishes Bioassessments","2004, 2006, 2008, 2010, 2012, 2014"]
["09020101",null,"Bois De Sioux River","ND-09020101-001-S_00","Waterbody Map","Bois De Sioux River from the ND-SD border, downstream to its confluence with the Rabbit River on MN side. Located in the SE corner of Richland County.","Sedimentation/Siltation","2002, 2004, 2006, 2008, 2010, 2012, 2014"]
["09020101",null,"Bois De Sioux River","ND-09020101-002-S_00","Waterbody Map","Bois De Sioux River from its confluence with the Rabbit River (MN), downstream to its confluence with the Ottertail River. Located on the Eastern border of Richland County.","Benthic Macroinvertebrates Bioassessments","2004, 2006, 2008, 2010, 2012, 2014"]
["09020101",null,"Bois De Sioux River","ND-09020101-002-S_00","Waterbody Map","Bois De Sioux River from its confluence with the Rabbit River (MN), downstream to its confluence with the Ottertail River. Located on the Eastern border of Richland County.","Escherichia Coli (E. Coli)","2002, 2006, 2008, 2010, 2012, 2014"]
["09020101",null,"Bois De Sioux River","ND-09020101-002-S_00","Waterbody Map","Bois De Sioux River from its confluence with the Rabbit River (MN), downstream to its confluence with the Ottertail River. Located on the Eastern border of Richland County.","Sedimentation/Siltation","2002, 2004, 2006, 2008, 2010, 2012, 2014"]
["10160003",null,"Bone Hill Creek","ND-10160003-025-S_00","Waterbody Map","Bone Hill Creek, downstream to its confluence with the James River.","Fecal Coliform","2004, 2006, 2008","Sep-29-2009"]
["10130103",null,"Braddock Lake","ND-10130103-003-L_00","Waterbody Map","A 91.2 acre, hypereutrophic reservoir in Emmons County, North Dakota. Built in 1939 by the WPA for flood control, agriculture, and recreation. Braddock Dam has a 40,819 acre watershed of mostly cropland.","Dissolved Oxygen","1996, 2004, 2006, 2008, 2010, 2012","Nov-30-2012"]
["10130103",null,"Braddock Lake","ND-10130103-003-L_00","Waterbody Map","A 91.2 acre, hypereutrophic reservoir in Emmons County, North Dakota. Built in 1939 by the WPA for flood control, agriculture, and recreation. Braddock Dam has a 40,819 acre watershed of mostly cropland.","Nutrient/Eutrophication Biological Indicators","1996, 1998, 2002, 2004, 2006, 2008, 2010, 2012","Nov-30-2012"]
["10130103",null,"Braddock Lake","ND-10130103-003-L_00","Waterbody Map","A 91.2 acre, hypereutrophic reservoir in Emmons County, North Dakota. Built in 1939 by the WPA for flood control, agriculture, and recreation. Braddock Dam has a 40,819 acre watershed of mostly cropland.","Sedimentation/Siltation","1998, 2002, 2004, 2006, 2008, 2010, 2012, 2014"]
["09020204",null,"Brewer Lake","ND-09020204-003-L_00","Waterbody Map","Located in NW Cass County. See attached document on Assessment dialog.","Dissolved Oxygen","2004, 2006, 2008"]
["09020204",null,"Brewer Lake","ND-09020204-003-L_00","Waterbody Map","Located in NW Cass County. See attached document on Assessment dialog.","Nutrient/Eutrophication Biological Indicators","2004, 2006, 2008","Sep-29-2008"]
["09020204",null,"Brewer Lake","ND-09020204-003-L_00","Waterbody Map","Located in NW Cass County. See attached document on Assessment dialog.","Sedimentation/Siltation","2004, 2006, 2008, 2010, 2012, 2014"]
["10160004",null,"Bristol Gulch Watershed","ND-10160004-007-S_00","Waterbody Map","Bristol Gulch, including all tributaries. Located in Dickey County.","Sedimentation/Siltation","2002, 2004, 2006, 2008, 2010, 2012, 2014"]
["10130201",null,"Brush Creek Watershed","ND-10130201-036-S_00","Waterbody Map","Brush Creek and tributaries, located in Mercer and Oliver Counties.","Fecal Coliform","2006, 2008, 2010","Sep-30-2010"]
["10130101",null,"Brush Lake","ND-10130101-002-L_00","Waterbody Map","A 223 acre glacial lake in McLean County North Dakota.","Dissolved Oxygen","2008, 2010, 2012","Nov-30-2012"]
["10130101",null,"Brush Lake","ND-10130101-002-L_00","Waterbody Map","A 223 acre glacial lake in McLean County North Dakota.","Nutrient/Eutrophication Biological Indicators","2008, 2010, 2012","Nov-30-2012"]
["09020205",null,"Buffalo Creek","ND-09020205-006-S_00","Waterbody Map","Buffalo Creek from Embden Dam, downstream to the Maple River. Located in S.C. Cass County.","Escherichia Coli (E. Coli)",2014]
["10160003",null,"Buffalo Creek","ND-10160003-008-S_00","Waterbody Map","Buffalo Creek from its beginning, downstream to its confluence with Beaver Creek (ND-10160003-005-S_00).","Escherichia Coli (E. Coli)","2010, 2012, 2014"]
["09020202",null,"Buffalo Lake","ND-09020202-003-L_00","Waterbody Map","Buffalo Lake is a 534 acre natural lake in Pierce County, North Dakota.","Nutrient/Eutrophication Biological Indicators","2012, 2014"]
["09020201",null,"Calio Coulee Watershed","ND-09020201-021-S_00","Waterbody Map","Calio Coulee, upstream from Chain Lake including all tributaries.","Escherichia Coli (E. Coli)","2010, 2012, 2014"]
["10130204",null,"Cannonball River","ND-10130204-001-S_00","Waterbody Map","Cannonball River from its confluence with Snake Creek, downstream to its confluence with Cedar Creek. Located in Grant County.","Escherichia Coli (E. Coli)",2012,"Mar-25-2014"]
["10130204",null,"Cannonball River","ND-10130204-001-S_00","Waterbody Map","Cannonball River from its confluence with Snake Creek, downstream to its confluence with Cedar Creek. Located in Grant County.","Fecal Coliform","2002, 2004"]
["10130204",null,"Cannonball River","ND-10130204-007-S_00","Waterbody Map","Cannonball River from its confluence with Sheep Creek downstream to its confluence with Snake Creek. Located in Grant County.","Escherichia Coli (E. Coli)","2008, 2010, 2012","Mar-25-2014"]
["10130204",null,"Cannonball River","ND-10130204-032-S_00","Waterbody Map","Cannonball River from its confluence with Philbrick Creek downstream to its confluence with Indian Creek. Located in Hettinger and Slope County.","Escherichia Coli (E. Coli)","2008, 2010, 2012","Apr-21-2014"]
["10130206",null,"Cannonball River","ND-10130206-001-S_00","Waterbody Map","Cannonball River from its confluence with Dogtooth Creek, downstream to Lake Oahe. Border of Morton and Sioux County.","Escherichia Coli (E. Coli)",2014]
["10130206",null,"Cannonball River","ND-10130206-001-S_00","Waterbody Map","Cannonball River from its confluence with Dogtooth Creek, downstream to Lake Oahe. Border of Morton and Sioux County.","Fecal Coliform","2002, 2004, 2006, 2008","Sep-29-2009"]
["10130206",null,"Cannonball River","ND-10130206-007-S_00","Waterbody Map","Cannonball River from its confluence with a tributary watershed near Shields, ND (ND-10130206-028-S_00), downstream to its confluence with Dogtooth Creek.","Fecal Coliform","2002, 2004, 2006, 2008","Sep-29-2009"]
["10130206",null,"Cannonball River","ND-10130206-027-S_00","Waterbody Map","Cannonball River from Cedar Creek, downstream to a tributary near Shields, ND.","Fecal Coliform","2002, 2004, 2006, 2008","Sep-29-2009"]
["09010003",null,"Carbury Dam","ND-09010003-001-L_00","Waterbody Map","A 104.5 acre reservoir along Boundary Creek located in Bottineau County. See attached document on Assessment dialog","Dissolved Oxygen","2004, 2006","Feb-22-2007"]
["09010003",null,"Carbury Dam","ND-09010003-001-L_00","Waterbody Map","A 104.5 acre reservoir along Boundary Creek located in Bottineau County. See attached document on Assessment dialog","Nutrient/Eutrophication Biological Indicators","1996, 1998, 2002, 2004, 2006"]
["09020203",null,"Carlson-Tande Reservoir","ND-09020203-005-L_00","Waterbody Map","Carlson-Tande Reservoir is a small impoundment in NE Griggs County, North Dakota.","Dissolved Oxygen","2012, 2014"]
["09020203",null,"Carlson-Tande Reservoir","ND-09020203-005-L_00","Waterbody Map","Carlson-Tande Reservoir is a small impoundment in NE Griggs County, North Dakota.","Nutrient/Eutrophication Biological Indicators","2012, 2014"]
["09020310",null,"Cart Creek","ND-09020310-044-S_00","Waterbody Map","Cart Creek from its confluence with A tributary 2 miles east of Mountain, ND downstream to its confluence with North Branch Park River","Benthic Macroinvertebrates Bioassessments",2014]
["10130205",null,"Cedar Creek","ND-10130205-001-S_00","Waterbody Map","Cedar Creek from its confluence with Hay Creek, downstream to its confluence with the Cannonball River. Located on border of Grant and Sioux Counties.","Escherichia Coli (E. Coli)",2014]
["10130205",null,"Cedar Creek","ND-10130205-001-S_00","Waterbody Map","Cedar Creek from its confluence with Hay Creek, downstream to its confluence with the Cannonball River. Located on border of Grant and Sioux Counties.","Fecal Coliform","2002, 2004, 2006, 2008","Sep-18-2008"]
[{"$f":"MID(D70,4,8)","v":"10130205"},null,"Cedar Creek","ND-10130205-024-S_00","Waterbody Map","Cedar Creek from its confluence with Chanta Peta Creek, downstream to its confluence with Duck Creek. Located in Adams County.","Fecal Coliform","2002, 2004, 2006, 2008","Sep-29-2009"]
["10130205",null,"Cedar Creek","ND-10130205-033-S_00","Waterbody Map","Cedar Creek from Cedar Lake, downstream to its confluence with Chanta Peta Creek. Located in Adams County.","Benthic Macroinvertebrates Bioassessments","2004, 2006, 2008, 2010, 2012, 2014"]
["10130205",null,"Cedar Creek","ND-10130205-033-S_00","Waterbody Map","Cedar Creek from Cedar Lake, downstream to its confluence with Chanta Peta Creek. Located in Adams County.","Fecal Coliform","2002, 2004, 2008","Sep-29-2009"]
["10130205",null,"Cedar Creek","ND-10130205-042-S_00","Waterbody Map","Cedar Creek from its confluence with South Fork Cedar Creek, downstream to Cedar Lake. Located in Slope and Bowman County.","Fecal Coliform","2002, 2008","Sep-29-2009"]
["10130205",null,"Cedar Creek","ND-10130205-042-S_00","Waterbody Map","Cedar Creek from its confluence with South Fork Cedar Creek, downstream to Cedar Lake. Located in Slope and Bowman County.","Sedimentation/Siltation","2002, 2004, 2006, 2008, 2010, 2012, 2014"]
["10130205",null,"Cedar Creek Watershed (Upper)","ND-10130205-046-S_00","Waterbody Map","Cedar Creek upstream from its confluence with South Fork Cedar Creek, including all tributaries. Located in Bowman and Slope Counties.","Sedimentation/Siltation","2004, 2006, 2008, 2010, 2012, 2014"]
["10130205",null,"Cedar Lake","ND-10130205-003-L_00","Waterbody Map","An impoundment at the confluence of the Cedar and North cedar Creeks. Cedar Lake was built in 1935 by the CCC for flood control and recreation.","Sedimentation/Siltation","2004, 2006, 2008, 2010, 2012, 2014"]
["10130104",null,"Clear Creek Watershed","ND-10130104-008-S_00","Waterbody Map","Clear Creek and tributaries, located in Emmons County.","Fecal Coliform","2002, 2004, 2006, 2008, 2010","Sep-28-2010"]
["09020301",null,"Cole Creek","ND-09020301-011-S_00","Waterbody Map","Cole Creek, including tributaries","Combination Benthic/Fishes Bioassessments","2012, 2014"]
["10160003",null,"Cottonwood Creek","ND-10160003-003-S_00","Waterbody Map","Cottonwood Creek, downstream to Lake LaMoure.","Fecal Coliform","2002, 2004, 2006, 2008, 2010","Sep-28-2010"]
["10110102",null,"Cottonwood Lake","ND-10110102-001-L_00","Waterbody Map","A 227.7 acre, enhanced natural lake in Williams County, North Dakota.","Nutrient/Eutrophication Biological Indicators","2012, 2014"]
["10130201",null,"Coyote Creek","ND-10130201-037-S_00","Waterbody Map","Coyote Creek from its confluence with Beaver Creek downstream to its confluence with the Knife River. Located in Mercer County.","Fecal Coliform","2002, 2006, 2008, 2010","Sep-30-2010"]
["10130205",null,"Crooked Creek Watershed","ND-10130205-006-S_00","Waterbody Map","Crooked Creek, including all tributaries. Located in Grant County.","Fecal Coliform","2002, 2004, 2006, 2008","Sep-18-2008"]
["10130101",null,"Crooked Lake","ND-10130101-003-L_00","Waterbody Map","Crooked Lake is a natural, glacial lake located in McLean County, North Dakota.","Dissolved Oxygen","1996, 1998, 2002, 2004, 2006, 2008, 2010, 2012","Nov-30-2012"]
["10130101",null,"Crooked Lake","ND-10130101-003-L_00","Waterbody Map","Crooked Lake is a natural, glacial lake located in McLean County, North Dakota.","Nutrient/Eutrophication Biological Indicators","1996, 1998, 2002, 2004, 2006, 2008, 2010, 2012","Nov-30-2012"]
["10130203",null,"Crown Butte Dam","ND-10130203-002-L_00","Waterbody Map","A small hypereutrophic impoundment on a tributary to the Heart River in Morton County, N.D. It's watershed covers 4,170 acres of an even mix of grassed and cropped agricultural lands.","Dissolved Oxygen","1996, 1998, 2002, 2004, 2006, 2008","Dec-03-2008"]
["10130203",null,"Crown Butte Dam","ND-10130203-002-L_00","Waterbody Map","A small hypereutrophic impoundment on a tributary to the Heart River in Morton County, N.D. It's watershed covers 4,170 acres of an even mix of grassed and cropped agricultural lands.","Nutrient/Eutrophication Biological Indicators","1996, 1998, 2002, 2004, 2006, 2008","Dec-03-2008"]
["10130203",null,"Crown Butte Dam","ND-10130203-002-L_00","Waterbody Map","A small hypereutrophic impoundment on a tributary to the Heart River in Morton County, N.D. It's watershed covers 4,170 acres of an even mix of grassed and cropped agricultural lands.","Sedimentation/Siltation","1998, 2002, 2004, 2006, 2008, 2010, 2012, 2014"]
["10130203",null,"Danzig Dam","ND-10130203-007-L_00","Waterbody Map","A hypereutrophic impoundment on Hailstone Creek in Morton County, N.D. Built in the 1930's by the WPA, the dam is fed by a 25,200 acre watershed.","Dissolved Oxygen","1996, 1998, 2002, 2004, 2006, 2008, 2010, 2012, 2014"]
["10130203",null,"Danzig Dam","ND-10130203-007-L_00","Waterbody Map","A hypereutrophic impoundment on Hailstone Creek in Morton County, N.D. Built in the 1930's by the WPA, the dam is fed by a 25,200 acre watershed.","Nutrient/Eutrophication Biological Indicators","1996, 1998, 2002, 2004, 2006, 2008, 2010, 2012, 2014"]
["10130203",null,"Danzig Dam","ND-10130203-007-L_00","Waterbody Map","A hypereutrophic impoundment on Hailstone Creek in Morton County, N.D. Built in the 1930's by the WPA, the dam is fed by a 25,200 acre watershed.","Sedimentation/Siltation","1998, 2002, 2004, 2006, 2008, 2010, 2012, 2014"]
["10130203",null,"Danzig Dam Watershed","ND-10130203-041-S_00","Waterbody Map","Hailstone Creek upstream from Danzig Dam, including tributaries. Located in Morton County.","Escherichia Coli (E. Coli)",2014]
["09020204",null,"Dead Colt Creek Dam","ND-09020204-005-L_00","Waterbody Map","Dead Colt Creek Dam is a flood control and recreational structure on a tributary to the Sheyenne River in SC Ransom County, N.D. Built in 1980 the reservoir has a watershed of 41,400 acres of highly fertile agricultural lands.","Dissolved Oxygen","1996, 1998, 2002, 2004, 2006","Sep-22-2006"]
["09020204",null,"Dead Colt Creek Dam","ND-09020204-005-L_00","Waterbody Map","Dead Colt Creek Dam is a flood control and recreational structure on a tributary to the Sheyenne River in SC Ransom County, N.D. Built in 1980 the reservoir has a watershed of 41,400 acres of highly fertile agricultural lands.","Nutrient/Eutrophication Biological Indicators","1996, 1998, 2002, 2004, 2006"]
["10130204",null,"Dead Horse Creek Watershed","ND-10130204-044-S_00","Waterbody Map","Dead Horse Creek, including all tributaries. Located in Hettinger County.","Escherichia Coli (E. Coli)","2002, 2004, 2006, 2008, 2010, 2012","Apr-21-2014"]
["10110203",null,"Deep Creek","ND-10110203-003-S_00","Waterbody Map","Deep Creek from the confluences of East Branch Deep Creek and West Brach Deep Creek downstream to its confluence with the Little Missouri River. Located in Slope County.","Fecal Coliform","2008, 2010, 2012","Oct-09-2012"]
["09010002",null,"Des Lacs River","ND-09010002-001-S_00","Waterbody Map","Des Lacs River from lower Des Lacs Reservoir downstream to its confluence with the Souris River. Located in Ward and SW Renville counties.","Fecal Coliform","2006, 2008, 2010","Sep-22-2011"]
["09020201",null,"Devils Lake","ND-09020201-006-L_00","Waterbody Map","Located on the border of Benson and Ramsey Counties.","Methylmercury","2004, 2006, 2008, 2010, 2012, 2014"]
["10130201",null,"East Branch Antelope Creek Watershed","ND-10130201-016-S_00","Waterbody Map","East Branch Antelope Creek upstream from Antelope Creek, including tributaries. Located in Mercer County.","Fecal Coliform","2002, 2004, 2006, 2008, 2010, 2012, 2014"]
["09020105",null,"Elk Creek Watershed","ND-09020105-010-S_00","Waterbody Map","Elk Creek, including all tributaries. Located in SE Ransom, NE Sargent, and West Central Richland Counties.","Combination Benthic/Fishes Bioassessments",2014]
["10130201",null,"Elm Creek Watershed","ND-10130201-045-S_00","Waterbody Map","Elm Creek and tributaries, located in Mercer County.","Fecal Coliform","2008, 2010","Sep-30-2010"]
["09020107",null,"Elm River","ND-09020107-004-S_00","Waterbody Map","Elm River from its confluence with the South Branch Elm River downstream to its confluence with the North Branch Elm River","Combination Benthic/Fishes Bioassessments",2014]
["09020107",null,"Elm River","ND-09020107-006-S_00","Waterbody Map","Elm River from the dam NE of Galesburg, ND downstream to its confluence with the South Branch Elm River.","Combination Benthic/Fishes Bioassessments","2006, 2008, 2010, 2012, 2014"]
["09020107",null,"Elm River","ND-09020107-006-S_00","Waterbody Map","Elm River from the dam NE of Galesburg, ND downstream to its confluence with the South Branch Elm River.","Sedimentation/Siltation","2006, 2008, 2010, 2012, 2014"]
["09020107",null,"Elm River","ND-09020107-008-S_00","Waterbody Map","Elm River from the dam NW of Galesburg, ND downstream to the dam NE of Galesburg.","Combination Benthic/Fishes Bioassessments","2008, 2010, 2012, 2014"]
["09020107",null,"Elm River","ND-09020107-008-S_00","Waterbody Map","Elm River from the dam NW of Galesburg, ND downstream to the dam NE of Galesburg.","Sedimentation/Siltation","2008, 2010, 2012, 2014"]
["10160004",null,"Elm River","ND-10160004-001-S_00","Waterbody Map","Elm River from Pheasant Lake, downstream to the ND/SD border and Elm Lake.","Sedimentation/Siltation","1996, 1998, 2002, 2004, 2006, 2008, 2010, 2012, 2014"]
["10160004",null,"Elm River","ND-10160004-005-S_00","Waterbody Map","Elm River, downstream to Pheasant Lake. Located in Dickey County.","Sedimentation/Siltation","2002, 2004, 2006, 2008, 2010, 2012, 2014"]
["10160004",null,"Elm River Watershed (Upper)","ND-10160004-006-S_00","Waterbody Map","Upper Elm River, including all tributaries. Located in Dickey County.","Sedimentation/Siltation","2002, 2004, 2006, 2008, 2010, 2012, 2014"]
["09020301",null,"English Coulee","ND-09020301-002-S_00","Waterbody Map","English Coulee from its confluence with a tributary upstream from Grand Forks, ND downstream to its confluence with the Red River Of The North (Lower Reach).","Dissolved Oxygen","2004, 2006, 2008, 2010, 2012, 2014"]
["09020301",null,"English Coulee","ND-09020301-002-S_00","Waterbody Map","English Coulee from its confluence with a tributary upstream from Grand Forks, ND downstream to its confluence with the Red River Of The North (Lower Reach).","Escherichia Coli (E. Coli)","2002, 2004, 2006, 2008, 2010, 2012, 2014"]
["09020301",null,"English Coulee","ND-09020301-002-S_00","Waterbody Map","English Coulee from its confluence with a tributary upstream from Grand Forks, ND downstream to its confluence with the Red River Of The North (Lower Reach).","Sedimentation/Siltation","2002, 2004, 2006, 2008, 2010, 2012, 2014"]
["09020301",null,"English Coulee","ND-09020301-002-S_00","Waterbody Map","English Coulee from its confluence with a tributary upstream from Grand Forks, ND downstream to its confluence with the Red River Of The North (Lower Reach).","Selenium","2010, 2012, 2014"]
["09020301",null,"English Coulee","ND-09020301-002-S_00","Waterbody Map","English Coulee from its confluence with a tributary upstream from Grand Forks, ND downstream to its confluence with the Red River Of The North (Lower Reach).","Total Dissolved Solids (TDS)","2004, 2006, 2008, 2010, 2012, 2014"]
["09020301",null,"English Coulee","ND-09020301-005-S_00","Waterbody Map","English Coulee from its confluence with a major control structure, downstream to its confluence with a tributary that is upstream from Grand Forks, ND (Middle Reach).","Dissolved Oxygen",2014]
["09020301",null,"English Coulee","ND-09020301-005-S_00","Waterbody Map","English Coulee from its confluence with a major control structure, downstream to its confluence with a tributary that is upstream from Grand Forks, ND (Middle Reach).","Escherichia Coli (E. Coli)",2014]
["09020301",null,"English Coulee","ND-09020301-005-S_00","Waterbody Map","English Coulee from its confluence with a major control structure, downstream to its confluence with a tributary that is upstream from Grand Forks, ND (Middle Reach).","Selenium",2014]
["09020301",null,"English Coulee","ND-09020301-005-S_00","Waterbody Map","English Coulee from its confluence with a major control structure, downstream to its confluence with a tributary that is upstream from Grand Forks, ND (Middle Reach).","Total Dissolved Solids (TDS)",2014]
["09020301",null,"English Coulee","ND-09020301-006-S_00","Waterbody Map","English Coulee from its headwaters, downstream to a major control structure.","Dissolved Oxygen",2014]
["09020301",null,"English Coulee","ND-09020301-006-S_00","Waterbody Map","English Coulee from its headwaters, downstream to a major control structure.","Escherichia Coli (E. Coli)",2014]
["09020301",null,"English Coulee","ND-09020301-006-S_00","Waterbody Map","English Coulee from its headwaters, downstream to a major control structure.","Selenium",2014]
["09020301",null,"English Coulee","ND-09020301-006-S_00","Waterbody Map","English Coulee from its headwaters, downstream to a major control structure.","Total Dissolved Solids (TDS)",2014]
["10130303",null,"Flat Creek","ND-10130303-001-S_00","Waterbody Map","Flat Creek, downstream to Mirror Lake. Located in Adams County.","Nutrient/Eutrophication Biological Indicators","2006, 2008, 2010, 2012, 2014"]
["10130303",null,"Flat Creek","ND-10130303-003-S_00","Waterbody Map","Flat Creek from Mirror Lake downstream to the ND-SD border. Located in Adams County.","Fecal Coliform","2008, 2010, 2012, 2014"]
["09020308",null,"Fordville Dam","ND-09020308-001-L_00","Waterbody Map","Fordville Dam is a 197 acre impoundment on the South Branch of the Forest River. Built in 1976 for flood control and recreation. Fordville Dams watershed covers 25,560 acres of fertile agricultural lands.","Nutrient/Eutrophication Biological Indicators","2008, 2010","Sep-26-2011"]
["09020308",null,"Forest River","ND-09020308-001-S_00","Waterbody Map","Forest River from Lake Ardoch, downstream to its confluence with the Red River Of The North.","Benthic Macroinvertebrates Bioassessments","2004, 2006, 2008, 2010, 2012, 2014"]
["09020308",null,"Forest River","ND-09020308-001-S_00","Waterbody Map","Forest River from Lake Ardoch, downstream to its confluence with the Red River Of The North.","Sedimentation/Siltation","2002, 2004, 2006, 2008, 2010, 2012, 2014"]
["09020308",null,"Forest River","ND-09020308-015-S_00","Waterbody Map","Forest River from its confluence with South Branch Forest River, downstream to its confluence with a tributary near Highway 18.","Benthic Macroinvertebrates Bioassessments","2006, 2014"]
["09020308",null,"Forest River","ND-09020308-015-S_00","Waterbody Map","Forest River from its confluence with South Branch Forest River, downstream to its confluence with a tributary near Highway 18.","Fish Bioassessments","2006, 2008, 2010, 2012, 2014"]
["09020308",null,"Forest River","ND-09020308-015-S_00","Waterbody Map","Forest River from its confluence with South Branch Forest River, downstream to its confluence with a tributary near Highway 18.","Selenium",2014]
["09020307",null,"Fresh Water Coulee (From Salt Water Coulee)","ND-09020307-007-S_00","Waterbody Map","Fresh Water Coulee from its confluence with Salt Water Coulee downstream to its confluence with the Turtle River.","Cadmium","2008, 2010, 2012, 2014"]
["09020307",null,"Fresh Water Coulee (From Salt Water Coulee)","ND-09020307-007-S_00","Waterbody Map","Fresh Water Coulee from its confluence with Salt Water Coulee downstream to its confluence with the Turtle River.","Selenium","2008, 2010, 2012, 2014"]
["10130201",null,"Goodman Creek","ND-10130201-020-S_00","Waterbody Map","Goodman Creek downstream to its confluence with Spring Creek, located in Mercer County.","Escherichia Coli (E. Coli)",2014]
["10130103",null,"Goose Creek Watershed","ND-10130103-006-S_00","Waterbody Map","Goose Creek and tributaries, located in Emmons County.","Escherichia Coli (E. Coli)","2012, 2014"]
[{"$f":"MID(D134,4,8)","v":"09020109"},null,"Goose River","ND-09020109-001-S_00","Waterbody Map","Goose River from a tributary upstream from Hillsboro, ND downstream to its confluence with the Red River Of The North.","Fish Bioassessments","2006, 2008, 2010, 2012, 2014"]
["09020109",null,"Goose River","ND-09020109-011-S_00","Waterbody Map","Goose River from its confluence with Beaver Creek, downstream to its confluence with the South Branch Goose River.","Combination Benthic/Fishes Bioassessments","2006, 2008, 2010, 2012, 2014"]
["09020109",null,"Goose River","ND-09020109-011-S_00","Waterbody Map","Goose River from its confluence with Beaver Creek, downstream to its confluence with the South Branch Goose River.","Sedimentation/Siltation","1996, 1998, 2002, 2004, 2006, 2008, 2010, 2012, 2014"]
["09020109",null,"Goose River","ND-09020109-022-S_00","Waterbody Map","Goose River from its confluence with Spring Creek downstream to its confluence with Beaver Creek","Combination Benthic/Fishes Bioassessments","2012, 2014"]
["10130203",null,"Hailstone Creek","ND-10130203-033-S_00","Waterbody Map","Hailstone Creek from Danzig Dam downstream to its confluence with Big Muddy Creek. Located in Morton county.","Escherichia Coli (E. Coli)",2014]
["10110101",null,"Handy Water Creek Watershed","ND-10110101-056-S_00","Waterbody Map","Handy Water Creek, including all tributaries. Located in Eastern McKenzie County.","Benthic Macroinvertebrates Bioassessments","2004, 2006, 2008, 2010, 2012, 2014"]
["10130202",null,"Heart River","ND-10130202-003-S_00","Waterbody Map","Heart River from its confluence with South Branch Heart River downstream to Patterson Lake. Located in Stark County.","Nutrient/Eutrophication Biological Indicators"]
["10130202",null,"Heart River","ND-10130202-003-S_00","Waterbody Map","Heart River from its confluence with South Branch Heart River downstream to Patterson Lake. Located in Stark County.","Sedimentation/Siltation",2002,"Feb-06-2004"]
["10130202",null,"Heart River","ND-10130202-012-S_00","Waterbody Map","Heart River from its confluence with Plum Creek downstream to its confluence with Govt' Creek. Located in Stark County.","Escherichia Coli (E. Coli)",2014]
["10130202",null,"Heart River","ND-10130202-050-S_00","Waterbody Map","Heart River from Patterson Lake, downstream to its confluence with the Green River. Located in Stark County.","Benthic Macroinvertebrates Bioassessments","2004, 2006, 2008, 2010, 2012, 2014"]
["10130202",null,"Heart River","ND-10130202-056-S_00","Waterbody Map","Heart River from its confluence with a tributary watershed near Belfield, ND (ND-10130202-067-S_00), downstream to its confluence with the South Branch Heart River.","Nutrient/Eutrophication Biological Indicators"]
["10130202",null,"Heart River","ND-10130202-056-S_00","Waterbody Map","Heart River from its confluence with a tributary watershed near Belfield, ND (ND-10130202-067-S_00), downstream to its confluence with the South Branch Heart River.","Sedimentation/Siltation",2002,"Feb-06-2004"]
["10130203",null,"Heart River","ND-10130203-009-S_00","Waterbody Map","Heart River from its confluence with Fish Creek downstream to its confluence with Dead Heart Slough. Located in Morton County.","Escherichia Coli (E. Coli)","2012, 2014"]
["09020310",null,"Homme Dam","ND-09020310-001-L_00","Waterbody Map","Homme Dam is a 194 acre impoundment on the Park River in Walsh County, North Dakota.","Nutrient/Eutrophication Biological Indicators","2008, 2010, 2012","Oct-09-2012"]
["09020310",null,"Homme Dam","ND-09020310-001-L_00","Waterbody Map","Homme Dam is a 194 acre impoundment on the Park River in Walsh County, North Dakota.","Sedimentation/Siltation","2008, 2010, 2012, 2014"]
["10130204",null,"Indian Creek Dam","ND-10130204-006-L_00","Waterbody Map","A reservoir on Indian Creek in Hettinger County, N.D. Built in 1978 for recreation, the reservoir filled in 1979. Indian Creek Dam's contributing watershed covers 9,068 acres of crop and range lands.","Dissolved Oxygen","1996, 1998, 2002, 2004, 2006","Feb-22-2007"]
["10130204",null,"Indian Creek Dam","ND-10130204-006-L_00","Waterbody Map","A reservoir on Indian Creek in Hettinger County, N.D. Built in 1978 for recreation, the reservoir filled in 1979. Indian Creek Dam's contributing watershed covers 9,068 acres of crop and range lands.","Nutrient/Eutrophication Biological Indicators","1996, 1998, 2002, 2004, 2006"]
["10160001",null,"James River","ND-10160001-002-S_00","Waterbody Map","James River downstream from Jamestown Reservoir to its confluence with Pipestem Creek, including one tributary.","Benthic Macroinvertebrates Bioassessments","2004, 2006, 2008, 2010, 2012, 2014"]
["10160001",null,"James River","ND-10160001-003-S_00","Waterbody Map","James River from Arrowwood Lake, downstream to Jim Lake, including Mud Lake.","Dissolved Oxygen","2002, 2004, 2006, 2008, 2010, 2012, 2014"]
["10160001",null,"James River","ND-10160001-006-S_00","Waterbody Map","James River from Jim Lake, downstream to Jamestown Reservoir. The length of this segment may be open for interpretation, depending upon how far the Jamestown Reservoir backs up on full pool.","Escherichia Coli (E. Coli)","2010, 2012, 2014"]
["10160001",null,"James River","ND-10160001-013-S_00","Waterbody Map","James River from its confluence with Big Slough, downstream to its confluence with Rocky Run.","Escherichia Coli (E. Coli)","2002, 2004, 2006, 2008, 2010, 2012, 2014"]
["10160001",null,"James River","ND-10160001-023-S_00","Waterbody Map","James River from its confluence with Rocky Run, downstream to its confluence with Lake Juanita Outlet (ND-10160001-027-S_00).","Escherichia Coli (E. Coli)","2004, 2006, 2008, 2010, 2012, 2014"]
["10160001",null,"Jamestown Reservoir","ND-10160001-002-L_00","Waterbody Map","A large C.O.E. reservoir on the James River in Stutsman County, N.D.","Nutrient/Eutrophication Biological Indicators","1996, 1998, 2002, 2004, 2006, 2008, 2010, 2012, 2014"]
["09020307",null,"Kelly Slough","ND-09020307-016-S_00","Waterbody Map","Kelly Slough from the control structure at Kelly Slough National Wildlife Refuge downstream to its confluence with the Turtle River","Cadmium","2008, 2010, 2012, 2014"]
["09020307",null,"Kelly Slough","ND-09020307-016-S_00","Waterbody Map","Kelly Slough from the control structure at Kelly Slough National Wildlife Refuge downstream to its confluence with the Turtle River","Selenium","2008, 2010, 2012, 2014"]
["10130201",null,"Knife River","ND-10130201-002-S_00","Waterbody Map","Knife River from its confluence with Antelope Creek downstream to its confluence with the Missouri River. Located in Mercer County.","Escherichia Coli (E. Coli)","2002, 2004, 2006, 2008, 2010, 2012, 2014"]
["10130201",null,"Knife River","ND-10130201-003-S_00","Waterbody Map","Knife River from its confluence with Spring Creek downstream to its confluence with Antelope Creek. Located in Mercer County.","Escherichia Coli (E. Coli)","2002, 2004, 2006, 2008, 2010, 2012, 2014"]
["10130201",null,"Knife River","ND-10130201-035-S_00","Waterbody Map","Knife River from its confluence with Coyote Creek downstream to its confluence with Spring Creek. Located in Mercer County.","Escherichia Coli (E. Coli)","2002, 2004, 2006, 2008, 2010, 2012, 2014"]
["10130201",null,"Knife River","ND-10130201-042-S_00","Waterbody Map","Knife River from its confluence with Branch Knife River downstream to its confluence with Coyote Creek. Located in Dunn and Mercer Counties.","Escherichia Coli (E. Coli)","2002, 2004, 2006, 2008, 2010, 2012, 2014"]
["09020203",null,"Lake Ashtabula","ND-09020203-001-L_00","Waterbody Map","Lake Ashtabula is a large impoundment on the main stem of the Sheyenne River. It is a U.S. Army Corps of Engineers multipurpose reservoir built for flood protection, recreation and irrigation. Size is based off of the 1:24k NHD Layer.","Nutrient/Eutrophication Biological Indicators","2004, 2006, 2008, 2010, 2012, 2014"]
["10130106",null,"Lake Hoskins","ND-10130106-003-L_00","Waterbody Map","A large hypereutrophic, enhanced, natural lake in McIntosh County, N.D. Lake Hoskin's watershed covers 25,000 acres of agricultural lands.","Dissolved Oxygen","1996, 1998, 2002, 2004, 2006","Sep-22-2006"]
["10130106",null,"Lake Hoskins","ND-10130106-003-L_00","Waterbody Map","A large hypereutrophic, enhanced, natural lake in McIntosh County, N.D. Lake Hoskin's watershed covers 25,000 acres of agricultural lands.","Nutrient/Eutrophication Biological Indicators","1996, 1998, 2002, 2004, 2006"]
["10130103",null,"Lake Isabel","ND-10130103-010-L_00","Waterbody Map","A 805.7 acre shallow prairie pothole lake ilocated n Kidder County, North Dakota.","Dissolved Oxygen","2004, 2006, 2008, 2010, 2012, 2014"]
["10130103",null,"Lake Isabel","ND-10130103-010-L_00","Waterbody Map","A 805.7 acre shallow prairie pothole lake ilocated n Kidder County, North Dakota.","Nutrient/Eutrophication Biological Indicators","2004, 2006, 2008, 2010, 2012, 2014"]
["10110101",null,"Lake Sakakawea","ND-10110101-021-L_00","Waterbody Map","A large reservoir along the Missouri River in McLean, Mercer, Dunn, Mountrail, McKenzie, and Williams County. See attached document on Assessment dialog.","Methylmercury","2008, 2010, 2012, 2014"]
["10130202",null,"Lake Tschida","ND-10130202-001-L_00","Waterbody Map","A 5018 acre Bureau of Reclamation dam located on the Heart River south of Glen Ullin in Grant County, North Dakota.","Methylmercury","2010, 2012, 2014"]
["10130202",null,"Lake Tschida","ND-10130202-001-L_00","Waterbody Map","A 5018 acre Bureau of Reclamation dam located on the Heart River south of Glen Ullin in Grant County, North Dakota.","Nutrient/Eutrophication Biological Indicators","2004, 2006, 2008, 2010, 2012, 2014"]
["09020307",null,"Larimore Dam (TR #9)","ND-09020307-001-L_00","Waterbody Map","Larimore Dam is a 76 acre, multi-purpose reservoir on the Upper Turtle River in Grand Forks County. Completed in 1978, it is one of seven flood control structure with a watershed of 41,344 acres.","Nutrient/Eutrophication Biological Indicators",2008,"Sep-29-2009"]
["09020109",null,"Little Goose River","ND-09020109-034-S_00","Waterbody Map","Little Goose River from Little Goose River National Wildlife Refuge downstream to the Goose River.","Fish Bioassessments","2006, 2008, 2010, 2012, 2014"]
["09020109",null,"Little Goose River","ND-09020109-034-S_00","Waterbody Map","Little Goose River from Little Goose River National Wildlife Refuge downstream to the Goose River.","Sedimentation/Siltation","2004, 2006, 2008, 2010, 2012, 2014"]
["10110101",null,"Little Knife River","ND-10110101-080-S_00","Waterbody Map","Little Knife River from Stanley Reservoir, downstream to Lake Sakakawea. Located in Central Mountrail County.","Fecal Coliform","2002, 2004, 2006, 2008, 2010, 2012, 2014"]
["10110205",null,"Little Missouri Bay (Lake Sakakawea)","ND-10110205-001-L_00","Waterbody Map","Little Missouri Bay from Lost Bridge to Lake Sakakawea.","Methylmercury",2014]
["10110203",null,"Little Missouri River","ND-10110203-001-S_00","Waterbody Map","Little Missouri River from its confluence with Little Beaver Creek downstream to its confluence with Deep Creek. Located in Slope County.","Escherichia Coli (E. Coli)","2004, 2006, 2008, 2010, 2012, 2014"]
["10110203",null,"Little Missouri River","ND-10110203-025-S_00","Waterbody Map","Little Missouri River from its confluence with Deep Creek, downstream to its confluence with Andrew's Creek. Located in Billings and Slope Counties.","Escherichia Coli (E. Coli)","2002, 2006, 2008, 2010, 2012, 2014"]
["10110205",null,"Little Missouri River","ND-10110205-001-S_00","Waterbody Map","Little Missouri River from its confluence with Beaver Creek downstream to highway 85. Located in McKenzie County.","Escherichia Coli (E. Coli)","2002, 2004, 2006, 2008, 2010, 2012, 2014"]
["10110205",null,"Little Missouri River","ND-10110205-033-S_00","Waterbody Map","Little Missouri River from Hwy 85 downstream to its confluence with Cherry Creek. Located in McKenzie and Dunn Counties.","Escherichia Coli (E. Coli)","2002, 2004, 2006, 2008, 2010, 2012, 2014"]
["10110102",null,"Little Muddy River","ND-10110102-001-S_00","Waterbody Map","Little Muddy River from its confluence with East Fork Little Muddy River, downstream to Lake Sakakawea. Located in Central Williams County.","Fecal Coliform","2004, 2006, 2008, 2010, 2012, 2014"]
["10130103",null,"Long Lake Creek Watershed","ND-10130103-002-S_00","Waterbody Map","Long Lake Creek and unnamed tributaries located in Emmons and Burleigh Counties.","Escherichia Coli (E. Coli)","2012, 2014"]
["10160004",null,"Maple Creek","ND-10160004-022-S_00","Waterbody Map","Maple Creek, downstream to its confluence with the Maple River. Located in Lamoure County.","Fecal Coliform","2002, 2004, 2006, 2008","Sep-29-2009"]
["10160004",null,"Maple Creek","ND-10160004-022-S_00","Waterbody Map","Maple Creek, downstream to its confluence with the Maple River. Located in Lamoure County.","Sedimentation/Siltation","2002, 2004, 2006, 2008, 2010, 2012, 2014"]
["09020205",null,"Maple River","ND-09020205-001-S_00","Waterbody Map","Maple River, from its confluence with Buffalo Creek downstream to its confluence with the Sheyenne River. Located in Eastern Cass County.","Combination Benthic/Fishes Bioassessments","2004, 2006, 2008, 2010, 2012, 2014"]
["09020205",null,"Maple River","ND-09020205-001-S_00","Waterbody Map","Maple River, from its confluence with Buffalo Creek downstream to its confluence with the Sheyenne River. Located in Eastern Cass County.","Escherichia Coli (E. Coli)","2004, 2006, 2008, 2010, 2012, 2014"]
["09020205",null,"Maple River","ND-09020205-001-S_00","Waterbody Map","Maple River, from its confluence with Buffalo Creek downstream to its confluence with the Sheyenne River. Located in Eastern Cass County.","Sedimentation/Siltation","2004, 2006, 2008, 2010, 2012, 2014"]
["09020205",null,"Maple River","ND-09020205-010-S_00","Waterbody Map","Maple River, from its confluence with a tributary near Leonard, ND (ND-09020205-011-S_00) downstream to its confluence with Buffalo Creek. Located in south central Cass County.","Fish Bioassessments","2004, 2006, 2008, 2010, 2012, 2014"]
["09020205",null,"Maple River","ND-09020205-010-S_00","Waterbody Map","Maple River, from its confluence with a tributary near Leonard, ND (ND-09020205-011-S_00) downstream to its confluence with Buffalo Creek. Located in south central Cass County.","Sedimentation/Siltation","2004, 2006, 2008, 2010, 2012, 2014"]
["09020205",null,"Maple River","ND-09020205-012-S_00","Waterbody Map","Maple River from its confluence with the South Branch Maple River downstream to its confluence with a tributary near Leonard, ND. Located in S.W. Cass County.","Dissolved Oxygen","2010, 2012, 2014"]
["09020205",null,"Maple River","ND-09020205-012-S_00","Waterbody Map","Maple River from its confluence with the South Branch Maple River downstream to its confluence with a tributary near Leonard, ND. Located in S.W. Cass County.","Escherichia Coli (E. Coli)","2010, 2012, 2014"]
["09020205",null,"Maple River","ND-09020205-012-S_00","Waterbody Map","Maple River from its confluence with the South Branch Maple River downstream to its confluence with a tributary near Leonard, ND. Located in S.W. Cass County.","Fish Bioassessments","2006, 2008, 2010, 2012, 2014"]
["09020205",null,"Maple River","ND-09020205-015-S_00","Waterbody Map","Maple River from its confluence with a tributary watershed near Buffalo, ND (ND-09020205-019-S_00) downstream to its confluence with the South Branch Maple River. Located in western Cass County.","Escherichia Coli (E. Coli)","2010, 2012, 2014"]
["09020205",null,"Maple River","ND-09020205-015-S_00","Waterbody Map","Maple River from its confluence with a tributary watershed near Buffalo, ND (ND-09020205-019-S_00) downstream to its confluence with the South Branch Maple River. Located in western Cass County.","Fish Bioassessments","2006, 2008, 2010, 2012, 2014"]
["09020205",null,"Maple River","ND-09020205-024-S_00","Waterbody Map","Maple River downstream to its confluence with a tributary near the Steele, Cass, and Barnes County Line (ND-09020205-023-S_00).","Dissolved Oxygen","2008, 2010, 2012, 2014"]
["09020205",null,"Maple River","ND-09020205-024-S_00","Waterbody Map","Maple River downstream to its confluence with a tributary near the Steele, Cass, and Barnes County Line (ND-09020205-023-S_00).","Escherichia Coli (E. Coli)","2010, 2012, 2014"]
["09020205",null,"Maple River","ND-09020205-024-S_00","Waterbody Map","Maple River downstream to its confluence with a tributary near the Steele, Cass, and Barnes County Line (ND-09020205-023-S_00).","Fish Bioassessments","2006, 2008, 2010, 2012, 2014"]
["10160004",null,"Maple River","ND-10160004-002-S_00","Waterbody Map","Maple River from its confluence with South Fork Maple River, downstream to the ND/SD border.","Fecal Coliform","2002, 2004, 2006, 2008","Sep-29-2009"]
[{"$f":"MID(D198,4,8)","v":"10160004"},null,"Maple River","ND-10160004-002-S_00","Waterbody Map","Maple River from its confluence with South Fork Maple River, downstream to the ND/SD border.","Sedimentation/Siltation","2002, 2004, 2006, 2008, 2010, 2012, 2014"]
["10160004",null,"Maple River","ND-10160004-013-S_00","Waterbody Map","Maple River from its confluence with Maple Creek, downstream to its confluence with South Fork Maple River. Located in Dickey County.","Fecal Coliform","2002, 2004, 2006, 2008","Sep-29-2009"]
["10160004",null,"Maple River","ND-10160004-013-S_00","Waterbody Map","Maple River from its confluence with Maple Creek, downstream to its confluence with South Fork Maple River. Located in Dickey County.","Sedimentation/Siltation","2002, 2004, 2006, 2008, 2010, 2012, 2014"]
["10160004",null,"Maple River","ND-10160004-026-S_00","Waterbody Map","Maple River from Schlect-Thom Dam, downstream to its confluence with Maple Creek. Located in Lamoure County.","Fecal Coliform","2002, 2006, 2008","Sep-29-2009"]
["10160004",null,"Maple River","ND-10160004-026-S_00","Waterbody Map","Maple River from Schlect-Thom Dam, downstream to its confluence with Maple Creek. Located in Lamoure County.","Sedimentation/Siltation","2002, 2004, 2006, 2008, 2010, 2012, 2014"]
["09020308",null,"Matejcek Dam","ND-09020308-003-L_00","Waterbody Map","Matejcek Dam is a 130 acre impoundment on the Middle Branch of the Forest River in southeastern Walsh County.","Dissolved Oxygen","2012, 2014"]
["09020308",null,"Matejcek Dam","ND-09020308-003-L_00","Waterbody Map","Matejcek Dam is a 130 acre impoundment on the Middle Branch of the Forest River in southeastern Walsh County.","Nutrient/Eutrophication Biological Indicators","2008, 2010, 2012, 2014"]
["10130103",null,"McDowell Dam","ND-10130103-014-L_00","Waterbody Map","A 55.2 acre impoundment located on a tributary to Apple Creek in Burleigh County, North Dakota.","Dissolved Oxygen"]
["10130103",null,"McDowell Dam","ND-10130103-014-L_00","Waterbody Map","A 55.2 acre impoundment located on a tributary to Apple Creek in Burleigh County, North Dakota.","Nutrient/Eutrophication Biological Indicators"]
["10110101",null,"McGregor Dam","ND-10110101-019-L_00","Waterbody Map","A 54.3 acre impoundment, located in the northeast corner of Williams County, North Dakota. The reservoir was built in 1969 for flood control and recreation. The contributing watershed has a surface area of 5,492 acres.","Nutrient/Eutrophication Biological Indicators","1996, 1998, 2002, 2004, 2006, 2008","Jul-06-2009"]
["09020203",null,"McVille Dam","ND-09020203-007-L_00","Waterbody Map","McVille Dam is a 36.7 acre reservoir located on McVille Coulee on the east side of the town McVille ND, in southern Nelson County.","Dissolved Oxygen","2004, 2006, 2008, 2010, 2012, 2014"]
["09020203",null,"McVille Dam","ND-09020203-007-L_00","Waterbody Map","McVille Dam is a 36.7 acre reservoir located on McVille Coulee on the east side of the town McVille ND, in southern Nelson County.","Nutrient/Eutrophication Biological Indicators","2004, 2006, 2008, 2010, 2012, 2014"]
["09020203",null,"McVille Dam","ND-09020203-007-L_00","Waterbody Map","McVille Dam is a 36.7 acre reservoir located on McVille Coulee on the east side of the town McVille ND, in southern Nelson County.","Sedimentation/Siltation","2004, 2006, 2008, 2010, 2012, 2014"]
["09020308",null,"Middle Branch Forest River","ND-09020308-023-S_00","Waterbody Map","Middle Branch Forest River from Matecjek Dam, downstream to its confluence with North Branch Forest River.","Fish Bioassessments","2006, 2008, 2010, 2012, 2014"]
["09020109",null,"Middle Branch Goose River","ND-09020109-017-S_00","Waterbody Map","Middle Branch Goose River, from its confluence with a tributary watershed near Sherbrooke, ND (ND-09020109-019-S_00), downstream to its confluence with the South Branch Goose River.","Combination Benthic/Fishes Bioassessments","2006, 2008, 2010, 2012, 2014"]
["09020109",null,"Middle Branch Goose River","ND-09020109-020-S_00","Waterbody Map","Middle Branch Goose River downstream to its confluence with tributary watershed near Sherbrooke, ND (ND-09020109-019-S).","Benthic Macroinvertebrates Bioassessments","2012, 2014"]
["09020109",null,"Middle Branch Goose River","ND-09020109-020-S_00","Waterbody Map","Middle Branch Goose River downstream to its confluence with tributary watershed near Sherbrooke, ND (ND-09020109-019-S).","Fish Bioassessments",2014]
["10130303",null,"Mirror Lake","ND-10130303-001-L_00","Waterbody Map","A 63.3 acre reservoir on Flat Creek in Adams County, North Dakota.","Dissolved Oxygen","2006, 2008","Sep-18-2008"]
["10130303",null,"Mirror Lake","ND-10130303-001-L_00","Waterbody Map","A 63.3 acre reservoir on Flat Creek in Adams County, North Dakota.","Nutrient/Eutrophication Biological Indicators","2006, 2008","Sep-18-2008"]
["10130103",null,"Mitchell Lake","ND-10130103-013-L_00","Waterbody Map","A 298.1 acre natural lake in Burleigh County, North Dakota.","Dissolved Oxygen","2012, 2014"]
["10130103",null,"Mitchell Lake","ND-10130103-013-L_00","Waterbody Map","A 298.1 acre natural lake in Burleigh County, North Dakota.","Nutrient/Eutrophication Biological Indicators","2012, 2014"]
["09020105",null,"Mooreton Pond","ND-09020105-002-L_00","Waterbody Map","A 36.8 acre excavated pond in Richland County.","Total Dissolved Solids (TDS)","2004, 2006, 2008, 2010, 2012, 2014"]
["09020107",null,"North Branch Elm River","ND-09020107-011-S_00","Waterbody Map","North Branch Elm River, downstream to its confluence with the Elm River.","Combination Benthic/Fishes Bioassessments","2006, 2008, 2010, 2012, 2014"]
["09020107",null,"North Branch Elm River","ND-09020107-011-S_00","Waterbody Map","North Branch Elm River, downstream to its confluence with the Elm River.","Sedimentation/Siltation","1996, 1998, 2002, 2004, 2006, 2008, 2010, 2012, 2014"]
["09020107",null,"North Branch Elm River Watershed (Upper)","ND-09020107-013-S_00","Waterbody Map","North Branch Elm River upstream from its confluence with Unnamed tributary","Combination Benthic/Fishes Bioassessments",2014]
["09020308",null,"North Branch Forest River","ND-09020308-029-S_00","Waterbody Map","North Branch Forest River from its confluence with tributary near Highway 32 (ND-09020308-033-S) downstream to its confluence with Middle Branch Forest River","Combination Benthic/Fishes Bioassessments",2014]
["09020109",null,"North Branch Goose River","ND-09020109-007-S_00","Waterbody Map","North Branch Goose River, downstream to its confluence with the Goose River.","Benthic Macroinvertebrates Bioassessments","2004, 2006, 2008, 2010, 2012, 2014"]
["09020310",null,"North Branch Park River","ND-09020310-037-S_00","Waterbody Map","North Branch Park River from its confluence with a tributary near Highway 32 downstream to its confluence with Cart Creek.","Combination Benthic/Fishes Bioassessments","2012, 2014"]
["09020310",null,"North Branch Park River","ND-09020310-039-S_00","Waterbody Map","North Branch Park River from a tributary watershed (ND-09020310-043-S_00) near Milton, ND downstream to its confluence with a tributary near Highway 32.","Fish Bioassessments","2006, 2008, 2010, 2012, 2014"]
["09020307",null,"North Branch Turtle River","ND-09020307-031-S_00","Waterbody Map","North Branch Turtle River from its confluence with Whiskey Creek, downstream to its confluence with South Branch Turtle River.","Cadmium","2008, 2010, 2012, 2014"]
["09020307",null,"North Branch Turtle River","ND-09020307-031-S_00","Waterbody Map","North Branch Turtle River from its confluence with Whiskey Creek, downstream to its confluence with South Branch Turtle River.","Fecal Coliform","2010, 2012","Aug-22-2013"]
["09020307",null,"North Branch Turtle River","ND-09020307-031-S_00","Waterbody Map","North Branch Turtle River from its confluence with Whiskey Creek, downstream to its confluence with South Branch Turtle River.","Selenium","2008, 2010, 2012, 2014"]
["10130205",null,"North Cedar Creek Watershed","ND-10130205-047-S_00","Waterbody Map","North Cedar Creek, including all tributaries. Located in Slope County.","Fecal Coliform","2002, 2006, 2008, 2010, 2012, 2014"]
["10130205",null,"North Cedar Creek Watershed","ND-10130205-047-S_00","Waterbody Map","North Cedar Creek, including all tributaries. Located in Slope County.","Sedimentation/Siltation","2002, 2004, 2006, 2008, 2010, 2012, 2014"]
["10130204",null,"North Fork Cannonball River","ND-10130204-047-S_00","Waterbody Map","North Fork Cannonball River from its confluence with White Lake Watershed (ND-10130204-049-S_00), downstream to its confluence with Philbrick Creek. Located in Slope County.","Escherichia Coli (E. Coli)","2010, 2012","Apr-21-2014"]
["10130205",null,"North Fork Cedar Creek Watershed","ND-10130205-043-S_00","Waterbody Map","North Fork Cedar Creek, including all tributaries. Located in Slope County.","Sedimentation/Siltation","2002, 2004, 2006, 2008, 2010, 2012, 2014"]
["09010002",null,"Northgate Dam","ND-09010002-002-L_00","Waterbody Map","Northgate is a small impoundment on Stoney Run Creek, a tributary to the DesLacs River. Its confluence with the DesLacs River is near the Saskatchewan Canada border in Northern Burke County.","Dissolved Oxygen","1996, 1998, 2002, 2004, 2006","Sep-22-2006"]
["09010002",null,"Northgate Dam","ND-09010002-002-L_00","Waterbody Map","Northgate is a small impoundment on Stoney Run Creek, a tributary to the DesLacs River. Its confluence with the DesLacs River is near the Saskatchewan Canada border in Northern Burke County.","Nutrient/Eutrophication Biological Indicators","1996, 1998, 2002, 2004, 2006"]
["09010004",null,"Oak Creek Watershed","ND-09010004-002-S_00","Waterbody Map","Oak Creek from its confluence with Willow Creek, upstream to Lake Metigoshe, including all tributaries. Located in Eastern Bottineau County.","Fecal Coliform","2008, 2010","Nov-16-2010"]
["09020310",null,"Park River","ND-09020310-001-S_00","Waterbody Map","Park River from its confluence with Salt Lake Outlet (ND-09020310-009-S_00), downstream to its confluence with the Red River Of The North.","Combination Benthic/Fishes Bioassessments","2004, 2014"]
["09020310",null,"Park River","ND-09020310-001-S_00","Waterbody Map","Park River from its confluence with Salt Lake Outlet (ND-09020310-009-S_00), downstream to its confluence with the Red River Of The North.","Selenium","2006, 2008, 2010, 2012, 2014"]
["09020310",null,"Park River","ND-09020310-010-S_00","Waterbody Map","Park River from its confluence with a tributary east of Grafton, ND (ND-09020310-012-S_00), downstream to its confluence with the outlet from Salt Lake (ND-09020310-009-S_00).","Selenium","2006, 2008, 2010, 2012, 2014"]
["09020310",null,"Park River","ND-09020310-013-S_00","Waterbody Map","Park River from the confluence of the South Branch Park River and the Middle Branch Park River, downstream to its confluence with a tributary east of Grafton, ND (ND-09020310-012-S_00).","Selenium","2006, 2008, 2010, 2012, 2014"]
["10130202",null,"Patterson Lake","ND-10130202-002-L_00","Waterbody Map","A 1191 acre Bureau of Reclamation reservoir located on the Heart River near Dickinson in Stark County, North Dakota.","Nutrient/Eutrophication Biological Indicators"]
["10130202",null,"Patterson Lake","ND-10130202-002-L_00","Waterbody Map","A 1191 acre Bureau of Reclamation reservoir located on the Heart River near Dickinson in Stark County, North Dakota.","Sedimentation/Siltation"]
["10130202",null,"Patterson Lake","ND-10130202-002-L_00","Waterbody Map","A 1191 acre Bureau of Reclamation reservoir located on the Heart River near Dickinson in Stark County, North Dakota.","Turbidity"]
["09020316",null,"Pembina River","ND-09020316-001-S_00","Data Unavailable","Pembina River from its confluence with the Tongue River downstream to its confluence with the Red River of the North.","Arsenic","2008, 2010, 2012, 2014"]
["09020316",null,"Pembina River","ND-09020316-001-S_00","Data Unavailable","Pembina River from its confluence with the Tongue River downstream to its confluence with the Red River of the North.","Cadmium","2008, 2010, 2012, 2014"]
["09020316",null,"Pembina River","ND-09020316-001-S_00","Data Unavailable","Pembina River from its confluence with the Tongue River downstream to its confluence with the Red River of the North.","Copper","2008, 2010, 2012, 2014"]
["09020316",null,"Pembina River","ND-09020316-001-S_00","Data Unavailable","Pembina River from its confluence with the Tongue River downstream to its confluence with the Red River of the North.","Fecal Coliform","2008, 2010, 2012, 2014"]
["09020316",null,"Pembina River","ND-09020316-001-S_00","Data Unavailable","Pembina River from its confluence with the Tongue River downstream to its confluence with the Red River of the North.","Lead","2008, 2010, 2012, 2014"]
["09020316",null,"Pembina River","ND-09020316-001-S_00","Data Unavailable","Pembina River from its confluence with the Tongue River downstream to its confluence with the Red River of the North.","Selenium","2008, 2010, 2012, 2014"]
["09020316",null,"Pembina River","ND-09020316-021-S_00","Data Unavailable","Pembina River from its confluence with a tributary west of Neche, ND downstream to its confluence with the Tongue River.","Arsenic","2008, 2010, 2012, 2014"]
["09020316",null,"Pembina River","ND-09020316-021-S_00","Data Unavailable","Pembina River from its confluence with a tributary west of Neche, ND downstream to its confluence with the Tongue River.","Cadmium","2008, 2010, 2012, 2014"]
["09020316",null,"Pembina River","ND-09020316-021-S_00","Data Unavailable","Pembina River from its confluence with a tributary west of Neche, ND downstream to its confluence with the Tongue River.","Copper","2008, 2010, 2012, 2014"]
["09020316",null,"Pembina River","ND-09020316-021-S_00","Data Unavailable","Pembina River from its confluence with a tributary west of Neche, ND downstream to its confluence with the Tongue River.","Escherichia Coli (E. Coli)","2004, 2006, 2008, 2010, 2012, 2014"]
["09020316",null,"Pembina River","ND-09020316-021-S_00","Data Unavailable","Pembina River from its confluence with a tributary west of Neche, ND downstream to its confluence with the Tongue River.","Lead","2008, 2010, 2012, 2014"]
["09020316",null,"Pembina River","ND-09020316-021-S_00","Data Unavailable","Pembina River from its confluence with a tributary west of Neche, ND downstream to its confluence with the Tongue River.","Sedimentation/Siltation","2004, 2006, 2008, 2010, 2012, 2014"]
["09020316",null,"Pembina River","ND-09020316-021-S_00","Data Unavailable","Pembina River from its confluence with a tributary west of Neche, ND downstream to its confluence with the Tongue River.","Selenium","2008, 2010, 2012, 2014"]
["09020316",null,"Pembina River","ND-09020316-023-S_00","Data Unavailable","Pembina River from its confluence with a tributary N.E. of Walhalla, ND downstream to its confluence with a tributary west of Neche, ND.","Arsenic",2014]
["09020316",null,"Pembina River","ND-09020316-023-S_00","Data Unavailable","Pembina River from its confluence with a tributary N.E. of Walhalla, ND downstream to its confluence with a tributary west of Neche, ND.","Benthic Macroinvertebrates Bioassessments","2006, 2014"]
["09020316",null,"Pembina River","ND-09020316-023-S_00","Data Unavailable","Pembina River from its confluence with a tributary N.E. of Walhalla, ND downstream to its confluence with a tributary west of Neche, ND.","Cadmium",2014]
["09020316",null,"Pembina River","ND-09020316-023-S_00","Data Unavailable","Pembina River from its confluence with a tributary N.E. of Walhalla, ND downstream to its confluence with a tributary west of Neche, ND.","Fish Bioassessments","2006, 2008, 2010, 2012, 2014"]
["09020316",null,"Pembina River","ND-09020316-023-S_00","Data Unavailable","Pembina River from its confluence with a tributary N.E. of Walhalla, ND downstream to its confluence with a tributary west of Neche, ND.","Lead",2014]
[{"$f":"MID(D262,4,8)","v":"09020316"},null,"Pembina River","ND-09020316-025-S_00","Data Unavailable","Pembina River from its confluence with Little South Pembina River, downstream to its confluence with a tributary N.E. of Walhalla, ND.","Arsenic",2014]
["09020316",null,"Pembina River","ND-09020316-025-S_00","Data Unavailable","Pembina River from its confluence with Little South Pembina River, downstream to its confluence with a tributary N.E. of Walhalla, ND.","Cadmium",2014]
["09020316",null,"Pembina River","ND-09020316-025-S_00","Data Unavailable","Pembina River from its confluence with Little South Pembina River, downstream to its confluence with a tributary N.E. of Walhalla, ND.","Fish Bioassessments","2006, 2008, 2010, 2012, 2014"]
["09020316",null,"Pembina River","ND-09020316-025-S_00","Data Unavailable","Pembina River from its confluence with Little South Pembina River, downstream to its confluence with a tributary N.E. of Walhalla, ND.","Lead",2014]
["09020316",null,"Pembina River","ND-09020316-025-S_00","Data Unavailable","Pembina River from its confluence with Little South Pembina River, downstream to its confluence with a tributary N.E. of Walhalla, ND.","Selenium",2014]
["10160004",null,"Pheasant Lake","ND-10160004-005-L_00","Waterbody Map","A 232.1 acre impoundment located on the Elm River in Dickey County, North Dakota.","Dissolved Oxygen","1996, 2004, 2006","Feb-22-2007"]
["10160004",null,"Pheasant Lake","ND-10160004-005-L_00","Waterbody Map","A 232.1 acre impoundment located on the Elm River in Dickey County, North Dakota.","Nutrient/Eutrophication Biological Indicators","1996, 1998, 2002, 2004, 2006"]
["09020203",null,"Pickerel Lake Creek Watershed","ND-09020203-012-S_00","Waterbody Map","Pickerel Lake Creek, including all tributaries. Located in NE Griggs County.","Benthic Macroinvertebrates Bioassessments",2014]
["09020203",null,"Pickerel Lake Creek Watershed","ND-09020203-012-S_00","Waterbody Map","Pickerel Lake Creek, including all tributaries. Located in NE Griggs County.","Escherichia Coli (E. Coli)","2002, 2004, 2006, 2008, 2010, 2012, 2014"]
["10160002",null,"Pipestem Creek","ND-10160002-010-S_00","Waterbody Map","Pipestem Creek from its confluence with Little Pipestem Creek, downstream to Pipestem Dam #4 (ND-10160002-006-L_00).","Fecal Coliform","2004, 2006, 2008, 2010","Sep-29-2011"]
["10160002",null,"Pipestem Creek","ND-10160002-013-S_00","Waterbody Map","Pipestem Creek from Pipestem Dam #4 (ND-10160002-006-L_00), downstream to Pipestem Reservoir.","Fecal Coliform","2004, 2006, 2008, 2010","Sep-29-2011"]
["10160002",null,"Pipestem Reservoir","ND-10160002-001-L_00","Waterbody Map","A large C.O.E. reservoir on Pipestem Creek in Stutsman County, N.D. Size is based on a full pool status.","Nutrient/Eutrophication Biological Indicators","2008, 2010, 2012, 2014"]
["10130205",null,"Plum Creek Watershed","ND-10130205-021-S_00","Waterbody Map","Plum Creek, including all tributaries. Located in Adams County.","Fecal Coliform","2002, 2004, 2006, 2008, 2010, 2012, 2014"]
["10110101",null,"Powers Lake","ND-10110101-001-L_00","Waterbody Map","A 950 acre shallow natural lake in Mountrail and Burke Counties, North Dakota.","Dissolved Oxygen",2008]
["10110101",null,"Powers Lake","ND-10110101-001-L_00","Waterbody Map","A 950 acre shallow natural lake in Mountrail and Burke Counties, North Dakota.","Nutrient/Eutrophication Biological Indicators",2008]
["10110101",null,"Powers Lake","ND-10110101-001-L_00","Waterbody Map","A 950 acre shallow natural lake in Mountrail and Burke Counties, North Dakota.","Sedimentation/Siltation","2008, 2010, 2012, 2014"]
["09020104",null,"Red River","ND-09020104-001-S_00","Waterbody Map","Red River of the North from its confluence with the Ottertail River downstream to its confluence with the Whiskey Creek on the MN side. Located in Eastern Richland County.","Escherichia Coli (E. Coli)","2002, 2004, 2006, 2008, 2010, 2012, 2014"]
["09020104",null,"Red River","ND-09020104-001-S_00","Waterbody Map","Red River of the North from its confluence with the Ottertail River downstream to its confluence with the Whiskey Creek on the MN side. Located in Eastern Richland County.","Methylmercury","2002, 2004, 2006, 2008, 2010, 2012, 2014"]
["09020104",null,"Red River","ND-09020104-002-S_00","Waterbody Map","Red River of the North from its confluence with Whiskey Creek, downstream to its confluence with the Wild Rice River. Located in NE Richland and SE Cass Counties.","Methylmercury","2002, 2004, 2006, 2008, 2010, 2012, 2014"]
["09020104",null,"Red River","ND-09020104-003-S_00","Waterbody Map","Red River of the North, from its confluence with the Wild Rice River, downstream to the 12th Ave bridge in Fargo, ND (just upstream from Moorhead, MN waste water discharge). Eastern Cass County.","Methylmercury","2002, 2004, 2006, 2008, 2010, 2012, 2014"]
["09020104",null,"Red River","ND-09020104-004-S_00","Waterbody Map","Red River of the North, from the 12th Ave N. bridge in Fargo, ND downstream to its confluence with the Sheyenne River. Eastern Cass County.","Methylmercury","2002, 2004, 2006, 2008, 2010, 2012, 2014"]
["09020104",null,"Red River","ND-09020104-005-S_00","Waterbody Map","Red River of the North from its confluence with the Sheyenne River, downstream to its confluence with the Buffalo River on the MN side of the border. Located in NE Cass County.","Methylmercury","2002, 2004, 2006, 2008, 2010, 2012, 2014"]
["09020107",null,"Red River","ND-09020107-001-S_00","Waterbody Map","Red River of the North from its confluence with the Buffalo River downstream to its confluence with the Elm River.","Methylmercury","2002, 2004, 2006, 2008, 2010, 2012, 2014"]
["09020107",null,"Red River","ND-09020107-014-S_00","Waterbody Map","Red River of the North from its confluence with the Elm River, downstream to its confluence with the Marsh River.","Methylmercury","2002, 2004, 2006, 2008, 2010, 2012, 2014"]
["09020301",null,"Red River","ND-09020301-001-S_00","Waterbody Map","Red River of the North, from its confluence with the Marsh River (Mn), downstream to its confluence with the Sand Hill River (Mn). Located in Eastern Trail County.","Methylmercury","2002, 2004, 2006, 2008, 2010, 2012, 2014"]
["09020301",null,"Red River","ND-09020301-007-S_00","Waterbody Map","Red River of the North from its confluence with the Sand Hill River (Mn), downstream to its confluence with Cole Creek.","Methylmercury","2002, 2004, 2006, 2008, 2010, 2012, 2014"]
["09020301",null,"Red River","ND-09020301-010-S_00","Waterbody Map","Red River of the North from its confluence with Cole Creek, downstream to its confluence with the Red Lake River.","Methylmercury","2002, 2004, 2006, 2008, 2010, 2012, 2014"]
["09020301",null,"Red River","ND-09020301-014-S_00","Waterbody Map","Red River of the North from its confluence with the Red Lake River, downstream to its confluence with English Coulee.","Methylmercury","2002, 2004, 2006, 2008, 2010, 2012, 2014"]
["09020306",null,"Red River","ND-09020306-001-S_00","Waterbody Map","Red River of the North from its confluence with English Coulee, downstream to the confluence with Grand Marais Creek (Mn).","Methylmercury","2002, 2004, 2006, 2008, 2010, 2012, 2014"]
["09020306",null,"Red River","ND-09020306-003-S_00","Waterbody Map","Red River of the North from its confluence with Grand Marais Creek (Mn), downstream to its confluence with the Turtle River.","Methylmercury","2002, 2004, 2006, 2008, 2010, 2012, 2014"]
["09020306",null,"Red River","ND-09020306-004-S_00","Waterbody Map","Red River of the North from its confluence with the Turtle River, downstream to its confluence with the Forest River.","Methylmercury","2002, 2004, 2006, 2008, 2010, 2012, 2014"]
["09020306",null,"Red River","ND-09020306-005-S_00","Waterbody Map","Red River of the North from its confluence with the Forest River, downstream to its confluence with the Park River.","Methylmercury","2002, 2004, 2006, 2008, 2010, 2012, 2014"]
["09020311",null,"Red River","ND-09020311-001-S_00","Waterbody Map","Red River of the North from its confluence with the Park River, downstream to its confluence with a small tributary north of Drayton, ND.","Methylmercury","2002, 2004, 2006, 2008, 2010, 2012, 2014"]
["09020311",null,"Red River","ND-09020311-003-S_00","Waterbody Map","Red River of the North from its confluence with a small tributary north of Drayton, ND downstream to its confluence with Two Rivers.","Methylmercury","2002, 2004, 2006, 2008, 2010, 2012, 2014"]
["09020311",null,"Red River","ND-09020311-005-S_00","Waterbody Map","Red River of the North from its confluence with Two Rivers, downstream to its confluence with the Pembina River.","Methylmercury","2002, 2004, 2006, 2008, 2010, 2012, 2014"]
["09020311",null,"Red River","ND-09020311-007-S_00","Waterbody Map","Red River of the North from its confluence with the Pembina River, downstream to the US/Canada border.","Methylmercury","2002, 2004, 2006, 2008, 2010, 2012, 2014"]
["09020316",null,"Renwick Dam","ND-09020316-002-L_00","Data Unavailable","Renwick Dam is a 220 acre impoundment on the Tongue River in Pembina County, N.D. It is home to the Icelandic State Park.","Nutrient/Eutrophication Biological Indicators","2008, 2010, 2012, 2014"]
["09020316",null,"Renwick Dam","ND-09020316-002-L_00","Data Unavailable","Renwick Dam is a 220 acre impoundment on the Tongue River in Pembina County, N.D. It is home to the Icelandic State Park.","Sedimentation/Siltation","2008, 2010, 2012, 2014"]
["10110101",null,"Rice Lake","ND-10110101-012-L_00","Waterbody Map","Rice Lake is a 185.5 acre glacial outwash lake in southern Ward County, North Dakota.","Dissolved Oxygen"]
["10110101",null,"Rice Lake","ND-10110101-012-L_00","Waterbody Map","Rice Lake is a 185.5 acre glacial outwash lake in southern Ward County, North Dakota.","Nutrient/Eutrophication Biological Indicators"]
["10160001",null,"Rocky Run","ND-10160001-018-S_00","Waterbody Map","Rocky Run from its confluence with a tributary watershed west of Cathay, ND, downstream to its confluence with Rosefield Slough.","Fecal Coliform","2008, 2010, 2012, 2014"]
["10160001",null,"Rocky Run","ND-10160001-021-S_00","Waterbody Map","Rocky Run from its beginning, downstream to its confluence with a tributary watershed located west of Cathay, ND (ND-10160001-020-S_00).","Fecal Coliform","2004, 2006, 2008, 2010, 2012, 2014"]
["10130103",null,"Rudolph Lake","ND-10130103-012-L_00","Waterbody Map","A 71.1 acre natural lake in Logan County, North Dakota.","Nutrient/Eutrophication Biological Indicators","2012, 2014"]
["09020204",null,"Rush River","ND-09020204-004-S_00","Waterbody Map","Rush River from its confluence with an unnamed tributary watershed (ND-09020204-012-S), downstream to its confluence with the Sheyenne River.","Combination Benthic/Fishes Bioassessments","2006, 2008, 2010, 2012, 2014"]
["09020204",null,"Rush River","ND-09020204-004-S_00","Waterbody Map","Rush River from its confluence with an unnamed tributary watershed (ND-09020204-012-S), downstream to its confluence with the Sheyenne River.","Fecal Coliform","2008, 2010","Sep-28-2010"]
["09020204",null,"Rush River","ND-09020204-004-S_00","Waterbody Map","Rush River from its confluence with an unnamed tributary watershed (ND-09020204-012-S), downstream to its confluence with the Sheyenne River.","Sedimentation/Siltation","2002, 2004, 2006, 2008, 2010, 2012, 2014"]
["09020204",null,"Rush River","ND-09020204-007-S_00","Waterbody Map","Rush River downstream to an unnamed tributary watershed (ND-09020204-012-S_00). Located in north central Cass County.","Fecal Coliform","2008, 2010","Sep-28-2010"]
["09020204",null,"Rush River","ND-09020204-007-S_00","Waterbody Map","Rush River downstream to an unnamed tributary watershed (ND-09020204-012-S_00). Located in north central Cass County.","Fish Bioassessments","2006, 2008, 2010, 2012, 2014"]
["09020204",null,"Rush River","ND-09020204-007-S_00","Waterbody Map","Rush River downstream to an unnamed tributary watershed (ND-09020204-012-S_00). Located in north central Cass County.","Sedimentation/Siltation","2002, 2004, 2006, 2008, 2010, 2012, 2014"]
["10130104",null,"Sand Creek Watershed","ND-10130104-004-S_00","Waterbody Map","Sand Creek and tributaries, located in Emmons County.","Fecal Coliform","2002, 2004, 2006, 2008, 2010","Sep-28-2010"]
["10160003",null,"Seven Mile Coulee Watershed (Eastern Stutsman County)","ND-10160003-013-S_00","Waterbody Map","Seven Mile Coulee, including all tributaries. Located in Eastern Stutsman County.","Escherichia Coli (E. Coli)","2008, 2010, 2012, 2014"]
["10130204",null,"Sheep Creek Dam","ND-10130204-001-L_00","Waterbody Map","An impoundment on Sheep Creek in Grant County, N.D. Built by the BOR, SCS, and NDG&F for flood control and recreation. Sheep Creek Dam is fed by a 37,827 acre watershed.","Nutrient/Eutrophication Biological Indicators","1998, 2002, 2004, 2006","May-28-2008"]
["09020202",null,"Sheyenne River","ND-09020202-001-S_00","Waterbody Map","Sheyenne River from its confluence with the Warsing Dam Watershed, downstream to the end of the hydrologic unit. Located along the Benson and Eddy County Line.","Sedimentation/Siltation","2004, 2006, 2008, 2010, 2012, 2014"]
["09020202",null,"Sheyenne River","ND-09020202-004-S_00","Waterbody Map","Sheyenne River from its confluence with Big Coulee (ND-09020202-007-S_00), downstream to its confluence with the Warsing Dam Watershed (ND-09020202-003-S).","Benthic Macroinvertebrates Bioassessments",2014]
["09020202",null,"Sheyenne River","ND-09020202-004-S_00","Waterbody Map","Sheyenne River from its confluence with Big Coulee (ND-09020202-007-S_00), downstream to its confluence with the Warsing Dam Watershed (ND-09020202-003-S).","Escherichia Coli (E. Coli)","2010, 2012","Sep-27-2012"]
["09020202",null,"Sheyenne River","ND-09020202-004-S_00","Waterbody Map","Sheyenne River from its confluence with Big Coulee (ND-09020202-007-S_00), downstream to its confluence with the Warsing Dam Watershed (ND-09020202-003-S).","Sedimentation/Siltation","2004, 2006, 2008, 2010, 2012, 2014"]
["09020202",null,"Sheyenne River","ND-09020202-006-S_00","Waterbody Map","Sheyenne River from Harvey Dam, downstream to its confluence with Big Coulee (ND-09020202-007-S_00). Located near the Pierce, Benson and Wells County junction.","Sedimentation/Siltation","2004, 2006, 2008, 2010, 2012, 2014"]
["09020202",null,"Sheyenne River","ND-09020202-012-S_00","Waterbody Map","Sheyenne River from Coal Mine Lake downstream to Harvey Dam. Located along the Sheridan and Wells County border.","Escherichia Coli (E. Coli)","2004, 2006, 2008, 2010, 2012"]
["09020202",null,"Sheyenne River","ND-09020202-015-S_00","Waterbody Map","Sheyenne River, downstream to Sheyenne Lake. Located in North Central Sheridan County.","Escherichia Coli (E. Coli)",2012]
["09020203",null,"Sheyenne River","ND-09020203-001-S_00","Waterbody Map","Sheyenne River from Tolna Dam outlet (ND-09020203-020-S) downstream to Lake Ashtabula. Located in Southern Nelson and Eastern Griggs County.","Escherichia Coli (E. Coli)","2008, 2010, 2012"]
["09020204",null,"Sheyenne River","ND-09020204-001-S_00","Waterbody Map","Sheyenne River, from its confluence with an unnamed tributary watershed (ND-09020204-014-S), downstream to its confluence with the Maple River. Located in SE Cass County.","Fecal Coliform","2006, 2008, 2010, 2012, 2014"]
["09020204",null,"Sheyenne River","ND-09020204-003-S_00","Waterbody Map","Sheyenne River from its confluence with the Maple River, downstream to its confluence with the Red River Of The North. Located in Eastern Cass County.","Fecal Coliform","2002, 2004, 2006, 2008, 2010, 2012, 2014"]
["09020204",null,"Sheyenne River","ND-09020204-015-S_00","Waterbody Map","Sheyenne River, from its confluence with tributary watershed (ND-09020204-016-S_00), downstream to tributary ND-09020204-014-S_00. Located along the Richland and Cass County border.","Combination Benthic/Fishes Bioassessments",2014]
["09020204",null,"Sheyenne River","ND-09020204-015-S_00","Waterbody Map","Sheyenne River, from its confluence with tributary watershed (ND-09020204-016-S_00), downstream to tributary ND-09020204-014-S_00. Located along the Richland and Cass County border.","Escherichia Coli (E. Coli)","2006, 2008, 2010, 2012, 2014"]
[{"$f":"MID(D326,4,8)","v":"09020204"},null,"Sheyenne River","ND-09020204-015-S_00","Waterbody Map","Sheyenne River, from its confluence with tributary watershed (ND-09020204-016-S_00), downstream to tributary ND-09020204-014-S_00. Located along the Richland and Cass County border.","Sedimentation/Siltation","2004, 2006, 2008, 2010, 2012, 2014"]
["09020204",null,"Sheyenne River","ND-09020204-017-S_00","Waterbody Map","Sheyenne River from unnamed tributary (ND-09020204-018-S_00), downstream to unnamed tributary watershed (ND-09020204-016-S_00). Located in northern Ransom and Richland County.","Benthic Macroinvertebrates Bioassessments","2008, 2010, 2012, 2014"]
["09020204",null,"Sheyenne River","ND-09020204-017-S_00","Waterbody Map","Sheyenne River from unnamed tributary (ND-09020204-018-S_00), downstream to unnamed tributary watershed (ND-09020204-016-S_00). Located in northern Ransom and Richland County.","Fish Bioassessments","2008, 2010, 2014"]
["09020204",null,"Sheyenne River","ND-09020204-017-S_00","Waterbody Map","Sheyenne River from unnamed tributary (ND-09020204-018-S_00), downstream to unnamed tributary watershed (ND-09020204-016-S_00). Located in northern Ransom and Richland County.","Sedimentation/Siltation","2004, 2006, 2008, 2010, 2012, 2014"]
["09020204",null,"Sheyenne River","ND-09020204-022-S_00","Waterbody Map","Sheyenne River from tributary near Lisbon (ND-09020204-0024-S_00), downstream to its confluence with Dead Colt Creek (ND-09020204-021-S_00). Located in central Ransom County.","Escherichia Coli (E. Coli)","2002, 2004, 2006, 2008, 2010, 2012, 2014"]
["09020204",null,"Sheyenne River","ND-09020204-022-S_00","Waterbody Map","Sheyenne River from tributary near Lisbon (ND-09020204-0024-S_00), downstream to its confluence with Dead Colt Creek (ND-09020204-021-S_00). Located in central Ransom County.","Fish Bioassessments","2006, 2008, 2010, 2012, 2014"]
["09020204",null,"Sheyenne River","ND-09020204-025-S_00","Waterbody Map","Sheyenne River, from its confluence with a tributary near Highway 46 (ND-09020204-025-S_00) downstream to its confluence with a tributary near Lisbon, ND (ND-09020204-024-S_00).","Fecal Coliform","2008, 2010, 2012, 2014"]
["09020204",null,"Sheyenne River","ND-09020204-027-S_00","Waterbody Map","Sheyenne River, from its confluence with a tributary watershed below Valley City (ND-09020204-028-S_00), downstream to its confluence with a tributary near Highway 46 (ND-09020204-026-S_00). Located in south central Barnes County.","Benthic Macroinvertebrates Bioassessments",2014]
["09020204",null,"Sheyenne River","ND-09020204-027-S_00","Waterbody Map","Sheyenne River, from its confluence with a tributary watershed below Valley City (ND-09020204-028-S_00), downstream to its confluence with a tributary near Highway 46 (ND-09020204-026-S_00). Located in south central Barnes County.","Sedimentation/Siltation","2002, 2004, 2006, 2008, 2010, 2012, 2014"]
["09020204",null,"Sheyenne River","ND-09020204-034-S_00","Waterbody Map","Sheyenne River from its confluence with a tributary above Valley City, near railroad bridge, (ND-09020204-038-S_00) downstream to its confluence with a tributary below Valley City (ND-09020204-028-S_00). Located in Central Barnes County.","Benthic Macroinvertebrates Bioassessments","2004, 2006, 2008, 2010, 2012, 2014"]
["09020204",null,"Sheyenne River","ND-09020204-034-S_00","Waterbody Map","Sheyenne River from its confluence with a tributary above Valley City, near railroad bridge, (ND-09020204-038-S_00) downstream to its confluence with a tributary below Valley City (ND-09020204-028-S_00). Located in Central Barnes County.","Sedimentation/Siltation","2002, 2004, 2006, 2008, 2010, 2012, 2014"]
["09020204",null,"Sheyenne River","ND-09020204-040-S_00","Waterbody Map","Sheyenne River from Lake Ashtabula downstream to its confluence with a tributary above Valley City, near rail road bridge (ND-09020204-038-S_00). Located in Central Barnes County.","Sedimentation/Siltation","2002, 2004, 2006, 2008, 2010, 2012, 2014"]
["09010007",null,"Short Creek Dam","ND-09010007-001-L_00","Data Unavailable","Small, Narrow, twisty impoundment on Short Creek. 1990-1991 LWQA lake. Built for recreation in 1962. 102,400 acre watershed. International watershed. Moderate use. Boat Ramp, vault toilets, swim beach and picnic shelters.","Dissolved Oxygen"]
["09010007",null,"Short Creek Dam","ND-09010007-001-L_00","Data Unavailable","Small, Narrow, twisty impoundment on Short Creek. 1990-1991 LWQA lake. Built for recreation in 1962. 102,400 acre watershed. International watershed. Moderate use. Boat Ramp, vault toilets, swim beach and picnic shelters.","Nutrient/Eutrophication Biological Indicators"]
["09020105",null,"Shortfoot Creek Watershed","ND-09020105-016-S_00","Waterbody Map","Shortfoot Creek from its confluence with the Wild Rice River upstream to the ND-SD border, including all tributaries.","Escherichia Coli (E. Coli)",2014]
["09020105",null,"Shortfoot Creek Watershed","ND-09020105-016-S_00","Waterbody Map","Shortfoot Creek from its confluence with the Wild Rice River upstream to the ND-SD border, including all tributaries.","Fecal Coliform","2002, 2004, 2006, 2008, 2010","Sep-28-2010"]
["09020203",null,"Silver Creek Watershed","ND-09020203-004-S_00","Waterbody Map","Silver Creek, including Gunderson Creek and all tributaries. Located in southern Griggs County.","Escherichia Coli (E. Coli)","2002, 2004, 2006, 2008, 2010, 2012"]
["10130203",null,"Sims Creek","ND-10130203-034-S_00","Waterbody Map","Sims Creek from its confluence with Cut Bank Creek downstream to its confluence with Hailstone Creek. Located in Morton County.","Escherichia Coli (E. Coli)",2014]
["09010003",null,"Souris River","ND-09010003-001-S_00","Waterbody Map","Souris River from its confluence with Oak Creek downstream to its confluence with the Wintering River. Located in McHenry County.","Combination Benthic/Fishes Bioassessments",2014]
["09010003",null,"Souris River","ND-09010003-001-S_00","Waterbody Map","Souris River from its confluence with Oak Creek downstream to its confluence with the Wintering River. Located in McHenry County.","Dissolved Oxygen",2014]
["09010003",null,"Souris River","ND-09010003-001-S_00","Waterbody Map","Souris River from its confluence with Oak Creek downstream to its confluence with the Wintering River. Located in McHenry County.","Fecal Coliform","2002, 2006, 2008, 2010","Sep-29-2011"]
["09010003",null,"Souris River","ND-09010003-001-S_00","Waterbody Map","Souris River from its confluence with Oak Creek downstream to its confluence with the Wintering River. Located in McHenry County.","Sedimentation/Siltation","2002, 2004, 2006, 2008, 2010, 2012, 2014"]
["09010003",null,"Souris River","ND-09010003-005-S_00","Waterbody Map","Souris River from its confluence with the Wintering River downstream to its confluence with Willow Creek. Located in NE McHenry County.","Combination Benthic/Fishes Bioassessments",2014]
["09010003",null,"Souris River","ND-09010003-005-S_00","Waterbody Map","Souris River from its confluence with the Wintering River downstream to its confluence with Willow Creek. Located in NE McHenry County.","Escherichia Coli (E. Coli)",2014,"Sep-02-2015"]
["09010003",null,"Souris River","ND-09010003-005-S_00","Waterbody Map","Souris River from its confluence with the Wintering River downstream to its confluence with Willow Creek. Located in NE McHenry County.","Fecal Coliform","2008, 2010, 2012, 2014","Sep-02-2015"]
["09010003",null,"Souris River","ND-09010003-005-S_00","Waterbody Map","Souris River from its confluence with the Wintering River downstream to its confluence with Willow Creek. Located in NE McHenry County.","Sedimentation/Siltation","2004, 2006, 2008, 2010, 2012, 2014"]
["09010008",null,"Souris River","ND-09010008-001-S_00","Data Unavailable","Souris River from the N.D./Saskatchewan border downstream to Lake Darling.","Dissolved Oxygen"]
["09010008",null,"Souris River","ND-09010008-001-S_00","Data Unavailable","Souris River from the N.D./Saskatchewan border downstream to Lake Darling.","Sedimentation/Siltation","1998, 2004, 2006, 2008, 2010, 2012, 2014"]
["09010008",null,"Souris River","ND-09010008-003-S_00","Data Unavailable","Souris River from Lake Darling downstream to its confluence with the Des Lacs River. Located in Northern Ward County.","Benthic Macroinvertebrates Bioassessments","2004, 2006, 2008, 2010, 2012, 2014"]
["10130104",null,"South Branch Beaver Creek","ND-10130104-014-S_00","Waterbody Map","South Branch Beaver Creek from its confluence with an unnamed tributary watershed to the South Branch Beaver Creek SW of Wishek ND (ND-10130104-017-S) downstream to its confluence with Beaver Creek. Located in McIntosh and Emmons Counties.","Fecal Coliform","2002, 2004, 2006, 2008, 2010","Sep-28-2010"]
["09020107",null,"South Branch Elm River","ND-09020107-017-S_00","Waterbody Map","South Branch Elm River from Hunter Dam downstream to its confluence with the Elm River.","Combination Benthic/Fishes Bioassessments","2012, 2014"]
["09020308",null,"South Branch Forest River","ND-09020308-017-S_00","Waterbody Map","South Branch Forest River from its confluence with Unnamed tributary watershed (ND-09020308-018-S) downstream to Fordville Dam.","Escherichia Coli (E. Coli)",2014]
["09020109",null,"South Branch Goose River","ND-09020109-013-S_00","Waterbody Map","South Branch Goose River from its confluence with the Middle Branch Goose River downstream to its confluence with the Goose River","Combination Benthic/Fishes Bioassessments",2014]
["09020109",null,"South Branch Goose River","ND-09020109-015-S_00","Waterbody Map","South Branch Goose River downstream to its confluence with the Middle Branch Goose River.","Combination Benthic/Fishes Bioassessments","2012, 2014"]
["09020109",null,"South Branch Goose River","ND-09020109-015-S_00","Waterbody Map","South Branch Goose River downstream to its confluence with the Middle Branch Goose River.","Escherichia Coli (E. Coli)","2008, 2010, 2012, 2014"]
["10130202",null,"South Branch Heart River","ND-10130202-057-S_00","Waterbody Map","South Branch Heart River from its confluence with Bull Creek, downstream to its confluence with the Heart River. Located in Stark County.","Sedimentation/Siltation"]
["09020310",null,"South Branch Park River","ND-09020310-014-S_00","Waterbody Map","South Branch Park River from its confluence with A tributary (ND-09020310-015-S) downstream to its confluence with the Middle Branch Park River","Combination Benthic/Fishes Bioassessments",2014]
["09020310",null,"South Branch Park River","ND-09020310-016-S_00","Waterbody Map","South Branch Park River from its confluence with A tributary near Park River, ND (ND-09020310-018-S) downstream to its confluence with a tributary (ND-09020310-015-S)","Combination Benthic/Fishes Bioassessments","2012, 2014"]
["09020310",null,"South Branch Park River","ND-09020310-016-S_00","Waterbody Map","South Branch Park River from its confluence with A tributary near Park River, ND (ND-09020310-018-S) downstream to its confluence with a tributary (ND-09020310-015-S)","Selenium","2012, 2014"]
["09020310",null,"South Branch Park River","ND-09020310-020-S_00","Waterbody Map","South Branch Park River from its confluence with a tributary watershed near Adams, ND (ND-09020310-022-S_00), downstream to Homme Dam.","Benthic Macroinvertebrates Bioassessments","2006, 2014"]
["09020310",null,"South Branch Park River","ND-09020310-020-S_00","Waterbody Map","South Branch Park River from its confluence with a tributary watershed near Adams, ND (ND-09020310-022-S_00), downstream to Homme Dam.","Fish Bioassessments","2006, 2008, 2010, 2012, 2014"]
["09020310",null,"South Branch Park River","ND-09020310-023-S_00","Waterbody Map","South Branch Park River downstream to A tributary watershed near Adams, ND (ND-09020310-022-S).","Benthic Macroinvertebrates Bioassessments",2014]
["09020307",null,"South Branch Turtle River","ND-09020307-024-S_00","Waterbody Map","South Branch Turtle River downstream to Larimore Dam.","Cadmium","2008, 2010, 2012, 2014"]
["09020307",null,"South Branch Turtle River","ND-09020307-024-S_00","Waterbody Map","South Branch Turtle River downstream to Larimore Dam.","Combination Benthic/Fishes Bioassessments","2012, 2014"]
["09020307",null,"South Branch Turtle River","ND-09020307-024-S_00","Waterbody Map","South Branch Turtle River downstream to Larimore Dam.","Fecal Coliform","2010, 2012","Aug-22-2013"]
["09020307",null,"South Branch Turtle River","ND-09020307-024-S_00","Waterbody Map","South Branch Turtle River downstream to Larimore Dam.","Selenium","2008, 2010, 2012, 2014"]
["10130205",null,"South Fork Cedar Creek Watershed","ND-10130205-045-S_00","Waterbody Map","South Fork Cedar Creek, including all tributaries. Located in Bowman County.","Sedimentation/Siltation","2004, 2006, 2008, 2010, 2012, 2014"]
["10160004",null,"South Fork Maple River","ND-10160004-015-S_00","Waterbody Map","South Fork Maple River from its confluence with three tributaries, downstream to its confluence with the Maple River. Located in Dickey County.","Fecal Coliform","2002, 2004, 2006, 2008","Sep-29-2009"]
["10160004",null,"South Fork Maple River","ND-10160004-015-S_00","Waterbody Map","South Fork Maple River from its confluence with three tributaries, downstream to its confluence with the Maple River. Located in Dickey County.","Sedimentation/Siltation","2002, 2004, 2006, 2008, 2010, 2012, 2014"]
["10130201",null,"Spring Creek","ND-10130201-001-S_00","Waterbody Map","Spring Creek from its confluence with Goodman Creek downstream to its confluence with the Knife River. Located in Mercer County.","Escherichia Coli (E. Coli)",2010,"Sep-26-2011"]
["10130201",null,"Spring Creek","ND-10130201-023-S_00","Waterbody Map","Spring Creek from its confluence with North Creek downstream to its confluence with Goodman Creek. Located in Mercer and Dunn Counties.","Escherichia Coli (E. Coli)",2010,"Sep-26-2011"]
["10130201",null,"Spring Creek","ND-10130201-028-S_00","Waterbody Map","Spring Creek from Lake Ilo downstream to its confluence with North Creek. Located in Dunn County.","Escherichia Coli (E. Coli)",2010,"Sep-26-2011"]
["09020109",null,"Spring Creek Watershed","ND-09020109-029-S_00","Waterbody Map","Spring Creek, including tributaries","Fecal Coliform","2008, 2010, 2012, 2014"]
["10130104",null,"Spring Creek Watershed","ND-10130104-005-S_00","Waterbody Map","Spring Creek and tributaries, located in Emmons County.","Fecal Coliform","2002, 2004, 2006, 2008, 2010","Sep-28-2010"]
["10130101",null,"Square Butte Creek","ND-10130101-002-S_00","Waterbody Map","Square Butte Creek from its confluence with Otter Creek downstream to its confluence with the Missouri River. Located in Morton County.","Sedimentation/Siltation","2002, 2004, 2006, 2008, 2010, 2012, 2014"]
["10130101",null,"Square Butte Creek","ND-10130101-009-S_00","Waterbody Map","Square Butte Creek from Nelson Lake downstream to its confluence with Otter Creek. Located in Oliver and Morton Counties.","Fecal Coliform","2002, 2004, 2006, 2008, 2010, 2012, 2014"]
["10130101",null,"Square Butte Creek","ND-10130101-009-S_00","Waterbody Map","Square Butte Creek from Nelson Lake downstream to its confluence with Otter Creek. Located in Oliver and Morton Counties.","Sedimentation/Siltation","2002, 2004, 2006, 2008, 2010, 2012, 2014"]
["10110101",null,"Stanley Reservoir","ND-10110101-009-L_00","Waterbody Map","A 253 acre reservoir in Mountrail County.","Nutrient/Eutrophication Biological Indicators","2012, 2014"]
["09020205",null,"Swan Creek Watershed","ND-09020205-003-S_00","Waterbody Map","Swan Creek from its confluence with the Maple River upstream to the Casselton Reservoir, including all tributaries. Located in Central Cass County.","Combination Benthic/Fishes Bioassessments","2012, 2014"]
["09020205",null,"Swan Creek Watershed","ND-09020205-003-S_00","Waterbody Map","Swan Creek from its confluence with the Maple River upstream to the Casselton Reservoir, including all tributaries. Located in Central Cass County.","Escherichia Coli (E. Coli)",2014]
["10130203",null,"Sweetbriar Reservoir","ND-10130203-005-L_00","Waterbody Map","A 270.6 acre reservoir, in Morton County, North Dakota.","Nutrient/Eutrophication Biological Indicators","2004, 2006, 2008","Dec-03-2008"]
["10130204",null,"Thirty Mile Creek","ND-10130204-014-S_00","Waterbody Map","Thirty Mile Creek from its confluence with Springs Creek downstream to its confluence with the Cannonball River. Located in Hettinger County.","Benthic Macroinvertebrates Bioassessments","2004, 2006, 2008, 2010, 2012, 2014"]
["10130204",null,"Thirty Mile Creek","ND-10130204-014-S_00","Waterbody Map","Thirty Mile Creek from its confluence with Springs Creek downstream to its confluence with the Cannonball River. Located in Hettinger County.","Escherichia Coli (E. Coli)","2002, 2004, 2006, 2008, 2010, 2012, 2014"]
["10130204",null,"Thirty Mile Creek","ND-10130204-017-S_00","Waterbody Map","Thirty Mile Creek from tributary watershed (ND-10130204-019-S_00), downstream to its confluence with Springs Creek. Located in Hettinger County.","Escherichia Coli (E. Coli)","2002, 2004, 2006, 2008, 2010, 2012, 2014"]
[{"$f":"MID(D390,4,8)","v":"09020204"},null,"Timber Coulee Watershed","ND-09020204-023-S_00","Waterbody Map","Timber Coulee, including all tributaries. Located in south central Ransom County.","Escherichia Coli (E. Coli)","2004, 2006, 2008, 2010, 2012, 2014"]
["09020316",null,"Tongue River","ND-09020316-002-S_00","Data Unavailable","Tongue River from its confluence with Big Slough downstream to its confluence with the Pembina River.","Combination Benthic/Fishes Bioassessments",2014]
["09020316",null,"Tongue River","ND-09020316-006-S_00","Data Unavailable","Tongue River from its confluence with a tributary N.E. of Cavalier, ND downstream to its confluence with Big Slough. Currently this ID also includes the portion known as the Tongue River Cuttoff.","Combination Benthic/Fishes Bioassessments","2006, 2008, 2010, 2012, 2014"]
["09020316",null,"Tongue River","ND-09020316-006-S_00","Data Unavailable","Tongue River from its confluence with a tributary N.E. of Cavalier, ND downstream to its confluence with Big Slough. Currently this ID also includes the portion known as the Tongue River Cuttoff.","Sedimentation/Siltation","2004, 2006, 2008, 2010, 2012, 2014"]
["09020316",null,"Tongue River","ND-09020316-009-S_00","Data Unavailable","Tongue River from Renwick Dam, downstream to a tributary N.E. of Cavalier, ND.","Combination Benthic/Fishes Bioassessments","2006, 2008, 2010, 2012, 2014"]
["09020316",null,"Tongue River","ND-09020316-009-S_00","Data Unavailable","Tongue River from Renwick Dam, downstream to a tributary N.E. of Cavalier, ND.","Sedimentation/Siltation","2004, 2006, 2008, 2010, 2012, 2014"]
["09020316",null,"Tongue River","ND-09020316-009-S_00","Data Unavailable","Tongue River from Renwick Dam, downstream to a tributary N.E. of Cavalier, ND.","Selenium",2014]
["09020316",null,"Tongue River","ND-09020316-011-S_00","Data Unavailable","Tongue River from Herzog Dam watershed downstream to Renwick Dam.","Combination Benthic/Fishes Bioassessments",2014]
["09020316",null,"Tongue River","ND-09020316-019-S_00","Data Unavailable","Tongue River downstream to Senator Young Dam.","Combined Biota/Habitat Bioassessments (Streams)",2014]
["10130205",null,"Tributaries To Cedar Creek","ND-10130205-044-S_00","Waterbody Map","Unnamed tributaries to Cedar Creek (ND-10130205-042-S_00). Located in Slope and Bowman counties.","Sedimentation/Siltation","2004, 2006, 2008, 2010, 2012, 2014"]
["10160004",null,"Tributaries To The Elm River","ND-10160004-008-S_00","Waterbody Map","Unnamed tributaries to the Elm River (ND-10160004-005-S_00). Located in Dickey County.","Sedimentation/Siltation","2002, 2004, 2006, 2008, 2010, 2012, 2014"]
["09020105",null,"Tributaries To The Wild Rice River","ND-09020105-017-S_00","Waterbody Map","Unnamed tributaries to the Wild Rice River (ND-09020105-015-S), including Crooked Creek.","Escherichia Coli (E. Coli)","2002, 2004, 2006, 2008, 2010, 2012, 2014"]
["10160004",null,"Tributary To Pheasant Lake","ND-10160004-009-S_00","Waterbody Map","Unnamed tributary to Pheasant Lake. Located in Dickey County.","Sedimentation/Siltation","2002, 2004, 2006, 2008, 2010, 2012, 2014"]
["09020105",null,"Tributary To The Wild Rice River","ND-09020105-014-S_00","Waterbody Map","Unnamed tributary to the Wild Rice River (ND-09020105-012-S_00) located near Milnor, ND in NE Sargent County.","Escherichia Coli (E. Coli)",2014]
["09020203",null,"Tributary Watershed To Baldhill Creek","ND-09020203-008-S_00","Waterbody Map","Unnamed tributary watershed to Baldhill Creek (ND-09020203-007-S). Located in NW Griggs County.","Escherichia Coli (E. Coli)","2002, 2004, 2006, 2008, 2010, 2012"]
["10160003",null,"Tributary Watershed To Bear Creek","ND-10160003-035-S_00","Waterbody Map","Unnamed tributary watershed to Bear Creek.","Fecal Coliform","2004, 2006, 2008","Sep-29-2009"]
["10130104",null,"Tributary Watershed To Beaver Lake (South)","ND-10130104-012-S_00","Waterbody Map","Unnamed tributary on the south side of Beaver Lake, Logan and McIntosh Counties.","Fecal Coliform","2002, 2004, 2006, 2008, 2010","Sep-28-2010"]
["10160002",null,"Tributary Watershed To Pipestem Creek","ND-10160002-012-S_00","Waterbody Map","Unnamed tributary watershed to Pipestem Creek (ND-10160002-013-S_00).","Fecal Coliform","2004, 2006, 2008, 2010","Sep-29-2011"]
["09020205",null,"Tributary Watershed To The Maple River","ND-09020205-017-S_00","Waterbody Map","Unnamed tributary watershed to the Maple River (ND-09020205-015-S_00). Located in S.E. Barnes County.","Escherichia Coli (E. Coli)",2014]
["09020205",null,"Tributary Watershed To The Maple River","ND-09020205-018-S_00","Waterbody Map","Unnamed tributary watershed to the Maple River (ND-09020205-015-S_00). Located in Eastern Barnes County.","Escherichia Coli (E. Coli)",2014]
["09020202",null,"Tributary Watershed To The Sheyenne River","ND-09020202-013-S_00","Waterbody Map","Unnamed tributary watershed to the Sheyenne River (ND-09020202-012-S). Located in Eastern Sheridan County.","Escherichia Coli (E. Coli)","2006, 2008, 2010, 2012"]
["09020203",null,"Tributary Watershed To The Sheyenne River","ND-09020203-013-S_00","Waterbody Map","Unnamed tributary watershed to the Sheyenne River (ND-09020203-001-S). Located in northern Griggs County.","Escherichia Coli (E. Coli)","2002, 2004, 2006, 2008, 2010, 2012, 2014"]
["10130101",null,"Turtle Creek","ND-10130101-020-S_00","Waterbody Map","Turtle Creek from Lake Ordway downstream to its confluence with the Missouri River. Located in Mclean County.","Escherichia Coli (E. Coli)","2012, 2014"]
["10130101",null,"Turtle Creek","ND-10130101-035-S_00","Data Unavailable","Turtle Creek from Turtle Lake to Lake Ordway. Located in McLean County.","Escherichia Coli (E. Coli)",2014]
["10130101",null,"Turtle Creek Watershed","ND-10130101-036-S_00","Data Unavailable","Upper Turtle Creek watershed above Turtle Lake including all tributaries and tributary from Crooked Lake, between Long Lake and Strawberry Lake, and tributary flowing into Camp Lake.","Escherichia Coli (E. Coli)",2014]
["09020307",null,"Turtle River","ND-09020307-001-S_00","Waterbody Map","Turtle River from its confluence with Salt Water Coulee, downstream to its confluence with the Red River Of The North.","Arsenic","2008, 2010, 2012, 2014"]
["09020307",null,"Turtle River","ND-09020307-001-S_00","Waterbody Map","Turtle River from its confluence with Salt Water Coulee, downstream to its confluence with the Red River Of The North.","Cadmium","2002, 2004, 2008, 2010, 2012, 2014"]
["09020307",null,"Turtle River","ND-09020307-001-S_00","Waterbody Map","Turtle River from its confluence with Salt Water Coulee, downstream to its confluence with the Red River Of The North.","Chloride","2004, 2006, 2008, 2010, 2012, 2014"]
["09020307",null,"Turtle River","ND-09020307-001-S_00","Waterbody Map","Turtle River from its confluence with Salt Water Coulee, downstream to its confluence with the Red River Of The North.","Combination Benthic/Fishes Bioassessments","2012, 2014"]
["09020307",null,"Turtle River","ND-09020307-001-S_00","Waterbody Map","Turtle River from its confluence with Salt Water Coulee, downstream to its confluence with the Red River Of The North.","Sedimentation/Siltation","2002, 2004, 2006, 2008, 2010, 2012, 2014"]
["09020307",null,"Turtle River","ND-09020307-001-S_00","Waterbody Map","Turtle River from its confluence with Salt Water Coulee, downstream to its confluence with the Red River Of The North.","Selenium","2002, 2004, 2006, 2008, 2010, 2012, 2014"]
["09020307",null,"Turtle River","ND-09020307-001-S_00","Waterbody Map","Turtle River from its confluence with Salt Water Coulee, downstream to its confluence with the Red River Of The North.","Sulfates","2004, 2006, 2014"]
["09020307",null,"Turtle River","ND-09020307-006-S_00","Waterbody Map","Turtle River from its confluence with Kelly Slough, downstream to its confluence with Salt Water Coulee.","Cadmium","2004, 2008, 2010, 2012, 2014"]
["09020307",null,"Turtle River","ND-09020307-006-S_00","Waterbody Map","Turtle River from its confluence with Kelly Slough, downstream to its confluence with Salt Water Coulee.","Sedimentation/Siltation","2004, 2006, 2008, 2010, 2012, 2014"]
["09020307",null,"Turtle River","ND-09020307-006-S_00","Waterbody Map","Turtle River from its confluence with Kelly Slough, downstream to its confluence with Salt Water Coulee.","Selenium","2004, 2006, 2008, 2010, 2012, 2014"]
["09020307",null,"Turtle River","ND-09020307-019-S_00","Waterbody Map","Turtle River from its confluence with a tributary NE of Turtle River State Park, downstream to its confluence with Kelly Slough.","Arsenic","2012, 2014"]
["09020307",null,"Turtle River","ND-09020307-019-S_00","Waterbody Map","Turtle River from its confluence with a tributary NE of Turtle River State Park, downstream to its confluence with Kelly Slough.","Cadmium","2008, 2010, 2012, 2014"]
["09020307",null,"Turtle River","ND-09020307-019-S_00","Waterbody Map","Turtle River from its confluence with a tributary NE of Turtle River State Park, downstream to its confluence with Kelly Slough.","Combination Benthic/Fishes Bioassessments","2006, 2008, 2010, 2012, 2014"]
["09020307",null,"Turtle River","ND-09020307-019-S_00","Waterbody Map","Turtle River from its confluence with a tributary NE of Turtle River State Park, downstream to its confluence with Kelly Slough.","Fecal Coliform","2010, 2012","Aug-22-2013"]
["09020307",null,"Turtle River","ND-09020307-019-S_00","Waterbody Map","Turtle River from its confluence with a tributary NE of Turtle River State Park, downstream to its confluence with Kelly Slough.","Selenium","2008, 2010, 2012, 2014"]
["09020307",null,"Turtle River","ND-09020307-021-S_00","Waterbody Map","Turtle River from its confluence with South Branch Turtle River downstream to its confluence with a tributary NE oF Turtle River State Park.","Arsenic","2008, 2010, 2012, 2014"]
["09020307",null,"Turtle River","ND-09020307-021-S_00","Waterbody Map","Turtle River from its confluence with South Branch Turtle River downstream to its confluence with a tributary NE oF Turtle River State Park.","Cadmium","2008, 2010, 2012, 2014"]
["09020307",null,"Turtle River","ND-09020307-021-S_00","Waterbody Map","Turtle River from its confluence with South Branch Turtle River downstream to its confluence with a tributary NE oF Turtle River State Park.","Combination Benthic/Fishes Bioassessments",2014]
["09020307",null,"Turtle River","ND-09020307-021-S_00","Waterbody Map","Turtle River from its confluence with South Branch Turtle River downstream to its confluence with a tributary NE oF Turtle River State Park.","Fecal Coliform","2010, 2012","Aug-22-2013"]
["09020307",null,"Turtle River","ND-09020307-021-S_00","Waterbody Map","Turtle River from its confluence with South Branch Turtle River downstream to its confluence with a tributary NE oF Turtle River State Park.","Selenium","2008, 2010, 2012, 2014"]
["09020202",null,"Warsing Dam","ND-09020202-001-L_00","Waterbody Map","Warsing Dam is a narrow, quarter moon shaped, hypereutrophic, 53.4 acre impoundment within the Sheyenne River drainage. The contributing watershed covers 8,360 acres of predominantly agricultural lands. Warsing dam receives light to moderate use.","Dissolved Oxygen","1996, 1998, 2002, 2004, 2006, 2008, 2010, 2012, 2014"]
["09020202",null,"Warsing Dam","ND-09020202-001-L_00","Waterbody Map","Warsing Dam is a narrow, quarter moon shaped, hypereutrophic, 53.4 acre impoundment within the Sheyenne River drainage. The contributing watershed covers 8,360 acres of predominantly agricultural lands. Warsing dam receives light to moderate use.","Nutrient/Eutrophication Biological Indicators","1996, 1998, 2002, 2004, 2006, 2008, 2010, 2012, 2014"]
["09020202",null,"Warsing Dam","ND-09020202-001-L_00","Waterbody Map","Warsing Dam is a narrow, quarter moon shaped, hypereutrophic, 53.4 acre impoundment within the Sheyenne River drainage. The contributing watershed covers 8,360 acres of predominantly agricultural lands. Warsing dam receives light to moderate use.","Sedimentation/Siltation","2004, 2006, 2008, 2010, 2012, 2014"]
["10110203",null,"West Branch Deep Creek Watershed","ND-10110203-004-S_00","Waterbody Map","West Branch Deep Creek, including tributaries. Located in Slope County.","Fecal Coliform","2008, 2010, 2012","Oct-09-2012"]
["10130103",null,"West Branch Long Creek Watershed","ND-10130103-004-S_00","Waterbody Map","West Branch Long Lake Creek upstream from Braddock Dam, including tributaries. Located in Emmons County.","Escherichia Coli (E. Coli)","2012, 2014"]
["09020308",null,"Whitman Dam","ND-09020308-002-L_00","Waterbody Map","A 143 acre, flood control impoundment on the Middle Branch of the Forest River in Nelson County.","Nutrient/Eutrophication Biological Indicators","2008, 2010, 2012, 2014"]
["09020105",null,"Wild Rice Creek Watershed","ND-09020105-020-S_00","Waterbody Map","Wild Rice Creek from its confluence with the Wild Rice River upstream to the ND-SD border, including all tributaries.","Escherichia Coli (E. Coli)",2014]
["09020105",null,"Wild Rice Creek Watershed","ND-09020105-020-S_00","Waterbody Map","Wild Rice Creek from its confluence with the Wild Rice River upstream to the ND-SD border, including all tributaries.","Fecal Coliform","2002, 2004, 2006, 2008, 2010","Sep-21-2011"]
["09020105",null,"Wild Rice River","ND-09020105-001-S_00","Waterbody Map","Wild Rice River from its confluence with the Colfax Watershed, downstream to its confluence with the Red River Of The North. Located in NE Richland and SE Cass Counties.","Combination Benthic/Fishes Bioassessments","2004, 2006, 2008, 2010, 2012, 2014"]
["09020105",null,"Wild Rice River","ND-09020105-001-S_00","Waterbody Map","Wild Rice River from its confluence with the Colfax Watershed, downstream to its confluence with the Red River Of The North. Located in NE Richland and SE Cass Counties.","Dissolved Oxygen","2008, 2010, 2012, 2014"]
["09020105",null,"Wild Rice River","ND-09020105-001-S_00","Waterbody Map","Wild Rice River from its confluence with the Colfax Watershed, downstream to its confluence with the Red River Of The North. Located in NE Richland and SE Cass Counties.","Sedimentation/Siltation","2004, 2006, 2008, 2010, 2012, 2014"]
["09020105",null,"Wild Rice River","ND-09020105-003-S_00","Waterbody Map","Wild Rice River from its confluence with a tributary about 3.6 miles NE of Great Bend, ND downstream to its confluence with the Colfax Watershed. Located in Eastern Richland County.","Combination Benthic/Fishes Bioassessments","2008, 2010, 2012, 2014"]
["09020105",null,"Wild Rice River","ND-09020105-003-S_00","Waterbody Map","Wild Rice River from its confluence with a tributary about 3.6 miles NE of Great Bend, ND downstream to its confluence with the Colfax Watershed. Located in Eastern Richland County.","Dissolved Oxygen","2004, 2006, 2008, 2010, 2012, 2014"]
["09020105",null,"Wild Rice River","ND-09020105-003-S_00","Waterbody Map","Wild Rice River from its confluence with a tributary about 3.6 miles NE of Great Bend, ND downstream to its confluence with the Colfax Watershed. Located in Eastern Richland County.","Escherichia Coli (E. Coli)","2008, 2014"]
["09020105",null,"Wild Rice River","ND-09020105-003-S_00","Waterbody Map","Wild Rice River from its confluence with a tributary about 3.6 miles NE of Great Bend, ND downstream to its confluence with the Colfax Watershed. Located in Eastern Richland County.","Fecal Coliform","2008, 2014","Sep-29-2009"]
["09020105",null,"Wild Rice River","ND-09020105-003-S_00","Waterbody Map","Wild Rice River from its confluence with a tributary about 3.6 miles NE of Great Bend, ND downstream to its confluence with the Colfax Watershed. Located in Eastern Richland County.","Sedimentation/Siltation","2002, 2004, 2006, 2008, 2010, 2012, 2014"]
["09020105",null,"Wild Rice River","ND-09020105-009-S_00","Waterbody Map","Wild Rice River from Elk Creek (ND-09020105-010-S_00), downstream to its confluence with a tributary 3.5 miles NE of Great Bend, ND (ND-09020105-008-S_00). Located in South Central Richland County.","Dissolved Oxygen","2004, 2006, 2008, 2010, 2012, 2014"]
["09020105",null,"Wild Rice River","ND-09020105-009-S_00","Waterbody Map","Wild Rice River from Elk Creek (ND-09020105-010-S_00), downstream to its confluence with a tributary 3.5 miles NE of Great Bend, ND (ND-09020105-008-S_00). Located in South Central Richland County.","Fecal Coliform","2004, 2006, 2008, 2010","Sep-28-2010"]
["09020105",null,"Wild Rice River","ND-09020105-009-S_00","Waterbody Map","Wild Rice River from Elk Creek (ND-09020105-010-S_00), downstream to its confluence with a tributary 3.5 miles NE of Great Bend, ND (ND-09020105-008-S_00). Located in South Central Richland County.","Sedimentation/Siltation","2002, 2004, 2006, 2008, 2010, 2012, 2014"]
[{"$f":"MID(D454,4,8)","v":"09020105"},null,"Wild Rice River","ND-09020105-012-S_00","Waterbody Map","Wild Rice River from its confluence with Shortfoot Creek (ND-09020105-016-S_00) downstream to its confluence with Elk Creek (ND-09020105-010-S_00).","Escherichia Coli (E. Coli)","2004, 2006, 2008, 2010, 2014"]
["09020105",null,"Wild Rice River","ND-09020105-012-S_00","Waterbody Map","Wild Rice River from its confluence with Shortfoot Creek (ND-09020105-016-S_00) downstream to its confluence with Elk Creek (ND-09020105-010-S_00).","Fecal Coliform","2004, 2006, 2008, 2010, 2014","Sep-28-2010"]
["09020105",null,"Wild Rice River","ND-09020105-012-S_00","Waterbody Map","Wild Rice River from its confluence with Shortfoot Creek (ND-09020105-016-S_00) downstream to its confluence with Elk Creek (ND-09020105-010-S_00).","Sedimentation/Siltation","2002, 2004, 2006, 2008, 2010, 2012, 2014"]
["09020105",null,"Wild Rice River","ND-09020105-018-S_00","Waterbody Map","Wild Rice River from its confluence with the Silver Lake Diversion downstream to Lake Tewaukon.","Escherichia Coli (E. Coli)","2002, 2004, 2006, 2008, 2010, 2012, 2014"]
["09020105",null,"Wild Rice River","ND-09020105-022-S_00","Waterbody Map","Wild Rice River from its confluence with Wild Rice Creek downstream to its confluence with the Silver Lake Diversion.","Escherichia Coli (E. Coli)","2002, 2004, 2006, 2008, 2010, 2012, 2014"]
["09020105",null,"Wild Rice River Watershed (Upper)","ND-09020105-019-S_00","Waterbody Map","Wild Rice River upstream from its confluence with Wild Rice Creek, including all tributaries.","Escherichia Coli (E. Coli)",2014]
["09020105",null,"Wild Rice River Watershed (Upper)","ND-09020105-019-S_00","Waterbody Map","Wild Rice River upstream from its confluence with Wild Rice Creek, including all tributaries.","Fecal Coliform","2002, 2004, 2006, 2008, 2010","Sep-21-2011"]
["09020310",null,"Willow Creek","ND-09020310-003-S_00","Waterbody Map","Willow Creek from Dam NE of Mountain, ND downstream to Salt Lake.","Combination Benthic/Fishes Bioassessments",2014]
["09010004",null,"Willow Creek (Lower Reach)","ND-09010004-001-S_00","Waterbody Map","Willow Creek from its confluence with Ox Creek downstream to its confluence with the Souris River.","Fecal Coliform","2002, 2004, 2006, 2008, 2010, 2012, 2014"]
["10130201",null,"Willow Creek Watershed","ND-10130201-046-S_00","Waterbody Map","Willow Creek and tributaries, located in Mercer County.","Fecal Coliform","2008, 2010","Sep-30-2010"]
["09010003",null,"Wintering River Watershed","ND-09010003-003-S_00","Waterbody Map","Wintering River, including all tributaries. Located in SW McHenry and NE McLean counties.","Dissolved Oxygen","2004, 2006, 2008, 2010","Nov-19-2010"]
["09010003",null,"Wintering River Watershed","ND-09010003-003-S_00","Waterbody Map","Wintering River, including all tributaries. Located in SW McHenry and NE McLean counties.","Escherichia Coli (E. Coli)",2014]
["09010003",null,"Wintering River Watershed","ND-09010003-003-S_00","Waterbody Map","Wintering River, including all tributaries. Located in SW McHenry and NE McLean counties.","Fecal Coliform","2002, 2004, 2006, 2008","Sep-29-2009"]

{"sheet":"curt","index":18,"n_rows":68,"n_cols":18,"rows_kept":68,"cut":false,"hidden":true,"merged":[[32,5,32,6],[7,5,7,6],[8,5,8,6],[2,5,2,6],[3,5,3,6],[4,5,4,6],[6,5,6,6],[5,5,5,6],[46,5,46,6],[47,5,47,6],[45,5,45,6],[42,5,42,6],[43,5,43,6],[44,5,44,6]]}
["Estimated Restoration Costs",null,null,null,null,null,null,null,null,null,null,null,null,null,null,"Curt"]
[null,null,null,null,"Units","Extent",null,"Cost/Unit",null,"Subtotal","Total"]
["Wetland Restoration (657) HYDROLOGY",null,null,null,null,null,null,null,null,null,null,"x",null,null,null,"wetland inventory"]
[null,"Sediment Removal",null,null,"cuyds",{"$f":"Wetland_Inventory!BK19","v":0},null,"2.10","AC",{"$f":"IF(AND(F4<>0,H4<>0),F4*H4,\"\")","v":""},null,"x",null,null,null,null,"tree rows","is it just for restoration or for in the wetland itself"]
[null,"Dikes or Plugs",null,null,"ea.",{"$f":"Wetland_Inventory!CA40","v":0},null,"340.00","AC",{"$f":"IF(AND(F5<>0,H5<>0),F5*H5,\"\")","v":""},null,"x",null,null,null,null,null,"if in the wetland what to use for acres - ft * 10 / 43560"]
[null,"Fill in dugouts",null,null,"cuyds",{"$f":"Wetland_Inventory!BK22","v":0},null,"2.40","AC",{"$f":"IF(AND(F6<>0,H6<>0),F6*H6,\"\")","v":""},null,"x"]
[null,"Other ",null,null,null,null,null,null,null,{"$f":"IF(AND(F7<>0,H7<>0),F7*H7,\"\")","v":""},null,"x",null,null,null,"inventory"]
["Total Wetland Hydrology Restoration Cost",null,null,null,null,null,null,null,null,null,{"$f":"SUM(J3:J7)","v":0},"x",null,null,null,null,"water control structure same as water retentiion?"]
["Conservation Cover (327)",null,null,null,null,null,null,null,null,{"$f":"IF(AND(F9<>0,H9<>0),F9*H9,\"\")","v":""},null,"x",null,null,null,null,"acres per rock pile"]
["upland - cost shared",null,null,null,null,null,null,null,null,null,null,"x"]
[null,"Chemical Seedbed Preparation",null,null,"Ac.",null,null,"20.00","AC",{"$f":"IF(AND(F11<>0,H11<>0),F11*H11,\"\")","v":""},null,"x"]
[null,"Mechanical Seedbed Preparation",null,null,"Ac.",null,null,"20.00","AC",null,null,"x"]
[null,"Grass/Grain Drill",null,null,"Ac.",null,null,"20.00","AC",{"$f":"IF(AND(F13<>0,H13<>0),F13*H13,\"\")","v":""},null,"x"]
[null,"Native Grass Mix",null,null,"Ac.",null,null,"100.00","AC",null,null,"x"]
[null,"Individual Vegetative Plug (Planted)",null,null,"No.",null,null,"1.00","AC",null,null,"x"]
[null,"Mechanical weed control",null,null,"Ac.",null,null,"12.00","AC",null,null,"x"]
["wetland - cost-shared same upland grass mix",null,null,null,null,null,null,null,null,null,null,"x"]
[null,"Chemical Seedbed Preparation",null,null,"Ac.",null,null,"20.00","AC",{"$f":"IF(AND(F18<>0,H18<>0),F18*H18,\"\")","v":""},null,"x"]
[null,"Mechanical Seedbed Preparation",null,null,"Ac.",null,null,"20.00","AC",null,null,"x"]
[null,"Grass/Grain Drill",null,null,"Ac.",null,null,"20.00","AC",{"$f":"IF(AND(F20<>0,H20<>0),F20*H20,\"\")","v":""},null,"x"]
[null,"Native Grass Mix",null,null,"Ac.",null,null,"100.00","AC",null,null,"x"]
[null,"Individual Vegetative Plug (Planted)",null,null,"No.",null,null,"1.00","AC",null,null,"x"]
[null,"Mechanical weed control",null,null,"Ac.",null,null,"12.00","AC",null,null,"x"]
["wetland - cost-shared wetland grass mix",null,null,null,null,null,null,null,null,null,null,"x"]
[null,"Chemical Seedbed Preparation",null,null,"Ac.",null,null,"20.00","AC",{"$f":"IF(AND(F25<>0,H25<>0),F25*H25,\"\")","v":""},null,"x"]
[null,"Mechanical Seedbed Preparation",null,null,"Ac.",null,null,"20.00","AC",null,null,"x"]
[null,"Grass/Grain Drill",null,null,"Ac.",null,null,"20.00","AC",{"$f":"IF(AND(F27<>0,H27<>0),F27*H27,\"\")","v":""},null,"x"]
[null,"Native Grass Mix",null,null,"Ac.",null,null,"100.00","AC",null,null,"x"]
[null,"Individual Vegetative Plug (Planted)",null,null,"No.",null,null,"1.00","AC",null,null,"x"]
[null,"Mechanical weed control",null,null,"Ac.",null,null,"12.00","AC",null,null,"x"]
["upland existing cover non-cost shared",null,null,null,"Ac.",null,null,0,null,null,null,"x"]
["wetland existing cover non-cost shared",null,null,null,"Ac.",null,null,0,null,null,null,"x"]
["Total Vegetation Establishment Cost",null,null,null,null,null,null,null,null,null,{"$f":"SUM(J9:J23)","v":0},"x"]
["Pest Management (595)",null,null,null,null,null,null,null,null,null,null,"x"]
["anticipated cost-share on seeded acres",null,null,null,null,null,null,null,null,null,null,"x"]
[null,"Mechanical weed control - year 2",null,null,"Acres",null,null,"12.00","AC",null,null,"x"]
[null,"Mechanical weed control - year 3",null,null,"Acres",null,null,"12.00","AC",null,null,"x"]
["anticipated non-cost shared existing cover acres",null,null,null,null,null,null,null,null,null,null,"x"]
[null,"year 2",null,null,"Acres",null,null,0,null,null,null,"x"]
[null,"year 3",null,null,"Acres",null,null,0,null,null,null,"x"]
["Upland Habitat Management (645) ",null,null,null,"Acres",null,null,0,null,null,null,"x"]
["Wetland Habitat Management (644)",null,null,null,"Acres",null,null,0,null,null,null,"x"]
["Obstruction Removal (500)",null,null,null,null,null,null,null,null,{"$f":"IF(AND(F43<>0,H43<>0),F43*H43,\"\")","v":""},null,"x"]
[null,"Fence removal",null,null,"Feet",{"$f":"Wetland_Inventory!BK23","v":0},null,null,null,"",null,"x"]
[null,"Tree Removal Rows",null,null,"Feet",null,null,null,null,"",null,"x"]
[null,"Tree Removal Individuals",null,null,"Ea",null,null,null,null,{"$f":"IF(AND(F46<>0,H46<>0),F46*H46,\"\")","v":""},null,"x"]
[null,"Rock/debris removal",null,null,"Ac",null,null,null,null,"",null,"x"]
["Total Other Conservation Practices Costs",null,null,null,null,null,null,null,null,null,{"$f":"SUM(J43:J47)","v":0},"x"]
[]
["Grazing Land Pilot ONLY"]
[null,"Fence (382)",null,null,"Feet"]
[null,"Watering Facility (614)",null,null,"No."]
[null,"Pipeline (516)",null,null,"Feet"]
[null,"Water Well (642)",null,null,"No."]
[]
["Total Estimated Restoration Costs     $"]
["NRCS portion 75% cost-share           $"]
["Producer portion 25%                       $"]
[]
["Estimated Easement Value               $",null,null,null,null,null,null,"currently 2010 GARC"]
[null,null,null,null,null,null,null,"need to add physical county block and change County above to Admin County"]
[]
[]
[]
[]
[]
["Applicant name auto fill here"]
["Producer signs Estimated Restoration Cost worksheet acknowledging responsibility to incur 25% costs."]

{"sheet":"Sheet1","index":19,"n_rows":0,"n_cols":0,"rows_kept":0,"cut":false,"hidden":true,"merged":[]}