{"text_format":"1","workbook":"xlsx","n_sheets":13,"sheets":["Instructions","Grazing Narrative","PCS","F-A Balance","F-A Balance 2","F-A Balance 3","Recordkeeping","PaddockCalcs","F-A QuickCalcs","Lookup Tables","DE Maps","Forage Growth Curve Reference","Practices"],"not_rendered":{"charts":9,"images":8,"macros":1,"external_links":0,"defined_names":57,"comments":4,"pivot_tables":0},"unopened":[],"bounds":{"document_bytes":16777216,"sheet_cells":100000,"rows_first":2000,"rows_last":500,"rows_between":2000,"halvings":0,"cell_chars":16384,"cell_head_chars":4096},"cells_cut":0,"cells_raw":0,"read":"whole","date_system":"1900"}

{"sheet":"Instructions","index":0,"n_rows":45,"n_cols":3,"rows_kept":45,"cut":false,"hidden":false,"merged":[[6,0,6,1],[24,2,24,7],[8,0,8,1],[0,0,0,1],[1,0,1,1],[2,0,2,1],[5,0,5,1],[7,0,7,1],[29,0,29,1],[10,0,10,1],[11,0,11,1],[13,0,13,1],[14,0,14,1],[15,0,15,1],[16,0,16,1],[28,0,28,1],[30,0,30,1],[39,0,39,1],[42,0,42,1],[43,0,43,1],[44,0,44,1],[31,0,31,1],[32,0,32,1],[33,0,33,1],[40,0,40,1],[41,0,41,1],[34,0,34,1],[35,0,35,1],[36,0,36,1],[37,0,37,1],[38,0,38,1]]}
["INTRODUCTION"]
["DE-Graz is a tool designed to help planners develop a grazing plan that meets the requirements of the Delaware NRCS Prescribed Grazing (528) practice standard and specifications. This workbook uses automated calculations for assessing and designing a sustainable grazing system, and includes a template for preparing the narrative portion of a grazing plan. "]
["The final grazing plan for the producer must contain all the following documents:"]
["      Completed Grazing Narrative spreadsheet from DE-Graz"]
["      Completed Forage-Animal Balance spreadsheet for the planned system from DE-Graz"]
["      Completed Pasture Condition Scores (PCS) spreadsheet from DE-Graz"]
["      Delaware NRCS Prescribed Grazing (528) Recordkeeping Worksheet from DE-Graz"]
["      Conservation plan map"]
["      Soils map with map unit descriptions"]
[]
["BEFORE YOU BEGIN"]
["Using the Delaware NRCS Prescribed Grazing (528) Inventory & Producer Interview Sheet, you will need to gather data from the field and the producer to include: a description of the producer’s operation, their constraints and resource concerns, their goals and objectives for the operation, pasture condition scores from each field to be grazed (by using the Delaware Pasture Condition Scoring Worksheet), an inventory of the operation’s forages and livestock, and the producer’s expected management intensity and practices."]
[]
["USING THIS WORKBOOK"]
["Nine worksheets (including this one) are available for data entry; four other worksheets contain read-only reference materials for the planner and source data for other worksheets. The data entry worksheets include many dropdown menus and other fillable areas (yellow shading). Other areas on the sheets contain formulas and are “locked” to prevent formula deletion. On some sheets, buttons for hiding/unhiding unused sections are provided.  This is a template workbook, so be sure to use \"Save As\" and rename the file to keep one or more copies of your work."]
["DE-Graz workbook contents are as follows:"]
["1. Instructions tab (this worksheet). Enter customer information below. This information will be transferred to the data sheets and grazing plan narrative."]
[]
["Producer or Farm Name:"]
["Address (street address):  "]
["Address (city, state, zip):  "]
["Home Phone:"]
["Mobile Phone:"]
["County: (use dropdown menu) "]
["Region: (where farm is located - use dropdown menu)",null,"      Must select a region.  (Link to DE Physiographic Regions Map)"]
["Planner:"]
["Date: (mm/dd/yy)"]
[]
["2. Grazing Narrative tab.  This is a required part of the final grazing plan. Use this sheet to prepare the narrative portion of a grazing plan for the producer. Two tables contain dropdown menus so the planner can more quickly enter data. In the \"Practice and Facility Implementation Schedule,\" a conservation practice can be selected from a dropdown list (or entered manually). In the “Grazing Height Recommendations” table, selecting a forage type via dropdown menu will populate the starting and ending grazing heights and the recovery days for the selected forage species. "]
["3, 4, & 5. F-A Balance, F-A Balance 2, and F-A Balance 3 tabs.  An F-A balance sheet for the planned system is a required part of the final grazing plan. These three sheets allow the planner to set up three scenarios -- typically, the benchmark scenario on the first tab, and one or more alternative scenarios, one of which will become the planned scenario.  During the planning process, it may be helpful to fill out these sheets, print them out, and use them for discussing options with the producer. "]
["At the top right on the sheet, make sure that this displays the geographic region where the farm is located.  (You should have selected the region when entering customer info above on the Instructions sheet.)  The regional selection affects the dropdown menu for the Forage(s) column and for the forage growth curves, which are based on regional data for total quantity of forage produced and timing of growth."]
["I. Yearly Forage Supply (Total Pounds as Dry Matter). For this section, enter forage data for each field. Fields with the same forage type and management (grazing frequency) can be grouped together. Values for Estimated Production and Grazing/Harvest Efficiency will automatically populate when the dropdown menus are used. If the producer can provide site-specific production data, the planner can adjust Estimated Production by entering data in the Production Correction column. \n\nBecause different livestock species graze different forages, multi-species grazing can increase grazing efficiency by 5-20%. By selecting \"Yes\" in the Multi-Species Herd column, the grazing efficiency will be increased by 10%."]
["II.  Yearly Forage Demand (Total Pounds as Dry Matter). Enter herd/flock data, based on information provided by the producer. To simplify data entry, livestock types are grouped into five categories. All livestock types except poultry are expected to be mammals (e.g., cattle, goats, hogs, horses, sheep):  Mature/Breeding Females, Stockers (young livestock being raised for sale/slaughter), Replacement Females (young female livestock being raised to become mature breeding females), Mature/Breeding Males, and Poultry with supplemental feed. Values for dry matter (DM) Intake as % of Body Weight will automatically populate based on the animal type selected. If needed, the planner can adjust this value by entering data in the DM Intake as % Body Weight Correction column. For Grazing Period, select the beginning and ending months when grazing is planned. (Note: The calculation of total grazing days counts each month as 30.45 days, and rounds up.)  "]
["III. Yearly Forage Balance (Surplus/Deficit). This section automatically calculates the forage-animal balance, based on data provided by the planner in Sections I and II. It displays numeric totals for estimated supply and demand, as well as a graphic display of total supply-demand curves."]
["6. Pasture Condition Score (PCS) tab.  This is a required part of the final grazing plan. The data to be entered into this spreadsheet comes from scoring you do in the field using the Delaware Pasture Condition Scoring Worksheet. The total PCS must be calculated to determine whether the criteria for Prescribed Grazing can be met. If an evaluation determines that the current pasture condition is less than 30, the planner will need to provide recommendations to improve the existing condition so that the planned (future) condition will have a quality rating of 30 or more. If the current condition is equal to or greater than 30, recommendations can include maintaining the existing condition or improving it towards optimum conditions. "]
["When using the Excel PCS worksheet:  Enter the farm/tract and field numbers. (Note: You can skip entering farm/tract if you are assessing only one farm unit.) "]
["Enter PCS indicator data (i.e., % Desirable Plants, Plant Cover, etc.). Values can be entered manually, or use the dropdowns. For more information on each indicator, click on the “?”"]
["The Erosion Score must be entered under the heading Erosion Factor Score Sheet; once entered, a score will generate below the Indicators heading."]
["If Plant Vigor ≤ 3, a Plant Vigor Factor Score Sheet will appear and must be completed. If Plant Vigor >3, the Plant Vigor Factor Sheet will not be visible and need not be completed."]
["7. Recordkeeping Worksheet tab.  Enter any addiional information needed such as Farm/Tract/Field(s), Program/Contract No., and Planned Amount in the top section of the sheet.  This is for the producer's use, so print it out to attach to the grazing plan. "]
["8 & 9. Paddock Calcs and F-A QuickCalcs tabs. Calculations are from the Prescribed Grazing (528) Specifications. These optional tools can be used by the planner to run calculations and adjust scenarios when developing a grazing plan. These tools may be especially useful when the current condition is a continuous grazing system and the planner needs to develop recommendations for the number and size of paddocks, number of animals, and average number of days on each paddock. Data entry in the top section of the sheet (yellow boxes) will automatically populate corresponding items elsewhere on the sheet.  "]
["10. Lookup Tables tab. Read-only sheet that contains information from various tables in the Prescribed Grazing (528) Specifications. For comparison purposes, it also shows the “default values” that are used for some of the calculations on the F-A Balance worksheets."]
["11. DE Maps tab. Read-only sheet that contains the maps for Delaware geographic regions and the growing season."]
["12. Forage Growth Curve Reference tab. Read-only sheet that contains the growth curve reference data for each forage type in each region. It is used to populate Section I on the F-A Balance worksheet."]
["13. Practices tab. Read-only sheet with the list of practices commonly associated with grazing operations. This list is used as a dropdown menu in the Grazing Narrative worksheet. The practices in the top half of the list are typically applied in pastures. The second group consists of associated practices that may also be applied in pastures or elsewhere on the grazing operation. If a practice is not on this list, the planner can manually enter it in the Grazing Narrative table “Practice and Facility Implementation Schedule.”  Other dropdown list data (county list and table of forage species and grazing heights) follows the list of practices.  "]

{"sheet":"Grazing Narrative","index":1,"n_rows":237,"n_cols":8,"rows_kept":237,"cut":false,"hidden":false,"merged":[[142,1,142,6],[138,0,138,6],[140,0,140,6],[145,0,145,6],[139,0,139,6],[146,0,146,2],[147,0,147,2],[148,0,148,2],[0,4,2,6],[94,2,94,3],[95,2,95,3],[3,0,3,6],[130,0,130,6],[17,3,17,5],[18,3,18,5],[19,3,19,5],[118,2,118,6],[121,2,121,6],[124,2,124,6],[127,2,127,6],[20,3,20,5],[42,0,54,6],[57,0,69,6],[72,0,84,6],[21,3,21,5],[22,3,22,5],[37,5,37,6],[17,0,17,2],[23,3,23,5],[26,3,31,5],[123,0,123,6],[125,0,125,6],[94,4,94,5],[96,2,96,3],[97,2,97,3],[98,2,98,3],[95,4,95,5],[114,0,114,6],[112,0,112,6],[101,0,101,6],[103,2,103,6],[113,0,113,6],[102,0,102,6],[107,0,107,6],[108,2,108,6],[106,0,106,6],[88,0,88,6],[105,0,105,6],[163,0,163,6],[154,0,154,6],[155,0,155,6],[159,1,159,6],[160,1,160,6],[161,1,161,6],[156,0,156,6],[162,1,162,6],[157,0,157,6],[96,4,96,5],[158,0,158,6],[120,0,120,6],[109,0,109,6],[122,0,122,6],[116,0,116,6],[117,0,117,6],[133,0,133,6],[134,0,134,6],[135,0,135,6],[137,0,137,6],[97,0,97,1],[119,0,119,6],[153,0,153,6],[136,0,136,6],[150,0,150,2],[152,0,152,2],[131,0,131,6],[132,0,132,6],[126,0,126,6],[141,1,141,6],[151,0,151,2],[149,0,149,2],[100,0,100,6],[226,0,226,6],[165,0,165,6],[167,0,167,6],[170,0,170,6],[169,1,169,6],[171,1,171,6],[172,1,172,6],[164,0,164,6],[212,0,212,6],[210,0,210,6],[211,0,211,6],[168,1,168,6],[216,0,216,6],[24,3,24,5],[97,4,97,5],[98,4,98,5],[99,4,99,5],[90,4,90,5],[91,4,91,5],[92,4,92,5],[91,2,91,3],[92,2,92,3],[93,2,93,3],[99,2,99,3],[39,0,39,6],[90,0,90,1],[90,2,90,3],[89,0,89,6],[93,4,93,5],[99,0,99,1],[91,0,91,1],[92,0,92,1],[93,0,93,1],[94,0,94,1],[95,0,95,1],[96,0,96,1],[98,0,98,1],[235,1,235,6],[236,1,236,6],[208,0,208,6],[173,1,173,6],[225,0,225,6],[231,0,231,6],[203,0,203,6],[228,0,228,6],[217,0,217,6],[220,1,220,6],[219,1,219,6],[218,1,218,6],[221,1,221,6],[222,1,222,6],[224,0,224,6],[233,1,233,6],[234,1,234,6],[204,0,204,6],[206,0,206,6],[213,1,213,6],[215,1,215,6],[207,0,207,6],[232,1,232,6],[227,0,227,6]]}
[null,null,null,null,"       Grazing Plan"]
[]
["    Natural Resources Conservation Service"]
["                               "]
[]
[]
[]
[]
[]
[]
[]
[]
[]
[]
[]
[]
[]
["Producer or Farm Name: ",null,null,{"$f":"Instructions!$B$19","v":0}]
[null,null,"Address: ",{"$f":"Instructions!$B$20","v":0}]
[null,null,null,{"$f":"Instructions!$B$21","v":0}]
[null,null,"Home Telephone: ",{"$f":"Instructions!$B$22","v":0}]
[null,null,"Mobile Telephone: ",{"$f":"Instructions!$B$23","v":0}]
[null,null,"County: ",{"$f":"Instructions!$B$24","v":0}]
[null,null,"Planner:",{"$f":"Instructions!$B$26","v":0}]
[null,null,"Date:",{"$f":"Instructions!$B$27","v":"00:00:00"}]
[]
[null,null,"Notes:"]
[]
[]
[]
[]
[]
[]
[]
[]
[]
[]
[]
[]
["OVERVIEW"]
[]
["Brief Description of the Forage-Livestock Operation"]
[]
[]
[]
[]
[]
[]
[]
[]
[]
[]
[]
[]
[]
[]
["Resource Concerns and Enhancement Opportunities"]
[]
[]
[]
[]
[]
[]
[]
[]
[]
[]
[]
[]
[]
[]
["Producer’s Goals and Objectives"]
[]
[]
[]
[]
[]
[]
[]
[]
[]
[]
[]
[]
[]
[]
[]
[]
["                                      "]
["Practice and Facility Implementation Schedule"]
["Field #",null,"Practice Code and Name",null,"Comments/Notes",null,"Date to be Implemented"]
[]
[]
[]
[]
[]
[]
[]
[]
[]
["Important Note:  The practices listed in the schedule above should be implemented according to the dates indicated.  If these practices are not implemented according to schedule, please contact the Planner responsible for developing this grazing plan."]
[]
["ATTACHED DOCUMENTS"]
[null,null,"•  Forage-Animal Balance worksheet(s)\n•  Pasture Condition Scores (PCS) worksheet(s) and summary \n•  Prescribed Grazing (528) Recordkeeping worksheet\n•  Conservation plan map\n•  Soils map with map unit descriptions\n"]
[]
["GRAZING GUIDELINES"]
["Prescribed Grazing"]
["A grazing plan prescribes practices that – if adopted – will maximize the health and potential of your pastures by:"]
[null,null,"•  Allowing previously grazed pastures to recover growth before they are grazed again.\n•  Not allowing desirable plants to be damaged by over-grazing.\n•  Increasing animal utilization of your forages.\n•  Increasing forage productivity and quality by keeping plants in a state of growth instead of going to seed.\n•  Increasing soil fertility by managing soil compaction and manure distribution.\n•  Increasing uniformity of grazing.\n•  Matching forage quality and quantity to the needs of your herd."]
["Fencing, waterers, pipelines, wells, spring developments, handling facilities (e.g. chutes and sorting pens), hardened stream crossings, walkways, shade, shelters, and heavy-use areas can facilitate the application of the grazing plan."]
[]
[]
["Forage Quality"]
["Keep forages green and growing by continuously harvesting them before they mature and lose nutritional quality. As a plant’s total production (i.e., yield) increases, its nutritional quality decreases; the ideal time to graze tends to be the “boot” or “pre-bud” stage of growth in order to balance getting the most yield and the most nutrition. By harvesting plants before they mature, livestock are forcing plants to return to a state of growth in which nutritious new leaf area is produced."]
[]
[]
[]
[]
[]
[]
[]
[]
[]
[]
[]
[]
[]
[]
[]
[]
[]
[]
[]
[]
[]
[]
["Many weeds provide excellent nutrition to livestock, but it is important to become familiar with all the common weeds in your pastures to determine if there are any poisonous plants that need to be terminated."]
[]
["One forage plant that can cause severe livestock health problems is also one of our most common: toxic-endophyte tall fescue. The endophyte, which is a fungus inside of the fescue plant, gives tall fescue its remarkable tolerances to cold, drought, grazing, heat, and traffic; however, it can cause disease and even death when animals consume the endophyte concentrations found in the stems and seedheads during spring and summer. Seed companies are now selling “novel-endophyte” varieties of tall fescue that have the benefits of the endophyte without the toxicity. Because it lacks the benefits associated with the endophyte, endophtye-free tall fescue is not recommended. If you have toxic-endophyte tall fescue, it is recommended to mow the pastures in late spring to remove or prevent growth of the stems and seedheads."]
["Add forbs (i.e., non-woody broadleaf plants) to improve the nutritional quality of grass-dominated pastures and to dilute the toxicity of toxic-endophyte tall fescue, if present. Legumes, specifically, should make-up 40% of your cool-season perennial pastures because they naturally add nitrogen to the soil. Ensure that the legume seed you buy (e.g., alfalfa, clover, lespedeza, sunn hemp) is inoculated with the correct bacteria (which performs the actual nitrogen fixation). Non-legume forbs, whether palatable pasture weeds or planted species like forage brassicas and forage chicory, will also improve the nutritional quality of your pastures.\n"]
["The 2 most effective ways to maintain forage vigor, longevity, and quality are:"]
["•  ","To maintain a base level of fertility by applying nutrients and lime (to raise pH to a level of 5.5 to 6.5) according to soil test recommendations. Soil tests should be conducted at least every 3 years; compare your results from year-to-year to understand the trajectory of your soil fertility (e.g., increasing or decreasing over time).\n\n\n"]
["•  ","To follow forage height recommendations that will prevent widespread overgrazing (which damages forages) and that will allow forages adequate recovery time before being re-grazed."]
[]
[]
["Grazing Height Recommendations",null,null,null,null,null,null,"Link to Table 4 - Grazing Heights"]
["Forage Species",null,null,"Growth Period","Start Grazing (inches) ","Stop Grazing (inches)","Recovery Days"]
[null,null,null,{"$f":"IF(A148=\"\",\"\",VLOOKUP(A148,Practices!$A$53:$E$82,2,FALSE))","v":""},{"$f":"IF(A148=\"\",\"\",VLOOKUP(A148,Practices!$A$53:$E$82,3,FALSE))","v":""},{"$f":"IF(A148=\"\",\"\",VLOOKUP(A148,Practices!$A$53:$E$82,4,FALSE))","v":""},{"$f":"IF(A148=\"\",\"\",VLOOKUP(A148,Practices!$A$53:$E$82,5,FALSE))","v":""}]
[null,null,null,{"$f":"IF(A149=\"\",\"\",VLOOKUP(A149,Practices!$A$53:$E$82,2,FALSE))","v":""},{"$f":"IF(A149=\"\",\"\",VLOOKUP(A149,Practices!$A$53:$E$82,3,FALSE))","v":""},{"$f":"IF(A149=\"\",\"\",VLOOKUP(A149,Practices!$A$53:$E$82,4,FALSE))","v":""},{"$f":"IF(A149=\"\",\"\",VLOOKUP(A149,Practices!$A$53:$E$82,5,FALSE))","v":""}]
[null,null,null,{"$f":"IF(A150=\"\",\"\",VLOOKUP(A150,Practices!$A$53:$E$82,2,FALSE))","v":""},{"$f":"IF(A150=\"\",\"\",VLOOKUP(A150,Practices!$A$53:$E$82,3,FALSE))","v":""},{"$f":"IF(A150=\"\",\"\",VLOOKUP(A150,Practices!$A$53:$E$82,4,FALSE))","v":""},{"$f":"IF(A150=\"\",\"\",VLOOKUP(A150,Practices!$A$53:$E$82,5,FALSE))","v":""}]
[null,null,null,{"$f":"IF(A151=\"\",\"\",VLOOKUP(A151,Practices!$A$53:$E$82,2,FALSE))","v":""},{"$f":"IF(A151=\"\",\"\",VLOOKUP(A151,Practices!$A$53:$E$82,3,FALSE))","v":""},{"$f":"IF(A151=\"\",\"\",VLOOKUP(A151,Practices!$A$53:$E$82,4,FALSE))","v":""},{"$f":"IF(A151=\"\",\"\",VLOOKUP(A151,Practices!$A$53:$E$82,5,FALSE))","v":""}]
[null,null,null,{"$f":"IF(A152=\"\",\"\",VLOOKUP(A152,Practices!$A$53:$E$82,2,FALSE))","v":""},{"$f":"IF(A152=\"\",\"\",VLOOKUP(A152,Practices!$A$53:$E$82,3,FALSE))","v":""},{"$f":"IF(A152=\"\",\"\",VLOOKUP(A152,Practices!$A$53:$E$82,4,FALSE))","v":""},{"$f":"IF(A152=\"\",\"\",VLOOKUP(A152,Practices!$A$53:$E$82,5,FALSE))","v":""}]
[null,null,null,{"$f":"IF(A153=\"\",\"\",VLOOKUP(A153,Practices!$A$53:$E$82,2,FALSE))","v":""},{"$f":"IF(A153=\"\",\"\",VLOOKUP(A153,Practices!$A$53:$E$82,3,FALSE))","v":""},{"$f":"IF(A153=\"\",\"\",VLOOKUP(A153,Practices!$A$53:$E$82,4,FALSE))","v":""},{"$f":"IF(A153=\"\",\"\",VLOOKUP(A153,Practices!$A$53:$E$82,5,FALSE))","v":""}]
[]
["To improve their quality and productivity, weakened or dormant pastures can be seeded with appropriate forage plants as long as there will be adequate growing time before this new growth is exposed to grazing and as long as fertility concerns have been addressed according to soil test recommendations. No-till drilling is suitable for most forage additions. White and red clovers and, to a lesser extent, orchardgrass and perennial ryegrass, can be successfully “frost-seeded” by broadcasting seed onto a weakened pasture and allowing the soil’s freeze-thaw action during the winter to produce good seed-to-soil contact."]
["Forage Availability"]
["Forage production is largely determined by soil types and fertility; forage types, vigor, and suitability; seasons, temperature, and precipitation; as well as grazing patterns. Grazing increases forage production by stopping plants from maturing, keeping them in a state of growth.\n"]
["Forage availability is not just determined by production but also by how efficiently livestock can harvest the forages you produce. If animals are left on a single pasture for the entire year they will have a low utilization rate. Increasing grazing intensity – by using more livestock on smaller paddocks for shorter durations – can drastically increase that utilization rate. Different livestock species have different grazing patterns: multi-species grazing can diversify your income and also increase forage utilization."]
["Forages are generally classified as warm-season or cool-season, which refers to the periods in which they grow, and annual or perennial, which refers to the length of their productive life. In Delaware, the backbone of any grazing system will be cool-season perennials. The following are recommended as primary forages for Delaware pastures:"]
["•  ","Novel-endophyte tall fescue with a grazing variety of alfalfa, red clover, or white clover."]
["•  ","Toxic-endophyte tall fescue with at least 30% of the forage mixture being a grazing variety of alfalfa, red clover, or white clover."]
["•  ","Orchardgrass with a grazing variety of alfalfa, birdsfoot trefoil, red clover, or white clover."]
["•  ","A grazing variety of alfalfa."]
["Forage production will generally be excessive in spring, so grazing more animals, rotating them more quickly, or making hay can help use this excess. \n\n\n\n\n\n\n"]
["In the heat of summer when your cool-season forages slow or stop growing, utilizing up to 20% of your pastureland for warm-season grasses – either annuals (e.g., crabgrass, sorghum) or perennials (e.g., big bluestem, switchgrass) – can provide you with abundant forages. "]
["As temperatures decrease in the fall, your cool-season perennial grasses will resume production to meet your herd’s needs. Crop residues like stalks, straw, and stubble, also tend to be available during this time of year although these do not tend to be nutritionally dense."]
[]
["Winter is a challenging time to produce sufficient forages, and supplemental feed may be required, but 2 excellent options exist for extending the grazing season into winter:"]
["•  ","Because it maintains its quality in the cold and snow, tall fescue infected with a novel endophyte or toxic endophyte can be fertilized in the late summer, allowed to grow all through the fall, and then grazed through the winter. The nutritional quality of standing tall fescue in the winter will often surpass that of hay."]
["•  "," Cool-season annuals like barley, brassicas, rye, ryegrass, triticale, or wheat can be drilled into dormant pasture to provide quality forage in the winter or early spring."]
["Forage plants with different management needs should not be mixed. If you do make this mistake, your management practices will inevitably end-up benefitting one forage type at the expense of another."]
["•  ","Fertilization example: Alfalfa likes a pH of 6.5 to 7.5, but all that liming may be an unnecessary expense for another forage like Kentucky bluegrass – for which a pH of 5.0 to 6.5 is adequate.\n"]
["•  ","Grazing heights example: Perennial ryegrass can be grazed down to 2 inches throughout the year without damaging the plant, while indiangrass should not be grazed shorter than 12 inches in the fall."]
["•  ","Harvest timing example: Switchgrass will be ready to harvest about a month before indiangrass, another warm-season perennial."]
[]
[]
[]
[]
[]
[]
[]
[]
[]
[]
[]
[]
[]
[]
[]
[]
[]
[]
[]
[]
[]
[]
[]
[]
[]
[]
[]
[]
["Forage-Animal Balance"]
["The forage requirements of grazing animals change depending on the livestock type and management decisions. Breeding and lactation will increase animals’ need for forage quality and quantity, while weaning will decrease that need."]
["The total amount of forage available from your pastures needs to match the total amount of forage you expect to feed your animals. You will not be able to raise 50 steers on 20 acres without supplemental feed. Ideally, the needs of your livestock through the year – which will change as you buy, sell, birth, and wean them – will match your forage availability through the year – which will change based on management, precipitation, season, and temperature. One helpful practice for matching animal needs to forage availability is to time births for the spring, when large amounts of fresh forage are available, so that you can meet the needs of lactating animals without relying on supplemental feed."]
["System Layout"]
["A system utilizing permanent perimeter fence to secure the animals and temporary electric fence to enclose paddocks will provide the greatest flexibility to alter paddock size and shape in order to meet your management needs through the year. For example, large undivided fields can be used in the spring when forage growth is usually excessive in order to have livestock graze the tops of plants before they mature; in summer, you would subdivide into more numerous, smaller paddocks and rotate the animals slowly through them in order to maximize forage utilization and maximize the recovery period for previously grazed paddocks. Designing a flexible livestock watering system can also increase your possible paddock configurations.\n\n\n"]
["Most grazing systems will also need a “sacrifice area,” which is a place to put livestock in order to prevent damage to forages during times when paddocks are stressed (e.g., by drought, excessive wetness, frozen ground). Harden sacrifice areas and other heavy-use areas like stream crossings, walkways, and feedlots in order to prevent erosion and excessive soil compaction."]
[]
["Animal Management"]
["One way to reduce the need for supplemental feed is to reduce the number of livestock. If you need to give your livestock supplemental feed, it is best to feed rotationally through the paddocks (using portable tubs or a hay wagon) so that wasted feed can fertilize your forages. Place water, minerals, and supplemental feed in less-frequented areas to lure livestock to graze those areas.\n"]
["Rotate your livestock through your paddocks so that all pasture acres get grazed once before the rotation is repeated. Rotations can be quickened for various management purposes, e.g., to keep forages from becoming overly mature during periods of quick growth or to avoid doing much damage to pastures while they are already stressed. Minimize the number of herds – ideally to just one herd – in order to simplify and intensify your rotational grazing. "]
["There are two main methods used to meet the differing nutritional requirements of different livestock types:"]
["•  ","Creep grazing uses a creep gate or a single strand of temporary fence that young animals can pass underneath. This allows them to enter another paddock their dams do not have access to yet so that they do not have to compete with their dams for the best forages."]
[]
["•  ","A similar variation called leader-follower grazing has a livestock group with higher nutritional needs graze new paddocks first (as the leaders), then the group with lower nutritional needs enters later (as the followers). Examples could include lactating dairy cows leading replacement heifers or growing calves leading cow-calf pairs."]
["Exclude or eliminate any hazards from a pasture that may injure livestock, such as hardware like loose wire, old post holes, animal burrows, and downed trees or heavy limbs."]
["Flash grazing of sensitive areas: Flash grazing is defined here as a short-duration vegetation control practice in which livestock are used to reduce growth in sensitive (e.g. riparian) areas instead of using mechanical equipment. The timeframe is typically a matter of hours, not days. If sensitive areas are flash grazed, the following stipulations must be met: "]
["•  ","No grazing is permitted before May 1 or after September 15. "]
["•  ","No more than one flash grazing per year. "]
["•  ","Begin grazing when palatable immature vegetation reaches at least 6 inches in height. "]
["•  ","Cease grazing when vegetation is grazed to a minimum height of 4 inches."]
["•  ","Avoid grazing during and immediately following storm events. "]
[]
["Contingency Plan"]
["Periodic seasonal events (e.g., drought, excessive wetness, frozen ground) can limit management activities and access to pastures, stress forages and livestock, and drastically reduce the available forage supply. You need to have a plan in place for these situations (and others as applicable to your operation). Options can include placing animals in a sacrifice area, slowing or quickening your rotations through the paddocks, meeting your animals’ unmet needs with supplemental feed or additional shelter, or reducing your number of livestock.  For situations in which the heat index is high (e.g., over 100 degrees F), mitigating heat stress may require allowing livestock access to shade under trees or structures, in addition to providing unlimited clean water."]
["Additional contingency information for your operation:"]
[]
[]
[]
["Recordkeeping"]
["You are responsible for keeping the following information as part of your grazing records:"]
["•  ","Number and type of livestock through the grazing season."]
["•  ","Predominant forage species."]
["•  ","Beginning and ending grazing dates and heights."]
["•  ","Any management performed (e.g., mowing, dragging, fertilizing)."]
["•  ","Supplemented feed (if applicable)."]

{"sheet":"PCS","index":2,"n_rows":398,"n_cols":14,"rows_kept":398,"cut":false,"hidden":false,"merged":[[374,1,374,2],[375,1,375,2],[376,1,376,2],[371,1,371,2],[372,1,372,2],[373,1,373,2],[380,1,380,2],[381,1,381,2],[384,0,384,9],[377,1,377,2],[378,1,378,2],[379,1,379,2],[362,1,362,2],[363,1,363,2],[364,1,364,2],[359,1,359,2],[360,1,360,2],[361,1,361,2],[368,1,368,2],[369,1,369,2],[370,1,370,2],[365,1,365,2],[366,1,366,2],[367,1,367,2],[358,1,358,2],[348,0,348,1],[348,8,348,9],[349,0,349,1],[349,8,349,9],[350,0,350,1],[351,0,351,9],[352,1,352,3],[353,1,353,3],[354,1,354,3],[355,1,355,3],[356,1,356,3],[345,0,345,1],[345,4,345,5],[345,8,345,9],[346,0,346,1],[346,8,346,9],[347,0,347,1],[347,8,347,9],[343,0,343,1],[343,4,343,5],[343,8,343,9],[344,0,344,1],[344,4,344,5],[344,8,344,9],[341,0,341,1],[341,4,341,5],[341,8,341,9],[342,0,342,1],[342,4,342,5],[342,8,342,9],[339,0,339,1],[339,4,339,7],[339,8,339,11],[340,0,340,1],[340,4,340,5],[340,8,340,9],[333,0,333,1],[333,8,333,9],[334,0,334,1],[334,8,334,9],[335,0,335,1],[338,0,338,1],[330,0,330,1],[330,4,330,5],[330,8,330,9],[331,0,331,1],[331,8,331,9],[332,0,332,1],[332,8,332,9],[328,0,328,1],[328,4,328,5],[328,8,328,9],[329,0,329,1],[329,4,329,5],[329,8,329,9],[326,0,326,1],[326,4,326,5],[326,8,326,9],[327,0,327,1],[327,4,327,5],[327,8,327,9],[324,0,324,1],[324,4,324,7],[324,8,324,11],[325,0,325,1],[325,4,325,5],[325,8,325,9],[318,0,318,1],[318,8,318,9],[319,0,319,1],[319,8,319,9],[320,0,320,1],[323,0,323,1],[315,0,315,1],[315,4,315,5],[315,8,315,9],[316,0,316,1],[316,8,316,9],[317,0,317,1],[317,8,317,9],[313,0,313,1],[313,4,313,5],[313,8,313,9],[314,0,314,1],[314,4,314,5],[314,8,314,9],[311,0,311,1],[311,4,311,5],[311,8,311,9],[312,0,312,1],[312,4,312,5],[312,8,312,9],[309,0,309,1],[309,4,309,7],[309,8,309,11],[310,0,310,1],[310,4,310,5],[310,8,310,9],[303,0,303,1],[303,8,303,9],[304,0,304,1],[304,8,304,9],[305,0,305,1],[308,0,308,1],[300,0,300,1],[300,4,300,5],[300,8,300,9],[301,0,301,1],[301,8,301,9],[302,0,302,1],[302,8,302,9],[298,0,298,1],[298,4,298,5],[298,8,298,9],[299,0,299,1],[299,4,299,5],[299,8,299,9],[296,0,296,1],[296,4,296,5],[296,8,296,9],[297,0,297,1],[297,4,297,5],[297,8,297,9],[294,0,294,1],[294,4,294,7],[294,8,294,11],[295,0,295,1],[295,4,295,5],[295,8,295,9],[288,0,288,1],[288,8,288,9],[289,0,289,1],[289,8,289,9],[290,0,290,1],[293,0,293,1],[285,0,285,1],[285,4,285,5],[285,8,285,9],[286,0,286,1],[286,8,286,9],[287,0,287,1],[287,8,287,9],[283,0,283,1],[283,4,283,5],[283,8,283,9],[284,0,284,1],[284,4,284,5],[284,8,284,9],[281,0,281,1],[281,4,281,5],[281,8,281,9],[282,0,282,1],[282,4,282,5],[282,8,282,9],[279,0,279,1],[279,4,279,7],[279,8,279,11],[280,0,280,1],[280,4,280,5],[280,8,280,9],[273,0,273,1],[273,8,273,9],[274,0,274,1],[274,8,274,9],[275,0,275,1],[278,0,278,1],[270,0,270,1],[270,4,270,5],[270,8,270,9],[271,0,271,1],[271,8,271,9],[272,0,272,1],[272,8,272,9],[268,0,268,1],[268,4,268,5],[268,8,268,9],[269,0,269,1],[269,4,269,5],[269,8,269,9],[266,0,266,1],[266,4,266,5],[266,8,266,9],[267,0,267,1],[267,4,267,5],[267,8,267,9],[264,0,264,1],[264,4,264,7],[264,8,264,11],[265,0,265,1],[265,4,265,5],[265,8,265,9],[258,0,258,1],[258,8,258,9],[259,0,259,1],[259,8,259,9],[260,0,260,1],[263,0,263,1],[255,0,255,1],[255,4,255,5],[255,8,255,9],[256,0,256,1],[256,8,256,9],[257,0,257,1],[257,8,257,9],[253,0,253,1],[253,4,253,5],[253,8,253,9],[254,0,254,1],[254,4,254,5],[254,8,254,9],[251,0,251,1],[251,4,251,5],[251,8,251,9],[252,0,252,1],[252,4,252,5],[252,8,252,9],[249,0,249,1],[249,4,249,7],[249,8,249,11],[250,0,250,1],[250,4,250,5],[250,8,250,9],[243,0,243,1],[243,8,243,9],[244,0,244,1],[244,8,244,9],[245,0,245,1],[248,0,248,1],[240,0,240,1],[240,4,240,5],[240,8,240,9],[241,0,241,1],[241,8,241,9],[242,0,242,1],[242,8,242,9],[238,0,238,1],[238,4,238,5],[238,8,238,9],[239,0,239,1],[239,4,239,5],[239,8,239,9],[236,0,236,1],[236,4,236,5],[236,8,236,9],[237,0,237,1],[237,4,237,5],[237,8,237,9],[234,0,234,1],[234,4,234,7],[234,8,234,11],[235,0,235,1],[235,4,235,5],[235,8,235,9],[228,0,228,1],[228,8,228,9],[229,0,229,1],[229,8,229,9],[230,0,230,1],[233,0,233,1],[225,0,225,1],[225,4,225,5],[225,8,225,9],[226,0,226,1],[226,8,226,9],[227,0,227,1],[227,8,227,9],[223,0,223,1],[223,4,223,5],[223,8,223,9],[224,0,224,1],[224,4,224,5],[224,8,224,9],[221,0,221,1],[221,4,221,5],[221,8,221,9],[222,0,222,1],[222,4,222,5],[222,8,222,9],[219,0,219,1],[219,4,219,7],[219,8,219,11],[220,0,220,1],[220,4,220,5],[220,8,220,9],[213,0,213,1],[213,8,213,9],[214,0,214,1],[214,8,214,9],[215,0,215,1],[218,0,218,1],[210,0,210,1],[210,4,210,5],[210,8,210,9],[211,0,211,1],[211,8,211,9],[212,0,212,1],[212,8,212,9],[208,0,208,1],[208,4,208,5],[208,8,208,9],[209,0,209,1],[209,4,209,5],[209,8,209,9],[206,0,206,1],[206,4,206,5],[206,8,206,9],[207,0,207,1],[207,4,207,5],[207,8,207,9],[204,0,204,1],[204,4,204,7],[204,8,204,11],[205,0,205,1],[205,4,205,5],[205,8,205,9],[198,0,198,1],[198,8,198,9],[199,0,199,1],[199,8,199,9],[200,0,200,1],[203,0,203,1],[195,0,195,1],[195,4,195,5],[195,8,195,9],[196,0,196,1],[196,8,196,9],[197,0,197,1],[197,8,197,9],[193,0,193,1],[193,4,193,5],[193,8,193,9],[194,0,194,1],[194,4,194,5],[194,8,194,9],[191,0,191,1],[191,4,191,5],[191,8,191,9],[192,0,192,1],[192,4,192,5],[192,8,192,9],[189,0,189,1],[189,4,189,7],[189,8,189,11],[190,0,190,1],[190,4,190,5],[190,8,190,9],[183,0,183,1],[183,8,183,9],[184,0,184,1],[184,8,184,9],[185,0,185,1],[188,0,188,1],[180,0,180,1],[180,4,180,5],[180,8,180,9],[181,0,181,1],[181,8,181,9],[182,0,182,1],[182,8,182,9],[178,0,178,1],[178,4,178,5],[178,8,178,9],[179,0,179,1],[179,4,179,5],[179,8,179,9],[176,0,176,1],[176,4,176,5],[176,8,176,9],[177,0,177,1],[177,4,177,5],[177,8,177,9],[174,0,174,1],[174,4,174,7],[174,8,174,11],[175,0,175,1],[175,4,175,5],[175,8,175,9],[168,0,168,1],[168,8,168,9],[169,0,169,1],[169,8,169,9],[170,0,170,1],[173,0,173,1],[165,0,165,1],[165,4,165,5],[165,8,165,9],[166,0,166,1],[166,8,166,9],[167,0,167,1],[167,8,167,9],[163,0,163,1],[163,4,163,5],[163,8,163,9],[164,0,164,1],[164,4,164,5],[164,8,164,9],[161,0,161,1],[161,4,161,5],[161,8,161,9],[162,0,162,1],[162,4,162,5],[162,8,162,9],[159,0,159,1],[159,4,159,7],[159,8,159,11],[160,0,160,1],[160,4,160,5],[160,8,160,9],[153,0,153,1],[153,8,153,9],[154,0,154,1],[154,8,154,9],[155,0,155,1],[158,0,158,1],[150,0,150,1],[150,4,150,5],[150,8,150,9],[151,0,151,1],[151,8,151,9],[152,0,152,1],[152,8,152,9],[148,0,148,1],[148,4,148,5],[148,8,148,9],[149,0,149,1],[149,4,149,5],[149,8,149,9],[146,0,146,1],[146,4,146,5],[146,8,146,9],[147,0,147,1],[147,4,147,5],[147,8,147,9],[144,0,144,1],[144,4,144,7],[144,8,144,11],[145,0,145,1],[145,4,145,5],[145,8,145,9],[138,0,138,1],[138,8,138,9],[139,0,139,1],[139,8,139,9],[140,0,140,1],[143,0,143,1],[135,0,135,1],[135,4,135,5],[135,8,135,9],[136,0,136,1],[136,8,136,9],[137,0,137,1],[137,8,137,9],[133,0,133,1],[133,4,133,5],[133,8,133,9],[134,0,134,1],[134,4,134,5],[134,8,134,9],[131,0,131,1],[131,4,131,5],[131,8,131,9],[132,0,132,1],[132,4,132,5],[132,8,132,9],[129,0,129,1],[129,4,129,7],[129,8,129,11],[130,0,130,1],[130,4,130,5],[130,8,130,9],[123,0,123,1],[123,8,123,9],[124,0,124,1],[124,8,124,9],[125,0,125,1],[128,0,128,1],[120,0,120,1],[120,4,120,5],[120,8,120,9],[121,0,121,1],[121,8,121,9],[122,0,122,1],[122,8,122,9],[118,0,118,1],[118,4,118,5],[118,8,118,9],[119,0,119,1],[119,4,119,5],[119,8,119,9],[116,0,116,1],[116,4,116,5],[116,8,116,9],[117,0,117,1],[117,4,117,5],[117,8,117,9],[114,0,114,1],[114,4,114,7],[114,8,114,11],[115,0,115,1],[115,4,115,5],[115,8,115,9],[108,0,108,1],[108,8,108,9],[109,0,109,1],[109,8,109,9],[110,0,110,1],[113,0,113,1],[105,0,105,1],[105,4,105,5],[105,8,105,9],[106,0,106,1],[106,8,106,9],[107,0,107,1],[107,8,107,9],[103,0,103,1],[103,4,103,5],[103,8,103,9],[104,0,104,1],[104,4,104,5],[104,8,104,9],[101,0,101,1],[101,4,101,5],[101,8,101,9],[102,0,102,1],[102,4,102,5],[102,8,102,9],[99,0,99,1],[99,4,99,7],[99,8,99,11],[100,0,100,1],[100,4,100,5],[100,8,100,9],[93,0,93,1],[93,8,93,9],[94,0,94,1],[94,8,94,9],[95,0,95,1],[98,0,98,1],[90,0,90,1],[90,4,90,5],[90,8,90,9],[91,0,91,1],[91,8,91,9],[92,0,92,1],[92,8,92,9],[88,0,88,1],[88,4,88,5],[88,8,88,9],[89,0,89,1],[89,4,89,5],[89,8,89,9],[86,0,86,1],[86,4,86,5],[86,8,86,9],[87,0,87,1],[87,4,87,5],[87,8,87,9],[84,0,84,1],[84,4,84,7],[84,8,84,11],[85,0,85,1],[85,4,85,5],[85,8,85,9],[78,0,78,1],[78,8,78,9],[79,0,79,1],[79,8,79,9],[80,0,80,1],[83,0,83,1],[75,0,75,1],[75,4,75,5],[75,8,75,9],[76,0,76,1],[76,8,76,9],[77,0,77,1],[77,8,77,9],[73,0,73,1],[73,4,73,5],[73,8,73,9],[74,0,74,1],[74,4,74,5],[74,8,74,9],[71,0,71,1],[71,4,71,5],[71,8,71,9],[72,0,72,1],[72,4,72,5],[72,8,72,9],[69,0,69,1],[69,4,69,7],[69,8,69,11],[70,0,70,1],[70,4,70,5],[70,8,70,9],[63,0,63,1],[63,8,63,9],[64,0,64,1],[64,8,64,9],[65,0,65,1],[68,0,68,1],[60,0,60,1],[60,4,60,5],[60,8,60,9],[61,0,61,1],[61,8,61,9],[62,0,62,1],[62,8,62,9],[58,0,58,1],[58,4,58,5],[58,8,58,9],[59,0,59,1],[59,4,59,5],[59,8,59,9],[56,0,56,1],[56,4,56,5],[56,8,56,9],[57,0,57,1],[57,4,57,5],[57,8,57,9],[54,0,54,1],[54,4,54,7],[54,8,54,11],[55,0,55,1],[55,4,55,5],[55,8,55,9],[48,0,48,1],[48,8,48,9],[49,0,49,1],[49,8,49,9],[50,0,50,1],[53,0,53,1],[45,0,45,1],[45,4,45,5],[45,8,45,9],[46,0,46,1],[46,8,46,9],[47,0,47,1],[47,8,47,9],[43,0,43,1],[43,4,43,5],[43,8,43,9],[44,0,44,1],[44,4,44,5],[44,8,44,9],[41,0,41,1],[41,4,41,5],[41,8,41,9],[42,0,42,1],[42,4,42,5],[42,8,42,9],[39,0,39,1],[39,4,39,7],[39,8,39,11],[40,0,40,1],[40,4,40,5],[40,8,40,9],[33,0,33,1],[33,8,33,9],[34,0,34,1],[34,8,34,9],[35,0,35,1],[38,0,38,1],[30,0,30,1],[30,4,30,5],[30,8,30,9],[31,0,31,1],[31,8,31,9],[32,0,32,1],[32,8,32,9],[28,0,28,1],[28,4,28,5],[28,8,28,9],[29,0,29,1],[29,4,29,5],[29,8,29,9],[26,0,26,1],[26,4,26,5],[26,8,26,9],[27,0,27,1],[27,4,27,5],[27,8,27,9],[24,0,24,1],[24,4,24,7],[24,8,24,11],[25,0,25,1],[25,4,25,5],[25,8,25,9],[16,8,16,9],[17,8,17,9],[18,8,18,9],[19,8,19,9],[20,0,20,1],[23,0,23,1],[10,8,10,9],[11,8,11,9],[12,8,12,9],[13,8,13,9],[14,8,14,9],[15,8,15,9],[0,0,0,11],[9,8,9,11],[2,1,2,3],[3,1,3,3],[4,1,4,3],[5,1,5,3],[1,1,1,3],[9,4,9,7]]}
["Pasture Condition Scores"]
["Name:",{"$f":"Instructions!$B$19","v":0}]
["Address:",{"$f":"Instructions!$B$20","v":0}]
[null,{"$f":"Instructions!$B$21","v":0}]
["Planner:",{"$f":"Instructions!$B$26","v":0}]
["Date:",{"$f":"Instructions!$B$27","v":"00:00:00"}]
[]
["Farm #:",null,"Tract #:",null,"Field(s) #:",null,"Acres:"]
[]
["Indicators:",null,"Score",null,"Erosion Factor Score Sheet",null,null,null,"Plant Vigor Factor Score Sheet"]
["Desirable Plants:",null,null,null,"Indicators:",null,"Score",null,"Indicators:",null,"Score"]
["Plant Cover:",null,null,null,"Sheet and Rill:",null,null,null,"P and K Status:"]
["Plant Diversity:",null,null,null,"Gully:",null,null,null,"Tissue N Status:"]
["Plant Residue:",null,null,null,"Streambank & Shoreline:",null,null,null,"Soil pH:"]
["Plant Vigor:",null,null,null,"Wind:",null,null,null,"Severity of Use:"]
["% Legume:",null,null,null,"Erosion Score:",null,{"$f":"MIN(G12:G15)","v":0},null,"Adapt. of Desired Species:"]
["Uniformity of Use:",null,null,null,null,null,null,null,"Climatic Stresses:"]
["Livestock Conc. Areas:",null,null,null,null,null,null,null,"Insect/Disease Pressure:"]
["Soil Compaction:"]
["Erosion:",null,{"$f":"G16","v":0}]
["Total Score:",null,{"$f":"SUM(C11:C20)","v":0}]
[]
["Farm #:",null,"Tract #:",null,"Field(s) #:",null,"Acres:",null,null,null,null,null,null,"Copy above scores?"]
[]
["Indicators:",null,"Score",null,"Erosion Factor Score Sheet",null,null,null,"Plant Vigor Factor Score Sheet"]
["Desirable Plants:",null,null,null,"Indicators:",null,"Score",null,"Indicators:",null,"Score"]
["Plant Cover:",null,null,null,"Sheet and Rill:",null,null,null,"P and K Status:"]
["Plant Diversity:",null,null,null,"Gully:",null,null,null,"Tissue N Status:"]
["Plant Residue:",null,null,null,"Streambank & Shoreline:",null,null,null,"Soil pH:"]
["Plant Vigor:",null,null,null,"Wind:",null,null,null,"Severity of Use:"]
["% Legume:",null,null,null,"Erosion Score:",null,{"$f":"MIN(G27:G30)","v":0},null,"Adapt. of Desired Species:"]
["Uniformity of Use:",null,null,null,null,null,null,null,"Climatic Stresses:"]
["Livestock Conc. Areas:",null,null,null,null,null,null,null,"Insect/Disease Pressure:"]
["Soil Compaction:"]
["Erosion:",null,{"$f":"G31","v":0}]
["Total Score:",null,{"$f":"SUM(C26:C35)","v":0}]
[]
["Farm #:",null,"Tract #:",null,"Field(s) #:",null,"Acres:",null,null,null,null,null,null,"Copy above scores?"]
[]
["Indicators:",null,"Score",null,"Erosion Factor Score Sheet",null,null,null,"Plant Vigor Factor Score Sheet"]
["Desirable Plants:",null,null,null,"Indicators:",null,"Score",null,"Indicators:",null,"Score"]
["Plant Cover:",null,null,null,"Sheet and Rill:",null,null,null,"P and K Status:"]
["Plant Diversity:",null,null,null,"Gully:",null,null,null,"Tissue N Status:"]
["Plant Residue:",null,null,null,"Streambank & Shoreline:",null,null,null,"Soil pH:"]
["Plant Vigor:",null,null,null,"Wind:",null,null,null,"Severity of Use:"]
["% Legume:",null,null,null,"Erosion Score:",null,{"$f":"MIN(G42:G45)","v":0},null,"Adapt. of Desired Species:"]
["Uniformity of Use:",null,null,null,null,null,null,null,"Climatic Stresses:"]
["Livestock Conc. Areas:",null,null,null,null,null,null,null,"Insect/Disease Pressure:"]
["Soil Compaction:"]
["Erosion:",null,{"$f":"G46","v":0}]
["Total Score:",null,{"$f":"SUM(C41:C50)","v":0}]
[]
["Farm #:",null,"Tract #:",null,"Field(s) #:",null,"Acres:",null,null,null,null,null,null,"Copy above scores?"]
[]
["Indicators:",null,"Score",null,"Erosion Factor Score Sheet",null,null,null,"Plant Vigor Factor Score Sheet"]
["Desirable Plants:",null,null,null,"Indicators:",null,"Score",null,"Indicators:",null,"Score"]
["Plant Cover:",null,null,null,"Sheet and Rill:",null,null,null,"P and K Status:"]
["Plant Diversity:",null,null,null,"Gully:",null,null,null,"Tissue N Status:"]
["Plant Residue:",null,null,null,"Streambank & Shoreline:",null,null,null,"Soil pH:"]
["Plant Vigor:",null,null,null,"Wind:",null,null,null,"Severity of Use:"]
["% Legume:",null,null,null,"Erosion Score:",null,{"$f":"MIN(G57:G60)","v":0},null,"Adapt. of Desired Species:"]
["Uniformity of Use:",null,null,null,null,null,null,null,"Climatic Stresses:"]
["Livestock Conc. Areas:",null,null,null,null,null,null,null,"Insect/Disease Pressure:"]
["Soil Compaction:"]
["Erosion:",null,{"$f":"G61","v":0}]
["Total Score:",null,{"$f":"SUM(C56:C65)","v":0}]
[]
["Farm #:",null,"Tract #:",null,"Field(s) #:",null,"Acres:",null,null,null,null,null,null,"Copy above scores?"]
[]
["Indicators:",null,"Score",null,"Erosion Factor Score Sheet",null,null,null,"Plant Vigor Factor Score Sheet"]
["Desirable Plants:",null,null,null,"Indicators:",null,"Score",null,"Indicators:",null,"Score"]
["Plant Cover:",null,null,null,"Sheet and Rill:",null,null,null,"P and K Status:"]
["Plant Diversity:",null,null,null,"Gully:",null,null,null,"Tissue N Status:"]
["Plant Residue:",null,null,null,"Streambank & Shoreline:",null,null,null,"Soil pH:"]
["Plant Vigor:",null,null,null,"Wind:",null,null,null,"Severity of Use:"]
["% Legume:",null,null,null,"Erosion Score:",null,{"$f":"MIN(G72:G75)","v":0},null,"Adapt. of Desired Species:"]
["Uniformity of Use:",null,null,null,null,null,null,null,"Climatic Stresses:"]
["Livestock Conc. Areas:",null,null,null,null,null,null,null,"Insect/Disease Pressure:"]
["Soil Compaction:"]
["Erosion:",null,{"$f":"G76","v":0}]
["Total Score:",null,{"$f":"SUM(C71:C80)","v":0}]
[]
["Farm #:",null,"Tract #:",null,"Field(s) #:",null,"Acres:",null,null,null,null,null,null,"Copy above scores?"]
[]
["Indicators:",null,"Score",null,"Erosion Factor Score Sheet",null,null,null,"Plant Vigor Factor Score Sheet"]
["Desirable Plants:",null,null,null,"Indicators:",null,"Score",null,"Indicators:",null,"Score"]
["Plant Cover:",null,null,null,"Sheet and Rill:",null,null,null,"P and K Status:"]
["Plant Diversity:",null,null,null,"Gully:",null,null,null,"Tissue N Status:"]
["Plant Residue:",null,null,null,"Streambank & Shoreline:",null,null,null,"Soil pH:"]
["Plant Vigor:",null,null,null,"Wind:",null,null,null,"Severity of Use:"]
["% Legume:",null,null,null,"Erosion Score:",null,{"$f":"MIN(G87:G90)","v":0},null,"Adapt. of Desired Species:"]
["Uniformity of Use:",null,null,null,null,null,null,null,"Climatic Stresses:"]
["Livestock Conc. Areas:",null,null,null,null,null,null,null,"Insect/Disease Pressure:"]
["Soil Compaction:"]
["Erosion:",null,{"$f":"G91","v":0}]
["Total Score:",null,{"$f":"SUM(C86:C95)","v":0}]
[]
["Farm #:",null,"Tract #:",null,"Field(s) #:",null,"Acres:",null,null,null,null,null,null,"Copy above scores?"]
[]
["Indicators:",null,"Score",null,"Erosion Factor Score Sheet",null,null,null,"Plant Vigor Factor Score Sheet"]
["Desirable Plants:",null,null,null,"Indicators:",null,"Score",null,"Indicators:",null,"Score"]
["Plant Cover:",null,null,null,"Sheet and Rill:",null,null,null,"P and K Status:"]
["Plant Diversity:",null,null,null,"Gully:",null,null,null,"Tissue N Status:"]
["Plant Residue:",null,null,null,"Streambank & Shoreline:",null,null,null,"Soil pH:"]
["Plant Vigor:",null,null,null,"Wind:",null,null,null,"Severity of Use:"]
["% Legume:",null,null,null,"Erosion Score:",null,{"$f":"MIN(G102:G105)","v":0},null,"Adapt. of Desired Species:"]
["Uniformity of Use:",null,null,null,null,null,null,null,"Climatic Stresses:"]
["Livestock Conc. Areas:",null,null,null,null,null,null,null,"Insect/Disease Pressure:"]
["Soil Compaction:"]
["Erosion:",null,{"$f":"G106","v":0}]
["Total Score:",null,{"$f":"SUM(C101:C110)","v":0}]
[]
["Farm #:",null,"Tract #:",null,"Field(s) #:",null,"Acres:",null,null,null,null,null,null,"Copy above scores?"]
[]
["Indicators:",null,"Score",null,"Erosion Factor Score Sheet",null,null,null,"Plant Vigor Factor Score Sheet"]
["Desirable Plants:",null,null,null,"Indicators:",null,"Score",null,"Indicators:",null,"Score"]
["Plant Cover:",null,null,null,"Sheet and Rill:",null,null,null,"P and K Status:"]
["Plant Diversity:",null,null,null,"Gully:",null,null,null,"Tissue N Status:"]
["Plant Residue:",null,null,null,"Streambank & Shoreline:",null,null,null,"Soil pH:"]
["Plant Vigor:",null,null,null,"Wind:",null,null,null,"Severity of Use:"]
["% Legume:",null,null,null,"Erosion Score:",null,{"$f":"MIN(G117:G120)","v":0},null,"Adapt. of Desired Species:"]
["Uniformity of Use:",null,null,null,null,null,null,null,"Climatic Stresses:"]
["Livestock Conc. Areas:",null,null,null,null,null,null,null,"Insect/Disease Pressure:"]
["Soil Compaction:"]
["Erosion:",null,{"$f":"G121","v":0}]
["Total Score:",null,{"$f":"SUM(C116:C125)","v":0}]
[]
["Farm #:",null,"Tract #:",null,"Field(s) #:",null,"Acres:",null,null,null,null,null,null,"Copy above scores?"]
[]
["Indicators:",null,"Score",null,"Erosion Factor Score Sheet",null,null,null,"Plant Vigor Factor Score Sheet"]
["Desirable Plants:",null,null,null,"Indicators:",null,"Score",null,"Indicators:",null,"Score"]
["Plant Cover:",null,null,null,"Sheet and Rill:",null,null,null,"P and K Status:"]
["Plant Diversity:",null,null,null,"Gully:",null,null,null,"Tissue N Status:"]
["Plant Residue:",null,null,null,"Streambank & Shoreline:",null,null,null,"Soil pH:"]
["Plant Vigor:",null,null,null,"Wind:",null,null,null,"Severity of Use:"]
["% Legume:",null,null,null,"Erosion Score:",null,{"$f":"MIN(G132:G135)","v":0},null,"Adapt. of Desired Species:"]
["Uniformity of Use:",null,null,null,null,null,null,null,"Climatic Stresses:"]
["Livestock Conc. Areas:",null,null,null,null,null,null,null,"Insect/Disease Pressure:"]
["Soil Compaction:"]
["Erosion:",null,{"$f":"G136","v":0}]
["Total Score:",null,{"$f":"SUM(C131:C140)","v":0}]
[]
["Farm #:",null,"Tract #:",null,"Field(s) #:",null,"Acres:",null,null,null,null,null,null,"Copy above scores?"]
[]
["Indicators:",null,"Score",null,"Erosion Factor Score Sheet",null,null,null,"Plant Vigor Factor Score Sheet"]
["Desirable Plants:",null,null,null,"Indicators:",null,"Score",null,"Indicators:",null,"Score"]
["Plant Cover:",null,null,null,"Sheet and Rill:",null,null,null,"P and K Status:"]
["Plant Diversity:",null,null,null,"Gully:",null,null,null,"Tissue N Status:"]
["Plant Residue:",null,null,null,"Streambank & Shoreline:",null,null,null,"Soil pH:"]
["Plant Vigor:",null,null,null,"Wind:",null,null,null,"Severity of Use:"]
["% Legume:",null,null,null,"Erosion Score:",null,{"$f":"MIN(G147:G150)","v":0},null,"Adapt. of Desired Species:"]
["Uniformity of Use:",null,null,null,null,null,null,null,"Climatic Stresses:"]
["Livestock Conc. Areas:",null,null,null,null,null,null,null,"Insect/Disease Pressure:"]
["Soil Compaction:"]
["Erosion:",null,{"$f":"G151","v":0}]
["Total Score:",null,{"$f":"SUM(C146:C155)","v":0}]
[]
["Farm #:",null,"Tract #:",null,"Field(s) #:",null,"Acres:",null,null,null,null,null,null,"Copy above scores?"]
[]
["Indicators:",null,"Score",null,"Erosion Factor Score Sheet",null,null,null,"Plant Vigor Factor Score Sheet"]
["Desirable Plants:",null,null,null,"Indicators:",null,"Score",null,"Indicators:",null,"Score"]
["Plant Cover:",null,null,null,"Sheet and Rill:",null,null,null,"P and K Status:"]
["Plant Diversity:",null,null,null,"Gully:",null,null,null,"Tissue N Status:"]
["Plant Residue:",null,null,null,"Streambank & Shoreline:",null,null,null,"Soil pH:"]
["Plant Vigor:",null,null,null,"Wind:",null,null,null,"Severity of Use:"]
["% Legume:",null,null,null,"Erosion Score:",null,{"$f":"MIN(G162:G165)","v":0},null,"Adapt. of Desired Species:"]
["Uniformity of Use:",null,null,null,null,null,null,null,"Climatic Stresses:"]
["Livestock Conc. Areas:",null,null,null,null,null,null,null,"Insect/Disease Pressure:"]
["Soil Compaction:"]
["Erosion:",null,{"$f":"G166","v":0}]
["Total Score:",null,{"$f":"SUM(C161:C170)","v":0}]
[]
["Farm #:",null,"Tract #:",null,"Field(s) #:",null,"Acres:",null,null,null,null,null,null,"Copy above scores?"]
[]
["Indicators:",null,"Score",null,"Erosion Factor Score Sheet",null,null,null,"Plant Vigor Factor Score Sheet"]
["Desirable Plants:",null,null,null,"Indicators:",null,"Score",null,"Indicators:",null,"Score"]
["Plant Cover:",null,null,null,"Sheet and Rill:",null,null,null,"P and K Status:"]
["Plant Diversity:",null,null,null,"Gully:",null,null,null,"Tissue N Status:"]
["Plant Residue:",null,null,null,"Streambank & Shoreline:",null,null,null,"Soil pH:"]
["Plant Vigor:",null,null,null,"Wind:",null,null,null,"Severity of Use:"]
["% Legume:",null,null,null,"Erosion Score:",null,{"$f":"MIN(G177:G180)","v":0},null,"Adapt. of Desired Species:"]
["Uniformity of Use:",null,null,null,null,null,null,null,"Climatic Stresses:"]
["Livestock Conc. Areas:",null,null,null,null,null,null,null,"Insect/Disease Pressure:"]
["Soil Compaction:"]
["Erosion:",null,{"$f":"G181","v":0}]
["Total Score:",null,{"$f":"SUM(C176:C185)","v":0}]
[]
["Farm #:",null,"Tract #:",null,"Field(s) #:",null,"Acres:",null,null,null,null,null,null,"Copy above scores?"]
[]
["Indicators:",null,"Score",null,"Erosion Factor Score Sheet",null,null,null,"Plant Vigor Factor Score Sheet"]
["Desirable Plants:",null,null,null,"Indicators:",null,"Score",null,"Indicators:",null,"Score"]
["Plant Cover:",null,null,null,"Sheet and Rill:",null,null,null,"P and K Status:"]
["Plant Diversity:",null,null,null,"Gully:",null,null,null,"Tissue N Status:"]
["Plant Residue:",null,null,null,"Streambank & Shoreline:",null,null,null,"Soil pH:"]
["Plant Vigor:",null,null,null,"Wind:",null,null,null,"Severity of Use:"]
["% Legume:",null,null,null,"Erosion Score:",null,{"$f":"MIN(G192:G195)","v":0},null,"Adapt. of Desired Species:"]
["Uniformity of Use:",null,null,null,null,null,null,null,"Climatic Stresses:"]
["Livestock Conc. Areas:",null,null,null,null,null,null,null,"Insect/Disease Pressure:"]
["Soil Compaction:"]
["Erosion:",null,{"$f":"G196","v":0}]
["Total Score:",null,{"$f":"SUM(C191:C200)","v":0}]
[]
["Farm #:",null,"Tract #:",null,"Field(s) #:",null,"Acres:",null,null,null,null,null,null,"Copy above scores?"]
[]
["Indicators:",null,"Score",null,"Erosion Factor Score Sheet",null,null,null,"Plant Vigor Factor Score Sheet"]
["Desirable Plants:",null,null,null,"Indicators:",null,"Score",null,"Indicators:",null,"Score"]
["Plant Cover:",null,null,null,"Sheet and Rill:",null,null,null,"P and K Status:"]
["Plant Diversity:",null,null,null,"Gully:",null,null,null,"Tissue N Status:"]
["Plant Residue:",null,null,null,"Streambank & Shoreline:",null,null,null,"Soil pH:"]
["Plant Vigor:",null,null,null,"Wind:",null,null,null,"Severity of Use:"]
["% Legume:",null,null,null,"Erosion Score:",null,{"$f":"MIN(G207:G210)","v":0},null,"Adapt. of Desired Species:"]
["Uniformity of Use:",null,null,null,null,null,null,null,"Climatic Stresses:"]
["Livestock Conc. Areas:",null,null,null,null,null,null,null,"Insect/Disease Pressure:"]
["Soil Compaction:"]
["Erosion:",null,{"$f":"G211","v":0}]
["Total Score:",null,{"$f":"SUM(C206:C215)","v":0}]
[]
["Farm #:",null,"Tract #:",null,"Field(s) #:",null,"Acres:",null,null,null,null,null,null,"Copy above scores?"]
[]
["Indicators:",null,"Score",null,"Erosion Factor Score Sheet",null,null,null,"Plant Vigor Factor Score Sheet"]
["Desirable Plants:",null,null,null,"Indicators:",null,"Score",null,"Indicators:",null,"Score"]
["Plant Cover:",null,null,null,"Sheet and Rill:",null,null,null,"P and K Status:"]
["Plant Diversity:",null,null,null,"Gully:",null,null,null,"Tissue N Status:"]
["Plant Residue:",null,null,null,"Streambank & Shoreline:",null,null,null,"Soil pH:"]
["Plant Vigor:",null,null,null,"Wind:",null,null,null,"Severity of Use:"]
["% Legume:",null,null,null,"Erosion Score:",null,{"$f":"MIN(G222:G225)","v":0},null,"Adapt. of Desired Species:"]
["Uniformity of Use:",null,null,null,null,null,null,null,"Climatic Stresses:"]
["Livestock Conc. Areas:",null,null,null,null,null,null,null,"Insect/Disease Pressure:"]
["Soil Compaction:"]
["Erosion:",null,{"$f":"G226","v":0}]
["Total Score:",null,{"$f":"SUM(C221:C230)","v":0}]
[]
["Farm #:",null,"Tract #:",null,"Field(s) #:",null,"Acres:",null,null,null,null,null,null,"Copy above scores?"]
[]
["Indicators:",null,"Score",null,"Erosion Factor Score Sheet",null,null,null,"Plant Vigor Factor Score Sheet"]
["Desirable Plants:",null,null,null,"Indicators:",null,"Score",null,"Indicators:",null,"Score"]
["Plant Cover:",null,null,null,"Sheet and Rill:",null,null,null,"P and K Status:"]
["Plant Diversity:",null,null,null,"Gully:",null,null,null,"Tissue N Status:"]
["Plant Residue:",null,null,null,"Streambank & Shoreline:",null,null,null,"Soil pH:"]
["Plant Vigor:",null,null,null,"Wind:",null,null,null,"Severity of Use:"]
["% Legume:",null,null,null,"Erosion Score:",null,{"$f":"MIN(G237:G240)","v":0},null,"Adapt. of Desired Species:"]
["Uniformity of Use:",null,null,null,null,null,null,null,"Climatic Stresses:"]
["Livestock Conc. Areas:",null,null,null,null,null,null,null,"Insect/Disease Pressure:"]
["Soil Compaction:"]
["Erosion:",null,{"$f":"G241","v":0}]
["Total Score:",null,{"$f":"SUM(C236:C245)","v":0}]
[]
["Farm #:",null,"Tract #:",null,"Field(s) #:",null,"Acres:",null,null,null,null,null,null,"Copy above scores?"]
[]
["Indicators:",null,"Score",null,"Erosion Factor Score Sheet",null,null,null,"Plant Vigor Factor Score Sheet"]
["Desirable Plants:",null,null,null,"Indicators:",null,"Score",null,"Indicators:",null,"Score"]
["Plant Cover:",null,null,null,"Sheet and Rill:",null,null,null,"P and K Status:"]
["Plant Diversity:",null,null,null,"Gully:",null,null,null,"Tissue N Status:"]
["Plant Residue:",null,null,null,"Streambank & Shoreline:",null,null,null,"Soil pH:"]
["Plant Vigor:",null,null,null,"Wind:",null,null,null,"Severity of Use:"]
["% Legume:",null,null,null,"Erosion Score:",null,{"$f":"MIN(G252:G255)","v":0},null,"Adapt. of Desired Species:"]
["Uniformity of Use:",null,null,null,null,null,null,null,"Climatic Stresses:"]
["Livestock Conc. Areas:",null,null,null,null,null,null,null,"Insect/Disease Pressure:"]
["Soil Compaction:"]
["Erosion:",null,{"$f":"G256","v":0}]
["Total Score:",null,{"$f":"SUM(C251:C260)","v":0}]
[]
["Farm #:",null,"Tract #:",null,"Field(s) #:",null,"Acres:",null,null,null,null,null,null,"Copy above scores?"]
[]
["Indicators:",null,"Score",null,"Erosion Factor Score Sheet",null,null,null,"Plant Vigor Factor Score Sheet"]
["Desirable Plants:",null,null,null,"Indicators:",null,"Score",null,"Indicators:",null,"Score"]
["Plant Cover:",null,null,null,"Sheet and Rill:",null,null,null,"P and K Status:"]
["Plant Diversity:",null,null,null,"Gully:",null,null,null,"Tissue N Status:"]
["Plant Residue:",null,null,null,"Streambank & Shoreline:",null,null,null,"Soil pH:"]
["Plant Vigor:",null,null,null,"Wind:",null,null,null,"Severity of Use:"]
["% Legume:",null,null,null,"Erosion Score:",null,{"$f":"MIN(G267:G270)","v":0},null,"Adapt. of Desired Species:"]
["Uniformity of Use:",null,null,null,null,null,null,null,"Climatic Stresses:"]
["Livestock Conc. Areas:",null,null,null,null,null,null,null,"Insect/Disease Pressure:"]
["Soil Compaction:"]
["Erosion:",null,{"$f":"G271","v":0}]
["Total Score:",null,{"$f":"SUM(C266:C275)","v":0}]
[]
["Farm #:",null,"Tract #:",null,"Field(s) #:",null,"Acres:",null,null,null,null,null,null,"Copy above scores?"]
[]
["Indicators:",null,"Score",null,"Erosion Factor Score Sheet",null,null,null,"Plant Vigor Factor Score Sheet"]
["Desirable Plants:",null,null,null,"Indicators:",null,"Score",null,"Indicators:",null,"Score"]
["Plant Cover:",null,null,null,"Sheet and Rill:",null,null,null,"P and K Status:"]
["Plant Diversity:",null,null,null,"Gully:",null,null,null,"Tissue N Status:"]
["Plant Residue:",null,null,null,"Streambank & Shoreline:",null,null,null,"Soil pH:"]
["Plant Vigor:",null,null,null,"Wind:",null,null,null,"Severity of Use:"]
["% Legume:",null,null,null,"Erosion Score:",null,{"$f":"MIN(G282:G285)","v":0},null,"Adapt. of Desired Species:"]
["Uniformity of Use:",null,null,null,null,null,null,null,"Climatic Stresses:"]
["Livestock Conc. Areas:",null,null,null,null,null,null,null,"Insect/Disease Pressure:"]
["Soil Compaction:"]
["Erosion:",null,{"$f":"G286","v":0}]
["Total Score:",null,{"$f":"SUM(C281:C290)","v":0}]
[]
["Farm #:",null,"Tract #:",null,"Field(s) #:",null,"Acres:",null,null,null,null,null,null,"Copy above scores?"]
[]
["Indicators:",null,"Score",null,"Erosion Factor Score Sheet",null,null,null,"Plant Vigor Factor Score Sheet"]
["Desirable Plants:",null,null,null,"Indicators:",null,"Score",null,"Indicators:",null,"Score"]
["Plant Cover:",null,null,null,"Sheet and Rill:",null,null,null,"P and K Status:"]
["Plant Diversity:",null,null,null,"Gully:",null,null,null,"Tissue N Status:"]
["Plant Residue:",null,null,null,"Streambank & Shoreline:",null,null,null,"Soil pH:"]
["Plant Vigor:",null,null,null,"Wind:",null,null,null,"Severity of Use:"]
["% Legume:",null,null,null,"Erosion Score:",null,{"$f":"MIN(G297:G300)","v":0},null,"Adapt. of Desired Species:"]
["Uniformity of Use:",null,null,null,null,null,null,null,"Climatic Stresses:"]
["Livestock Conc. Areas:",null,null,null,null,null,null,null,"Insect/Disease Pressure:"]
["Soil Compaction:"]
["Erosion:",null,{"$f":"G301","v":0}]
["Total Score:",null,{"$f":"SUM(C296:C305)","v":0}]
[]
["Farm #:",null,"Tract #:",null,"Field(s) #:",null,"Acres:",null,null,null,null,null,null,"Copy above scores?"]
[]
["Indicators:",null,"Score",null,"Erosion Factor Score Sheet",null,null,null,"Plant Vigor Factor Score Sheet"]
["Desirable Plants:",null,null,null,"Indicators:",null,"Score",null,"Indicators:",null,"Score"]
["Plant Cover:",null,null,null,"Sheet and Rill:",null,null,null,"P and K Status:"]
["Plant Diversity:",null,null,null,"Gully:",null,null,null,"Tissue N Status:"]
["Plant Residue:",null,null,null,"Streambank & Shoreline:",null,null,null,"Soil pH:"]
["Plant Vigor:",null,null,null,"Wind:",null,null,null,"Severity of Use:"]
["% Legume:",null,null,null,"Erosion Score:",null,{"$f":"MIN(G312:G315)","v":0},null,"Adapt. of Desired Species:"]
["Uniformity of Use:",null,null,null,null,null,null,null,"Climatic Stresses:"]
["Livestock Conc. Areas:",null,null,null,null,null,null,null,"Insect/Disease Pressure:"]
["Soil Compaction:"]
["Erosion:",null,{"$f":"G316","v":0}]
["Total Score:",null,{"$f":"SUM(C311:C320)","v":0}]
[]
["Farm #:",null,"Tract #:",null,"Field(s) #:",null,"Acres:",null,null,null,null,null,null,"Copy above scores?"]
[]
["Indicators:",null,"Score",null,"Erosion Factor Score Sheet",null,null,null,"Plant Vigor Factor Score Sheet"]
["Desirable Plants:",null,null,null,"Indicators:",null,"Score",null,"Indicators:",null,"Score"]
["Plant Cover:",null,null,null,"Sheet and Rill:",null,null,null,"P and K Status:"]
["Plant Diversity:",null,null,null,"Gully:",null,null,null,"Tissue N Status:"]
["Plant Residue:",null,null,null,"Streambank & Shoreline:",null,null,null,"Soil pH:"]
["Plant Vigor:",null,null,null,"Wind:",null,null,null,"Severity of Use:"]
["% Legume:",null,null,null,"Erosion Score:",null,{"$f":"MIN(G327:G330)","v":0},null,"Adapt. of Desired Species:"]
["Uniformity of Use:",null,null,null,null,null,null,null,"Climatic Stresses:"]
["Livestock Conc. Areas:",null,null,null,null,null,null,null,"Insect/Disease Pressure:"]
["Soil Compaction:"]
["Erosion:",null,{"$f":"G331","v":0}]
["Total Score:",null,{"$f":"SUM(C326:C335)","v":0}]
[]
["Farm #:",null,"Tract #:",null,"Field(s) #:",null,"Acres:",null,null,null,null,null,null,"Copy above scores?"]
[]
["Indicators:",null,"Score",null,"Erosion Factor Score Sheet",null,null,null,"Plant Vigor Factor Score Sheet"]
["Desirable Plants:",null,null,null,"Indicators:",null,"Score",null,"Indicators:",null,"Score"]
["Plant Cover:",null,null,null,"Sheet and Rill:",null,null,null,"P and K Status:"]
["Plant Diversity:",null,null,null,"Gully:",null,null,null,"Tissue N Status:"]
["Plant Residue:",null,null,null,"Streambank & Shoreline:",null,null,null,"Soil pH:"]
["Plant Vigor:",null,null,null,"Wind:",null,null,null,"Severity of Use:"]
["% Legume:",null,null,null,"Erosion Score:",null,{"$f":"MIN(G342:G345)","v":0},null,"Adapt. of Desired Species:"]
["Uniformity of Use:",null,null,null,null,null,null,null,"Climatic Stresses:"]
["Livestock Conc. Areas:",null,null,null,null,null,null,null,"Insect/Disease Pressure:"]
["Soil Compaction:"]
["Erosion:",null,{"$f":"G346","v":0}]
["Total Score:",null,{"$f":"SUM(C341:C350)","v":0}]
["Pasture Condition Score Summary"]
["Name:",{"$f":"Instructions!$B$19","v":0}]
["Address:",{"$f":"Instructions!$B$20","v":0}]
[null,{"$f":"Instructions!$B$21","v":0}]
["Planner:",{"$f":"Instructions!$B$26","v":0}]
["Date:",{"$f":"Instructions!$B$27","v":"00:00:00"}]
[]
["Farm #","Tract #",null,"Field #","Acres","Total PCS"]
[{"$f":"IF(B8<>\"\",B8,\"\")","v":""},{"$f":"IF(D8<>\"\",D8,\"\")","v":""},null,{"$f":"IF(F8<>\"\",F8,\"\")","v":""},{"$f":"IF(H8<>\"\",H8,\"\")","v":""},{"$f":"IF(C21<>\"\",C21,\"\")","v":0}]
[{"$f":"IF(B23<>\"\",B23,\"\")","v":""},{"$f":"IF(D23<>\"\",D23,\"\")","v":""},null,{"$f":"IF(F23<>\"\",F23,\"\")","v":""},{"$f":"IF(H23<>\"\",H23,\"\")","v":""},{"$f":"IF(C36<>\"\",C36,\"\")","v":0}]
[{"$f":"IF(B38<>\"\",B38,\"\")","v":""},{"$f":"IF(D38<>\"\",D38,\"\")","v":""},null,{"$f":"IF(F38<>\"\",F38,\"\")","v":""},{"$f":"IF(H38<>\"\",H38,\"\")","v":""},{"$f":"IF(C51<>\"\",C51,\"\")","v":0}]
[{"$f":"IF(B53<>\"\",B53,\"\")","v":""},{"$f":"IF(D53<>\"\",D53,\"\")","v":""},null,{"$f":"IF(F53<>\"\",F53,\"\")","v":""},{"$f":"IF(H53<>\"\",H53,\"\")","v":""},{"$f":"IF(C66<>\"\",C66,\"\")","v":0}]
[{"$f":"IF(B68<>\"\",B68,\"\")","v":""},{"$f":"IF(D68<>\"\",D68,\"\")","v":""},null,{"$f":"IF(F68<>\"\",F68,\"\")","v":""},{"$f":"IF(H68<>\"\",H68,\"\")","v":""},{"$f":"IF(C81<>\"\",C81,\"\")","v":0}]
[{"$f":"IF(B83<>\"\",B83,\"\")","v":""},{"$f":"IF(D83<>\"\",D83,\"\")","v":""},null,{"$f":"IF(F83<>\"\",F83,\"\")","v":""},{"$f":"IF(H83<>\"\",H83,\"\")","v":""},{"$f":"IF(C96<>\"\",C96,\"\")","v":0}]
[{"$f":"IF(B98<>\"\",B98,\"\")","v":""},{"$f":"IF(D98<>\"\",D98,\"\")","v":""},null,{"$f":"IF(F98<>\"\",F98,\"\")","v":""},{"$f":"IF(H98<>\"\",H98,\"\")","v":""},{"$f":"IF(C111<>\"\",C111,\"\")","v":0}]
[{"$f":"IF(B113<>\"\",B113,\"\")","v":""},{"$f":"IF(D113<>\"\",D113,\"\")","v":""},null,{"$f":"IF(F113<>\"\",F113,\"\")","v":""},{"$f":"IF(H113<>\"\",H113,\"\")","v":""},{"$f":"IF(C126<>\"\",C126,\"\")","v":0}]
[{"$f":"IF(B128<>\"\",B128,\"\")","v":""},{"$f":"IF(D128<>\"\",D128,\"\")","v":""},null,{"$f":"IF(F128<>\"\",F128,\"\")","v":""},{"$f":"IF(H128<>\"\",H128,\"\")","v":""},{"$f":"IF(C141<>\"\",C141,\"\")","v":0}]
[{"$f":"IF(B143<>\"\",B143,\"\")","v":""},{"$f":"IF(D143<>\"\",D143,\"\")","v":""},null,{"$f":"IF(F143<>\"\",F143,\"\")","v":""},{"$f":"IF(H143<>\"\",H143,\"\")","v":""},{"$f":"IF(C156<>\"\",C156,\"\")","v":0}]
[{"$f":"IF(B158<>\"\",B158,\"\")","v":""},{"$f":"IF(D158<>\"\",D158,\"\")","v":""},null,{"$f":"IF(F158<>\"\",F158,\"\")","v":""},{"$f":"IF(H158<>\"\",H158,\"\")","v":""},{"$f":"IF(C171<>\"\",C171,\"\")","v":0}]
[{"$f":"IF(B173<>\"\",B173,\"\")","v":""},{"$f":"IF(D173<>\"\",D173,\"\")","v":""},null,{"$f":"IF(F173<>\"\",F173,\"\")","v":""},{"$f":"IF(H173<>\"\",H173,\"\")","v":""},{"$f":"IF(C186<>\"\",C186,\"\")","v":0}]
[{"$f":"IF(B188<>\"\",B188,\"\")","v":""},{"$f":"IF(D188<>\"\",D188,\"\")","v":""},null,{"$f":"IF(F188<>\"\",F188,\"\")","v":""},{"$f":"IF(H188<>\"\",H188,\"\")","v":""},{"$f":"IF(C201<>\"\",C201,\"\")","v":0}]
[{"$f":"IF(B203<>\"\",B203,\"\")","v":""},{"$f":"IF(D203<>\"\",D203,\"\")","v":""},null,{"$f":"IF(F203<>\"\",F203,\"\")","v":""},{"$f":"IF(H203<>\"\",H203,\"\")","v":""},{"$f":"IF(C216<>\"\",C216,\"\")","v":0}]
[{"$f":"IF(B218<>\"\",B218,\"\")","v":""},{"$f":"IF(D218<>\"\",D218,\"\")","v":""},null,{"$f":"IF(F218<>\"\",F218,\"\")","v":""},{"$f":"IF(H218<>\"\",H218,\"\")","v":""},{"$f":"IF(C231<>\"\",C231,\"\")","v":0}]
[{"$f":"IF(B233<>\"\",B233,\"\")","v":""},{"$f":"IF(D233<>\"\",D233,\"\")","v":""},null,{"$f":"IF(F233<>\"\",F233,\"\")","v":""},{"$f":"IF(H233<>\"\",H233,\"\")","v":""},{"$f":"IF(C246<>\"\",C246,\"\")","v":0}]
[{"$f":"IF(B248<>\"\",B248,\"\")","v":""},{"$f":"IF(D248<>\"\",D248,\"\")","v":""},null,{"$f":"IF(F248<>\"\",F248,\"\")","v":""},{"$f":"IF(H248<>\"\",H248,\"\")","v":""},{"$f":"IF(C261<>\"\",C261,\"\")","v":0}]
[{"$f":"IF(B263<>\"\",B263,\"\")","v":""},{"$f":"IF(D263<>\"\",D263,\"\")","v":""},null,{"$f":"IF(F263<>\"\",F263,\"\")","v":""},{"$f":"IF(H263<>\"\",H263,\"\")","v":""},{"$f":"IF(C276<>\"\",C276,\"\")","v":0}]
[{"$f":"IF(B278<>\"\",B278,\"\")","v":""},{"$f":"IF(D278<>\"\",D278,\"\")","v":""},null,{"$f":"IF(F278<>\"\",F278,\"\")","v":""},{"$f":"IF(H278<>\"\",H278,\"\")","v":""},{"$f":"IF(C291<>\"\",C291,\"\")","v":0}]
[{"$f":"IF(B293<>\"\",B293,\"\")","v":""},{"$f":"IF(D293<>\"\",D293,\"\")","v":""},null,{"$f":"IF(F293<>\"\",F293,\"\")","v":""},{"$f":"IF(H293<>\"\",H293,\"\")","v":""},{"$f":"IF(C306<>\"\",C306,\"\")","v":0}]
[{"$f":"IF(B308<>\"\",B308,\"\")","v":""},{"$f":"IF(D308<>\"\",D308,\"\")","v":""},null,{"$f":"IF(F308<>\"\",F308,\"\")","v":""},{"$f":"IF(H308<>\"\",H308,\"\")","v":""},{"$f":"IF(C321<>\"\",C321,\"\")","v":0}]
[{"$f":"IF(B323<>\"\",B323,\"\")","v":""},{"$f":"IF(D323<>\"\",D323,\"\")","v":""},null,{"$f":"IF(F323<>\"\",F323,\"\")","v":""},{"$f":"IF(H323<>\"\",H323,\"\")","v":""},{"$f":"IF(C336<>\"\",C336,\"\")","v":0}]
[{"$f":"IF(B338<>\"\",B338,\"\")","v":""},{"$f":"IF(D338<>\"\",D338,\"\")","v":""},null,{"$f":"IF(F338<>\"\",F338,\"\")","v":""},{"$f":"IF(H338<>\"\",H338,\"\")","v":""},{"$f":"IF(C351<>\"\",C351,\"\")","v":0}]
[null,null,null,"Total Acres:",{"$f":"SUM(E360:E382)","v":0}]
[]
[]
[]
["Management Suggestions for Pasture Conditions Score"]
[]
["PCS Score","Management Suggestion"]
["45-50","No changes in management needed at this time."]
[]
["35-45","Minor changes would enhance, do most beneficial first."]
[]
["25-35","Improvements benefit productivity and/or environment."]
[]
["15-25","Needs immediate management changes, high return likely."]
[]
["10-15","Major effort required in time, expense, and management."]

{"sheet":"F-A Balance","index":3,"n_rows":101,"n_cols":35,"rows_kept":101,"cut":false,"hidden":false,"merged":[[41,3,41,4],[41,9,41,10],[41,11,41,12],[36,9,37,10],[8,0,8,22],[5,24,5,34],[9,1,9,2],[5,12,5,13],[11,3,11,8],[12,3,12,8],[10,15,10,17],[34,15,34,22],[14,13,14,14],[14,3,14,8],[11,13,11,14],[12,13,12,14],[13,13,13,14],[15,13,15,14],[11,15,11,17],[12,15,12,17],[13,15,13,17],[14,15,14,17],[15,15,15,17],[30,3,30,8],[40,1,40,2],[41,14,41,15],[42,3,42,4],[42,9,42,10],[42,11,42,12],[42,14,42,15],[20,1,20,2],[31,18,31,21],[32,18,32,21],[38,3,38,4],[32,0,32,3],[26,1,26,2],[26,3,26,8],[26,13,26,14],[28,3,28,8],[28,13,28,14],[29,1,29,2],[29,13,29,14],[37,14,37,15],[31,0,31,3],[28,1,28,2],[36,13,37,13],[36,0,37,0],[36,8,37,8],[18,13,18,14],[13,3,13,8],[25,13,25,14],[36,1,37,2],[25,1,25,2],[25,3,25,8],[32,4,32,16],[35,0,35,15],[65,24,66,25],[52,0,52,22],[38,9,38,10],[39,9,39,10],[57,17,57,18],[40,9,40,10],[48,11,48,13],[55,17,55,18],[56,17,56,18],[47,3,47,4],[47,11,47,12],[40,14,40,15],[46,3,46,4],[38,14,38,15],[39,14,39,15],[40,3,40,4],[30,13,30,14],[24,1,24,2],[24,3,24,8],[21,13,21,14],[24,13,24,14],[23,3,23,8],[23,13,23,14],[22,3,22,8],[22,13,22,14],[22,1,22,2],[27,3,27,8],[27,13,27,14],[29,3,29,8],[19,13,19,14],[0,24,0,37],[16,1,16,2],[1,24,1,37],[2,24,2,38],[0,0,1,22],[10,13,10,14],[15,3,15,8],[13,1,13,2],[14,1,14,2],[6,26,6,27],[6,24,6,25],[6,19,6,23],[15,1,15,2],[10,3,10,8],[4,1,4,5],[5,1,5,5],[6,1,6,5],[10,27,10,28],[5,19,5,23],[5,14,5,18],[10,1,10,2],[17,3,17,8],[17,13,17,14],[11,1,11,2],[12,1,12,2],[4,24,4,34],[44,1,44,2],[3,24,3,33],[7,1,7,18],[9,13,9,14],[39,3,39,4],[21,1,21,2],[21,3,21,8],[4,14,4,18],[9,3,9,8],[20,3,20,8],[20,13,20,14],[38,11,38,12],[36,19,37,19],[36,14,36,17],[36,18,37,18],[36,3,37,4],[36,5,37,5],[36,6,37,6],[36,7,37,7],[16,3,16,8],[16,13,16,14],[18,1,18,2],[18,3,18,8],[17,1,17,2],[44,11,44,12],[36,11,37,12],[39,11,39,12],[40,11,40,12],[46,1,46,2],[47,1,47,2],[45,1,45,2],[41,1,41,2],[42,1,42,2],[43,1,43,2],[19,1,19,2],[19,3,19,8],[27,1,27,2],[23,1,23,2],[30,1,30,2],[45,3,45,4],[44,3,44,4],[44,9,44,10],[43,3,43,4],[38,1,38,2],[39,1,39,2],[55,9,55,16],[56,9,56,16],[47,14,47,15],[43,14,43,15],[46,11,46,12],[46,9,46,10],[47,9,47,10],[46,14,46,15],[45,11,45,12],[45,9,45,10],[44,14,44,15],[43,11,43,12],[45,14,45,15],[43,9,43,10],[57,19,57,21],[27,15,27,17],[28,15,28,17],[29,15,29,17],[30,15,30,17],[9,15,9,17],[9,19,9,20],[54,19,54,21],[55,19,55,21],[56,19,56,21],[16,15,16,17],[17,15,17,17],[18,15,18,17],[19,15,19,17],[20,15,20,17],[21,15,21,17],[22,15,22,17],[23,15,23,17],[24,15,24,17],[25,15,25,17],[26,15,26,17],[54,17,54,18],[57,9,57,16],[54,9,54,16]]}
["Forage-Animal Balance Worksheet"]
[]
[]
[]
["Producer:",{"$f":"Instructions!$B$19","v":0},null,null,null,null,null,null,null,null,null,null,null,"Planner:",{"$f":"Instructions!$B$26","v":0},null,null,null,null,null,null,null,null,null,"Last Updated:  8/27/2018 "]
["County:",{"$f":"Instructions!$B$24","v":0},null,null,null,null,null,null,null,null,null,null,"Region:",null,{"$f":"Instructions!$B$25","v":0},null,null,null,null,"DE Physiographic Regions Map"]
["Date:",{"$f":"Instructions!$B$27","v":"00:00:00"},null,null,null,null,null,null,null,null,null,null,null,null,null,null,null,null,null,"DE Growing Season Map"]
["Scenario:"]
["I. Yearly Forage Supply (Total Pounds as Dry Matter) "]
[null,"Field #",null,"Forage(s)",null,null,null,null,null,"Estimated Production (lbs)","Production Correction (lbs)","X","Acres","X",null,"Days on Paddock",null,null,"Multi- Species Herd*"," % Grazing/Harvest Efficiency \n(as decimal)",null,"=","Dry Matter Supply (lbs)"]
[{"$f":"IF(D11<>\"\",1,\"\")","v":""},null,null,null,null,null,null,null,null,{"$f":"IF(D11=\"\",\"\",IF(K11<>\"\",\"\",VLOOKUP(D11,IF($O$6=\"Coastal Plain\",'Forage Growth Curve Reference'!$A$41:$Q$72,IF($O$6=\"Piedmont\",'Forage Growth Curve Reference'!$A$4:$Q$35)),3,FALSE)))","v":""},null,{"$f":"IF(A11<>\"\",\"X\",\"\")","v":""},null,{"$f":"IF(A11<>\"\",\"X\",\"\")","v":""},null,null,null,null,null,{"$f":"IF(OR(P11=\"\",$S11=\"Yes\"),\"\",VLOOKUP(P11,'Forage Growth Curve Reference'!$T$3:$U$13,2,FALSE))","v":""},{"$f":"IF($S11=\"Yes\",(VLOOKUP(P11,'Forage Growth Curve Reference'!$T$3:$U$13,2,FALSE)*1.1),\"\")","v":""},{"$f":"IF(OR(T11<>\"\",U11<>\"\"),\"=\",\"\")","v":""},{"$f":"IF(AND(J11<>\"\",T11<>\"\"),J11*M11*T11,IF(AND(K11<>\"\",T11<>\"\"),K11*M11*T11,IF(AND(J11<>\"\",U11<>\"\"),J11*M11*U11,IF(AND(K11<>\"\",U11<>\"\"),K11*M11*U11,\"\"))))","v":""},null,null,null,null,null,null,null,null,null,null,null,"Yes"]
[{"$f":"IF(D12<>\"\",2,\"\")","v":""},null,null,null,null,null,null,null,null,{"$f":"IF(D12=\"\",\"\",IF(K12<>\"\",\"\",VLOOKUP(D12,IF($O$6=\"Coastal Plain\",'Forage Growth Curve Reference'!$A$41:$Q$72,IF($O$6=\"Piedmont\",'Forage Growth Curve Reference'!$A$4:$Q$35)),3,FALSE)))","v":""},null,"",null,"",null,null,null,null,null,{"$f":"IF(OR(P12=\"\",$S12=\"Yes\"),\"\",VLOOKUP(P12,'Forage Growth Curve Reference'!$T$3:$U$13,2,FALSE))","v":""},{"$f":"IF($S12=\"Yes\",(VLOOKUP(P12,'Forage Growth Curve Reference'!$T$3:$U$13,2,FALSE)*1.1),\"\")","v":""},{"$f":"IF(OR(T12<>\"\",U12<>\"\"),\"=\",\"\")","v":""},{"$f":"IF(AND(J12<>\"\",T12<>\"\"),J12*M12*T12,IF(AND(K12<>\"\",T12<>\"\"),K12*M12*T12,IF(AND(J12<>\"\",U12<>\"\"),J12*M12*U12,IF(AND(K12<>\"\",U12<>\"\"),K12*M12*U12,\"\"))))","v":""}]
[{"$f":"IF(D13<>\"\",3,\"\")","v":""},null,null,null,null,null,null,null,null,{"$f":"IF(D13=\"\",\"\",IF(K13<>\"\",\"\",VLOOKUP(D13,IF($O$6=\"Coastal Plain\",'Forage Growth Curve Reference'!$A$41:$Q$72,IF($O$6=\"Piedmont\",'Forage Growth Curve Reference'!$A$4:$Q$35)),3,FALSE)))","v":""},null,"",null,"",null,null,null,null,null,{"$f":"IF(OR(P13=\"\",$S13=\"Yes\"),\"\",VLOOKUP(P13,'Forage Growth Curve Reference'!$T$3:$U$13,2,FALSE))","v":""},{"$f":"IF($S13=\"Yes\",(VLOOKUP(P13,'Forage Growth Curve Reference'!$T$3:$U$13,2,FALSE)*1.1),\"\")","v":""},"",""]
[{"$f":"IF(D14<>\"\",4,\"\")","v":""},null,null,null,null,null,null,null,null,{"$f":"IF(D14=\"\",\"\",IF(K14<>\"\",\"\",VLOOKUP(D14,IF($O$6=\"Coastal Plain\",'Forage Growth Curve Reference'!$A$41:$Q$72,IF($O$6=\"Piedmont\",'Forage Growth Curve Reference'!$A$4:$Q$35)),3,FALSE)))","v":""},null,"",null,"",null,null,null,null,null,{"$f":"IF(OR(P14=\"\",$S14=\"Yes\"),\"\",VLOOKUP(P14,'Forage Growth Curve Reference'!$T$3:$U$13,2,FALSE))","v":""},{"$f":"IF($S14=\"Yes\",(VLOOKUP(P14,'Forage Growth Curve Reference'!$T$3:$U$13,2,FALSE)*1.1),\"\")","v":""},"",""]
[{"$f":"IF(D15<>\"\",5,\"\")","v":""},null,null,null,null,null,null,null,null,{"$f":"IF(D15=\"\",\"\",IF(K15<>\"\",\"\",VLOOKUP(D15,IF($O$6=\"Coastal Plain\",'Forage Growth Curve Reference'!$A$41:$Q$72,IF($O$6=\"Piedmont\",'Forage Growth Curve Reference'!$A$4:$Q$35)),3,FALSE)))","v":""},null,"",null,"",null,null,null,null,null,{"$f":"IF(OR(P15=\"\",$S15=\"Yes\"),\"\",VLOOKUP(P15,'Forage Growth Curve Reference'!$T$3:$U$13,2,FALSE))","v":""},{"$f":"IF($S15=\"Yes\",(VLOOKUP(P15,'Forage Growth Curve Reference'!$T$3:$U$13,2,FALSE)*1.1),\"\")","v":""},"",""]
[{"$f":"IF(D16<>\"\",6,\"\")","v":""},null,null,null,null,null,null,null,null,{"$f":"IF(D16=\"\",\"\",IF(K16<>\"\",\"\",VLOOKUP(D16,IF($O$6=\"Coastal Plain\",'Forage Growth Curve Reference'!$A$41:$Q$72,IF($O$6=\"Piedmont\",'Forage Growth Curve Reference'!$A$4:$Q$35)),3,FALSE)))","v":""},null,"",null,"",null,null,null,null,null,{"$f":"IF(OR(P16=\"\",$S16=\"Yes\"),\"\",VLOOKUP(P16,'Forage Growth Curve Reference'!$T$3:$U$13,2,FALSE))","v":""},{"$f":"IF($S16=\"Yes\",(VLOOKUP(P16,'Forage Growth Curve Reference'!$T$3:$U$13,2,FALSE)*1.1),\"\")","v":""},"",""]
[{"$f":"IF(D17<>\"\",7,\"\")","v":""},null,null,null,null,null,null,null,null,{"$f":"IF(D17=\"\",\"\",IF(K17<>\"\",\"\",VLOOKUP(D17,IF($O$6=\"Coastal Plain\",'Forage Growth Curve Reference'!$A$41:$Q$72,IF($O$6=\"Piedmont\",'Forage Growth Curve Reference'!$A$4:$Q$35)),3,FALSE)))","v":""},null,"",null,{"$f":"IF(A17<>\"\",\"X\",\"\")","v":""},null,null,null,null,null,{"$f":"IF(OR(P17=\"\",$S17=\"Yes\"),\"\",VLOOKUP(P17,'Forage Growth Curve Reference'!$T$3:$U$13,2,FALSE))","v":""},{"$f":"IF($S17=\"Yes\",(VLOOKUP(P17,'Forage Growth Curve Reference'!$T$3:$U$13,2,FALSE)*1.1),\"\")","v":""},"",""]
[{"$f":"IF(D18<>\"\",8,\"\")","v":""},null,null,null,null,null,null,null,null,{"$f":"IF(D18=\"\",\"\",IF(K18<>\"\",\"\",VLOOKUP(D18,IF($O$6=\"Coastal Plain\",'Forage Growth Curve Reference'!$A$41:$Q$72,IF($O$6=\"Piedmont\",'Forage Growth Curve Reference'!$A$4:$Q$35)),3,FALSE)))","v":""},null,"",null,"",null,null,null,null,null,{"$f":"IF(OR(P18=\"\",$S18=\"Yes\"),\"\",VLOOKUP(P18,'Forage Growth Curve Reference'!$T$3:$U$13,2,FALSE))","v":""},{"$f":"IF($S18=\"Yes\",(VLOOKUP(P18,'Forage Growth Curve Reference'!$T$3:$U$13,2,FALSE)*1.1),\"\")","v":""},"",""]
[{"$f":"IF(D19<>\"\",9,\"\")","v":""},null,null,null,null,null,null,null,null,{"$f":"IF(D19=\"\",\"\",IF(K19<>\"\",\"\",VLOOKUP(D19,IF($O$6=\"Coastal Plain\",'Forage Growth Curve Reference'!$A$41:$Q$72,IF($O$6=\"Piedmont\",'Forage Growth Curve Reference'!$A$4:$Q$35)),3,FALSE)))","v":""},null,"",null,"",null,null,null,null,null,{"$f":"IF(OR(P19=\"\",$S19=\"Yes\"),\"\",VLOOKUP(P19,'Forage Growth Curve Reference'!$T$3:$U$13,2,FALSE))","v":""},{"$f":"IF($S19=\"Yes\",(VLOOKUP(P19,'Forage Growth Curve Reference'!$T$3:$U$13,2,FALSE)*1.1),\"\")","v":""},"",""]
[{"$f":"IF(D20<>\"\",10,\"\")","v":""},null,null,null,null,null,null,null,null,{"$f":"IF(D20=\"\",\"\",IF(K20<>\"\",\"\",VLOOKUP(D20,IF($O$6=\"Coastal Plain\",'Forage Growth Curve Reference'!$A$41:$Q$72,IF($O$6=\"Piedmont\",'Forage Growth Curve Reference'!$A$4:$Q$35)),3,FALSE)))","v":""},null,"",null,"",null,null,null,null,null,{"$f":"IF(OR(P20=\"\",$S20=\"Yes\"),\"\",VLOOKUP(P20,'Forage Growth Curve Reference'!$T$3:$U$13,2,FALSE))","v":""},{"$f":"IF($S20=\"Yes\",(VLOOKUP(P20,'Forage Growth Curve Reference'!$T$3:$U$13,2,FALSE)*1.1),\"\")","v":""},"",""]
[{"$f":"IF(D21<>\"\",11,\"\")","v":""},null,null,null,null,null,null,null,null,{"$f":"IF(D21=\"\",\"\",IF(K21<>\"\",\"\",VLOOKUP(D21,IF($O$6=\"Coastal Plain\",'Forage Growth Curve Reference'!$A$41:$Q$72,IF($O$6=\"Piedmont\",'Forage Growth Curve Reference'!$A$4:$Q$35)),3,FALSE)))","v":""},null,"",null,"",null,null,null,null,null,{"$f":"IF(OR(P21=\"\",$S21=\"Yes\"),\"\",VLOOKUP(P21,'Forage Growth Curve Reference'!$T$3:$U$13,2,FALSE))","v":""},{"$f":"IF($S21=\"Yes\",(VLOOKUP(P21,'Forage Growth Curve Reference'!$T$3:$U$13,2,FALSE)*1.1),\"\")","v":""},"",""]
[{"$f":"IF(D22<>\"\",12,\"\")","v":""},null,null,null,null,null,null,null,null,{"$f":"IF(D22=\"\",\"\",IF(K22<>\"\",\"\",VLOOKUP(D22,IF($O$6=\"Coastal Plain\",'Forage Growth Curve Reference'!$A$41:$Q$72,IF($O$6=\"Piedmont\",'Forage Growth Curve Reference'!$A$4:$Q$35)),3,FALSE)))","v":""},null,"",null,"",null,null,null,null,null,{"$f":"IF(OR(P22=\"\",$S22=\"Yes\"),\"\",VLOOKUP(P22,'Forage Growth Curve Reference'!$T$3:$U$13,2,FALSE))","v":""},{"$f":"IF($S22=\"Yes\",(VLOOKUP(P22,'Forage Growth Curve Reference'!$T$3:$U$13,2,FALSE)*1.1),\"\")","v":""},"",""]
[{"$f":"IF(D23<>\"\",13,\"\")","v":""},null,null,null,null,null,null,null,null,{"$f":"IF(D23=\"\",\"\",IF(K23<>\"\",\"\",VLOOKUP(D23,IF($O$6=\"Coastal Plain\",'Forage Growth Curve Reference'!$A$41:$Q$72,IF($O$6=\"Piedmont\",'Forage Growth Curve Reference'!$A$4:$Q$35)),3,FALSE)))","v":""},null,"",null,"",null,null,null,null,null,{"$f":"IF(OR(P23=\"\",$S23=\"Yes\"),\"\",VLOOKUP(P23,'Forage Growth Curve Reference'!$T$3:$U$13,2,FALSE))","v":""},{"$f":"IF($S23=\"Yes\",(VLOOKUP(P23,'Forage Growth Curve Reference'!$T$3:$U$13,2,FALSE)*1.1),\"\")","v":""},"",""]
[{"$f":"IF(D24<>\"\",14,\"\")","v":""},null,null,null,null,null,null,null,null,{"$f":"IF(D24=\"\",\"\",IF(K24<>\"\",\"\",VLOOKUP(D24,IF($O$6=\"Coastal Plain\",'Forage Growth Curve Reference'!$A$41:$Q$72,IF($O$6=\"Piedmont\",'Forage Growth Curve Reference'!$A$4:$Q$35)),3,FALSE)))","v":""},null,"",null,"",null,null,null,null,null,{"$f":"IF(OR(P24=\"\",$S24=\"Yes\"),\"\",VLOOKUP(P24,'Forage Growth Curve Reference'!$T$3:$U$13,2,FALSE))","v":""},{"$f":"IF($S24=\"Yes\",(VLOOKUP(P24,'Forage Growth Curve Reference'!$T$3:$U$13,2,FALSE)*1.1),\"\")","v":""},"",""]
[{"$f":"IF(D25<>\"\",15,\"\")","v":""},null,null,null,null,null,null,null,null,{"$f":"IF(D25=\"\",\"\",IF(K25<>\"\",\"\",VLOOKUP(D25,IF($O$6=\"Coastal Plain\",'Forage Growth Curve Reference'!$A$41:$Q$72,IF($O$6=\"Piedmont\",'Forage Growth Curve Reference'!$A$4:$Q$35)),3,FALSE)))","v":""},null,"",null,"",null,null,null,null,null,{"$f":"IF(OR(P25=\"\",$S25=\"Yes\"),\"\",VLOOKUP(P25,'Forage Growth Curve Reference'!$T$3:$U$13,2,FALSE))","v":""},{"$f":"IF($S25=\"Yes\",(VLOOKUP(P25,'Forage Growth Curve Reference'!$T$3:$U$13,2,FALSE)*1.1),\"\")","v":""},"",""]
[{"$f":"IF(D26<>\"\",16,\"\")","v":""},null,null,null,null,null,null,null,null,{"$f":"IF(D26=\"\",\"\",IF(K26<>\"\",\"\",VLOOKUP(D26,IF($O$6=\"Coastal Plain\",'Forage Growth Curve Reference'!$A$41:$Q$72,IF($O$6=\"Piedmont\",'Forage Growth Curve Reference'!$A$4:$Q$35)),3,FALSE)))","v":""},null,"",null,"",null,null,null,null,null,{"$f":"IF(OR(P26=\"\",$S26=\"Yes\"),\"\",VLOOKUP(P26,'Forage Growth Curve Reference'!$T$3:$U$13,2,FALSE))","v":""},{"$f":"IF($S26=\"Yes\",(VLOOKUP(P26,'Forage Growth Curve Reference'!$T$3:$U$13,2,FALSE)*1.1),\"\")","v":""},"",""]
[{"$f":"IF(D27<>\"\",17,\"\")","v":""},null,null,null,null,null,null,null,null,{"$f":"IF(D27=\"\",\"\",IF(K27<>\"\",\"\",VLOOKUP(D27,IF($O$6=\"Coastal Plain\",'Forage Growth Curve Reference'!$A$41:$Q$72,IF($O$6=\"Piedmont\",'Forage Growth Curve Reference'!$A$4:$Q$35)),3,FALSE)))","v":""},null,"",null,"",null,null,null,null,null,{"$f":"IF(OR(P27=\"\",$S27=\"Yes\"),\"\",VLOOKUP(P27,'Forage Growth Curve Reference'!$T$3:$U$13,2,FALSE))","v":""},{"$f":"IF($S27=\"Yes\",(VLOOKUP(P27,'Forage Growth Curve Reference'!$T$3:$U$13,2,FALSE)*1.1),\"\")","v":""},"",""]
[{"$f":"IF(D28<>\"\",18,\"\")","v":""},null,null,null,null,null,null,null,null,{"$f":"IF(D28=\"\",\"\",IF(K28<>\"\",\"\",VLOOKUP(D28,IF($O$6=\"Coastal Plain\",'Forage Growth Curve Reference'!$A$41:$Q$72,IF($O$6=\"Piedmont\",'Forage Growth Curve Reference'!$A$4:$Q$35)),3,FALSE)))","v":""},null,"",null,"",null,null,null,null,null,{"$f":"IF(OR(P28=\"\",$S28=\"Yes\"),\"\",VLOOKUP(P28,'Forage Growth Curve Reference'!$T$3:$U$13,2,FALSE))","v":""},{"$f":"IF($S28=\"Yes\",(VLOOKUP(P28,'Forage Growth Curve Reference'!$T$3:$U$13,2,FALSE)*1.1),\"\")","v":""},"",""]
[{"$f":"IF(D29<>\"\",19,\"\")","v":""},null,null,null,null,null,null,null,null,{"$f":"IF(D29=\"\",\"\",IF(K29<>\"\",\"\",VLOOKUP(D29,IF($O$6=\"Coastal Plain\",'Forage Growth Curve Reference'!$A$41:$Q$72,IF($O$6=\"Piedmont\",'Forage Growth Curve Reference'!$A$4:$Q$35)),3,FALSE)))","v":""},null,"",null,"",null,null,null,null,null,{"$f":"IF(OR(P29=\"\",$S29=\"Yes\"),\"\",VLOOKUP(P29,'Forage Growth Curve Reference'!$T$3:$U$13,2,FALSE))","v":""},{"$f":"IF($S29=\"Yes\",(VLOOKUP(P29,'Forage Growth Curve Reference'!$T$3:$U$13,2,FALSE)*1.1),\"\")","v":""},"",""]
[{"$f":"IF(D30<>\"\",20,\"\")","v":""},null,null,null,null,null,null,null,null,{"$f":"IF(D30=\"\",\"\",IF(K30<>\"\",\"\",VLOOKUP(D30,IF($O$6=\"Coastal Plain\",'Forage Growth Curve Reference'!$A$41:$Q$72,IF($O$6=\"Piedmont\",'Forage Growth Curve Reference'!$A$4:$Q$35)),3,FALSE)))","v":""},null,"",null,"",null,null,null,null,null,{"$f":"IF(OR(P30=\"\",$S30=\"Yes\"),\"\",VLOOKUP(P30,'Forage Growth Curve Reference'!$T$3:$U$13,2,FALSE))","v":""},{"$f":"IF($S30=\"Yes\",(VLOOKUP(P30,'Forage Growth Curve Reference'!$T$3:$U$13,2,FALSE)*1.1),\"\")","v":""},"",""]
[{"$f":"IF(D31<>\"\",21,\"\")","v":""},null,null,null,null,null,null,null,null,{"$f":"IF(D31=\"\",\"\",IF(K31<>\"\",\"\",VLOOKUP(D31,IF($O$6=\"Coastal Plain\",'Forage Growth Curve Reference'!$A$41:$Q$72,IF($O$6=\"Piedmont\",'Forage Growth Curve Reference'!$A$4:$Q$35)),3,FALSE)))","v":""},null,"",null,"",null,null,null,null,null,{"$f":"IF(OR(P31=\"\",$S31=\"Yes\"),\"\",VLOOKUP(P31,'Forage Growth Curve Reference'!$T$3:$U$13,2,FALSE))","v":""},{"$f":"IF($S31=\"Yes\",(VLOOKUP(P31,'Forage Growth Curve Reference'!$T$3:$U$13,2,FALSE)*1.1),\"\")","v":""},{"$f":"IF(OR(T31<>\"\",U31<>\"\"),\"=\",\"\")","v":""},""]
[null,null,null,null,null,null,null,null,null,null,null,"Total acres:",{"$f":"SUM(M11:M31)","v":0},null,null,null,null,null,"Annual Total (lbs):",null,null,null,{"$f":"SUM(W11:W31)","v":0}]
[null,null,null,null,null,null,null,null,null,null,null,null,null,null,null,null,null,null,"Annual Total (tons):",null,null,null,{"$f":"W32/2000","v":0}]
[]
[null,null,null,null,null,null,null,null,null,null,null,null,null,null,null,"*If marked \"Yes,\" the field/paddock will be grazed by multi-species herd(s). "]
["II.  Yearly Forage Demand (Total Pounds as Dry Matter)"]
[null,"Herd/Flock Name or Description",null,"Animal Type",null,"No. of Animals","X","Average Weight (lbs)","X","DM Intake as % of Body Weight (as decimal)",null,"DM Intake as % Body Weight Correction (decimal)",null,"X","Grazing Period",null,null,null,"=","Dry Matter Demand per Herd/Flock (lbs)"]
[null,null,null,null,null,null,null,null,null,null,null,null,null,null,"Start Month",null,"End Month","Total Days"]
[{"$f":"IF(D39<>\"\",1,\"\")","v":""},null,null,null,null,null,{"$f":"IF(F39<>\"\",\"X\",\"\")","v":""},null,{"$f":"IF(F39<>\"\",\"X\",\"\")","v":""},{"$f":"IF(L39<>\"\",\"\",IF(D39=\"\",\"\",VLOOKUP(D39,'Forage Growth Curve Reference'!$Y$3:$Z$9,2,FALSE)))","v":""},null,null,null,{"$f":"IF(F39<>\"\",\"X\",\"\")","v":""},null,null,null,{"$f":"IF(AND(O39>=1,Q39>=2,Q39>O39),ROUNDUP(((Q39-(O39-1))*30.45),0),\"\")","v":""},{"$f":"IF(R39<>\"\",\"=\",\"\")","v":""},{"$f":"IF(J39<>\"\",R39*F39*H39*J39,IF(L39<>\"\",R39*F39*H39*L39,\"\"))","v":""}]
[{"$f":"IF(D40<>\"\",2,\"\")","v":""},null,null,null,null,null,"",null,{"$f":"IF(F40<>\"\",\"X\",\"\")","v":""},{"$f":"IF(L40<>\"\",\"\",IF(D40=\"\",\"\",VLOOKUP(D40,'Forage Growth Curve Reference'!$Y$3:$Z$9,2,FALSE)))","v":""},null,null,null,"",null,null,null,{"$f":"IF(AND(O40>=1,Q40>=2,Q40>O40),ROUNDUP(((Q40-(O40-1))*30.45),0),\"\")","v":""},{"$f":"IF(R40<>\"\",\"=\",\"\")","v":""},{"$f":"IF(J40<>\"\",R40*F40*H40*J40,IF(L40<>\"\",R40*F40*H40*L40,\"\"))","v":""}]
[{"$f":"IF(D41<>\"\",3,\"\")","v":""},null,null,null,null,null,"",null,"",{"$f":"IF(L41<>\"\",\"\",IF(D41=\"\",\"\",VLOOKUP(D41,'Forage Growth Curve Reference'!$Y$3:$Z$9,2,FALSE)))","v":""},null,null,null,"",null,null,null,"",{"$f":"IF(R41<>\"\",\"=\",\"\")","v":""},""]
[{"$f":"IF(D42<>\"\",4,\"\")","v":""},null,null,null,null,null,"",null,"",{"$f":"IF(L42<>\"\",\"\",IF(D42=\"\",\"\",VLOOKUP(D42,'Forage Growth Curve Reference'!$Y$3:$Z$9,2,FALSE)))","v":""},null,null,null,"",null,null,null,"","",""]
[{"$f":"IF(D43<>\"\",5,\"\")","v":""},null,null,null,null,null,"",null,"",{"$f":"IF(L43<>\"\",\"\",IF(D43=\"\",\"\",VLOOKUP(D43,'Forage Growth Curve Reference'!$Y$3:$Z$9,2,FALSE)))","v":""},null,null,null,"",null,null,null,"","",""]
[{"$f":"IF(D44<>\"\",6,\"\")","v":""},null,null,null,null,null,"",null,"",{"$f":"IF(L44<>\"\",\"\",IF(D44=\"\",\"\",VLOOKUP(D44,'Forage Growth Curve Reference'!$Y$3:$Z$9,2,FALSE)))","v":""},null,null,null,"",null,null,null,"","",""]
[{"$f":"IF(D45<>\"\",7,\"\")","v":""},null,null,null,null,null,"",null,"",{"$f":"IF(L45<>\"\",\"\",IF(D45=\"\",\"\",VLOOKUP(D45,'Forage Growth Curve Reference'!$Y$3:$Z$9,2,FALSE)))","v":""},null,null,null,"",null,null,null,"","",""]
[{"$f":"IF(D46<>\"\",8,\"\")","v":""},null,null,null,null,null,"",null,"",{"$f":"IF(L46<>\"\",\"\",IF(D46=\"\",\"\",VLOOKUP(D46,'Forage Growth Curve Reference'!$Y$3:$Z$9,2,FALSE)))","v":""},null,null,null,"",null,null,null,"","",""]
[{"$f":"IF(D47<>\"\",9,\"\")","v":""},null,null,null,null,null,"",null,"",{"$f":"IF(L47<>\"\",\"\",IF(D47=\"\",\"\",VLOOKUP(D47,'Forage Growth Curve Reference'!$Y$3:$Z$9,2,FALSE)))","v":""},null,null,null,"",null,null,null,"","",""]
[{"$f":"IF(D48<>\"\",10,\"\")","v":""},null,null,null,null,null,"",null,"",{"$f":"IF(L48<>\"\",\"\",IF(D48=\"\",\"\",VLOOKUP(D48,'Forage Growth Curve Reference'!$Y$3:$Z$9,2,FALSE)))","v":""},null,null,null,"",null,null,null,"","",""]
[]
[null,null,null,null,null,null,null,null,null,null,null,null,null,null,null,null,null,"Annual Total (lbs):",null,{"$f":"SUM(T39:T48)","v":0}]
[null,null,null,null,null,null,null,null,null,null,null,null,null,null,null,null,null,"Annual Total (tons):",null,{"$f":"T50/2000","v":0}]
[]
["III. Yearly Forage Balance (Surplus/Deficit):"]
[]
[null,null,null,null,null,null,null,null,null,null,null,null,null,null,null,null,null,"lbs",null,"tons"]
[null,null,null,null,null,null,null,null,null,"Yearly Forage Supply (I):",null,null,null,null,null,null,null,{"$f":"W32","v":0},null,{"$f":"W33","v":0}]
[null,null,null,null,null,null,null,null,null,"Yearly Forage Demand (II):",null,null,null,null,null,null,null,{"$f":"T50","v":0},null,{"$f":"T51","v":0}]
[null,null,null,null,null,null,null,null,null,"Yearly Forage Balance (Surplus/Deficit):",null,null,null,null,null,null,null,{"$f":"R56-R57","v":0},null,{"$f":"T56-T57","v":0}]
[]
["Forage"]
[null,null,null,"Jan","Feb","Mar","Apr","May","Jun","Jul","Aug","Sep","Oct","Nov","Dec"]
[null,null,11,{"$f":"IF(AND(OR($J11<>\"\",$K11<>\"\"),$M11<>\"\"),$W11*VLOOKUP($D11,IF($O$6=\"Western Mountains\",'Forage Growth Curve Reference'!#REF!,IF($O$6=\"Coastal Plain\",'Forage Growth Curve Reference'!$A$41:$Q$72,IF($O$6=\"Piedmont\",'Forage Growth Curve Reference'!$A$4:$Q$35,'Forage Growth Curve Reference'!$A$4:$Q$35))),6,FALSE),\"\")","v":""},{"$f":"IF(AND(OR($J11<>\"\",$K11<>\"\"),$M11<>\"\"),$W11*VLOOKUP($D11,IF($O$6=\"Western Mountains\",'Forage Growth Curve Reference'!#REF!,IF($O$6=\"Coastal Plain\",'Forage Growth Curve Reference'!$A$41:$Q$72,IF($O$6=\"Piedmont\",'Forage Growth Curve Reference'!$A$4:$Q$35,'Forage Growth Curve Reference'!$A$4:$Q$35))),7,FALSE),\"\")","v":""},{"$f":"IF(AND(OR($J11<>\"\",$K11<>\"\"),$M11<>\"\"),$W11*VLOOKUP($D11,IF($O$6=\"Western Mountains\",'Forage Growth Curve Reference'!#REF!,IF($O$6=\"Coastal Plain\",'Forage Growth Curve Reference'!$A$41:$Q$72,IF($O$6=\"Piedmont\",'Forage Growth Curve Reference'!$A$4:$Q$35,'Forage Growth Curve Reference'!$A$4:$Q$35))),8,FALSE),\"\")","v":""},{"$f":"IF(AND(OR($J11<>\"\",$K11<>\"\"),$M11<>\"\"),$W11*VLOOKUP($D11,IF($O$6=\"Western Mountains\",'Forage Growth Curve Reference'!#REF!,IF($O$6=\"Coastal Plain\",'Forage Growth Curve Reference'!$A$41:$Q$72,IF($O$6=\"Piedmont\",'Forage Growth Curve Reference'!$A$4:$Q$35,'Forage Growth Curve Reference'!$A$4:$Q$35))),9,FALSE),\"\")","v":""},{"$f":"IF(AND(OR($J11<>\"\",$K11<>\"\"),$M11<>\"\"),$W11*VLOOKUP($D11,IF($O$6=\"Western Mountains\",'Forage Growth Curve Reference'!#REF!,IF($O$6=\"Coastal Plain\",'Forage Growth Curve Reference'!$A$41:$Q$72,IF($O$6=\"Piedmont\",'Forage Growth Curve Reference'!$A$4:$Q$35,'Forage Growth Curve Reference'!$A$4:$Q$35))),10,FALSE),\"\")","v":""},{"$f":"IF(AND(OR($J11<>\"\",$K11<>\"\"),$M11<>\"\"),$W11*VLOOKUP($D11,IF($O$6=\"Western Mountains\",'Forage Growth Curve Reference'!#REF!,IF($O$6=\"Coastal Plain\",'Forage Growth Curve Reference'!$A$41:$Q$72,IF($O$6=\"Piedmont\",'Forage Growth Curve Reference'!$A$4:$Q$35,'Forage Growth Curve Reference'!$A$4:$Q$35))),11,FALSE),\"\")","v":""},{"$f":"IF(AND(OR($J11<>\"\",$K11<>\"\"),$M11<>\"\"),$W11*VLOOKUP($D11,IF($O$6=\"Western Mountains\",'Forage Growth Curve Reference'!#REF!,IF($O$6=\"Coastal Plain\",'Forage Growth Curve Reference'!$A$41:$Q$72,IF($O$6=\"Piedmont\",'Forage Growth Curve Reference'!$A$4:$Q$35,'Forage Growth Curve Reference'!$A$4:$Q$35))),12,FALSE),\"\")","v":""},{"$f":"IF(AND(OR($J11<>\"\",$K11<>\"\"),$M11<>\"\"),$W11*VLOOKUP($D11,IF($O$6=\"Western Mountains\",'Forage Growth Curve Reference'!#REF!,IF($O$6=\"Coastal Plain\",'Forage Growth Curve Reference'!$A$41:$Q$72,IF($O$6=\"Piedmont\",'Forage Growth Curve Reference'!$A$4:$Q$35,'Forage Growth Curve Reference'!$A$4:$Q$35))),13,FALSE),\"\")","v":""},{"$f":"IF(AND(OR($J11<>\"\",$K11<>\"\"),$M11<>\"\"),$W11*VLOOKUP($D11,IF($O$6=\"Western Mountains\",'Forage Growth Curve Reference'!#REF!,IF($O$6=\"Coastal Plain\",'Forage Growth Curve Reference'!$A$41:$Q$72,IF($O$6=\"Piedmont\",'Forage Growth Curve Reference'!$A$4:$Q$35,'Forage Growth Curve Reference'!$A$4:$Q$35))),14,FALSE),\"\")","v":""},{"$f":"IF(AND(OR($J11<>\"\",$K11<>\"\"),$M11<>\"\"),$W11*VLOOKUP($D11,IF($O$6=\"Western Mountains\",'Forage Growth Curve Reference'!#REF!,IF($O$6=\"Coastal Plain\",'Forage Growth Curve Reference'!$A$41:$Q$72,IF($O$6=\"Piedmont\",'Forage Growth Curve Reference'!$A$4:$Q$35,'Forage Growth Curve Reference'!$A$4:$Q$35))),15,FALSE),\"\")","v":""},{"$f":"IF(AND(OR($J11<>\"\",$K11<>\"\"),$M11<>\"\"),$W11*VLOOKUP($D11,IF($O$6=\"Western Mountains\",'Forage Growth Curve Reference'!#REF!,IF($O$6=\"Coastal Plain\",'Forage Growth Curve Reference'!$A$41:$Q$72,IF($O$6=\"Piedmont\",'Forage Growth Curve Reference'!$A$4:$Q$35,'Forage Growth Curve Reference'!$A$4:$Q$35))),16,FALSE),\"\")","v":""},{"$f":"IF(AND(OR($J11<>\"\",$K11<>\"\"),$M11<>\"\"),$W11*VLOOKUP($D11,IF($O$6=\"Western Mountains\",'Forage Growth Curve Reference'!#REF!,IF($O$6=\"Coastal Plain\",'Forage Growth Curve Reference'!$A$41:$Q$72,IF($O$6=\"Piedmont\",'Forage Growth Curve Reference'!$A$4:$Q$35,'Forage Growth Curve Reference'!$A$4:$Q$35))),17,FALSE),\"\")","v":""}]
[null,null,12,{"$f":"IF(AND(OR($J12<>\"\",$K12<>\"\"),$M12<>\"\"),$W12*VLOOKUP($D12,IF($O$6=\"Western Mountains\",'Forage Growth Curve Reference'!#REF!,IF($O$6=\"Coastal Plain\",'Forage Growth Curve Reference'!$A$41:$Q$72,IF($O$6=\"Piedmont\",'Forage Growth Curve Reference'!$A$4:$Q$35,'Forage Growth Curve Reference'!$A$4:$Q$35))),6,FALSE),\"\")","v":""},{"$f":"IF(AND(OR($J12<>\"\",$K12<>\"\"),$M12<>\"\"),$W12*VLOOKUP($D12,IF($O$6=\"Western Mountains\",'Forage Growth Curve Reference'!#REF!,IF($O$6=\"Coastal Plain\",'Forage Growth Curve Reference'!$A$41:$Q$72,IF($O$6=\"Piedmont\",'Forage Growth Curve Reference'!$A$4:$Q$35,'Forage Growth Curve Reference'!$A$4:$Q$35))),7,FALSE),\"\")","v":""},{"$f":"IF(AND(OR($J12<>\"\",$K12<>\"\"),$M12<>\"\"),$W12*VLOOKUP($D12,IF($O$6=\"Western Mountains\",'Forage Growth Curve Reference'!#REF!,IF($O$6=\"Coastal Plain\",'Forage Growth Curve Reference'!$A$41:$Q$72,IF($O$6=\"Piedmont\",'Forage Growth Curve Reference'!$A$4:$Q$35,'Forage Growth Curve Reference'!$A$4:$Q$35))),8,FALSE),\"\")","v":""},{"$f":"IF(AND(OR($J12<>\"\",$K12<>\"\"),$M12<>\"\"),$W12*VLOOKUP($D12,IF($O$6=\"Western Mountains\",'Forage Growth Curve Reference'!#REF!,IF($O$6=\"Coastal Plain\",'Forage Growth Curve Reference'!$A$41:$Q$72,IF($O$6=\"Piedmont\",'Forage Growth Curve Reference'!$A$4:$Q$35,'Forage Growth Curve Reference'!$A$4:$Q$35))),9,FALSE),\"\")","v":""},{"$f":"IF(AND(OR($J12<>\"\",$K12<>\"\"),$M12<>\"\"),$W12*VLOOKUP($D12,IF($O$6=\"Western Mountains\",'Forage Growth Curve Reference'!#REF!,IF($O$6=\"Coastal Plain\",'Forage Growth Curve Reference'!$A$41:$Q$72,IF($O$6=\"Piedmont\",'Forage Growth Curve Reference'!$A$4:$Q$35,'Forage Growth Curve Reference'!$A$4:$Q$35))),10,FALSE),\"\")","v":""},{"$f":"IF(AND(OR($J12<>\"\",$K12<>\"\"),$M12<>\"\"),$W12*VLOOKUP($D12,IF($O$6=\"Western Mountains\",'Forage Growth Curve Reference'!#REF!,IF($O$6=\"Coastal Plain\",'Forage Growth Curve Reference'!$A$41:$Q$72,IF($O$6=\"Piedmont\",'Forage Growth Curve Reference'!$A$4:$Q$35,'Forage Growth Curve Reference'!$A$4:$Q$35))),11,FALSE),\"\")","v":""},{"$f":"IF(AND(OR($J12<>\"\",$K12<>\"\"),$M12<>\"\"),$W12*VLOOKUP($D12,IF($O$6=\"Western Mountains\",'Forage Growth Curve Reference'!#REF!,IF($O$6=\"Coastal Plain\",'Forage Growth Curve Reference'!$A$41:$Q$72,IF($O$6=\"Piedmont\",'Forage Growth Curve Reference'!$A$4:$Q$35,'Forage Growth Curve Reference'!$A$4:$Q$35))),12,FALSE),\"\")","v":""},{"$f":"IF(AND(OR($J12<>\"\",$K12<>\"\"),$M12<>\"\"),$W12*VLOOKUP($D12,IF($O$6=\"Western Mountains\",'Forage Growth Curve Reference'!#REF!,IF($O$6=\"Coastal Plain\",'Forage Growth Curve Reference'!$A$41:$Q$72,IF($O$6=\"Piedmont\",'Forage Growth Curve Reference'!$A$4:$Q$35,'Forage Growth Curve Reference'!$A$4:$Q$35))),13,FALSE),\"\")","v":""},{"$f":"IF(AND(OR($J12<>\"\",$K12<>\"\"),$M12<>\"\"),$W12*VLOOKUP($D12,IF($O$6=\"Western Mountains\",'Forage Growth Curve Reference'!#REF!,IF($O$6=\"Coastal Plain\",'Forage Growth Curve Reference'!$A$41:$Q$72,IF($O$6=\"Piedmont\",'Forage Growth Curve Reference'!$A$4:$Q$35,'Forage Growth Curve Reference'!$A$4:$Q$35))),14,FALSE),\"\")","v":""},{"$f":"IF(AND(OR($J12<>\"\",$K12<>\"\"),$M12<>\"\"),$W12*VLOOKUP($D12,IF($O$6=\"Western Mountains\",'Forage Growth Curve Reference'!#REF!,IF($O$6=\"Coastal Plain\",'Forage Growth Curve Reference'!$A$41:$Q$72,IF($O$6=\"Piedmont\",'Forage Growth Curve Reference'!$A$4:$Q$35,'Forage Growth Curve Reference'!$A$4:$Q$35))),15,FALSE),\"\")","v":""},{"$f":"IF(AND(OR($J12<>\"\",$K12<>\"\"),$M12<>\"\"),$W12*VLOOKUP($D12,IF($O$6=\"Western Mountains\",'Forage Growth Curve Reference'!#REF!,IF($O$6=\"Coastal Plain\",'Forage Growth Curve Reference'!$A$41:$Q$72,IF($O$6=\"Piedmont\",'Forage Growth Curve Reference'!$A$4:$Q$35,'Forage Growth Curve Reference'!$A$4:$Q$35))),16,FALSE),\"\")","v":""},{"$f":"IF(AND(OR($J12<>\"\",$K12<>\"\"),$M12<>\"\"),$W12*VLOOKUP($D12,IF($O$6=\"Western Mountains\",'Forage Growth Curve Reference'!#REF!,IF($O$6=\"Coastal Plain\",'Forage Growth Curve Reference'!$A$41:$Q$72,IF($O$6=\"Piedmont\",'Forage Growth Curve Reference'!$A$4:$Q$35,'Forage Growth Curve Reference'!$A$4:$Q$35))),17,FALSE),\"\")","v":""}]
[null,null,13,{"$f":"IF(AND(OR($J13<>\"\",$K13<>\"\"),$M13<>\"\"),$W13*VLOOKUP($D13,IF($O$6=\"Western Mountains\",'Forage Growth Curve Reference'!#REF!,IF($O$6=\"Coastal Plain\",'Forage Growth Curve Reference'!$A$41:$Q$72,IF($O$6=\"Piedmont\",'Forage Growth Curve Reference'!$A$4:$Q$35,'Forage Growth Curve Reference'!$A$4:$Q$35))),6,FALSE),\"\")","v":""},{"$f":"IF(AND(OR($J13<>\"\",$K13<>\"\"),$M13<>\"\"),$W13*VLOOKUP($D13,IF($O$6=\"Western Mountains\",'Forage Growth Curve Reference'!#REF!,IF($O$6=\"Coastal Plain\",'Forage Growth Curve Reference'!$A$41:$Q$72,IF($O$6=\"Piedmont\",'Forage Growth Curve Reference'!$A$4:$Q$35,'Forage Growth Curve Reference'!$A$4:$Q$35))),7,FALSE),\"\")","v":""},{"$f":"IF(AND(OR($J13<>\"\",$K13<>\"\"),$M13<>\"\"),$W13*VLOOKUP($D13,IF($O$6=\"Western Mountains\",'Forage Growth Curve Reference'!#REF!,IF($O$6=\"Coastal Plain\",'Forage Growth Curve Reference'!$A$41:$Q$72,IF($O$6=\"Piedmont\",'Forage Growth Curve Reference'!$A$4:$Q$35,'Forage Growth Curve Reference'!$A$4:$Q$35))),8,FALSE),\"\")","v":""},{"$f":"IF(AND(OR($J13<>\"\",$K13<>\"\"),$M13<>\"\"),$W13*VLOOKUP($D13,IF($O$6=\"Western Mountains\",'Forage Growth Curve Reference'!#REF!,IF($O$6=\"Coastal Plain\",'Forage Growth Curve Reference'!$A$41:$Q$72,IF($O$6=\"Piedmont\",'Forage Growth Curve Reference'!$A$4:$Q$35,'Forage Growth Curve Reference'!$A$4:$Q$35))),9,FALSE),\"\")","v":""},{"$f":"IF(AND(OR($J13<>\"\",$K13<>\"\"),$M13<>\"\"),$W13*VLOOKUP($D13,IF($O$6=\"Western Mountains\",'Forage Growth Curve Reference'!#REF!,IF($O$6=\"Coastal Plain\",'Forage Growth Curve Reference'!$A$41:$Q$72,IF($O$6=\"Piedmont\",'Forage Growth Curve Reference'!$A$4:$Q$35,'Forage Growth Curve Reference'!$A$4:$Q$35))),10,FALSE),\"\")","v":""},{"$f":"IF(AND(OR($J13<>\"\",$K13<>\"\"),$M13<>\"\"),$W13*VLOOKUP($D13,IF($O$6=\"Western Mountains\",'Forage Growth Curve Reference'!#REF!,IF($O$6=\"Coastal Plain\",'Forage Growth Curve Reference'!$A$41:$Q$72,IF($O$6=\"Piedmont\",'Forage Growth Curve Reference'!$A$4:$Q$35,'Forage Growth Curve Reference'!$A$4:$Q$35))),11,FALSE),\"\")","v":""},{"$f":"IF(AND(OR($J13<>\"\",$K13<>\"\"),$M13<>\"\"),$W13*VLOOKUP($D13,IF($O$6=\"Western Mountains\",'Forage Growth Curve Reference'!#REF!,IF($O$6=\"Coastal Plain\",'Forage Growth Curve Reference'!$A$41:$Q$72,IF($O$6=\"Piedmont\",'Forage Growth Curve Reference'!$A$4:$Q$35,'Forage Growth Curve Reference'!$A$4:$Q$35))),12,FALSE),\"\")","v":""},{"$f":"IF(AND(OR($J13<>\"\",$K13<>\"\"),$M13<>\"\"),$W13*VLOOKUP($D13,IF($O$6=\"Western Mountains\",'Forage Growth Curve Reference'!#REF!,IF($O$6=\"Coastal Plain\",'Forage Growth Curve Reference'!$A$41:$Q$72,IF($O$6=\"Piedmont\",'Forage Growth Curve Reference'!$A$4:$Q$35,'Forage Growth Curve Reference'!$A$4:$Q$35))),13,FALSE),\"\")","v":""},{"$f":"IF(AND(OR($J13<>\"\",$K13<>\"\"),$M13<>\"\"),$W13*VLOOKUP($D13,IF($O$6=\"Western Mountains\",'Forage Growth Curve Reference'!#REF!,IF($O$6=\"Coastal Plain\",'Forage Growth Curve Reference'!$A$41:$Q$72,IF($O$6=\"Piedmont\",'Forage Growth Curve Reference'!$A$4:$Q$35,'Forage Growth Curve Reference'!$A$4:$Q$35))),14,FALSE),\"\")","v":""},{"$f":"IF(AND(OR($J13<>\"\",$K13<>\"\"),$M13<>\"\"),$W13*VLOOKUP($D13,IF($O$6=\"Western Mountains\",'Forage Growth Curve Reference'!#REF!,IF($O$6=\"Coastal Plain\",'Forage Growth Curve Reference'!$A$41:$Q$72,IF($O$6=\"Piedmont\",'Forage Growth Curve Reference'!$A$4:$Q$35,'Forage Growth Curve Reference'!$A$4:$Q$35))),15,FALSE),\"\")","v":""},{"$f":"IF(AND(OR($J13<>\"\",$K13<>\"\"),$M13<>\"\"),$W13*VLOOKUP($D13,IF($O$6=\"Western Mountains\",'Forage Growth Curve Reference'!#REF!,IF($O$6=\"Coastal Plain\",'Forage Growth Curve Reference'!$A$41:$Q$72,IF($O$6=\"Piedmont\",'Forage Growth Curve Reference'!$A$4:$Q$35,'Forage Growth Curve Reference'!$A$4:$Q$35))),16,FALSE),\"\")","v":""},{"$f":"IF(AND(OR($J13<>\"\",$K13<>\"\"),$M13<>\"\"),$W13*VLOOKUP($D13,IF($O$6=\"Western Mountains\",'Forage Growth Curve Reference'!#REF!,IF($O$6=\"Coastal Plain\",'Forage Growth Curve Reference'!$A$41:$Q$72,IF($O$6=\"Piedmont\",'Forage Growth Curve Reference'!$A$4:$Q$35,'Forage Growth Curve Reference'!$A$4:$Q$35))),17,FALSE),\"\")","v":""}]
[null,null,14,{"$f":"IF(AND(OR($J14<>\"\",$K14<>\"\"),$M14<>\"\"),$W14*VLOOKUP($D14,IF($O$6=\"Western Mountains\",'Forage Growth Curve Reference'!#REF!,IF($O$6=\"Coastal Plain\",'Forage Growth Curve Reference'!$A$41:$Q$72,IF($O$6=\"Piedmont\",'Forage Growth Curve Reference'!$A$4:$Q$35,'Forage Growth Curve Reference'!$A$4:$Q$35))),6,FALSE),\"\")","v":""},{"$f":"IF(AND(OR($J14<>\"\",$K14<>\"\"),$M14<>\"\"),$W14*VLOOKUP($D14,IF($O$6=\"Western Mountains\",'Forage Growth Curve Reference'!#REF!,IF($O$6=\"Coastal Plain\",'Forage Growth Curve Reference'!$A$41:$Q$72,IF($O$6=\"Piedmont\",'Forage Growth Curve Reference'!$A$4:$Q$35,'Forage Growth Curve Reference'!$A$4:$Q$35))),7,FALSE),\"\")","v":""},{"$f":"IF(AND(OR($J14<>\"\",$K14<>\"\"),$M14<>\"\"),$W14*VLOOKUP($D14,IF($O$6=\"Western Mountains\",'Forage Growth Curve Reference'!#REF!,IF($O$6=\"Coastal Plain\",'Forage Growth Curve Reference'!$A$41:$Q$72,IF($O$6=\"Piedmont\",'Forage Growth Curve Reference'!$A$4:$Q$35,'Forage Growth Curve Reference'!$A$4:$Q$35))),8,FALSE),\"\")","v":""},{"$f":"IF(AND(OR($J14<>\"\",$K14<>\"\"),$M14<>\"\"),$W14*VLOOKUP($D14,IF($O$6=\"Western Mountains\",'Forage Growth Curve Reference'!#REF!,IF($O$6=\"Coastal Plain\",'Forage Growth Curve Reference'!$A$41:$Q$72,IF($O$6=\"Piedmont\",'Forage Growth Curve Reference'!$A$4:$Q$35,'Forage Growth Curve Reference'!$A$4:$Q$35))),9,FALSE),\"\")","v":""},{"$f":"IF(AND(OR($J14<>\"\",$K14<>\"\"),$M14<>\"\"),$W14*VLOOKUP($D14,IF($O$6=\"Western Mountains\",'Forage Growth Curve Reference'!#REF!,IF($O$6=\"Coastal Plain\",'Forage Growth Curve Reference'!$A$41:$Q$72,IF($O$6=\"Piedmont\",'Forage Growth Curve Reference'!$A$4:$Q$35,'Forage Growth Curve Reference'!$A$4:$Q$35))),10,FALSE),\"\")","v":""},{"$f":"IF(AND(OR($J14<>\"\",$K14<>\"\"),$M14<>\"\"),$W14*VLOOKUP($D14,IF($O$6=\"Western Mountains\",'Forage Growth Curve Reference'!#REF!,IF($O$6=\"Coastal Plain\",'Forage Growth Curve Reference'!$A$41:$Q$72,IF($O$6=\"Piedmont\",'Forage Growth Curve Reference'!$A$4:$Q$35,'Forage Growth Curve Reference'!$A$4:$Q$35))),11,FALSE),\"\")","v":""},{"$f":"IF(AND(OR($J14<>\"\",$K14<>\"\"),$M14<>\"\"),$W14*VLOOKUP($D14,IF($O$6=\"Western Mountains\",'Forage Growth Curve Reference'!#REF!,IF($O$6=\"Coastal Plain\",'Forage Growth Curve Reference'!$A$41:$Q$72,IF($O$6=\"Piedmont\",'Forage Growth Curve Reference'!$A$4:$Q$35,'Forage Growth Curve Reference'!$A$4:$Q$35))),12,FALSE),\"\")","v":""},{"$f":"IF(AND(OR($J14<>\"\",$K14<>\"\"),$M14<>\"\"),$W14*VLOOKUP($D14,IF($O$6=\"Western Mountains\",'Forage Growth Curve Reference'!#REF!,IF($O$6=\"Coastal Plain\",'Forage Growth Curve Reference'!$A$41:$Q$72,IF($O$6=\"Piedmont\",'Forage Growth Curve Reference'!$A$4:$Q$35,'Forage Growth Curve Reference'!$A$4:$Q$35))),13,FALSE),\"\")","v":""},{"$f":"IF(AND(OR($J14<>\"\",$K14<>\"\"),$M14<>\"\"),$W14*VLOOKUP($D14,IF($O$6=\"Western Mountains\",'Forage Growth Curve Reference'!#REF!,IF($O$6=\"Coastal Plain\",'Forage Growth Curve Reference'!$A$41:$Q$72,IF($O$6=\"Piedmont\",'Forage Growth Curve Reference'!$A$4:$Q$35,'Forage Growth Curve Reference'!$A$4:$Q$35))),14,FALSE),\"\")","v":""},{"$f":"IF(AND(OR($J14<>\"\",$K14<>\"\"),$M14<>\"\"),$W14*VLOOKUP($D14,IF($O$6=\"Western Mountains\",'Forage Growth Curve Reference'!#REF!,IF($O$6=\"Coastal Plain\",'Forage Growth Curve Reference'!$A$41:$Q$72,IF($O$6=\"Piedmont\",'Forage Growth Curve Reference'!$A$4:$Q$35,'Forage Growth Curve Reference'!$A$4:$Q$35))),15,FALSE),\"\")","v":""},{"$f":"IF(AND(OR($J14<>\"\",$K14<>\"\"),$M14<>\"\"),$W14*VLOOKUP($D14,IF($O$6=\"Western Mountains\",'Forage Growth Curve Reference'!#REF!,IF($O$6=\"Coastal Plain\",'Forage Growth Curve Reference'!$A$41:$Q$72,IF($O$6=\"Piedmont\",'Forage Growth Curve Reference'!$A$4:$Q$35,'Forage Growth Curve Reference'!$A$4:$Q$35))),16,FALSE),\"\")","v":""},{"$f":"IF(AND(OR($J14<>\"\",$K14<>\"\"),$M14<>\"\"),$W14*VLOOKUP($D14,IF($O$6=\"Western Mountains\",'Forage Growth Curve Reference'!#REF!,IF($O$6=\"Coastal Plain\",'Forage Growth Curve Reference'!$A$41:$Q$72,IF($O$6=\"Piedmont\",'Forage Growth Curve Reference'!$A$4:$Q$35,'Forage Growth Curve Reference'!$A$4:$Q$35))),17,FALSE),\"\")","v":""}]
[null,null,15,{"$f":"IF(AND(OR($J15<>\"\",$K15<>\"\"),$M15<>\"\"),$W15*VLOOKUP($D15,IF($O$6=\"Western Mountains\",'Forage Growth Curve Reference'!#REF!,IF($O$6=\"Coastal Plain\",'Forage Growth Curve Reference'!$A$41:$Q$72,IF($O$6=\"Piedmont\",'Forage Growth Curve Reference'!$A$4:$Q$35,'Forage Growth Curve Reference'!$A$4:$Q$35))),6,FALSE),\"\")","v":""},{"$f":"IF(AND(OR($J15<>\"\",$K15<>\"\"),$M15<>\"\"),$W15*VLOOKUP($D15,IF($O$6=\"Western Mountains\",'Forage Growth Curve Reference'!#REF!,IF($O$6=\"Coastal Plain\",'Forage Growth Curve Reference'!$A$41:$Q$72,IF($O$6=\"Piedmont\",'Forage Growth Curve Reference'!$A$4:$Q$35,'Forage Growth Curve Reference'!$A$4:$Q$35))),7,FALSE),\"\")","v":""},{"$f":"IF(AND(OR($J15<>\"\",$K15<>\"\"),$M15<>\"\"),$W15*VLOOKUP($D15,IF($O$6=\"Western Mountains\",'Forage Growth Curve Reference'!#REF!,IF($O$6=\"Coastal Plain\",'Forage Growth Curve Reference'!$A$41:$Q$72,IF($O$6=\"Piedmont\",'Forage Growth Curve Reference'!$A$4:$Q$35,'Forage Growth Curve Reference'!$A$4:$Q$35))),8,FALSE),\"\")","v":""},{"$f":"IF(AND(OR($J15<>\"\",$K15<>\"\"),$M15<>\"\"),$W15*VLOOKUP($D15,IF($O$6=\"Western Mountains\",'Forage Growth Curve Reference'!#REF!,IF($O$6=\"Coastal Plain\",'Forage Growth Curve Reference'!$A$41:$Q$72,IF($O$6=\"Piedmont\",'Forage Growth Curve Reference'!$A$4:$Q$35,'Forage Growth Curve Reference'!$A$4:$Q$35))),9,FALSE),\"\")","v":""},{"$f":"IF(AND(OR($J15<>\"\",$K15<>\"\"),$M15<>\"\"),$W15*VLOOKUP($D15,IF($O$6=\"Western Mountains\",'Forage Growth Curve Reference'!#REF!,IF($O$6=\"Coastal Plain\",'Forage Growth Curve Reference'!$A$41:$Q$72,IF($O$6=\"Piedmont\",'Forage Growth Curve Reference'!$A$4:$Q$35,'Forage Growth Curve Reference'!$A$4:$Q$35))),10,FALSE),\"\")","v":""},{"$f":"IF(AND(OR($J15<>\"\",$K15<>\"\"),$M15<>\"\"),$W15*VLOOKUP($D15,IF($O$6=\"Western Mountains\",'Forage Growth Curve Reference'!#REF!,IF($O$6=\"Coastal Plain\",'Forage Growth Curve Reference'!$A$41:$Q$72,IF($O$6=\"Piedmont\",'Forage Growth Curve Reference'!$A$4:$Q$35,'Forage Growth Curve Reference'!$A$4:$Q$35))),11,FALSE),\"\")","v":""},{"$f":"IF(AND(OR($J15<>\"\",$K15<>\"\"),$M15<>\"\"),$W15*VLOOKUP($D15,IF($O$6=\"Western Mountains\",'Forage Growth Curve Reference'!#REF!,IF($O$6=\"Coastal Plain\",'Forage Growth Curve Reference'!$A$41:$Q$72,IF($O$6=\"Piedmont\",'Forage Growth Curve Reference'!$A$4:$Q$35,'Forage Growth Curve Reference'!$A$4:$Q$35))),12,FALSE),\"\")","v":""},{"$f":"IF(AND(OR($J15<>\"\",$K15<>\"\"),$M15<>\"\"),$W15*VLOOKUP($D15,IF($O$6=\"Western Mountains\",'Forage Growth Curve Reference'!#REF!,IF($O$6=\"Coastal Plain\",'Forage Growth Curve Reference'!$A$41:$Q$72,IF($O$6=\"Piedmont\",'Forage Growth Curve Reference'!$A$4:$Q$35,'Forage Growth Curve Reference'!$A$4:$Q$35))),13,FALSE),\"\")","v":""},{"$f":"IF(AND(OR($J15<>\"\",$K15<>\"\"),$M15<>\"\"),$W15*VLOOKUP($D15,IF($O$6=\"Western Mountains\",'Forage Growth Curve Reference'!#REF!,IF($O$6=\"Coastal Plain\",'Forage Growth Curve Reference'!$A$41:$Q$72,IF($O$6=\"Piedmont\",'Forage Growth Curve Reference'!$A$4:$Q$35,'Forage Growth Curve Reference'!$A$4:$Q$35))),14,FALSE),\"\")","v":""},{"$f":"IF(AND(OR($J15<>\"\",$K15<>\"\"),$M15<>\"\"),$W15*VLOOKUP($D15,IF($O$6=\"Western Mountains\",'Forage Growth Curve Reference'!#REF!,IF($O$6=\"Coastal Plain\",'Forage Growth Curve Reference'!$A$41:$Q$72,IF($O$6=\"Piedmont\",'Forage Growth Curve Reference'!$A$4:$Q$35,'Forage Growth Curve Reference'!$A$4:$Q$35))),15,FALSE),\"\")","v":""},{"$f":"IF(AND(OR($J15<>\"\",$K15<>\"\"),$M15<>\"\"),$W15*VLOOKUP($D15,IF($O$6=\"Western Mountains\",'Forage Growth Curve Reference'!#REF!,IF($O$6=\"Coastal Plain\",'Forage Growth Curve Reference'!$A$41:$Q$72,IF($O$6=\"Piedmont\",'Forage Growth Curve Reference'!$A$4:$Q$35,'Forage Growth Curve Reference'!$A$4:$Q$35))),16,FALSE),\"\")","v":""},{"$f":"IF(AND(OR($J15<>\"\",$K15<>\"\"),$M15<>\"\"),$W15*VLOOKUP($D15,IF($O$6=\"Western Mountains\",'Forage Growth Curve Reference'!#REF!,IF($O$6=\"Coastal Plain\",'Forage Growth Curve Reference'!$A$41:$Q$72,IF($O$6=\"Piedmont\",'Forage Growth Curve Reference'!$A$4:$Q$35,'Forage Growth Curve Reference'!$A$4:$Q$35))),17,FALSE),\"\")","v":""}]
[null,null,16,{"$f":"IF(AND(OR($J16<>\"\",$K16<>\"\"),$M16<>\"\"),$W16*VLOOKUP($D16,IF($O$6=\"Western Mountains\",'Forage Growth Curve Reference'!#REF!,IF($O$6=\"Coastal Plain\",'Forage Growth Curve Reference'!$A$41:$Q$72,IF($O$6=\"Piedmont\",'Forage Growth Curve Reference'!$A$4:$Q$35,'Forage Growth Curve Reference'!$A$4:$Q$35))),6,FALSE),\"\")","v":""},{"$f":"IF(AND(OR($J16<>\"\",$K16<>\"\"),$M16<>\"\"),$W16*VLOOKUP($D16,IF($O$6=\"Western Mountains\",'Forage Growth Curve Reference'!#REF!,IF($O$6=\"Coastal Plain\",'Forage Growth Curve Reference'!$A$41:$Q$72,IF($O$6=\"Piedmont\",'Forage Growth Curve Reference'!$A$4:$Q$35,'Forage Growth Curve Reference'!$A$4:$Q$35))),7,FALSE),\"\")","v":""},{"$f":"IF(AND(OR($J16<>\"\",$K16<>\"\"),$M16<>\"\"),$W16*VLOOKUP($D16,IF($O$6=\"Western Mountains\",'Forage Growth Curve Reference'!#REF!,IF($O$6=\"Coastal Plain\",'Forage Growth Curve Reference'!$A$41:$Q$72,IF($O$6=\"Piedmont\",'Forage Growth Curve Reference'!$A$4:$Q$35,'Forage Growth Curve Reference'!$A$4:$Q$35))),8,FALSE),\"\")","v":""},{"$f":"IF(AND(OR($J16<>\"\",$K16<>\"\"),$M16<>\"\"),$W16*VLOOKUP($D16,IF($O$6=\"Western Mountains\",'Forage Growth Curve Reference'!#REF!,IF($O$6=\"Coastal Plain\",'Forage Growth Curve Reference'!$A$41:$Q$72,IF($O$6=\"Piedmont\",'Forage Growth Curve Reference'!$A$4:$Q$35,'Forage Growth Curve Reference'!$A$4:$Q$35))),9,FALSE),\"\")","v":""},{"$f":"IF(AND(OR($J16<>\"\",$K16<>\"\"),$M16<>\"\"),$W16*VLOOKUP($D16,IF($O$6=\"Western Mountains\",'Forage Growth Curve Reference'!#REF!,IF($O$6=\"Coastal Plain\",'Forage Growth Curve Reference'!$A$41:$Q$72,IF($O$6=\"Piedmont\",'Forage Growth Curve Reference'!$A$4:$Q$35,'Forage Growth Curve Reference'!$A$4:$Q$35))),10,FALSE),\"\")","v":""},{"$f":"IF(AND(OR($J16<>\"\",$K16<>\"\"),$M16<>\"\"),$W16*VLOOKUP($D16,IF($O$6=\"Western Mountains\",'Forage Growth Curve Reference'!#REF!,IF($O$6=\"Coastal Plain\",'Forage Growth Curve Reference'!$A$41:$Q$72,IF($O$6=\"Piedmont\",'Forage Growth Curve Reference'!$A$4:$Q$35,'Forage Growth Curve Reference'!$A$4:$Q$35))),11,FALSE),\"\")","v":""},{"$f":"IF(AND(OR($J16<>\"\",$K16<>\"\"),$M16<>\"\"),$W16*VLOOKUP($D16,IF($O$6=\"Western Mountains\",'Forage Growth Curve Reference'!#REF!,IF($O$6=\"Coastal Plain\",'Forage Growth Curve Reference'!$A$41:$Q$72,IF($O$6=\"Piedmont\",'Forage Growth Curve Reference'!$A$4:$Q$35,'Forage Growth Curve Reference'!$A$4:$Q$35))),12,FALSE),\"\")","v":""},{"$f":"IF(AND(OR($J16<>\"\",$K16<>\"\"),$M16<>\"\"),$W16*VLOOKUP($D16,IF($O$6=\"Western Mountains\",'Forage Growth Curve Reference'!#REF!,IF($O$6=\"Coastal Plain\",'Forage Growth Curve Reference'!$A$41:$Q$72,IF($O$6=\"Piedmont\",'Forage Growth Curve Reference'!$A$4:$Q$35,'Forage Growth Curve Reference'!$A$4:$Q$35))),13,FALSE),\"\")","v":""},{"$f":"IF(AND(OR($J16<>\"\",$K16<>\"\"),$M16<>\"\"),$W16*VLOOKUP($D16,IF($O$6=\"Western Mountains\",'Forage Growth Curve Reference'!#REF!,IF($O$6=\"Coastal Plain\",'Forage Growth Curve Reference'!$A$41:$Q$72,IF($O$6=\"Piedmont\",'Forage Growth Curve Reference'!$A$4:$Q$35,'Forage Growth Curve Reference'!$A$4:$Q$35))),14,FALSE),\"\")","v":""},{"$f":"IF(AND(OR($J16<>\"\",$K16<>\"\"),$M16<>\"\"),$W16*VLOOKUP($D16,IF($O$6=\"Western Mountains\",'Forage Growth Curve Reference'!#REF!,IF($O$6=\"Coastal Plain\",'Forage Growth Curve Reference'!$A$41:$Q$72,IF($O$6=\"Piedmont\",'Forage Growth Curve Reference'!$A$4:$Q$35,'Forage Growth Curve Reference'!$A$4:$Q$35))),15,FALSE),\"\")","v":""},{"$f":"IF(AND(OR($J16<>\"\",$K16<>\"\"),$M16<>\"\"),$W16*VLOOKUP($D16,IF($O$6=\"Western Mountains\",'Forage Growth Curve Reference'!#REF!,IF($O$6=\"Coastal Plain\",'Forage Growth Curve Reference'!$A$41:$Q$72,IF($O$6=\"Piedmont\",'Forage Growth Curve Reference'!$A$4:$Q$35,'Forage Growth Curve Reference'!$A$4:$Q$35))),16,FALSE),\"\")","v":""},{"$f":"IF(AND(OR($J16<>\"\",$K16<>\"\"),$M16<>\"\"),$W16*VLOOKUP($D16,IF($O$6=\"Western Mountains\",'Forage Growth Curve Reference'!#REF!,IF($O$6=\"Coastal Plain\",'Forage Growth Curve Reference'!$A$41:$Q$72,IF($O$6=\"Piedmont\",'Forage Growth Curve Reference'!$A$4:$Q$35,'Forage Growth Curve Reference'!$A$4:$Q$35))),17,FALSE),\"\")","v":""}]
[null,null,17,{"$f":"IF(AND(OR($J17<>\"\",$K17<>\"\"),$M17<>\"\"),$W17*VLOOKUP($D17,IF($O$6=\"Western Mountains\",'Forage Growth Curve Reference'!#REF!,IF($O$6=\"Coastal Plain\",'Forage Growth Curve Reference'!$A$41:$Q$72,IF($O$6=\"Piedmont\",'Forage Growth Curve Reference'!$A$4:$Q$35,'Forage Growth Curve Reference'!$A$4:$Q$35))),6,FALSE),\"\")","v":""},{"$f":"IF(AND(OR($J17<>\"\",$K17<>\"\"),$M17<>\"\"),$W17*VLOOKUP($D17,IF($O$6=\"Western Mountains\",'Forage Growth Curve Reference'!#REF!,IF($O$6=\"Coastal Plain\",'Forage Growth Curve Reference'!$A$41:$Q$72,IF($O$6=\"Piedmont\",'Forage Growth Curve Reference'!$A$4:$Q$35,'Forage Growth Curve Reference'!$A$4:$Q$35))),7,FALSE),\"\")","v":""},{"$f":"IF(AND(OR($J17<>\"\",$K17<>\"\"),$M17<>\"\"),$W17*VLOOKUP($D17,IF($O$6=\"Western Mountains\",'Forage Growth Curve Reference'!#REF!,IF($O$6=\"Coastal Plain\",'Forage Growth Curve Reference'!$A$41:$Q$72,IF($O$6=\"Piedmont\",'Forage Growth Curve Reference'!$A$4:$Q$35,'Forage Growth Curve Reference'!$A$4:$Q$35))),8,FALSE),\"\")","v":""},{"$f":"IF(AND(OR($J17<>\"\",$K17<>\"\"),$M17<>\"\"),$W17*VLOOKUP($D17,IF($O$6=\"Western Mountains\",'Forage Growth Curve Reference'!#REF!,IF($O$6=\"Coastal Plain\",'Forage Growth Curve Reference'!$A$41:$Q$72,IF($O$6=\"Piedmont\",'Forage Growth Curve Reference'!$A$4:$Q$35,'Forage Growth Curve Reference'!$A$4:$Q$35))),9,FALSE),\"\")","v":""},{"$f":"IF(AND(OR($J17<>\"\",$K17<>\"\"),$M17<>\"\"),$W17*VLOOKUP($D17,IF($O$6=\"Western Mountains\",'Forage Growth Curve Reference'!#REF!,IF($O$6=\"Coastal Plain\",'Forage Growth Curve Reference'!$A$41:$Q$72,IF($O$6=\"Piedmont\",'Forage Growth Curve Reference'!$A$4:$Q$35,'Forage Growth Curve Reference'!$A$4:$Q$35))),10,FALSE),\"\")","v":""},{"$f":"IF(AND(OR($J17<>\"\",$K17<>\"\"),$M17<>\"\"),$W17*VLOOKUP($D17,IF($O$6=\"Western Mountains\",'Forage Growth Curve Reference'!#REF!,IF($O$6=\"Coastal Plain\",'Forage Growth Curve Reference'!$A$41:$Q$72,IF($O$6=\"Piedmont\",'Forage Growth Curve Reference'!$A$4:$Q$35,'Forage Growth Curve Reference'!$A$4:$Q$35))),11,FALSE),\"\")","v":""},{"$f":"IF(AND(OR($J17<>\"\",$K17<>\"\"),$M17<>\"\"),$W17*VLOOKUP($D17,IF($O$6=\"Western Mountains\",'Forage Growth Curve Reference'!#REF!,IF($O$6=\"Coastal Plain\",'Forage Growth Curve Reference'!$A$41:$Q$72,IF($O$6=\"Piedmont\",'Forage Growth Curve Reference'!$A$4:$Q$35,'Forage Growth Curve Reference'!$A$4:$Q$35))),12,FALSE),\"\")","v":""},{"$f":"IF(AND(OR($J17<>\"\",$K17<>\"\"),$M17<>\"\"),$W17*VLOOKUP($D17,IF($O$6=\"Western Mountains\",'Forage Growth Curve Reference'!#REF!,IF($O$6=\"Coastal Plain\",'Forage Growth Curve Reference'!$A$41:$Q$72,IF($O$6=\"Piedmont\",'Forage Growth Curve Reference'!$A$4:$Q$35,'Forage Growth Curve Reference'!$A$4:$Q$35))),13,FALSE),\"\")","v":""},{"$f":"IF(AND(OR($J17<>\"\",$K17<>\"\"),$M17<>\"\"),$W17*VLOOKUP($D17,IF($O$6=\"Western Mountains\",'Forage Growth Curve Reference'!#REF!,IF($O$6=\"Coastal Plain\",'Forage Growth Curve Reference'!$A$41:$Q$72,IF($O$6=\"Piedmont\",'Forage Growth Curve Reference'!$A$4:$Q$35,'Forage Growth Curve Reference'!$A$4:$Q$35))),14,FALSE),\"\")","v":""},{"$f":"IF(AND(OR($J17<>\"\",$K17<>\"\"),$M17<>\"\"),$W17*VLOOKUP($D17,IF($O$6=\"Western Mountains\",'Forage Growth Curve Reference'!#REF!,IF($O$6=\"Coastal Plain\",'Forage Growth Curve Reference'!$A$41:$Q$72,IF($O$6=\"Piedmont\",'Forage Growth Curve Reference'!$A$4:$Q$35,'Forage Growth Curve Reference'!$A$4:$Q$35))),15,FALSE),\"\")","v":""},{"$f":"IF(AND(OR($J17<>\"\",$K17<>\"\"),$M17<>\"\"),$W17*VLOOKUP($D17,IF($O$6=\"Western Mountains\",'Forage Growth Curve Reference'!#REF!,IF($O$6=\"Coastal Plain\",'Forage Growth Curve Reference'!$A$41:$Q$72,IF($O$6=\"Piedmont\",'Forage Growth Curve Reference'!$A$4:$Q$35,'Forage Growth Curve Reference'!$A$4:$Q$35))),16,FALSE),\"\")","v":""},{"$f":"IF(AND(OR($J17<>\"\",$K17<>\"\"),$M17<>\"\"),$W17*VLOOKUP($D17,IF($O$6=\"Western Mountains\",'Forage Growth Curve Reference'!#REF!,IF($O$6=\"Coastal Plain\",'Forage Growth Curve Reference'!$A$41:$Q$72,IF($O$6=\"Piedmont\",'Forage Growth Curve Reference'!$A$4:$Q$35,'Forage Growth Curve Reference'!$A$4:$Q$35))),17,FALSE),\"\")","v":""}]
[null,null,18,{"$f":"IF(AND(OR($J18<>\"\",$K18<>\"\"),$M18<>\"\"),$W18*VLOOKUP($D18,IF($O$6=\"Western Mountains\",'Forage Growth Curve Reference'!#REF!,IF($O$6=\"Coastal Plain\",'Forage Growth Curve Reference'!$A$41:$Q$72,IF($O$6=\"Piedmont\",'Forage Growth Curve Reference'!$A$4:$Q$35,'Forage Growth Curve Reference'!$A$4:$Q$35))),6,FALSE),\"\")","v":""},{"$f":"IF(AND(OR($J18<>\"\",$K18<>\"\"),$M18<>\"\"),$W18*VLOOKUP($D18,IF($O$6=\"Western Mountains\",'Forage Growth Curve Reference'!#REF!,IF($O$6=\"Coastal Plain\",'Forage Growth Curve Reference'!$A$41:$Q$72,IF($O$6=\"Piedmont\",'Forage Growth Curve Reference'!$A$4:$Q$35,'Forage Growth Curve Reference'!$A$4:$Q$35))),7,FALSE),\"\")","v":""},{"$f":"IF(AND(OR($J18<>\"\",$K18<>\"\"),$M18<>\"\"),$W18*VLOOKUP($D18,IF($O$6=\"Western Mountains\",'Forage Growth Curve Reference'!#REF!,IF($O$6=\"Coastal Plain\",'Forage Growth Curve Reference'!$A$41:$Q$72,IF($O$6=\"Piedmont\",'Forage Growth Curve Reference'!$A$4:$Q$35,'Forage Growth Curve Reference'!$A$4:$Q$35))),8,FALSE),\"\")","v":""},{"$f":"IF(AND(OR($J18<>\"\",$K18<>\"\"),$M18<>\"\"),$W18*VLOOKUP($D18,IF($O$6=\"Western Mountains\",'Forage Growth Curve Reference'!#REF!,IF($O$6=\"Coastal Plain\",'Forage Growth Curve Reference'!$A$41:$Q$72,IF($O$6=\"Piedmont\",'Forage Growth Curve Reference'!$A$4:$Q$35,'Forage Growth Curve Reference'!$A$4:$Q$35))),9,FALSE),\"\")","v":""},{"$f":"IF(AND(OR($J18<>\"\",$K18<>\"\"),$M18<>\"\"),$W18*VLOOKUP($D18,IF($O$6=\"Western Mountains\",'Forage Growth Curve Reference'!#REF!,IF($O$6=\"Coastal Plain\",'Forage Growth Curve Reference'!$A$41:$Q$72,IF($O$6=\"Piedmont\",'Forage Growth Curve Reference'!$A$4:$Q$35,'Forage Growth Curve Reference'!$A$4:$Q$35))),10,FALSE),\"\")","v":""},{"$f":"IF(AND(OR($J18<>\"\",$K18<>\"\"),$M18<>\"\"),$W18*VLOOKUP($D18,IF($O$6=\"Western Mountains\",'Forage Growth Curve Reference'!#REF!,IF($O$6=\"Coastal Plain\",'Forage Growth Curve Reference'!$A$41:$Q$72,IF($O$6=\"Piedmont\",'Forage Growth Curve Reference'!$A$4:$Q$35,'Forage Growth Curve Reference'!$A$4:$Q$35))),11,FALSE),\"\")","v":""},{"$f":"IF(AND(OR($J18<>\"\",$K18<>\"\"),$M18<>\"\"),$W18*VLOOKUP($D18,IF($O$6=\"Western Mountains\",'Forage Growth Curve Reference'!#REF!,IF($O$6=\"Coastal Plain\",'Forage Growth Curve Reference'!$A$41:$Q$72,IF($O$6=\"Piedmont\",'Forage Growth Curve Reference'!$A$4:$Q$35,'Forage Growth Curve Reference'!$A$4:$Q$35))),12,FALSE),\"\")","v":""},{"$f":"IF(AND(OR($J18<>\"\",$K18<>\"\"),$M18<>\"\"),$W18*VLOOKUP($D18,IF($O$6=\"Western Mountains\",'Forage Growth Curve Reference'!#REF!,IF($O$6=\"Coastal Plain\",'Forage Growth Curve Reference'!$A$41:$Q$72,IF($O$6=\"Piedmont\",'Forage Growth Curve Reference'!$A$4:$Q$35,'Forage Growth Curve Reference'!$A$4:$Q$35))),13,FALSE),\"\")","v":""},{"$f":"IF(AND(OR($J18<>\"\",$K18<>\"\"),$M18<>\"\"),$W18*VLOOKUP($D18,IF($O$6=\"Western Mountains\",'Forage Growth Curve Reference'!#REF!,IF($O$6=\"Coastal Plain\",'Forage Growth Curve Reference'!$A$41:$Q$72,IF($O$6=\"Piedmont\",'Forage Growth Curve Reference'!$A$4:$Q$35,'Forage Growth Curve Reference'!$A$4:$Q$35))),14,FALSE),\"\")","v":""},{"$f":"IF(AND(OR($J18<>\"\",$K18<>\"\"),$M18<>\"\"),$W18*VLOOKUP($D18,IF($O$6=\"Western Mountains\",'Forage Growth Curve Reference'!#REF!,IF($O$6=\"Coastal Plain\",'Forage Growth Curve Reference'!$A$41:$Q$72,IF($O$6=\"Piedmont\",'Forage Growth Curve Reference'!$A$4:$Q$35,'Forage Growth Curve Reference'!$A$4:$Q$35))),15,FALSE),\"\")","v":""},{"$f":"IF(AND(OR($J18<>\"\",$K18<>\"\"),$M18<>\"\"),$W18*VLOOKUP($D18,IF($O$6=\"Western Mountains\",'Forage Growth Curve Reference'!#REF!,IF($O$6=\"Coastal Plain\",'Forage Growth Curve Reference'!$A$41:$Q$72,IF($O$6=\"Piedmont\",'Forage Growth Curve Reference'!$A$4:$Q$35,'Forage Growth Curve Reference'!$A$4:$Q$35))),16,FALSE),\"\")","v":""},{"$f":"IF(AND(OR($J18<>\"\",$K18<>\"\"),$M18<>\"\"),$W18*VLOOKUP($D18,IF($O$6=\"Western Mountains\",'Forage Growth Curve Reference'!#REF!,IF($O$6=\"Coastal Plain\",'Forage Growth Curve Reference'!$A$41:$Q$72,IF($O$6=\"Piedmont\",'Forage Growth Curve Reference'!$A$4:$Q$35,'Forage Growth Curve Reference'!$A$4:$Q$35))),17,FALSE),\"\")","v":""}]
[null,null,19,{"$f":"IF(AND(OR($J19<>\"\",$K19<>\"\"),$M19<>\"\"),$W19*VLOOKUP($D19,IF($O$6=\"Western Mountains\",'Forage Growth Curve Reference'!#REF!,IF($O$6=\"Coastal Plain\",'Forage Growth Curve Reference'!$A$41:$Q$72,IF($O$6=\"Piedmont\",'Forage Growth Curve Reference'!$A$4:$Q$35,'Forage Growth Curve Reference'!$A$4:$Q$35))),6,FALSE),\"\")","v":""},{"$f":"IF(AND(OR($J19<>\"\",$K19<>\"\"),$M19<>\"\"),$W19*VLOOKUP($D19,IF($O$6=\"Western Mountains\",'Forage Growth Curve Reference'!#REF!,IF($O$6=\"Coastal Plain\",'Forage Growth Curve Reference'!$A$41:$Q$72,IF($O$6=\"Piedmont\",'Forage Growth Curve Reference'!$A$4:$Q$35,'Forage Growth Curve Reference'!$A$4:$Q$35))),7,FALSE),\"\")","v":""},{"$f":"IF(AND(OR($J19<>\"\",$K19<>\"\"),$M19<>\"\"),$W19*VLOOKUP($D19,IF($O$6=\"Western Mountains\",'Forage Growth Curve Reference'!#REF!,IF($O$6=\"Coastal Plain\",'Forage Growth Curve Reference'!$A$41:$Q$72,IF($O$6=\"Piedmont\",'Forage Growth Curve Reference'!$A$4:$Q$35,'Forage Growth Curve Reference'!$A$4:$Q$35))),8,FALSE),\"\")","v":""},{"$f":"IF(AND(OR($J19<>\"\",$K19<>\"\"),$M19<>\"\"),$W19*VLOOKUP($D19,IF($O$6=\"Western Mountains\",'Forage Growth Curve Reference'!#REF!,IF($O$6=\"Coastal Plain\",'Forage Growth Curve Reference'!$A$41:$Q$72,IF($O$6=\"Piedmont\",'Forage Growth Curve Reference'!$A$4:$Q$35,'Forage Growth Curve Reference'!$A$4:$Q$35))),9,FALSE),\"\")","v":""},{"$f":"IF(AND(OR($J19<>\"\",$K19<>\"\"),$M19<>\"\"),$W19*VLOOKUP($D19,IF($O$6=\"Western Mountains\",'Forage Growth Curve Reference'!#REF!,IF($O$6=\"Coastal Plain\",'Forage Growth Curve Reference'!$A$41:$Q$72,IF($O$6=\"Piedmont\",'Forage Growth Curve Reference'!$A$4:$Q$35,'Forage Growth Curve Reference'!$A$4:$Q$35))),10,FALSE),\"\")","v":""},{"$f":"IF(AND(OR($J19<>\"\",$K19<>\"\"),$M19<>\"\"),$W19*VLOOKUP($D19,IF($O$6=\"Western Mountains\",'Forage Growth Curve Reference'!#REF!,IF($O$6=\"Coastal Plain\",'Forage Growth Curve Reference'!$A$41:$Q$72,IF($O$6=\"Piedmont\",'Forage Growth Curve Reference'!$A$4:$Q$35,'Forage Growth Curve Reference'!$A$4:$Q$35))),11,FALSE),\"\")","v":""},{"$f":"IF(AND(OR($J19<>\"\",$K19<>\"\"),$M19<>\"\"),$W19*VLOOKUP($D19,IF($O$6=\"Western Mountains\",'Forage Growth Curve Reference'!#REF!,IF($O$6=\"Coastal Plain\",'Forage Growth Curve Reference'!$A$41:$Q$72,IF($O$6=\"Piedmont\",'Forage Growth Curve Reference'!$A$4:$Q$35,'Forage Growth Curve Reference'!$A$4:$Q$35))),12,FALSE),\"\")","v":""},{"$f":"IF(AND(OR($J19<>\"\",$K19<>\"\"),$M19<>\"\"),$W19*VLOOKUP($D19,IF($O$6=\"Western Mountains\",'Forage Growth Curve Reference'!#REF!,IF($O$6=\"Coastal Plain\",'Forage Growth Curve Reference'!$A$41:$Q$72,IF($O$6=\"Piedmont\",'Forage Growth Curve Reference'!$A$4:$Q$35,'Forage Growth Curve Reference'!$A$4:$Q$35))),13,FALSE),\"\")","v":""},{"$f":"IF(AND(OR($J19<>\"\",$K19<>\"\"),$M19<>\"\"),$W19*VLOOKUP($D19,IF($O$6=\"Western Mountains\",'Forage Growth Curve Reference'!#REF!,IF($O$6=\"Coastal Plain\",'Forage Growth Curve Reference'!$A$41:$Q$72,IF($O$6=\"Piedmont\",'Forage Growth Curve Reference'!$A$4:$Q$35,'Forage Growth Curve Reference'!$A$4:$Q$35))),14,FALSE),\"\")","v":""},{"$f":"IF(AND(OR($J19<>\"\",$K19<>\"\"),$M19<>\"\"),$W19*VLOOKUP($D19,IF($O$6=\"Western Mountains\",'Forage Growth Curve Reference'!#REF!,IF($O$6=\"Coastal Plain\",'Forage Growth Curve Reference'!$A$41:$Q$72,IF($O$6=\"Piedmont\",'Forage Growth Curve Reference'!$A$4:$Q$35,'Forage Growth Curve Reference'!$A$4:$Q$35))),15,FALSE),\"\")","v":""},{"$f":"IF(AND(OR($J19<>\"\",$K19<>\"\"),$M19<>\"\"),$W19*VLOOKUP($D19,IF($O$6=\"Western Mountains\",'Forage Growth Curve Reference'!#REF!,IF($O$6=\"Coastal Plain\",'Forage Growth Curve Reference'!$A$41:$Q$72,IF($O$6=\"Piedmont\",'Forage Growth Curve Reference'!$A$4:$Q$35,'Forage Growth Curve Reference'!$A$4:$Q$35))),16,FALSE),\"\")","v":""},{"$f":"IF(AND(OR($J19<>\"\",$K19<>\"\"),$M19<>\"\"),$W19*VLOOKUP($D19,IF($O$6=\"Western Mountains\",'Forage Growth Curve Reference'!#REF!,IF($O$6=\"Coastal Plain\",'Forage Growth Curve Reference'!$A$41:$Q$72,IF($O$6=\"Piedmont\",'Forage Growth Curve Reference'!$A$4:$Q$35,'Forage Growth Curve Reference'!$A$4:$Q$35))),17,FALSE),\"\")","v":""}]
[null,null,20,{"$f":"IF(AND(OR($J20<>\"\",$K20<>\"\"),$M20<>\"\"),$W20*VLOOKUP($D20,IF($O$6=\"Western Mountains\",'Forage Growth Curve Reference'!#REF!,IF($O$6=\"Coastal Plain\",'Forage Growth Curve Reference'!$A$41:$Q$72,IF($O$6=\"Piedmont\",'Forage Growth Curve Reference'!$A$4:$Q$35,'Forage Growth Curve Reference'!$A$4:$Q$35))),6,FALSE),\"\")","v":""},{"$f":"IF(AND(OR($J20<>\"\",$K20<>\"\"),$M20<>\"\"),$W20*VLOOKUP($D20,IF($O$6=\"Western Mountains\",'Forage Growth Curve Reference'!#REF!,IF($O$6=\"Coastal Plain\",'Forage Growth Curve Reference'!$A$41:$Q$72,IF($O$6=\"Piedmont\",'Forage Growth Curve Reference'!$A$4:$Q$35,'Forage Growth Curve Reference'!$A$4:$Q$35))),7,FALSE),\"\")","v":""},{"$f":"IF(AND(OR($J20<>\"\",$K20<>\"\"),$M20<>\"\"),$W20*VLOOKUP($D20,IF($O$6=\"Western Mountains\",'Forage Growth Curve Reference'!#REF!,IF($O$6=\"Coastal Plain\",'Forage Growth Curve Reference'!$A$41:$Q$72,IF($O$6=\"Piedmont\",'Forage Growth Curve Reference'!$A$4:$Q$35,'Forage Growth Curve Reference'!$A$4:$Q$35))),8,FALSE),\"\")","v":""},{"$f":"IF(AND(OR($J20<>\"\",$K20<>\"\"),$M20<>\"\"),$W20*VLOOKUP($D20,IF($O$6=\"Western Mountains\",'Forage Growth Curve Reference'!#REF!,IF($O$6=\"Coastal Plain\",'Forage Growth Curve Reference'!$A$41:$Q$72,IF($O$6=\"Piedmont\",'Forage Growth Curve Reference'!$A$4:$Q$35,'Forage Growth Curve Reference'!$A$4:$Q$35))),9,FALSE),\"\")","v":""},{"$f":"IF(AND(OR($J20<>\"\",$K20<>\"\"),$M20<>\"\"),$W20*VLOOKUP($D20,IF($O$6=\"Western Mountains\",'Forage Growth Curve Reference'!#REF!,IF($O$6=\"Coastal Plain\",'Forage Growth Curve Reference'!$A$41:$Q$72,IF($O$6=\"Piedmont\",'Forage Growth Curve Reference'!$A$4:$Q$35,'Forage Growth Curve Reference'!$A$4:$Q$35))),10,FALSE),\"\")","v":""},{"$f":"IF(AND(OR($J20<>\"\",$K20<>\"\"),$M20<>\"\"),$W20*VLOOKUP($D20,IF($O$6=\"Western Mountains\",'Forage Growth Curve Reference'!#REF!,IF($O$6=\"Coastal Plain\",'Forage Growth Curve Reference'!$A$41:$Q$72,IF($O$6=\"Piedmont\",'Forage Growth Curve Reference'!$A$4:$Q$35,'Forage Growth Curve Reference'!$A$4:$Q$35))),11,FALSE),\"\")","v":""},{"$f":"IF(AND(OR($J20<>\"\",$K20<>\"\"),$M20<>\"\"),$W20*VLOOKUP($D20,IF($O$6=\"Western Mountains\",'Forage Growth Curve Reference'!#REF!,IF($O$6=\"Coastal Plain\",'Forage Growth Curve Reference'!$A$41:$Q$72,IF($O$6=\"Piedmont\",'Forage Growth Curve Reference'!$A$4:$Q$35,'Forage Growth Curve Reference'!$A$4:$Q$35))),12,FALSE),\"\")","v":""},{"$f":"IF(AND(OR($J20<>\"\",$K20<>\"\"),$M20<>\"\"),$W20*VLOOKUP($D20,IF($O$6=\"Western Mountains\",'Forage Growth Curve Reference'!#REF!,IF($O$6=\"Coastal Plain\",'Forage Growth Curve Reference'!$A$41:$Q$72,IF($O$6=\"Piedmont\",'Forage Growth Curve Reference'!$A$4:$Q$35,'Forage Growth Curve Reference'!$A$4:$Q$35))),13,FALSE),\"\")","v":""},{"$f":"IF(AND(OR($J20<>\"\",$K20<>\"\"),$M20<>\"\"),$W20*VLOOKUP($D20,IF($O$6=\"Western Mountains\",'Forage Growth Curve Reference'!#REF!,IF($O$6=\"Coastal Plain\",'Forage Growth Curve Reference'!$A$41:$Q$72,IF($O$6=\"Piedmont\",'Forage Growth Curve Reference'!$A$4:$Q$35,'Forage Growth Curve Reference'!$A$4:$Q$35))),14,FALSE),\"\")","v":""},{"$f":"IF(AND(OR($J20<>\"\",$K20<>\"\"),$M20<>\"\"),$W20*VLOOKUP($D20,IF($O$6=\"Western Mountains\",'Forage Growth Curve Reference'!#REF!,IF($O$6=\"Coastal Plain\",'Forage Growth Curve Reference'!$A$41:$Q$72,IF($O$6=\"Piedmont\",'Forage Growth Curve Reference'!$A$4:$Q$35,'Forage Growth Curve Reference'!$A$4:$Q$35))),15,FALSE),\"\")","v":""},{"$f":"IF(AND(OR($J20<>\"\",$K20<>\"\"),$M20<>\"\"),$W20*VLOOKUP($D20,IF($O$6=\"Western Mountains\",'Forage Growth Curve Reference'!#REF!,IF($O$6=\"Coastal Plain\",'Forage Growth Curve Reference'!$A$41:$Q$72,IF($O$6=\"Piedmont\",'Forage Growth Curve Reference'!$A$4:$Q$35,'Forage Growth Curve Reference'!$A$4:$Q$35))),16,FALSE),\"\")","v":""},{"$f":"IF(AND(OR($J20<>\"\",$K20<>\"\"),$M20<>\"\"),$W20*VLOOKUP($D20,IF($O$6=\"Western Mountains\",'Forage Growth Curve Reference'!#REF!,IF($O$6=\"Coastal Plain\",'Forage Growth Curve Reference'!$A$41:$Q$72,IF($O$6=\"Piedmont\",'Forage Growth Curve Reference'!$A$4:$Q$35,'Forage Growth Curve Reference'!$A$4:$Q$35))),17,FALSE),\"\")","v":""}]
[null,null,21,{"$f":"IF(AND(OR($J21<>\"\",$K21<>\"\"),$M21<>\"\"),$W21*VLOOKUP($D21,IF($O$6=\"Western Mountains\",'Forage Growth Curve Reference'!#REF!,IF($O$6=\"Coastal Plain\",'Forage Growth Curve Reference'!$A$41:$Q$72,IF($O$6=\"Piedmont\",'Forage Growth Curve Reference'!$A$4:$Q$35,'Forage Growth Curve Reference'!$A$4:$Q$35))),6,FALSE),\"\")","v":""},{"$f":"IF(AND(OR($J21<>\"\",$K21<>\"\"),$M21<>\"\"),$W21*VLOOKUP($D21,IF($O$6=\"Western Mountains\",'Forage Growth Curve Reference'!#REF!,IF($O$6=\"Coastal Plain\",'Forage Growth Curve Reference'!$A$41:$Q$72,IF($O$6=\"Piedmont\",'Forage Growth Curve Reference'!$A$4:$Q$35,'Forage Growth Curve Reference'!$A$4:$Q$35))),7,FALSE),\"\")","v":""},{"$f":"IF(AND(OR($J21<>\"\",$K21<>\"\"),$M21<>\"\"),$W21*VLOOKUP($D21,IF($O$6=\"Western Mountains\",'Forage Growth Curve Reference'!#REF!,IF($O$6=\"Coastal Plain\",'Forage Growth Curve Reference'!$A$41:$Q$72,IF($O$6=\"Piedmont\",'Forage Growth Curve Reference'!$A$4:$Q$35,'Forage Growth Curve Reference'!$A$4:$Q$35))),8,FALSE),\"\")","v":""},{"$f":"IF(AND(OR($J21<>\"\",$K21<>\"\"),$M21<>\"\"),$W21*VLOOKUP($D21,IF($O$6=\"Western Mountains\",'Forage Growth Curve Reference'!#REF!,IF($O$6=\"Coastal Plain\",'Forage Growth Curve Reference'!$A$41:$Q$72,IF($O$6=\"Piedmont\",'Forage Growth Curve Reference'!$A$4:$Q$35,'Forage Growth Curve Reference'!$A$4:$Q$35))),9,FALSE),\"\")","v":""},{"$f":"IF(AND(OR($J21<>\"\",$K21<>\"\"),$M21<>\"\"),$W21*VLOOKUP($D21,IF($O$6=\"Western Mountains\",'Forage Growth Curve Reference'!#REF!,IF($O$6=\"Coastal Plain\",'Forage Growth Curve Reference'!$A$41:$Q$72,IF($O$6=\"Piedmont\",'Forage Growth Curve Reference'!$A$4:$Q$35,'Forage Growth Curve Reference'!$A$4:$Q$35))),10,FALSE),\"\")","v":""},{"$f":"IF(AND(OR($J21<>\"\",$K21<>\"\"),$M21<>\"\"),$W21*VLOOKUP($D21,IF($O$6=\"Western Mountains\",'Forage Growth Curve Reference'!#REF!,IF($O$6=\"Coastal Plain\",'Forage Growth Curve Reference'!$A$41:$Q$72,IF($O$6=\"Piedmont\",'Forage Growth Curve Reference'!$A$4:$Q$35,'Forage Growth Curve Reference'!$A$4:$Q$35))),11,FALSE),\"\")","v":""},{"$f":"IF(AND(OR($J21<>\"\",$K21<>\"\"),$M21<>\"\"),$W21*VLOOKUP($D21,IF($O$6=\"Western Mountains\",'Forage Growth Curve Reference'!#REF!,IF($O$6=\"Coastal Plain\",'Forage Growth Curve Reference'!$A$41:$Q$72,IF($O$6=\"Piedmont\",'Forage Growth Curve Reference'!$A$4:$Q$35,'Forage Growth Curve Reference'!$A$4:$Q$35))),12,FALSE),\"\")","v":""},{"$f":"IF(AND(OR($J21<>\"\",$K21<>\"\"),$M21<>\"\"),$W21*VLOOKUP($D21,IF($O$6=\"Western Mountains\",'Forage Growth Curve Reference'!#REF!,IF($O$6=\"Coastal Plain\",'Forage Growth Curve Reference'!$A$41:$Q$72,IF($O$6=\"Piedmont\",'Forage Growth Curve Reference'!$A$4:$Q$35,'Forage Growth Curve Reference'!$A$4:$Q$35))),13,FALSE),\"\")","v":""},{"$f":"IF(AND(OR($J21<>\"\",$K21<>\"\"),$M21<>\"\"),$W21*VLOOKUP($D21,IF($O$6=\"Western Mountains\",'Forage Growth Curve Reference'!#REF!,IF($O$6=\"Coastal Plain\",'Forage Growth Curve Reference'!$A$41:$Q$72,IF($O$6=\"Piedmont\",'Forage Growth Curve Reference'!$A$4:$Q$35,'Forage Growth Curve Reference'!$A$4:$Q$35))),14,FALSE),\"\")","v":""},{"$f":"IF(AND(OR($J21<>\"\",$K21<>\"\"),$M21<>\"\"),$W21*VLOOKUP($D21,IF($O$6=\"Western Mountains\",'Forage Growth Curve Reference'!#REF!,IF($O$6=\"Coastal Plain\",'Forage Growth Curve Reference'!$A$41:$Q$72,IF($O$6=\"Piedmont\",'Forage Growth Curve Reference'!$A$4:$Q$35,'Forage Growth Curve Reference'!$A$4:$Q$35))),15,FALSE),\"\")","v":""},{"$f":"IF(AND(OR($J21<>\"\",$K21<>\"\"),$M21<>\"\"),$W21*VLOOKUP($D21,IF($O$6=\"Western Mountains\",'Forage Growth Curve Reference'!#REF!,IF($O$6=\"Coastal Plain\",'Forage Growth Curve Reference'!$A$41:$Q$72,IF($O$6=\"Piedmont\",'Forage Growth Curve Reference'!$A$4:$Q$35,'Forage Growth Curve Reference'!$A$4:$Q$35))),16,FALSE),\"\")","v":""},{"$f":"IF(AND(OR($J21<>\"\",$K21<>\"\"),$M21<>\"\"),$W21*VLOOKUP($D21,IF($O$6=\"Western Mountains\",'Forage Growth Curve Reference'!#REF!,IF($O$6=\"Coastal Plain\",'Forage Growth Curve Reference'!$A$41:$Q$72,IF($O$6=\"Piedmont\",'Forage Growth Curve Reference'!$A$4:$Q$35,'Forage Growth Curve Reference'!$A$4:$Q$35))),17,FALSE),\"\")","v":""}]
[null,null,22,{"$f":"IF(AND(OR($J22<>\"\",$K22<>\"\"),$M22<>\"\"),$W22*VLOOKUP($D22,IF($O$6=\"Western Mountains\",'Forage Growth Curve Reference'!#REF!,IF($O$6=\"Coastal Plain\",'Forage Growth Curve Reference'!$A$41:$Q$72,IF($O$6=\"Piedmont\",'Forage Growth Curve Reference'!$A$4:$Q$35,'Forage Growth Curve Reference'!$A$4:$Q$35))),6,FALSE),\"\")","v":""},{"$f":"IF(AND(OR($J22<>\"\",$K22<>\"\"),$M22<>\"\"),$W22*VLOOKUP($D22,IF($O$6=\"Western Mountains\",'Forage Growth Curve Reference'!#REF!,IF($O$6=\"Coastal Plain\",'Forage Growth Curve Reference'!$A$41:$Q$72,IF($O$6=\"Piedmont\",'Forage Growth Curve Reference'!$A$4:$Q$35,'Forage Growth Curve Reference'!$A$4:$Q$35))),7,FALSE),\"\")","v":""},{"$f":"IF(AND(OR($J22<>\"\",$K22<>\"\"),$M22<>\"\"),$W22*VLOOKUP($D22,IF($O$6=\"Western Mountains\",'Forage Growth Curve Reference'!#REF!,IF($O$6=\"Coastal Plain\",'Forage Growth Curve Reference'!$A$41:$Q$72,IF($O$6=\"Piedmont\",'Forage Growth Curve Reference'!$A$4:$Q$35,'Forage Growth Curve Reference'!$A$4:$Q$35))),8,FALSE),\"\")","v":""},{"$f":"IF(AND(OR($J22<>\"\",$K22<>\"\"),$M22<>\"\"),$W22*VLOOKUP($D22,IF($O$6=\"Western Mountains\",'Forage Growth Curve Reference'!#REF!,IF($O$6=\"Coastal Plain\",'Forage Growth Curve Reference'!$A$41:$Q$72,IF($O$6=\"Piedmont\",'Forage Growth Curve Reference'!$A$4:$Q$35,'Forage Growth Curve Reference'!$A$4:$Q$35))),9,FALSE),\"\")","v":""},{"$f":"IF(AND(OR($J22<>\"\",$K22<>\"\"),$M22<>\"\"),$W22*VLOOKUP($D22,IF($O$6=\"Western Mountains\",'Forage Growth Curve Reference'!#REF!,IF($O$6=\"Coastal Plain\",'Forage Growth Curve Reference'!$A$41:$Q$72,IF($O$6=\"Piedmont\",'Forage Growth Curve Reference'!$A$4:$Q$35,'Forage Growth Curve Reference'!$A$4:$Q$35))),10,FALSE),\"\")","v":""},{"$f":"IF(AND(OR($J22<>\"\",$K22<>\"\"),$M22<>\"\"),$W22*VLOOKUP($D22,IF($O$6=\"Western Mountains\",'Forage Growth Curve Reference'!#REF!,IF($O$6=\"Coastal Plain\",'Forage Growth Curve Reference'!$A$41:$Q$72,IF($O$6=\"Piedmont\",'Forage Growth Curve Reference'!$A$4:$Q$35,'Forage Growth Curve Reference'!$A$4:$Q$35))),11,FALSE),\"\")","v":""},{"$f":"IF(AND(OR($J22<>\"\",$K22<>\"\"),$M22<>\"\"),$W22*VLOOKUP($D22,IF($O$6=\"Western Mountains\",'Forage Growth Curve Reference'!#REF!,IF($O$6=\"Coastal Plain\",'Forage Growth Curve Reference'!$A$41:$Q$72,IF($O$6=\"Piedmont\",'Forage Growth Curve Reference'!$A$4:$Q$35,'Forage Growth Curve Reference'!$A$4:$Q$35))),12,FALSE),\"\")","v":""},{"$f":"IF(AND(OR($J22<>\"\",$K22<>\"\"),$M22<>\"\"),$W22*VLOOKUP($D22,IF($O$6=\"Western Mountains\",'Forage Growth Curve Reference'!#REF!,IF($O$6=\"Coastal Plain\",'Forage Growth Curve Reference'!$A$41:$Q$72,IF($O$6=\"Piedmont\",'Forage Growth Curve Reference'!$A$4:$Q$35,'Forage Growth Curve Reference'!$A$4:$Q$35))),13,FALSE),\"\")","v":""},{"$f":"IF(AND(OR($J22<>\"\",$K22<>\"\"),$M22<>\"\"),$W22*VLOOKUP($D22,IF($O$6=\"Western Mountains\",'Forage Growth Curve Reference'!#REF!,IF($O$6=\"Coastal Plain\",'Forage Growth Curve Reference'!$A$41:$Q$72,IF($O$6=\"Piedmont\",'Forage Growth Curve Reference'!$A$4:$Q$35,'Forage Growth Curve Reference'!$A$4:$Q$35))),14,FALSE),\"\")","v":""},{"$f":"IF(AND(OR($J22<>\"\",$K22<>\"\"),$M22<>\"\"),$W22*VLOOKUP($D22,IF($O$6=\"Western Mountains\",'Forage Growth Curve Reference'!#REF!,IF($O$6=\"Coastal Plain\",'Forage Growth Curve Reference'!$A$41:$Q$72,IF($O$6=\"Piedmont\",'Forage Growth Curve Reference'!$A$4:$Q$35,'Forage Growth Curve Reference'!$A$4:$Q$35))),15,FALSE),\"\")","v":""},{"$f":"IF(AND(OR($J22<>\"\",$K22<>\"\"),$M22<>\"\"),$W22*VLOOKUP($D22,IF($O$6=\"Western Mountains\",'Forage Growth Curve Reference'!#REF!,IF($O$6=\"Coastal Plain\",'Forage Growth Curve Reference'!$A$41:$Q$72,IF($O$6=\"Piedmont\",'Forage Growth Curve Reference'!$A$4:$Q$35,'Forage Growth Curve Reference'!$A$4:$Q$35))),16,FALSE),\"\")","v":""},{"$f":"IF(AND(OR($J22<>\"\",$K22<>\"\"),$M22<>\"\"),$W22*VLOOKUP($D22,IF($O$6=\"Western Mountains\",'Forage Growth Curve Reference'!#REF!,IF($O$6=\"Coastal Plain\",'Forage Growth Curve Reference'!$A$41:$Q$72,IF($O$6=\"Piedmont\",'Forage Growth Curve Reference'!$A$4:$Q$35,'Forage Growth Curve Reference'!$A$4:$Q$35))),17,FALSE),\"\")","v":""}]
[null,null,23,{"$f":"IF(AND(OR($J23<>\"\",$K23<>\"\"),$M23<>\"\"),$W23*VLOOKUP($D23,IF($O$6=\"Western Mountains\",'Forage Growth Curve Reference'!#REF!,IF($O$6=\"Coastal Plain\",'Forage Growth Curve Reference'!$A$41:$Q$72,IF($O$6=\"Piedmont\",'Forage Growth Curve Reference'!$A$4:$Q$35,'Forage Growth Curve Reference'!$A$4:$Q$35))),6,FALSE),\"\")","v":""},{"$f":"IF(AND(OR($J23<>\"\",$K23<>\"\"),$M23<>\"\"),$W23*VLOOKUP($D23,IF($O$6=\"Western Mountains\",'Forage Growth Curve Reference'!#REF!,IF($O$6=\"Coastal Plain\",'Forage Growth Curve Reference'!$A$41:$Q$72,IF($O$6=\"Piedmont\",'Forage Growth Curve Reference'!$A$4:$Q$35,'Forage Growth Curve Reference'!$A$4:$Q$35))),7,FALSE),\"\")","v":""},{"$f":"IF(AND(OR($J23<>\"\",$K23<>\"\"),$M23<>\"\"),$W23*VLOOKUP($D23,IF($O$6=\"Western Mountains\",'Forage Growth Curve Reference'!#REF!,IF($O$6=\"Coastal Plain\",'Forage Growth Curve Reference'!$A$41:$Q$72,IF($O$6=\"Piedmont\",'Forage Growth Curve Reference'!$A$4:$Q$35,'Forage Growth Curve Reference'!$A$4:$Q$35))),8,FALSE),\"\")","v":""},{"$f":"IF(AND(OR($J23<>\"\",$K23<>\"\"),$M23<>\"\"),$W23*VLOOKUP($D23,IF($O$6=\"Western Mountains\",'Forage Growth Curve Reference'!#REF!,IF($O$6=\"Coastal Plain\",'Forage Growth Curve Reference'!$A$41:$Q$72,IF($O$6=\"Piedmont\",'Forage Growth Curve Reference'!$A$4:$Q$35,'Forage Growth Curve Reference'!$A$4:$Q$35))),9,FALSE),\"\")","v":""},{"$f":"IF(AND(OR($J23<>\"\",$K23<>\"\"),$M23<>\"\"),$W23*VLOOKUP($D23,IF($O$6=\"Western Mountains\",'Forage Growth Curve Reference'!#REF!,IF($O$6=\"Coastal Plain\",'Forage Growth Curve Reference'!$A$41:$Q$72,IF($O$6=\"Piedmont\",'Forage Growth Curve Reference'!$A$4:$Q$35,'Forage Growth Curve Reference'!$A$4:$Q$35))),10,FALSE),\"\")","v":""},{"$f":"IF(AND(OR($J23<>\"\",$K23<>\"\"),$M23<>\"\"),$W23*VLOOKUP($D23,IF($O$6=\"Western Mountains\",'Forage Growth Curve Reference'!#REF!,IF($O$6=\"Coastal Plain\",'Forage Growth Curve Reference'!$A$41:$Q$72,IF($O$6=\"Piedmont\",'Forage Growth Curve Reference'!$A$4:$Q$35,'Forage Growth Curve Reference'!$A$4:$Q$35))),11,FALSE),\"\")","v":""},{"$f":"IF(AND(OR($J23<>\"\",$K23<>\"\"),$M23<>\"\"),$W23*VLOOKUP($D23,IF($O$6=\"Western Mountains\",'Forage Growth Curve Reference'!#REF!,IF($O$6=\"Coastal Plain\",'Forage Growth Curve Reference'!$A$41:$Q$72,IF($O$6=\"Piedmont\",'Forage Growth Curve Reference'!$A$4:$Q$35,'Forage Growth Curve Reference'!$A$4:$Q$35))),12,FALSE),\"\")","v":""},{"$f":"IF(AND(OR($J23<>\"\",$K23<>\"\"),$M23<>\"\"),$W23*VLOOKUP($D23,IF($O$6=\"Western Mountains\",'Forage Growth Curve Reference'!#REF!,IF($O$6=\"Coastal Plain\",'Forage Growth Curve Reference'!$A$41:$Q$72,IF($O$6=\"Piedmont\",'Forage Growth Curve Reference'!$A$4:$Q$35,'Forage Growth Curve Reference'!$A$4:$Q$35))),13,FALSE),\"\")","v":""},{"$f":"IF(AND(OR($J23<>\"\",$K23<>\"\"),$M23<>\"\"),$W23*VLOOKUP($D23,IF($O$6=\"Western Mountains\",'Forage Growth Curve Reference'!#REF!,IF($O$6=\"Coastal Plain\",'Forage Growth Curve Reference'!$A$41:$Q$72,IF($O$6=\"Piedmont\",'Forage Growth Curve Reference'!$A$4:$Q$35,'Forage Growth Curve Reference'!$A$4:$Q$35))),14,FALSE),\"\")","v":""},{"$f":"IF(AND(OR($J23<>\"\",$K23<>\"\"),$M23<>\"\"),$W23*VLOOKUP($D23,IF($O$6=\"Western Mountains\",'Forage Growth Curve Reference'!#REF!,IF($O$6=\"Coastal Plain\",'Forage Growth Curve Reference'!$A$41:$Q$72,IF($O$6=\"Piedmont\",'Forage Growth Curve Reference'!$A$4:$Q$35,'Forage Growth Curve Reference'!$A$4:$Q$35))),15,FALSE),\"\")","v":""},{"$f":"IF(AND(OR($J23<>\"\",$K23<>\"\"),$M23<>\"\"),$W23*VLOOKUP($D23,IF($O$6=\"Western Mountains\",'Forage Growth Curve Reference'!#REF!,IF($O$6=\"Coastal Plain\",'Forage Growth Curve Reference'!$A$41:$Q$72,IF($O$6=\"Piedmont\",'Forage Growth Curve Reference'!$A$4:$Q$35,'Forage Growth Curve Reference'!$A$4:$Q$35))),16,FALSE),\"\")","v":""},{"$f":"IF(AND(OR($J23<>\"\",$K23<>\"\"),$M23<>\"\"),$W23*VLOOKUP($D23,IF($O$6=\"Western Mountains\",'Forage Growth Curve Reference'!#REF!,IF($O$6=\"Coastal Plain\",'Forage Growth Curve Reference'!$A$41:$Q$72,IF($O$6=\"Piedmont\",'Forage Growth Curve Reference'!$A$4:$Q$35,'Forage Growth Curve Reference'!$A$4:$Q$35))),17,FALSE),\"\")","v":""}]
[null,null,24,{"$f":"IF(AND(OR($J24<>\"\",$K24<>\"\"),$M24<>\"\"),$W24*VLOOKUP($D24,IF($O$6=\"Western Mountains\",'Forage Growth Curve Reference'!#REF!,IF($O$6=\"Coastal Plain\",'Forage Growth Curve Reference'!$A$41:$Q$72,IF($O$6=\"Piedmont\",'Forage Growth Curve Reference'!$A$4:$Q$35,'Forage Growth Curve Reference'!$A$4:$Q$35))),6,FALSE),\"\")","v":""},{"$f":"IF(AND(OR($J24<>\"\",$K24<>\"\"),$M24<>\"\"),$W24*VLOOKUP($D24,IF($O$6=\"Western Mountains\",'Forage Growth Curve Reference'!#REF!,IF($O$6=\"Coastal Plain\",'Forage Growth Curve Reference'!$A$41:$Q$72,IF($O$6=\"Piedmont\",'Forage Growth Curve Reference'!$A$4:$Q$35,'Forage Growth Curve Reference'!$A$4:$Q$35))),7,FALSE),\"\")","v":""},{"$f":"IF(AND(OR($J24<>\"\",$K24<>\"\"),$M24<>\"\"),$W24*VLOOKUP($D24,IF($O$6=\"Western Mountains\",'Forage Growth Curve Reference'!#REF!,IF($O$6=\"Coastal Plain\",'Forage Growth Curve Reference'!$A$41:$Q$72,IF($O$6=\"Piedmont\",'Forage Growth Curve Reference'!$A$4:$Q$35,'Forage Growth Curve Reference'!$A$4:$Q$35))),8,FALSE),\"\")","v":""},{"$f":"IF(AND(OR($J24<>\"\",$K24<>\"\"),$M24<>\"\"),$W24*VLOOKUP($D24,IF($O$6=\"Western Mountains\",'Forage Growth Curve Reference'!#REF!,IF($O$6=\"Coastal Plain\",'Forage Growth Curve Reference'!$A$41:$Q$72,IF($O$6=\"Piedmont\",'Forage Growth Curve Reference'!$A$4:$Q$35,'Forage Growth Curve Reference'!$A$4:$Q$35))),9,FALSE),\"\")","v":""},{"$f":"IF(AND(OR($J24<>\"\",$K24<>\"\"),$M24<>\"\"),$W24*VLOOKUP($D24,IF($O$6=\"Western Mountains\",'Forage Growth Curve Reference'!#REF!,IF($O$6=\"Coastal Plain\",'Forage Growth Curve Reference'!$A$41:$Q$72,IF($O$6=\"Piedmont\",'Forage Growth Curve Reference'!$A$4:$Q$35,'Forage Growth Curve Reference'!$A$4:$Q$35))),10,FALSE),\"\")","v":""},{"$f":"IF(AND(OR($J24<>\"\",$K24<>\"\"),$M24<>\"\"),$W24*VLOOKUP($D24,IF($O$6=\"Western Mountains\",'Forage Growth Curve Reference'!#REF!,IF($O$6=\"Coastal Plain\",'Forage Growth Curve Reference'!$A$41:$Q$72,IF($O$6=\"Piedmont\",'Forage Growth Curve Reference'!$A$4:$Q$35,'Forage Growth Curve Reference'!$A$4:$Q$35))),11,FALSE),\"\")","v":""},{"$f":"IF(AND(OR($J24<>\"\",$K24<>\"\"),$M24<>\"\"),$W24*VLOOKUP($D24,IF($O$6=\"Western Mountains\",'Forage Growth Curve Reference'!#REF!,IF($O$6=\"Coastal Plain\",'Forage Growth Curve Reference'!$A$41:$Q$72,IF($O$6=\"Piedmont\",'Forage Growth Curve Reference'!$A$4:$Q$35,'Forage Growth Curve Reference'!$A$4:$Q$35))),12,FALSE),\"\")","v":""},{"$f":"IF(AND(OR($J24<>\"\",$K24<>\"\"),$M24<>\"\"),$W24*VLOOKUP($D24,IF($O$6=\"Western Mountains\",'Forage Growth Curve Reference'!#REF!,IF($O$6=\"Coastal Plain\",'Forage Growth Curve Reference'!$A$41:$Q$72,IF($O$6=\"Piedmont\",'Forage Growth Curve Reference'!$A$4:$Q$35,'Forage Growth Curve Reference'!$A$4:$Q$35))),13,FALSE),\"\")","v":""},{"$f":"IF(AND(OR($J24<>\"\",$K24<>\"\"),$M24<>\"\"),$W24*VLOOKUP($D24,IF($O$6=\"Western Mountains\",'Forage Growth Curve Reference'!#REF!,IF($O$6=\"Coastal Plain\",'Forage Growth Curve Reference'!$A$41:$Q$72,IF($O$6=\"Piedmont\",'Forage Growth Curve Reference'!$A$4:$Q$35,'Forage Growth Curve Reference'!$A$4:$Q$35))),14,FALSE),\"\")","v":""},{"$f":"IF(AND(OR($J24<>\"\",$K24<>\"\"),$M24<>\"\"),$W24*VLOOKUP($D24,IF($O$6=\"Western Mountains\",'Forage Growth Curve Reference'!#REF!,IF($O$6=\"Coastal Plain\",'Forage Growth Curve Reference'!$A$41:$Q$72,IF($O$6=\"Piedmont\",'Forage Growth Curve Reference'!$A$4:$Q$35,'Forage Growth Curve Reference'!$A$4:$Q$35))),15,FALSE),\"\")","v":""},{"$f":"IF(AND(OR($J24<>\"\",$K24<>\"\"),$M24<>\"\"),$W24*VLOOKUP($D24,IF($O$6=\"Western Mountains\",'Forage Growth Curve Reference'!#REF!,IF($O$6=\"Coastal Plain\",'Forage Growth Curve Reference'!$A$41:$Q$72,IF($O$6=\"Piedmont\",'Forage Growth Curve Reference'!$A$4:$Q$35,'Forage Growth Curve Reference'!$A$4:$Q$35))),16,FALSE),\"\")","v":""},{"$f":"IF(AND(OR($J24<>\"\",$K24<>\"\"),$M24<>\"\"),$W24*VLOOKUP($D24,IF($O$6=\"Western Mountains\",'Forage Growth Curve Reference'!#REF!,IF($O$6=\"Coastal Plain\",'Forage Growth Curve Reference'!$A$41:$Q$72,IF($O$6=\"Piedmont\",'Forage Growth Curve Reference'!$A$4:$Q$35,'Forage Growth Curve Reference'!$A$4:$Q$35))),17,FALSE),\"\")","v":""}]
[null,null,25,{"$f":"IF(AND(OR($J25<>\"\",$K25<>\"\"),$M25<>\"\"),$W25*VLOOKUP($D25,IF($O$6=\"Western Mountains\",'Forage Growth Curve Reference'!#REF!,IF($O$6=\"Coastal Plain\",'Forage Growth Curve Reference'!$A$41:$Q$72,IF($O$6=\"Piedmont\",'Forage Growth Curve Reference'!$A$4:$Q$35,'Forage Growth Curve Reference'!$A$4:$Q$35))),6,FALSE),\"\")","v":""},{"$f":"IF(AND(OR($J25<>\"\",$K25<>\"\"),$M25<>\"\"),$W25*VLOOKUP($D25,IF($O$6=\"Western Mountains\",'Forage Growth Curve Reference'!#REF!,IF($O$6=\"Coastal Plain\",'Forage Growth Curve Reference'!$A$41:$Q$72,IF($O$6=\"Piedmont\",'Forage Growth Curve Reference'!$A$4:$Q$35,'Forage Growth Curve Reference'!$A$4:$Q$35))),7,FALSE),\"\")","v":""},{"$f":"IF(AND(OR($J25<>\"\",$K25<>\"\"),$M25<>\"\"),$W25*VLOOKUP($D25,IF($O$6=\"Western Mountains\",'Forage Growth Curve Reference'!#REF!,IF($O$6=\"Coastal Plain\",'Forage Growth Curve Reference'!$A$41:$Q$72,IF($O$6=\"Piedmont\",'Forage Growth Curve Reference'!$A$4:$Q$35,'Forage Growth Curve Reference'!$A$4:$Q$35))),8,FALSE),\"\")","v":""},{"$f":"IF(AND(OR($J25<>\"\",$K25<>\"\"),$M25<>\"\"),$W25*VLOOKUP($D25,IF($O$6=\"Western Mountains\",'Forage Growth Curve Reference'!#REF!,IF($O$6=\"Coastal Plain\",'Forage Growth Curve Reference'!$A$41:$Q$72,IF($O$6=\"Piedmont\",'Forage Growth Curve Reference'!$A$4:$Q$35,'Forage Growth Curve Reference'!$A$4:$Q$35))),9,FALSE),\"\")","v":""},{"$f":"IF(AND(OR($J25<>\"\",$K25<>\"\"),$M25<>\"\"),$W25*VLOOKUP($D25,IF($O$6=\"Western Mountains\",'Forage Growth Curve Reference'!#REF!,IF($O$6=\"Coastal Plain\",'Forage Growth Curve Reference'!$A$41:$Q$72,IF($O$6=\"Piedmont\",'Forage Growth Curve Reference'!$A$4:$Q$35,'Forage Growth Curve Reference'!$A$4:$Q$35))),10,FALSE),\"\")","v":""},{"$f":"IF(AND(OR($J25<>\"\",$K25<>\"\"),$M25<>\"\"),$W25*VLOOKUP($D25,IF($O$6=\"Western Mountains\",'Forage Growth Curve Reference'!#REF!,IF($O$6=\"Coastal Plain\",'Forage Growth Curve Reference'!$A$41:$Q$72,IF($O$6=\"Piedmont\",'Forage Growth Curve Reference'!$A$4:$Q$35,'Forage Growth Curve Reference'!$A$4:$Q$35))),11,FALSE),\"\")","v":""},{"$f":"IF(AND(OR($J25<>\"\",$K25<>\"\"),$M25<>\"\"),$W25*VLOOKUP($D25,IF($O$6=\"Western Mountains\",'Forage Growth Curve Reference'!#REF!,IF($O$6=\"Coastal Plain\",'Forage Growth Curve Reference'!$A$41:$Q$72,IF($O$6=\"Piedmont\",'Forage Growth Curve Reference'!$A$4:$Q$35,'Forage Growth Curve Reference'!$A$4:$Q$35))),12,FALSE),\"\")","v":""},{"$f":"IF(AND(OR($J25<>\"\",$K25<>\"\"),$M25<>\"\"),$W25*VLOOKUP($D25,IF($O$6=\"Western Mountains\",'Forage Growth Curve Reference'!#REF!,IF($O$6=\"Coastal Plain\",'Forage Growth Curve Reference'!$A$41:$Q$72,IF($O$6=\"Piedmont\",'Forage Growth Curve Reference'!$A$4:$Q$35,'Forage Growth Curve Reference'!$A$4:$Q$35))),13,FALSE),\"\")","v":""},{"$f":"IF(AND(OR($J25<>\"\",$K25<>\"\"),$M25<>\"\"),$W25*VLOOKUP($D25,IF($O$6=\"Western Mountains\",'Forage Growth Curve Reference'!#REF!,IF($O$6=\"Coastal Plain\",'Forage Growth Curve Reference'!$A$41:$Q$72,IF($O$6=\"Piedmont\",'Forage Growth Curve Reference'!$A$4:$Q$35,'Forage Growth Curve Reference'!$A$4:$Q$35))),14,FALSE),\"\")","v":""},{"$f":"IF(AND(OR($J25<>\"\",$K25<>\"\"),$M25<>\"\"),$W25*VLOOKUP($D25,IF($O$6=\"Western Mountains\",'Forage Growth Curve Reference'!#REF!,IF($O$6=\"Coastal Plain\",'Forage Growth Curve Reference'!$A$41:$Q$72,IF($O$6=\"Piedmont\",'Forage Growth Curve Reference'!$A$4:$Q$35,'Forage Growth Curve Reference'!$A$4:$Q$35))),15,FALSE),\"\")","v":""},{"$f":"IF(AND(OR($J25<>\"\",$K25<>\"\"),$M25<>\"\"),$W25*VLOOKUP($D25,IF($O$6=\"Western Mountains\",'Forage Growth Curve Reference'!#REF!,IF($O$6=\"Coastal Plain\",'Forage Growth Curve Reference'!$A$41:$Q$72,IF($O$6=\"Piedmont\",'Forage Growth Curve Reference'!$A$4:$Q$35,'Forage Growth Curve Reference'!$A$4:$Q$35))),16,FALSE),\"\")","v":""},{"$f":"IF(AND(OR($J25<>\"\",$K25<>\"\"),$M25<>\"\"),$W25*VLOOKUP($D25,IF($O$6=\"Western Mountains\",'Forage Growth Curve Reference'!#REF!,IF($O$6=\"Coastal Plain\",'Forage Growth Curve Reference'!$A$41:$Q$72,IF($O$6=\"Piedmont\",'Forage Growth Curve Reference'!$A$4:$Q$35,'Forage Growth Curve Reference'!$A$4:$Q$35))),17,FALSE),\"\")","v":""}]
[null,null,26,{"$f":"IF(AND(OR($J26<>\"\",$K26<>\"\"),$M26<>\"\"),$W26*VLOOKUP($D26,IF($O$6=\"Western Mountains\",'Forage Growth Curve Reference'!#REF!,IF($O$6=\"Coastal Plain\",'Forage Growth Curve Reference'!$A$41:$Q$72,IF($O$6=\"Piedmont\",'Forage Growth Curve Reference'!$A$4:$Q$35,'Forage Growth Curve Reference'!$A$4:$Q$35))),6,FALSE),\"\")","v":""},{"$f":"IF(AND(OR($J26<>\"\",$K26<>\"\"),$M26<>\"\"),$W26*VLOOKUP($D26,IF($O$6=\"Western Mountains\",'Forage Growth Curve Reference'!#REF!,IF($O$6=\"Coastal Plain\",'Forage Growth Curve Reference'!$A$41:$Q$72,IF($O$6=\"Piedmont\",'Forage Growth Curve Reference'!$A$4:$Q$35,'Forage Growth Curve Reference'!$A$4:$Q$35))),7,FALSE),\"\")","v":""},{"$f":"IF(AND(OR($J26<>\"\",$K26<>\"\"),$M26<>\"\"),$W26*VLOOKUP($D26,IF($O$6=\"Western Mountains\",'Forage Growth Curve Reference'!#REF!,IF($O$6=\"Coastal Plain\",'Forage Growth Curve Reference'!$A$41:$Q$72,IF($O$6=\"Piedmont\",'Forage Growth Curve Reference'!$A$4:$Q$35,'Forage Growth Curve Reference'!$A$4:$Q$35))),8,FALSE),\"\")","v":""},{"$f":"IF(AND(OR($J26<>\"\",$K26<>\"\"),$M26<>\"\"),$W26*VLOOKUP($D26,IF($O$6=\"Western Mountains\",'Forage Growth Curve Reference'!#REF!,IF($O$6=\"Coastal Plain\",'Forage Growth Curve Reference'!$A$41:$Q$72,IF($O$6=\"Piedmont\",'Forage Growth Curve Reference'!$A$4:$Q$35,'Forage Growth Curve Reference'!$A$4:$Q$35))),9,FALSE),\"\")","v":""},{"$f":"IF(AND(OR($J26<>\"\",$K26<>\"\"),$M26<>\"\"),$W26*VLOOKUP($D26,IF($O$6=\"Western Mountains\",'Forage Growth Curve Reference'!#REF!,IF($O$6=\"Coastal Plain\",'Forage Growth Curve Reference'!$A$41:$Q$72,IF($O$6=\"Piedmont\",'Forage Growth Curve Reference'!$A$4:$Q$35,'Forage Growth Curve Reference'!$A$4:$Q$35))),10,FALSE),\"\")","v":""},{"$f":"IF(AND(OR($J26<>\"\",$K26<>\"\"),$M26<>\"\"),$W26*VLOOKUP($D26,IF($O$6=\"Western Mountains\",'Forage Growth Curve Reference'!#REF!,IF($O$6=\"Coastal Plain\",'Forage Growth Curve Reference'!$A$41:$Q$72,IF($O$6=\"Piedmont\",'Forage Growth Curve Reference'!$A$4:$Q$35,'Forage Growth Curve Reference'!$A$4:$Q$35))),11,FALSE),\"\")","v":""},{"$f":"IF(AND(OR($J26<>\"\",$K26<>\"\"),$M26<>\"\"),$W26*VLOOKUP($D26,IF($O$6=\"Western Mountains\",'Forage Growth Curve Reference'!#REF!,IF($O$6=\"Coastal Plain\",'Forage Growth Curve Reference'!$A$41:$Q$72,IF($O$6=\"Piedmont\",'Forage Growth Curve Reference'!$A$4:$Q$35,'Forage Growth Curve Reference'!$A$4:$Q$35))),12,FALSE),\"\")","v":""},{"$f":"IF(AND(OR($J26<>\"\",$K26<>\"\"),$M26<>\"\"),$W26*VLOOKUP($D26,IF($O$6=\"Western Mountains\",'Forage Growth Curve Reference'!#REF!,IF($O$6=\"Coastal Plain\",'Forage Growth Curve Reference'!$A$41:$Q$72,IF($O$6=\"Piedmont\",'Forage Growth Curve Reference'!$A$4:$Q$35,'Forage Growth Curve Reference'!$A$4:$Q$35))),13,FALSE),\"\")","v":""},{"$f":"IF(AND(OR($J26<>\"\",$K26<>\"\"),$M26<>\"\"),$W26*VLOOKUP($D26,IF($O$6=\"Western Mountains\",'Forage Growth Curve Reference'!#REF!,IF($O$6=\"Coastal Plain\",'Forage Growth Curve Reference'!$A$41:$Q$72,IF($O$6=\"Piedmont\",'Forage Growth Curve Reference'!$A$4:$Q$35,'Forage Growth Curve Reference'!$A$4:$Q$35))),14,FALSE),\"\")","v":""},{"$f":"IF(AND(OR($J26<>\"\",$K26<>\"\"),$M26<>\"\"),$W26*VLOOKUP($D26,IF($O$6=\"Western Mountains\",'Forage Growth Curve Reference'!#REF!,IF($O$6=\"Coastal Plain\",'Forage Growth Curve Reference'!$A$41:$Q$72,IF($O$6=\"Piedmont\",'Forage Growth Curve Reference'!$A$4:$Q$35,'Forage Growth Curve Reference'!$A$4:$Q$35))),15,FALSE),\"\")","v":""},{"$f":"IF(AND(OR($J26<>\"\",$K26<>\"\"),$M26<>\"\"),$W26*VLOOKUP($D26,IF($O$6=\"Western Mountains\",'Forage Growth Curve Reference'!#REF!,IF($O$6=\"Coastal Plain\",'Forage Growth Curve Reference'!$A$41:$Q$72,IF($O$6=\"Piedmont\",'Forage Growth Curve Reference'!$A$4:$Q$35,'Forage Growth Curve Reference'!$A$4:$Q$35))),16,FALSE),\"\")","v":""},{"$f":"IF(AND(OR($J26<>\"\",$K26<>\"\"),$M26<>\"\"),$W26*VLOOKUP($D26,IF($O$6=\"Western Mountains\",'Forage Growth Curve Reference'!#REF!,IF($O$6=\"Coastal Plain\",'Forage Growth Curve Reference'!$A$41:$Q$72,IF($O$6=\"Piedmont\",'Forage Growth Curve Reference'!$A$4:$Q$35,'Forage Growth Curve Reference'!$A$4:$Q$35))),17,FALSE),\"\")","v":""}]
[null,null,27,{"$f":"IF(AND(OR($J27<>\"\",$K27<>\"\"),$M27<>\"\"),$W27*VLOOKUP($D27,IF($O$6=\"Western Mountains\",'Forage Growth Curve Reference'!#REF!,IF($O$6=\"Coastal Plain\",'Forage Growth Curve Reference'!$A$41:$Q$72,IF($O$6=\"Piedmont\",'Forage Growth Curve Reference'!$A$4:$Q$35,'Forage Growth Curve Reference'!$A$4:$Q$35))),6,FALSE),\"\")","v":""},{"$f":"IF(AND(OR($J27<>\"\",$K27<>\"\"),$M27<>\"\"),$W27*VLOOKUP($D27,IF($O$6=\"Western Mountains\",'Forage Growth Curve Reference'!#REF!,IF($O$6=\"Coastal Plain\",'Forage Growth Curve Reference'!$A$41:$Q$72,IF($O$6=\"Piedmont\",'Forage Growth Curve Reference'!$A$4:$Q$35,'Forage Growth Curve Reference'!$A$4:$Q$35))),7,FALSE),\"\")","v":""},{"$f":"IF(AND(OR($J27<>\"\",$K27<>\"\"),$M27<>\"\"),$W27*VLOOKUP($D27,IF($O$6=\"Western Mountains\",'Forage Growth Curve Reference'!#REF!,IF($O$6=\"Coastal Plain\",'Forage Growth Curve Reference'!$A$41:$Q$72,IF($O$6=\"Piedmont\",'Forage Growth Curve Reference'!$A$4:$Q$35,'Forage Growth Curve Reference'!$A$4:$Q$35))),8,FALSE),\"\")","v":""},{"$f":"IF(AND(OR($J27<>\"\",$K27<>\"\"),$M27<>\"\"),$W27*VLOOKUP($D27,IF($O$6=\"Western Mountains\",'Forage Growth Curve Reference'!#REF!,IF($O$6=\"Coastal Plain\",'Forage Growth Curve Reference'!$A$41:$Q$72,IF($O$6=\"Piedmont\",'Forage Growth Curve Reference'!$A$4:$Q$35,'Forage Growth Curve Reference'!$A$4:$Q$35))),9,FALSE),\"\")","v":""},{"$f":"IF(AND(OR($J27<>\"\",$K27<>\"\"),$M27<>\"\"),$W27*VLOOKUP($D27,IF($O$6=\"Western Mountains\",'Forage Growth Curve Reference'!#REF!,IF($O$6=\"Coastal Plain\",'Forage Growth Curve Reference'!$A$41:$Q$72,IF($O$6=\"Piedmont\",'Forage Growth Curve Reference'!$A$4:$Q$35,'Forage Growth Curve Reference'!$A$4:$Q$35))),10,FALSE),\"\")","v":""},{"$f":"IF(AND(OR($J27<>\"\",$K27<>\"\"),$M27<>\"\"),$W27*VLOOKUP($D27,IF($O$6=\"Western Mountains\",'Forage Growth Curve Reference'!#REF!,IF($O$6=\"Coastal Plain\",'Forage Growth Curve Reference'!$A$41:$Q$72,IF($O$6=\"Piedmont\",'Forage Growth Curve Reference'!$A$4:$Q$35,'Forage Growth Curve Reference'!$A$4:$Q$35))),11,FALSE),\"\")","v":""},{"$f":"IF(AND(OR($J27<>\"\",$K27<>\"\"),$M27<>\"\"),$W27*VLOOKUP($D27,IF($O$6=\"Western Mountains\",'Forage Growth Curve Reference'!#REF!,IF($O$6=\"Coastal Plain\",'Forage Growth Curve Reference'!$A$41:$Q$72,IF($O$6=\"Piedmont\",'Forage Growth Curve Reference'!$A$4:$Q$35,'Forage Growth Curve Reference'!$A$4:$Q$35))),12,FALSE),\"\")","v":""},{"$f":"IF(AND(OR($J27<>\"\",$K27<>\"\"),$M27<>\"\"),$W27*VLOOKUP($D27,IF($O$6=\"Western Mountains\",'Forage Growth Curve Reference'!#REF!,IF($O$6=\"Coastal Plain\",'Forage Growth Curve Reference'!$A$41:$Q$72,IF($O$6=\"Piedmont\",'Forage Growth Curve Reference'!$A$4:$Q$35,'Forage Growth Curve Reference'!$A$4:$Q$35))),13,FALSE),\"\")","v":""},{"$f":"IF(AND(OR($J27<>\"\",$K27<>\"\"),$M27<>\"\"),$W27*VLOOKUP($D27,IF($O$6=\"Western Mountains\",'Forage Growth Curve Reference'!#REF!,IF($O$6=\"Coastal Plain\",'Forage Growth Curve Reference'!$A$41:$Q$72,IF($O$6=\"Piedmont\",'Forage Growth Curve Reference'!$A$4:$Q$35,'Forage Growth Curve Reference'!$A$4:$Q$35))),14,FALSE),\"\")","v":""},{"$f":"IF(AND(OR($J27<>\"\",$K27<>\"\"),$M27<>\"\"),$W27*VLOOKUP($D27,IF($O$6=\"Western Mountains\",'Forage Growth Curve Reference'!#REF!,IF($O$6=\"Coastal Plain\",'Forage Growth Curve Reference'!$A$41:$Q$72,IF($O$6=\"Piedmont\",'Forage Growth Curve Reference'!$A$4:$Q$35,'Forage Growth Curve Reference'!$A$4:$Q$35))),15,FALSE),\"\")","v":""},{"$f":"IF(AND(OR($J27<>\"\",$K27<>\"\"),$M27<>\"\"),$W27*VLOOKUP($D27,IF($O$6=\"Western Mountains\",'Forage Growth Curve Reference'!#REF!,IF($O$6=\"Coastal Plain\",'Forage Growth Curve Reference'!$A$41:$Q$72,IF($O$6=\"Piedmont\",'Forage Growth Curve Reference'!$A$4:$Q$35,'Forage Growth Curve Reference'!$A$4:$Q$35))),16,FALSE),\"\")","v":""},{"$f":"IF(AND(OR($J27<>\"\",$K27<>\"\"),$M27<>\"\"),$W27*VLOOKUP($D27,IF($O$6=\"Western Mountains\",'Forage Growth Curve Reference'!#REF!,IF($O$6=\"Coastal Plain\",'Forage Growth Curve Reference'!$A$41:$Q$72,IF($O$6=\"Piedmont\",'Forage Growth Curve Reference'!$A$4:$Q$35,'Forage Growth Curve Reference'!$A$4:$Q$35))),17,FALSE),\"\")","v":""}]
[null,null,28,{"$f":"IF(AND(OR($J28<>\"\",$K28<>\"\"),$M28<>\"\"),$W28*VLOOKUP($D28,IF($O$6=\"Western Mountains\",'Forage Growth Curve Reference'!#REF!,IF($O$6=\"Coastal Plain\",'Forage Growth Curve Reference'!$A$41:$Q$72,IF($O$6=\"Piedmont\",'Forage Growth Curve Reference'!$A$4:$Q$35,'Forage Growth Curve Reference'!$A$4:$Q$35))),6,FALSE),\"\")","v":""},{"$f":"IF(AND(OR($J28<>\"\",$K28<>\"\"),$M28<>\"\"),$W28*VLOOKUP($D28,IF($O$6=\"Western Mountains\",'Forage Growth Curve Reference'!#REF!,IF($O$6=\"Coastal Plain\",'Forage Growth Curve Reference'!$A$41:$Q$72,IF($O$6=\"Piedmont\",'Forage Growth Curve Reference'!$A$4:$Q$35,'Forage Growth Curve Reference'!$A$4:$Q$35))),7,FALSE),\"\")","v":""},{"$f":"IF(AND(OR($J28<>\"\",$K28<>\"\"),$M28<>\"\"),$W28*VLOOKUP($D28,IF($O$6=\"Western Mountains\",'Forage Growth Curve Reference'!#REF!,IF($O$6=\"Coastal Plain\",'Forage Growth Curve Reference'!$A$41:$Q$72,IF($O$6=\"Piedmont\",'Forage Growth Curve Reference'!$A$4:$Q$35,'Forage Growth Curve Reference'!$A$4:$Q$35))),8,FALSE),\"\")","v":""},{"$f":"IF(AND(OR($J28<>\"\",$K28<>\"\"),$M28<>\"\"),$W28*VLOOKUP($D28,IF($O$6=\"Western Mountains\",'Forage Growth Curve Reference'!#REF!,IF($O$6=\"Coastal Plain\",'Forage Growth Curve Reference'!$A$41:$Q$72,IF($O$6=\"Piedmont\",'Forage Growth Curve Reference'!$A$4:$Q$35,'Forage Growth Curve Reference'!$A$4:$Q$35))),9,FALSE),\"\")","v":""},{"$f":"IF(AND(OR($J28<>\"\",$K28<>\"\"),$M28<>\"\"),$W28*VLOOKUP($D28,IF($O$6=\"Western Mountains\",'Forage Growth Curve Reference'!#REF!,IF($O$6=\"Coastal Plain\",'Forage Growth Curve Reference'!$A$41:$Q$72,IF($O$6=\"Piedmont\",'Forage Growth Curve Reference'!$A$4:$Q$35,'Forage Growth Curve Reference'!$A$4:$Q$35))),10,FALSE),\"\")","v":""},{"$f":"IF(AND(OR($J28<>\"\",$K28<>\"\"),$M28<>\"\"),$W28*VLOOKUP($D28,IF($O$6=\"Western Mountains\",'Forage Growth Curve Reference'!#REF!,IF($O$6=\"Coastal Plain\",'Forage Growth Curve Reference'!$A$41:$Q$72,IF($O$6=\"Piedmont\",'Forage Growth Curve Reference'!$A$4:$Q$35,'Forage Growth Curve Reference'!$A$4:$Q$35))),11,FALSE),\"\")","v":""},{"$f":"IF(AND(OR($J28<>\"\",$K28<>\"\"),$M28<>\"\"),$W28*VLOOKUP($D28,IF($O$6=\"Western Mountains\",'Forage Growth Curve Reference'!#REF!,IF($O$6=\"Coastal Plain\",'Forage Growth Curve Reference'!$A$41:$Q$72,IF($O$6=\"Piedmont\",'Forage Growth Curve Reference'!$A$4:$Q$35,'Forage Growth Curve Reference'!$A$4:$Q$35))),12,FALSE),\"\")","v":""},{"$f":"IF(AND(OR($J28<>\"\",$K28<>\"\"),$M28<>\"\"),$W28*VLOOKUP($D28,IF($O$6=\"Western Mountains\",'Forage Growth Curve Reference'!#REF!,IF($O$6=\"Coastal Plain\",'Forage Growth Curve Reference'!$A$41:$Q$72,IF($O$6=\"Piedmont\",'Forage Growth Curve Reference'!$A$4:$Q$35,'Forage Growth Curve Reference'!$A$4:$Q$35))),13,FALSE),\"\")","v":""},{"$f":"IF(AND(OR($J28<>\"\",$K28<>\"\"),$M28<>\"\"),$W28*VLOOKUP($D28,IF($O$6=\"Western Mountains\",'Forage Growth Curve Reference'!#REF!,IF($O$6=\"Coastal Plain\",'Forage Growth Curve Reference'!$A$41:$Q$72,IF($O$6=\"Piedmont\",'Forage Growth Curve Reference'!$A$4:$Q$35,'Forage Growth Curve Reference'!$A$4:$Q$35))),14,FALSE),\"\")","v":""},{"$f":"IF(AND(OR($J28<>\"\",$K28<>\"\"),$M28<>\"\"),$W28*VLOOKUP($D28,IF($O$6=\"Western Mountains\",'Forage Growth Curve Reference'!#REF!,IF($O$6=\"Coastal Plain\",'Forage Growth Curve Reference'!$A$41:$Q$72,IF($O$6=\"Piedmont\",'Forage Growth Curve Reference'!$A$4:$Q$35,'Forage Growth Curve Reference'!$A$4:$Q$35))),15,FALSE),\"\")","v":""},{"$f":"IF(AND(OR($J28<>\"\",$K28<>\"\"),$M28<>\"\"),$W28*VLOOKUP($D28,IF($O$6=\"Western Mountains\",'Forage Growth Curve Reference'!#REF!,IF($O$6=\"Coastal Plain\",'Forage Growth Curve Reference'!$A$41:$Q$72,IF($O$6=\"Piedmont\",'Forage Growth Curve Reference'!$A$4:$Q$35,'Forage Growth Curve Reference'!$A$4:$Q$35))),16,FALSE),\"\")","v":""},{"$f":"IF(AND(OR($J28<>\"\",$K28<>\"\"),$M28<>\"\"),$W28*VLOOKUP($D28,IF($O$6=\"Western Mountains\",'Forage Growth Curve Reference'!#REF!,IF($O$6=\"Coastal Plain\",'Forage Growth Curve Reference'!$A$41:$Q$72,IF($O$6=\"Piedmont\",'Forage Growth Curve Reference'!$A$4:$Q$35,'Forage Growth Curve Reference'!$A$4:$Q$35))),17,FALSE),\"\")","v":""}]
[null,null,29,{"$f":"IF(AND(OR($J29<>\"\",$K29<>\"\"),$M29<>\"\"),$W29*VLOOKUP($D29,IF($O$6=\"Western Mountains\",'Forage Growth Curve Reference'!#REF!,IF($O$6=\"Coastal Plain\",'Forage Growth Curve Reference'!$A$41:$Q$72,IF($O$6=\"Piedmont\",'Forage Growth Curve Reference'!$A$4:$Q$35,'Forage Growth Curve Reference'!$A$4:$Q$35))),6,FALSE),\"\")","v":""},{"$f":"IF(AND(OR($J29<>\"\",$K29<>\"\"),$M29<>\"\"),$W29*VLOOKUP($D29,IF($O$6=\"Western Mountains\",'Forage Growth Curve Reference'!#REF!,IF($O$6=\"Coastal Plain\",'Forage Growth Curve Reference'!$A$41:$Q$72,IF($O$6=\"Piedmont\",'Forage Growth Curve Reference'!$A$4:$Q$35,'Forage Growth Curve Reference'!$A$4:$Q$35))),7,FALSE),\"\")","v":""},{"$f":"IF(AND(OR($J29<>\"\",$K29<>\"\"),$M29<>\"\"),$W29*VLOOKUP($D29,IF($O$6=\"Western Mountains\",'Forage Growth Curve Reference'!#REF!,IF($O$6=\"Coastal Plain\",'Forage Growth Curve Reference'!$A$41:$Q$72,IF($O$6=\"Piedmont\",'Forage Growth Curve Reference'!$A$4:$Q$35,'Forage Growth Curve Reference'!$A$4:$Q$35))),8,FALSE),\"\")","v":""},{"$f":"IF(AND(OR($J29<>\"\",$K29<>\"\"),$M29<>\"\"),$W29*VLOOKUP($D29,IF($O$6=\"Western Mountains\",'Forage Growth Curve Reference'!#REF!,IF($O$6=\"Coastal Plain\",'Forage Growth Curve Reference'!$A$41:$Q$72,IF($O$6=\"Piedmont\",'Forage Growth Curve Reference'!$A$4:$Q$35,'Forage Growth Curve Reference'!$A$4:$Q$35))),9,FALSE),\"\")","v":""},{"$f":"IF(AND(OR($J29<>\"\",$K29<>\"\"),$M29<>\"\"),$W29*VLOOKUP($D29,IF($O$6=\"Western Mountains\",'Forage Growth Curve Reference'!#REF!,IF($O$6=\"Coastal Plain\",'Forage Growth Curve Reference'!$A$41:$Q$72,IF($O$6=\"Piedmont\",'Forage Growth Curve Reference'!$A$4:$Q$35,'Forage Growth Curve Reference'!$A$4:$Q$35))),10,FALSE),\"\")","v":""},{"$f":"IF(AND(OR($J29<>\"\",$K29<>\"\"),$M29<>\"\"),$W29*VLOOKUP($D29,IF($O$6=\"Western Mountains\",'Forage Growth Curve Reference'!#REF!,IF($O$6=\"Coastal Plain\",'Forage Growth Curve Reference'!$A$41:$Q$72,IF($O$6=\"Piedmont\",'Forage Growth Curve Reference'!$A$4:$Q$35,'Forage Growth Curve Reference'!$A$4:$Q$35))),11,FALSE),\"\")","v":""},{"$f":"IF(AND(OR($J29<>\"\",$K29<>\"\"),$M29<>\"\"),$W29*VLOOKUP($D29,IF($O$6=\"Western Mountains\",'Forage Growth Curve Reference'!#REF!,IF($O$6=\"Coastal Plain\",'Forage Growth Curve Reference'!$A$41:$Q$72,IF($O$6=\"Piedmont\",'Forage Growth Curve Reference'!$A$4:$Q$35,'Forage Growth Curve Reference'!$A$4:$Q$35))),12,FALSE),\"\")","v":""},{"$f":"IF(AND(OR($J29<>\"\",$K29<>\"\"),$M29<>\"\"),$W29*VLOOKUP($D29,IF($O$6=\"Western Mountains\",'Forage Growth Curve Reference'!#REF!,IF($O$6=\"Coastal Plain\",'Forage Growth Curve Reference'!$A$41:$Q$72,IF($O$6=\"Piedmont\",'Forage Growth Curve Reference'!$A$4:$Q$35,'Forage Growth Curve Reference'!$A$4:$Q$35))),13,FALSE),\"\")","v":""},{"$f":"IF(AND(OR($J29<>\"\",$K29<>\"\"),$M29<>\"\"),$W29*VLOOKUP($D29,IF($O$6=\"Western Mountains\",'Forage Growth Curve Reference'!#REF!,IF($O$6=\"Coastal Plain\",'Forage Growth Curve Reference'!$A$41:$Q$72,IF($O$6=\"Piedmont\",'Forage Growth Curve Reference'!$A$4:$Q$35,'Forage Growth Curve Reference'!$A$4:$Q$35))),14,FALSE),\"\")","v":""},{"$f":"IF(AND(OR($J29<>\"\",$K29<>\"\"),$M29<>\"\"),$W29*VLOOKUP($D29,IF($O$6=\"Western Mountains\",'Forage Growth Curve Reference'!#REF!,IF($O$6=\"Coastal Plain\",'Forage Growth Curve Reference'!$A$41:$Q$72,IF($O$6=\"Piedmont\",'Forage Growth Curve Reference'!$A$4:$Q$35,'Forage Growth Curve Reference'!$A$4:$Q$35))),15,FALSE),\"\")","v":""},{"$f":"IF(AND(OR($J29<>\"\",$K29<>\"\"),$M29<>\"\"),$W29*VLOOKUP($D29,IF($O$6=\"Western Mountains\",'Forage Growth Curve Reference'!#REF!,IF($O$6=\"Coastal Plain\",'Forage Growth Curve Reference'!$A$41:$Q$72,IF($O$6=\"Piedmont\",'Forage Growth Curve Reference'!$A$4:$Q$35,'Forage Growth Curve Reference'!$A$4:$Q$35))),16,FALSE),\"\")","v":""},{"$f":"IF(AND(OR($J29<>\"\",$K29<>\"\"),$M29<>\"\"),$W29*VLOOKUP($D29,IF($O$6=\"Western Mountains\",'Forage Growth Curve Reference'!#REF!,IF($O$6=\"Coastal Plain\",'Forage Growth Curve Reference'!$A$41:$Q$72,IF($O$6=\"Piedmont\",'Forage Growth Curve Reference'!$A$4:$Q$35,'Forage Growth Curve Reference'!$A$4:$Q$35))),17,FALSE),\"\")","v":""}]
[null,null,30,{"$f":"IF(AND(OR($J30<>\"\",$K30<>\"\"),$M30<>\"\"),$W30*VLOOKUP($D30,IF($O$6=\"Western Mountains\",'Forage Growth Curve Reference'!#REF!,IF($O$6=\"Coastal Plain\",'Forage Growth Curve Reference'!$A$41:$Q$72,IF($O$6=\"Piedmont\",'Forage Growth Curve Reference'!$A$4:$Q$35,'Forage Growth Curve Reference'!$A$4:$Q$35))),6,FALSE),\"\")","v":""},{"$f":"IF(AND(OR($J30<>\"\",$K30<>\"\"),$M30<>\"\"),$W30*VLOOKUP($D30,IF($O$6=\"Western Mountains\",'Forage Growth Curve Reference'!#REF!,IF($O$6=\"Coastal Plain\",'Forage Growth Curve Reference'!$A$41:$Q$72,IF($O$6=\"Piedmont\",'Forage Growth Curve Reference'!$A$4:$Q$35,'Forage Growth Curve Reference'!$A$4:$Q$35))),7,FALSE),\"\")","v":""},{"$f":"IF(AND(OR($J30<>\"\",$K30<>\"\"),$M30<>\"\"),$W30*VLOOKUP($D30,IF($O$6=\"Western Mountains\",'Forage Growth Curve Reference'!#REF!,IF($O$6=\"Coastal Plain\",'Forage Growth Curve Reference'!$A$41:$Q$72,IF($O$6=\"Piedmont\",'Forage Growth Curve Reference'!$A$4:$Q$35,'Forage Growth Curve Reference'!$A$4:$Q$35))),8,FALSE),\"\")","v":""},{"$f":"IF(AND(OR($J30<>\"\",$K30<>\"\"),$M30<>\"\"),$W30*VLOOKUP($D30,IF($O$6=\"Western Mountains\",'Forage Growth Curve Reference'!#REF!,IF($O$6=\"Coastal Plain\",'Forage Growth Curve Reference'!$A$41:$Q$72,IF($O$6=\"Piedmont\",'Forage Growth Curve Reference'!$A$4:$Q$35,'Forage Growth Curve Reference'!$A$4:$Q$35))),9,FALSE),\"\")","v":""},{"$f":"IF(AND(OR($J30<>\"\",$K30<>\"\"),$M30<>\"\"),$W30*VLOOKUP($D30,IF($O$6=\"Western Mountains\",'Forage Growth Curve Reference'!#REF!,IF($O$6=\"Coastal Plain\",'Forage Growth Curve Reference'!$A$41:$Q$72,IF($O$6=\"Piedmont\",'Forage Growth Curve Reference'!$A$4:$Q$35,'Forage Growth Curve Reference'!$A$4:$Q$35))),10,FALSE),\"\")","v":""},{"$f":"IF(AND(OR($J30<>\"\",$K30<>\"\"),$M30<>\"\"),$W30*VLOOKUP($D30,IF($O$6=\"Western Mountains\",'Forage Growth Curve Reference'!#REF!,IF($O$6=\"Coastal Plain\",'Forage Growth Curve Reference'!$A$41:$Q$72,IF($O$6=\"Piedmont\",'Forage Growth Curve Reference'!$A$4:$Q$35,'Forage Growth Curve Reference'!$A$4:$Q$35))),11,FALSE),\"\")","v":""},{"$f":"IF(AND(OR($J30<>\"\",$K30<>\"\"),$M30<>\"\"),$W30*VLOOKUP($D30,IF($O$6=\"Western Mountains\",'Forage Growth Curve Reference'!#REF!,IF($O$6=\"Coastal Plain\",'Forage Growth Curve Reference'!$A$41:$Q$72,IF($O$6=\"Piedmont\",'Forage Growth Curve Reference'!$A$4:$Q$35,'Forage Growth Curve Reference'!$A$4:$Q$35))),12,FALSE),\"\")","v":""},{"$f":"IF(AND(OR($J30<>\"\",$K30<>\"\"),$M30<>\"\"),$W30*VLOOKUP($D30,IF($O$6=\"Western Mountains\",'Forage Growth Curve Reference'!#REF!,IF($O$6=\"Coastal Plain\",'Forage Growth Curve Reference'!$A$41:$Q$72,IF($O$6=\"Piedmont\",'Forage Growth Curve Reference'!$A$4:$Q$35,'Forage Growth Curve Reference'!$A$4:$Q$35))),13,FALSE),\"\")","v":""},{"$f":"IF(AND(OR($J30<>\"\",$K30<>\"\"),$M30<>\"\"),$W30*VLOOKUP($D30,IF($O$6=\"Western Mountains\",'Forage Growth Curve Reference'!#REF!,IF($O$6=\"Coastal Plain\",'Forage Growth Curve Reference'!$A$41:$Q$72,IF($O$6=\"Piedmont\",'Forage Growth Curve Reference'!$A$4:$Q$35,'Forage Growth Curve Reference'!$A$4:$Q$35))),14,FALSE),\"\")","v":""},{"$f":"IF(AND(OR($J30<>\"\",$K30<>\"\"),$M30<>\"\"),$W30*VLOOKUP($D30,IF($O$6=\"Western Mountains\",'Forage Growth Curve Reference'!#REF!,IF($O$6=\"Coastal Plain\",'Forage Growth Curve Reference'!$A$41:$Q$72,IF($O$6=\"Piedmont\",'Forage Growth Curve Reference'!$A$4:$Q$35,'Forage Growth Curve Reference'!$A$4:$Q$35))),15,FALSE),\"\")","v":""},{"$f":"IF(AND(OR($J30<>\"\",$K30<>\"\"),$M30<>\"\"),$W30*VLOOKUP($D30,IF($O$6=\"Western Mountains\",'Forage Growth Curve Reference'!#REF!,IF($O$6=\"Coastal Plain\",'Forage Growth Curve Reference'!$A$41:$Q$72,IF($O$6=\"Piedmont\",'Forage Growth Curve Reference'!$A$4:$Q$35,'Forage Growth Curve Reference'!$A$4:$Q$35))),16,FALSE),\"\")","v":""},{"$f":"IF(AND(OR($J30<>\"\",$K30<>\"\"),$M30<>\"\"),$W30*VLOOKUP($D30,IF($O$6=\"Western Mountains\",'Forage Growth Curve Reference'!#REF!,IF($O$6=\"Coastal Plain\",'Forage Growth Curve Reference'!$A$41:$Q$72,IF($O$6=\"Piedmont\",'Forage Growth Curve Reference'!$A$4:$Q$35,'Forage Growth Curve Reference'!$A$4:$Q$35))),17,FALSE),\"\")","v":""}]
[null,null,null,{"$f":"IF(AND(OR($J31<>\"\",$K31<>\"\"),$M31<>\"\"),$W31*VLOOKUP($D31,IF($O$6=\"Western Mountains\",'Forage Growth Curve Reference'!#REF!,IF($O$6=\"Coastal Plain\",'Forage Growth Curve Reference'!$A$41:$Q$72,IF($O$6=\"Piedmont\",'Forage Growth Curve Reference'!$A$4:$Q$35,'Forage Growth Curve Reference'!$A$4:$Q$35))),6,FALSE),\"\")","v":""},{"$f":"IF(AND(OR($J31<>\"\",$K31<>\"\"),$M31<>\"\"),$W31*VLOOKUP($D31,IF($O$6=\"Western Mountains\",'Forage Growth Curve Reference'!#REF!,IF($O$6=\"Coastal Plain\",'Forage Growth Curve Reference'!$A$41:$Q$72,IF($O$6=\"Piedmont\",'Forage Growth Curve Reference'!$A$4:$Q$35,'Forage Growth Curve Reference'!$A$4:$Q$35))),7,FALSE),\"\")","v":""},{"$f":"IF(AND(OR($J31<>\"\",$K31<>\"\"),$M31<>\"\"),$W31*VLOOKUP($D31,IF($O$6=\"Western Mountains\",'Forage Growth Curve Reference'!#REF!,IF($O$6=\"Coastal Plain\",'Forage Growth Curve Reference'!$A$41:$Q$72,IF($O$6=\"Piedmont\",'Forage Growth Curve Reference'!$A$4:$Q$35,'Forage Growth Curve Reference'!$A$4:$Q$35))),8,FALSE),\"\")","v":""},{"$f":"IF(AND(OR($J31<>\"\",$K31<>\"\"),$M31<>\"\"),$W31*VLOOKUP($D31,IF($O$6=\"Western Mountains\",'Forage Growth Curve Reference'!#REF!,IF($O$6=\"Coastal Plain\",'Forage Growth Curve Reference'!$A$41:$Q$72,IF($O$6=\"Piedmont\",'Forage Growth Curve Reference'!$A$4:$Q$35,'Forage Growth Curve Reference'!$A$4:$Q$35))),9,FALSE),\"\")","v":""},{"$f":"IF(AND(OR($J31<>\"\",$K31<>\"\"),$M31<>\"\"),$W31*VLOOKUP($D31,IF($O$6=\"Western Mountains\",'Forage Growth Curve Reference'!#REF!,IF($O$6=\"Coastal Plain\",'Forage Growth Curve Reference'!$A$41:$Q$72,IF($O$6=\"Piedmont\",'Forage Growth Curve Reference'!$A$4:$Q$35,'Forage Growth Curve Reference'!$A$4:$Q$35))),10,FALSE),\"\")","v":""},{"$f":"IF(AND(OR($J31<>\"\",$K31<>\"\"),$M31<>\"\"),$W31*VLOOKUP($D31,IF($O$6=\"Western Mountains\",'Forage Growth Curve Reference'!#REF!,IF($O$6=\"Coastal Plain\",'Forage Growth Curve Reference'!$A$41:$Q$72,IF($O$6=\"Piedmont\",'Forage Growth Curve Reference'!$A$4:$Q$35,'Forage Growth Curve Reference'!$A$4:$Q$35))),11,FALSE),\"\")","v":""},{"$f":"IF(AND(OR($J31<>\"\",$K31<>\"\"),$M31<>\"\"),$W31*VLOOKUP($D31,IF($O$6=\"Western Mountains\",'Forage Growth Curve Reference'!#REF!,IF($O$6=\"Coastal Plain\",'Forage Growth Curve Reference'!$A$41:$Q$72,IF($O$6=\"Piedmont\",'Forage Growth Curve Reference'!$A$4:$Q$35,'Forage Growth Curve Reference'!$A$4:$Q$35))),12,FALSE),\"\")","v":""},{"$f":"IF(AND(OR($J31<>\"\",$K31<>\"\"),$M31<>\"\"),$W31*VLOOKUP($D31,IF($O$6=\"Western Mountains\",'Forage Growth Curve Reference'!#REF!,IF($O$6=\"Coastal Plain\",'Forage Growth Curve Reference'!$A$41:$Q$72,IF($O$6=\"Piedmont\",'Forage Growth Curve Reference'!$A$4:$Q$35,'Forage Growth Curve Reference'!$A$4:$Q$35))),13,FALSE),\"\")","v":""},{"$f":"IF(AND(OR($J31<>\"\",$K31<>\"\"),$M31<>\"\"),$W31*VLOOKUP($D31,IF($O$6=\"Western Mountains\",'Forage Growth Curve Reference'!#REF!,IF($O$6=\"Coastal Plain\",'Forage Growth Curve Reference'!$A$41:$Q$72,IF($O$6=\"Piedmont\",'Forage Growth Curve Reference'!$A$4:$Q$35,'Forage Growth Curve Reference'!$A$4:$Q$35))),14,FALSE),\"\")","v":""},{"$f":"IF(AND(OR($J31<>\"\",$K31<>\"\"),$M31<>\"\"),$W31*VLOOKUP($D31,IF($O$6=\"Western Mountains\",'Forage Growth Curve Reference'!#REF!,IF($O$6=\"Coastal Plain\",'Forage Growth Curve Reference'!$A$41:$Q$72,IF($O$6=\"Piedmont\",'Forage Growth Curve Reference'!$A$4:$Q$35,'Forage Growth Curve Reference'!$A$4:$Q$35))),15,FALSE),\"\")","v":""},{"$f":"IF(AND(OR($J31<>\"\",$K31<>\"\"),$M31<>\"\"),$W31*VLOOKUP($D31,IF($O$6=\"Western Mountains\",'Forage Growth Curve Reference'!#REF!,IF($O$6=\"Coastal Plain\",'Forage Growth Curve Reference'!$A$41:$Q$72,IF($O$6=\"Piedmont\",'Forage Growth Curve Reference'!$A$4:$Q$35,'Forage Growth Curve Reference'!$A$4:$Q$35))),16,FALSE),\"\")","v":""},{"$f":"IF(AND(OR($J31<>\"\",$K31<>\"\"),$M31<>\"\"),$W31*VLOOKUP($D31,IF($O$6=\"Western Mountains\",'Forage Growth Curve Reference'!#REF!,IF($O$6=\"Coastal Plain\",'Forage Growth Curve Reference'!$A$41:$Q$72,IF($O$6=\"Piedmont\",'Forage Growth Curve Reference'!$A$4:$Q$35,'Forage Growth Curve Reference'!$A$4:$Q$35))),17,FALSE),\"\")","v":""}]
["lbs",null,null,{"$f":"SUM(D62:D82)","v":0},0,0,0,0,0,0,0,0,0,0,0]
["ton",null,null,{"$f":"D83/2000","v":0},{"$f":"E83/2000","v":0},0,0,0,0,0,0,{"$f":"L83/2000","v":0},{"$f":"M83/2000","v":0},{"$f":"N83/2000","v":0},{"$f":"O83/2000","v":0}]
[null,null,"month",1,2,3,4,5,6,7,8,9,10,11,12]
[null,null,"days in month",31,28.25,31,30,31,30,31,31,30,31,30,31]
["Livestock Mature",null,null,"Jan (31)","Feb (28.25)","Mar (31)","Apr (30)","May (31)","Jun (30)","Jul (31)","Aug (31)","Sep (30)","Oct (31)","Nov (30)","Dec (31)"]
[null,null,39,{"$f":"IF($T39=\"\",\"\",IF(D$85>=$O39,IF(D$85<$Q39+1,$T39*D$86/$R39,0),0))","v":""},"","","","","","","","","","",""]
[null,null,40,{"$f":"IF($T40=\"\",\"\",IF(D$85>=$O40,IF(D$85<$Q40+1,$T40*D$86/$R40,0),0))","v":""},"","","","","","","","","","",""]
[null,null,41,{"$f":"IF($T41=\"\",\"\",IF(D$85>=$O41,IF(D$85<$Q41+1,$T41*D$86/$R41,0),0))","v":""},"","","","","","","","","","",""]
[null,null,42,{"$f":"IF($T42=\"\",\"\",IF(D$85>=$O42,IF(D$85<$Q42+1,$T42*D$86/$R42,0),0))","v":""},"","","","","","","","","","",""]
[null,null,43,{"$f":"IF($T43=\"\",\"\",IF(D$85>=$O43,IF(D$85<$Q43+1,$T43*D$86/$R43,0),0))","v":""},"","","","","","","","","","",""]
[null,null,44,{"$f":"IF($T44=\"\",\"\",IF(D$85>=$O44,IF(D$85<$Q44+1,$T44*D$86/$R44,0),0))","v":""},"","","","","","","","","","",""]
[null,null,45,{"$f":"IF($T45=\"\",\"\",IF(D$85>=$O45,IF(D$85<$Q45+1,$T45*D$86/$R45,0),0))","v":""},"","","","","","","","","","",""]
[null,null,46,{"$f":"IF($T46=\"\",\"\",IF(D$85>=$O46,IF(D$85<$Q46+1,$T46*D$86/$R46,0),0))","v":""},"","","","","","","","","","",""]
[null,null,47,{"$f":"IF($T47=\"\",\"\",IF(D$85>=$O47,IF(D$85<$Q47+1,$T47*D$86/$R47,0),0))","v":""},"","","","","","","","","","",""]
[null,null,48,{"$f":"IF($T48=\"\",\"\",IF(D$85>=$O48,IF(D$85<$Q48+1,$T48*D$86/$R48,0),0))","v":""},"","","","","","","","","","",""]
["lbs",null,null,{"$f":"SUM(D88:D97)","v":0},0,0,0,0,0,0,0,0,0,0,0]
["ton",null,null,{"$f":"D98/2000","v":0},{"$f":"E98/2000","v":0},0,0,0,0,0,0,0,0,0,0]
["Difference"]
[null,null,null,{"$f":"D84-D99","v":0},0,0,0,0,0,0,0,0,0,0,0]

{"sheet":"F-A Balance 2","index":4,"n_rows":101,"n_cols":35,"rows_kept":101,"cut":false,"hidden":false,"merged":[[65,24,66,25],[56,9,56,16],[56,17,56,18],[56,19,56,21],[57,9,57,16],[57,17,57,18],[57,19,57,21],[52,0,52,22],[54,9,54,16],[54,17,54,18],[54,19,54,21],[55,9,55,16],[55,17,55,18],[55,19,55,21],[47,1,47,2],[47,3,47,4],[47,9,47,10],[47,11,47,12],[47,14,47,15],[48,11,48,13],[45,1,45,2],[45,3,45,4],[45,9,45,10],[45,11,45,12],[45,14,45,15],[46,1,46,2],[46,3,46,4],[46,9,46,10],[46,11,46,12],[46,14,46,15],[43,1,43,2],[43,3,43,4],[43,9,43,10],[43,11,43,12],[43,14,43,15],[44,1,44,2],[44,3,44,4],[44,9,44,10],[44,11,44,12],[44,14,44,15],[41,1,41,2],[41,3,41,4],[41,9,41,10],[41,11,41,12],[41,14,41,15],[42,1,42,2],[42,3,42,4],[42,9,42,10],[42,11,42,12],[42,14,42,15],[39,1,39,2],[39,3,39,4],[39,9,39,10],[39,11,39,12],[39,14,39,15],[40,1,40,2],[40,3,40,4],[40,9,40,10],[40,11,40,12],[40,14,40,15],[38,1,38,2],[38,3,38,4],[38,9,38,10],[38,11,38,12],[38,14,38,15],[36,7,37,7],[36,8,37,8],[36,9,37,10],[36,11,37,12],[36,13,37,13],[36,14,36,17],[32,0,32,3],[32,4,32,16],[32,18,32,21],[34,15,34,22],[35,0,35,15],[36,0,37,0],[36,1,37,2],[36,3,37,4],[36,5,37,5],[36,6,37,6],[36,18,37,18],[36,19,37,19],[37,14,37,15],[30,1,30,2],[30,3,30,8],[30,13,30,14],[30,15,30,17],[31,0,31,3],[31,18,31,21],[28,1,28,2],[28,3,28,8],[28,13,28,14],[28,15,28,17],[29,1,29,2],[29,3,29,8],[29,13,29,14],[29,15,29,17],[26,1,26,2],[26,3,26,8],[26,13,26,14],[26,15,26,17],[27,1,27,2],[27,3,27,8],[27,13,27,14],[27,15,27,17],[24,1,24,2],[24,3,24,8],[24,13,24,14],[24,15,24,17],[25,1,25,2],[25,3,25,8],[25,13,25,14],[25,15,25,17],[22,1,22,2],[22,3,22,8],[22,13,22,14],[22,15,22,17],[23,1,23,2],[23,3,23,8],[23,13,23,14],[23,15,23,17],[20,1,20,2],[20,3,20,8],[20,13,20,14],[20,15,20,17],[21,1,21,2],[21,3,21,8],[21,13,21,14],[21,15,21,17],[18,1,18,2],[18,3,18,8],[18,13,18,14],[18,15,18,17],[19,1,19,2],[19,3,19,8],[19,13,19,14],[19,15,19,17],[16,1,16,2],[16,3,16,8],[16,13,16,14],[16,15,16,17],[17,1,17,2],[17,3,17,8],[17,13,17,14],[17,15,17,17],[14,1,14,2],[14,3,14,8],[14,13,14,14],[14,15,14,17],[15,1,15,2],[15,3,15,8],[15,13,15,14],[15,15,15,17],[12,1,12,2],[12,3,12,8],[12,13,12,14],[12,15,12,17],[13,1,13,2],[13,3,13,8],[13,13,13,14],[13,15,13,17],[10,1,10,2],[10,3,10,8],[10,13,10,14],[10,15,10,17],[10,27,10,28],[11,1,11,2],[11,3,11,8],[11,13,11,14],[11,15,11,17],[7,1,7,18],[8,0,8,22],[9,1,9,2],[9,3,9,8],[9,13,9,14],[9,15,9,17],[9,19,9,20],[5,1,5,5],[5,12,5,13],[5,14,5,18],[5,19,5,23],[5,24,5,34],[6,1,6,5],[6,19,6,23],[6,24,6,25],[6,26,6,27],[0,0,1,22],[0,24,0,37],[1,24,1,37],[2,24,2,38],[3,24,3,33],[4,1,4,5],[4,14,4,18],[4,24,4,34]]}
["Forage-Animal Balance Worksheet"]
[]
[]
[]
["Producer:",{"$f":"Instructions!$B$19","v":0},null,null,null,null,null,null,null,null,null,null,null,"Planner:",{"$f":"Instructions!$B$26","v":0}]
["County:",{"$f":"Instructions!$B$24","v":0},null,null,null,null,null,null,null,null,null,null,"Region:",null,{"$f":"Instructions!$B$25","v":0},null,null,null,null,"DE Physiographic Regions Map"]
["Date:",{"$f":"Instructions!$B$27","v":"00:00:00"},null,null,null,null,null,null,null,null,null,null,null,null,null,null,null,null,null,"DE Growing Season Map"]
["Scenario:"]
["I. Yearly Forage Supply (Total Pounds as Dry Matter) "]
[null,"Field #",null,"Forage(s)",null,null,null,null,null,"Estimated Production (lbs)","Production Correction (lbs)","X","Acres","X",null,"Days on Paddock",null,null,"Multi- Species Herd*"," % Grazing/Harvest Efficiency \n(as decimal)",null,"=","Dry Matter Supply (lbs)"]
[{"$f":"IF(D11<>\"\",1,\"\")","v":""},null,null,null,null,null,null,null,null,{"$f":"IF(D11=\"\",\"\",IF(K11<>\"\",\"\",VLOOKUP(D11,IF($O$6=\"Coastal Plain\",'Forage Growth Curve Reference'!$A$41:$Q$72,IF($O$6=\"Piedmont\",'Forage Growth Curve Reference'!$A$4:$Q$35)),3,FALSE)))","v":""},null,{"$f":"IF(A11<>\"\",\"X\",\"\")","v":""},null,{"$f":"IF(A11<>\"\",\"X\",\"\")","v":""},null,null,null,null,null,{"$f":"IF(OR(P11=\"\",$S11=\"Yes\"),\"\",VLOOKUP(P11,'Forage Growth Curve Reference'!$T$3:$U$13,2,FALSE))","v":""},{"$f":"IF($S11=\"Yes\",(VLOOKUP(P11,'Forage Growth Curve Reference'!$T$3:$U$13,2,FALSE)*1.1),\"\")","v":""},{"$f":"IF(OR(T11<>\"\",U11<>\"\"),\"=\",\"\")","v":""},{"$f":"IF(AND(J11<>\"\",T11<>\"\"),J11*M11*T11,IF(AND(K11<>\"\",T11<>\"\"),K11*M11*T11,IF(AND(J11<>\"\",U11<>\"\"),J11*M11*U11,IF(AND(K11<>\"\",U11<>\"\"),K11*M11*U11,\"\"))))","v":""},null,null,null,null,null,null,null,null,null,null,null,"Yes"]
[{"$f":"IF(D12<>\"\",2,\"\")","v":""},null,null,null,null,null,null,null,null,{"$f":"IF(D12=\"\",\"\",IF(K12<>\"\",\"\",VLOOKUP(D12,IF($O$6=\"Coastal Plain\",'Forage Growth Curve Reference'!$A$41:$Q$72,IF($O$6=\"Piedmont\",'Forage Growth Curve Reference'!$A$4:$Q$35)),3,FALSE)))","v":""},null,"",null,"",null,null,null,null,null,{"$f":"IF(OR(P12=\"\",$S12=\"Yes\"),\"\",VLOOKUP(P12,'Forage Growth Curve Reference'!$T$3:$U$13,2,FALSE))","v":""},{"$f":"IF($S12=\"Yes\",(VLOOKUP(P12,'Forage Growth Curve Reference'!$T$3:$U$13,2,FALSE)*1.1),\"\")","v":""},{"$f":"IF(OR(T12<>\"\",U12<>\"\"),\"=\",\"\")","v":""},{"$f":"IF(AND(J12<>\"\",T12<>\"\"),J12*M12*T12,IF(AND(K12<>\"\",T12<>\"\"),K12*M12*T12,IF(AND(J12<>\"\",U12<>\"\"),J12*M12*U12,IF(AND(K12<>\"\",U12<>\"\"),K12*M12*U12,\"\"))))","v":""}]
[{"$f":"IF(D13<>\"\",3,\"\")","v":""},null,null,null,null,null,null,null,null,{"$f":"IF(D13=\"\",\"\",IF(K13<>\"\",\"\",VLOOKUP(D13,IF($O$6=\"Coastal Plain\",'Forage Growth Curve Reference'!$A$41:$Q$72,IF($O$6=\"Piedmont\",'Forage Growth Curve Reference'!$A$4:$Q$35)),3,FALSE)))","v":""},null,"",null,"",null,null,null,null,null,{"$f":"IF(OR(P13=\"\",$S13=\"Yes\"),\"\",VLOOKUP(P13,'Forage Growth Curve Reference'!$T$3:$U$13,2,FALSE))","v":""},{"$f":"IF($S13=\"Yes\",(VLOOKUP(P13,'Forage Growth Curve Reference'!$T$3:$U$13,2,FALSE)*1.1),\"\")","v":""},"",""]
[{"$f":"IF(D14<>\"\",4,\"\")","v":""},null,null,null,null,null,null,null,null,{"$f":"IF(D14=\"\",\"\",IF(K14<>\"\",\"\",VLOOKUP(D14,IF($O$6=\"Coastal Plain\",'Forage Growth Curve Reference'!$A$41:$Q$72,IF($O$6=\"Piedmont\",'Forage Growth Curve Reference'!$A$4:$Q$35)),3,FALSE)))","v":""},null,"",null,"",null,null,null,null,null,{"$f":"IF(OR(P14=\"\",$S14=\"Yes\"),\"\",VLOOKUP(P14,'Forage Growth Curve Reference'!$T$3:$U$13,2,FALSE))","v":""},{"$f":"IF($S14=\"Yes\",(VLOOKUP(P14,'Forage Growth Curve Reference'!$T$3:$U$13,2,FALSE)*1.1),\"\")","v":""},"",""]
[{"$f":"IF(D15<>\"\",5,\"\")","v":""},null,null,null,null,null,null,null,null,{"$f":"IF(D15=\"\",\"\",IF(K15<>\"\",\"\",VLOOKUP(D15,IF($O$6=\"Coastal Plain\",'Forage Growth Curve Reference'!$A$41:$Q$72,IF($O$6=\"Piedmont\",'Forage Growth Curve Reference'!$A$4:$Q$35)),3,FALSE)))","v":""},null,"",null,"",null,null,null,null,null,{"$f":"IF(OR(P15=\"\",$S15=\"Yes\"),\"\",VLOOKUP(P15,'Forage Growth Curve Reference'!$T$3:$U$13,2,FALSE))","v":""},{"$f":"IF($S15=\"Yes\",(VLOOKUP(P15,'Forage Growth Curve Reference'!$T$3:$U$13,2,FALSE)*1.1),\"\")","v":""},"",""]
[{"$f":"IF(D16<>\"\",6,\"\")","v":""},null,null,null,null,null,null,null,null,{"$f":"IF(D16=\"\",\"\",IF(K16<>\"\",\"\",VLOOKUP(D16,IF($O$6=\"Coastal Plain\",'Forage Growth Curve Reference'!$A$41:$Q$72,IF($O$6=\"Piedmont\",'Forage Growth Curve Reference'!$A$4:$Q$35)),3,FALSE)))","v":""},null,"",null,"",null,null,null,null,null,{"$f":"IF(OR(P16=\"\",$S16=\"Yes\"),\"\",VLOOKUP(P16,'Forage Growth Curve Reference'!$T$3:$U$13,2,FALSE))","v":""},{"$f":"IF($S16=\"Yes\",(VLOOKUP(P16,'Forage Growth Curve Reference'!$T$3:$U$13,2,FALSE)*1.1),\"\")","v":""},"",""]
[{"$f":"IF(D17<>\"\",7,\"\")","v":""},null,null,null,null,null,null,null,null,{"$f":"IF(D17=\"\",\"\",IF(K17<>\"\",\"\",VLOOKUP(D17,IF($O$6=\"Coastal Plain\",'Forage Growth Curve Reference'!$A$41:$Q$72,IF($O$6=\"Piedmont\",'Forage Growth Curve Reference'!$A$4:$Q$35)),3,FALSE)))","v":""},null,"",null,"",null,null,null,null,null,{"$f":"IF(OR(P17=\"\",$S17=\"Yes\"),\"\",VLOOKUP(P17,'Forage Growth Curve Reference'!$T$3:$U$13,2,FALSE))","v":""},{"$f":"IF($S17=\"Yes\",(VLOOKUP(P17,'Forage Growth Curve Reference'!$T$3:$U$13,2,FALSE)*1.1),\"\")","v":""},"",""]
[{"$f":"IF(D18<>\"\",8,\"\")","v":""},null,null,null,null,null,null,null,null,{"$f":"IF(D18=\"\",\"\",IF(K18<>\"\",\"\",VLOOKUP(D18,IF($O$6=\"Coastal Plain\",'Forage Growth Curve Reference'!$A$41:$Q$72,IF($O$6=\"Piedmont\",'Forage Growth Curve Reference'!$A$4:$Q$35)),3,FALSE)))","v":""},null,"",null,"",null,null,null,null,null,{"$f":"IF(OR(P18=\"\",$S18=\"Yes\"),\"\",VLOOKUP(P18,'Forage Growth Curve Reference'!$T$3:$U$13,2,FALSE))","v":""},{"$f":"IF($S18=\"Yes\",(VLOOKUP(P18,'Forage Growth Curve Reference'!$T$3:$U$13,2,FALSE)*1.1),\"\")","v":""},"",""]
[{"$f":"IF(D19<>\"\",9,\"\")","v":""},null,null,null,null,null,null,null,null,{"$f":"IF(D19=\"\",\"\",IF(K19<>\"\",\"\",VLOOKUP(D19,IF($O$6=\"Coastal Plain\",'Forage Growth Curve Reference'!$A$41:$Q$72,IF($O$6=\"Piedmont\",'Forage Growth Curve Reference'!$A$4:$Q$35)),3,FALSE)))","v":""},null,"",null,"",null,null,null,null,null,{"$f":"IF(OR(P19=\"\",$S19=\"Yes\"),\"\",VLOOKUP(P19,'Forage Growth Curve Reference'!$T$3:$U$13,2,FALSE))","v":""},{"$f":"IF($S19=\"Yes\",(VLOOKUP(P19,'Forage Growth Curve Reference'!$T$3:$U$13,2,FALSE)*1.1),\"\")","v":""},"",""]
[{"$f":"IF(D20<>\"\",10,\"\")","v":""},null,null,null,null,null,null,null,null,{"$f":"IF(D20=\"\",\"\",IF(K20<>\"\",\"\",VLOOKUP(D20,IF($O$6=\"Coastal Plain\",'Forage Growth Curve Reference'!$A$41:$Q$72,IF($O$6=\"Piedmont\",'Forage Growth Curve Reference'!$A$4:$Q$35)),3,FALSE)))","v":""},null,"",null,"",null,null,null,null,null,{"$f":"IF(OR(P20=\"\",$S20=\"Yes\"),\"\",VLOOKUP(P20,'Forage Growth Curve Reference'!$T$3:$U$13,2,FALSE))","v":""},{"$f":"IF($S20=\"Yes\",(VLOOKUP(P20,'Forage Growth Curve Reference'!$T$3:$U$13,2,FALSE)*1.1),\"\")","v":""},"",""]
[{"$f":"IF(D21<>\"\",11,\"\")","v":""},null,null,null,null,null,null,null,null,{"$f":"IF(D21=\"\",\"\",IF(K21<>\"\",\"\",VLOOKUP(D21,IF($O$6=\"Coastal Plain\",'Forage Growth Curve Reference'!$A$41:$Q$72,IF($O$6=\"Piedmont\",'Forage Growth Curve Reference'!$A$4:$Q$35)),3,FALSE)))","v":""},null,"",null,"",null,null,null,null,null,{"$f":"IF(OR(P21=\"\",$S21=\"Yes\"),\"\",VLOOKUP(P21,'Forage Growth Curve Reference'!$T$3:$U$13,2,FALSE))","v":""},{"$f":"IF($S21=\"Yes\",(VLOOKUP(P21,'Forage Growth Curve Reference'!$T$3:$U$13,2,FALSE)*1.1),\"\")","v":""},"",""]
[{"$f":"IF(D22<>\"\",12,\"\")","v":""},null,null,null,null,null,null,null,null,{"$f":"IF(D22=\"\",\"\",IF(K22<>\"\",\"\",VLOOKUP(D22,IF($O$6=\"Coastal Plain\",'Forage Growth Curve Reference'!$A$41:$Q$72,IF($O$6=\"Piedmont\",'Forage Growth Curve Reference'!$A$4:$Q$35)),3,FALSE)))","v":""},null,"",null,"",null,null,null,null,null,{"$f":"IF(OR(P22=\"\",$S22=\"Yes\"),\"\",VLOOKUP(P22,'Forage Growth Curve Reference'!$T$3:$U$13,2,FALSE))","v":""},{"$f":"IF($S22=\"Yes\",(VLOOKUP(P22,'Forage Growth Curve Reference'!$T$3:$U$13,2,FALSE)*1.1),\"\")","v":""},"",""]
[{"$f":"IF(D23<>\"\",13,\"\")","v":""},null,null,null,null,null,null,null,null,{"$f":"IF(D23=\"\",\"\",IF(K23<>\"\",\"\",VLOOKUP(D23,IF($O$6=\"Coastal Plain\",'Forage Growth Curve Reference'!$A$41:$Q$72,IF($O$6=\"Piedmont\",'Forage Growth Curve Reference'!$A$4:$Q$35)),3,FALSE)))","v":""},null,"",null,"",null,null,null,null,null,{"$f":"IF(OR(P23=\"\",$S23=\"Yes\"),\"\",VLOOKUP(P23,'Forage Growth Curve Reference'!$T$3:$U$13,2,FALSE))","v":""},{"$f":"IF($S23=\"Yes\",(VLOOKUP(P23,'Forage Growth Curve Reference'!$T$3:$U$13,2,FALSE)*1.1),\"\")","v":""},"",""]
[{"$f":"IF(D24<>\"\",14,\"\")","v":""},null,null,null,null,null,null,null,null,{"$f":"IF(D24=\"\",\"\",IF(K24<>\"\",\"\",VLOOKUP(D24,IF($O$6=\"Coastal Plain\",'Forage Growth Curve Reference'!$A$41:$Q$72,IF($O$6=\"Piedmont\",'Forage Growth Curve Reference'!$A$4:$Q$35)),3,FALSE)))","v":""},null,"",null,"",null,null,null,null,null,{"$f":"IF(OR(P24=\"\",$S24=\"Yes\"),\"\",VLOOKUP(P24,'Forage Growth Curve Reference'!$T$3:$U$13,2,FALSE))","v":""},{"$f":"IF($S24=\"Yes\",(VLOOKUP(P24,'Forage Growth Curve Reference'!$T$3:$U$13,2,FALSE)*1.1),\"\")","v":""},"",""]
[{"$f":"IF(D25<>\"\",15,\"\")","v":""},null,null,null,null,null,null,null,null,{"$f":"IF(D25=\"\",\"\",IF(K25<>\"\",\"\",VLOOKUP(D25,IF($O$6=\"Coastal Plain\",'Forage Growth Curve Reference'!$A$41:$Q$72,IF($O$6=\"Piedmont\",'Forage Growth Curve Reference'!$A$4:$Q$35)),3,FALSE)))","v":""},null,"",null,"",null,null,null,null,null,{"$f":"IF(OR(P25=\"\",$S25=\"Yes\"),\"\",VLOOKUP(P25,'Forage Growth Curve Reference'!$T$3:$U$13,2,FALSE))","v":""},{"$f":"IF($S25=\"Yes\",(VLOOKUP(P25,'Forage Growth Curve Reference'!$T$3:$U$13,2,FALSE)*1.1),\"\")","v":""},"",""]
[{"$f":"IF(D26<>\"\",16,\"\")","v":""},null,null,null,null,null,null,null,null,{"$f":"IF(D26=\"\",\"\",IF(K26<>\"\",\"\",VLOOKUP(D26,IF($O$6=\"Coastal Plain\",'Forage Growth Curve Reference'!$A$41:$Q$72,IF($O$6=\"Piedmont\",'Forage Growth Curve Reference'!$A$4:$Q$35)),3,FALSE)))","v":""},null,"",null,"",null,null,null,null,null,{"$f":"IF(OR(P26=\"\",$S26=\"Yes\"),\"\",VLOOKUP(P26,'Forage Growth Curve Reference'!$T$3:$U$13,2,FALSE))","v":""},{"$f":"IF($S26=\"Yes\",(VLOOKUP(P26,'Forage Growth Curve Reference'!$T$3:$U$13,2,FALSE)*1.1),\"\")","v":""},"",""]
[{"$f":"IF(D27<>\"\",17,\"\")","v":""},null,null,null,null,null,null,null,null,{"$f":"IF(D27=\"\",\"\",IF(K27<>\"\",\"\",VLOOKUP(D27,IF($O$6=\"Coastal Plain\",'Forage Growth Curve Reference'!$A$41:$Q$72,IF($O$6=\"Piedmont\",'Forage Growth Curve Reference'!$A$4:$Q$35)),3,FALSE)))","v":""},null,"",null,"",null,null,null,null,null,{"$f":"IF(OR(P27=\"\",$S27=\"Yes\"),\"\",VLOOKUP(P27,'Forage Growth Curve Reference'!$T$3:$U$13,2,FALSE))","v":""},{"$f":"IF($S27=\"Yes\",(VLOOKUP(P27,'Forage Growth Curve Reference'!$T$3:$U$13,2,FALSE)*1.1),\"\")","v":""},"",""]
[{"$f":"IF(D28<>\"\",18,\"\")","v":""},null,null,null,null,null,null,null,null,{"$f":"IF(D28=\"\",\"\",IF(K28<>\"\",\"\",VLOOKUP(D28,IF($O$6=\"Coastal Plain\",'Forage Growth Curve Reference'!$A$41:$Q$72,IF($O$6=\"Piedmont\",'Forage Growth Curve Reference'!$A$4:$Q$35)),3,FALSE)))","v":""},null,"",null,"",null,null,null,null,null,{"$f":"IF(OR(P28=\"\",$S28=\"Yes\"),\"\",VLOOKUP(P28,'Forage Growth Curve Reference'!$T$3:$U$13,2,FALSE))","v":""},{"$f":"IF($S28=\"Yes\",(VLOOKUP(P28,'Forage Growth Curve Reference'!$T$3:$U$13,2,FALSE)*1.1),\"\")","v":""},"",""]
[{"$f":"IF(D29<>\"\",19,\"\")","v":""},null,null,null,null,null,null,null,null,{"$f":"IF(D29=\"\",\"\",IF(K29<>\"\",\"\",VLOOKUP(D29,IF($O$6=\"Coastal Plain\",'Forage Growth Curve Reference'!$A$41:$Q$72,IF($O$6=\"Piedmont\",'Forage Growth Curve Reference'!$A$4:$Q$35)),3,FALSE)))","v":""},null,"",null,"",null,null,null,null,null,{"$f":"IF(OR(P29=\"\",$S29=\"Yes\"),\"\",VLOOKUP(P29,'Forage Growth Curve Reference'!$T$3:$U$13,2,FALSE))","v":""},{"$f":"IF($S29=\"Yes\",(VLOOKUP(P29,'Forage Growth Curve Reference'!$T$3:$U$13,2,FALSE)*1.1),\"\")","v":""},"",""]
[{"$f":"IF(D30<>\"\",20,\"\")","v":""},null,null,null,null,null,null,null,null,{"$f":"IF(D30=\"\",\"\",IF(K30<>\"\",\"\",VLOOKUP(D30,IF($O$6=\"Coastal Plain\",'Forage Growth Curve Reference'!$A$41:$Q$72,IF($O$6=\"Piedmont\",'Forage Growth Curve Reference'!$A$4:$Q$35)),3,FALSE)))","v":""},null,"",null,"",null,null,null,null,null,{"$f":"IF(OR(P30=\"\",$S30=\"Yes\"),\"\",VLOOKUP(P30,'Forage Growth Curve Reference'!$T$3:$U$13,2,FALSE))","v":""},{"$f":"IF($S30=\"Yes\",(VLOOKUP(P30,'Forage Growth Curve Reference'!$T$3:$U$13,2,FALSE)*1.1),\"\")","v":""},"",""]
[{"$f":"IF(D31<>\"\",21,\"\")","v":""},null,null,null,null,null,null,null,null,{"$f":"IF(D31=\"\",\"\",IF(K31<>\"\",\"\",VLOOKUP(D31,IF($O$6=\"Coastal Plain\",'Forage Growth Curve Reference'!$A$41:$Q$72,IF($O$6=\"Piedmont\",'Forage Growth Curve Reference'!$A$4:$Q$35)),3,FALSE)))","v":""},null,"",null,"",null,null,null,null,null,{"$f":"IF(OR(P31=\"\",$S31=\"Yes\"),\"\",VLOOKUP(P31,'Forage Growth Curve Reference'!$T$3:$U$13,2,FALSE))","v":""},{"$f":"IF($S31=\"Yes\",(VLOOKUP(P31,'Forage Growth Curve Reference'!$T$3:$U$13,2,FALSE)*1.1),\"\")","v":""},"",""]
[null,null,null,null,null,null,null,null,null,null,null,"Total acres:",{"$f":"SUM(M11:M31)","v":0},null,null,null,null,null,"Annual Total (lbs):",null,null,null,{"$f":"SUM(W11:W31)","v":0}]
[null,null,null,null,null,null,null,null,null,null,null,null,null,null,null,null,null,null,"Annual Total (tons):",null,null,null,{"$f":"W32/2000","v":0}]
[]
[null,null,null,null,null,null,null,null,null,null,null,null,null,null,null,"*If marked \"Yes,\" the field/paddock will be grazed by multi-species herd(s). "]
["II.  Yearly Forage Demand (Total Pounds as Dry Matter)"]
[null,"Herd/Flock Name or Description",null,"Animal Type",null,"No. of Animals","X","Average Weight (lbs)","X","DM Intake as % of Body Weight (as decimal)",null,"DM Intake as % Body Weight Correction (decimal)",null,"X","Grazing Period",null,null,null,"=","Dry Matter Demand per Herd/Flock (lbs)"]
[null,null,null,null,null,null,null,null,null,null,null,null,null,null,"Start Month",null,"End Month","Total Days"]
[{"$f":"IF(D39<>\"\",1,\"\")","v":""},null,null,null,null,null,{"$f":"IF(F39<>\"\",\"X\",\"\")","v":""},null,{"$f":"IF(F39<>\"\",\"X\",\"\")","v":""},{"$f":"IF(L39<>\"\",\"\",IF(D39=\"\",\"\",VLOOKUP(D39,'Forage Growth Curve Reference'!$Y$3:$Z$9,2,FALSE)))","v":""},null,null,null,{"$f":"IF(F39<>\"\",\"X\",\"\")","v":""},null,null,null,{"$f":"IF(AND(O39>=1,Q39>=2,Q39>O39),ROUNDUP(((Q39-(O39-1))*30.45),0),\"\")","v":""},{"$f":"IF(R39<>\"\",\"=\",\"\")","v":""},{"$f":"IF(J39<>\"\",R39*F39*H39*J39,IF(L39<>\"\",R39*F39*H39*L39,\"\"))","v":""}]
[{"$f":"IF(D40<>\"\",2,\"\")","v":""},null,null,null,null,null,"",null,{"$f":"IF(F40<>\"\",\"X\",\"\")","v":""},{"$f":"IF(L40<>\"\",\"\",IF(D40=\"\",\"\",VLOOKUP(D40,'Forage Growth Curve Reference'!$Y$3:$Z$9,2,FALSE)))","v":""},null,null,null,"",null,null,null,{"$f":"IF(AND(O40>=1,Q40>=2,Q40>O40),ROUNDUP(((Q40-(O40-1))*30.45),0),\"\")","v":""},{"$f":"IF(R40<>\"\",\"=\",\"\")","v":""},{"$f":"IF(J40<>\"\",R40*F40*H40*J40,IF(L40<>\"\",R40*F40*H40*L40,\"\"))","v":""}]
[{"$f":"IF(D41<>\"\",3,\"\")","v":""},null,null,null,null,null,"",null,"",{"$f":"IF(L41<>\"\",\"\",IF(D41=\"\",\"\",VLOOKUP(D41,'Forage Growth Curve Reference'!$Y$3:$Z$9,2,FALSE)))","v":""},null,null,null,"",null,null,null,"",{"$f":"IF(R41<>\"\",\"=\",\"\")","v":""},""]
[{"$f":"IF(D42<>\"\",4,\"\")","v":""},null,null,null,null,null,"",null,"",{"$f":"IF(L42<>\"\",\"\",IF(D42=\"\",\"\",VLOOKUP(D42,'Forage Growth Curve Reference'!$Y$3:$Z$9,2,FALSE)))","v":""},null,null,null,"",null,null,null,"","",""]
[{"$f":"IF(D43<>\"\",5,\"\")","v":""},null,null,null,null,null,"",null,"",{"$f":"IF(L43<>\"\",\"\",IF(D43=\"\",\"\",VLOOKUP(D43,'Forage Growth Curve Reference'!$Y$3:$Z$9,2,FALSE)))","v":""},null,null,null,"",null,null,null,"","",""]
[{"$f":"IF(D44<>\"\",6,\"\")","v":""},null,null,null,null,null,"",null,"",{"$f":"IF(L44<>\"\",\"\",IF(D44=\"\",\"\",VLOOKUP(D44,'Forage Growth Curve Reference'!$Y$3:$Z$9,2,FALSE)))","v":""},null,null,null,"",null,null,null,"","",""]
[{"$f":"IF(D45<>\"\",7,\"\")","v":""},null,null,null,null,null,"",null,"",{"$f":"IF(L45<>\"\",\"\",IF(D45=\"\",\"\",VLOOKUP(D45,'Forage Growth Curve Reference'!$Y$3:$Z$9,2,FALSE)))","v":""},null,null,null,"",null,null,null,"","",""]
[{"$f":"IF(D46<>\"\",8,\"\")","v":""},null,null,null,null,null,"",null,"",{"$f":"IF(L46<>\"\",\"\",IF(D46=\"\",\"\",VLOOKUP(D46,'Forage Growth Curve Reference'!$Y$3:$Z$9,2,FALSE)))","v":""},null,null,null,"",null,null,null,"","",""]
[{"$f":"IF(D47<>\"\",9,\"\")","v":""},null,null,null,null,null,"",null,"",{"$f":"IF(L47<>\"\",\"\",IF(D47=\"\",\"\",VLOOKUP(D47,'Forage Growth Curve Reference'!$Y$3:$Z$9,2,FALSE)))","v":""},null,null,null,"",null,null,null,"","",""]
[{"$f":"IF(D48<>\"\",10,\"\")","v":""},null,null,null,null,null,"",null,"",{"$f":"IF(L48<>\"\",\"\",IF(D48=\"\",\"\",VLOOKUP(D48,'Forage Growth Curve Reference'!$Y$3:$Z$9,2,FALSE)))","v":""},null,null,null,"",null,null,null,"","",""]
[]
[null,null,null,null,null,null,null,null,null,null,null,null,null,null,null,null,null,"Annual Total (lbs):",null,{"$f":"SUM(T39:T48)","v":0}]
[null,null,null,null,null,null,null,null,null,null,null,null,null,null,null,null,null,"Annual Total (tons):",null,{"$f":"T50/2000","v":0}]
[]
["III. Yearly Forage Balance (Surplus/Deficit):"]
[]
[null,null,null,null,null,null,null,null,null,null,null,null,null,null,null,null,null,"lbs",null,"tons"]
[null,null,null,null,null,null,null,null,null,"Yearly Forage Supply (I):",null,null,null,null,null,null,null,{"$f":"W32","v":0},null,{"$f":"W33","v":0}]
[null,null,null,null,null,null,null,null,null,"Yearly Forage Demand (II):",null,null,null,null,null,null,null,{"$f":"T50","v":0},null,{"$f":"T51","v":0}]
[null,null,null,null,null,null,null,null,null,"Yearly Forage Balance (Surplus/Deficit):",null,null,null,null,null,null,null,{"$f":"R56-R57","v":0},null,{"$f":"T56-T57","v":0}]
[]
["Forage"]
[null,null,null,"Jan","Feb","Mar","Apr","May","Jun","Jul","Aug","Sep","Oct","Nov","Dec"]
[null,null,11,{"$f":"IF(AND(OR($J11<>\"\",$K11<>\"\"),$M11<>\"\"),$W11*VLOOKUP($D11,IF($O$6=\"Western Mountains\",'Forage Growth Curve Reference'!#REF!,IF($O$6=\"Coastal Plain\",'Forage Growth Curve Reference'!$A$41:$Q$72,IF($O$6=\"Piedmont\",'Forage Growth Curve Reference'!$A$4:$Q$35,'Forage Growth Curve Reference'!$A$4:$Q$35))),6,FALSE),\"\")","v":""},{"$f":"IF(AND(OR($J11<>\"\",$K11<>\"\"),$M11<>\"\"),$W11*VLOOKUP($D11,IF($O$6=\"Western Mountains\",'Forage Growth Curve Reference'!#REF!,IF($O$6=\"Coastal Plain\",'Forage Growth Curve Reference'!$A$41:$Q$72,IF($O$6=\"Piedmont\",'Forage Growth Curve Reference'!$A$4:$Q$35,'Forage Growth Curve Reference'!$A$4:$Q$35))),7,FALSE),\"\")","v":""},{"$f":"IF(AND(OR($J11<>\"\",$K11<>\"\"),$M11<>\"\"),$W11*VLOOKUP($D11,IF($O$6=\"Western Mountains\",'Forage Growth Curve Reference'!#REF!,IF($O$6=\"Coastal Plain\",'Forage Growth Curve Reference'!$A$41:$Q$72,IF($O$6=\"Piedmont\",'Forage Growth Curve Reference'!$A$4:$Q$35,'Forage Growth Curve Reference'!$A$4:$Q$35))),8,FALSE),\"\")","v":""},{"$f":"IF(AND(OR($J11<>\"\",$K11<>\"\"),$M11<>\"\"),$W11*VLOOKUP($D11,IF($O$6=\"Western Mountains\",'Forage Growth Curve Reference'!#REF!,IF($O$6=\"Coastal Plain\",'Forage Growth Curve Reference'!$A$41:$Q$72,IF($O$6=\"Piedmont\",'Forage Growth Curve Reference'!$A$4:$Q$35,'Forage Growth Curve Reference'!$A$4:$Q$35))),9,FALSE),\"\")","v":""},{"$f":"IF(AND(OR($J11<>\"\",$K11<>\"\"),$M11<>\"\"),$W11*VLOOKUP($D11,IF($O$6=\"Western Mountains\",'Forage Growth Curve Reference'!#REF!,IF($O$6=\"Coastal Plain\",'Forage Growth Curve Reference'!$A$41:$Q$72,IF($O$6=\"Piedmont\",'Forage Growth Curve Reference'!$A$4:$Q$35,'Forage Growth Curve Reference'!$A$4:$Q$35))),10,FALSE),\"\")","v":""},{"$f":"IF(AND(OR($J11<>\"\",$K11<>\"\"),$M11<>\"\"),$W11*VLOOKUP($D11,IF($O$6=\"Western Mountains\",'Forage Growth Curve Reference'!#REF!,IF($O$6=\"Coastal Plain\",'Forage Growth Curve Reference'!$A$41:$Q$72,IF($O$6=\"Piedmont\",'Forage Growth Curve Reference'!$A$4:$Q$35,'Forage Growth Curve Reference'!$A$4:$Q$35))),11,FALSE),\"\")","v":""},{"$f":"IF(AND(OR($J11<>\"\",$K11<>\"\"),$M11<>\"\"),$W11*VLOOKUP($D11,IF($O$6=\"Western Mountains\",'Forage Growth Curve Reference'!#REF!,IF($O$6=\"Coastal Plain\",'Forage Growth Curve Reference'!$A$41:$Q$72,IF($O$6=\"Piedmont\",'Forage Growth Curve Reference'!$A$4:$Q$35,'Forage Growth Curve Reference'!$A$4:$Q$35))),12,FALSE),\"\")","v":""},{"$f":"IF(AND(OR($J11<>\"\",$K11<>\"\"),$M11<>\"\"),$W11*VLOOKUP($D11,IF($O$6=\"Western Mountains\",'Forage Growth Curve Reference'!#REF!,IF($O$6=\"Coastal Plain\",'Forage Growth Curve Reference'!$A$41:$Q$72,IF($O$6=\"Piedmont\",'Forage Growth Curve Reference'!$A$4:$Q$35,'Forage Growth Curve Reference'!$A$4:$Q$35))),13,FALSE),\"\")","v":""},{"$f":"IF(AND(OR($J11<>\"\",$K11<>\"\"),$M11<>\"\"),$W11*VLOOKUP($D11,IF($O$6=\"Western Mountains\",'Forage Growth Curve Reference'!#REF!,IF($O$6=\"Coastal Plain\",'Forage Growth Curve Reference'!$A$41:$Q$72,IF($O$6=\"Piedmont\",'Forage Growth Curve Reference'!$A$4:$Q$35,'Forage Growth Curve Reference'!$A$4:$Q$35))),14,FALSE),\"\")","v":""},{"$f":"IF(AND(OR($J11<>\"\",$K11<>\"\"),$M11<>\"\"),$W11*VLOOKUP($D11,IF($O$6=\"Western Mountains\",'Forage Growth Curve Reference'!#REF!,IF($O$6=\"Coastal Plain\",'Forage Growth Curve Reference'!$A$41:$Q$72,IF($O$6=\"Piedmont\",'Forage Growth Curve Reference'!$A$4:$Q$35,'Forage Growth Curve Reference'!$A$4:$Q$35))),15,FALSE),\"\")","v":""},{"$f":"IF(AND(OR($J11<>\"\",$K11<>\"\"),$M11<>\"\"),$W11*VLOOKUP($D11,IF($O$6=\"Western Mountains\",'Forage Growth Curve Reference'!#REF!,IF($O$6=\"Coastal Plain\",'Forage Growth Curve Reference'!$A$41:$Q$72,IF($O$6=\"Piedmont\",'Forage Growth Curve Reference'!$A$4:$Q$35,'Forage Growth Curve Reference'!$A$4:$Q$35))),16,FALSE),\"\")","v":""},{"$f":"IF(AND(OR($J11<>\"\",$K11<>\"\"),$M11<>\"\"),$W11*VLOOKUP($D11,IF($O$6=\"Western Mountains\",'Forage Growth Curve Reference'!#REF!,IF($O$6=\"Coastal Plain\",'Forage Growth Curve Reference'!$A$41:$Q$72,IF($O$6=\"Piedmont\",'Forage Growth Curve Reference'!$A$4:$Q$35,'Forage Growth Curve Reference'!$A$4:$Q$35))),17,FALSE),\"\")","v":""}]
[null,null,12,{"$f":"IF(AND(OR($J12<>\"\",$K12<>\"\"),$M12<>\"\"),$W12*VLOOKUP($D12,IF($O$6=\"Western Mountains\",'Forage Growth Curve Reference'!#REF!,IF($O$6=\"Coastal Plain\",'Forage Growth Curve Reference'!$A$41:$Q$72,IF($O$6=\"Piedmont\",'Forage Growth Curve Reference'!$A$4:$Q$35,'Forage Growth Curve Reference'!$A$4:$Q$35))),6,FALSE),\"\")","v":""},{"$f":"IF(AND(OR($J12<>\"\",$K12<>\"\"),$M12<>\"\"),$W12*VLOOKUP($D12,IF($O$6=\"Western Mountains\",'Forage Growth Curve Reference'!#REF!,IF($O$6=\"Coastal Plain\",'Forage Growth Curve Reference'!$A$41:$Q$72,IF($O$6=\"Piedmont\",'Forage Growth Curve Reference'!$A$4:$Q$35,'Forage Growth Curve Reference'!$A$4:$Q$35))),7,FALSE),\"\")","v":""},{"$f":"IF(AND(OR($J12<>\"\",$K12<>\"\"),$M12<>\"\"),$W12*VLOOKUP($D12,IF($O$6=\"Western Mountains\",'Forage Growth Curve Reference'!#REF!,IF($O$6=\"Coastal Plain\",'Forage Growth Curve Reference'!$A$41:$Q$72,IF($O$6=\"Piedmont\",'Forage Growth Curve Reference'!$A$4:$Q$35,'Forage Growth Curve Reference'!$A$4:$Q$35))),8,FALSE),\"\")","v":""},{"$f":"IF(AND(OR($J12<>\"\",$K12<>\"\"),$M12<>\"\"),$W12*VLOOKUP($D12,IF($O$6=\"Western Mountains\",'Forage Growth Curve Reference'!#REF!,IF($O$6=\"Coastal Plain\",'Forage Growth Curve Reference'!$A$41:$Q$72,IF($O$6=\"Piedmont\",'Forage Growth Curve Reference'!$A$4:$Q$35,'Forage Growth Curve Reference'!$A$4:$Q$35))),9,FALSE),\"\")","v":""},{"$f":"IF(AND(OR($J12<>\"\",$K12<>\"\"),$M12<>\"\"),$W12*VLOOKUP($D12,IF($O$6=\"Western Mountains\",'Forage Growth Curve Reference'!#REF!,IF($O$6=\"Coastal Plain\",'Forage Growth Curve Reference'!$A$41:$Q$72,IF($O$6=\"Piedmont\",'Forage Growth Curve Reference'!$A$4:$Q$35,'Forage Growth Curve Reference'!$A$4:$Q$35))),10,FALSE),\"\")","v":""},{"$f":"IF(AND(OR($J12<>\"\",$K12<>\"\"),$M12<>\"\"),$W12*VLOOKUP($D12,IF($O$6=\"Western Mountains\",'Forage Growth Curve Reference'!#REF!,IF($O$6=\"Coastal Plain\",'Forage Growth Curve Reference'!$A$41:$Q$72,IF($O$6=\"Piedmont\",'Forage Growth Curve Reference'!$A$4:$Q$35,'Forage Growth Curve Reference'!$A$4:$Q$35))),11,FALSE),\"\")","v":""},{"$f":"IF(AND(OR($J12<>\"\",$K12<>\"\"),$M12<>\"\"),$W12*VLOOKUP($D12,IF($O$6=\"Western Mountains\",'Forage Growth Curve Reference'!#REF!,IF($O$6=\"Coastal Plain\",'Forage Growth Curve Reference'!$A$41:$Q$72,IF($O$6=\"Piedmont\",'Forage Growth Curve Reference'!$A$4:$Q$35,'Forage Growth Curve Reference'!$A$4:$Q$35))),12,FALSE),\"\")","v":""},{"$f":"IF(AND(OR($J12<>\"\",$K12<>\"\"),$M12<>\"\"),$W12*VLOOKUP($D12,IF($O$6=\"Western Mountains\",'Forage Growth Curve Reference'!#REF!,IF($O$6=\"Coastal Plain\",'Forage Growth Curve Reference'!$A$41:$Q$72,IF($O$6=\"Piedmont\",'Forage Growth Curve Reference'!$A$4:$Q$35,'Forage Growth Curve Reference'!$A$4:$Q$35))),13,FALSE),\"\")","v":""},{"$f":"IF(AND(OR($J12<>\"\",$K12<>\"\"),$M12<>\"\"),$W12*VLOOKUP($D12,IF($O$6=\"Western Mountains\",'Forage Growth Curve Reference'!#REF!,IF($O$6=\"Coastal Plain\",'Forage Growth Curve Reference'!$A$41:$Q$72,IF($O$6=\"Piedmont\",'Forage Growth Curve Reference'!$A$4:$Q$35,'Forage Growth Curve Reference'!$A$4:$Q$35))),14,FALSE),\"\")","v":""},{"$f":"IF(AND(OR($J12<>\"\",$K12<>\"\"),$M12<>\"\"),$W12*VLOOKUP($D12,IF($O$6=\"Western Mountains\",'Forage Growth Curve Reference'!#REF!,IF($O$6=\"Coastal Plain\",'Forage Growth Curve Reference'!$A$41:$Q$72,IF($O$6=\"Piedmont\",'Forage Growth Curve Reference'!$A$4:$Q$35,'Forage Growth Curve Reference'!$A$4:$Q$35))),15,FALSE),\"\")","v":""},{"$f":"IF(AND(OR($J12<>\"\",$K12<>\"\"),$M12<>\"\"),$W12*VLOOKUP($D12,IF($O$6=\"Western Mountains\",'Forage Growth Curve Reference'!#REF!,IF($O$6=\"Coastal Plain\",'Forage Growth Curve Reference'!$A$41:$Q$72,IF($O$6=\"Piedmont\",'Forage Growth Curve Reference'!$A$4:$Q$35,'Forage Growth Curve Reference'!$A$4:$Q$35))),16,FALSE),\"\")","v":""},{"$f":"IF(AND(OR($J12<>\"\",$K12<>\"\"),$M12<>\"\"),$W12*VLOOKUP($D12,IF($O$6=\"Western Mountains\",'Forage Growth Curve Reference'!#REF!,IF($O$6=\"Coastal Plain\",'Forage Growth Curve Reference'!$A$41:$Q$72,IF($O$6=\"Piedmont\",'Forage Growth Curve Reference'!$A$4:$Q$35,'Forage Growth Curve Reference'!$A$4:$Q$35))),17,FALSE),\"\")","v":""}]
[null,null,13,{"$f":"IF(AND(OR($J13<>\"\",$K13<>\"\"),$M13<>\"\"),$W13*VLOOKUP($D13,IF($O$6=\"Western Mountains\",'Forage Growth Curve Reference'!#REF!,IF($O$6=\"Coastal Plain\",'Forage Growth Curve Reference'!$A$41:$Q$72,IF($O$6=\"Piedmont\",'Forage Growth Curve Reference'!$A$4:$Q$35,'Forage Growth Curve Reference'!$A$4:$Q$35))),6,FALSE),\"\")","v":""},{"$f":"IF(AND(OR($J13<>\"\",$K13<>\"\"),$M13<>\"\"),$W13*VLOOKUP($D13,IF($O$6=\"Western Mountains\",'Forage Growth Curve Reference'!#REF!,IF($O$6=\"Coastal Plain\",'Forage Growth Curve Reference'!$A$41:$Q$72,IF($O$6=\"Piedmont\",'Forage Growth Curve Reference'!$A$4:$Q$35,'Forage Growth Curve Reference'!$A$4:$Q$35))),7,FALSE),\"\")","v":""},{"$f":"IF(AND(OR($J13<>\"\",$K13<>\"\"),$M13<>\"\"),$W13*VLOOKUP($D13,IF($O$6=\"Western Mountains\",'Forage Growth Curve Reference'!#REF!,IF($O$6=\"Coastal Plain\",'Forage Growth Curve Reference'!$A$41:$Q$72,IF($O$6=\"Piedmont\",'Forage Growth Curve Reference'!$A$4:$Q$35,'Forage Growth Curve Reference'!$A$4:$Q$35))),8,FALSE),\"\")","v":""},{"$f":"IF(AND(OR($J13<>\"\",$K13<>\"\"),$M13<>\"\"),$W13*VLOOKUP($D13,IF($O$6=\"Western Mountains\",'Forage Growth Curve Reference'!#REF!,IF($O$6=\"Coastal Plain\",'Forage Growth Curve Reference'!$A$41:$Q$72,IF($O$6=\"Piedmont\",'Forage Growth Curve Reference'!$A$4:$Q$35,'Forage Growth Curve Reference'!$A$4:$Q$35))),9,FALSE),\"\")","v":""},{"$f":"IF(AND(OR($J13<>\"\",$K13<>\"\"),$M13<>\"\"),$W13*VLOOKUP($D13,IF($O$6=\"Western Mountains\",'Forage Growth Curve Reference'!#REF!,IF($O$6=\"Coastal Plain\",'Forage Growth Curve Reference'!$A$41:$Q$72,IF($O$6=\"Piedmont\",'Forage Growth Curve Reference'!$A$4:$Q$35,'Forage Growth Curve Reference'!$A$4:$Q$35))),10,FALSE),\"\")","v":""},{"$f":"IF(AND(OR($J13<>\"\",$K13<>\"\"),$M13<>\"\"),$W13*VLOOKUP($D13,IF($O$6=\"Western Mountains\",'Forage Growth Curve Reference'!#REF!,IF($O$6=\"Coastal Plain\",'Forage Growth Curve Reference'!$A$41:$Q$72,IF($O$6=\"Piedmont\",'Forage Growth Curve Reference'!$A$4:$Q$35,'Forage Growth Curve Reference'!$A$4:$Q$35))),11,FALSE),\"\")","v":""},{"$f":"IF(AND(OR($J13<>\"\",$K13<>\"\"),$M13<>\"\"),$W13*VLOOKUP($D13,IF($O$6=\"Western Mountains\",'Forage Growth Curve Reference'!#REF!,IF($O$6=\"Coastal Plain\",'Forage Growth Curve Reference'!$A$41:$Q$72,IF($O$6=\"Piedmont\",'Forage Growth Curve Reference'!$A$4:$Q$35,'Forage Growth Curve Reference'!$A$4:$Q$35))),12,FALSE),\"\")","v":""},{"$f":"IF(AND(OR($J13<>\"\",$K13<>\"\"),$M13<>\"\"),$W13*VLOOKUP($D13,IF($O$6=\"Western Mountains\",'Forage Growth Curve Reference'!#REF!,IF($O$6=\"Coastal Plain\",'Forage Growth Curve Reference'!$A$41:$Q$72,IF($O$6=\"Piedmont\",'Forage Growth Curve Reference'!$A$4:$Q$35,'Forage Growth Curve Reference'!$A$4:$Q$35))),13,FALSE),\"\")","v":""},{"$f":"IF(AND(OR($J13<>\"\",$K13<>\"\"),$M13<>\"\"),$W13*VLOOKUP($D13,IF($O$6=\"Western Mountains\",'Forage Growth Curve Reference'!#REF!,IF($O$6=\"Coastal Plain\",'Forage Growth Curve Reference'!$A$41:$Q$72,IF($O$6=\"Piedmont\",'Forage Growth Curve Reference'!$A$4:$Q$35,'Forage Growth Curve Reference'!$A$4:$Q$35))),14,FALSE),\"\")","v":""},{"$f":"IF(AND(OR($J13<>\"\",$K13<>\"\"),$M13<>\"\"),$W13*VLOOKUP($D13,IF($O$6=\"Western Mountains\",'Forage Growth Curve Reference'!#REF!,IF($O$6=\"Coastal Plain\",'Forage Growth Curve Reference'!$A$41:$Q$72,IF($O$6=\"Piedmont\",'Forage Growth Curve Reference'!$A$4:$Q$35,'Forage Growth Curve Reference'!$A$4:$Q$35))),15,FALSE),\"\")","v":""},{"$f":"IF(AND(OR($J13<>\"\",$K13<>\"\"),$M13<>\"\"),$W13*VLOOKUP($D13,IF($O$6=\"Western Mountains\",'Forage Growth Curve Reference'!#REF!,IF($O$6=\"Coastal Plain\",'Forage Growth Curve Reference'!$A$41:$Q$72,IF($O$6=\"Piedmont\",'Forage Growth Curve Reference'!$A$4:$Q$35,'Forage Growth Curve Reference'!$A$4:$Q$35))),16,FALSE),\"\")","v":""},{"$f":"IF(AND(OR($J13<>\"\",$K13<>\"\"),$M13<>\"\"),$W13*VLOOKUP($D13,IF($O$6=\"Western Mountains\",'Forage Growth Curve Reference'!#REF!,IF($O$6=\"Coastal Plain\",'Forage Growth Curve Reference'!$A$41:$Q$72,IF($O$6=\"Piedmont\",'Forage Growth Curve Reference'!$A$4:$Q$35,'Forage Growth Curve Reference'!$A$4:$Q$35))),17,FALSE),\"\")","v":""}]
[null,null,14,{"$f":"IF(AND(OR($J14<>\"\",$K14<>\"\"),$M14<>\"\"),$W14*VLOOKUP($D14,IF($O$6=\"Western Mountains\",'Forage Growth Curve Reference'!#REF!,IF($O$6=\"Coastal Plain\",'Forage Growth Curve Reference'!$A$41:$Q$72,IF($O$6=\"Piedmont\",'Forage Growth Curve Reference'!$A$4:$Q$35,'Forage Growth Curve Reference'!$A$4:$Q$35))),6,FALSE),\"\")","v":""},{"$f":"IF(AND(OR($J14<>\"\",$K14<>\"\"),$M14<>\"\"),$W14*VLOOKUP($D14,IF($O$6=\"Western Mountains\",'Forage Growth Curve Reference'!#REF!,IF($O$6=\"Coastal Plain\",'Forage Growth Curve Reference'!$A$41:$Q$72,IF($O$6=\"Piedmont\",'Forage Growth Curve Reference'!$A$4:$Q$35,'Forage Growth Curve Reference'!$A$4:$Q$35))),7,FALSE),\"\")","v":""},{"$f":"IF(AND(OR($J14<>\"\",$K14<>\"\"),$M14<>\"\"),$W14*VLOOKUP($D14,IF($O$6=\"Western Mountains\",'Forage Growth Curve Reference'!#REF!,IF($O$6=\"Coastal Plain\",'Forage Growth Curve Reference'!$A$41:$Q$72,IF($O$6=\"Piedmont\",'Forage Growth Curve Reference'!$A$4:$Q$35,'Forage Growth Curve Reference'!$A$4:$Q$35))),8,FALSE),\"\")","v":""},{"$f":"IF(AND(OR($J14<>\"\",$K14<>\"\"),$M14<>\"\"),$W14*VLOOKUP($D14,IF($O$6=\"Western Mountains\",'Forage Growth Curve Reference'!#REF!,IF($O$6=\"Coastal Plain\",'Forage Growth Curve Reference'!$A$41:$Q$72,IF($O$6=\"Piedmont\",'Forage Growth Curve Reference'!$A$4:$Q$35,'Forage Growth Curve Reference'!$A$4:$Q$35))),9,FALSE),\"\")","v":""},{"$f":"IF(AND(OR($J14<>\"\",$K14<>\"\"),$M14<>\"\"),$W14*VLOOKUP($D14,IF($O$6=\"Western Mountains\",'Forage Growth Curve Reference'!#REF!,IF($O$6=\"Coastal Plain\",'Forage Growth Curve Reference'!$A$41:$Q$72,IF($O$6=\"Piedmont\",'Forage Growth Curve Reference'!$A$4:$Q$35,'Forage Growth Curve Reference'!$A$4:$Q$35))),10,FALSE),\"\")","v":""},{"$f":"IF(AND(OR($J14<>\"\",$K14<>\"\"),$M14<>\"\"),$W14*VLOOKUP($D14,IF($O$6=\"Western Mountains\",'Forage Growth Curve Reference'!#REF!,IF($O$6=\"Coastal Plain\",'Forage Growth Curve Reference'!$A$41:$Q$72,IF($O$6=\"Piedmont\",'Forage Growth Curve Reference'!$A$4:$Q$35,'Forage Growth Curve Reference'!$A$4:$Q$35))),11,FALSE),\"\")","v":""},{"$f":"IF(AND(OR($J14<>\"\",$K14<>\"\"),$M14<>\"\"),$W14*VLOOKUP($D14,IF($O$6=\"Western Mountains\",'Forage Growth Curve Reference'!#REF!,IF($O$6=\"Coastal Plain\",'Forage Growth Curve Reference'!$A$41:$Q$72,IF($O$6=\"Piedmont\",'Forage Growth Curve Reference'!$A$4:$Q$35,'Forage Growth Curve Reference'!$A$4:$Q$35))),12,FALSE),\"\")","v":""},{"$f":"IF(AND(OR($J14<>\"\",$K14<>\"\"),$M14<>\"\"),$W14*VLOOKUP($D14,IF($O$6=\"Western Mountains\",'Forage Growth Curve Reference'!#REF!,IF($O$6=\"Coastal Plain\",'Forage Growth Curve Reference'!$A$41:$Q$72,IF($O$6=\"Piedmont\",'Forage Growth Curve Reference'!$A$4:$Q$35,'Forage Growth Curve Reference'!$A$4:$Q$35))),13,FALSE),\"\")","v":""},{"$f":"IF(AND(OR($J14<>\"\",$K14<>\"\"),$M14<>\"\"),$W14*VLOOKUP($D14,IF($O$6=\"Western Mountains\",'Forage Growth Curve Reference'!#REF!,IF($O$6=\"Coastal Plain\",'Forage Growth Curve Reference'!$A$41:$Q$72,IF($O$6=\"Piedmont\",'Forage Growth Curve Reference'!$A$4:$Q$35,'Forage Growth Curve Reference'!$A$4:$Q$35))),14,FALSE),\"\")","v":""},{"$f":"IF(AND(OR($J14<>\"\",$K14<>\"\"),$M14<>\"\"),$W14*VLOOKUP($D14,IF($O$6=\"Western Mountains\",'Forage Growth Curve Reference'!#REF!,IF($O$6=\"Coastal Plain\",'Forage Growth Curve Reference'!$A$41:$Q$72,IF($O$6=\"Piedmont\",'Forage Growth Curve Reference'!$A$4:$Q$35,'Forage Growth Curve Reference'!$A$4:$Q$35))),15,FALSE),\"\")","v":""},{"$f":"IF(AND(OR($J14<>\"\",$K14<>\"\"),$M14<>\"\"),$W14*VLOOKUP($D14,IF($O$6=\"Western Mountains\",'Forage Growth Curve Reference'!#REF!,IF($O$6=\"Coastal Plain\",'Forage Growth Curve Reference'!$A$41:$Q$72,IF($O$6=\"Piedmont\",'Forage Growth Curve Reference'!$A$4:$Q$35,'Forage Growth Curve Reference'!$A$4:$Q$35))),16,FALSE),\"\")","v":""},{"$f":"IF(AND(OR($J14<>\"\",$K14<>\"\"),$M14<>\"\"),$W14*VLOOKUP($D14,IF($O$6=\"Western Mountains\",'Forage Growth Curve Reference'!#REF!,IF($O$6=\"Coastal Plain\",'Forage Growth Curve Reference'!$A$41:$Q$72,IF($O$6=\"Piedmont\",'Forage Growth Curve Reference'!$A$4:$Q$35,'Forage Growth Curve Reference'!$A$4:$Q$35))),17,FALSE),\"\")","v":""}]
[null,null,15,{"$f":"IF(AND(OR($J15<>\"\",$K15<>\"\"),$M15<>\"\"),$W15*VLOOKUP($D15,IF($O$6=\"Western Mountains\",'Forage Growth Curve Reference'!#REF!,IF($O$6=\"Coastal Plain\",'Forage Growth Curve Reference'!$A$41:$Q$72,IF($O$6=\"Piedmont\",'Forage Growth Curve Reference'!$A$4:$Q$35,'Forage Growth Curve Reference'!$A$4:$Q$35))),6,FALSE),\"\")","v":""},{"$f":"IF(AND(OR($J15<>\"\",$K15<>\"\"),$M15<>\"\"),$W15*VLOOKUP($D15,IF($O$6=\"Western Mountains\",'Forage Growth Curve Reference'!#REF!,IF($O$6=\"Coastal Plain\",'Forage Growth Curve Reference'!$A$41:$Q$72,IF($O$6=\"Piedmont\",'Forage Growth Curve Reference'!$A$4:$Q$35,'Forage Growth Curve Reference'!$A$4:$Q$35))),7,FALSE),\"\")","v":""},{"$f":"IF(AND(OR($J15<>\"\",$K15<>\"\"),$M15<>\"\"),$W15*VLOOKUP($D15,IF($O$6=\"Western Mountains\",'Forage Growth Curve Reference'!#REF!,IF($O$6=\"Coastal Plain\",'Forage Growth Curve Reference'!$A$41:$Q$72,IF($O$6=\"Piedmont\",'Forage Growth Curve Reference'!$A$4:$Q$35,'Forage Growth Curve Reference'!$A$4:$Q$35))),8,FALSE),\"\")","v":""},{"$f":"IF(AND(OR($J15<>\"\",$K15<>\"\"),$M15<>\"\"),$W15*VLOOKUP($D15,IF($O$6=\"Western Mountains\",'Forage Growth Curve Reference'!#REF!,IF($O$6=\"Coastal Plain\",'Forage Growth Curve Reference'!$A$41:$Q$72,IF($O$6=\"Piedmont\",'Forage Growth Curve Reference'!$A$4:$Q$35,'Forage Growth Curve Reference'!$A$4:$Q$35))),9,FALSE),\"\")","v":""},{"$f":"IF(AND(OR($J15<>\"\",$K15<>\"\"),$M15<>\"\"),$W15*VLOOKUP($D15,IF($O$6=\"Western Mountains\",'Forage Growth Curve Reference'!#REF!,IF($O$6=\"Coastal Plain\",'Forage Growth Curve Reference'!$A$41:$Q$72,IF($O$6=\"Piedmont\",'Forage Growth Curve Reference'!$A$4:$Q$35,'Forage Growth Curve Reference'!$A$4:$Q$35))),10,FALSE),\"\")","v":""},{"$f":"IF(AND(OR($J15<>\"\",$K15<>\"\"),$M15<>\"\"),$W15*VLOOKUP($D15,IF($O$6=\"Western Mountains\",'Forage Growth Curve Reference'!#REF!,IF($O$6=\"Coastal Plain\",'Forage Growth Curve Reference'!$A$41:$Q$72,IF($O$6=\"Piedmont\",'Forage Growth Curve Reference'!$A$4:$Q$35,'Forage Growth Curve Reference'!$A$4:$Q$35))),11,FALSE),\"\")","v":""},{"$f":"IF(AND(OR($J15<>\"\",$K15<>\"\"),$M15<>\"\"),$W15*VLOOKUP($D15,IF($O$6=\"Western Mountains\",'Forage Growth Curve Reference'!#REF!,IF($O$6=\"Coastal Plain\",'Forage Growth Curve Reference'!$A$41:$Q$72,IF($O$6=\"Piedmont\",'Forage Growth Curve Reference'!$A$4:$Q$35,'Forage Growth Curve Reference'!$A$4:$Q$35))),12,FALSE),\"\")","v":""},{"$f":"IF(AND(OR($J15<>\"\",$K15<>\"\"),$M15<>\"\"),$W15*VLOOKUP($D15,IF($O$6=\"Western Mountains\",'Forage Growth Curve Reference'!#REF!,IF($O$6=\"Coastal Plain\",'Forage Growth Curve Reference'!$A$41:$Q$72,IF($O$6=\"Piedmont\",'Forage Growth Curve Reference'!$A$4:$Q$35,'Forage Growth Curve Reference'!$A$4:$Q$35))),13,FALSE),\"\")","v":""},{"$f":"IF(AND(OR($J15<>\"\",$K15<>\"\"),$M15<>\"\"),$W15*VLOOKUP($D15,IF($O$6=\"Western Mountains\",'Forage Growth Curve Reference'!#REF!,IF($O$6=\"Coastal Plain\",'Forage Growth Curve Reference'!$A$41:$Q$72,IF($O$6=\"Piedmont\",'Forage Growth Curve Reference'!$A$4:$Q$35,'Forage Growth Curve Reference'!$A$4:$Q$35))),14,FALSE),\"\")","v":""},{"$f":"IF(AND(OR($J15<>\"\",$K15<>\"\"),$M15<>\"\"),$W15*VLOOKUP($D15,IF($O$6=\"Western Mountains\",'Forage Growth Curve Reference'!#REF!,IF($O$6=\"Coastal Plain\",'Forage Growth Curve Reference'!$A$41:$Q$72,IF($O$6=\"Piedmont\",'Forage Growth Curve Reference'!$A$4:$Q$35,'Forage Growth Curve Reference'!$A$4:$Q$35))),15,FALSE),\"\")","v":""},{"$f":"IF(AND(OR($J15<>\"\",$K15<>\"\"),$M15<>\"\"),$W15*VLOOKUP($D15,IF($O$6=\"Western Mountains\",'Forage Growth Curve Reference'!#REF!,IF($O$6=\"Coastal Plain\",'Forage Growth Curve Reference'!$A$41:$Q$72,IF($O$6=\"Piedmont\",'Forage Growth Curve Reference'!$A$4:$Q$35,'Forage Growth Curve Reference'!$A$4:$Q$35))),16,FALSE),\"\")","v":""},{"$f":"IF(AND(OR($J15<>\"\",$K15<>\"\"),$M15<>\"\"),$W15*VLOOKUP($D15,IF($O$6=\"Western Mountains\",'Forage Growth Curve Reference'!#REF!,IF($O$6=\"Coastal Plain\",'Forage Growth Curve Reference'!$A$41:$Q$72,IF($O$6=\"Piedmont\",'Forage Growth Curve Reference'!$A$4:$Q$35,'Forage Growth Curve Reference'!$A$4:$Q$35))),17,FALSE),\"\")","v":""}]
[null,null,16,{"$f":"IF(AND(OR($J16<>\"\",$K16<>\"\"),$M16<>\"\"),$W16*VLOOKUP($D16,IF($O$6=\"Western Mountains\",'Forage Growth Curve Reference'!#REF!,IF($O$6=\"Coastal Plain\",'Forage Growth Curve Reference'!$A$41:$Q$72,IF($O$6=\"Piedmont\",'Forage Growth Curve Reference'!$A$4:$Q$35,'Forage Growth Curve Reference'!$A$4:$Q$35))),6,FALSE),\"\")","v":""},{"$f":"IF(AND(OR($J16<>\"\",$K16<>\"\"),$M16<>\"\"),$W16*VLOOKUP($D16,IF($O$6=\"Western Mountains\",'Forage Growth Curve Reference'!#REF!,IF($O$6=\"Coastal Plain\",'Forage Growth Curve Reference'!$A$41:$Q$72,IF($O$6=\"Piedmont\",'Forage Growth Curve Reference'!$A$4:$Q$35,'Forage Growth Curve Reference'!$A$4:$Q$35))),7,FALSE),\"\")","v":""},{"$f":"IF(AND(OR($J16<>\"\",$K16<>\"\"),$M16<>\"\"),$W16*VLOOKUP($D16,IF($O$6=\"Western Mountains\",'Forage Growth Curve Reference'!#REF!,IF($O$6=\"Coastal Plain\",'Forage Growth Curve Reference'!$A$41:$Q$72,IF($O$6=\"Piedmont\",'Forage Growth Curve Reference'!$A$4:$Q$35,'Forage Growth Curve Reference'!$A$4:$Q$35))),8,FALSE),\"\")","v":""},{"$f":"IF(AND(OR($J16<>\"\",$K16<>\"\"),$M16<>\"\"),$W16*VLOOKUP($D16,IF($O$6=\"Western Mountains\",'Forage Growth Curve Reference'!#REF!,IF($O$6=\"Coastal Plain\",'Forage Growth Curve Reference'!$A$41:$Q$72,IF($O$6=\"Piedmont\",'Forage Growth Curve Reference'!$A$4:$Q$35,'Forage Growth Curve Reference'!$A$4:$Q$35))),9,FALSE),\"\")","v":""},{"$f":"IF(AND(OR($J16<>\"\",$K16<>\"\"),$M16<>\"\"),$W16*VLOOKUP($D16,IF($O$6=\"Western Mountains\",'Forage Growth Curve Reference'!#REF!,IF($O$6=\"Coastal Plain\",'Forage Growth Curve Reference'!$A$41:$Q$72,IF($O$6=\"Piedmont\",'Forage Growth Curve Reference'!$A$4:$Q$35,'Forage Growth Curve Reference'!$A$4:$Q$35))),10,FALSE),\"\")","v":""},{"$f":"IF(AND(OR($J16<>\"\",$K16<>\"\"),$M16<>\"\"),$W16*VLOOKUP($D16,IF($O$6=\"Western Mountains\",'Forage Growth Curve Reference'!#REF!,IF($O$6=\"Coastal Plain\",'Forage Growth Curve Reference'!$A$41:$Q$72,IF($O$6=\"Piedmont\",'Forage Growth Curve Reference'!$A$4:$Q$35,'Forage Growth Curve Reference'!$A$4:$Q$35))),11,FALSE),\"\")","v":""},{"$f":"IF(AND(OR($J16<>\"\",$K16<>\"\"),$M16<>\"\"),$W16*VLOOKUP($D16,IF($O$6=\"Western Mountains\",'Forage Growth Curve Reference'!#REF!,IF($O$6=\"Coastal Plain\",'Forage Growth Curve Reference'!$A$41:$Q$72,IF($O$6=\"Piedmont\",'Forage Growth Curve Reference'!$A$4:$Q$35,'Forage Growth Curve Reference'!$A$4:$Q$35))),12,FALSE),\"\")","v":""},{"$f":"IF(AND(OR($J16<>\"\",$K16<>\"\"),$M16<>\"\"),$W16*VLOOKUP($D16,IF($O$6=\"Western Mountains\",'Forage Growth Curve Reference'!#REF!,IF($O$6=\"Coastal Plain\",'Forage Growth Curve Reference'!$A$41:$Q$72,IF($O$6=\"Piedmont\",'Forage Growth Curve Reference'!$A$4:$Q$35,'Forage Growth Curve Reference'!$A$4:$Q$35))),13,FALSE),\"\")","v":""},{"$f":"IF(AND(OR($J16<>\"\",$K16<>\"\"),$M16<>\"\"),$W16*VLOOKUP($D16,IF($O$6=\"Western Mountains\",'Forage Growth Curve Reference'!#REF!,IF($O$6=\"Coastal Plain\",'Forage Growth Curve Reference'!$A$41:$Q$72,IF($O$6=\"Piedmont\",'Forage Growth Curve Reference'!$A$4:$Q$35,'Forage Growth Curve Reference'!$A$4:$Q$35))),14,FALSE),\"\")","v":""},{"$f":"IF(AND(OR($J16<>\"\",$K16<>\"\"),$M16<>\"\"),$W16*VLOOKUP($D16,IF($O$6=\"Western Mountains\",'Forage Growth Curve Reference'!#REF!,IF($O$6=\"Coastal Plain\",'Forage Growth Curve Reference'!$A$41:$Q$72,IF($O$6=\"Piedmont\",'Forage Growth Curve Reference'!$A$4:$Q$35,'Forage Growth Curve Reference'!$A$4:$Q$35))),15,FALSE),\"\")","v":""},{"$f":"IF(AND(OR($J16<>\"\",$K16<>\"\"),$M16<>\"\"),$W16*VLOOKUP($D16,IF($O$6=\"Western Mountains\",'Forage Growth Curve Reference'!#REF!,IF($O$6=\"Coastal Plain\",'Forage Growth Curve Reference'!$A$41:$Q$72,IF($O$6=\"Piedmont\",'Forage Growth Curve Reference'!$A$4:$Q$35,'Forage Growth Curve Reference'!$A$4:$Q$35))),16,FALSE),\"\")","v":""},{"$f":"IF(AND(OR($J16<>\"\",$K16<>\"\"),$M16<>\"\"),$W16*VLOOKUP($D16,IF($O$6=\"Western Mountains\",'Forage Growth Curve Reference'!#REF!,IF($O$6=\"Coastal Plain\",'Forage Growth Curve Reference'!$A$41:$Q$72,IF($O$6=\"Piedmont\",'Forage Growth Curve Reference'!$A$4:$Q$35,'Forage Growth Curve Reference'!$A$4:$Q$35))),17,FALSE),\"\")","v":""}]
[null,null,17,{"$f":"IF(AND(OR($J17<>\"\",$K17<>\"\"),$M17<>\"\"),$W17*VLOOKUP($D17,IF($O$6=\"Western Mountains\",'Forage Growth Curve Reference'!#REF!,IF($O$6=\"Coastal Plain\",'Forage Growth Curve Reference'!$A$41:$Q$72,IF($O$6=\"Piedmont\",'Forage Growth Curve Reference'!$A$4:$Q$35,'Forage Growth Curve Reference'!$A$4:$Q$35))),6,FALSE),\"\")","v":""},{"$f":"IF(AND(OR($J17<>\"\",$K17<>\"\"),$M17<>\"\"),$W17*VLOOKUP($D17,IF($O$6=\"Western Mountains\",'Forage Growth Curve Reference'!#REF!,IF($O$6=\"Coastal Plain\",'Forage Growth Curve Reference'!$A$41:$Q$72,IF($O$6=\"Piedmont\",'Forage Growth Curve Reference'!$A$4:$Q$35,'Forage Growth Curve Reference'!$A$4:$Q$35))),7,FALSE),\"\")","v":""},{"$f":"IF(AND(OR($J17<>\"\",$K17<>\"\"),$M17<>\"\"),$W17*VLOOKUP($D17,IF($O$6=\"Western Mountains\",'Forage Growth Curve Reference'!#REF!,IF($O$6=\"Coastal Plain\",'Forage Growth Curve Reference'!$A$41:$Q$72,IF($O$6=\"Piedmont\",'Forage Growth Curve Reference'!$A$4:$Q$35,'Forage Growth Curve Reference'!$A$4:$Q$35))),8,FALSE),\"\")","v":""},{"$f":"IF(AND(OR($J17<>\"\",$K17<>\"\"),$M17<>\"\"),$W17*VLOOKUP($D17,IF($O$6=\"Western Mountains\",'Forage Growth Curve Reference'!#REF!,IF($O$6=\"Coastal Plain\",'Forage Growth Curve Reference'!$A$41:$Q$72,IF($O$6=\"Piedmont\",'Forage Growth Curve Reference'!$A$4:$Q$35,'Forage Growth Curve Reference'!$A$4:$Q$35))),9,FALSE),\"\")","v":""},{"$f":"IF(AND(OR($J17<>\"\",$K17<>\"\"),$M17<>\"\"),$W17*VLOOKUP($D17,IF($O$6=\"Western Mountains\",'Forage Growth Curve Reference'!#REF!,IF($O$6=\"Coastal Plain\",'Forage Growth Curve Reference'!$A$41:$Q$72,IF($O$6=\"Piedmont\",'Forage Growth Curve Reference'!$A$4:$Q$35,'Forage Growth Curve Reference'!$A$4:$Q$35))),10,FALSE),\"\")","v":""},{"$f":"IF(AND(OR($J17<>\"\",$K17<>\"\"),$M17<>\"\"),$W17*VLOOKUP($D17,IF($O$6=\"Western Mountains\",'Forage Growth Curve Reference'!#REF!,IF($O$6=\"Coastal Plain\",'Forage Growth Curve Reference'!$A$41:$Q$72,IF($O$6=\"Piedmont\",'Forage Growth Curve Reference'!$A$4:$Q$35,'Forage Growth Curve Reference'!$A$4:$Q$35))),11,FALSE),\"\")","v":""},{"$f":"IF(AND(OR($J17<>\"\",$K17<>\"\"),$M17<>\"\"),$W17*VLOOKUP($D17,IF($O$6=\"Western Mountains\",'Forage Growth Curve Reference'!#REF!,IF($O$6=\"Coastal Plain\",'Forage Growth Curve Reference'!$A$41:$Q$72,IF($O$6=\"Piedmont\",'Forage Growth Curve Reference'!$A$4:$Q$35,'Forage Growth Curve Reference'!$A$4:$Q$35))),12,FALSE),\"\")","v":""},{"$f":"IF(AND(OR($J17<>\"\",$K17<>\"\"),$M17<>\"\"),$W17*VLOOKUP($D17,IF($O$6=\"Western Mountains\",'Forage Growth Curve Reference'!#REF!,IF($O$6=\"Coastal Plain\",'Forage Growth Curve Reference'!$A$41:$Q$72,IF($O$6=\"Piedmont\",'Forage Growth Curve Reference'!$A$4:$Q$35,'Forage Growth Curve Reference'!$A$4:$Q$35))),13,FALSE),\"\")","v":""},{"$f":"IF(AND(OR($J17<>\"\",$K17<>\"\"),$M17<>\"\"),$W17*VLOOKUP($D17,IF($O$6=\"Western Mountains\",'Forage Growth Curve Reference'!#REF!,IF($O$6=\"Coastal Plain\",'Forage Growth Curve Reference'!$A$41:$Q$72,IF($O$6=\"Piedmont\",'Forage Growth Curve Reference'!$A$4:$Q$35,'Forage Growth Curve Reference'!$A$4:$Q$35))),14,FALSE),\"\")","v":""},{"$f":"IF(AND(OR($J17<>\"\",$K17<>\"\"),$M17<>\"\"),$W17*VLOOKUP($D17,IF($O$6=\"Western Mountains\",'Forage Growth Curve Reference'!#REF!,IF($O$6=\"Coastal Plain\",'Forage Growth Curve Reference'!$A$41:$Q$72,IF($O$6=\"Piedmont\",'Forage Growth Curve Reference'!$A$4:$Q$35,'Forage Growth Curve Reference'!$A$4:$Q$35))),15,FALSE),\"\")","v":""},{"$f":"IF(AND(OR($J17<>\"\",$K17<>\"\"),$M17<>\"\"),$W17*VLOOKUP($D17,IF($O$6=\"Western Mountains\",'Forage Growth Curve Reference'!#REF!,IF($O$6=\"Coastal Plain\",'Forage Growth Curve Reference'!$A$41:$Q$72,IF($O$6=\"Piedmont\",'Forage Growth Curve Reference'!$A$4:$Q$35,'Forage Growth Curve Reference'!$A$4:$Q$35))),16,FALSE),\"\")","v":""},{"$f":"IF(AND(OR($J17<>\"\",$K17<>\"\"),$M17<>\"\"),$W17*VLOOKUP($D17,IF($O$6=\"Western Mountains\",'Forage Growth Curve Reference'!#REF!,IF($O$6=\"Coastal Plain\",'Forage Growth Curve Reference'!$A$41:$Q$72,IF($O$6=\"Piedmont\",'Forage Growth Curve Reference'!$A$4:$Q$35,'Forage Growth Curve Reference'!$A$4:$Q$35))),17,FALSE),\"\")","v":""}]
[null,null,18,{"$f":"IF(AND(OR($J18<>\"\",$K18<>\"\"),$M18<>\"\"),$W18*VLOOKUP($D18,IF($O$6=\"Western Mountains\",'Forage Growth Curve Reference'!#REF!,IF($O$6=\"Coastal Plain\",'Forage Growth Curve Reference'!$A$41:$Q$72,IF($O$6=\"Piedmont\",'Forage Growth Curve Reference'!$A$4:$Q$35,'Forage Growth Curve Reference'!$A$4:$Q$35))),6,FALSE),\"\")","v":""},{"$f":"IF(AND(OR($J18<>\"\",$K18<>\"\"),$M18<>\"\"),$W18*VLOOKUP($D18,IF($O$6=\"Western Mountains\",'Forage Growth Curve Reference'!#REF!,IF($O$6=\"Coastal Plain\",'Forage Growth Curve Reference'!$A$41:$Q$72,IF($O$6=\"Piedmont\",'Forage Growth Curve Reference'!$A$4:$Q$35,'Forage Growth Curve Reference'!$A$4:$Q$35))),7,FALSE),\"\")","v":""},{"$f":"IF(AND(OR($J18<>\"\",$K18<>\"\"),$M18<>\"\"),$W18*VLOOKUP($D18,IF($O$6=\"Western Mountains\",'Forage Growth Curve Reference'!#REF!,IF($O$6=\"Coastal Plain\",'Forage Growth Curve Reference'!$A$41:$Q$72,IF($O$6=\"Piedmont\",'Forage Growth Curve Reference'!$A$4:$Q$35,'Forage Growth Curve Reference'!$A$4:$Q$35))),8,FALSE),\"\")","v":""},{"$f":"IF(AND(OR($J18<>\"\",$K18<>\"\"),$M18<>\"\"),$W18*VLOOKUP($D18,IF($O$6=\"Western Mountains\",'Forage Growth Curve Reference'!#REF!,IF($O$6=\"Coastal Plain\",'Forage Growth Curve Reference'!$A$41:$Q$72,IF($O$6=\"Piedmont\",'Forage Growth Curve Reference'!$A$4:$Q$35,'Forage Growth Curve Reference'!$A$4:$Q$35))),9,FALSE),\"\")","v":""},{"$f":"IF(AND(OR($J18<>\"\",$K18<>\"\"),$M18<>\"\"),$W18*VLOOKUP($D18,IF($O$6=\"Western Mountains\",'Forage Growth Curve Reference'!#REF!,IF($O$6=\"Coastal Plain\",'Forage Growth Curve Reference'!$A$41:$Q$72,IF($O$6=\"Piedmont\",'Forage Growth Curve Reference'!$A$4:$Q$35,'Forage Growth Curve Reference'!$A$4:$Q$35))),10,FALSE),\"\")","v":""},{"$f":"IF(AND(OR($J18<>\"\",$K18<>\"\"),$M18<>\"\"),$W18*VLOOKUP($D18,IF($O$6=\"Western Mountains\",'Forage Growth Curve Reference'!#REF!,IF($O$6=\"Coastal Plain\",'Forage Growth Curve Reference'!$A$41:$Q$72,IF($O$6=\"Piedmont\",'Forage Growth Curve Reference'!$A$4:$Q$35,'Forage Growth Curve Reference'!$A$4:$Q$35))),11,FALSE),\"\")","v":""},{"$f":"IF(AND(OR($J18<>\"\",$K18<>\"\"),$M18<>\"\"),$W18*VLOOKUP($D18,IF($O$6=\"Western Mountains\",'Forage Growth Curve Reference'!#REF!,IF($O$6=\"Coastal Plain\",'Forage Growth Curve Reference'!$A$41:$Q$72,IF($O$6=\"Piedmont\",'Forage Growth Curve Reference'!$A$4:$Q$35,'Forage Growth Curve Reference'!$A$4:$Q$35))),12,FALSE),\"\")","v":""},{"$f":"IF(AND(OR($J18<>\"\",$K18<>\"\"),$M18<>\"\"),$W18*VLOOKUP($D18,IF($O$6=\"Western Mountains\",'Forage Growth Curve Reference'!#REF!,IF($O$6=\"Coastal Plain\",'Forage Growth Curve Reference'!$A$41:$Q$72,IF($O$6=\"Piedmont\",'Forage Growth Curve Reference'!$A$4:$Q$35,'Forage Growth Curve Reference'!$A$4:$Q$35))),13,FALSE),\"\")","v":""},{"$f":"IF(AND(OR($J18<>\"\",$K18<>\"\"),$M18<>\"\"),$W18*VLOOKUP($D18,IF($O$6=\"Western Mountains\",'Forage Growth Curve Reference'!#REF!,IF($O$6=\"Coastal Plain\",'Forage Growth Curve Reference'!$A$41:$Q$72,IF($O$6=\"Piedmont\",'Forage Growth Curve Reference'!$A$4:$Q$35,'Forage Growth Curve Reference'!$A$4:$Q$35))),14,FALSE),\"\")","v":""},{"$f":"IF(AND(OR($J18<>\"\",$K18<>\"\"),$M18<>\"\"),$W18*VLOOKUP($D18,IF($O$6=\"Western Mountains\",'Forage Growth Curve Reference'!#REF!,IF($O$6=\"Coastal Plain\",'Forage Growth Curve Reference'!$A$41:$Q$72,IF($O$6=\"Piedmont\",'Forage Growth Curve Reference'!$A$4:$Q$35,'Forage Growth Curve Reference'!$A$4:$Q$35))),15,FALSE),\"\")","v":""},{"$f":"IF(AND(OR($J18<>\"\",$K18<>\"\"),$M18<>\"\"),$W18*VLOOKUP($D18,IF($O$6=\"Western Mountains\",'Forage Growth Curve Reference'!#REF!,IF($O$6=\"Coastal Plain\",'Forage Growth Curve Reference'!$A$41:$Q$72,IF($O$6=\"Piedmont\",'Forage Growth Curve Reference'!$A$4:$Q$35,'Forage Growth Curve Reference'!$A$4:$Q$35))),16,FALSE),\"\")","v":""},{"$f":"IF(AND(OR($J18<>\"\",$K18<>\"\"),$M18<>\"\"),$W18*VLOOKUP($D18,IF($O$6=\"Western Mountains\",'Forage Growth Curve Reference'!#REF!,IF($O$6=\"Coastal Plain\",'Forage Growth Curve Reference'!$A$41:$Q$72,IF($O$6=\"Piedmont\",'Forage Growth Curve Reference'!$A$4:$Q$35,'Forage Growth Curve Reference'!$A$4:$Q$35))),17,FALSE),\"\")","v":""}]
[null,null,19,{"$f":"IF(AND(OR($J19<>\"\",$K19<>\"\"),$M19<>\"\"),$W19*VLOOKUP($D19,IF($O$6=\"Western Mountains\",'Forage Growth Curve Reference'!#REF!,IF($O$6=\"Coastal Plain\",'Forage Growth Curve Reference'!$A$41:$Q$72,IF($O$6=\"Piedmont\",'Forage Growth Curve Reference'!$A$4:$Q$35,'Forage Growth Curve Reference'!$A$4:$Q$35))),6,FALSE),\"\")","v":""},{"$f":"IF(AND(OR($J19<>\"\",$K19<>\"\"),$M19<>\"\"),$W19*VLOOKUP($D19,IF($O$6=\"Western Mountains\",'Forage Growth Curve Reference'!#REF!,IF($O$6=\"Coastal Plain\",'Forage Growth Curve Reference'!$A$41:$Q$72,IF($O$6=\"Piedmont\",'Forage Growth Curve Reference'!$A$4:$Q$35,'Forage Growth Curve Reference'!$A$4:$Q$35))),7,FALSE),\"\")","v":""},{"$f":"IF(AND(OR($J19<>\"\",$K19<>\"\"),$M19<>\"\"),$W19*VLOOKUP($D19,IF($O$6=\"Western Mountains\",'Forage Growth Curve Reference'!#REF!,IF($O$6=\"Coastal Plain\",'Forage Growth Curve Reference'!$A$41:$Q$72,IF($O$6=\"Piedmont\",'Forage Growth Curve Reference'!$A$4:$Q$35,'Forage Growth Curve Reference'!$A$4:$Q$35))),8,FALSE),\"\")","v":""},{"$f":"IF(AND(OR($J19<>\"\",$K19<>\"\"),$M19<>\"\"),$W19*VLOOKUP($D19,IF($O$6=\"Western Mountains\",'Forage Growth Curve Reference'!#REF!,IF($O$6=\"Coastal Plain\",'Forage Growth Curve Reference'!$A$41:$Q$72,IF($O$6=\"Piedmont\",'Forage Growth Curve Reference'!$A$4:$Q$35,'Forage Growth Curve Reference'!$A$4:$Q$35))),9,FALSE),\"\")","v":""},{"$f":"IF(AND(OR($J19<>\"\",$K19<>\"\"),$M19<>\"\"),$W19*VLOOKUP($D19,IF($O$6=\"Western Mountains\",'Forage Growth Curve Reference'!#REF!,IF($O$6=\"Coastal Plain\",'Forage Growth Curve Reference'!$A$41:$Q$72,IF($O$6=\"Piedmont\",'Forage Growth Curve Reference'!$A$4:$Q$35,'Forage Growth Curve Reference'!$A$4:$Q$35))),10,FALSE),\"\")","v":""},{"$f":"IF(AND(OR($J19<>\"\",$K19<>\"\"),$M19<>\"\"),$W19*VLOOKUP($D19,IF($O$6=\"Western Mountains\",'Forage Growth Curve Reference'!#REF!,IF($O$6=\"Coastal Plain\",'Forage Growth Curve Reference'!$A$41:$Q$72,IF($O$6=\"Piedmont\",'Forage Growth Curve Reference'!$A$4:$Q$35,'Forage Growth Curve Reference'!$A$4:$Q$35))),11,FALSE),\"\")","v":""},{"$f":"IF(AND(OR($J19<>\"\",$K19<>\"\"),$M19<>\"\"),$W19*VLOOKUP($D19,IF($O$6=\"Western Mountains\",'Forage Growth Curve Reference'!#REF!,IF($O$6=\"Coastal Plain\",'Forage Growth Curve Reference'!$A$41:$Q$72,IF($O$6=\"Piedmont\",'Forage Growth Curve Reference'!$A$4:$Q$35,'Forage Growth Curve Reference'!$A$4:$Q$35))),12,FALSE),\"\")","v":""},{"$f":"IF(AND(OR($J19<>\"\",$K19<>\"\"),$M19<>\"\"),$W19*VLOOKUP($D19,IF($O$6=\"Western Mountains\",'Forage Growth Curve Reference'!#REF!,IF($O$6=\"Coastal Plain\",'Forage Growth Curve Reference'!$A$41:$Q$72,IF($O$6=\"Piedmont\",'Forage Growth Curve Reference'!$A$4:$Q$35,'Forage Growth Curve Reference'!$A$4:$Q$35))),13,FALSE),\"\")","v":""},{"$f":"IF(AND(OR($J19<>\"\",$K19<>\"\"),$M19<>\"\"),$W19*VLOOKUP($D19,IF($O$6=\"Western Mountains\",'Forage Growth Curve Reference'!#REF!,IF($O$6=\"Coastal Plain\",'Forage Growth Curve Reference'!$A$41:$Q$72,IF($O$6=\"Piedmont\",'Forage Growth Curve Reference'!$A$4:$Q$35,'Forage Growth Curve Reference'!$A$4:$Q$35))),14,FALSE),\"\")","v":""},{"$f":"IF(AND(OR($J19<>\"\",$K19<>\"\"),$M19<>\"\"),$W19*VLOOKUP($D19,IF($O$6=\"Western Mountains\",'Forage Growth Curve Reference'!#REF!,IF($O$6=\"Coastal Plain\",'Forage Growth Curve Reference'!$A$41:$Q$72,IF($O$6=\"Piedmont\",'Forage Growth Curve Reference'!$A$4:$Q$35,'Forage Growth Curve Reference'!$A$4:$Q$35))),15,FALSE),\"\")","v":""},{"$f":"IF(AND(OR($J19<>\"\",$K19<>\"\"),$M19<>\"\"),$W19*VLOOKUP($D19,IF($O$6=\"Western Mountains\",'Forage Growth Curve Reference'!#REF!,IF($O$6=\"Coastal Plain\",'Forage Growth Curve Reference'!$A$41:$Q$72,IF($O$6=\"Piedmont\",'Forage Growth Curve Reference'!$A$4:$Q$35,'Forage Growth Curve Reference'!$A$4:$Q$35))),16,FALSE),\"\")","v":""},{"$f":"IF(AND(OR($J19<>\"\",$K19<>\"\"),$M19<>\"\"),$W19*VLOOKUP($D19,IF($O$6=\"Western Mountains\",'Forage Growth Curve Reference'!#REF!,IF($O$6=\"Coastal Plain\",'Forage Growth Curve Reference'!$A$41:$Q$72,IF($O$6=\"Piedmont\",'Forage Growth Curve Reference'!$A$4:$Q$35,'Forage Growth Curve Reference'!$A$4:$Q$35))),17,FALSE),\"\")","v":""}]
[null,null,20,{"$f":"IF(AND(OR($J20<>\"\",$K20<>\"\"),$M20<>\"\"),$W20*VLOOKUP($D20,IF($O$6=\"Western Mountains\",'Forage Growth Curve Reference'!#REF!,IF($O$6=\"Coastal Plain\",'Forage Growth Curve Reference'!$A$41:$Q$72,IF($O$6=\"Piedmont\",'Forage Growth Curve Reference'!$A$4:$Q$35,'Forage Growth Curve Reference'!$A$4:$Q$35))),6,FALSE),\"\")","v":""},{"$f":"IF(AND(OR($J20<>\"\",$K20<>\"\"),$M20<>\"\"),$W20*VLOOKUP($D20,IF($O$6=\"Western Mountains\",'Forage Growth Curve Reference'!#REF!,IF($O$6=\"Coastal Plain\",'Forage Growth Curve Reference'!$A$41:$Q$72,IF($O$6=\"Piedmont\",'Forage Growth Curve Reference'!$A$4:$Q$35,'Forage Growth Curve Reference'!$A$4:$Q$35))),7,FALSE),\"\")","v":""},{"$f":"IF(AND(OR($J20<>\"\",$K20<>\"\"),$M20<>\"\"),$W20*VLOOKUP($D20,IF($O$6=\"Western Mountains\",'Forage Growth Curve Reference'!#REF!,IF($O$6=\"Coastal Plain\",'Forage Growth Curve Reference'!$A$41:$Q$72,IF($O$6=\"Piedmont\",'Forage Growth Curve Reference'!$A$4:$Q$35,'Forage Growth Curve Reference'!$A$4:$Q$35))),8,FALSE),\"\")","v":""},{"$f":"IF(AND(OR($J20<>\"\",$K20<>\"\"),$M20<>\"\"),$W20*VLOOKUP($D20,IF($O$6=\"Western Mountains\",'Forage Growth Curve Reference'!#REF!,IF($O$6=\"Coastal Plain\",'Forage Growth Curve Reference'!$A$41:$Q$72,IF($O$6=\"Piedmont\",'Forage Growth Curve Reference'!$A$4:$Q$35,'Forage Growth Curve Reference'!$A$4:$Q$35))),9,FALSE),\"\")","v":""},{"$f":"IF(AND(OR($J20<>\"\",$K20<>\"\"),$M20<>\"\"),$W20*VLOOKUP($D20,IF($O$6=\"Western Mountains\",'Forage Growth Curve Reference'!#REF!,IF($O$6=\"Coastal Plain\",'Forage Growth Curve Reference'!$A$41:$Q$72,IF($O$6=\"Piedmont\",'Forage Growth Curve Reference'!$A$4:$Q$35,'Forage Growth Curve Reference'!$A$4:$Q$35))),10,FALSE),\"\")","v":""},{"$f":"IF(AND(OR($J20<>\"\",$K20<>\"\"),$M20<>\"\"),$W20*VLOOKUP($D20,IF($O$6=\"Western Mountains\",'Forage Growth Curve Reference'!#REF!,IF($O$6=\"Coastal Plain\",'Forage Growth Curve Reference'!$A$41:$Q$72,IF($O$6=\"Piedmont\",'Forage Growth Curve Reference'!$A$4:$Q$35,'Forage Growth Curve Reference'!$A$4:$Q$35))),11,FALSE),\"\")","v":""},{"$f":"IF(AND(OR($J20<>\"\",$K20<>\"\"),$M20<>\"\"),$W20*VLOOKUP($D20,IF($O$6=\"Western Mountains\",'Forage Growth Curve Reference'!#REF!,IF($O$6=\"Coastal Plain\",'Forage Growth Curve Reference'!$A$41:$Q$72,IF($O$6=\"Piedmont\",'Forage Growth Curve Reference'!$A$4:$Q$35,'Forage Growth Curve Reference'!$A$4:$Q$35))),12,FALSE),\"\")","v":""},{"$f":"IF(AND(OR($J20<>\"\",$K20<>\"\"),$M20<>\"\"),$W20*VLOOKUP($D20,IF($O$6=\"Western Mountains\",'Forage Growth Curve Reference'!#REF!,IF($O$6=\"Coastal Plain\",'Forage Growth Curve Reference'!$A$41:$Q$72,IF($O$6=\"Piedmont\",'Forage Growth Curve Reference'!$A$4:$Q$35,'Forage Growth Curve Reference'!$A$4:$Q$35))),13,FALSE),\"\")","v":""},{"$f":"IF(AND(OR($J20<>\"\",$K20<>\"\"),$M20<>\"\"),$W20*VLOOKUP($D20,IF($O$6=\"Western Mountains\",'Forage Growth Curve Reference'!#REF!,IF($O$6=\"Coastal Plain\",'Forage Growth Curve Reference'!$A$41:$Q$72,IF($O$6=\"Piedmont\",'Forage Growth Curve Reference'!$A$4:$Q$35,'Forage Growth Curve Reference'!$A$4:$Q$35))),14,FALSE),\"\")","v":""},{"$f":"IF(AND(OR($J20<>\"\",$K20<>\"\"),$M20<>\"\"),$W20*VLOOKUP($D20,IF($O$6=\"Western Mountains\",'Forage Growth Curve Reference'!#REF!,IF($O$6=\"Coastal Plain\",'Forage Growth Curve Reference'!$A$41:$Q$72,IF($O$6=\"Piedmont\",'Forage Growth Curve Reference'!$A$4:$Q$35,'Forage Growth Curve Reference'!$A$4:$Q$35))),15,FALSE),\"\")","v":""},{"$f":"IF(AND(OR($J20<>\"\",$K20<>\"\"),$M20<>\"\"),$W20*VLOOKUP($D20,IF($O$6=\"Western Mountains\",'Forage Growth Curve Reference'!#REF!,IF($O$6=\"Coastal Plain\",'Forage Growth Curve Reference'!$A$41:$Q$72,IF($O$6=\"Piedmont\",'Forage Growth Curve Reference'!$A$4:$Q$35,'Forage Growth Curve Reference'!$A$4:$Q$35))),16,FALSE),\"\")","v":""},{"$f":"IF(AND(OR($J20<>\"\",$K20<>\"\"),$M20<>\"\"),$W20*VLOOKUP($D20,IF($O$6=\"Western Mountains\",'Forage Growth Curve Reference'!#REF!,IF($O$6=\"Coastal Plain\",'Forage Growth Curve Reference'!$A$41:$Q$72,IF($O$6=\"Piedmont\",'Forage Growth Curve Reference'!$A$4:$Q$35,'Forage Growth Curve Reference'!$A$4:$Q$35))),17,FALSE),\"\")","v":""}]
[null,null,21,{"$f":"IF(AND(OR($J21<>\"\",$K21<>\"\"),$M21<>\"\"),$W21*VLOOKUP($D21,IF($O$6=\"Western Mountains\",'Forage Growth Curve Reference'!#REF!,IF($O$6=\"Coastal Plain\",'Forage Growth Curve Reference'!$A$41:$Q$72,IF($O$6=\"Piedmont\",'Forage Growth Curve Reference'!$A$4:$Q$35,'Forage Growth Curve Reference'!$A$4:$Q$35))),6,FALSE),\"\")","v":""},{"$f":"IF(AND(OR($J21<>\"\",$K21<>\"\"),$M21<>\"\"),$W21*VLOOKUP($D21,IF($O$6=\"Western Mountains\",'Forage Growth Curve Reference'!#REF!,IF($O$6=\"Coastal Plain\",'Forage Growth Curve Reference'!$A$41:$Q$72,IF($O$6=\"Piedmont\",'Forage Growth Curve Reference'!$A$4:$Q$35,'Forage Growth Curve Reference'!$A$4:$Q$35))),7,FALSE),\"\")","v":""},{"$f":"IF(AND(OR($J21<>\"\",$K21<>\"\"),$M21<>\"\"),$W21*VLOOKUP($D21,IF($O$6=\"Western Mountains\",'Forage Growth Curve Reference'!#REF!,IF($O$6=\"Coastal Plain\",'Forage Growth Curve Reference'!$A$41:$Q$72,IF($O$6=\"Piedmont\",'Forage Growth Curve Reference'!$A$4:$Q$35,'Forage Growth Curve Reference'!$A$4:$Q$35))),8,FALSE),\"\")","v":""},{"$f":"IF(AND(OR($J21<>\"\",$K21<>\"\"),$M21<>\"\"),$W21*VLOOKUP($D21,IF($O$6=\"Western Mountains\",'Forage Growth Curve Reference'!#REF!,IF($O$6=\"Coastal Plain\",'Forage Growth Curve Reference'!$A$41:$Q$72,IF($O$6=\"Piedmont\",'Forage Growth Curve Reference'!$A$4:$Q$35,'Forage Growth Curve Reference'!$A$4:$Q$35))),9,FALSE),\"\")","v":""},{"$f":"IF(AND(OR($J21<>\"\",$K21<>\"\"),$M21<>\"\"),$W21*VLOOKUP($D21,IF($O$6=\"Western Mountains\",'Forage Growth Curve Reference'!#REF!,IF($O$6=\"Coastal Plain\",'Forage Growth Curve Reference'!$A$41:$Q$72,IF($O$6=\"Piedmont\",'Forage Growth Curve Reference'!$A$4:$Q$35,'Forage Growth Curve Reference'!$A$4:$Q$35))),10,FALSE),\"\")","v":""},{"$f":"IF(AND(OR($J21<>\"\",$K21<>\"\"),$M21<>\"\"),$W21*VLOOKUP($D21,IF($O$6=\"Western Mountains\",'Forage Growth Curve Reference'!#REF!,IF($O$6=\"Coastal Plain\",'Forage Growth Curve Reference'!$A$41:$Q$72,IF($O$6=\"Piedmont\",'Forage Growth Curve Reference'!$A$4:$Q$35,'Forage Growth Curve Reference'!$A$4:$Q$35))),11,FALSE),\"\")","v":""},{"$f":"IF(AND(OR($J21<>\"\",$K21<>\"\"),$M21<>\"\"),$W21*VLOOKUP($D21,IF($O$6=\"Western Mountains\",'Forage Growth Curve Reference'!#REF!,IF($O$6=\"Coastal Plain\",'Forage Growth Curve Reference'!$A$41:$Q$72,IF($O$6=\"Piedmont\",'Forage Growth Curve Reference'!$A$4:$Q$35,'Forage Growth Curve Reference'!$A$4:$Q$35))),12,FALSE),\"\")","v":""},{"$f":"IF(AND(OR($J21<>\"\",$K21<>\"\"),$M21<>\"\"),$W21*VLOOKUP($D21,IF($O$6=\"Western Mountains\",'Forage Growth Curve Reference'!#REF!,IF($O$6=\"Coastal Plain\",'Forage Growth Curve Reference'!$A$41:$Q$72,IF($O$6=\"Piedmont\",'Forage Growth Curve Reference'!$A$4:$Q$35,'Forage Growth Curve Reference'!$A$4:$Q$35))),13,FALSE),\"\")","v":""},{"$f":"IF(AND(OR($J21<>\"\",$K21<>\"\"),$M21<>\"\"),$W21*VLOOKUP($D21,IF($O$6=\"Western Mountains\",'Forage Growth Curve Reference'!#REF!,IF($O$6=\"Coastal Plain\",'Forage Growth Curve Reference'!$A$41:$Q$72,IF($O$6=\"Piedmont\",'Forage Growth Curve Reference'!$A$4:$Q$35,'Forage Growth Curve Reference'!$A$4:$Q$35))),14,FALSE),\"\")","v":""},{"$f":"IF(AND(OR($J21<>\"\",$K21<>\"\"),$M21<>\"\"),$W21*VLOOKUP($D21,IF($O$6=\"Western Mountains\",'Forage Growth Curve Reference'!#REF!,IF($O$6=\"Coastal Plain\",'Forage Growth Curve Reference'!$A$41:$Q$72,IF($O$6=\"Piedmont\",'Forage Growth Curve Reference'!$A$4:$Q$35,'Forage Growth Curve Reference'!$A$4:$Q$35))),15,FALSE),\"\")","v":""},{"$f":"IF(AND(OR($J21<>\"\",$K21<>\"\"),$M21<>\"\"),$W21*VLOOKUP($D21,IF($O$6=\"Western Mountains\",'Forage Growth Curve Reference'!#REF!,IF($O$6=\"Coastal Plain\",'Forage Growth Curve Reference'!$A$41:$Q$72,IF($O$6=\"Piedmont\",'Forage Growth Curve Reference'!$A$4:$Q$35,'Forage Growth Curve Reference'!$A$4:$Q$35))),16,FALSE),\"\")","v":""},{"$f":"IF(AND(OR($J21<>\"\",$K21<>\"\"),$M21<>\"\"),$W21*VLOOKUP($D21,IF($O$6=\"Western Mountains\",'Forage Growth Curve Reference'!#REF!,IF($O$6=\"Coastal Plain\",'Forage Growth Curve Reference'!$A$41:$Q$72,IF($O$6=\"Piedmont\",'Forage Growth Curve Reference'!$A$4:$Q$35,'Forage Growth Curve Reference'!$A$4:$Q$35))),17,FALSE),\"\")","v":""}]
[null,null,22,{"$f":"IF(AND(OR($J22<>\"\",$K22<>\"\"),$M22<>\"\"),$W22*VLOOKUP($D22,IF($O$6=\"Western Mountains\",'Forage Growth Curve Reference'!#REF!,IF($O$6=\"Coastal Plain\",'Forage Growth Curve Reference'!$A$41:$Q$72,IF($O$6=\"Piedmont\",'Forage Growth Curve Reference'!$A$4:$Q$35,'Forage Growth Curve Reference'!$A$4:$Q$35))),6,FALSE),\"\")","v":""},{"$f":"IF(AND(OR($J22<>\"\",$K22<>\"\"),$M22<>\"\"),$W22*VLOOKUP($D22,IF($O$6=\"Western Mountains\",'Forage Growth Curve Reference'!#REF!,IF($O$6=\"Coastal Plain\",'Forage Growth Curve Reference'!$A$41:$Q$72,IF($O$6=\"Piedmont\",'Forage Growth Curve Reference'!$A$4:$Q$35,'Forage Growth Curve Reference'!$A$4:$Q$35))),7,FALSE),\"\")","v":""},{"$f":"IF(AND(OR($J22<>\"\",$K22<>\"\"),$M22<>\"\"),$W22*VLOOKUP($D22,IF($O$6=\"Western Mountains\",'Forage Growth Curve Reference'!#REF!,IF($O$6=\"Coastal Plain\",'Forage Growth Curve Reference'!$A$41:$Q$72,IF($O$6=\"Piedmont\",'Forage Growth Curve Reference'!$A$4:$Q$35,'Forage Growth Curve Reference'!$A$4:$Q$35))),8,FALSE),\"\")","v":""},{"$f":"IF(AND(OR($J22<>\"\",$K22<>\"\"),$M22<>\"\"),$W22*VLOOKUP($D22,IF($O$6=\"Western Mountains\",'Forage Growth Curve Reference'!#REF!,IF($O$6=\"Coastal Plain\",'Forage Growth Curve Reference'!$A$41:$Q$72,IF($O$6=\"Piedmont\",'Forage Growth Curve Reference'!$A$4:$Q$35,'Forage Growth Curve Reference'!$A$4:$Q$35))),9,FALSE),\"\")","v":""},{"$f":"IF(AND(OR($J22<>\"\",$K22<>\"\"),$M22<>\"\"),$W22*VLOOKUP($D22,IF($O$6=\"Western Mountains\",'Forage Growth Curve Reference'!#REF!,IF($O$6=\"Coastal Plain\",'Forage Growth Curve Reference'!$A$41:$Q$72,IF($O$6=\"Piedmont\",'Forage Growth Curve Reference'!$A$4:$Q$35,'Forage Growth Curve Reference'!$A$4:$Q$35))),10,FALSE),\"\")","v":""},{"$f":"IF(AND(OR($J22<>\"\",$K22<>\"\"),$M22<>\"\"),$W22*VLOOKUP($D22,IF($O$6=\"Western Mountains\",'Forage Growth Curve Reference'!#REF!,IF($O$6=\"Coastal Plain\",'Forage Growth Curve Reference'!$A$41:$Q$72,IF($O$6=\"Piedmont\",'Forage Growth Curve Reference'!$A$4:$Q$35,'Forage Growth Curve Reference'!$A$4:$Q$35))),11,FALSE),\"\")","v":""},{"$f":"IF(AND(OR($J22<>\"\",$K22<>\"\"),$M22<>\"\"),$W22*VLOOKUP($D22,IF($O$6=\"Western Mountains\",'Forage Growth Curve Reference'!#REF!,IF($O$6=\"Coastal Plain\",'Forage Growth Curve Reference'!$A$41:$Q$72,IF($O$6=\"Piedmont\",'Forage Growth Curve Reference'!$A$4:$Q$35,'Forage Growth Curve Reference'!$A$4:$Q$35))),12,FALSE),\"\")","v":""},{"$f":"IF(AND(OR($J22<>\"\",$K22<>\"\"),$M22<>\"\"),$W22*VLOOKUP($D22,IF($O$6=\"Western Mountains\",'Forage Growth Curve Reference'!#REF!,IF($O$6=\"Coastal Plain\",'Forage Growth Curve Reference'!$A$41:$Q$72,IF($O$6=\"Piedmont\",'Forage Growth Curve Reference'!$A$4:$Q$35,'Forage Growth Curve Reference'!$A$4:$Q$35))),13,FALSE),\"\")","v":""},{"$f":"IF(AND(OR($J22<>\"\",$K22<>\"\"),$M22<>\"\"),$W22*VLOOKUP($D22,IF($O$6=\"Western Mountains\",'Forage Growth Curve Reference'!#REF!,IF($O$6=\"Coastal Plain\",'Forage Growth Curve Reference'!$A$41:$Q$72,IF($O$6=\"Piedmont\",'Forage Growth Curve Reference'!$A$4:$Q$35,'Forage Growth Curve Reference'!$A$4:$Q$35))),14,FALSE),\"\")","v":""},{"$f":"IF(AND(OR($J22<>\"\",$K22<>\"\"),$M22<>\"\"),$W22*VLOOKUP($D22,IF($O$6=\"Western Mountains\",'Forage Growth Curve Reference'!#REF!,IF($O$6=\"Coastal Plain\",'Forage Growth Curve Reference'!$A$41:$Q$72,IF($O$6=\"Piedmont\",'Forage Growth Curve Reference'!$A$4:$Q$35,'Forage Growth Curve Reference'!$A$4:$Q$35))),15,FALSE),\"\")","v":""},{"$f":"IF(AND(OR($J22<>\"\",$K22<>\"\"),$M22<>\"\"),$W22*VLOOKUP($D22,IF($O$6=\"Western Mountains\",'Forage Growth Curve Reference'!#REF!,IF($O$6=\"Coastal Plain\",'Forage Growth Curve Reference'!$A$41:$Q$72,IF($O$6=\"Piedmont\",'Forage Growth Curve Reference'!$A$4:$Q$35,'Forage Growth Curve Reference'!$A$4:$Q$35))),16,FALSE),\"\")","v":""},{"$f":"IF(AND(OR($J22<>\"\",$K22<>\"\"),$M22<>\"\"),$W22*VLOOKUP($D22,IF($O$6=\"Western Mountains\",'Forage Growth Curve Reference'!#REF!,IF($O$6=\"Coastal Plain\",'Forage Growth Curve Reference'!$A$41:$Q$72,IF($O$6=\"Piedmont\",'Forage Growth Curve Reference'!$A$4:$Q$35,'Forage Growth Curve Reference'!$A$4:$Q$35))),17,FALSE),\"\")","v":""}]
[null,null,23,{"$f":"IF(AND(OR($J23<>\"\",$K23<>\"\"),$M23<>\"\"),$W23*VLOOKUP($D23,IF($O$6=\"Western Mountains\",'Forage Growth Curve Reference'!#REF!,IF($O$6=\"Coastal Plain\",'Forage Growth Curve Reference'!$A$41:$Q$72,IF($O$6=\"Piedmont\",'Forage Growth Curve Reference'!$A$4:$Q$35,'Forage Growth Curve Reference'!$A$4:$Q$35))),6,FALSE),\"\")","v":""},{"$f":"IF(AND(OR($J23<>\"\",$K23<>\"\"),$M23<>\"\"),$W23*VLOOKUP($D23,IF($O$6=\"Western Mountains\",'Forage Growth Curve Reference'!#REF!,IF($O$6=\"Coastal Plain\",'Forage Growth Curve Reference'!$A$41:$Q$72,IF($O$6=\"Piedmont\",'Forage Growth Curve Reference'!$A$4:$Q$35,'Forage Growth Curve Reference'!$A$4:$Q$35))),7,FALSE),\"\")","v":""},{"$f":"IF(AND(OR($J23<>\"\",$K23<>\"\"),$M23<>\"\"),$W23*VLOOKUP($D23,IF($O$6=\"Western Mountains\",'Forage Growth Curve Reference'!#REF!,IF($O$6=\"Coastal Plain\",'Forage Growth Curve Reference'!$A$41:$Q$72,IF($O$6=\"Piedmont\",'Forage Growth Curve Reference'!$A$4:$Q$35,'Forage Growth Curve Reference'!$A$4:$Q$35))),8,FALSE),\"\")","v":""},{"$f":"IF(AND(OR($J23<>\"\",$K23<>\"\"),$M23<>\"\"),$W23*VLOOKUP($D23,IF($O$6=\"Western Mountains\",'Forage Growth Curve Reference'!#REF!,IF($O$6=\"Coastal Plain\",'Forage Growth Curve Reference'!$A$41:$Q$72,IF($O$6=\"Piedmont\",'Forage Growth Curve Reference'!$A$4:$Q$35,'Forage Growth Curve Reference'!$A$4:$Q$35))),9,FALSE),\"\")","v":""},{"$f":"IF(AND(OR($J23<>\"\",$K23<>\"\"),$M23<>\"\"),$W23*VLOOKUP($D23,IF($O$6=\"Western Mountains\",'Forage Growth Curve Reference'!#REF!,IF($O$6=\"Coastal Plain\",'Forage Growth Curve Reference'!$A$41:$Q$72,IF($O$6=\"Piedmont\",'Forage Growth Curve Reference'!$A$4:$Q$35,'Forage Growth Curve Reference'!$A$4:$Q$35))),10,FALSE),\"\")","v":""},{"$f":"IF(AND(OR($J23<>\"\",$K23<>\"\"),$M23<>\"\"),$W23*VLOOKUP($D23,IF($O$6=\"Western Mountains\",'Forage Growth Curve Reference'!#REF!,IF($O$6=\"Coastal Plain\",'Forage Growth Curve Reference'!$A$41:$Q$72,IF($O$6=\"Piedmont\",'Forage Growth Curve Reference'!$A$4:$Q$35,'Forage Growth Curve Reference'!$A$4:$Q$35))),11,FALSE),\"\")","v":""},{"$f":"IF(AND(OR($J23<>\"\",$K23<>\"\"),$M23<>\"\"),$W23*VLOOKUP($D23,IF($O$6=\"Western Mountains\",'Forage Growth Curve Reference'!#REF!,IF($O$6=\"Coastal Plain\",'Forage Growth Curve Reference'!$A$41:$Q$72,IF($O$6=\"Piedmont\",'Forage Growth Curve Reference'!$A$4:$Q$35,'Forage Growth Curve Reference'!$A$4:$Q$35))),12,FALSE),\"\")","v":""},{"$f":"IF(AND(OR($J23<>\"\",$K23<>\"\"),$M23<>\"\"),$W23*VLOOKUP($D23,IF($O$6=\"Western Mountains\",'Forage Growth Curve Reference'!#REF!,IF($O$6=\"Coastal Plain\",'Forage Growth Curve Reference'!$A$41:$Q$72,IF($O$6=\"Piedmont\",'Forage Growth Curve Reference'!$A$4:$Q$35,'Forage Growth Curve Reference'!$A$4:$Q$35))),13,FALSE),\"\")","v":""},{"$f":"IF(AND(OR($J23<>\"\",$K23<>\"\"),$M23<>\"\"),$W23*VLOOKUP($D23,IF($O$6=\"Western Mountains\",'Forage Growth Curve Reference'!#REF!,IF($O$6=\"Coastal Plain\",'Forage Growth Curve Reference'!$A$41:$Q$72,IF($O$6=\"Piedmont\",'Forage Growth Curve Reference'!$A$4:$Q$35,'Forage Growth Curve Reference'!$A$4:$Q$35))),14,FALSE),\"\")","v":""},{"$f":"IF(AND(OR($J23<>\"\",$K23<>\"\"),$M23<>\"\"),$W23*VLOOKUP($D23,IF($O$6=\"Western Mountains\",'Forage Growth Curve Reference'!#REF!,IF($O$6=\"Coastal Plain\",'Forage Growth Curve Reference'!$A$41:$Q$72,IF($O$6=\"Piedmont\",'Forage Growth Curve Reference'!$A$4:$Q$35,'Forage Growth Curve Reference'!$A$4:$Q$35))),15,FALSE),\"\")","v":""},{"$f":"IF(AND(OR($J23<>\"\",$K23<>\"\"),$M23<>\"\"),$W23*VLOOKUP($D23,IF($O$6=\"Western Mountains\",'Forage Growth Curve Reference'!#REF!,IF($O$6=\"Coastal Plain\",'Forage Growth Curve Reference'!$A$41:$Q$72,IF($O$6=\"Piedmont\",'Forage Growth Curve Reference'!$A$4:$Q$35,'Forage Growth Curve Reference'!$A$4:$Q$35))),16,FALSE),\"\")","v":""},{"$f":"IF(AND(OR($J23<>\"\",$K23<>\"\"),$M23<>\"\"),$W23*VLOOKUP($D23,IF($O$6=\"Western Mountains\",'Forage Growth Curve Reference'!#REF!,IF($O$6=\"Coastal Plain\",'Forage Growth Curve Reference'!$A$41:$Q$72,IF($O$6=\"Piedmont\",'Forage Growth Curve Reference'!$A$4:$Q$35,'Forage Growth Curve Reference'!$A$4:$Q$35))),17,FALSE),\"\")","v":""}]
[null,null,24,{"$f":"IF(AND(OR($J24<>\"\",$K24<>\"\"),$M24<>\"\"),$W24*VLOOKUP($D24,IF($O$6=\"Western Mountains\",'Forage Growth Curve Reference'!#REF!,IF($O$6=\"Coastal Plain\",'Forage Growth Curve Reference'!$A$41:$Q$72,IF($O$6=\"Piedmont\",'Forage Growth Curve Reference'!$A$4:$Q$35,'Forage Growth Curve Reference'!$A$4:$Q$35))),6,FALSE),\"\")","v":""},{"$f":"IF(AND(OR($J24<>\"\",$K24<>\"\"),$M24<>\"\"),$W24*VLOOKUP($D24,IF($O$6=\"Western Mountains\",'Forage Growth Curve Reference'!#REF!,IF($O$6=\"Coastal Plain\",'Forage Growth Curve Reference'!$A$41:$Q$72,IF($O$6=\"Piedmont\",'Forage Growth Curve Reference'!$A$4:$Q$35,'Forage Growth Curve Reference'!$A$4:$Q$35))),7,FALSE),\"\")","v":""},{"$f":"IF(AND(OR($J24<>\"\",$K24<>\"\"),$M24<>\"\"),$W24*VLOOKUP($D24,IF($O$6=\"Western Mountains\",'Forage Growth Curve Reference'!#REF!,IF($O$6=\"Coastal Plain\",'Forage Growth Curve Reference'!$A$41:$Q$72,IF($O$6=\"Piedmont\",'Forage Growth Curve Reference'!$A$4:$Q$35,'Forage Growth Curve Reference'!$A$4:$Q$35))),8,FALSE),\"\")","v":""},{"$f":"IF(AND(OR($J24<>\"\",$K24<>\"\"),$M24<>\"\"),$W24*VLOOKUP($D24,IF($O$6=\"Western Mountains\",'Forage Growth Curve Reference'!#REF!,IF($O$6=\"Coastal Plain\",'Forage Growth Curve Reference'!$A$41:$Q$72,IF($O$6=\"Piedmont\",'Forage Growth Curve Reference'!$A$4:$Q$35,'Forage Growth Curve Reference'!$A$4:$Q$35))),9,FALSE),\"\")","v":""},{"$f":"IF(AND(OR($J24<>\"\",$K24<>\"\"),$M24<>\"\"),$W24*VLOOKUP($D24,IF($O$6=\"Western Mountains\",'Forage Growth Curve Reference'!#REF!,IF($O$6=\"Coastal Plain\",'Forage Growth Curve Reference'!$A$41:$Q$72,IF($O$6=\"Piedmont\",'Forage Growth Curve Reference'!$A$4:$Q$35,'Forage Growth Curve Reference'!$A$4:$Q$35))),10,FALSE),\"\")","v":""},{"$f":"IF(AND(OR($J24<>\"\",$K24<>\"\"),$M24<>\"\"),$W24*VLOOKUP($D24,IF($O$6=\"Western Mountains\",'Forage Growth Curve Reference'!#REF!,IF($O$6=\"Coastal Plain\",'Forage Growth Curve Reference'!$A$41:$Q$72,IF($O$6=\"Piedmont\",'Forage Growth Curve Reference'!$A$4:$Q$35,'Forage Growth Curve Reference'!$A$4:$Q$35))),11,FALSE),\"\")","v":""},{"$f":"IF(AND(OR($J24<>\"\",$K24<>\"\"),$M24<>\"\"),$W24*VLOOKUP($D24,IF($O$6=\"Western Mountains\",'Forage Growth Curve Reference'!#REF!,IF($O$6=\"Coastal Plain\",'Forage Growth Curve Reference'!$A$41:$Q$72,IF($O$6=\"Piedmont\",'Forage Growth Curve Reference'!$A$4:$Q$35,'Forage Growth Curve Reference'!$A$4:$Q$35))),12,FALSE),\"\")","v":""},{"$f":"IF(AND(OR($J24<>\"\",$K24<>\"\"),$M24<>\"\"),$W24*VLOOKUP($D24,IF($O$6=\"Western Mountains\",'Forage Growth Curve Reference'!#REF!,IF($O$6=\"Coastal Plain\",'Forage Growth Curve Reference'!$A$41:$Q$72,IF($O$6=\"Piedmont\",'Forage Growth Curve Reference'!$A$4:$Q$35,'Forage Growth Curve Reference'!$A$4:$Q$35))),13,FALSE),\"\")","v":""},{"$f":"IF(AND(OR($J24<>\"\",$K24<>\"\"),$M24<>\"\"),$W24*VLOOKUP($D24,IF($O$6=\"Western Mountains\",'Forage Growth Curve Reference'!#REF!,IF($O$6=\"Coastal Plain\",'Forage Growth Curve Reference'!$A$41:$Q$72,IF($O$6=\"Piedmont\",'Forage Growth Curve Reference'!$A$4:$Q$35,'Forage Growth Curve Reference'!$A$4:$Q$35))),14,FALSE),\"\")","v":""},{"$f":"IF(AND(OR($J24<>\"\",$K24<>\"\"),$M24<>\"\"),$W24*VLOOKUP($D24,IF($O$6=\"Western Mountains\",'Forage Growth Curve Reference'!#REF!,IF($O$6=\"Coastal Plain\",'Forage Growth Curve Reference'!$A$41:$Q$72,IF($O$6=\"Piedmont\",'Forage Growth Curve Reference'!$A$4:$Q$35,'Forage Growth Curve Reference'!$A$4:$Q$35))),15,FALSE),\"\")","v":""},{"$f":"IF(AND(OR($J24<>\"\",$K24<>\"\"),$M24<>\"\"),$W24*VLOOKUP($D24,IF($O$6=\"Western Mountains\",'Forage Growth Curve Reference'!#REF!,IF($O$6=\"Coastal Plain\",'Forage Growth Curve Reference'!$A$41:$Q$72,IF($O$6=\"Piedmont\",'Forage Growth Curve Reference'!$A$4:$Q$35,'Forage Growth Curve Reference'!$A$4:$Q$35))),16,FALSE),\"\")","v":""},{"$f":"IF(AND(OR($J24<>\"\",$K24<>\"\"),$M24<>\"\"),$W24*VLOOKUP($D24,IF($O$6=\"Western Mountains\",'Forage Growth Curve Reference'!#REF!,IF($O$6=\"Coastal Plain\",'Forage Growth Curve Reference'!$A$41:$Q$72,IF($O$6=\"Piedmont\",'Forage Growth Curve Reference'!$A$4:$Q$35,'Forage Growth Curve Reference'!$A$4:$Q$35))),17,FALSE),\"\")","v":""}]
[null,null,25,{"$f":"IF(AND(OR($J25<>\"\",$K25<>\"\"),$M25<>\"\"),$W25*VLOOKUP($D25,IF($O$6=\"Western Mountains\",'Forage Growth Curve Reference'!#REF!,IF($O$6=\"Coastal Plain\",'Forage Growth Curve Reference'!$A$41:$Q$72,IF($O$6=\"Piedmont\",'Forage Growth Curve Reference'!$A$4:$Q$35,'Forage Growth Curve Reference'!$A$4:$Q$35))),6,FALSE),\"\")","v":""},{"$f":"IF(AND(OR($J25<>\"\",$K25<>\"\"),$M25<>\"\"),$W25*VLOOKUP($D25,IF($O$6=\"Western Mountains\",'Forage Growth Curve Reference'!#REF!,IF($O$6=\"Coastal Plain\",'Forage Growth Curve Reference'!$A$41:$Q$72,IF($O$6=\"Piedmont\",'Forage Growth Curve Reference'!$A$4:$Q$35,'Forage Growth Curve Reference'!$A$4:$Q$35))),7,FALSE),\"\")","v":""},{"$f":"IF(AND(OR($J25<>\"\",$K25<>\"\"),$M25<>\"\"),$W25*VLOOKUP($D25,IF($O$6=\"Western Mountains\",'Forage Growth Curve Reference'!#REF!,IF($O$6=\"Coastal Plain\",'Forage Growth Curve Reference'!$A$41:$Q$72,IF($O$6=\"Piedmont\",'Forage Growth Curve Reference'!$A$4:$Q$35,'Forage Growth Curve Reference'!$A$4:$Q$35))),8,FALSE),\"\")","v":""},{"$f":"IF(AND(OR($J25<>\"\",$K25<>\"\"),$M25<>\"\"),$W25*VLOOKUP($D25,IF($O$6=\"Western Mountains\",'Forage Growth Curve Reference'!#REF!,IF($O$6=\"Coastal Plain\",'Forage Growth Curve Reference'!$A$41:$Q$72,IF($O$6=\"Piedmont\",'Forage Growth Curve Reference'!$A$4:$Q$35,'Forage Growth Curve Reference'!$A$4:$Q$35))),9,FALSE),\"\")","v":""},{"$f":"IF(AND(OR($J25<>\"\",$K25<>\"\"),$M25<>\"\"),$W25*VLOOKUP($D25,IF($O$6=\"Western Mountains\",'Forage Growth Curve Reference'!#REF!,IF($O$6=\"Coastal Plain\",'Forage Growth Curve Reference'!$A$41:$Q$72,IF($O$6=\"Piedmont\",'Forage Growth Curve Reference'!$A$4:$Q$35,'Forage Growth Curve Reference'!$A$4:$Q$35))),10,FALSE),\"\")","v":""},{"$f":"IF(AND(OR($J25<>\"\",$K25<>\"\"),$M25<>\"\"),$W25*VLOOKUP($D25,IF($O$6=\"Western Mountains\",'Forage Growth Curve Reference'!#REF!,IF($O$6=\"Coastal Plain\",'Forage Growth Curve Reference'!$A$41:$Q$72,IF($O$6=\"Piedmont\",'Forage Growth Curve Reference'!$A$4:$Q$35,'Forage Growth Curve Reference'!$A$4:$Q$35))),11,FALSE),\"\")","v":""},{"$f":"IF(AND(OR($J25<>\"\",$K25<>\"\"),$M25<>\"\"),$W25*VLOOKUP($D25,IF($O$6=\"Western Mountains\",'Forage Growth Curve Reference'!#REF!,IF($O$6=\"Coastal Plain\",'Forage Growth Curve Reference'!$A$41:$Q$72,IF($O$6=\"Piedmont\",'Forage Growth Curve Reference'!$A$4:$Q$35,'Forage Growth Curve Reference'!$A$4:$Q$35))),12,FALSE),\"\")","v":""},{"$f":"IF(AND(OR($J25<>\"\",$K25<>\"\"),$M25<>\"\"),$W25*VLOOKUP($D25,IF($O$6=\"Western Mountains\",'Forage Growth Curve Reference'!#REF!,IF($O$6=\"Coastal Plain\",'Forage Growth Curve Reference'!$A$41:$Q$72,IF($O$6=\"Piedmont\",'Forage Growth Curve Reference'!$A$4:$Q$35,'Forage Growth Curve Reference'!$A$4:$Q$35))),13,FALSE),\"\")","v":""},{"$f":"IF(AND(OR($J25<>\"\",$K25<>\"\"),$M25<>\"\"),$W25*VLOOKUP($D25,IF($O$6=\"Western Mountains\",'Forage Growth Curve Reference'!#REF!,IF($O$6=\"Coastal Plain\",'Forage Growth Curve Reference'!$A$41:$Q$72,IF($O$6=\"Piedmont\",'Forage Growth Curve Reference'!$A$4:$Q$35,'Forage Growth Curve Reference'!$A$4:$Q$35))),14,FALSE),\"\")","v":""},{"$f":"IF(AND(OR($J25<>\"\",$K25<>\"\"),$M25<>\"\"),$W25*VLOOKUP($D25,IF($O$6=\"Western Mountains\",'Forage Growth Curve Reference'!#REF!,IF($O$6=\"Coastal Plain\",'Forage Growth Curve Reference'!$A$41:$Q$72,IF($O$6=\"Piedmont\",'Forage Growth Curve Reference'!$A$4:$Q$35,'Forage Growth Curve Reference'!$A$4:$Q$35))),15,FALSE),\"\")","v":""},{"$f":"IF(AND(OR($J25<>\"\",$K25<>\"\"),$M25<>\"\"),$W25*VLOOKUP($D25,IF($O$6=\"Western Mountains\",'Forage Growth Curve Reference'!#REF!,IF($O$6=\"Coastal Plain\",'Forage Growth Curve Reference'!$A$41:$Q$72,IF($O$6=\"Piedmont\",'Forage Growth Curve Reference'!$A$4:$Q$35,'Forage Growth Curve Reference'!$A$4:$Q$35))),16,FALSE),\"\")","v":""},{"$f":"IF(AND(OR($J25<>\"\",$K25<>\"\"),$M25<>\"\"),$W25*VLOOKUP($D25,IF($O$6=\"Western Mountains\",'Forage Growth Curve Reference'!#REF!,IF($O$6=\"Coastal Plain\",'Forage Growth Curve Reference'!$A$41:$Q$72,IF($O$6=\"Piedmont\",'Forage Growth Curve Reference'!$A$4:$Q$35,'Forage Growth Curve Reference'!$A$4:$Q$35))),17,FALSE),\"\")","v":""}]
[null,null,26,{"$f":"IF(AND(OR($J26<>\"\",$K26<>\"\"),$M26<>\"\"),$W26*VLOOKUP($D26,IF($O$6=\"Western Mountains\",'Forage Growth Curve Reference'!#REF!,IF($O$6=\"Coastal Plain\",'Forage Growth Curve Reference'!$A$41:$Q$72,IF($O$6=\"Piedmont\",'Forage Growth Curve Reference'!$A$4:$Q$35,'Forage Growth Curve Reference'!$A$4:$Q$35))),6,FALSE),\"\")","v":""},{"$f":"IF(AND(OR($J26<>\"\",$K26<>\"\"),$M26<>\"\"),$W26*VLOOKUP($D26,IF($O$6=\"Western Mountains\",'Forage Growth Curve Reference'!#REF!,IF($O$6=\"Coastal Plain\",'Forage Growth Curve Reference'!$A$41:$Q$72,IF($O$6=\"Piedmont\",'Forage Growth Curve Reference'!$A$4:$Q$35,'Forage Growth Curve Reference'!$A$4:$Q$35))),7,FALSE),\"\")","v":""},{"$f":"IF(AND(OR($J26<>\"\",$K26<>\"\"),$M26<>\"\"),$W26*VLOOKUP($D26,IF($O$6=\"Western Mountains\",'Forage Growth Curve Reference'!#REF!,IF($O$6=\"Coastal Plain\",'Forage Growth Curve Reference'!$A$41:$Q$72,IF($O$6=\"Piedmont\",'Forage Growth Curve Reference'!$A$4:$Q$35,'Forage Growth Curve Reference'!$A$4:$Q$35))),8,FALSE),\"\")","v":""},{"$f":"IF(AND(OR($J26<>\"\",$K26<>\"\"),$M26<>\"\"),$W26*VLOOKUP($D26,IF($O$6=\"Western Mountains\",'Forage Growth Curve Reference'!#REF!,IF($O$6=\"Coastal Plain\",'Forage Growth Curve Reference'!$A$41:$Q$72,IF($O$6=\"Piedmont\",'Forage Growth Curve Reference'!$A$4:$Q$35,'Forage Growth Curve Reference'!$A$4:$Q$35))),9,FALSE),\"\")","v":""},{"$f":"IF(AND(OR($J26<>\"\",$K26<>\"\"),$M26<>\"\"),$W26*VLOOKUP($D26,IF($O$6=\"Western Mountains\",'Forage Growth Curve Reference'!#REF!,IF($O$6=\"Coastal Plain\",'Forage Growth Curve Reference'!$A$41:$Q$72,IF($O$6=\"Piedmont\",'Forage Growth Curve Reference'!$A$4:$Q$35,'Forage Growth Curve Reference'!$A$4:$Q$35))),10,FALSE),\"\")","v":""},{"$f":"IF(AND(OR($J26<>\"\",$K26<>\"\"),$M26<>\"\"),$W26*VLOOKUP($D26,IF($O$6=\"Western Mountains\",'Forage Growth Curve Reference'!#REF!,IF($O$6=\"Coastal Plain\",'Forage Growth Curve Reference'!$A$41:$Q$72,IF($O$6=\"Piedmont\",'Forage Growth Curve Reference'!$A$4:$Q$35,'Forage Growth Curve Reference'!$A$4:$Q$35))),11,FALSE),\"\")","v":""},{"$f":"IF(AND(OR($J26<>\"\",$K26<>\"\"),$M26<>\"\"),$W26*VLOOKUP($D26,IF($O$6=\"Western Mountains\",'Forage Growth Curve Reference'!#REF!,IF($O$6=\"Coastal Plain\",'Forage Growth Curve Reference'!$A$41:$Q$72,IF($O$6=\"Piedmont\",'Forage Growth Curve Reference'!$A$4:$Q$35,'Forage Growth Curve Reference'!$A$4:$Q$35))),12,FALSE),\"\")","v":""},{"$f":"IF(AND(OR($J26<>\"\",$K26<>\"\"),$M26<>\"\"),$W26*VLOOKUP($D26,IF($O$6=\"Western Mountains\",'Forage Growth Curve Reference'!#REF!,IF($O$6=\"Coastal Plain\",'Forage Growth Curve Reference'!$A$41:$Q$72,IF($O$6=\"Piedmont\",'Forage Growth Curve Reference'!$A$4:$Q$35,'Forage Growth Curve Reference'!$A$4:$Q$35))),13,FALSE),\"\")","v":""},{"$f":"IF(AND(OR($J26<>\"\",$K26<>\"\"),$M26<>\"\"),$W26*VLOOKUP($D26,IF($O$6=\"Western Mountains\",'Forage Growth Curve Reference'!#REF!,IF($O$6=\"Coastal Plain\",'Forage Growth Curve Reference'!$A$41:$Q$72,IF($O$6=\"Piedmont\",'Forage Growth Curve Reference'!$A$4:$Q$35,'Forage Growth Curve Reference'!$A$4:$Q$35))),14,FALSE),\"\")","v":""},{"$f":"IF(AND(OR($J26<>\"\",$K26<>\"\"),$M26<>\"\"),$W26*VLOOKUP($D26,IF($O$6=\"Western Mountains\",'Forage Growth Curve Reference'!#REF!,IF($O$6=\"Coastal Plain\",'Forage Growth Curve Reference'!$A$41:$Q$72,IF($O$6=\"Piedmont\",'Forage Growth Curve Reference'!$A$4:$Q$35,'Forage Growth Curve Reference'!$A$4:$Q$35))),15,FALSE),\"\")","v":""},{"$f":"IF(AND(OR($J26<>\"\",$K26<>\"\"),$M26<>\"\"),$W26*VLOOKUP($D26,IF($O$6=\"Western Mountains\",'Forage Growth Curve Reference'!#REF!,IF($O$6=\"Coastal Plain\",'Forage Growth Curve Reference'!$A$41:$Q$72,IF($O$6=\"Piedmont\",'Forage Growth Curve Reference'!$A$4:$Q$35,'Forage Growth Curve Reference'!$A$4:$Q$35))),16,FALSE),\"\")","v":""},{"$f":"IF(AND(OR($J26<>\"\",$K26<>\"\"),$M26<>\"\"),$W26*VLOOKUP($D26,IF($O$6=\"Western Mountains\",'Forage Growth Curve Reference'!#REF!,IF($O$6=\"Coastal Plain\",'Forage Growth Curve Reference'!$A$41:$Q$72,IF($O$6=\"Piedmont\",'Forage Growth Curve Reference'!$A$4:$Q$35,'Forage Growth Curve Reference'!$A$4:$Q$35))),17,FALSE),\"\")","v":""}]
[null,null,27,{"$f":"IF(AND(OR($J27<>\"\",$K27<>\"\"),$M27<>\"\"),$W27*VLOOKUP($D27,IF($O$6=\"Western Mountains\",'Forage Growth Curve Reference'!#REF!,IF($O$6=\"Coastal Plain\",'Forage Growth Curve Reference'!$A$41:$Q$72,IF($O$6=\"Piedmont\",'Forage Growth Curve Reference'!$A$4:$Q$35,'Forage Growth Curve Reference'!$A$4:$Q$35))),6,FALSE),\"\")","v":""},{"$f":"IF(AND(OR($J27<>\"\",$K27<>\"\"),$M27<>\"\"),$W27*VLOOKUP($D27,IF($O$6=\"Western Mountains\",'Forage Growth Curve Reference'!#REF!,IF($O$6=\"Coastal Plain\",'Forage Growth Curve Reference'!$A$41:$Q$72,IF($O$6=\"Piedmont\",'Forage Growth Curve Reference'!$A$4:$Q$35,'Forage Growth Curve Reference'!$A$4:$Q$35))),7,FALSE),\"\")","v":""},{"$f":"IF(AND(OR($J27<>\"\",$K27<>\"\"),$M27<>\"\"),$W27*VLOOKUP($D27,IF($O$6=\"Western Mountains\",'Forage Growth Curve Reference'!#REF!,IF($O$6=\"Coastal Plain\",'Forage Growth Curve Reference'!$A$41:$Q$72,IF($O$6=\"Piedmont\",'Forage Growth Curve Reference'!$A$4:$Q$35,'Forage Growth Curve Reference'!$A$4:$Q$35))),8,FALSE),\"\")","v":""},{"$f":"IF(AND(OR($J27<>\"\",$K27<>\"\"),$M27<>\"\"),$W27*VLOOKUP($D27,IF($O$6=\"Western Mountains\",'Forage Growth Curve Reference'!#REF!,IF($O$6=\"Coastal Plain\",'Forage Growth Curve Reference'!$A$41:$Q$72,IF($O$6=\"Piedmont\",'Forage Growth Curve Reference'!$A$4:$Q$35,'Forage Growth Curve Reference'!$A$4:$Q$35))),9,FALSE),\"\")","v":""},{"$f":"IF(AND(OR($J27<>\"\",$K27<>\"\"),$M27<>\"\"),$W27*VLOOKUP($D27,IF($O$6=\"Western Mountains\",'Forage Growth Curve Reference'!#REF!,IF($O$6=\"Coastal Plain\",'Forage Growth Curve Reference'!$A$41:$Q$72,IF($O$6=\"Piedmont\",'Forage Growth Curve Reference'!$A$4:$Q$35,'Forage Growth Curve Reference'!$A$4:$Q$35))),10,FALSE),\"\")","v":""},{"$f":"IF(AND(OR($J27<>\"\",$K27<>\"\"),$M27<>\"\"),$W27*VLOOKUP($D27,IF($O$6=\"Western Mountains\",'Forage Growth Curve Reference'!#REF!,IF($O$6=\"Coastal Plain\",'Forage Growth Curve Reference'!$A$41:$Q$72,IF($O$6=\"Piedmont\",'Forage Growth Curve Reference'!$A$4:$Q$35,'Forage Growth Curve Reference'!$A$4:$Q$35))),11,FALSE),\"\")","v":""},{"$f":"IF(AND(OR($J27<>\"\",$K27<>\"\"),$M27<>\"\"),$W27*VLOOKUP($D27,IF($O$6=\"Western Mountains\",'Forage Growth Curve Reference'!#REF!,IF($O$6=\"Coastal Plain\",'Forage Growth Curve Reference'!$A$41:$Q$72,IF($O$6=\"Piedmont\",'Forage Growth Curve Reference'!$A$4:$Q$35,'Forage Growth Curve Reference'!$A$4:$Q$35))),12,FALSE),\"\")","v":""},{"$f":"IF(AND(OR($J27<>\"\",$K27<>\"\"),$M27<>\"\"),$W27*VLOOKUP($D27,IF($O$6=\"Western Mountains\",'Forage Growth Curve Reference'!#REF!,IF($O$6=\"Coastal Plain\",'Forage Growth Curve Reference'!$A$41:$Q$72,IF($O$6=\"Piedmont\",'Forage Growth Curve Reference'!$A$4:$Q$35,'Forage Growth Curve Reference'!$A$4:$Q$35))),13,FALSE),\"\")","v":""},{"$f":"IF(AND(OR($J27<>\"\",$K27<>\"\"),$M27<>\"\"),$W27*VLOOKUP($D27,IF($O$6=\"Western Mountains\",'Forage Growth Curve Reference'!#REF!,IF($O$6=\"Coastal Plain\",'Forage Growth Curve Reference'!$A$41:$Q$72,IF($O$6=\"Piedmont\",'Forage Growth Curve Reference'!$A$4:$Q$35,'Forage Growth Curve Reference'!$A$4:$Q$35))),14,FALSE),\"\")","v":""},{"$f":"IF(AND(OR($J27<>\"\",$K27<>\"\"),$M27<>\"\"),$W27*VLOOKUP($D27,IF($O$6=\"Western Mountains\",'Forage Growth Curve Reference'!#REF!,IF($O$6=\"Coastal Plain\",'Forage Growth Curve Reference'!$A$41:$Q$72,IF($O$6=\"Piedmont\",'Forage Growth Curve Reference'!$A$4:$Q$35,'Forage Growth Curve Reference'!$A$4:$Q$35))),15,FALSE),\"\")","v":""},{"$f":"IF(AND(OR($J27<>\"\",$K27<>\"\"),$M27<>\"\"),$W27*VLOOKUP($D27,IF($O$6=\"Western Mountains\",'Forage Growth Curve Reference'!#REF!,IF($O$6=\"Coastal Plain\",'Forage Growth Curve Reference'!$A$41:$Q$72,IF($O$6=\"Piedmont\",'Forage Growth Curve Reference'!$A$4:$Q$35,'Forage Growth Curve Reference'!$A$4:$Q$35))),16,FALSE),\"\")","v":""},{"$f":"IF(AND(OR($J27<>\"\",$K27<>\"\"),$M27<>\"\"),$W27*VLOOKUP($D27,IF($O$6=\"Western Mountains\",'Forage Growth Curve Reference'!#REF!,IF($O$6=\"Coastal Plain\",'Forage Growth Curve Reference'!$A$41:$Q$72,IF($O$6=\"Piedmont\",'Forage Growth Curve Reference'!$A$4:$Q$35,'Forage Growth Curve Reference'!$A$4:$Q$35))),17,FALSE),\"\")","v":""}]
[null,null,28,{"$f":"IF(AND(OR($J28<>\"\",$K28<>\"\"),$M28<>\"\"),$W28*VLOOKUP($D28,IF($O$6=\"Western Mountains\",'Forage Growth Curve Reference'!#REF!,IF($O$6=\"Coastal Plain\",'Forage Growth Curve Reference'!$A$41:$Q$72,IF($O$6=\"Piedmont\",'Forage Growth Curve Reference'!$A$4:$Q$35,'Forage Growth Curve Reference'!$A$4:$Q$35))),6,FALSE),\"\")","v":""},{"$f":"IF(AND(OR($J28<>\"\",$K28<>\"\"),$M28<>\"\"),$W28*VLOOKUP($D28,IF($O$6=\"Western Mountains\",'Forage Growth Curve Reference'!#REF!,IF($O$6=\"Coastal Plain\",'Forage Growth Curve Reference'!$A$41:$Q$72,IF($O$6=\"Piedmont\",'Forage Growth Curve Reference'!$A$4:$Q$35,'Forage Growth Curve Reference'!$A$4:$Q$35))),7,FALSE),\"\")","v":""},{"$f":"IF(AND(OR($J28<>\"\",$K28<>\"\"),$M28<>\"\"),$W28*VLOOKUP($D28,IF($O$6=\"Western Mountains\",'Forage Growth Curve Reference'!#REF!,IF($O$6=\"Coastal Plain\",'Forage Growth Curve Reference'!$A$41:$Q$72,IF($O$6=\"Piedmont\",'Forage Growth Curve Reference'!$A$4:$Q$35,'Forage Growth Curve Reference'!$A$4:$Q$35))),8,FALSE),\"\")","v":""},{"$f":"IF(AND(OR($J28<>\"\",$K28<>\"\"),$M28<>\"\"),$W28*VLOOKUP($D28,IF($O$6=\"Western Mountains\",'Forage Growth Curve Reference'!#REF!,IF($O$6=\"Coastal Plain\",'Forage Growth Curve Reference'!$A$41:$Q$72,IF($O$6=\"Piedmont\",'Forage Growth Curve Reference'!$A$4:$Q$35,'Forage Growth Curve Reference'!$A$4:$Q$35))),9,FALSE),\"\")","v":""},{"$f":"IF(AND(OR($J28<>\"\",$K28<>\"\"),$M28<>\"\"),$W28*VLOOKUP($D28,IF($O$6=\"Western Mountains\",'Forage Growth Curve Reference'!#REF!,IF($O$6=\"Coastal Plain\",'Forage Growth Curve Reference'!$A$41:$Q$72,IF($O$6=\"Piedmont\",'Forage Growth Curve Reference'!$A$4:$Q$35,'Forage Growth Curve Reference'!$A$4:$Q$35))),10,FALSE),\"\")","v":""},{"$f":"IF(AND(OR($J28<>\"\",$K28<>\"\"),$M28<>\"\"),$W28*VLOOKUP($D28,IF($O$6=\"Western Mountains\",'Forage Growth Curve Reference'!#REF!,IF($O$6=\"Coastal Plain\",'Forage Growth Curve Reference'!$A$41:$Q$72,IF($O$6=\"Piedmont\",'Forage Growth Curve Reference'!$A$4:$Q$35,'Forage Growth Curve Reference'!$A$4:$Q$35))),11,FALSE),\"\")","v":""},{"$f":"IF(AND(OR($J28<>\"\",$K28<>\"\"),$M28<>\"\"),$W28*VLOOKUP($D28,IF($O$6=\"Western Mountains\",'Forage Growth Curve Reference'!#REF!,IF($O$6=\"Coastal Plain\",'Forage Growth Curve Reference'!$A$41:$Q$72,IF($O$6=\"Piedmont\",'Forage Growth Curve Reference'!$A$4:$Q$35,'Forage Growth Curve Reference'!$A$4:$Q$35))),12,FALSE),\"\")","v":""},{"$f":"IF(AND(OR($J28<>\"\",$K28<>\"\"),$M28<>\"\"),$W28*VLOOKUP($D28,IF($O$6=\"Western Mountains\",'Forage Growth Curve Reference'!#REF!,IF($O$6=\"Coastal Plain\",'Forage Growth Curve Reference'!$A$41:$Q$72,IF($O$6=\"Piedmont\",'Forage Growth Curve Reference'!$A$4:$Q$35,'Forage Growth Curve Reference'!$A$4:$Q$35))),13,FALSE),\"\")","v":""},{"$f":"IF(AND(OR($J28<>\"\",$K28<>\"\"),$M28<>\"\"),$W28*VLOOKUP($D28,IF($O$6=\"Western Mountains\",'Forage Growth Curve Reference'!#REF!,IF($O$6=\"Coastal Plain\",'Forage Growth Curve Reference'!$A$41:$Q$72,IF($O$6=\"Piedmont\",'Forage Growth Curve Reference'!$A$4:$Q$35,'Forage Growth Curve Reference'!$A$4:$Q$35))),14,FALSE),\"\")","v":""},{"$f":"IF(AND(OR($J28<>\"\",$K28<>\"\"),$M28<>\"\"),$W28*VLOOKUP($D28,IF($O$6=\"Western Mountains\",'Forage Growth Curve Reference'!#REF!,IF($O$6=\"Coastal Plain\",'Forage Growth Curve Reference'!$A$41:$Q$72,IF($O$6=\"Piedmont\",'Forage Growth Curve Reference'!$A$4:$Q$35,'Forage Growth Curve Reference'!$A$4:$Q$35))),15,FALSE),\"\")","v":""},{"$f":"IF(AND(OR($J28<>\"\",$K28<>\"\"),$M28<>\"\"),$W28*VLOOKUP($D28,IF($O$6=\"Western Mountains\",'Forage Growth Curve Reference'!#REF!,IF($O$6=\"Coastal Plain\",'Forage Growth Curve Reference'!$A$41:$Q$72,IF($O$6=\"Piedmont\",'Forage Growth Curve Reference'!$A$4:$Q$35,'Forage Growth Curve Reference'!$A$4:$Q$35))),16,FALSE),\"\")","v":""},{"$f":"IF(AND(OR($J28<>\"\",$K28<>\"\"),$M28<>\"\"),$W28*VLOOKUP($D28,IF($O$6=\"Western Mountains\",'Forage Growth Curve Reference'!#REF!,IF($O$6=\"Coastal Plain\",'Forage Growth Curve Reference'!$A$41:$Q$72,IF($O$6=\"Piedmont\",'Forage Growth Curve Reference'!$A$4:$Q$35,'Forage Growth Curve Reference'!$A$4:$Q$35))),17,FALSE),\"\")","v":""}]
[null,null,29,{"$f":"IF(AND(OR($J29<>\"\",$K29<>\"\"),$M29<>\"\"),$W29*VLOOKUP($D29,IF($O$6=\"Western Mountains\",'Forage Growth Curve Reference'!#REF!,IF($O$6=\"Coastal Plain\",'Forage Growth Curve Reference'!$A$41:$Q$72,IF($O$6=\"Piedmont\",'Forage Growth Curve Reference'!$A$4:$Q$35,'Forage Growth Curve Reference'!$A$4:$Q$35))),6,FALSE),\"\")","v":""},{"$f":"IF(AND(OR($J29<>\"\",$K29<>\"\"),$M29<>\"\"),$W29*VLOOKUP($D29,IF($O$6=\"Western Mountains\",'Forage Growth Curve Reference'!#REF!,IF($O$6=\"Coastal Plain\",'Forage Growth Curve Reference'!$A$41:$Q$72,IF($O$6=\"Piedmont\",'Forage Growth Curve Reference'!$A$4:$Q$35,'Forage Growth Curve Reference'!$A$4:$Q$35))),7,FALSE),\"\")","v":""},{"$f":"IF(AND(OR($J29<>\"\",$K29<>\"\"),$M29<>\"\"),$W29*VLOOKUP($D29,IF($O$6=\"Western Mountains\",'Forage Growth Curve Reference'!#REF!,IF($O$6=\"Coastal Plain\",'Forage Growth Curve Reference'!$A$41:$Q$72,IF($O$6=\"Piedmont\",'Forage Growth Curve Reference'!$A$4:$Q$35,'Forage Growth Curve Reference'!$A$4:$Q$35))),8,FALSE),\"\")","v":""},{"$f":"IF(AND(OR($J29<>\"\",$K29<>\"\"),$M29<>\"\"),$W29*VLOOKUP($D29,IF($O$6=\"Western Mountains\",'Forage Growth Curve Reference'!#REF!,IF($O$6=\"Coastal Plain\",'Forage Growth Curve Reference'!$A$41:$Q$72,IF($O$6=\"Piedmont\",'Forage Growth Curve Reference'!$A$4:$Q$35,'Forage Growth Curve Reference'!$A$4:$Q$35))),9,FALSE),\"\")","v":""},{"$f":"IF(AND(OR($J29<>\"\",$K29<>\"\"),$M29<>\"\"),$W29*VLOOKUP($D29,IF($O$6=\"Western Mountains\",'Forage Growth Curve Reference'!#REF!,IF($O$6=\"Coastal Plain\",'Forage Growth Curve Reference'!$A$41:$Q$72,IF($O$6=\"Piedmont\",'Forage Growth Curve Reference'!$A$4:$Q$35,'Forage Growth Curve Reference'!$A$4:$Q$35))),10,FALSE),\"\")","v":""},{"$f":"IF(AND(OR($J29<>\"\",$K29<>\"\"),$M29<>\"\"),$W29*VLOOKUP($D29,IF($O$6=\"Western Mountains\",'Forage Growth Curve Reference'!#REF!,IF($O$6=\"Coastal Plain\",'Forage Growth Curve Reference'!$A$41:$Q$72,IF($O$6=\"Piedmont\",'Forage Growth Curve Reference'!$A$4:$Q$35,'Forage Growth Curve Reference'!$A$4:$Q$35))),11,FALSE),\"\")","v":""},{"$f":"IF(AND(OR($J29<>\"\",$K29<>\"\"),$M29<>\"\"),$W29*VLOOKUP($D29,IF($O$6=\"Western Mountains\",'Forage Growth Curve Reference'!#REF!,IF($O$6=\"Coastal Plain\",'Forage Growth Curve Reference'!$A$41:$Q$72,IF($O$6=\"Piedmont\",'Forage Growth Curve Reference'!$A$4:$Q$35,'Forage Growth Curve Reference'!$A$4:$Q$35))),12,FALSE),\"\")","v":""},{"$f":"IF(AND(OR($J29<>\"\",$K29<>\"\"),$M29<>\"\"),$W29*VLOOKUP($D29,IF($O$6=\"Western Mountains\",'Forage Growth Curve Reference'!#REF!,IF($O$6=\"Coastal Plain\",'Forage Growth Curve Reference'!$A$41:$Q$72,IF($O$6=\"Piedmont\",'Forage Growth Curve Reference'!$A$4:$Q$35,'Forage Growth Curve Reference'!$A$4:$Q$35))),13,FALSE),\"\")","v":""},{"$f":"IF(AND(OR($J29<>\"\",$K29<>\"\"),$M29<>\"\"),$W29*VLOOKUP($D29,IF($O$6=\"Western Mountains\",'Forage Growth Curve Reference'!#REF!,IF($O$6=\"Coastal Plain\",'Forage Growth Curve Reference'!$A$41:$Q$72,IF($O$6=\"Piedmont\",'Forage Growth Curve Reference'!$A$4:$Q$35,'Forage Growth Curve Reference'!$A$4:$Q$35))),14,FALSE),\"\")","v":""},{"$f":"IF(AND(OR($J29<>\"\",$K29<>\"\"),$M29<>\"\"),$W29*VLOOKUP($D29,IF($O$6=\"Western Mountains\",'Forage Growth Curve Reference'!#REF!,IF($O$6=\"Coastal Plain\",'Forage Growth Curve Reference'!$A$41:$Q$72,IF($O$6=\"Piedmont\",'Forage Growth Curve Reference'!$A$4:$Q$35,'Forage Growth Curve Reference'!$A$4:$Q$35))),15,FALSE),\"\")","v":""},{"$f":"IF(AND(OR($J29<>\"\",$K29<>\"\"),$M29<>\"\"),$W29*VLOOKUP($D29,IF($O$6=\"Western Mountains\",'Forage Growth Curve Reference'!#REF!,IF($O$6=\"Coastal Plain\",'Forage Growth Curve Reference'!$A$41:$Q$72,IF($O$6=\"Piedmont\",'Forage Growth Curve Reference'!$A$4:$Q$35,'Forage Growth Curve Reference'!$A$4:$Q$35))),16,FALSE),\"\")","v":""},{"$f":"IF(AND(OR($J29<>\"\",$K29<>\"\"),$M29<>\"\"),$W29*VLOOKUP($D29,IF($O$6=\"Western Mountains\",'Forage Growth Curve Reference'!#REF!,IF($O$6=\"Coastal Plain\",'Forage Growth Curve Reference'!$A$41:$Q$72,IF($O$6=\"Piedmont\",'Forage Growth Curve Reference'!$A$4:$Q$35,'Forage Growth Curve Reference'!$A$4:$Q$35))),17,FALSE),\"\")","v":""}]
[null,null,30,{"$f":"IF(AND(OR($J30<>\"\",$K30<>\"\"),$M30<>\"\"),$W30*VLOOKUP($D30,IF($O$6=\"Western Mountains\",'Forage Growth Curve Reference'!#REF!,IF($O$6=\"Coastal Plain\",'Forage Growth Curve Reference'!$A$41:$Q$72,IF($O$6=\"Piedmont\",'Forage Growth Curve Reference'!$A$4:$Q$35,'Forage Growth Curve Reference'!$A$4:$Q$35))),6,FALSE),\"\")","v":""},{"$f":"IF(AND(OR($J30<>\"\",$K30<>\"\"),$M30<>\"\"),$W30*VLOOKUP($D30,IF($O$6=\"Western Mountains\",'Forage Growth Curve Reference'!#REF!,IF($O$6=\"Coastal Plain\",'Forage Growth Curve Reference'!$A$41:$Q$72,IF($O$6=\"Piedmont\",'Forage Growth Curve Reference'!$A$4:$Q$35,'Forage Growth Curve Reference'!$A$4:$Q$35))),7,FALSE),\"\")","v":""},{"$f":"IF(AND(OR($J30<>\"\",$K30<>\"\"),$M30<>\"\"),$W30*VLOOKUP($D30,IF($O$6=\"Western Mountains\",'Forage Growth Curve Reference'!#REF!,IF($O$6=\"Coastal Plain\",'Forage Growth Curve Reference'!$A$41:$Q$72,IF($O$6=\"Piedmont\",'Forage Growth Curve Reference'!$A$4:$Q$35,'Forage Growth Curve Reference'!$A$4:$Q$35))),8,FALSE),\"\")","v":""},{"$f":"IF(AND(OR($J30<>\"\",$K30<>\"\"),$M30<>\"\"),$W30*VLOOKUP($D30,IF($O$6=\"Western Mountains\",'Forage Growth Curve Reference'!#REF!,IF($O$6=\"Coastal Plain\",'Forage Growth Curve Reference'!$A$41:$Q$72,IF($O$6=\"Piedmont\",'Forage Growth Curve Reference'!$A$4:$Q$35,'Forage Growth Curve Reference'!$A$4:$Q$35))),9,FALSE),\"\")","v":""},{"$f":"IF(AND(OR($J30<>\"\",$K30<>\"\"),$M30<>\"\"),$W30*VLOOKUP($D30,IF($O$6=\"Western Mountains\",'Forage Growth Curve Reference'!#REF!,IF($O$6=\"Coastal Plain\",'Forage Growth Curve Reference'!$A$41:$Q$72,IF($O$6=\"Piedmont\",'Forage Growth Curve Reference'!$A$4:$Q$35,'Forage Growth Curve Reference'!$A$4:$Q$35))),10,FALSE),\"\")","v":""},{"$f":"IF(AND(OR($J30<>\"\",$K30<>\"\"),$M30<>\"\"),$W30*VLOOKUP($D30,IF($O$6=\"Western Mountains\",'Forage Growth Curve Reference'!#REF!,IF($O$6=\"Coastal Plain\",'Forage Growth Curve Reference'!$A$41:$Q$72,IF($O$6=\"Piedmont\",'Forage Growth Curve Reference'!$A$4:$Q$35,'Forage Growth Curve Reference'!$A$4:$Q$35))),11,FALSE),\"\")","v":""},{"$f":"IF(AND(OR($J30<>\"\",$K30<>\"\"),$M30<>\"\"),$W30*VLOOKUP($D30,IF($O$6=\"Western Mountains\",'Forage Growth Curve Reference'!#REF!,IF($O$6=\"Coastal Plain\",'Forage Growth Curve Reference'!$A$41:$Q$72,IF($O$6=\"Piedmont\",'Forage Growth Curve Reference'!$A$4:$Q$35,'Forage Growth Curve Reference'!$A$4:$Q$35))),12,FALSE),\"\")","v":""},{"$f":"IF(AND(OR($J30<>\"\",$K30<>\"\"),$M30<>\"\"),$W30*VLOOKUP($D30,IF($O$6=\"Western Mountains\",'Forage Growth Curve Reference'!#REF!,IF($O$6=\"Coastal Plain\",'Forage Growth Curve Reference'!$A$41:$Q$72,IF($O$6=\"Piedmont\",'Forage Growth Curve Reference'!$A$4:$Q$35,'Forage Growth Curve Reference'!$A$4:$Q$35))),13,FALSE),\"\")","v":""},{"$f":"IF(AND(OR($J30<>\"\",$K30<>\"\"),$M30<>\"\"),$W30*VLOOKUP($D30,IF($O$6=\"Western Mountains\",'Forage Growth Curve Reference'!#REF!,IF($O$6=\"Coastal Plain\",'Forage Growth Curve Reference'!$A$41:$Q$72,IF($O$6=\"Piedmont\",'Forage Growth Curve Reference'!$A$4:$Q$35,'Forage Growth Curve Reference'!$A$4:$Q$35))),14,FALSE),\"\")","v":""},{"$f":"IF(AND(OR($J30<>\"\",$K30<>\"\"),$M30<>\"\"),$W30*VLOOKUP($D30,IF($O$6=\"Western Mountains\",'Forage Growth Curve Reference'!#REF!,IF($O$6=\"Coastal Plain\",'Forage Growth Curve Reference'!$A$41:$Q$72,IF($O$6=\"Piedmont\",'Forage Growth Curve Reference'!$A$4:$Q$35,'Forage Growth Curve Reference'!$A$4:$Q$35))),15,FALSE),\"\")","v":""},{"$f":"IF(AND(OR($J30<>\"\",$K30<>\"\"),$M30<>\"\"),$W30*VLOOKUP($D30,IF($O$6=\"Western Mountains\",'Forage Growth Curve Reference'!#REF!,IF($O$6=\"Coastal Plain\",'Forage Growth Curve Reference'!$A$41:$Q$72,IF($O$6=\"Piedmont\",'Forage Growth Curve Reference'!$A$4:$Q$35,'Forage Growth Curve Reference'!$A$4:$Q$35))),16,FALSE),\"\")","v":""},{"$f":"IF(AND(OR($J30<>\"\",$K30<>\"\"),$M30<>\"\"),$W30*VLOOKUP($D30,IF($O$6=\"Western Mountains\",'Forage Growth Curve Reference'!#REF!,IF($O$6=\"Coastal Plain\",'Forage Growth Curve Reference'!$A$41:$Q$72,IF($O$6=\"Piedmont\",'Forage Growth Curve Reference'!$A$4:$Q$35,'Forage Growth Curve Reference'!$A$4:$Q$35))),17,FALSE),\"\")","v":""}]
[null,null,null,{"$f":"IF(AND(OR($J31<>\"\",$K31<>\"\"),$M31<>\"\"),$W31*VLOOKUP($D31,IF($O$6=\"Western Mountains\",'Forage Growth Curve Reference'!#REF!,IF($O$6=\"Coastal Plain\",'Forage Growth Curve Reference'!$A$41:$Q$72,IF($O$6=\"Piedmont\",'Forage Growth Curve Reference'!$A$4:$Q$35,'Forage Growth Curve Reference'!$A$4:$Q$35))),6,FALSE),\"\")","v":""},{"$f":"IF(AND(OR($J31<>\"\",$K31<>\"\"),$M31<>\"\"),$W31*VLOOKUP($D31,IF($O$6=\"Western Mountains\",'Forage Growth Curve Reference'!#REF!,IF($O$6=\"Coastal Plain\",'Forage Growth Curve Reference'!$A$41:$Q$72,IF($O$6=\"Piedmont\",'Forage Growth Curve Reference'!$A$4:$Q$35,'Forage Growth Curve Reference'!$A$4:$Q$35))),7,FALSE),\"\")","v":""},{"$f":"IF(AND(OR($J31<>\"\",$K31<>\"\"),$M31<>\"\"),$W31*VLOOKUP($D31,IF($O$6=\"Western Mountains\",'Forage Growth Curve Reference'!#REF!,IF($O$6=\"Coastal Plain\",'Forage Growth Curve Reference'!$A$41:$Q$72,IF($O$6=\"Piedmont\",'Forage Growth Curve Reference'!$A$4:$Q$35,'Forage Growth Curve Reference'!$A$4:$Q$35))),8,FALSE),\"\")","v":""},{"$f":"IF(AND(OR($J31<>\"\",$K31<>\"\"),$M31<>\"\"),$W31*VLOOKUP($D31,IF($O$6=\"Western Mountains\",'Forage Growth Curve Reference'!#REF!,IF($O$6=\"Coastal Plain\",'Forage Growth Curve Reference'!$A$41:$Q$72,IF($O$6=\"Piedmont\",'Forage Growth Curve Reference'!$A$4:$Q$35,'Forage Growth Curve Reference'!$A$4:$Q$35))),9,FALSE),\"\")","v":""},{"$f":"IF(AND(OR($J31<>\"\",$K31<>\"\"),$M31<>\"\"),$W31*VLOOKUP($D31,IF($O$6=\"Western Mountains\",'Forage Growth Curve Reference'!#REF!,IF($O$6=\"Coastal Plain\",'Forage Growth Curve Reference'!$A$41:$Q$72,IF($O$6=\"Piedmont\",'Forage Growth Curve Reference'!$A$4:$Q$35,'Forage Growth Curve Reference'!$A$4:$Q$35))),10,FALSE),\"\")","v":""},{"$f":"IF(AND(OR($J31<>\"\",$K31<>\"\"),$M31<>\"\"),$W31*VLOOKUP($D31,IF($O$6=\"Western Mountains\",'Forage Growth Curve Reference'!#REF!,IF($O$6=\"Coastal Plain\",'Forage Growth Curve Reference'!$A$41:$Q$72,IF($O$6=\"Piedmont\",'Forage Growth Curve Reference'!$A$4:$Q$35,'Forage Growth Curve Reference'!$A$4:$Q$35))),11,FALSE),\"\")","v":""},{"$f":"IF(AND(OR($J31<>\"\",$K31<>\"\"),$M31<>\"\"),$W31*VLOOKUP($D31,IF($O$6=\"Western Mountains\",'Forage Growth Curve Reference'!#REF!,IF($O$6=\"Coastal Plain\",'Forage Growth Curve Reference'!$A$41:$Q$72,IF($O$6=\"Piedmont\",'Forage Growth Curve Reference'!$A$4:$Q$35,'Forage Growth Curve Reference'!$A$4:$Q$35))),12,FALSE),\"\")","v":""},{"$f":"IF(AND(OR($J31<>\"\",$K31<>\"\"),$M31<>\"\"),$W31*VLOOKUP($D31,IF($O$6=\"Western Mountains\",'Forage Growth Curve Reference'!#REF!,IF($O$6=\"Coastal Plain\",'Forage Growth Curve Reference'!$A$41:$Q$72,IF($O$6=\"Piedmont\",'Forage Growth Curve Reference'!$A$4:$Q$35,'Forage Growth Curve Reference'!$A$4:$Q$35))),13,FALSE),\"\")","v":""},{"$f":"IF(AND(OR($J31<>\"\",$K31<>\"\"),$M31<>\"\"),$W31*VLOOKUP($D31,IF($O$6=\"Western Mountains\",'Forage Growth Curve Reference'!#REF!,IF($O$6=\"Coastal Plain\",'Forage Growth Curve Reference'!$A$41:$Q$72,IF($O$6=\"Piedmont\",'Forage Growth Curve Reference'!$A$4:$Q$35,'Forage Growth Curve Reference'!$A$4:$Q$35))),14,FALSE),\"\")","v":""},{"$f":"IF(AND(OR($J31<>\"\",$K31<>\"\"),$M31<>\"\"),$W31*VLOOKUP($D31,IF($O$6=\"Western Mountains\",'Forage Growth Curve Reference'!#REF!,IF($O$6=\"Coastal Plain\",'Forage Growth Curve Reference'!$A$41:$Q$72,IF($O$6=\"Piedmont\",'Forage Growth Curve Reference'!$A$4:$Q$35,'Forage Growth Curve Reference'!$A$4:$Q$35))),15,FALSE),\"\")","v":""},{"$f":"IF(AND(OR($J31<>\"\",$K31<>\"\"),$M31<>\"\"),$W31*VLOOKUP($D31,IF($O$6=\"Western Mountains\",'Forage Growth Curve Reference'!#REF!,IF($O$6=\"Coastal Plain\",'Forage Growth Curve Reference'!$A$41:$Q$72,IF($O$6=\"Piedmont\",'Forage Growth Curve Reference'!$A$4:$Q$35,'Forage Growth Curve Reference'!$A$4:$Q$35))),16,FALSE),\"\")","v":""},{"$f":"IF(AND(OR($J31<>\"\",$K31<>\"\"),$M31<>\"\"),$W31*VLOOKUP($D31,IF($O$6=\"Western Mountains\",'Forage Growth Curve Reference'!#REF!,IF($O$6=\"Coastal Plain\",'Forage Growth Curve Reference'!$A$41:$Q$72,IF($O$6=\"Piedmont\",'Forage Growth Curve Reference'!$A$4:$Q$35,'Forage Growth Curve Reference'!$A$4:$Q$35))),17,FALSE),\"\")","v":""}]
["lbs",null,null,{"$f":"SUM(D62:D82)","v":0},0,0,0,0,0,0,0,0,0,0,0]
["ton",null,null,{"$f":"D83/2000","v":0},{"$f":"E83/2000","v":0},0,0,0,0,0,0,{"$f":"L83/2000","v":0},{"$f":"M83/2000","v":0},{"$f":"N83/2000","v":0},{"$f":"O83/2000","v":0}]
[null,null,"month",1,2,3,4,5,6,7,8,9,10,11,12]
[null,null,"days in month",31,28.25,31,30,31,30,31,31,30,31,30,31]
["Livestock Mature",null,null,"Jan (31)","Feb (28.25)","Mar (31)","Apr (30)","May (31)","Jun (30)","Jul (31)","Aug (31)","Sep (30)","Oct (31)","Nov (30)","Dec (31)"]
[null,null,39,{"$f":"IF($T39=\"\",\"\",IF(D$85>=$O39,IF(D$85<$Q39+1,$T39*D$86/$R39,0),0))","v":""},"","","","","","","","","","",""]
[null,null,40,"","","","","","","","","","","",""]
[null,null,41,"","","","","","","","","","","",""]
[null,null,42,"","","","","","","","","","","",""]
[null,null,43,"","","","","","","","","","","",""]
[null,null,44,"","","","","","","","","","","",""]
[null,null,45,"","","","","","","","","","","",""]
[null,null,46,"","","","","","","","","","","",""]
[null,null,47,"","","","","","","","","","","",""]
[null,null,48,"","","","","","","","","","","",""]
["lbs",null,null,{"$f":"SUM(D88:D97)","v":0},0,0,0,0,0,0,0,0,0,0,0]
["ton",null,null,{"$f":"D98/2000","v":0},{"$f":"E98/2000","v":0},0,0,0,0,0,0,0,0,0,0]
["Difference"]
[null,null,null,{"$f":"D84-D99","v":0},0,0,0,0,0,0,0,0,0,0,0]

{"sheet":"F-A Balance 3","index":5,"n_rows":101,"n_cols":35,"rows_kept":101,"cut":false,"hidden":false,"merged":[[65,24,66,25],[56,9,56,16],[56,17,56,18],[56,19,56,21],[57,9,57,16],[57,17,57,18],[57,19,57,21],[52,0,52,22],[54,9,54,16],[54,17,54,18],[54,19,54,21],[55,9,55,16],[55,17,55,18],[55,19,55,21],[47,1,47,2],[47,3,47,4],[47,9,47,10],[47,11,47,12],[47,14,47,15],[48,11,48,13],[45,1,45,2],[45,3,45,4],[45,9,45,10],[45,11,45,12],[45,14,45,15],[46,1,46,2],[46,3,46,4],[46,9,46,10],[46,11,46,12],[46,14,46,15],[43,1,43,2],[43,3,43,4],[43,9,43,10],[43,11,43,12],[43,14,43,15],[44,1,44,2],[44,3,44,4],[44,9,44,10],[44,11,44,12],[44,14,44,15],[41,1,41,2],[41,3,41,4],[41,9,41,10],[41,11,41,12],[41,14,41,15],[42,1,42,2],[42,3,42,4],[42,9,42,10],[42,11,42,12],[42,14,42,15],[39,1,39,2],[39,3,39,4],[39,9,39,10],[39,11,39,12],[39,14,39,15],[40,1,40,2],[40,3,40,4],[40,9,40,10],[40,11,40,12],[40,14,40,15],[38,1,38,2],[38,3,38,4],[38,9,38,10],[38,11,38,12],[38,14,38,15],[36,7,37,7],[36,8,37,8],[36,9,37,10],[36,11,37,12],[36,13,37,13],[36,14,36,17],[32,0,32,3],[32,4,32,16],[32,18,32,21],[34,15,34,22],[35,0,35,15],[36,0,37,0],[36,1,37,2],[36,3,37,4],[36,5,37,5],[36,6,37,6],[36,18,37,18],[36,19,37,19],[37,14,37,15],[30,1,30,2],[30,3,30,8],[30,13,30,14],[30,15,30,17],[31,0,31,3],[31,18,31,21],[28,1,28,2],[28,3,28,8],[28,13,28,14],[28,15,28,17],[29,1,29,2],[29,3,29,8],[29,13,29,14],[29,15,29,17],[26,1,26,2],[26,3,26,8],[26,13,26,14],[26,15,26,17],[27,1,27,2],[27,3,27,8],[27,13,27,14],[27,15,27,17],[24,1,24,2],[24,3,24,8],[24,13,24,14],[24,15,24,17],[25,1,25,2],[25,3,25,8],[25,13,25,14],[25,15,25,17],[22,1,22,2],[22,3,22,8],[22,13,22,14],[22,15,22,17],[23,1,23,2],[23,3,23,8],[23,13,23,14],[23,15,23,17],[20,1,20,2],[20,3,20,8],[20,13,20,14],[20,15,20,17],[21,1,21,2],[21,3,21,8],[21,13,21,14],[21,15,21,17],[18,1,18,2],[18,3,18,8],[18,13,18,14],[18,15,18,17],[19,1,19,2],[19,3,19,8],[19,13,19,14],[19,15,19,17],[16,1,16,2],[16,3,16,8],[16,13,16,14],[16,15,16,17],[17,1,17,2],[17,3,17,8],[17,13,17,14],[17,15,17,17],[14,1,14,2],[14,3,14,8],[14,13,14,14],[14,15,14,17],[15,1,15,2],[15,3,15,8],[15,13,15,14],[15,15,15,17],[12,1,12,2],[12,3,12,8],[12,13,12,14],[12,15,12,17],[13,1,13,2],[13,3,13,8],[13,13,13,14],[13,15,13,17],[10,1,10,2],[10,3,10,8],[10,13,10,14],[10,15,10,17],[10,27,10,28],[11,1,11,2],[11,3,11,8],[11,13,11,14],[11,15,11,17],[7,1,7,18],[8,0,8,22],[9,1,9,2],[9,3,9,8],[9,13,9,14],[9,15,9,17],[9,19,9,20],[5,1,5,5],[5,12,5,13],[5,14,5,18],[5,19,5,23],[5,24,5,34],[6,1,6,5],[6,19,6,23],[6,24,6,25],[6,26,6,27],[0,0,1,22],[0,24,0,37],[1,24,1,37],[2,24,2,38],[3,24,3,33],[4,1,4,5],[4,14,4,18],[4,24,4,34]]}
["Forage-Animal Balance Worksheet"]
[]
[]
[]
["Producer:",{"$f":"Instructions!$B$19","v":0},null,null,null,null,null,null,null,null,null,null,null,"Planner:",{"$f":"Instructions!$B$26","v":0}]
["County:",{"$f":"Instructions!$B$24","v":0},null,null,null,null,null,null,null,null,null,null,"Region:",null,{"$f":"Instructions!$B$25","v":0},null,null,null,null,"DE Physiographic Regions Map"]
["Date:",{"$f":"Instructions!$B$27","v":"00:00:00"},null,null,null,null,null,null,null,null,null,null,null,null,null,null,null,null,null,"DE Growing Season Map"]
["Scenario:"]
["I. Yearly Forage Supply (Total Pounds as Dry Matter) "]
[null,"Field #",null,"Forage(s)",null,null,null,null,null,"Estimated Production (lbs)","Production Correction (lbs)","X","Acres","X",null,"Days on Paddock",null,null,"Multi- Species Herd*"," % Grazing/Harvest Efficiency \n(as decimal)",null,"=","Dry Matter Supply (lbs)"]
[{"$f":"IF(D11<>\"\",1,\"\")","v":""},null,null,null,null,null,null,null,null,{"$f":"IF(D11=\"\",\"\",IF(K11<>\"\",\"\",VLOOKUP(D11,IF($O$6=\"Coastal Plain\",'Forage Growth Curve Reference'!$A$41:$Q$72,IF($O$6=\"Piedmont\",'Forage Growth Curve Reference'!$A$4:$Q$35)),3,FALSE)))","v":""},null,{"$f":"IF(A11<>\"\",\"X\",\"\")","v":""},null,{"$f":"IF(A11<>\"\",\"X\",\"\")","v":""},null,null,null,null,null,{"$f":"IF(OR(P11=\"\",$S11=\"Yes\"),\"\",VLOOKUP(P11,'Forage Growth Curve Reference'!$T$3:$U$13,2,FALSE))","v":""},{"$f":"IF($S11=\"Yes\",(VLOOKUP(P11,'Forage Growth Curve Reference'!$T$3:$U$13,2,FALSE)*1.1),\"\")","v":""},{"$f":"IF(OR(T11<>\"\",U11<>\"\"),\"=\",\"\")","v":""},{"$f":"IF(AND(J11<>\"\",T11<>\"\"),J11*M11*T11,IF(AND(K11<>\"\",T11<>\"\"),K11*M11*T11,IF(AND(J11<>\"\",U11<>\"\"),J11*M11*U11,IF(AND(K11<>\"\",U11<>\"\"),K11*M11*U11,\"\"))))","v":""},null,null,null,null,null,null,null,null,null,null,null,"Yes"]
[{"$f":"IF(D12<>\"\",2,\"\")","v":""},null,null,null,null,null,null,null,null,{"$f":"IF(D12=\"\",\"\",IF(K12<>\"\",\"\",VLOOKUP(D12,IF($O$6=\"Coastal Plain\",'Forage Growth Curve Reference'!$A$41:$Q$72,IF($O$6=\"Piedmont\",'Forage Growth Curve Reference'!$A$4:$Q$35)),3,FALSE)))","v":""},null,"",null,"",null,null,null,null,null,{"$f":"IF(OR(P12=\"\",$S12=\"Yes\"),\"\",VLOOKUP(P12,'Forage Growth Curve Reference'!$T$3:$U$13,2,FALSE))","v":""},{"$f":"IF($S12=\"Yes\",(VLOOKUP(P12,'Forage Growth Curve Reference'!$T$3:$U$13,2,FALSE)*1.1),\"\")","v":""},{"$f":"IF(OR(T12<>\"\",U12<>\"\"),\"=\",\"\")","v":""},{"$f":"IF(AND(J12<>\"\",T12<>\"\"),J12*M12*T12,IF(AND(K12<>\"\",T12<>\"\"),K12*M12*T12,IF(AND(J12<>\"\",U12<>\"\"),J12*M12*U12,IF(AND(K12<>\"\",U12<>\"\"),K12*M12*U12,\"\"))))","v":""}]
[{"$f":"IF(D13<>\"\",3,\"\")","v":""},null,null,null,null,null,null,null,null,{"$f":"IF(D13=\"\",\"\",IF(K13<>\"\",\"\",VLOOKUP(D13,IF($O$6=\"Coastal Plain\",'Forage Growth Curve Reference'!$A$41:$Q$72,IF($O$6=\"Piedmont\",'Forage Growth Curve Reference'!$A$4:$Q$35)),3,FALSE)))","v":""},null,"",null,"",null,null,null,null,null,{"$f":"IF(OR(P13=\"\",$S13=\"Yes\"),\"\",VLOOKUP(P13,'Forage Growth Curve Reference'!$T$3:$U$13,2,FALSE))","v":""},{"$f":"IF($S13=\"Yes\",(VLOOKUP(P13,'Forage Growth Curve Reference'!$T$3:$U$13,2,FALSE)*1.1),\"\")","v":""},"",""]
[{"$f":"IF(D14<>\"\",4,\"\")","v":""},null,null,null,null,null,null,null,null,{"$f":"IF(D14=\"\",\"\",IF(K14<>\"\",\"\",VLOOKUP(D14,IF($O$6=\"Coastal Plain\",'Forage Growth Curve Reference'!$A$41:$Q$72,IF($O$6=\"Piedmont\",'Forage Growth Curve Reference'!$A$4:$Q$35)),3,FALSE)))","v":""},null,"",null,"",null,null,null,null,null,{"$f":"IF(OR(P14=\"\",$S14=\"Yes\"),\"\",VLOOKUP(P14,'Forage Growth Curve Reference'!$T$3:$U$13,2,FALSE))","v":""},{"$f":"IF($S14=\"Yes\",(VLOOKUP(P14,'Forage Growth Curve Reference'!$T$3:$U$13,2,FALSE)*1.1),\"\")","v":""},"",""]
[{"$f":"IF(D15<>\"\",5,\"\")","v":""},null,null,null,null,null,null,null,null,{"$f":"IF(D15=\"\",\"\",IF(K15<>\"\",\"\",VLOOKUP(D15,IF($O$6=\"Coastal Plain\",'Forage Growth Curve Reference'!$A$41:$Q$72,IF($O$6=\"Piedmont\",'Forage Growth Curve Reference'!$A$4:$Q$35)),3,FALSE)))","v":""},null,"",null,"",null,null,null,null,null,{"$f":"IF(OR(P15=\"\",$S15=\"Yes\"),\"\",VLOOKUP(P15,'Forage Growth Curve Reference'!$T$3:$U$13,2,FALSE))","v":""},{"$f":"IF($S15=\"Yes\",(VLOOKUP(P15,'Forage Growth Curve Reference'!$T$3:$U$13,2,FALSE)*1.1),\"\")","v":""},"",""]
[{"$f":"IF(D16<>\"\",6,\"\")","v":""},null,null,null,null,null,null,null,null,{"$f":"IF(D16=\"\",\"\",IF(K16<>\"\",\"\",VLOOKUP(D16,IF($O$6=\"Coastal Plain\",'Forage Growth Curve Reference'!$A$41:$Q$72,IF($O$6=\"Piedmont\",'Forage Growth Curve Reference'!$A$4:$Q$35)),3,FALSE)))","v":""},null,"",null,"",null,null,null,null,null,{"$f":"IF(OR(P16=\"\",$S16=\"Yes\"),\"\",VLOOKUP(P16,'Forage Growth Curve Reference'!$T$3:$U$13,2,FALSE))","v":""},{"$f":"IF($S16=\"Yes\",(VLOOKUP(P16,'Forage Growth Curve Reference'!$T$3:$U$13,2,FALSE)*1.1),\"\")","v":""},"",""]
[{"$f":"IF(D17<>\"\",7,\"\")","v":""},null,null,null,null,null,null,null,null,{"$f":"IF(D17=\"\",\"\",IF(K17<>\"\",\"\",VLOOKUP(D17,IF($O$6=\"Coastal Plain\",'Forage Growth Curve Reference'!$A$41:$Q$72,IF($O$6=\"Piedmont\",'Forage Growth Curve Reference'!$A$4:$Q$35)),3,FALSE)))","v":""},null,"",null,"",null,null,null,null,null,{"$f":"IF(OR(P17=\"\",$S17=\"Yes\"),\"\",VLOOKUP(P17,'Forage Growth Curve Reference'!$T$3:$U$13,2,FALSE))","v":""},{"$f":"IF($S17=\"Yes\",(VLOOKUP(P17,'Forage Growth Curve Reference'!$T$3:$U$13,2,FALSE)*1.1),\"\")","v":""},"",""]
[{"$f":"IF(D18<>\"\",8,\"\")","v":""},null,null,null,null,null,null,null,null,{"$f":"IF(D18=\"\",\"\",IF(K18<>\"\",\"\",VLOOKUP(D18,IF($O$6=\"Coastal Plain\",'Forage Growth Curve Reference'!$A$41:$Q$72,IF($O$6=\"Piedmont\",'Forage Growth Curve Reference'!$A$4:$Q$35)),3,FALSE)))","v":""},null,"",null,"",null,null,null,null,null,{"$f":"IF(OR(P18=\"\",$S18=\"Yes\"),\"\",VLOOKUP(P18,'Forage Growth Curve Reference'!$T$3:$U$13,2,FALSE))","v":""},{"$f":"IF($S18=\"Yes\",(VLOOKUP(P18,'Forage Growth Curve Reference'!$T$3:$U$13,2,FALSE)*1.1),\"\")","v":""},"",""]
[{"$f":"IF(D19<>\"\",9,\"\")","v":""},null,null,null,null,null,null,null,null,{"$f":"IF(D19=\"\",\"\",IF(K19<>\"\",\"\",VLOOKUP(D19,IF($O$6=\"Coastal Plain\",'Forage Growth Curve Reference'!$A$41:$Q$72,IF($O$6=\"Piedmont\",'Forage Growth Curve Reference'!$A$4:$Q$35)),3,FALSE)))","v":""},null,"",null,"",null,null,null,null,null,{"$f":"IF(OR(P19=\"\",$S19=\"Yes\"),\"\",VLOOKUP(P19,'Forage Growth Curve Reference'!$T$3:$U$13,2,FALSE))","v":""},{"$f":"IF($S19=\"Yes\",(VLOOKUP(P19,'Forage Growth Curve Reference'!$T$3:$U$13,2,FALSE)*1.1),\"\")","v":""},"",""]
[{"$f":"IF(D20<>\"\",10,\"\")","v":""},null,null,null,null,null,null,null,null,{"$f":"IF(D20=\"\",\"\",IF(K20<>\"\",\"\",VLOOKUP(D20,IF($O$6=\"Coastal Plain\",'Forage Growth Curve Reference'!$A$41:$Q$72,IF($O$6=\"Piedmont\",'Forage Growth Curve Reference'!$A$4:$Q$35)),3,FALSE)))","v":""},null,"",null,"",null,null,null,null,null,{"$f":"IF(OR(P20=\"\",$S20=\"Yes\"),\"\",VLOOKUP(P20,'Forage Growth Curve Reference'!$T$3:$U$13,2,FALSE))","v":""},{"$f":"IF($S20=\"Yes\",(VLOOKUP(P20,'Forage Growth Curve Reference'!$T$3:$U$13,2,FALSE)*1.1),\"\")","v":""},"",""]
[{"$f":"IF(D21<>\"\",11,\"\")","v":""},null,null,null,null,null,null,null,null,{"$f":"IF(D21=\"\",\"\",IF(K21<>\"\",\"\",VLOOKUP(D21,IF($O$6=\"Coastal Plain\",'Forage Growth Curve Reference'!$A$41:$Q$72,IF($O$6=\"Piedmont\",'Forage Growth Curve Reference'!$A$4:$Q$35)),3,FALSE)))","v":""},null,"",null,"",null,null,null,null,null,{"$f":"IF(OR(P21=\"\",$S21=\"Yes\"),\"\",VLOOKUP(P21,'Forage Growth Curve Reference'!$T$3:$U$13,2,FALSE))","v":""},{"$f":"IF($S21=\"Yes\",(VLOOKUP(P21,'Forage Growth Curve Reference'!$T$3:$U$13,2,FALSE)*1.1),\"\")","v":""},"",""]
[{"$f":"IF(D22<>\"\",12,\"\")","v":""},null,null,null,null,null,null,null,null,{"$f":"IF(D22=\"\",\"\",IF(K22<>\"\",\"\",VLOOKUP(D22,IF($O$6=\"Coastal Plain\",'Forage Growth Curve Reference'!$A$41:$Q$72,IF($O$6=\"Piedmont\",'Forage Growth Curve Reference'!$A$4:$Q$35)),3,FALSE)))","v":""},null,"",null,"",null,null,null,null,null,{"$f":"IF(OR(P22=\"\",$S22=\"Yes\"),\"\",VLOOKUP(P22,'Forage Growth Curve Reference'!$T$3:$U$13,2,FALSE))","v":""},{"$f":"IF($S22=\"Yes\",(VLOOKUP(P22,'Forage Growth Curve Reference'!$T$3:$U$13,2,FALSE)*1.1),\"\")","v":""},"",""]
[{"$f":"IF(D23<>\"\",13,\"\")","v":""},null,null,null,null,null,null,null,null,{"$f":"IF(D23=\"\",\"\",IF(K23<>\"\",\"\",VLOOKUP(D23,IF($O$6=\"Coastal Plain\",'Forage Growth Curve Reference'!$A$41:$Q$72,IF($O$6=\"Piedmont\",'Forage Growth Curve Reference'!$A$4:$Q$35)),3,FALSE)))","v":""},null,"",null,"",null,null,null,null,null,{"$f":"IF(OR(P23=\"\",$S23=\"Yes\"),\"\",VLOOKUP(P23,'Forage Growth Curve Reference'!$T$3:$U$13,2,FALSE))","v":""},{"$f":"IF($S23=\"Yes\",(VLOOKUP(P23,'Forage Growth Curve Reference'!$T$3:$U$13,2,FALSE)*1.1),\"\")","v":""},"",""]
[{"$f":"IF(D24<>\"\",14,\"\")","v":""},null,null,null,null,null,null,null,null,{"$f":"IF(D24=\"\",\"\",IF(K24<>\"\",\"\",VLOOKUP(D24,IF($O$6=\"Coastal Plain\",'Forage Growth Curve Reference'!$A$41:$Q$72,IF($O$6=\"Piedmont\",'Forage Growth Curve Reference'!$A$4:$Q$35)),3,FALSE)))","v":""},null,"",null,"",null,null,null,null,null,{"$f":"IF(OR(P24=\"\",$S24=\"Yes\"),\"\",VLOOKUP(P24,'Forage Growth Curve Reference'!$T$3:$U$13,2,FALSE))","v":""},{"$f":"IF($S24=\"Yes\",(VLOOKUP(P24,'Forage Growth Curve Reference'!$T$3:$U$13,2,FALSE)*1.1),\"\")","v":""},"",""]
[{"$f":"IF(D25<>\"\",15,\"\")","v":""},null,null,null,null,null,null,null,null,{"$f":"IF(D25=\"\",\"\",IF(K25<>\"\",\"\",VLOOKUP(D25,IF($O$6=\"Coastal Plain\",'Forage Growth Curve Reference'!$A$41:$Q$72,IF($O$6=\"Piedmont\",'Forage Growth Curve Reference'!$A$4:$Q$35)),3,FALSE)))","v":""},null,"",null,"",null,null,null,null,null,{"$f":"IF(OR(P25=\"\",$S25=\"Yes\"),\"\",VLOOKUP(P25,'Forage Growth Curve Reference'!$T$3:$U$13,2,FALSE))","v":""},{"$f":"IF($S25=\"Yes\",(VLOOKUP(P25,'Forage Growth Curve Reference'!$T$3:$U$13,2,FALSE)*1.1),\"\")","v":""},"",""]
[{"$f":"IF(D26<>\"\",16,\"\")","v":""},null,null,null,null,null,null,null,null,{"$f":"IF(D26=\"\",\"\",IF(K26<>\"\",\"\",VLOOKUP(D26,IF($O$6=\"Coastal Plain\",'Forage Growth Curve Reference'!$A$41:$Q$72,IF($O$6=\"Piedmont\",'Forage Growth Curve Reference'!$A$4:$Q$35)),3,FALSE)))","v":""},null,"",null,"",null,null,null,null,null,{"$f":"IF(OR(P26=\"\",$S26=\"Yes\"),\"\",VLOOKUP(P26,'Forage Growth Curve Reference'!$T$3:$U$13,2,FALSE))","v":""},{"$f":"IF($S26=\"Yes\",(VLOOKUP(P26,'Forage Growth Curve Reference'!$T$3:$U$13,2,FALSE)*1.1),\"\")","v":""},"",""]
[{"$f":"IF(D27<>\"\",17,\"\")","v":""},null,null,null,null,null,null,null,null,{"$f":"IF(D27=\"\",\"\",IF(K27<>\"\",\"\",VLOOKUP(D27,IF($O$6=\"Coastal Plain\",'Forage Growth Curve Reference'!$A$41:$Q$72,IF($O$6=\"Piedmont\",'Forage Growth Curve Reference'!$A$4:$Q$35)),3,FALSE)))","v":""},null,"",null,"",null,null,null,null,null,{"$f":"IF(OR(P27=\"\",$S27=\"Yes\"),\"\",VLOOKUP(P27,'Forage Growth Curve Reference'!$T$3:$U$13,2,FALSE))","v":""},{"$f":"IF($S27=\"Yes\",(VLOOKUP(P27,'Forage Growth Curve Reference'!$T$3:$U$13,2,FALSE)*1.1),\"\")","v":""},"",""]
[{"$f":"IF(D28<>\"\",18,\"\")","v":""},null,null,null,null,null,null,null,null,{"$f":"IF(D28=\"\",\"\",IF(K28<>\"\",\"\",VLOOKUP(D28,IF($O$6=\"Coastal Plain\",'Forage Growth Curve Reference'!$A$41:$Q$72,IF($O$6=\"Piedmont\",'Forage Growth Curve Reference'!$A$4:$Q$35)),3,FALSE)))","v":""},null,"",null,"",null,null,null,null,null,{"$f":"IF(OR(P28=\"\",$S28=\"Yes\"),\"\",VLOOKUP(P28,'Forage Growth Curve Reference'!$T$3:$U$13,2,FALSE))","v":""},{"$f":"IF($S28=\"Yes\",(VLOOKUP(P28,'Forage Growth Curve Reference'!$T$3:$U$13,2,FALSE)*1.1),\"\")","v":""},"",""]
[{"$f":"IF(D29<>\"\",19,\"\")","v":""},null,null,null,null,null,null,null,null,{"$f":"IF(D29=\"\",\"\",IF(K29<>\"\",\"\",VLOOKUP(D29,IF($O$6=\"Coastal Plain\",'Forage Growth Curve Reference'!$A$41:$Q$72,IF($O$6=\"Piedmont\",'Forage Growth Curve Reference'!$A$4:$Q$35)),3,FALSE)))","v":""},null,"",null,"",null,null,null,null,null,{"$f":"IF(OR(P29=\"\",$S29=\"Yes\"),\"\",VLOOKUP(P29,'Forage Growth Curve Reference'!$T$3:$U$13,2,FALSE))","v":""},{"$f":"IF($S29=\"Yes\",(VLOOKUP(P29,'Forage Growth Curve Reference'!$T$3:$U$13,2,FALSE)*1.1),\"\")","v":""},"",""]
[{"$f":"IF(D30<>\"\",20,\"\")","v":""},null,null,null,null,null,null,null,null,{"$f":"IF(D30=\"\",\"\",IF(K30<>\"\",\"\",VLOOKUP(D30,IF($O$6=\"Coastal Plain\",'Forage Growth Curve Reference'!$A$41:$Q$72,IF($O$6=\"Piedmont\",'Forage Growth Curve Reference'!$A$4:$Q$35)),3,FALSE)))","v":""},null,"",null,"",null,null,null,null,null,{"$f":"IF(OR(P30=\"\",$S30=\"Yes\"),\"\",VLOOKUP(P30,'Forage Growth Curve Reference'!$T$3:$U$13,2,FALSE))","v":""},{"$f":"IF($S30=\"Yes\",(VLOOKUP(P30,'Forage Growth Curve Reference'!$T$3:$U$13,2,FALSE)*1.1),\"\")","v":""},"",""]
[{"$f":"IF(D31<>\"\",21,\"\")","v":""},null,null,null,null,null,null,null,null,{"$f":"IF(D31=\"\",\"\",IF(K31<>\"\",\"\",VLOOKUP(D31,IF($O$6=\"Coastal Plain\",'Forage Growth Curve Reference'!$A$41:$Q$72,IF($O$6=\"Piedmont\",'Forage Growth Curve Reference'!$A$4:$Q$35)),3,FALSE)))","v":""},null,"",null,"",null,null,null,null,null,{"$f":"IF(OR(P31=\"\",$S31=\"Yes\"),\"\",VLOOKUP(P31,'Forage Growth Curve Reference'!$T$3:$U$13,2,FALSE))","v":""},{"$f":"IF($S31=\"Yes\",(VLOOKUP(P31,'Forage Growth Curve Reference'!$T$3:$U$13,2,FALSE)*1.1),\"\")","v":""},"",""]
[null,null,null,null,null,null,null,null,null,null,null,"Total acres:",{"$f":"SUM(M11:M31)","v":0},null,null,null,null,null,"Annual Total (lbs):",null,null,null,{"$f":"SUM(W11:W31)","v":0}]
[null,null,null,null,null,null,null,null,null,null,null,null,null,null,null,null,null,null,"Annual Total (tons):",null,null,null,{"$f":"W32/2000","v":0}]
[]
[null,null,null,null,null,null,null,null,null,null,null,null,null,null,null,"*If marked \"Yes,\" the field/paddock will be grazed by multi-species herd(s). "]
["II.  Yearly Forage Demand (Total Pounds as Dry Matter)"]
[null,"Herd/Flock Name or Description",null,"Animal Type",null,"No. of Animals","X","Average Weight (lbs)","X","DM Intake as % of Body Weight (as decimal)",null,"DM Intake as % Body Weight Correction (decimal)",null,"X","Grazing Period",null,null,null,"=","Dry Matter Demand per Herd/Flock (lbs)"]
[null,null,null,null,null,null,null,null,null,null,null,null,null,null,"Start Month",null,"End Month","Total Days"]
[{"$f":"IF(D39<>\"\",1,\"\")","v":""},null,null,null,null,null,{"$f":"IF(F39<>\"\",\"X\",\"\")","v":""},null,{"$f":"IF(F39<>\"\",\"X\",\"\")","v":""},{"$f":"IF(L39<>\"\",\"\",IF(D39=\"\",\"\",VLOOKUP(D39,'Forage Growth Curve Reference'!$Y$3:$Z$9,2,FALSE)))","v":""},null,null,null,{"$f":"IF(F39<>\"\",\"X\",\"\")","v":""},null,null,null,{"$f":"IF(AND(O39>=1,Q39>=2,Q39>O39),ROUNDUP(((Q39-(O39-1))*30.45),0),\"\")","v":""},{"$f":"IF(R39<>\"\",\"=\",\"\")","v":""},{"$f":"IF(J39<>\"\",R39*F39*H39*J39,IF(L39<>\"\",R39*F39*H39*L39,\"\"))","v":""}]
[{"$f":"IF(D40<>\"\",2,\"\")","v":""},null,null,null,null,null,"",null,{"$f":"IF(F40<>\"\",\"X\",\"\")","v":""},{"$f":"IF(L40<>\"\",\"\",IF(D40=\"\",\"\",VLOOKUP(D40,'Forage Growth Curve Reference'!$Y$3:$Z$9,2,FALSE)))","v":""},null,null,null,"",null,null,null,{"$f":"IF(AND(O40>=1,Q40>=2,Q40>O40),ROUNDUP(((Q40-(O40-1))*30.45),0),\"\")","v":""},{"$f":"IF(R40<>\"\",\"=\",\"\")","v":""},{"$f":"IF(J40<>\"\",R40*F40*H40*J40,IF(L40<>\"\",R40*F40*H40*L40,\"\"))","v":""}]
[{"$f":"IF(D41<>\"\",3,\"\")","v":""},null,null,null,null,null,"",null,"",{"$f":"IF(L41<>\"\",\"\",IF(D41=\"\",\"\",VLOOKUP(D41,'Forage Growth Curve Reference'!$Y$3:$Z$9,2,FALSE)))","v":""},null,null,null,"",null,null,null,"",{"$f":"IF(R41<>\"\",\"=\",\"\")","v":""},""]
[{"$f":"IF(D42<>\"\",4,\"\")","v":""},null,null,null,null,null,"",null,"",{"$f":"IF(L42<>\"\",\"\",IF(D42=\"\",\"\",VLOOKUP(D42,'Forage Growth Curve Reference'!$Y$3:$Z$9,2,FALSE)))","v":""},null,null,null,"",null,null,null,"","",""]
[{"$f":"IF(D43<>\"\",5,\"\")","v":""},null,null,null,null,null,"",null,"",{"$f":"IF(L43<>\"\",\"\",IF(D43=\"\",\"\",VLOOKUP(D43,'Forage Growth Curve Reference'!$Y$3:$Z$9,2,FALSE)))","v":""},null,null,null,"",null,null,null,"","",""]
[{"$f":"IF(D44<>\"\",6,\"\")","v":""},null,null,null,null,null,"",null,"",{"$f":"IF(L44<>\"\",\"\",IF(D44=\"\",\"\",VLOOKUP(D44,'Forage Growth Curve Reference'!$Y$3:$Z$9,2,FALSE)))","v":""},null,null,null,"",null,null,null,"","",""]
[{"$f":"IF(D45<>\"\",7,\"\")","v":""},null,null,null,null,null,"",null,"",{"$f":"IF(L45<>\"\",\"\",IF(D45=\"\",\"\",VLOOKUP(D45,'Forage Growth Curve Reference'!$Y$3:$Z$9,2,FALSE)))","v":""},null,null,null,"",null,null,null,"","",""]
[{"$f":"IF(D46<>\"\",8,\"\")","v":""},null,null,null,null,null,"",null,"",{"$f":"IF(L46<>\"\",\"\",IF(D46=\"\",\"\",VLOOKUP(D46,'Forage Growth Curve Reference'!$Y$3:$Z$9,2,FALSE)))","v":""},null,null,null,"",null,null,null,"","",""]
[{"$f":"IF(D47<>\"\",9,\"\")","v":""},null,null,null,null,null,"",null,"",{"$f":"IF(L47<>\"\",\"\",IF(D47=\"\",\"\",VLOOKUP(D47,'Forage Growth Curve Reference'!$Y$3:$Z$9,2,FALSE)))","v":""},null,null,null,"",null,null,null,"","",""]
[{"$f":"IF(D48<>\"\",10,\"\")","v":""},null,null,null,null,null,"",null,"",{"$f":"IF(L48<>\"\",\"\",IF(D48=\"\",\"\",VLOOKUP(D48,'Forage Growth Curve Reference'!$Y$3:$Z$9,2,FALSE)))","v":""},null,null,null,"",null,null,null,"","",""]
[]
[null,null,null,null,null,null,null,null,null,null,null,null,null,null,null,null,null,"Annual Total (lbs):",null,{"$f":"SUM(T39:T48)","v":0}]
[null,null,null,null,null,null,null,null,null,null,null,null,null,null,null,null,null,"Annual Total (tons):",null,{"$f":"T50/2000","v":0}]
[]
["III. Yearly Forage Balance (Surplus/Deficit):"]
[]
[null,null,null,null,null,null,null,null,null,null,null,null,null,null,null,null,null,"lbs",null,"tons"]
[null,null,null,null,null,null,null,null,null,"Yearly Forage Supply (I):",null,null,null,null,null,null,null,{"$f":"W32","v":0},null,{"$f":"W33","v":0}]
[null,null,null,null,null,null,null,null,null,"Yearly Forage Demand (II):",null,null,null,null,null,null,null,{"$f":"T50","v":0},null,{"$f":"T51","v":0}]
[null,null,null,null,null,null,null,null,null,"Yearly Forage Balance (Surplus/Deficit):",null,null,null,null,null,null,null,{"$f":"R56-R57","v":0},null,{"$f":"T56-T57","v":0}]
[]
["Forage"]
[null,null,null,"Jan","Feb","Mar","Apr","May","Jun","Jul","Aug","Sep","Oct","Nov","Dec"]
[null,null,11,{"$f":"IF(AND(OR($J11<>\"\",$K11<>\"\"),$M11<>\"\"),$W11*VLOOKUP($D11,IF($O$6=\"Western Mountains\",'Forage Growth Curve Reference'!#REF!,IF($O$6=\"Coastal Plain\",'Forage Growth Curve Reference'!$A$41:$Q$72,IF($O$6=\"Piedmont\",'Forage Growth Curve Reference'!$A$4:$Q$35,'Forage Growth Curve Reference'!$A$4:$Q$35))),6,FALSE),\"\")","v":""},{"$f":"IF(AND(OR($J11<>\"\",$K11<>\"\"),$M11<>\"\"),$W11*VLOOKUP($D11,IF($O$6=\"Western Mountains\",'Forage Growth Curve Reference'!#REF!,IF($O$6=\"Coastal Plain\",'Forage Growth Curve Reference'!$A$41:$Q$72,IF($O$6=\"Piedmont\",'Forage Growth Curve Reference'!$A$4:$Q$35,'Forage Growth Curve Reference'!$A$4:$Q$35))),7,FALSE),\"\")","v":""},{"$f":"IF(AND(OR($J11<>\"\",$K11<>\"\"),$M11<>\"\"),$W11*VLOOKUP($D11,IF($O$6=\"Western Mountains\",'Forage Growth Curve Reference'!#REF!,IF($O$6=\"Coastal Plain\",'Forage Growth Curve Reference'!$A$41:$Q$72,IF($O$6=\"Piedmont\",'Forage Growth Curve Reference'!$A$4:$Q$35,'Forage Growth Curve Reference'!$A$4:$Q$35))),8,FALSE),\"\")","v":""},{"$f":"IF(AND(OR($J11<>\"\",$K11<>\"\"),$M11<>\"\"),$W11*VLOOKUP($D11,IF($O$6=\"Western Mountains\",'Forage Growth Curve Reference'!#REF!,IF($O$6=\"Coastal Plain\",'Forage Growth Curve Reference'!$A$41:$Q$72,IF($O$6=\"Piedmont\",'Forage Growth Curve Reference'!$A$4:$Q$35,'Forage Growth Curve Reference'!$A$4:$Q$35))),9,FALSE),\"\")","v":""},{"$f":"IF(AND(OR($J11<>\"\",$K11<>\"\"),$M11<>\"\"),$W11*VLOOKUP($D11,IF($O$6=\"Western Mountains\",'Forage Growth Curve Reference'!#REF!,IF($O$6=\"Coastal Plain\",'Forage Growth Curve Reference'!$A$41:$Q$72,IF($O$6=\"Piedmont\",'Forage Growth Curve Reference'!$A$4:$Q$35,'Forage Growth Curve Reference'!$A$4:$Q$35))),10,FALSE),\"\")","v":""},{"$f":"IF(AND(OR($J11<>\"\",$K11<>\"\"),$M11<>\"\"),$W11*VLOOKUP($D11,IF($O$6=\"Western Mountains\",'Forage Growth Curve Reference'!#REF!,IF($O$6=\"Coastal Plain\",'Forage Growth Curve Reference'!$A$41:$Q$72,IF($O$6=\"Piedmont\",'Forage Growth Curve Reference'!$A$4:$Q$35,'Forage Growth Curve Reference'!$A$4:$Q$35))),11,FALSE),\"\")","v":""},{"$f":"IF(AND(OR($J11<>\"\",$K11<>\"\"),$M11<>\"\"),$W11*VLOOKUP($D11,IF($O$6=\"Western Mountains\",'Forage Growth Curve Reference'!#REF!,IF($O$6=\"Coastal Plain\",'Forage Growth Curve Reference'!$A$41:$Q$72,IF($O$6=\"Piedmont\",'Forage Growth Curve Reference'!$A$4:$Q$35,'Forage Growth Curve Reference'!$A$4:$Q$35))),12,FALSE),\"\")","v":""},{"$f":"IF(AND(OR($J11<>\"\",$K11<>\"\"),$M11<>\"\"),$W11*VLOOKUP($D11,IF($O$6=\"Western Mountains\",'Forage Growth Curve Reference'!#REF!,IF($O$6=\"Coastal Plain\",'Forage Growth Curve Reference'!$A$41:$Q$72,IF($O$6=\"Piedmont\",'Forage Growth Curve Reference'!$A$4:$Q$35,'Forage Growth Curve Reference'!$A$4:$Q$35))),13,FALSE),\"\")","v":""},{"$f":"IF(AND(OR($J11<>\"\",$K11<>\"\"),$M11<>\"\"),$W11*VLOOKUP($D11,IF($O$6=\"Western Mountains\",'Forage Growth Curve Reference'!#REF!,IF($O$6=\"Coastal Plain\",'Forage Growth Curve Reference'!$A$41:$Q$72,IF($O$6=\"Piedmont\",'Forage Growth Curve Reference'!$A$4:$Q$35,'Forage Growth Curve Reference'!$A$4:$Q$35))),14,FALSE),\"\")","v":""},{"$f":"IF(AND(OR($J11<>\"\",$K11<>\"\"),$M11<>\"\"),$W11*VLOOKUP($D11,IF($O$6=\"Western Mountains\",'Forage Growth Curve Reference'!#REF!,IF($O$6=\"Coastal Plain\",'Forage Growth Curve Reference'!$A$41:$Q$72,IF($O$6=\"Piedmont\",'Forage Growth Curve Reference'!$A$4:$Q$35,'Forage Growth Curve Reference'!$A$4:$Q$35))),15,FALSE),\"\")","v":""},{"$f":"IF(AND(OR($J11<>\"\",$K11<>\"\"),$M11<>\"\"),$W11*VLOOKUP($D11,IF($O$6=\"Western Mountains\",'Forage Growth Curve Reference'!#REF!,IF($O$6=\"Coastal Plain\",'Forage Growth Curve Reference'!$A$41:$Q$72,IF($O$6=\"Piedmont\",'Forage Growth Curve Reference'!$A$4:$Q$35,'Forage Growth Curve Reference'!$A$4:$Q$35))),16,FALSE),\"\")","v":""},{"$f":"IF(AND(OR($J11<>\"\",$K11<>\"\"),$M11<>\"\"),$W11*VLOOKUP($D11,IF($O$6=\"Western Mountains\",'Forage Growth Curve Reference'!#REF!,IF($O$6=\"Coastal Plain\",'Forage Growth Curve Reference'!$A$41:$Q$72,IF($O$6=\"Piedmont\",'Forage Growth Curve Reference'!$A$4:$Q$35,'Forage Growth Curve Reference'!$A$4:$Q$35))),17,FALSE),\"\")","v":""}]
[null,null,12,{"$f":"IF(AND(OR($J12<>\"\",$K12<>\"\"),$M12<>\"\"),$W12*VLOOKUP($D12,IF($O$6=\"Western Mountains\",'Forage Growth Curve Reference'!#REF!,IF($O$6=\"Coastal Plain\",'Forage Growth Curve Reference'!$A$41:$Q$72,IF($O$6=\"Piedmont\",'Forage Growth Curve Reference'!$A$4:$Q$35,'Forage Growth Curve Reference'!$A$4:$Q$35))),6,FALSE),\"\")","v":""},{"$f":"IF(AND(OR($J12<>\"\",$K12<>\"\"),$M12<>\"\"),$W12*VLOOKUP($D12,IF($O$6=\"Western Mountains\",'Forage Growth Curve Reference'!#REF!,IF($O$6=\"Coastal Plain\",'Forage Growth Curve Reference'!$A$41:$Q$72,IF($O$6=\"Piedmont\",'Forage Growth Curve Reference'!$A$4:$Q$35,'Forage Growth Curve Reference'!$A$4:$Q$35))),7,FALSE),\"\")","v":""},{"$f":"IF(AND(OR($J12<>\"\",$K12<>\"\"),$M12<>\"\"),$W12*VLOOKUP($D12,IF($O$6=\"Western Mountains\",'Forage Growth Curve Reference'!#REF!,IF($O$6=\"Coastal Plain\",'Forage Growth Curve Reference'!$A$41:$Q$72,IF($O$6=\"Piedmont\",'Forage Growth Curve Reference'!$A$4:$Q$35,'Forage Growth Curve Reference'!$A$4:$Q$35))),8,FALSE),\"\")","v":""},{"$f":"IF(AND(OR($J12<>\"\",$K12<>\"\"),$M12<>\"\"),$W12*VLOOKUP($D12,IF($O$6=\"Western Mountains\",'Forage Growth Curve Reference'!#REF!,IF($O$6=\"Coastal Plain\",'Forage Growth Curve Reference'!$A$41:$Q$72,IF($O$6=\"Piedmont\",'Forage Growth Curve Reference'!$A$4:$Q$35,'Forage Growth Curve Reference'!$A$4:$Q$35))),9,FALSE),\"\")","v":""},{"$f":"IF(AND(OR($J12<>\"\",$K12<>\"\"),$M12<>\"\"),$W12*VLOOKUP($D12,IF($O$6=\"Western Mountains\",'Forage Growth Curve Reference'!#REF!,IF($O$6=\"Coastal Plain\",'Forage Growth Curve Reference'!$A$41:$Q$72,IF($O$6=\"Piedmont\",'Forage Growth Curve Reference'!$A$4:$Q$35,'Forage Growth Curve Reference'!$A$4:$Q$35))),10,FALSE),\"\")","v":""},{"$f":"IF(AND(OR($J12<>\"\",$K12<>\"\"),$M12<>\"\"),$W12*VLOOKUP($D12,IF($O$6=\"Western Mountains\",'Forage Growth Curve Reference'!#REF!,IF($O$6=\"Coastal Plain\",'Forage Growth Curve Reference'!$A$41:$Q$72,IF($O$6=\"Piedmont\",'Forage Growth Curve Reference'!$A$4:$Q$35,'Forage Growth Curve Reference'!$A$4:$Q$35))),11,FALSE),\"\")","v":""},{"$f":"IF(AND(OR($J12<>\"\",$K12<>\"\"),$M12<>\"\"),$W12*VLOOKUP($D12,IF($O$6=\"Western Mountains\",'Forage Growth Curve Reference'!#REF!,IF($O$6=\"Coastal Plain\",'Forage Growth Curve Reference'!$A$41:$Q$72,IF($O$6=\"Piedmont\",'Forage Growth Curve Reference'!$A$4:$Q$35,'Forage Growth Curve Reference'!$A$4:$Q$35))),12,FALSE),\"\")","v":""},{"$f":"IF(AND(OR($J12<>\"\",$K12<>\"\"),$M12<>\"\"),$W12*VLOOKUP($D12,IF($O$6=\"Western Mountains\",'Forage Growth Curve Reference'!#REF!,IF($O$6=\"Coastal Plain\",'Forage Growth Curve Reference'!$A$41:$Q$72,IF($O$6=\"Piedmont\",'Forage Growth Curve Reference'!$A$4:$Q$35,'Forage Growth Curve Reference'!$A$4:$Q$35))),13,FALSE),\"\")","v":""},{"$f":"IF(AND(OR($J12<>\"\",$K12<>\"\"),$M12<>\"\"),$W12*VLOOKUP($D12,IF($O$6=\"Western Mountains\",'Forage Growth Curve Reference'!#REF!,IF($O$6=\"Coastal Plain\",'Forage Growth Curve Reference'!$A$41:$Q$72,IF($O$6=\"Piedmont\",'Forage Growth Curve Reference'!$A$4:$Q$35,'Forage Growth Curve Reference'!$A$4:$Q$35))),14,FALSE),\"\")","v":""},{"$f":"IF(AND(OR($J12<>\"\",$K12<>\"\"),$M12<>\"\"),$W12*VLOOKUP($D12,IF($O$6=\"Western Mountains\",'Forage Growth Curve Reference'!#REF!,IF($O$6=\"Coastal Plain\",'Forage Growth Curve Reference'!$A$41:$Q$72,IF($O$6=\"Piedmont\",'Forage Growth Curve Reference'!$A$4:$Q$35,'Forage Growth Curve Reference'!$A$4:$Q$35))),15,FALSE),\"\")","v":""},{"$f":"IF(AND(OR($J12<>\"\",$K12<>\"\"),$M12<>\"\"),$W12*VLOOKUP($D12,IF($O$6=\"Western Mountains\",'Forage Growth Curve Reference'!#REF!,IF($O$6=\"Coastal Plain\",'Forage Growth Curve Reference'!$A$41:$Q$72,IF($O$6=\"Piedmont\",'Forage Growth Curve Reference'!$A$4:$Q$35,'Forage Growth Curve Reference'!$A$4:$Q$35))),16,FALSE),\"\")","v":""},{"$f":"IF(AND(OR($J12<>\"\",$K12<>\"\"),$M12<>\"\"),$W12*VLOOKUP($D12,IF($O$6=\"Western Mountains\",'Forage Growth Curve Reference'!#REF!,IF($O$6=\"Coastal Plain\",'Forage Growth Curve Reference'!$A$41:$Q$72,IF($O$6=\"Piedmont\",'Forage Growth Curve Reference'!$A$4:$Q$35,'Forage Growth Curve Reference'!$A$4:$Q$35))),17,FALSE),\"\")","v":""}]
[null,null,13,{"$f":"IF(AND(OR($J13<>\"\",$K13<>\"\"),$M13<>\"\"),$W13*VLOOKUP($D13,IF($O$6=\"Western Mountains\",'Forage Growth Curve Reference'!#REF!,IF($O$6=\"Coastal Plain\",'Forage Growth Curve Reference'!$A$41:$Q$72,IF($O$6=\"Piedmont\",'Forage Growth Curve Reference'!$A$4:$Q$35,'Forage Growth Curve Reference'!$A$4:$Q$35))),6,FALSE),\"\")","v":""},{"$f":"IF(AND(OR($J13<>\"\",$K13<>\"\"),$M13<>\"\"),$W13*VLOOKUP($D13,IF($O$6=\"Western Mountains\",'Forage Growth Curve Reference'!#REF!,IF($O$6=\"Coastal Plain\",'Forage Growth Curve Reference'!$A$41:$Q$72,IF($O$6=\"Piedmont\",'Forage Growth Curve Reference'!$A$4:$Q$35,'Forage Growth Curve Reference'!$A$4:$Q$35))),7,FALSE),\"\")","v":""},{"$f":"IF(AND(OR($J13<>\"\",$K13<>\"\"),$M13<>\"\"),$W13*VLOOKUP($D13,IF($O$6=\"Western Mountains\",'Forage Growth Curve Reference'!#REF!,IF($O$6=\"Coastal Plain\",'Forage Growth Curve Reference'!$A$41:$Q$72,IF($O$6=\"Piedmont\",'Forage Growth Curve Reference'!$A$4:$Q$35,'Forage Growth Curve Reference'!$A$4:$Q$35))),8,FALSE),\"\")","v":""},{"$f":"IF(AND(OR($J13<>\"\",$K13<>\"\"),$M13<>\"\"),$W13*VLOOKUP($D13,IF($O$6=\"Western Mountains\",'Forage Growth Curve Reference'!#REF!,IF($O$6=\"Coastal Plain\",'Forage Growth Curve Reference'!$A$41:$Q$72,IF($O$6=\"Piedmont\",'Forage Growth Curve Reference'!$A$4:$Q$35,'Forage Growth Curve Reference'!$A$4:$Q$35))),9,FALSE),\"\")","v":""},{"$f":"IF(AND(OR($J13<>\"\",$K13<>\"\"),$M13<>\"\"),$W13*VLOOKUP($D13,IF($O$6=\"Western Mountains\",'Forage Growth Curve Reference'!#REF!,IF($O$6=\"Coastal Plain\",'Forage Growth Curve Reference'!$A$41:$Q$72,IF($O$6=\"Piedmont\",'Forage Growth Curve Reference'!$A$4:$Q$35,'Forage Growth Curve Reference'!$A$4:$Q$35))),10,FALSE),\"\")","v":""},{"$f":"IF(AND(OR($J13<>\"\",$K13<>\"\"),$M13<>\"\"),$W13*VLOOKUP($D13,IF($O$6=\"Western Mountains\",'Forage Growth Curve Reference'!#REF!,IF($O$6=\"Coastal Plain\",'Forage Growth Curve Reference'!$A$41:$Q$72,IF($O$6=\"Piedmont\",'Forage Growth Curve Reference'!$A$4:$Q$35,'Forage Growth Curve Reference'!$A$4:$Q$35))),11,FALSE),\"\")","v":""},{"$f":"IF(AND(OR($J13<>\"\",$K13<>\"\"),$M13<>\"\"),$W13*VLOOKUP($D13,IF($O$6=\"Western Mountains\",'Forage Growth Curve Reference'!#REF!,IF($O$6=\"Coastal Plain\",'Forage Growth Curve Reference'!$A$41:$Q$72,IF($O$6=\"Piedmont\",'Forage Growth Curve Reference'!$A$4:$Q$35,'Forage Growth Curve Reference'!$A$4:$Q$35))),12,FALSE),\"\")","v":""},{"$f":"IF(AND(OR($J13<>\"\",$K13<>\"\"),$M13<>\"\"),$W13*VLOOKUP($D13,IF($O$6=\"Western Mountains\",'Forage Growth Curve Reference'!#REF!,IF($O$6=\"Coastal Plain\",'Forage Growth Curve Reference'!$A$41:$Q$72,IF($O$6=\"Piedmont\",'Forage Growth Curve Reference'!$A$4:$Q$35,'Forage Growth Curve Reference'!$A$4:$Q$35))),13,FALSE),\"\")","v":""},{"$f":"IF(AND(OR($J13<>\"\",$K13<>\"\"),$M13<>\"\"),$W13*VLOOKUP($D13,IF($O$6=\"Western Mountains\",'Forage Growth Curve Reference'!#REF!,IF($O$6=\"Coastal Plain\",'Forage Growth Curve Reference'!$A$41:$Q$72,IF($O$6=\"Piedmont\",'Forage Growth Curve Reference'!$A$4:$Q$35,'Forage Growth Curve Reference'!$A$4:$Q$35))),14,FALSE),\"\")","v":""},{"$f":"IF(AND(OR($J13<>\"\",$K13<>\"\"),$M13<>\"\"),$W13*VLOOKUP($D13,IF($O$6=\"Western Mountains\",'Forage Growth Curve Reference'!#REF!,IF($O$6=\"Coastal Plain\",'Forage Growth Curve Reference'!$A$41:$Q$72,IF($O$6=\"Piedmont\",'Forage Growth Curve Reference'!$A$4:$Q$35,'Forage Growth Curve Reference'!$A$4:$Q$35))),15,FALSE),\"\")","v":""},{"$f":"IF(AND(OR($J13<>\"\",$K13<>\"\"),$M13<>\"\"),$W13*VLOOKUP($D13,IF($O$6=\"Western Mountains\",'Forage Growth Curve Reference'!#REF!,IF($O$6=\"Coastal Plain\",'Forage Growth Curve Reference'!$A$41:$Q$72,IF($O$6=\"Piedmont\",'Forage Growth Curve Reference'!$A$4:$Q$35,'Forage Growth Curve Reference'!$A$4:$Q$35))),16,FALSE),\"\")","v":""},{"$f":"IF(AND(OR($J13<>\"\",$K13<>\"\"),$M13<>\"\"),$W13*VLOOKUP($D13,IF($O$6=\"Western Mountains\",'Forage Growth Curve Reference'!#REF!,IF($O$6=\"Coastal Plain\",'Forage Growth Curve Reference'!$A$41:$Q$72,IF($O$6=\"Piedmont\",'Forage Growth Curve Reference'!$A$4:$Q$35,'Forage Growth Curve Reference'!$A$4:$Q$35))),17,FALSE),\"\")","v":""}]
[null,null,14,{"$f":"IF(AND(OR($J14<>\"\",$K14<>\"\"),$M14<>\"\"),$W14*VLOOKUP($D14,IF($O$6=\"Western Mountains\",'Forage Growth Curve Reference'!#REF!,IF($O$6=\"Coastal Plain\",'Forage Growth Curve Reference'!$A$41:$Q$72,IF($O$6=\"Piedmont\",'Forage Growth Curve Reference'!$A$4:$Q$35,'Forage Growth Curve Reference'!$A$4:$Q$35))),6,FALSE),\"\")","v":""},{"$f":"IF(AND(OR($J14<>\"\",$K14<>\"\"),$M14<>\"\"),$W14*VLOOKUP($D14,IF($O$6=\"Western Mountains\",'Forage Growth Curve Reference'!#REF!,IF($O$6=\"Coastal Plain\",'Forage Growth Curve Reference'!$A$41:$Q$72,IF($O$6=\"Piedmont\",'Forage Growth Curve Reference'!$A$4:$Q$35,'Forage Growth Curve Reference'!$A$4:$Q$35))),7,FALSE),\"\")","v":""},{"$f":"IF(AND(OR($J14<>\"\",$K14<>\"\"),$M14<>\"\"),$W14*VLOOKUP($D14,IF($O$6=\"Western Mountains\",'Forage Growth Curve Reference'!#REF!,IF($O$6=\"Coastal Plain\",'Forage Growth Curve Reference'!$A$41:$Q$72,IF($O$6=\"Piedmont\",'Forage Growth Curve Reference'!$A$4:$Q$35,'Forage Growth Curve Reference'!$A$4:$Q$35))),8,FALSE),\"\")","v":""},{"$f":"IF(AND(OR($J14<>\"\",$K14<>\"\"),$M14<>\"\"),$W14*VLOOKUP($D14,IF($O$6=\"Western Mountains\",'Forage Growth Curve Reference'!#REF!,IF($O$6=\"Coastal Plain\",'Forage Growth Curve Reference'!$A$41:$Q$72,IF($O$6=\"Piedmont\",'Forage Growth Curve Reference'!$A$4:$Q$35,'Forage Growth Curve Reference'!$A$4:$Q$35))),9,FALSE),\"\")","v":""},{"$f":"IF(AND(OR($J14<>\"\",$K14<>\"\"),$M14<>\"\"),$W14*VLOOKUP($D14,IF($O$6=\"Western Mountains\",'Forage Growth Curve Reference'!#REF!,IF($O$6=\"Coastal Plain\",'Forage Growth Curve Reference'!$A$41:$Q$72,IF($O$6=\"Piedmont\",'Forage Growth Curve Reference'!$A$4:$Q$35,'Forage Growth Curve Reference'!$A$4:$Q$35))),10,FALSE),\"\")","v":""},{"$f":"IF(AND(OR($J14<>\"\",$K14<>\"\"),$M14<>\"\"),$W14*VLOOKUP($D14,IF($O$6=\"Western Mountains\",'Forage Growth Curve Reference'!#REF!,IF($O$6=\"Coastal Plain\",'Forage Growth Curve Reference'!$A$41:$Q$72,IF($O$6=\"Piedmont\",'Forage Growth Curve Reference'!$A$4:$Q$35,'Forage Growth Curve Reference'!$A$4:$Q$35))),11,FALSE),\"\")","v":""},{"$f":"IF(AND(OR($J14<>\"\",$K14<>\"\"),$M14<>\"\"),$W14*VLOOKUP($D14,IF($O$6=\"Western Mountains\",'Forage Growth Curve Reference'!#REF!,IF($O$6=\"Coastal Plain\",'Forage Growth Curve Reference'!$A$41:$Q$72,IF($O$6=\"Piedmont\",'Forage Growth Curve Reference'!$A$4:$Q$35,'Forage Growth Curve Reference'!$A$4:$Q$35))),12,FALSE),\"\")","v":""},{"$f":"IF(AND(OR($J14<>\"\",$K14<>\"\"),$M14<>\"\"),$W14*VLOOKUP($D14,IF($O$6=\"Western Mountains\",'Forage Growth Curve Reference'!#REF!,IF($O$6=\"Coastal Plain\",'Forage Growth Curve Reference'!$A$41:$Q$72,IF($O$6=\"Piedmont\",'Forage Growth Curve Reference'!$A$4:$Q$35,'Forage Growth Curve Reference'!$A$4:$Q$35))),13,FALSE),\"\")","v":""},{"$f":"IF(AND(OR($J14<>\"\",$K14<>\"\"),$M14<>\"\"),$W14*VLOOKUP($D14,IF($O$6=\"Western Mountains\",'Forage Growth Curve Reference'!#REF!,IF($O$6=\"Coastal Plain\",'Forage Growth Curve Reference'!$A$41:$Q$72,IF($O$6=\"Piedmont\",'Forage Growth Curve Reference'!$A$4:$Q$35,'Forage Growth Curve Reference'!$A$4:$Q$35))),14,FALSE),\"\")","v":""},{"$f":"IF(AND(OR($J14<>\"\",$K14<>\"\"),$M14<>\"\"),$W14*VLOOKUP($D14,IF($O$6=\"Western Mountains\",'Forage Growth Curve Reference'!#REF!,IF($O$6=\"Coastal Plain\",'Forage Growth Curve Reference'!$A$41:$Q$72,IF($O$6=\"Piedmont\",'Forage Growth Curve Reference'!$A$4:$Q$35,'Forage Growth Curve Reference'!$A$4:$Q$35))),15,FALSE),\"\")","v":""},{"$f":"IF(AND(OR($J14<>\"\",$K14<>\"\"),$M14<>\"\"),$W14*VLOOKUP($D14,IF($O$6=\"Western Mountains\",'Forage Growth Curve Reference'!#REF!,IF($O$6=\"Coastal Plain\",'Forage Growth Curve Reference'!$A$41:$Q$72,IF($O$6=\"Piedmont\",'Forage Growth Curve Reference'!$A$4:$Q$35,'Forage Growth Curve Reference'!$A$4:$Q$35))),16,FALSE),\"\")","v":""},{"$f":"IF(AND(OR($J14<>\"\",$K14<>\"\"),$M14<>\"\"),$W14*VLOOKUP($D14,IF($O$6=\"Western Mountains\",'Forage Growth Curve Reference'!#REF!,IF($O$6=\"Coastal Plain\",'Forage Growth Curve Reference'!$A$41:$Q$72,IF($O$6=\"Piedmont\",'Forage Growth Curve Reference'!$A$4:$Q$35,'Forage Growth Curve Reference'!$A$4:$Q$35))),17,FALSE),\"\")","v":""}]
[null,null,15,{"$f":"IF(AND(OR($J15<>\"\",$K15<>\"\"),$M15<>\"\"),$W15*VLOOKUP($D15,IF($O$6=\"Western Mountains\",'Forage Growth Curve Reference'!#REF!,IF($O$6=\"Coastal Plain\",'Forage Growth Curve Reference'!$A$41:$Q$72,IF($O$6=\"Piedmont\",'Forage Growth Curve Reference'!$A$4:$Q$35,'Forage Growth Curve Reference'!$A$4:$Q$35))),6,FALSE),\"\")","v":""},{"$f":"IF(AND(OR($J15<>\"\",$K15<>\"\"),$M15<>\"\"),$W15*VLOOKUP($D15,IF($O$6=\"Western Mountains\",'Forage Growth Curve Reference'!#REF!,IF($O$6=\"Coastal Plain\",'Forage Growth Curve Reference'!$A$41:$Q$72,IF($O$6=\"Piedmont\",'Forage Growth Curve Reference'!$A$4:$Q$35,'Forage Growth Curve Reference'!$A$4:$Q$35))),7,FALSE),\"\")","v":""},{"$f":"IF(AND(OR($J15<>\"\",$K15<>\"\"),$M15<>\"\"),$W15*VLOOKUP($D15,IF($O$6=\"Western Mountains\",'Forage Growth Curve Reference'!#REF!,IF($O$6=\"Coastal Plain\",'Forage Growth Curve Reference'!$A$41:$Q$72,IF($O$6=\"Piedmont\",'Forage Growth Curve Reference'!$A$4:$Q$35,'Forage Growth Curve Reference'!$A$4:$Q$35))),8,FALSE),\"\")","v":""},{"$f":"IF(AND(OR($J15<>\"\",$K15<>\"\"),$M15<>\"\"),$W15*VLOOKUP($D15,IF($O$6=\"Western Mountains\",'Forage Growth Curve Reference'!#REF!,IF($O$6=\"Coastal Plain\",'Forage Growth Curve Reference'!$A$41:$Q$72,IF($O$6=\"Piedmont\",'Forage Growth Curve Reference'!$A$4:$Q$35,'Forage Growth Curve Reference'!$A$4:$Q$35))),9,FALSE),\"\")","v":""},{"$f":"IF(AND(OR($J15<>\"\",$K15<>\"\"),$M15<>\"\"),$W15*VLOOKUP($D15,IF($O$6=\"Western Mountains\",'Forage Growth Curve Reference'!#REF!,IF($O$6=\"Coastal Plain\",'Forage Growth Curve Reference'!$A$41:$Q$72,IF($O$6=\"Piedmont\",'Forage Growth Curve Reference'!$A$4:$Q$35,'Forage Growth Curve Reference'!$A$4:$Q$35))),10,FALSE),\"\")","v":""},{"$f":"IF(AND(OR($J15<>\"\",$K15<>\"\"),$M15<>\"\"),$W15*VLOOKUP($D15,IF($O$6=\"Western Mountains\",'Forage Growth Curve Reference'!#REF!,IF($O$6=\"Coastal Plain\",'Forage Growth Curve Reference'!$A$41:$Q$72,IF($O$6=\"Piedmont\",'Forage Growth Curve Reference'!$A$4:$Q$35,'Forage Growth Curve Reference'!$A$4:$Q$35))),11,FALSE),\"\")","v":""},{"$f":"IF(AND(OR($J15<>\"\",$K15<>\"\"),$M15<>\"\"),$W15*VLOOKUP($D15,IF($O$6=\"Western Mountains\",'Forage Growth Curve Reference'!#REF!,IF($O$6=\"Coastal Plain\",'Forage Growth Curve Reference'!$A$41:$Q$72,IF($O$6=\"Piedmont\",'Forage Growth Curve Reference'!$A$4:$Q$35,'Forage Growth Curve Reference'!$A$4:$Q$35))),12,FALSE),\"\")","v":""},{"$f":"IF(AND(OR($J15<>\"\",$K15<>\"\"),$M15<>\"\"),$W15*VLOOKUP($D15,IF($O$6=\"Western Mountains\",'Forage Growth Curve Reference'!#REF!,IF($O$6=\"Coastal Plain\",'Forage Growth Curve Reference'!$A$41:$Q$72,IF($O$6=\"Piedmont\",'Forage Growth Curve Reference'!$A$4:$Q$35,'Forage Growth Curve Reference'!$A$4:$Q$35))),13,FALSE),\"\")","v":""},{"$f":"IF(AND(OR($J15<>\"\",$K15<>\"\"),$M15<>\"\"),$W15*VLOOKUP($D15,IF($O$6=\"Western Mountains\",'Forage Growth Curve Reference'!#REF!,IF($O$6=\"Coastal Plain\",'Forage Growth Curve Reference'!$A$41:$Q$72,IF($O$6=\"Piedmont\",'Forage Growth Curve Reference'!$A$4:$Q$35,'Forage Growth Curve Reference'!$A$4:$Q$35))),14,FALSE),\"\")","v":""},{"$f":"IF(AND(OR($J15<>\"\",$K15<>\"\"),$M15<>\"\"),$W15*VLOOKUP($D15,IF($O$6=\"Western Mountains\",'Forage Growth Curve Reference'!#REF!,IF($O$6=\"Coastal Plain\",'Forage Growth Curve Reference'!$A$41:$Q$72,IF($O$6=\"Piedmont\",'Forage Growth Curve Reference'!$A$4:$Q$35,'Forage Growth Curve Reference'!$A$4:$Q$35))),15,FALSE),\"\")","v":""},{"$f":"IF(AND(OR($J15<>\"\",$K15<>\"\"),$M15<>\"\"),$W15*VLOOKUP($D15,IF($O$6=\"Western Mountains\",'Forage Growth Curve Reference'!#REF!,IF($O$6=\"Coastal Plain\",'Forage Growth Curve Reference'!$A$41:$Q$72,IF($O$6=\"Piedmont\",'Forage Growth Curve Reference'!$A$4:$Q$35,'Forage Growth Curve Reference'!$A$4:$Q$35))),16,FALSE),\"\")","v":""},{"$f":"IF(AND(OR($J15<>\"\",$K15<>\"\"),$M15<>\"\"),$W15*VLOOKUP($D15,IF($O$6=\"Western Mountains\",'Forage Growth Curve Reference'!#REF!,IF($O$6=\"Coastal Plain\",'Forage Growth Curve Reference'!$A$41:$Q$72,IF($O$6=\"Piedmont\",'Forage Growth Curve Reference'!$A$4:$Q$35,'Forage Growth Curve Reference'!$A$4:$Q$35))),17,FALSE),\"\")","v":""}]
[null,null,16,{"$f":"IF(AND(OR($J16<>\"\",$K16<>\"\"),$M16<>\"\"),$W16*VLOOKUP($D16,IF($O$6=\"Western Mountains\",'Forage Growth Curve Reference'!#REF!,IF($O$6=\"Coastal Plain\",'Forage Growth Curve Reference'!$A$41:$Q$72,IF($O$6=\"Piedmont\",'Forage Growth Curve Reference'!$A$4:$Q$35,'Forage Growth Curve Reference'!$A$4:$Q$35))),6,FALSE),\"\")","v":""},{"$f":"IF(AND(OR($J16<>\"\",$K16<>\"\"),$M16<>\"\"),$W16*VLOOKUP($D16,IF($O$6=\"Western Mountains\",'Forage Growth Curve Reference'!#REF!,IF($O$6=\"Coastal Plain\",'Forage Growth Curve Reference'!$A$41:$Q$72,IF($O$6=\"Piedmont\",'Forage Growth Curve Reference'!$A$4:$Q$35,'Forage Growth Curve Reference'!$A$4:$Q$35))),7,FALSE),\"\")","v":""},{"$f":"IF(AND(OR($J16<>\"\",$K16<>\"\"),$M16<>\"\"),$W16*VLOOKUP($D16,IF($O$6=\"Western Mountains\",'Forage Growth Curve Reference'!#REF!,IF($O$6=\"Coastal Plain\",'Forage Growth Curve Reference'!$A$41:$Q$72,IF($O$6=\"Piedmont\",'Forage Growth Curve Reference'!$A$4:$Q$35,'Forage Growth Curve Reference'!$A$4:$Q$35))),8,FALSE),\"\")","v":""},{"$f":"IF(AND(OR($J16<>\"\",$K16<>\"\"),$M16<>\"\"),$W16*VLOOKUP($D16,IF($O$6=\"Western Mountains\",'Forage Growth Curve Reference'!#REF!,IF($O$6=\"Coastal Plain\",'Forage Growth Curve Reference'!$A$41:$Q$72,IF($O$6=\"Piedmont\",'Forage Growth Curve Reference'!$A$4:$Q$35,'Forage Growth Curve Reference'!$A$4:$Q$35))),9,FALSE),\"\")","v":""},{"$f":"IF(AND(OR($J16<>\"\",$K16<>\"\"),$M16<>\"\"),$W16*VLOOKUP($D16,IF($O$6=\"Western Mountains\",'Forage Growth Curve Reference'!#REF!,IF($O$6=\"Coastal Plain\",'Forage Growth Curve Reference'!$A$41:$Q$72,IF($O$6=\"Piedmont\",'Forage Growth Curve Reference'!$A$4:$Q$35,'Forage Growth Curve Reference'!$A$4:$Q$35))),10,FALSE),\"\")","v":""},{"$f":"IF(AND(OR($J16<>\"\",$K16<>\"\"),$M16<>\"\"),$W16*VLOOKUP($D16,IF($O$6=\"Western Mountains\",'Forage Growth Curve Reference'!#REF!,IF($O$6=\"Coastal Plain\",'Forage Growth Curve Reference'!$A$41:$Q$72,IF($O$6=\"Piedmont\",'Forage Growth Curve Reference'!$A$4:$Q$35,'Forage Growth Curve Reference'!$A$4:$Q$35))),11,FALSE),\"\")","v":""},{"$f":"IF(AND(OR($J16<>\"\",$K16<>\"\"),$M16<>\"\"),$W16*VLOOKUP($D16,IF($O$6=\"Western Mountains\",'Forage Growth Curve Reference'!#REF!,IF($O$6=\"Coastal Plain\",'Forage Growth Curve Reference'!$A$41:$Q$72,IF($O$6=\"Piedmont\",'Forage Growth Curve Reference'!$A$4:$Q$35,'Forage Growth Curve Reference'!$A$4:$Q$35))),12,FALSE),\"\")","v":""},{"$f":"IF(AND(OR($J16<>\"\",$K16<>\"\"),$M16<>\"\"),$W16*VLOOKUP($D16,IF($O$6=\"Western Mountains\",'Forage Growth Curve Reference'!#REF!,IF($O$6=\"Coastal Plain\",'Forage Growth Curve Reference'!$A$41:$Q$72,IF($O$6=\"Piedmont\",'Forage Growth Curve Reference'!$A$4:$Q$35,'Forage Growth Curve Reference'!$A$4:$Q$35))),13,FALSE),\"\")","v":""},{"$f":"IF(AND(OR($J16<>\"\",$K16<>\"\"),$M16<>\"\"),$W16*VLOOKUP($D16,IF($O$6=\"Western Mountains\",'Forage Growth Curve Reference'!#REF!,IF($O$6=\"Coastal Plain\",'Forage Growth Curve Reference'!$A$41:$Q$72,IF($O$6=\"Piedmont\",'Forage Growth Curve Reference'!$A$4:$Q$35,'Forage Growth Curve Reference'!$A$4:$Q$35))),14,FALSE),\"\")","v":""},{"$f":"IF(AND(OR($J16<>\"\",$K16<>\"\"),$M16<>\"\"),$W16*VLOOKUP($D16,IF($O$6=\"Western Mountains\",'Forage Growth Curve Reference'!#REF!,IF($O$6=\"Coastal Plain\",'Forage Growth Curve Reference'!$A$41:$Q$72,IF($O$6=\"Piedmont\",'Forage Growth Curve Reference'!$A$4:$Q$35,'Forage Growth Curve Reference'!$A$4:$Q$35))),15,FALSE),\"\")","v":""},{"$f":"IF(AND(OR($J16<>\"\",$K16<>\"\"),$M16<>\"\"),$W16*VLOOKUP($D16,IF($O$6=\"Western Mountains\",'Forage Growth Curve Reference'!#REF!,IF($O$6=\"Coastal Plain\",'Forage Growth Curve Reference'!$A$41:$Q$72,IF($O$6=\"Piedmont\",'Forage Growth Curve Reference'!$A$4:$Q$35,'Forage Growth Curve Reference'!$A$4:$Q$35))),16,FALSE),\"\")","v":""},{"$f":"IF(AND(OR($J16<>\"\",$K16<>\"\"),$M16<>\"\"),$W16*VLOOKUP($D16,IF($O$6=\"Western Mountains\",'Forage Growth Curve Reference'!#REF!,IF($O$6=\"Coastal Plain\",'Forage Growth Curve Reference'!$A$41:$Q$72,IF($O$6=\"Piedmont\",'Forage Growth Curve Reference'!$A$4:$Q$35,'Forage Growth Curve Reference'!$A$4:$Q$35))),17,FALSE),\"\")","v":""}]
[null,null,17,{"$f":"IF(AND(OR($J17<>\"\",$K17<>\"\"),$M17<>\"\"),$W17*VLOOKUP($D17,IF($O$6=\"Western Mountains\",'Forage Growth Curve Reference'!#REF!,IF($O$6=\"Coastal Plain\",'Forage Growth Curve Reference'!$A$41:$Q$72,IF($O$6=\"Piedmont\",'Forage Growth Curve Reference'!$A$4:$Q$35,'Forage Growth Curve Reference'!$A$4:$Q$35))),6,FALSE),\"\")","v":""},{"$f":"IF(AND(OR($J17<>\"\",$K17<>\"\"),$M17<>\"\"),$W17*VLOOKUP($D17,IF($O$6=\"Western Mountains\",'Forage Growth Curve Reference'!#REF!,IF($O$6=\"Coastal Plain\",'Forage Growth Curve Reference'!$A$41:$Q$72,IF($O$6=\"Piedmont\",'Forage Growth Curve Reference'!$A$4:$Q$35,'Forage Growth Curve Reference'!$A$4:$Q$35))),7,FALSE),\"\")","v":""},{"$f":"IF(AND(OR($J17<>\"\",$K17<>\"\"),$M17<>\"\"),$W17*VLOOKUP($D17,IF($O$6=\"Western Mountains\",'Forage Growth Curve Reference'!#REF!,IF($O$6=\"Coastal Plain\",'Forage Growth Curve Reference'!$A$41:$Q$72,IF($O$6=\"Piedmont\",'Forage Growth Curve Reference'!$A$4:$Q$35,'Forage Growth Curve Reference'!$A$4:$Q$35))),8,FALSE),\"\")","v":""},{"$f":"IF(AND(OR($J17<>\"\",$K17<>\"\"),$M17<>\"\"),$W17*VLOOKUP($D17,IF($O$6=\"Western Mountains\",'Forage Growth Curve Reference'!#REF!,IF($O$6=\"Coastal Plain\",'Forage Growth Curve Reference'!$A$41:$Q$72,IF($O$6=\"Piedmont\",'Forage Growth Curve Reference'!$A$4:$Q$35,'Forage Growth Curve Reference'!$A$4:$Q$35))),9,FALSE),\"\")","v":""},{"$f":"IF(AND(OR($J17<>\"\",$K17<>\"\"),$M17<>\"\"),$W17*VLOOKUP($D17,IF($O$6=\"Western Mountains\",'Forage Growth Curve Reference'!#REF!,IF($O$6=\"Coastal Plain\",'Forage Growth Curve Reference'!$A$41:$Q$72,IF($O$6=\"Piedmont\",'Forage Growth Curve Reference'!$A$4:$Q$35,'Forage Growth Curve Reference'!$A$4:$Q$35))),10,FALSE),\"\")","v":""},{"$f":"IF(AND(OR($J17<>\"\",$K17<>\"\"),$M17<>\"\"),$W17*VLOOKUP($D17,IF($O$6=\"Western Mountains\",'Forage Growth Curve Reference'!#REF!,IF($O$6=\"Coastal Plain\",'Forage Growth Curve Reference'!$A$41:$Q$72,IF($O$6=\"Piedmont\",'Forage Growth Curve Reference'!$A$4:$Q$35,'Forage Growth Curve Reference'!$A$4:$Q$35))),11,FALSE),\"\")","v":""},{"$f":"IF(AND(OR($J17<>\"\",$K17<>\"\"),$M17<>\"\"),$W17*VLOOKUP($D17,IF($O$6=\"Western Mountains\",'Forage Growth Curve Reference'!#REF!,IF($O$6=\"Coastal Plain\",'Forage Growth Curve Reference'!$A$41:$Q$72,IF($O$6=\"Piedmont\",'Forage Growth Curve Reference'!$A$4:$Q$35,'Forage Growth Curve Reference'!$A$4:$Q$35))),12,FALSE),\"\")","v":""},{"$f":"IF(AND(OR($J17<>\"\",$K17<>\"\"),$M17<>\"\"),$W17*VLOOKUP($D17,IF($O$6=\"Western Mountains\",'Forage Growth Curve Reference'!#REF!,IF($O$6=\"Coastal Plain\",'Forage Growth Curve Reference'!$A$41:$Q$72,IF($O$6=\"Piedmont\",'Forage Growth Curve Reference'!$A$4:$Q$35,'Forage Growth Curve Reference'!$A$4:$Q$35))),13,FALSE),\"\")","v":""},{"$f":"IF(AND(OR($J17<>\"\",$K17<>\"\"),$M17<>\"\"),$W17*VLOOKUP($D17,IF($O$6=\"Western Mountains\",'Forage Growth Curve Reference'!#REF!,IF($O$6=\"Coastal Plain\",'Forage Growth Curve Reference'!$A$41:$Q$72,IF($O$6=\"Piedmont\",'Forage Growth Curve Reference'!$A$4:$Q$35,'Forage Growth Curve Reference'!$A$4:$Q$35))),14,FALSE),\"\")","v":""},{"$f":"IF(AND(OR($J17<>\"\",$K17<>\"\"),$M17<>\"\"),$W17*VLOOKUP($D17,IF($O$6=\"Western Mountains\",'Forage Growth Curve Reference'!#REF!,IF($O$6=\"Coastal Plain\",'Forage Growth Curve Reference'!$A$41:$Q$72,IF($O$6=\"Piedmont\",'Forage Growth Curve Reference'!$A$4:$Q$35,'Forage Growth Curve Reference'!$A$4:$Q$35))),15,FALSE),\"\")","v":""},{"$f":"IF(AND(OR($J17<>\"\",$K17<>\"\"),$M17<>\"\"),$W17*VLOOKUP($D17,IF($O$6=\"Western Mountains\",'Forage Growth Curve Reference'!#REF!,IF($O$6=\"Coastal Plain\",'Forage Growth Curve Reference'!$A$41:$Q$72,IF($O$6=\"Piedmont\",'Forage Growth Curve Reference'!$A$4:$Q$35,'Forage Growth Curve Reference'!$A$4:$Q$35))),16,FALSE),\"\")","v":""},{"$f":"IF(AND(OR($J17<>\"\",$K17<>\"\"),$M17<>\"\"),$W17*VLOOKUP($D17,IF($O$6=\"Western Mountains\",'Forage Growth Curve Reference'!#REF!,IF($O$6=\"Coastal Plain\",'Forage Growth Curve Reference'!$A$41:$Q$72,IF($O$6=\"Piedmont\",'Forage Growth Curve Reference'!$A$4:$Q$35,'Forage Growth Curve Reference'!$A$4:$Q$35))),17,FALSE),\"\")","v":""}]
[null,null,18,{"$f":"IF(AND(OR($J18<>\"\",$K18<>\"\"),$M18<>\"\"),$W18*VLOOKUP($D18,IF($O$6=\"Western Mountains\",'Forage Growth Curve Reference'!#REF!,IF($O$6=\"Coastal Plain\",'Forage Growth Curve Reference'!$A$41:$Q$72,IF($O$6=\"Piedmont\",'Forage Growth Curve Reference'!$A$4:$Q$35,'Forage Growth Curve Reference'!$A$4:$Q$35))),6,FALSE),\"\")","v":""},{"$f":"IF(AND(OR($J18<>\"\",$K18<>\"\"),$M18<>\"\"),$W18*VLOOKUP($D18,IF($O$6=\"Western Mountains\",'Forage Growth Curve Reference'!#REF!,IF($O$6=\"Coastal Plain\",'Forage Growth Curve Reference'!$A$41:$Q$72,IF($O$6=\"Piedmont\",'Forage Growth Curve Reference'!$A$4:$Q$35,'Forage Growth Curve Reference'!$A$4:$Q$35))),7,FALSE),\"\")","v":""},{"$f":"IF(AND(OR($J18<>\"\",$K18<>\"\"),$M18<>\"\"),$W18*VLOOKUP($D18,IF($O$6=\"Western Mountains\",'Forage Growth Curve Reference'!#REF!,IF($O$6=\"Coastal Plain\",'Forage Growth Curve Reference'!$A$41:$Q$72,IF($O$6=\"Piedmont\",'Forage Growth Curve Reference'!$A$4:$Q$35,'Forage Growth Curve Reference'!$A$4:$Q$35))),8,FALSE),\"\")","v":""},{"$f":"IF(AND(OR($J18<>\"\",$K18<>\"\"),$M18<>\"\"),$W18*VLOOKUP($D18,IF($O$6=\"Western Mountains\",'Forage Growth Curve Reference'!#REF!,IF($O$6=\"Coastal Plain\",'Forage Growth Curve Reference'!$A$41:$Q$72,IF($O$6=\"Piedmont\",'Forage Growth Curve Reference'!$A$4:$Q$35,'Forage Growth Curve Reference'!$A$4:$Q$35))),9,FALSE),\"\")","v":""},{"$f":"IF(AND(OR($J18<>\"\",$K18<>\"\"),$M18<>\"\"),$W18*VLOOKUP($D18,IF($O$6=\"Western Mountains\",'Forage Growth Curve Reference'!#REF!,IF($O$6=\"Coastal Plain\",'Forage Growth Curve Reference'!$A$41:$Q$72,IF($O$6=\"Piedmont\",'Forage Growth Curve Reference'!$A$4:$Q$35,'Forage Growth Curve Reference'!$A$4:$Q$35))),10,FALSE),\"\")","v":""},{"$f":"IF(AND(OR($J18<>\"\",$K18<>\"\"),$M18<>\"\"),$W18*VLOOKUP($D18,IF($O$6=\"Western Mountains\",'Forage Growth Curve Reference'!#REF!,IF($O$6=\"Coastal Plain\",'Forage Growth Curve Reference'!$A$41:$Q$72,IF($O$6=\"Piedmont\",'Forage Growth Curve Reference'!$A$4:$Q$35,'Forage Growth Curve Reference'!$A$4:$Q$35))),11,FALSE),\"\")","v":""},{"$f":"IF(AND(OR($J18<>\"\",$K18<>\"\"),$M18<>\"\"),$W18*VLOOKUP($D18,IF($O$6=\"Western Mountains\",'Forage Growth Curve Reference'!#REF!,IF($O$6=\"Coastal Plain\",'Forage Growth Curve Reference'!$A$41:$Q$72,IF($O$6=\"Piedmont\",'Forage Growth Curve Reference'!$A$4:$Q$35,'Forage Growth Curve Reference'!$A$4:$Q$35))),12,FALSE),\"\")","v":""},{"$f":"IF(AND(OR($J18<>\"\",$K18<>\"\"),$M18<>\"\"),$W18*VLOOKUP($D18,IF($O$6=\"Western Mountains\",'Forage Growth Curve Reference'!#REF!,IF($O$6=\"Coastal Plain\",'Forage Growth Curve Reference'!$A$41:$Q$72,IF($O$6=\"Piedmont\",'Forage Growth Curve Reference'!$A$4:$Q$35,'Forage Growth Curve Reference'!$A$4:$Q$35))),13,FALSE),\"\")","v":""},{"$f":"IF(AND(OR($J18<>\"\",$K18<>\"\"),$M18<>\"\"),$W18*VLOOKUP($D18,IF($O$6=\"Western Mountains\",'Forage Growth Curve Reference'!#REF!,IF($O$6=\"Coastal Plain\",'Forage Growth Curve Reference'!$A$41:$Q$72,IF($O$6=\"Piedmont\",'Forage Growth Curve Reference'!$A$4:$Q$35,'Forage Growth Curve Reference'!$A$4:$Q$35))),14,FALSE),\"\")","v":""},{"$f":"IF(AND(OR($J18<>\"\",$K18<>\"\"),$M18<>\"\"),$W18*VLOOKUP($D18,IF($O$6=\"Western Mountains\",'Forage Growth Curve Reference'!#REF!,IF($O$6=\"Coastal Plain\",'Forage Growth Curve Reference'!$A$41:$Q$72,IF($O$6=\"Piedmont\",'Forage Growth Curve Reference'!$A$4:$Q$35,'Forage Growth Curve Reference'!$A$4:$Q$35))),15,FALSE),\"\")","v":""},{"$f":"IF(AND(OR($J18<>\"\",$K18<>\"\"),$M18<>\"\"),$W18*VLOOKUP($D18,IF($O$6=\"Western Mountains\",'Forage Growth Curve Reference'!#REF!,IF($O$6=\"Coastal Plain\",'Forage Growth Curve Reference'!$A$41:$Q$72,IF($O$6=\"Piedmont\",'Forage Growth Curve Reference'!$A$4:$Q$35,'Forage Growth Curve Reference'!$A$4:$Q$35))),16,FALSE),\"\")","v":""},{"$f":"IF(AND(OR($J18<>\"\",$K18<>\"\"),$M18<>\"\"),$W18*VLOOKUP($D18,IF($O$6=\"Western Mountains\",'Forage Growth Curve Reference'!#REF!,IF($O$6=\"Coastal Plain\",'Forage Growth Curve Reference'!$A$41:$Q$72,IF($O$6=\"Piedmont\",'Forage Growth Curve Reference'!$A$4:$Q$35,'Forage Growth Curve Reference'!$A$4:$Q$35))),17,FALSE),\"\")","v":""}]
[null,null,19,{"$f":"IF(AND(OR($J19<>\"\",$K19<>\"\"),$M19<>\"\"),$W19*VLOOKUP($D19,IF($O$6=\"Western Mountains\",'Forage Growth Curve Reference'!#REF!,IF($O$6=\"Coastal Plain\",'Forage Growth Curve Reference'!$A$41:$Q$72,IF($O$6=\"Piedmont\",'Forage Growth Curve Reference'!$A$4:$Q$35,'Forage Growth Curve Reference'!$A$4:$Q$35))),6,FALSE),\"\")","v":""},{"$f":"IF(AND(OR($J19<>\"\",$K19<>\"\"),$M19<>\"\"),$W19*VLOOKUP($D19,IF($O$6=\"Western Mountains\",'Forage Growth Curve Reference'!#REF!,IF($O$6=\"Coastal Plain\",'Forage Growth Curve Reference'!$A$41:$Q$72,IF($O$6=\"Piedmont\",'Forage Growth Curve Reference'!$A$4:$Q$35,'Forage Growth Curve Reference'!$A$4:$Q$35))),7,FALSE),\"\")","v":""},{"$f":"IF(AND(OR($J19<>\"\",$K19<>\"\"),$M19<>\"\"),$W19*VLOOKUP($D19,IF($O$6=\"Western Mountains\",'Forage Growth Curve Reference'!#REF!,IF($O$6=\"Coastal Plain\",'Forage Growth Curve Reference'!$A$41:$Q$72,IF($O$6=\"Piedmont\",'Forage Growth Curve Reference'!$A$4:$Q$35,'Forage Growth Curve Reference'!$A$4:$Q$35))),8,FALSE),\"\")","v":""},{"$f":"IF(AND(OR($J19<>\"\",$K19<>\"\"),$M19<>\"\"),$W19*VLOOKUP($D19,IF($O$6=\"Western Mountains\",'Forage Growth Curve Reference'!#REF!,IF($O$6=\"Coastal Plain\",'Forage Growth Curve Reference'!$A$41:$Q$72,IF($O$6=\"Piedmont\",'Forage Growth Curve Reference'!$A$4:$Q$35,'Forage Growth Curve Reference'!$A$4:$Q$35))),9,FALSE),\"\")","v":""},{"$f":"IF(AND(OR($J19<>\"\",$K19<>\"\"),$M19<>\"\"),$W19*VLOOKUP($D19,IF($O$6=\"Western Mountains\",'Forage Growth Curve Reference'!#REF!,IF($O$6=\"Coastal Plain\",'Forage Growth Curve Reference'!$A$41:$Q$72,IF($O$6=\"Piedmont\",'Forage Growth Curve Reference'!$A$4:$Q$35,'Forage Growth Curve Reference'!$A$4:$Q$35))),10,FALSE),\"\")","v":""},{"$f":"IF(AND(OR($J19<>\"\",$K19<>\"\"),$M19<>\"\"),$W19*VLOOKUP($D19,IF($O$6=\"Western Mountains\",'Forage Growth Curve Reference'!#REF!,IF($O$6=\"Coastal Plain\",'Forage Growth Curve Reference'!$A$41:$Q$72,IF($O$6=\"Piedmont\",'Forage Growth Curve Reference'!$A$4:$Q$35,'Forage Growth Curve Reference'!$A$4:$Q$35))),11,FALSE),\"\")","v":""},{"$f":"IF(AND(OR($J19<>\"\",$K19<>\"\"),$M19<>\"\"),$W19*VLOOKUP($D19,IF($O$6=\"Western Mountains\",'Forage Growth Curve Reference'!#REF!,IF($O$6=\"Coastal Plain\",'Forage Growth Curve Reference'!$A$41:$Q$72,IF($O$6=\"Piedmont\",'Forage Growth Curve Reference'!$A$4:$Q$35,'Forage Growth Curve Reference'!$A$4:$Q$35))),12,FALSE),\"\")","v":""},{"$f":"IF(AND(OR($J19<>\"\",$K19<>\"\"),$M19<>\"\"),$W19*VLOOKUP($D19,IF($O$6=\"Western Mountains\",'Forage Growth Curve Reference'!#REF!,IF($O$6=\"Coastal Plain\",'Forage Growth Curve Reference'!$A$41:$Q$72,IF($O$6=\"Piedmont\",'Forage Growth Curve Reference'!$A$4:$Q$35,'Forage Growth Curve Reference'!$A$4:$Q$35))),13,FALSE),\"\")","v":""},{"$f":"IF(AND(OR($J19<>\"\",$K19<>\"\"),$M19<>\"\"),$W19*VLOOKUP($D19,IF($O$6=\"Western Mountains\",'Forage Growth Curve Reference'!#REF!,IF($O$6=\"Coastal Plain\",'Forage Growth Curve Reference'!$A$41:$Q$72,IF($O$6=\"Piedmont\",'Forage Growth Curve Reference'!$A$4:$Q$35,'Forage Growth Curve Reference'!$A$4:$Q$35))),14,FALSE),\"\")","v":""},{"$f":"IF(AND(OR($J19<>\"\",$K19<>\"\"),$M19<>\"\"),$W19*VLOOKUP($D19,IF($O$6=\"Western Mountains\",'Forage Growth Curve Reference'!#REF!,IF($O$6=\"Coastal Plain\",'Forage Growth Curve Reference'!$A$41:$Q$72,IF($O$6=\"Piedmont\",'Forage Growth Curve Reference'!$A$4:$Q$35,'Forage Growth Curve Reference'!$A$4:$Q$35))),15,FALSE),\"\")","v":""},{"$f":"IF(AND(OR($J19<>\"\",$K19<>\"\"),$M19<>\"\"),$W19*VLOOKUP($D19,IF($O$6=\"Western Mountains\",'Forage Growth Curve Reference'!#REF!,IF($O$6=\"Coastal Plain\",'Forage Growth Curve Reference'!$A$41:$Q$72,IF($O$6=\"Piedmont\",'Forage Growth Curve Reference'!$A$4:$Q$35,'Forage Growth Curve Reference'!$A$4:$Q$35))),16,FALSE),\"\")","v":""},{"$f":"IF(AND(OR($J19<>\"\",$K19<>\"\"),$M19<>\"\"),$W19*VLOOKUP($D19,IF($O$6=\"Western Mountains\",'Forage Growth Curve Reference'!#REF!,IF($O$6=\"Coastal Plain\",'Forage Growth Curve Reference'!$A$41:$Q$72,IF($O$6=\"Piedmont\",'Forage Growth Curve Reference'!$A$4:$Q$35,'Forage Growth Curve Reference'!$A$4:$Q$35))),17,FALSE),\"\")","v":""}]
[null,null,20,{"$f":"IF(AND(OR($J20<>\"\",$K20<>\"\"),$M20<>\"\"),$W20*VLOOKUP($D20,IF($O$6=\"Western Mountains\",'Forage Growth Curve Reference'!#REF!,IF($O$6=\"Coastal Plain\",'Forage Growth Curve Reference'!$A$41:$Q$72,IF($O$6=\"Piedmont\",'Forage Growth Curve Reference'!$A$4:$Q$35,'Forage Growth Curve Reference'!$A$4:$Q$35))),6,FALSE),\"\")","v":""},{"$f":"IF(AND(OR($J20<>\"\",$K20<>\"\"),$M20<>\"\"),$W20*VLOOKUP($D20,IF($O$6=\"Western Mountains\",'Forage Growth Curve Reference'!#REF!,IF($O$6=\"Coastal Plain\",'Forage Growth Curve Reference'!$A$41:$Q$72,IF($O$6=\"Piedmont\",'Forage Growth Curve Reference'!$A$4:$Q$35,'Forage Growth Curve Reference'!$A$4:$Q$35))),7,FALSE),\"\")","v":""},{"$f":"IF(AND(OR($J20<>\"\",$K20<>\"\"),$M20<>\"\"),$W20*VLOOKUP($D20,IF($O$6=\"Western Mountains\",'Forage Growth Curve Reference'!#REF!,IF($O$6=\"Coastal Plain\",'Forage Growth Curve Reference'!$A$41:$Q$72,IF($O$6=\"Piedmont\",'Forage Growth Curve Reference'!$A$4:$Q$35,'Forage Growth Curve Reference'!$A$4:$Q$35))),8,FALSE),\"\")","v":""},{"$f":"IF(AND(OR($J20<>\"\",$K20<>\"\"),$M20<>\"\"),$W20*VLOOKUP($D20,IF($O$6=\"Western Mountains\",'Forage Growth Curve Reference'!#REF!,IF($O$6=\"Coastal Plain\",'Forage Growth Curve Reference'!$A$41:$Q$72,IF($O$6=\"Piedmont\",'Forage Growth Curve Reference'!$A$4:$Q$35,'Forage Growth Curve Reference'!$A$4:$Q$35))),9,FALSE),\"\")","v":""},{"$f":"IF(AND(OR($J20<>\"\",$K20<>\"\"),$M20<>\"\"),$W20*VLOOKUP($D20,IF($O$6=\"Western Mountains\",'Forage Growth Curve Reference'!#REF!,IF($O$6=\"Coastal Plain\",'Forage Growth Curve Reference'!$A$41:$Q$72,IF($O$6=\"Piedmont\",'Forage Growth Curve Reference'!$A$4:$Q$35,'Forage Growth Curve Reference'!$A$4:$Q$35))),10,FALSE),\"\")","v":""},{"$f":"IF(AND(OR($J20<>\"\",$K20<>\"\"),$M20<>\"\"),$W20*VLOOKUP($D20,IF($O$6=\"Western Mountains\",'Forage Growth Curve Reference'!#REF!,IF($O$6=\"Coastal Plain\",'Forage Growth Curve Reference'!$A$41:$Q$72,IF($O$6=\"Piedmont\",'Forage Growth Curve Reference'!$A$4:$Q$35,'Forage Growth Curve Reference'!$A$4:$Q$35))),11,FALSE),\"\")","v":""},{"$f":"IF(AND(OR($J20<>\"\",$K20<>\"\"),$M20<>\"\"),$W20*VLOOKUP($D20,IF($O$6=\"Western Mountains\",'Forage Growth Curve Reference'!#REF!,IF($O$6=\"Coastal Plain\",'Forage Growth Curve Reference'!$A$41:$Q$72,IF($O$6=\"Piedmont\",'Forage Growth Curve Reference'!$A$4:$Q$35,'Forage Growth Curve Reference'!$A$4:$Q$35))),12,FALSE),\"\")","v":""},{"$f":"IF(AND(OR($J20<>\"\",$K20<>\"\"),$M20<>\"\"),$W20*VLOOKUP($D20,IF($O$6=\"Western Mountains\",'Forage Growth Curve Reference'!#REF!,IF($O$6=\"Coastal Plain\",'Forage Growth Curve Reference'!$A$41:$Q$72,IF($O$6=\"Piedmont\",'Forage Growth Curve Reference'!$A$4:$Q$35,'Forage Growth Curve Reference'!$A$4:$Q$35))),13,FALSE),\"\")","v":""},{"$f":"IF(AND(OR($J20<>\"\",$K20<>\"\"),$M20<>\"\"),$W20*VLOOKUP($D20,IF($O$6=\"Western Mountains\",'Forage Growth Curve Reference'!#REF!,IF($O$6=\"Coastal Plain\",'Forage Growth Curve Reference'!$A$41:$Q$72,IF($O$6=\"Piedmont\",'Forage Growth Curve Reference'!$A$4:$Q$35,'Forage Growth Curve Reference'!$A$4:$Q$35))),14,FALSE),\"\")","v":""},{"$f":"IF(AND(OR($J20<>\"\",$K20<>\"\"),$M20<>\"\"),$W20*VLOOKUP($D20,IF($O$6=\"Western Mountains\",'Forage Growth Curve Reference'!#REF!,IF($O$6=\"Coastal Plain\",'Forage Growth Curve Reference'!$A$41:$Q$72,IF($O$6=\"Piedmont\",'Forage Growth Curve Reference'!$A$4:$Q$35,'Forage Growth Curve Reference'!$A$4:$Q$35))),15,FALSE),\"\")","v":""},{"$f":"IF(AND(OR($J20<>\"\",$K20<>\"\"),$M20<>\"\"),$W20*VLOOKUP($D20,IF($O$6=\"Western Mountains\",'Forage Growth Curve Reference'!#REF!,IF($O$6=\"Coastal Plain\",'Forage Growth Curve Reference'!$A$41:$Q$72,IF($O$6=\"Piedmont\",'Forage Growth Curve Reference'!$A$4:$Q$35,'Forage Growth Curve Reference'!$A$4:$Q$35))),16,FALSE),\"\")","v":""},{"$f":"IF(AND(OR($J20<>\"\",$K20<>\"\"),$M20<>\"\"),$W20*VLOOKUP($D20,IF($O$6=\"Western Mountains\",'Forage Growth Curve Reference'!#REF!,IF($O$6=\"Coastal Plain\",'Forage Growth Curve Reference'!$A$41:$Q$72,IF($O$6=\"Piedmont\",'Forage Growth Curve Reference'!$A$4:$Q$35,'Forage Growth Curve Reference'!$A$4:$Q$35))),17,FALSE),\"\")","v":""}]
[null,null,21,{"$f":"IF(AND(OR($J21<>\"\",$K21<>\"\"),$M21<>\"\"),$W21*VLOOKUP($D21,IF($O$6=\"Western Mountains\",'Forage Growth Curve Reference'!#REF!,IF($O$6=\"Coastal Plain\",'Forage Growth Curve Reference'!$A$41:$Q$72,IF($O$6=\"Piedmont\",'Forage Growth Curve Reference'!$A$4:$Q$35,'Forage Growth Curve Reference'!$A$4:$Q$35))),6,FALSE),\"\")","v":""},{"$f":"IF(AND(OR($J21<>\"\",$K21<>\"\"),$M21<>\"\"),$W21*VLOOKUP($D21,IF($O$6=\"Western Mountains\",'Forage Growth Curve Reference'!#REF!,IF($O$6=\"Coastal Plain\",'Forage Growth Curve Reference'!$A$41:$Q$72,IF($O$6=\"Piedmont\",'Forage Growth Curve Reference'!$A$4:$Q$35,'Forage Growth Curve Reference'!$A$4:$Q$35))),7,FALSE),\"\")","v":""},{"$f":"IF(AND(OR($J21<>\"\",$K21<>\"\"),$M21<>\"\"),$W21*VLOOKUP($D21,IF($O$6=\"Western Mountains\",'Forage Growth Curve Reference'!#REF!,IF($O$6=\"Coastal Plain\",'Forage Growth Curve Reference'!$A$41:$Q$72,IF($O$6=\"Piedmont\",'Forage Growth Curve Reference'!$A$4:$Q$35,'Forage Growth Curve Reference'!$A$4:$Q$35))),8,FALSE),\"\")","v":""},{"$f":"IF(AND(OR($J21<>\"\",$K21<>\"\"),$M21<>\"\"),$W21*VLOOKUP($D21,IF($O$6=\"Western Mountains\",'Forage Growth Curve Reference'!#REF!,IF($O$6=\"Coastal Plain\",'Forage Growth Curve Reference'!$A$41:$Q$72,IF($O$6=\"Piedmont\",'Forage Growth Curve Reference'!$A$4:$Q$35,'Forage Growth Curve Reference'!$A$4:$Q$35))),9,FALSE),\"\")","v":""},{"$f":"IF(AND(OR($J21<>\"\",$K21<>\"\"),$M21<>\"\"),$W21*VLOOKUP($D21,IF($O$6=\"Western Mountains\",'Forage Growth Curve Reference'!#REF!,IF($O$6=\"Coastal Plain\",'Forage Growth Curve Reference'!$A$41:$Q$72,IF($O$6=\"Piedmont\",'Forage Growth Curve Reference'!$A$4:$Q$35,'Forage Growth Curve Reference'!$A$4:$Q$35))),10,FALSE),\"\")","v":""},{"$f":"IF(AND(OR($J21<>\"\",$K21<>\"\"),$M21<>\"\"),$W21*VLOOKUP($D21,IF($O$6=\"Western Mountains\",'Forage Growth Curve Reference'!#REF!,IF($O$6=\"Coastal Plain\",'Forage Growth Curve Reference'!$A$41:$Q$72,IF($O$6=\"Piedmont\",'Forage Growth Curve Reference'!$A$4:$Q$35,'Forage Growth Curve Reference'!$A$4:$Q$35))),11,FALSE),\"\")","v":""},{"$f":"IF(AND(OR($J21<>\"\",$K21<>\"\"),$M21<>\"\"),$W21*VLOOKUP($D21,IF($O$6=\"Western Mountains\",'Forage Growth Curve Reference'!#REF!,IF($O$6=\"Coastal Plain\",'Forage Growth Curve Reference'!$A$41:$Q$72,IF($O$6=\"Piedmont\",'Forage Growth Curve Reference'!$A$4:$Q$35,'Forage Growth Curve Reference'!$A$4:$Q$35))),12,FALSE),\"\")","v":""},{"$f":"IF(AND(OR($J21<>\"\",$K21<>\"\"),$M21<>\"\"),$W21*VLOOKUP($D21,IF($O$6=\"Western Mountains\",'Forage Growth Curve Reference'!#REF!,IF($O$6=\"Coastal Plain\",'Forage Growth Curve Reference'!$A$41:$Q$72,IF($O$6=\"Piedmont\",'Forage Growth Curve Reference'!$A$4:$Q$35,'Forage Growth Curve Reference'!$A$4:$Q$35))),13,FALSE),\"\")","v":""},{"$f":"IF(AND(OR($J21<>\"\",$K21<>\"\"),$M21<>\"\"),$W21*VLOOKUP($D21,IF($O$6=\"Western Mountains\",'Forage Growth Curve Reference'!#REF!,IF($O$6=\"Coastal Plain\",'Forage Growth Curve Reference'!$A$41:$Q$72,IF($O$6=\"Piedmont\",'Forage Growth Curve Reference'!$A$4:$Q$35,'Forage Growth Curve Reference'!$A$4:$Q$35))),14,FALSE),\"\")","v":""},{"$f":"IF(AND(OR($J21<>\"\",$K21<>\"\"),$M21<>\"\"),$W21*VLOOKUP($D21,IF($O$6=\"Western Mountains\",'Forage Growth Curve Reference'!#REF!,IF($O$6=\"Coastal Plain\",'Forage Growth Curve Reference'!$A$41:$Q$72,IF($O$6=\"Piedmont\",'Forage Growth Curve Reference'!$A$4:$Q$35,'Forage Growth Curve Reference'!$A$4:$Q$35))),15,FALSE),\"\")","v":""},{"$f":"IF(AND(OR($J21<>\"\",$K21<>\"\"),$M21<>\"\"),$W21*VLOOKUP($D21,IF($O$6=\"Western Mountains\",'Forage Growth Curve Reference'!#REF!,IF($O$6=\"Coastal Plain\",'Forage Growth Curve Reference'!$A$41:$Q$72,IF($O$6=\"Piedmont\",'Forage Growth Curve Reference'!$A$4:$Q$35,'Forage Growth Curve Reference'!$A$4:$Q$35))),16,FALSE),\"\")","v":""},{"$f":"IF(AND(OR($J21<>\"\",$K21<>\"\"),$M21<>\"\"),$W21*VLOOKUP($D21,IF($O$6=\"Western Mountains\",'Forage Growth Curve Reference'!#REF!,IF($O$6=\"Coastal Plain\",'Forage Growth Curve Reference'!$A$41:$Q$72,IF($O$6=\"Piedmont\",'Forage Growth Curve Reference'!$A$4:$Q$35,'Forage Growth Curve Reference'!$A$4:$Q$35))),17,FALSE),\"\")","v":""}]
[null,null,22,{"$f":"IF(AND(OR($J22<>\"\",$K22<>\"\"),$M22<>\"\"),$W22*VLOOKUP($D22,IF($O$6=\"Western Mountains\",'Forage Growth Curve Reference'!#REF!,IF($O$6=\"Coastal Plain\",'Forage Growth Curve Reference'!$A$41:$Q$72,IF($O$6=\"Piedmont\",'Forage Growth Curve Reference'!$A$4:$Q$35,'Forage Growth Curve Reference'!$A$4:$Q$35))),6,FALSE),\"\")","v":""},{"$f":"IF(AND(OR($J22<>\"\",$K22<>\"\"),$M22<>\"\"),$W22*VLOOKUP($D22,IF($O$6=\"Western Mountains\",'Forage Growth Curve Reference'!#REF!,IF($O$6=\"Coastal Plain\",'Forage Growth Curve Reference'!$A$41:$Q$72,IF($O$6=\"Piedmont\",'Forage Growth Curve Reference'!$A$4:$Q$35,'Forage Growth Curve Reference'!$A$4:$Q$35))),7,FALSE),\"\")","v":""},{"$f":"IF(AND(OR($J22<>\"\",$K22<>\"\"),$M22<>\"\"),$W22*VLOOKUP($D22,IF($O$6=\"Western Mountains\",'Forage Growth Curve Reference'!#REF!,IF($O$6=\"Coastal Plain\",'Forage Growth Curve Reference'!$A$41:$Q$72,IF($O$6=\"Piedmont\",'Forage Growth Curve Reference'!$A$4:$Q$35,'Forage Growth Curve Reference'!$A$4:$Q$35))),8,FALSE),\"\")","v":""},{"$f":"IF(AND(OR($J22<>\"\",$K22<>\"\"),$M22<>\"\"),$W22*VLOOKUP($D22,IF($O$6=\"Western Mountains\",'Forage Growth Curve Reference'!#REF!,IF($O$6=\"Coastal Plain\",'Forage Growth Curve Reference'!$A$41:$Q$72,IF($O$6=\"Piedmont\",'Forage Growth Curve Reference'!$A$4:$Q$35,'Forage Growth Curve Reference'!$A$4:$Q$35))),9,FALSE),\"\")","v":""},{"$f":"IF(AND(OR($J22<>\"\",$K22<>\"\"),$M22<>\"\"),$W22*VLOOKUP($D22,IF($O$6=\"Western Mountains\",'Forage Growth Curve Reference'!#REF!,IF($O$6=\"Coastal Plain\",'Forage Growth Curve Reference'!$A$41:$Q$72,IF($O$6=\"Piedmont\",'Forage Growth Curve Reference'!$A$4:$Q$35,'Forage Growth Curve Reference'!$A$4:$Q$35))),10,FALSE),\"\")","v":""},{"$f":"IF(AND(OR($J22<>\"\",$K22<>\"\"),$M22<>\"\"),$W22*VLOOKUP($D22,IF($O$6=\"Western Mountains\",'Forage Growth Curve Reference'!#REF!,IF($O$6=\"Coastal Plain\",'Forage Growth Curve Reference'!$A$41:$Q$72,IF($O$6=\"Piedmont\",'Forage Growth Curve Reference'!$A$4:$Q$35,'Forage Growth Curve Reference'!$A$4:$Q$35))),11,FALSE),\"\")","v":""},{"$f":"IF(AND(OR($J22<>\"\",$K22<>\"\"),$M22<>\"\"),$W22*VLOOKUP($D22,IF($O$6=\"Western Mountains\",'Forage Growth Curve Reference'!#REF!,IF($O$6=\"Coastal Plain\",'Forage Growth Curve Reference'!$A$41:$Q$72,IF($O$6=\"Piedmont\",'Forage Growth Curve Reference'!$A$4:$Q$35,'Forage Growth Curve Reference'!$A$4:$Q$35))),12,FALSE),\"\")","v":""},{"$f":"IF(AND(OR($J22<>\"\",$K22<>\"\"),$M22<>\"\"),$W22*VLOOKUP($D22,IF($O$6=\"Western Mountains\",'Forage Growth Curve Reference'!#REF!,IF($O$6=\"Coastal Plain\",'Forage Growth Curve Reference'!$A$41:$Q$72,IF($O$6=\"Piedmont\",'Forage Growth Curve Reference'!$A$4:$Q$35,'Forage Growth Curve Reference'!$A$4:$Q$35))),13,FALSE),\"\")","v":""},{"$f":"IF(AND(OR($J22<>\"\",$K22<>\"\"),$M22<>\"\"),$W22*VLOOKUP($D22,IF($O$6=\"Western Mountains\",'Forage Growth Curve Reference'!#REF!,IF($O$6=\"Coastal Plain\",'Forage Growth Curve Reference'!$A$41:$Q$72,IF($O$6=\"Piedmont\",'Forage Growth Curve Reference'!$A$4:$Q$35,'Forage Growth Curve Reference'!$A$4:$Q$35))),14,FALSE),\"\")","v":""},{"$f":"IF(AND(OR($J22<>\"\",$K22<>\"\"),$M22<>\"\"),$W22*VLOOKUP($D22,IF($O$6=\"Western Mountains\",'Forage Growth Curve Reference'!#REF!,IF($O$6=\"Coastal Plain\",'Forage Growth Curve Reference'!$A$41:$Q$72,IF($O$6=\"Piedmont\",'Forage Growth Curve Reference'!$A$4:$Q$35,'Forage Growth Curve Reference'!$A$4:$Q$35))),15,FALSE),\"\")","v":""},{"$f":"IF(AND(OR($J22<>\"\",$K22<>\"\"),$M22<>\"\"),$W22*VLOOKUP($D22,IF($O$6=\"Western Mountains\",'Forage Growth Curve Reference'!#REF!,IF($O$6=\"Coastal Plain\",'Forage Growth Curve Reference'!$A$41:$Q$72,IF($O$6=\"Piedmont\",'Forage Growth Curve Reference'!$A$4:$Q$35,'Forage Growth Curve Reference'!$A$4:$Q$35))),16,FALSE),\"\")","v":""},{"$f":"IF(AND(OR($J22<>\"\",$K22<>\"\"),$M22<>\"\"),$W22*VLOOKUP($D22,IF($O$6=\"Western Mountains\",'Forage Growth Curve Reference'!#REF!,IF($O$6=\"Coastal Plain\",'Forage Growth Curve Reference'!$A$41:$Q$72,IF($O$6=\"Piedmont\",'Forage Growth Curve Reference'!$A$4:$Q$35,'Forage Growth Curve Reference'!$A$4:$Q$35))),17,FALSE),\"\")","v":""}]
[null,null,23,{"$f":"IF(AND(OR($J23<>\"\",$K23<>\"\"),$M23<>\"\"),$W23*VLOOKUP($D23,IF($O$6=\"Western Mountains\",'Forage Growth Curve Reference'!#REF!,IF($O$6=\"Coastal Plain\",'Forage Growth Curve Reference'!$A$41:$Q$72,IF($O$6=\"Piedmont\",'Forage Growth Curve Reference'!$A$4:$Q$35,'Forage Growth Curve Reference'!$A$4:$Q$35))),6,FALSE),\"\")","v":""},{"$f":"IF(AND(OR($J23<>\"\",$K23<>\"\"),$M23<>\"\"),$W23*VLOOKUP($D23,IF($O$6=\"Western Mountains\",'Forage Growth Curve Reference'!#REF!,IF($O$6=\"Coastal Plain\",'Forage Growth Curve Reference'!$A$41:$Q$72,IF($O$6=\"Piedmont\",'Forage Growth Curve Reference'!$A$4:$Q$35,'Forage Growth Curve Reference'!$A$4:$Q$35))),7,FALSE),\"\")","v":""},{"$f":"IF(AND(OR($J23<>\"\",$K23<>\"\"),$M23<>\"\"),$W23*VLOOKUP($D23,IF($O$6=\"Western Mountains\",'Forage Growth Curve Reference'!#REF!,IF($O$6=\"Coastal Plain\",'Forage Growth Curve Reference'!$A$41:$Q$72,IF($O$6=\"Piedmont\",'Forage Growth Curve Reference'!$A$4:$Q$35,'Forage Growth Curve Reference'!$A$4:$Q$35))),8,FALSE),\"\")","v":""},{"$f":"IF(AND(OR($J23<>\"\",$K23<>\"\"),$M23<>\"\"),$W23*VLOOKUP($D23,IF($O$6=\"Western Mountains\",'Forage Growth Curve Reference'!#REF!,IF($O$6=\"Coastal Plain\",'Forage Growth Curve Reference'!$A$41:$Q$72,IF($O$6=\"Piedmont\",'Forage Growth Curve Reference'!$A$4:$Q$35,'Forage Growth Curve Reference'!$A$4:$Q$35))),9,FALSE),\"\")","v":""},{"$f":"IF(AND(OR($J23<>\"\",$K23<>\"\"),$M23<>\"\"),$W23*VLOOKUP($D23,IF($O$6=\"Western Mountains\",'Forage Growth Curve Reference'!#REF!,IF($O$6=\"Coastal Plain\",'Forage Growth Curve Reference'!$A$41:$Q$72,IF($O$6=\"Piedmont\",'Forage Growth Curve Reference'!$A$4:$Q$35,'Forage Growth Curve Reference'!$A$4:$Q$35))),10,FALSE),\"\")","v":""},{"$f":"IF(AND(OR($J23<>\"\",$K23<>\"\"),$M23<>\"\"),$W23*VLOOKUP($D23,IF($O$6=\"Western Mountains\",'Forage Growth Curve Reference'!#REF!,IF($O$6=\"Coastal Plain\",'Forage Growth Curve Reference'!$A$41:$Q$72,IF($O$6=\"Piedmont\",'Forage Growth Curve Reference'!$A$4:$Q$35,'Forage Growth Curve Reference'!$A$4:$Q$35))),11,FALSE),\"\")","v":""},{"$f":"IF(AND(OR($J23<>\"\",$K23<>\"\"),$M23<>\"\"),$W23*VLOOKUP($D23,IF($O$6=\"Western Mountains\",'Forage Growth Curve Reference'!#REF!,IF($O$6=\"Coastal Plain\",'Forage Growth Curve Reference'!$A$41:$Q$72,IF($O$6=\"Piedmont\",'Forage Growth Curve Reference'!$A$4:$Q$35,'Forage Growth Curve Reference'!$A$4:$Q$35))),12,FALSE),\"\")","v":""},{"$f":"IF(AND(OR($J23<>\"\",$K23<>\"\"),$M23<>\"\"),$W23*VLOOKUP($D23,IF($O$6=\"Western Mountains\",'Forage Growth Curve Reference'!#REF!,IF($O$6=\"Coastal Plain\",'Forage Growth Curve Reference'!$A$41:$Q$72,IF($O$6=\"Piedmont\",'Forage Growth Curve Reference'!$A$4:$Q$35,'Forage Growth Curve Reference'!$A$4:$Q$35))),13,FALSE),\"\")","v":""},{"$f":"IF(AND(OR($J23<>\"\",$K23<>\"\"),$M23<>\"\"),$W23*VLOOKUP($D23,IF($O$6=\"Western Mountains\",'Forage Growth Curve Reference'!#REF!,IF($O$6=\"Coastal Plain\",'Forage Growth Curve Reference'!$A$41:$Q$72,IF($O$6=\"Piedmont\",'Forage Growth Curve Reference'!$A$4:$Q$35,'Forage Growth Curve Reference'!$A$4:$Q$35))),14,FALSE),\"\")","v":""},{"$f":"IF(AND(OR($J23<>\"\",$K23<>\"\"),$M23<>\"\"),$W23*VLOOKUP($D23,IF($O$6=\"Western Mountains\",'Forage Growth Curve Reference'!#REF!,IF($O$6=\"Coastal Plain\",'Forage Growth Curve Reference'!$A$41:$Q$72,IF($O$6=\"Piedmont\",'Forage Growth Curve Reference'!$A$4:$Q$35,'Forage Growth Curve Reference'!$A$4:$Q$35))),15,FALSE),\"\")","v":""},{"$f":"IF(AND(OR($J23<>\"\",$K23<>\"\"),$M23<>\"\"),$W23*VLOOKUP($D23,IF($O$6=\"Western Mountains\",'Forage Growth Curve Reference'!#REF!,IF($O$6=\"Coastal Plain\",'Forage Growth Curve Reference'!$A$41:$Q$72,IF($O$6=\"Piedmont\",'Forage Growth Curve Reference'!$A$4:$Q$35,'Forage Growth Curve Reference'!$A$4:$Q$35))),16,FALSE),\"\")","v":""},{"$f":"IF(AND(OR($J23<>\"\",$K23<>\"\"),$M23<>\"\"),$W23*VLOOKUP($D23,IF($O$6=\"Western Mountains\",'Forage Growth Curve Reference'!#REF!,IF($O$6=\"Coastal Plain\",'Forage Growth Curve Reference'!$A$41:$Q$72,IF($O$6=\"Piedmont\",'Forage Growth Curve Reference'!$A$4:$Q$35,'Forage Growth Curve Reference'!$A$4:$Q$35))),17,FALSE),\"\")","v":""}]
[null,null,24,{"$f":"IF(AND(OR($J24<>\"\",$K24<>\"\"),$M24<>\"\"),$W24*VLOOKUP($D24,IF($O$6=\"Western Mountains\",'Forage Growth Curve Reference'!#REF!,IF($O$6=\"Coastal Plain\",'Forage Growth Curve Reference'!$A$41:$Q$72,IF($O$6=\"Piedmont\",'Forage Growth Curve Reference'!$A$4:$Q$35,'Forage Growth Curve Reference'!$A$4:$Q$35))),6,FALSE),\"\")","v":""},{"$f":"IF(AND(OR($J24<>\"\",$K24<>\"\"),$M24<>\"\"),$W24*VLOOKUP($D24,IF($O$6=\"Western Mountains\",'Forage Growth Curve Reference'!#REF!,IF($O$6=\"Coastal Plain\",'Forage Growth Curve Reference'!$A$41:$Q$72,IF($O$6=\"Piedmont\",'Forage Growth Curve Reference'!$A$4:$Q$35,'Forage Growth Curve Reference'!$A$4:$Q$35))),7,FALSE),\"\")","v":""},{"$f":"IF(AND(OR($J24<>\"\",$K24<>\"\"),$M24<>\"\"),$W24*VLOOKUP($D24,IF($O$6=\"Western Mountains\",'Forage Growth Curve Reference'!#REF!,IF($O$6=\"Coastal Plain\",'Forage Growth Curve Reference'!$A$41:$Q$72,IF($O$6=\"Piedmont\",'Forage Growth Curve Reference'!$A$4:$Q$35,'Forage Growth Curve Reference'!$A$4:$Q$35))),8,FALSE),\"\")","v":""},{"$f":"IF(AND(OR($J24<>\"\",$K24<>\"\"),$M24<>\"\"),$W24*VLOOKUP($D24,IF($O$6=\"Western Mountains\",'Forage Growth Curve Reference'!#REF!,IF($O$6=\"Coastal Plain\",'Forage Growth Curve Reference'!$A$41:$Q$72,IF($O$6=\"Piedmont\",'Forage Growth Curve Reference'!$A$4:$Q$35,'Forage Growth Curve Reference'!$A$4:$Q$35))),9,FALSE),\"\")","v":""},{"$f":"IF(AND(OR($J24<>\"\",$K24<>\"\"),$M24<>\"\"),$W24*VLOOKUP($D24,IF($O$6=\"Western Mountains\",'Forage Growth Curve Reference'!#REF!,IF($O$6=\"Coastal Plain\",'Forage Growth Curve Reference'!$A$41:$Q$72,IF($O$6=\"Piedmont\",'Forage Growth Curve Reference'!$A$4:$Q$35,'Forage Growth Curve Reference'!$A$4:$Q$35))),10,FALSE),\"\")","v":""},{"$f":"IF(AND(OR($J24<>\"\",$K24<>\"\"),$M24<>\"\"),$W24*VLOOKUP($D24,IF($O$6=\"Western Mountains\",'Forage Growth Curve Reference'!#REF!,IF($O$6=\"Coastal Plain\",'Forage Growth Curve Reference'!$A$41:$Q$72,IF($O$6=\"Piedmont\",'Forage Growth Curve Reference'!$A$4:$Q$35,'Forage Growth Curve Reference'!$A$4:$Q$35))),11,FALSE),\"\")","v":""},{"$f":"IF(AND(OR($J24<>\"\",$K24<>\"\"),$M24<>\"\"),$W24*VLOOKUP($D24,IF($O$6=\"Western Mountains\",'Forage Growth Curve Reference'!#REF!,IF($O$6=\"Coastal Plain\",'Forage Growth Curve Reference'!$A$41:$Q$72,IF($O$6=\"Piedmont\",'Forage Growth Curve Reference'!$A$4:$Q$35,'Forage Growth Curve Reference'!$A$4:$Q$35))),12,FALSE),\"\")","v":""},{"$f":"IF(AND(OR($J24<>\"\",$K24<>\"\"),$M24<>\"\"),$W24*VLOOKUP($D24,IF($O$6=\"Western Mountains\",'Forage Growth Curve Reference'!#REF!,IF($O$6=\"Coastal Plain\",'Forage Growth Curve Reference'!$A$41:$Q$72,IF($O$6=\"Piedmont\",'Forage Growth Curve Reference'!$A$4:$Q$35,'Forage Growth Curve Reference'!$A$4:$Q$35))),13,FALSE),\"\")","v":""},{"$f":"IF(AND(OR($J24<>\"\",$K24<>\"\"),$M24<>\"\"),$W24*VLOOKUP($D24,IF($O$6=\"Western Mountains\",'Forage Growth Curve Reference'!#REF!,IF($O$6=\"Coastal Plain\",'Forage Growth Curve Reference'!$A$41:$Q$72,IF($O$6=\"Piedmont\",'Forage Growth Curve Reference'!$A$4:$Q$35,'Forage Growth Curve Reference'!$A$4:$Q$35))),14,FALSE),\"\")","v":""},{"$f":"IF(AND(OR($J24<>\"\",$K24<>\"\"),$M24<>\"\"),$W24*VLOOKUP($D24,IF($O$6=\"Western Mountains\",'Forage Growth Curve Reference'!#REF!,IF($O$6=\"Coastal Plain\",'Forage Growth Curve Reference'!$A$41:$Q$72,IF($O$6=\"Piedmont\",'Forage Growth Curve Reference'!$A$4:$Q$35,'Forage Growth Curve Reference'!$A$4:$Q$35))),15,FALSE),\"\")","v":""},{"$f":"IF(AND(OR($J24<>\"\",$K24<>\"\"),$M24<>\"\"),$W24*VLOOKUP($D24,IF($O$6=\"Western Mountains\",'Forage Growth Curve Reference'!#REF!,IF($O$6=\"Coastal Plain\",'Forage Growth Curve Reference'!$A$41:$Q$72,IF($O$6=\"Piedmont\",'Forage Growth Curve Reference'!$A$4:$Q$35,'Forage Growth Curve Reference'!$A$4:$Q$35))),16,FALSE),\"\")","v":""},{"$f":"IF(AND(OR($J24<>\"\",$K24<>\"\"),$M24<>\"\"),$W24*VLOOKUP($D24,IF($O$6=\"Western Mountains\",'Forage Growth Curve Reference'!#REF!,IF($O$6=\"Coastal Plain\",'Forage Growth Curve Reference'!$A$41:$Q$72,IF($O$6=\"Piedmont\",'Forage Growth Curve Reference'!$A$4:$Q$35,'Forage Growth Curve Reference'!$A$4:$Q$35))),17,FALSE),\"\")","v":""}]
[null,null,25,{"$f":"IF(AND(OR($J25<>\"\",$K25<>\"\"),$M25<>\"\"),$W25*VLOOKUP($D25,IF($O$6=\"Western Mountains\",'Forage Growth Curve Reference'!#REF!,IF($O$6=\"Coastal Plain\",'Forage Growth Curve Reference'!$A$41:$Q$72,IF($O$6=\"Piedmont\",'Forage Growth Curve Reference'!$A$4:$Q$35,'Forage Growth Curve Reference'!$A$4:$Q$35))),6,FALSE),\"\")","v":""},{"$f":"IF(AND(OR($J25<>\"\",$K25<>\"\"),$M25<>\"\"),$W25*VLOOKUP($D25,IF($O$6=\"Western Mountains\",'Forage Growth Curve Reference'!#REF!,IF($O$6=\"Coastal Plain\",'Forage Growth Curve Reference'!$A$41:$Q$72,IF($O$6=\"Piedmont\",'Forage Growth Curve Reference'!$A$4:$Q$35,'Forage Growth Curve Reference'!$A$4:$Q$35))),7,FALSE),\"\")","v":""},{"$f":"IF(AND(OR($J25<>\"\",$K25<>\"\"),$M25<>\"\"),$W25*VLOOKUP($D25,IF($O$6=\"Western Mountains\",'Forage Growth Curve Reference'!#REF!,IF($O$6=\"Coastal Plain\",'Forage Growth Curve Reference'!$A$41:$Q$72,IF($O$6=\"Piedmont\",'Forage Growth Curve Reference'!$A$4:$Q$35,'Forage Growth Curve Reference'!$A$4:$Q$35))),8,FALSE),\"\")","v":""},{"$f":"IF(AND(OR($J25<>\"\",$K25<>\"\"),$M25<>\"\"),$W25*VLOOKUP($D25,IF($O$6=\"Western Mountains\",'Forage Growth Curve Reference'!#REF!,IF($O$6=\"Coastal Plain\",'Forage Growth Curve Reference'!$A$41:$Q$72,IF($O$6=\"Piedmont\",'Forage Growth Curve Reference'!$A$4:$Q$35,'Forage Growth Curve Reference'!$A$4:$Q$35))),9,FALSE),\"\")","v":""},{"$f":"IF(AND(OR($J25<>\"\",$K25<>\"\"),$M25<>\"\"),$W25*VLOOKUP($D25,IF($O$6=\"Western Mountains\",'Forage Growth Curve Reference'!#REF!,IF($O$6=\"Coastal Plain\",'Forage Growth Curve Reference'!$A$41:$Q$72,IF($O$6=\"Piedmont\",'Forage Growth Curve Reference'!$A$4:$Q$35,'Forage Growth Curve Reference'!$A$4:$Q$35))),10,FALSE),\"\")","v":""},{"$f":"IF(AND(OR($J25<>\"\",$K25<>\"\"),$M25<>\"\"),$W25*VLOOKUP($D25,IF($O$6=\"Western Mountains\",'Forage Growth Curve Reference'!#REF!,IF($O$6=\"Coastal Plain\",'Forage Growth Curve Reference'!$A$41:$Q$72,IF($O$6=\"Piedmont\",'Forage Growth Curve Reference'!$A$4:$Q$35,'Forage Growth Curve Reference'!$A$4:$Q$35))),11,FALSE),\"\")","v":""},{"$f":"IF(AND(OR($J25<>\"\",$K25<>\"\"),$M25<>\"\"),$W25*VLOOKUP($D25,IF($O$6=\"Western Mountains\",'Forage Growth Curve Reference'!#REF!,IF($O$6=\"Coastal Plain\",'Forage Growth Curve Reference'!$A$41:$Q$72,IF($O$6=\"Piedmont\",'Forage Growth Curve Reference'!$A$4:$Q$35,'Forage Growth Curve Reference'!$A$4:$Q$35))),12,FALSE),\"\")","v":""},{"$f":"IF(AND(OR($J25<>\"\",$K25<>\"\"),$M25<>\"\"),$W25*VLOOKUP($D25,IF($O$6=\"Western Mountains\",'Forage Growth Curve Reference'!#REF!,IF($O$6=\"Coastal Plain\",'Forage Growth Curve Reference'!$A$41:$Q$72,IF($O$6=\"Piedmont\",'Forage Growth Curve Reference'!$A$4:$Q$35,'Forage Growth Curve Reference'!$A$4:$Q$35))),13,FALSE),\"\")","v":""},{"$f":"IF(AND(OR($J25<>\"\",$K25<>\"\"),$M25<>\"\"),$W25*VLOOKUP($D25,IF($O$6=\"Western Mountains\",'Forage Growth Curve Reference'!#REF!,IF($O$6=\"Coastal Plain\",'Forage Growth Curve Reference'!$A$41:$Q$72,IF($O$6=\"Piedmont\",'Forage Growth Curve Reference'!$A$4:$Q$35,'Forage Growth Curve Reference'!$A$4:$Q$35))),14,FALSE),\"\")","v":""},{"$f":"IF(AND(OR($J25<>\"\",$K25<>\"\"),$M25<>\"\"),$W25*VLOOKUP($D25,IF($O$6=\"Western Mountains\",'Forage Growth Curve Reference'!#REF!,IF($O$6=\"Coastal Plain\",'Forage Growth Curve Reference'!$A$41:$Q$72,IF($O$6=\"Piedmont\",'Forage Growth Curve Reference'!$A$4:$Q$35,'Forage Growth Curve Reference'!$A$4:$Q$35))),15,FALSE),\"\")","v":""},{"$f":"IF(AND(OR($J25<>\"\",$K25<>\"\"),$M25<>\"\"),$W25*VLOOKUP($D25,IF($O$6=\"Western Mountains\",'Forage Growth Curve Reference'!#REF!,IF($O$6=\"Coastal Plain\",'Forage Growth Curve Reference'!$A$41:$Q$72,IF($O$6=\"Piedmont\",'Forage Growth Curve Reference'!$A$4:$Q$35,'Forage Growth Curve Reference'!$A$4:$Q$35))),16,FALSE),\"\")","v":""},{"$f":"IF(AND(OR($J25<>\"\",$K25<>\"\"),$M25<>\"\"),$W25*VLOOKUP($D25,IF($O$6=\"Western Mountains\",'Forage Growth Curve Reference'!#REF!,IF($O$6=\"Coastal Plain\",'Forage Growth Curve Reference'!$A$41:$Q$72,IF($O$6=\"Piedmont\",'Forage Growth Curve Reference'!$A$4:$Q$35,'Forage Growth Curve Reference'!$A$4:$Q$35))),17,FALSE),\"\")","v":""}]
[null,null,26,{"$f":"IF(AND(OR($J26<>\"\",$K26<>\"\"),$M26<>\"\"),$W26*VLOOKUP($D26,IF($O$6=\"Western Mountains\",'Forage Growth Curve Reference'!#REF!,IF($O$6=\"Coastal Plain\",'Forage Growth Curve Reference'!$A$41:$Q$72,IF($O$6=\"Piedmont\",'Forage Growth Curve Reference'!$A$4:$Q$35,'Forage Growth Curve Reference'!$A$4:$Q$35))),6,FALSE),\"\")","v":""},{"$f":"IF(AND(OR($J26<>\"\",$K26<>\"\"),$M26<>\"\"),$W26*VLOOKUP($D26,IF($O$6=\"Western Mountains\",'Forage Growth Curve Reference'!#REF!,IF($O$6=\"Coastal Plain\",'Forage Growth Curve Reference'!$A$41:$Q$72,IF($O$6=\"Piedmont\",'Forage Growth Curve Reference'!$A$4:$Q$35,'Forage Growth Curve Reference'!$A$4:$Q$35))),7,FALSE),\"\")","v":""},{"$f":"IF(AND(OR($J26<>\"\",$K26<>\"\"),$M26<>\"\"),$W26*VLOOKUP($D26,IF($O$6=\"Western Mountains\",'Forage Growth Curve Reference'!#REF!,IF($O$6=\"Coastal Plain\",'Forage Growth Curve Reference'!$A$41:$Q$72,IF($O$6=\"Piedmont\",'Forage Growth Curve Reference'!$A$4:$Q$35,'Forage Growth Curve Reference'!$A$4:$Q$35))),8,FALSE),\"\")","v":""},{"$f":"IF(AND(OR($J26<>\"\",$K26<>\"\"),$M26<>\"\"),$W26*VLOOKUP($D26,IF($O$6=\"Western Mountains\",'Forage Growth Curve Reference'!#REF!,IF($O$6=\"Coastal Plain\",'Forage Growth Curve Reference'!$A$41:$Q$72,IF($O$6=\"Piedmont\",'Forage Growth Curve Reference'!$A$4:$Q$35,'Forage Growth Curve Reference'!$A$4:$Q$35))),9,FALSE),\"\")","v":""},{"$f":"IF(AND(OR($J26<>\"\",$K26<>\"\"),$M26<>\"\"),$W26*VLOOKUP($D26,IF($O$6=\"Western Mountains\",'Forage Growth Curve Reference'!#REF!,IF($O$6=\"Coastal Plain\",'Forage Growth Curve Reference'!$A$41:$Q$72,IF($O$6=\"Piedmont\",'Forage Growth Curve Reference'!$A$4:$Q$35,'Forage Growth Curve Reference'!$A$4:$Q$35))),10,FALSE),\"\")","v":""},{"$f":"IF(AND(OR($J26<>\"\",$K26<>\"\"),$M26<>\"\"),$W26*VLOOKUP($D26,IF($O$6=\"Western Mountains\",'Forage Growth Curve Reference'!#REF!,IF($O$6=\"Coastal Plain\",'Forage Growth Curve Reference'!$A$41:$Q$72,IF($O$6=\"Piedmont\",'Forage Growth Curve Reference'!$A$4:$Q$35,'Forage Growth Curve Reference'!$A$4:$Q$35))),11,FALSE),\"\")","v":""},{"$f":"IF(AND(OR($J26<>\"\",$K26<>\"\"),$M26<>\"\"),$W26*VLOOKUP($D26,IF($O$6=\"Western Mountains\",'Forage Growth Curve Reference'!#REF!,IF($O$6=\"Coastal Plain\",'Forage Growth Curve Reference'!$A$41:$Q$72,IF($O$6=\"Piedmont\",'Forage Growth Curve Reference'!$A$4:$Q$35,'Forage Growth Curve Reference'!$A$4:$Q$35))),12,FALSE),\"\")","v":""},{"$f":"IF(AND(OR($J26<>\"\",$K26<>\"\"),$M26<>\"\"),$W26*VLOOKUP($D26,IF($O$6=\"Western Mountains\",'Forage Growth Curve Reference'!#REF!,IF($O$6=\"Coastal Plain\",'Forage Growth Curve Reference'!$A$41:$Q$72,IF($O$6=\"Piedmont\",'Forage Growth Curve Reference'!$A$4:$Q$35,'Forage Growth Curve Reference'!$A$4:$Q$35))),13,FALSE),\"\")","v":""},{"$f":"IF(AND(OR($J26<>\"\",$K26<>\"\"),$M26<>\"\"),$W26*VLOOKUP($D26,IF($O$6=\"Western Mountains\",'Forage Growth Curve Reference'!#REF!,IF($O$6=\"Coastal Plain\",'Forage Growth Curve Reference'!$A$41:$Q$72,IF($O$6=\"Piedmont\",'Forage Growth Curve Reference'!$A$4:$Q$35,'Forage Growth Curve Reference'!$A$4:$Q$35))),14,FALSE),\"\")","v":""},{"$f":"IF(AND(OR($J26<>\"\",$K26<>\"\"),$M26<>\"\"),$W26*VLOOKUP($D26,IF($O$6=\"Western Mountains\",'Forage Growth Curve Reference'!#REF!,IF($O$6=\"Coastal Plain\",'Forage Growth Curve Reference'!$A$41:$Q$72,IF($O$6=\"Piedmont\",'Forage Growth Curve Reference'!$A$4:$Q$35,'Forage Growth Curve Reference'!$A$4:$Q$35))),15,FALSE),\"\")","v":""},{"$f":"IF(AND(OR($J26<>\"\",$K26<>\"\"),$M26<>\"\"),$W26*VLOOKUP($D26,IF($O$6=\"Western Mountains\",'Forage Growth Curve Reference'!#REF!,IF($O$6=\"Coastal Plain\",'Forage Growth Curve Reference'!$A$41:$Q$72,IF($O$6=\"Piedmont\",'Forage Growth Curve Reference'!$A$4:$Q$35,'Forage Growth Curve Reference'!$A$4:$Q$35))),16,FALSE),\"\")","v":""},{"$f":"IF(AND(OR($J26<>\"\",$K26<>\"\"),$M26<>\"\"),$W26*VLOOKUP($D26,IF($O$6=\"Western Mountains\",'Forage Growth Curve Reference'!#REF!,IF($O$6=\"Coastal Plain\",'Forage Growth Curve Reference'!$A$41:$Q$72,IF($O$6=\"Piedmont\",'Forage Growth Curve Reference'!$A$4:$Q$35,'Forage Growth Curve Reference'!$A$4:$Q$35))),17,FALSE),\"\")","v":""}]
[null,null,27,{"$f":"IF(AND(OR($J27<>\"\",$K27<>\"\"),$M27<>\"\"),$W27*VLOOKUP($D27,IF($O$6=\"Western Mountains\",'Forage Growth Curve Reference'!#REF!,IF($O$6=\"Coastal Plain\",'Forage Growth Curve Reference'!$A$41:$Q$72,IF($O$6=\"Piedmont\",'Forage Growth Curve Reference'!$A$4:$Q$35,'Forage Growth Curve Reference'!$A$4:$Q$35))),6,FALSE),\"\")","v":""},{"$f":"IF(AND(OR($J27<>\"\",$K27<>\"\"),$M27<>\"\"),$W27*VLOOKUP($D27,IF($O$6=\"Western Mountains\",'Forage Growth Curve Reference'!#REF!,IF($O$6=\"Coastal Plain\",'Forage Growth Curve Reference'!$A$41:$Q$72,IF($O$6=\"Piedmont\",'Forage Growth Curve Reference'!$A$4:$Q$35,'Forage Growth Curve Reference'!$A$4:$Q$35))),7,FALSE),\"\")","v":""},{"$f":"IF(AND(OR($J27<>\"\",$K27<>\"\"),$M27<>\"\"),$W27*VLOOKUP($D27,IF($O$6=\"Western Mountains\",'Forage Growth Curve Reference'!#REF!,IF($O$6=\"Coastal Plain\",'Forage Growth Curve Reference'!$A$41:$Q$72,IF($O$6=\"Piedmont\",'Forage Growth Curve Reference'!$A$4:$Q$35,'Forage Growth Curve Reference'!$A$4:$Q$35))),8,FALSE),\"\")","v":""},{"$f":"IF(AND(OR($J27<>\"\",$K27<>\"\"),$M27<>\"\"),$W27*VLOOKUP($D27,IF($O$6=\"Western Mountains\",'Forage Growth Curve Reference'!#REF!,IF($O$6=\"Coastal Plain\",'Forage Growth Curve Reference'!$A$41:$Q$72,IF($O$6=\"Piedmont\",'Forage Growth Curve Reference'!$A$4:$Q$35,'Forage Growth Curve Reference'!$A$4:$Q$35))),9,FALSE),\"\")","v":""},{"$f":"IF(AND(OR($J27<>\"\",$K27<>\"\"),$M27<>\"\"),$W27*VLOOKUP($D27,IF($O$6=\"Western Mountains\",'Forage Growth Curve Reference'!#REF!,IF($O$6=\"Coastal Plain\",'Forage Growth Curve Reference'!$A$41:$Q$72,IF($O$6=\"Piedmont\",'Forage Growth Curve Reference'!$A$4:$Q$35,'Forage Growth Curve Reference'!$A$4:$Q$35))),10,FALSE),\"\")","v":""},{"$f":"IF(AND(OR($J27<>\"\",$K27<>\"\"),$M27<>\"\"),$W27*VLOOKUP($D27,IF($O$6=\"Western Mountains\",'Forage Growth Curve Reference'!#REF!,IF($O$6=\"Coastal Plain\",'Forage Growth Curve Reference'!$A$41:$Q$72,IF($O$6=\"Piedmont\",'Forage Growth Curve Reference'!$A$4:$Q$35,'Forage Growth Curve Reference'!$A$4:$Q$35))),11,FALSE),\"\")","v":""},{"$f":"IF(AND(OR($J27<>\"\",$K27<>\"\"),$M27<>\"\"),$W27*VLOOKUP($D27,IF($O$6=\"Western Mountains\",'Forage Growth Curve Reference'!#REF!,IF($O$6=\"Coastal Plain\",'Forage Growth Curve Reference'!$A$41:$Q$72,IF($O$6=\"Piedmont\",'Forage Growth Curve Reference'!$A$4:$Q$35,'Forage Growth Curve Reference'!$A$4:$Q$35))),12,FALSE),\"\")","v":""},{"$f":"IF(AND(OR($J27<>\"\",$K27<>\"\"),$M27<>\"\"),$W27*VLOOKUP($D27,IF($O$6=\"Western Mountains\",'Forage Growth Curve Reference'!#REF!,IF($O$6=\"Coastal Plain\",'Forage Growth Curve Reference'!$A$41:$Q$72,IF($O$6=\"Piedmont\",'Forage Growth Curve Reference'!$A$4:$Q$35,'Forage Growth Curve Reference'!$A$4:$Q$35))),13,FALSE),\"\")","v":""},{"$f":"IF(AND(OR($J27<>\"\",$K27<>\"\"),$M27<>\"\"),$W27*VLOOKUP($D27,IF($O$6=\"Western Mountains\",'Forage Growth Curve Reference'!#REF!,IF($O$6=\"Coastal Plain\",'Forage Growth Curve Reference'!$A$41:$Q$72,IF($O$6=\"Piedmont\",'Forage Growth Curve Reference'!$A$4:$Q$35,'Forage Growth Curve Reference'!$A$4:$Q$35))),14,FALSE),\"\")","v":""},{"$f":"IF(AND(OR($J27<>\"\",$K27<>\"\"),$M27<>\"\"),$W27*VLOOKUP($D27,IF($O$6=\"Western Mountains\",'Forage Growth Curve Reference'!#REF!,IF($O$6=\"Coastal Plain\",'Forage Growth Curve Reference'!$A$41:$Q$72,IF($O$6=\"Piedmont\",'Forage Growth Curve Reference'!$A$4:$Q$35,'Forage Growth Curve Reference'!$A$4:$Q$35))),15,FALSE),\"\")","v":""},{"$f":"IF(AND(OR($J27<>\"\",$K27<>\"\"),$M27<>\"\"),$W27*VLOOKUP($D27,IF($O$6=\"Western Mountains\",'Forage Growth Curve Reference'!#REF!,IF($O$6=\"Coastal Plain\",'Forage Growth Curve Reference'!$A$41:$Q$72,IF($O$6=\"Piedmont\",'Forage Growth Curve Reference'!$A$4:$Q$35,'Forage Growth Curve Reference'!$A$4:$Q$35))),16,FALSE),\"\")","v":""},{"$f":"IF(AND(OR($J27<>\"\",$K27<>\"\"),$M27<>\"\"),$W27*VLOOKUP($D27,IF($O$6=\"Western Mountains\",'Forage Growth Curve Reference'!#REF!,IF($O$6=\"Coastal Plain\",'Forage Growth Curve Reference'!$A$41:$Q$72,IF($O$6=\"Piedmont\",'Forage Growth Curve Reference'!$A$4:$Q$35,'Forage Growth Curve Reference'!$A$4:$Q$35))),17,FALSE),\"\")","v":""}]
[null,null,28,{"$f":"IF(AND(OR($J28<>\"\",$K28<>\"\"),$M28<>\"\"),$W28*VLOOKUP($D28,IF($O$6=\"Western Mountains\",'Forage Growth Curve Reference'!#REF!,IF($O$6=\"Coastal Plain\",'Forage Growth Curve Reference'!$A$41:$Q$72,IF($O$6=\"Piedmont\",'Forage Growth Curve Reference'!$A$4:$Q$35,'Forage Growth Curve Reference'!$A$4:$Q$35))),6,FALSE),\"\")","v":""},{"$f":"IF(AND(OR($J28<>\"\",$K28<>\"\"),$M28<>\"\"),$W28*VLOOKUP($D28,IF($O$6=\"Western Mountains\",'Forage Growth Curve Reference'!#REF!,IF($O$6=\"Coastal Plain\",'Forage Growth Curve Reference'!$A$41:$Q$72,IF($O$6=\"Piedmont\",'Forage Growth Curve Reference'!$A$4:$Q$35,'Forage Growth Curve Reference'!$A$4:$Q$35))),7,FALSE),\"\")","v":""},{"$f":"IF(AND(OR($J28<>\"\",$K28<>\"\"),$M28<>\"\"),$W28*VLOOKUP($D28,IF($O$6=\"Western Mountains\",'Forage Growth Curve Reference'!#REF!,IF($O$6=\"Coastal Plain\",'Forage Growth Curve Reference'!$A$41:$Q$72,IF($O$6=\"Piedmont\",'Forage Growth Curve Reference'!$A$4:$Q$35,'Forage Growth Curve Reference'!$A$4:$Q$35))),8,FALSE),\"\")","v":""},{"$f":"IF(AND(OR($J28<>\"\",$K28<>\"\"),$M28<>\"\"),$W28*VLOOKUP($D28,IF($O$6=\"Western Mountains\",'Forage Growth Curve Reference'!#REF!,IF($O$6=\"Coastal Plain\",'Forage Growth Curve Reference'!$A$41:$Q$72,IF($O$6=\"Piedmont\",'Forage Growth Curve Reference'!$A$4:$Q$35,'Forage Growth Curve Reference'!$A$4:$Q$35))),9,FALSE),\"\")","v":""},{"$f":"IF(AND(OR($J28<>\"\",$K28<>\"\"),$M28<>\"\"),$W28*VLOOKUP($D28,IF($O$6=\"Western Mountains\",'Forage Growth Curve Reference'!#REF!,IF($O$6=\"Coastal Plain\",'Forage Growth Curve Reference'!$A$41:$Q$72,IF($O$6=\"Piedmont\",'Forage Growth Curve Reference'!$A$4:$Q$35,'Forage Growth Curve Reference'!$A$4:$Q$35))),10,FALSE),\"\")","v":""},{"$f":"IF(AND(OR($J28<>\"\",$K28<>\"\"),$M28<>\"\"),$W28*VLOOKUP($D28,IF($O$6=\"Western Mountains\",'Forage Growth Curve Reference'!#REF!,IF($O$6=\"Coastal Plain\",'Forage Growth Curve Reference'!$A$41:$Q$72,IF($O$6=\"Piedmont\",'Forage Growth Curve Reference'!$A$4:$Q$35,'Forage Growth Curve Reference'!$A$4:$Q$35))),11,FALSE),\"\")","v":""},{"$f":"IF(AND(OR($J28<>\"\",$K28<>\"\"),$M28<>\"\"),$W28*VLOOKUP($D28,IF($O$6=\"Western Mountains\",'Forage Growth Curve Reference'!#REF!,IF($O$6=\"Coastal Plain\",'Forage Growth Curve Reference'!$A$41:$Q$72,IF($O$6=\"Piedmont\",'Forage Growth Curve Reference'!$A$4:$Q$35,'Forage Growth Curve Reference'!$A$4:$Q$35))),12,FALSE),\"\")","v":""},{"$f":"IF(AND(OR($J28<>\"\",$K28<>\"\"),$M28<>\"\"),$W28*VLOOKUP($D28,IF($O$6=\"Western Mountains\",'Forage Growth Curve Reference'!#REF!,IF($O$6=\"Coastal Plain\",'Forage Growth Curve Reference'!$A$41:$Q$72,IF($O$6=\"Piedmont\",'Forage Growth Curve Reference'!$A$4:$Q$35,'Forage Growth Curve Reference'!$A$4:$Q$35))),13,FALSE),\"\")","v":""},{"$f":"IF(AND(OR($J28<>\"\",$K28<>\"\"),$M28<>\"\"),$W28*VLOOKUP($D28,IF($O$6=\"Western Mountains\",'Forage Growth Curve Reference'!#REF!,IF($O$6=\"Coastal Plain\",'Forage Growth Curve Reference'!$A$41:$Q$72,IF($O$6=\"Piedmont\",'Forage Growth Curve Reference'!$A$4:$Q$35,'Forage Growth Curve Reference'!$A$4:$Q$35))),14,FALSE),\"\")","v":""},{"$f":"IF(AND(OR($J28<>\"\",$K28<>\"\"),$M28<>\"\"),$W28*VLOOKUP($D28,IF($O$6=\"Western Mountains\",'Forage Growth Curve Reference'!#REF!,IF($O$6=\"Coastal Plain\",'Forage Growth Curve Reference'!$A$41:$Q$72,IF($O$6=\"Piedmont\",'Forage Growth Curve Reference'!$A$4:$Q$35,'Forage Growth Curve Reference'!$A$4:$Q$35))),15,FALSE),\"\")","v":""},{"$f":"IF(AND(OR($J28<>\"\",$K28<>\"\"),$M28<>\"\"),$W28*VLOOKUP($D28,IF($O$6=\"Western Mountains\",'Forage Growth Curve Reference'!#REF!,IF($O$6=\"Coastal Plain\",'Forage Growth Curve Reference'!$A$41:$Q$72,IF($O$6=\"Piedmont\",'Forage Growth Curve Reference'!$A$4:$Q$35,'Forage Growth Curve Reference'!$A$4:$Q$35))),16,FALSE),\"\")","v":""},{"$f":"IF(AND(OR($J28<>\"\",$K28<>\"\"),$M28<>\"\"),$W28*VLOOKUP($D28,IF($O$6=\"Western Mountains\",'Forage Growth Curve Reference'!#REF!,IF($O$6=\"Coastal Plain\",'Forage Growth Curve Reference'!$A$41:$Q$72,IF($O$6=\"Piedmont\",'Forage Growth Curve Reference'!$A$4:$Q$35,'Forage Growth Curve Reference'!$A$4:$Q$35))),17,FALSE),\"\")","v":""}]
[null,null,29,{"$f":"IF(AND(OR($J29<>\"\",$K29<>\"\"),$M29<>\"\"),$W29*VLOOKUP($D29,IF($O$6=\"Western Mountains\",'Forage Growth Curve Reference'!#REF!,IF($O$6=\"Coastal Plain\",'Forage Growth Curve Reference'!$A$41:$Q$72,IF($O$6=\"Piedmont\",'Forage Growth Curve Reference'!$A$4:$Q$35,'Forage Growth Curve Reference'!$A$4:$Q$35))),6,FALSE),\"\")","v":""},{"$f":"IF(AND(OR($J29<>\"\",$K29<>\"\"),$M29<>\"\"),$W29*VLOOKUP($D29,IF($O$6=\"Western Mountains\",'Forage Growth Curve Reference'!#REF!,IF($O$6=\"Coastal Plain\",'Forage Growth Curve Reference'!$A$41:$Q$72,IF($O$6=\"Piedmont\",'Forage Growth Curve Reference'!$A$4:$Q$35,'Forage Growth Curve Reference'!$A$4:$Q$35))),7,FALSE),\"\")","v":""},{"$f":"IF(AND(OR($J29<>\"\",$K29<>\"\"),$M29<>\"\"),$W29*VLOOKUP($D29,IF($O$6=\"Western Mountains\",'Forage Growth Curve Reference'!#REF!,IF($O$6=\"Coastal Plain\",'Forage Growth Curve Reference'!$A$41:$Q$72,IF($O$6=\"Piedmont\",'Forage Growth Curve Reference'!$A$4:$Q$35,'Forage Growth Curve Reference'!$A$4:$Q$35))),8,FALSE),\"\")","v":""},{"$f":"IF(AND(OR($J29<>\"\",$K29<>\"\"),$M29<>\"\"),$W29*VLOOKUP($D29,IF($O$6=\"Western Mountains\",'Forage Growth Curve Reference'!#REF!,IF($O$6=\"Coastal Plain\",'Forage Growth Curve Reference'!$A$41:$Q$72,IF($O$6=\"Piedmont\",'Forage Growth Curve Reference'!$A$4:$Q$35,'Forage Growth Curve Reference'!$A$4:$Q$35))),9,FALSE),\"\")","v":""},{"$f":"IF(AND(OR($J29<>\"\",$K29<>\"\"),$M29<>\"\"),$W29*VLOOKUP($D29,IF($O$6=\"Western Mountains\",'Forage Growth Curve Reference'!#REF!,IF($O$6=\"Coastal Plain\",'Forage Growth Curve Reference'!$A$41:$Q$72,IF($O$6=\"Piedmont\",'Forage Growth Curve Reference'!$A$4:$Q$35,'Forage Growth Curve Reference'!$A$4:$Q$35))),10,FALSE),\"\")","v":""},{"$f":"IF(AND(OR($J29<>\"\",$K29<>\"\"),$M29<>\"\"),$W29*VLOOKUP($D29,IF($O$6=\"Western Mountains\",'Forage Growth Curve Reference'!#REF!,IF($O$6=\"Coastal Plain\",'Forage Growth Curve Reference'!$A$41:$Q$72,IF($O$6=\"Piedmont\",'Forage Growth Curve Reference'!$A$4:$Q$35,'Forage Growth Curve Reference'!$A$4:$Q$35))),11,FALSE),\"\")","v":""},{"$f":"IF(AND(OR($J29<>\"\",$K29<>\"\"),$M29<>\"\"),$W29*VLOOKUP($D29,IF($O$6=\"Western Mountains\",'Forage Growth Curve Reference'!#REF!,IF($O$6=\"Coastal Plain\",'Forage Growth Curve Reference'!$A$41:$Q$72,IF($O$6=\"Piedmont\",'Forage Growth Curve Reference'!$A$4:$Q$35,'Forage Growth Curve Reference'!$A$4:$Q$35))),12,FALSE),\"\")","v":""},{"$f":"IF(AND(OR($J29<>\"\",$K29<>\"\"),$M29<>\"\"),$W29*VLOOKUP($D29,IF($O$6=\"Western Mountains\",'Forage Growth Curve Reference'!#REF!,IF($O$6=\"Coastal Plain\",'Forage Growth Curve Reference'!$A$41:$Q$72,IF($O$6=\"Piedmont\",'Forage Growth Curve Reference'!$A$4:$Q$35,'Forage Growth Curve Reference'!$A$4:$Q$35))),13,FALSE),\"\")","v":""},{"$f":"IF(AND(OR($J29<>\"\",$K29<>\"\"),$M29<>\"\"),$W29*VLOOKUP($D29,IF($O$6=\"Western Mountains\",'Forage Growth Curve Reference'!#REF!,IF($O$6=\"Coastal Plain\",'Forage Growth Curve Reference'!$A$41:$Q$72,IF($O$6=\"Piedmont\",'Forage Growth Curve Reference'!$A$4:$Q$35,'Forage Growth Curve Reference'!$A$4:$Q$35))),14,FALSE),\"\")","v":""},{"$f":"IF(AND(OR($J29<>\"\",$K29<>\"\"),$M29<>\"\"),$W29*VLOOKUP($D29,IF($O$6=\"Western Mountains\",'Forage Growth Curve Reference'!#REF!,IF($O$6=\"Coastal Plain\",'Forage Growth Curve Reference'!$A$41:$Q$72,IF($O$6=\"Piedmont\",'Forage Growth Curve Reference'!$A$4:$Q$35,'Forage Growth Curve Reference'!$A$4:$Q$35))),15,FALSE),\"\")","v":""},{"$f":"IF(AND(OR($J29<>\"\",$K29<>\"\"),$M29<>\"\"),$W29*VLOOKUP($D29,IF($O$6=\"Western Mountains\",'Forage Growth Curve Reference'!#REF!,IF($O$6=\"Coastal Plain\",'Forage Growth Curve Reference'!$A$41:$Q$72,IF($O$6=\"Piedmont\",'Forage Growth Curve Reference'!$A$4:$Q$35,'Forage Growth Curve Reference'!$A$4:$Q$35))),16,FALSE),\"\")","v":""},{"$f":"IF(AND(OR($J29<>\"\",$K29<>\"\"),$M29<>\"\"),$W29*VLOOKUP($D29,IF($O$6=\"Western Mountains\",'Forage Growth Curve Reference'!#REF!,IF($O$6=\"Coastal Plain\",'Forage Growth Curve Reference'!$A$41:$Q$72,IF($O$6=\"Piedmont\",'Forage Growth Curve Reference'!$A$4:$Q$35,'Forage Growth Curve Reference'!$A$4:$Q$35))),17,FALSE),\"\")","v":""}]
[null,null,30,{"$f":"IF(AND(OR($J30<>\"\",$K30<>\"\"),$M30<>\"\"),$W30*VLOOKUP($D30,IF($O$6=\"Western Mountains\",'Forage Growth Curve Reference'!#REF!,IF($O$6=\"Coastal Plain\",'Forage Growth Curve Reference'!$A$41:$Q$72,IF($O$6=\"Piedmont\",'Forage Growth Curve Reference'!$A$4:$Q$35,'Forage Growth Curve Reference'!$A$4:$Q$35))),6,FALSE),\"\")","v":""},{"$f":"IF(AND(OR($J30<>\"\",$K30<>\"\"),$M30<>\"\"),$W30*VLOOKUP($D30,IF($O$6=\"Western Mountains\",'Forage Growth Curve Reference'!#REF!,IF($O$6=\"Coastal Plain\",'Forage Growth Curve Reference'!$A$41:$Q$72,IF($O$6=\"Piedmont\",'Forage Growth Curve Reference'!$A$4:$Q$35,'Forage Growth Curve Reference'!$A$4:$Q$35))),7,FALSE),\"\")","v":""},{"$f":"IF(AND(OR($J30<>\"\",$K30<>\"\"),$M30<>\"\"),$W30*VLOOKUP($D30,IF($O$6=\"Western Mountains\",'Forage Growth Curve Reference'!#REF!,IF($O$6=\"Coastal Plain\",'Forage Growth Curve Reference'!$A$41:$Q$72,IF($O$6=\"Piedmont\",'Forage Growth Curve Reference'!$A$4:$Q$35,'Forage Growth Curve Reference'!$A$4:$Q$35))),8,FALSE),\"\")","v":""},{"$f":"IF(AND(OR($J30<>\"\",$K30<>\"\"),$M30<>\"\"),$W30*VLOOKUP($D30,IF($O$6=\"Western Mountains\",'Forage Growth Curve Reference'!#REF!,IF($O$6=\"Coastal Plain\",'Forage Growth Curve Reference'!$A$41:$Q$72,IF($O$6=\"Piedmont\",'Forage Growth Curve Reference'!$A$4:$Q$35,'Forage Growth Curve Reference'!$A$4:$Q$35))),9,FALSE),\"\")","v":""},{"$f":"IF(AND(OR($J30<>\"\",$K30<>\"\"),$M30<>\"\"),$W30*VLOOKUP($D30,IF($O$6=\"Western Mountains\",'Forage Growth Curve Reference'!#REF!,IF($O$6=\"Coastal Plain\",'Forage Growth Curve Reference'!$A$41:$Q$72,IF($O$6=\"Piedmont\",'Forage Growth Curve Reference'!$A$4:$Q$35,'Forage Growth Curve Reference'!$A$4:$Q$35))),10,FALSE),\"\")","v":""},{"$f":"IF(AND(OR($J30<>\"\",$K30<>\"\"),$M30<>\"\"),$W30*VLOOKUP($D30,IF($O$6=\"Western Mountains\",'Forage Growth Curve Reference'!#REF!,IF($O$6=\"Coastal Plain\",'Forage Growth Curve Reference'!$A$41:$Q$72,IF($O$6=\"Piedmont\",'Forage Growth Curve Reference'!$A$4:$Q$35,'Forage Growth Curve Reference'!$A$4:$Q$35))),11,FALSE),\"\")","v":""},{"$f":"IF(AND(OR($J30<>\"\",$K30<>\"\"),$M30<>\"\"),$W30*VLOOKUP($D30,IF($O$6=\"Western Mountains\",'Forage Growth Curve Reference'!#REF!,IF($O$6=\"Coastal Plain\",'Forage Growth Curve Reference'!$A$41:$Q$72,IF($O$6=\"Piedmont\",'Forage Growth Curve Reference'!$A$4:$Q$35,'Forage Growth Curve Reference'!$A$4:$Q$35))),12,FALSE),\"\")","v":""},{"$f":"IF(AND(OR($J30<>\"\",$K30<>\"\"),$M30<>\"\"),$W30*VLOOKUP($D30,IF($O$6=\"Western Mountains\",'Forage Growth Curve Reference'!#REF!,IF($O$6=\"Coastal Plain\",'Forage Growth Curve Reference'!$A$41:$Q$72,IF($O$6=\"Piedmont\",'Forage Growth Curve Reference'!$A$4:$Q$35,'Forage Growth Curve Reference'!$A$4:$Q$35))),13,FALSE),\"\")","v":""},{"$f":"IF(AND(OR($J30<>\"\",$K30<>\"\"),$M30<>\"\"),$W30*VLOOKUP($D30,IF($O$6=\"Western Mountains\",'Forage Growth Curve Reference'!#REF!,IF($O$6=\"Coastal Plain\",'Forage Growth Curve Reference'!$A$41:$Q$72,IF($O$6=\"Piedmont\",'Forage Growth Curve Reference'!$A$4:$Q$35,'Forage Growth Curve Reference'!$A$4:$Q$35))),14,FALSE),\"\")","v":""},{"$f":"IF(AND(OR($J30<>\"\",$K30<>\"\"),$M30<>\"\"),$W30*VLOOKUP($D30,IF($O$6=\"Western Mountains\",'Forage Growth Curve Reference'!#REF!,IF($O$6=\"Coastal Plain\",'Forage Growth Curve Reference'!$A$41:$Q$72,IF($O$6=\"Piedmont\",'Forage Growth Curve Reference'!$A$4:$Q$35,'Forage Growth Curve Reference'!$A$4:$Q$35))),15,FALSE),\"\")","v":""},{"$f":"IF(AND(OR($J30<>\"\",$K30<>\"\"),$M30<>\"\"),$W30*VLOOKUP($D30,IF($O$6=\"Western Mountains\",'Forage Growth Curve Reference'!#REF!,IF($O$6=\"Coastal Plain\",'Forage Growth Curve Reference'!$A$41:$Q$72,IF($O$6=\"Piedmont\",'Forage Growth Curve Reference'!$A$4:$Q$35,'Forage Growth Curve Reference'!$A$4:$Q$35))),16,FALSE),\"\")","v":""},{"$f":"IF(AND(OR($J30<>\"\",$K30<>\"\"),$M30<>\"\"),$W30*VLOOKUP($D30,IF($O$6=\"Western Mountains\",'Forage Growth Curve Reference'!#REF!,IF($O$6=\"Coastal Plain\",'Forage Growth Curve Reference'!$A$41:$Q$72,IF($O$6=\"Piedmont\",'Forage Growth Curve Reference'!$A$4:$Q$35,'Forage Growth Curve Reference'!$A$4:$Q$35))),17,FALSE),\"\")","v":""}]
[null,null,null,{"$f":"IF(AND(OR($J31<>\"\",$K31<>\"\"),$M31<>\"\"),$W31*VLOOKUP($D31,IF($O$6=\"Western Mountains\",'Forage Growth Curve Reference'!#REF!,IF($O$6=\"Coastal Plain\",'Forage Growth Curve Reference'!$A$41:$Q$72,IF($O$6=\"Piedmont\",'Forage Growth Curve Reference'!$A$4:$Q$35,'Forage Growth Curve Reference'!$A$4:$Q$35))),6,FALSE),\"\")","v":""},{"$f":"IF(AND(OR($J31<>\"\",$K31<>\"\"),$M31<>\"\"),$W31*VLOOKUP($D31,IF($O$6=\"Western Mountains\",'Forage Growth Curve Reference'!#REF!,IF($O$6=\"Coastal Plain\",'Forage Growth Curve Reference'!$A$41:$Q$72,IF($O$6=\"Piedmont\",'Forage Growth Curve Reference'!$A$4:$Q$35,'Forage Growth Curve Reference'!$A$4:$Q$35))),7,FALSE),\"\")","v":""},{"$f":"IF(AND(OR($J31<>\"\",$K31<>\"\"),$M31<>\"\"),$W31*VLOOKUP($D31,IF($O$6=\"Western Mountains\",'Forage Growth Curve Reference'!#REF!,IF($O$6=\"Coastal Plain\",'Forage Growth Curve Reference'!$A$41:$Q$72,IF($O$6=\"Piedmont\",'Forage Growth Curve Reference'!$A$4:$Q$35,'Forage Growth Curve Reference'!$A$4:$Q$35))),8,FALSE),\"\")","v":""},{"$f":"IF(AND(OR($J31<>\"\",$K31<>\"\"),$M31<>\"\"),$W31*VLOOKUP($D31,IF($O$6=\"Western Mountains\",'Forage Growth Curve Reference'!#REF!,IF($O$6=\"Coastal Plain\",'Forage Growth Curve Reference'!$A$41:$Q$72,IF($O$6=\"Piedmont\",'Forage Growth Curve Reference'!$A$4:$Q$35,'Forage Growth Curve Reference'!$A$4:$Q$35))),9,FALSE),\"\")","v":""},{"$f":"IF(AND(OR($J31<>\"\",$K31<>\"\"),$M31<>\"\"),$W31*VLOOKUP($D31,IF($O$6=\"Western Mountains\",'Forage Growth Curve Reference'!#REF!,IF($O$6=\"Coastal Plain\",'Forage Growth Curve Reference'!$A$41:$Q$72,IF($O$6=\"Piedmont\",'Forage Growth Curve Reference'!$A$4:$Q$35,'Forage Growth Curve Reference'!$A$4:$Q$35))),10,FALSE),\"\")","v":""},{"$f":"IF(AND(OR($J31<>\"\",$K31<>\"\"),$M31<>\"\"),$W31*VLOOKUP($D31,IF($O$6=\"Western Mountains\",'Forage Growth Curve Reference'!#REF!,IF($O$6=\"Coastal Plain\",'Forage Growth Curve Reference'!$A$41:$Q$72,IF($O$6=\"Piedmont\",'Forage Growth Curve Reference'!$A$4:$Q$35,'Forage Growth Curve Reference'!$A$4:$Q$35))),11,FALSE),\"\")","v":""},{"$f":"IF(AND(OR($J31<>\"\",$K31<>\"\"),$M31<>\"\"),$W31*VLOOKUP($D31,IF($O$6=\"Western Mountains\",'Forage Growth Curve Reference'!#REF!,IF($O$6=\"Coastal Plain\",'Forage Growth Curve Reference'!$A$41:$Q$72,IF($O$6=\"Piedmont\",'Forage Growth Curve Reference'!$A$4:$Q$35,'Forage Growth Curve Reference'!$A$4:$Q$35))),12,FALSE),\"\")","v":""},{"$f":"IF(AND(OR($J31<>\"\",$K31<>\"\"),$M31<>\"\"),$W31*VLOOKUP($D31,IF($O$6=\"Western Mountains\",'Forage Growth Curve Reference'!#REF!,IF($O$6=\"Coastal Plain\",'Forage Growth Curve Reference'!$A$41:$Q$72,IF($O$6=\"Piedmont\",'Forage Growth Curve Reference'!$A$4:$Q$35,'Forage Growth Curve Reference'!$A$4:$Q$35))),13,FALSE),\"\")","v":""},{"$f":"IF(AND(OR($J31<>\"\",$K31<>\"\"),$M31<>\"\"),$W31*VLOOKUP($D31,IF($O$6=\"Western Mountains\",'Forage Growth Curve Reference'!#REF!,IF($O$6=\"Coastal Plain\",'Forage Growth Curve Reference'!$A$41:$Q$72,IF($O$6=\"Piedmont\",'Forage Growth Curve Reference'!$A$4:$Q$35,'Forage Growth Curve Reference'!$A$4:$Q$35))),14,FALSE),\"\")","v":""},{"$f":"IF(AND(OR($J31<>\"\",$K31<>\"\"),$M31<>\"\"),$W31*VLOOKUP($D31,IF($O$6=\"Western Mountains\",'Forage Growth Curve Reference'!#REF!,IF($O$6=\"Coastal Plain\",'Forage Growth Curve Reference'!$A$41:$Q$72,IF($O$6=\"Piedmont\",'Forage Growth Curve Reference'!$A$4:$Q$35,'Forage Growth Curve Reference'!$A$4:$Q$35))),15,FALSE),\"\")","v":""},{"$f":"IF(AND(OR($J31<>\"\",$K31<>\"\"),$M31<>\"\"),$W31*VLOOKUP($D31,IF($O$6=\"Western Mountains\",'Forage Growth Curve Reference'!#REF!,IF($O$6=\"Coastal Plain\",'Forage Growth Curve Reference'!$A$41:$Q$72,IF($O$6=\"Piedmont\",'Forage Growth Curve Reference'!$A$4:$Q$35,'Forage Growth Curve Reference'!$A$4:$Q$35))),16,FALSE),\"\")","v":""},{"$f":"IF(AND(OR($J31<>\"\",$K31<>\"\"),$M31<>\"\"),$W31*VLOOKUP($D31,IF($O$6=\"Western Mountains\",'Forage Growth Curve Reference'!#REF!,IF($O$6=\"Coastal Plain\",'Forage Growth Curve Reference'!$A$41:$Q$72,IF($O$6=\"Piedmont\",'Forage Growth Curve Reference'!$A$4:$Q$35,'Forage Growth Curve Reference'!$A$4:$Q$35))),17,FALSE),\"\")","v":""}]
["lbs",null,null,{"$f":"SUM(D62:D82)","v":0},0,0,0,0,0,0,0,0,0,0,0]
["ton",null,null,{"$f":"D83/2000","v":0},{"$f":"E83/2000","v":0},0,0,0,0,0,0,{"$f":"L83/2000","v":0},{"$f":"M83/2000","v":0},{"$f":"N83/2000","v":0},{"$f":"O83/2000","v":0}]
[null,null,"month",1,2,3,4,5,6,7,8,9,10,11,12]
[null,null,"days in month",31,28.25,31,30,31,30,31,31,30,31,30,31]
["Livestock Mature",null,null,"Jan (31)","Feb (28.25)","Mar (31)","Apr (30)","May (31)","Jun (30)","Jul (31)","Aug (31)","Sep (30)","Oct (31)","Nov (30)","Dec (31)"]
[null,null,39,{"$f":"IF($T39=\"\",\"\",IF(D$85>=$O39,IF(D$85<$Q39+1,$T39*D$86/$R39,0),0))","v":""},"","","","","","","","","","",""]
[null,null,40,"","","","","","","","","","","",""]
[null,null,41,"","","","","","","","","","","",""]
[null,null,42,"","","","","","","","","","","",""]
[null,null,43,"","","","","","","","","","","",""]
[null,null,44,"","","","","","","","","","","",""]
[null,null,45,"","","","","","","","","","","",""]
[null,null,46,"","","","","","","","","","","",""]
[null,null,47,"","","","","","","","","","","",""]
[null,null,48,"","","","","","","","","","","",""]
["lbs",null,null,{"$f":"SUM(D88:D97)","v":0},0,0,0,0,0,0,0,0,0,0,0]
["ton",null,null,{"$f":"D98/2000","v":0},{"$f":"E98/2000","v":0},0,0,0,0,0,0,0,0,0,0]
["Difference"]
[null,null,null,{"$f":"D84-D99","v":0},0,0,0,0,0,0,0,0,0,0,0]

{"sheet":"Recordkeeping","index":6,"n_rows":51,"n_cols":11,"rows_kept":51,"cut":false,"hidden":false,"merged":[[16,0,16,1],[17,0,17,1],[11,0,11,1],[12,0,12,1],[13,0,13,1],[14,0,14,1],[15,0,15,1],[8,0,8,10],[9,0,10,1],[9,2,9,3],[9,4,10,4],[9,5,9,6],[9,7,9,8],[9,9,10,9],[9,10,10,10],[18,0,18,1],[28,9,29,9],[28,10,29,10],[24,0,24,1],[25,0,25,1],[20,0,20,1],[21,0,21,1],[22,0,22,1],[23,0,23,1],[19,0,19,1],[49,0,49,1],[50,0,50,10],[1,0,1,10],[42,0,42,1],[43,0,43,1],[44,0,44,1],[45,0,45,1],[46,0,46,1],[47,0,47,1],[36,0,36,1],[37,0,37,1],[38,0,38,1],[39,0,39,1],[40,0,40,1],[41,0,41,1],[30,0,30,1],[4,0,4,4],[6,0,6,4],[3,0,3,4],[5,0,5,4],[48,0,48,1],[31,0,31,1],[32,0,32,1],[33,0,33,1],[34,0,34,1],[35,0,35,1],[26,0,26,10],[28,0,29,1],[28,2,28,3],[28,4,29,4],[28,5,28,6],[28,7,28,8],[3,5,3,8],[3,9,3,10],[5,5,5,8],[5,9,5,10],[6,5,6,8],[6,9,6,10],[4,9,4,10],[4,5,4,8]]}
[]
["PRESCRIBED GRAZING (528) RECORDKEEPING WORKSHEET"]
[]
["Producer or Farm Name:",null,null,null,null,"County:",null,null,null,"Planner:"]
[{"$f":"Instructions!$B$19","v":0},null,null,null,null,{"$f":"Instructions!$B$24","v":0},null,null,null,{"$f":"Instructions!$B$26","v":0}]
["Farm/Tract/Field(s):",null,null,null,null,"Program/Contract No. (if applicable):",null,null,null,"Amount Planned (Ac):"]
[]
[]
["Document the periods of use and other activities in each field/paddock. (Use extra sheets if needed.)"]
["Field No(s).",null,"Livestock",null,"Predominant Forage Species","Dates Grazed",null,"Grazing Height (inches)",null,"Management (mowing, dragging, fertilizing)","Other Feed Provided"]
[null,null,"Type","No.",null,"In","Out","In","Out"]
[]
[]
[]
[]
[]
[]
[]
[]
[]
[]
[]
[]
[]
[]
[]
["Comments/Notes:"]
[]
["Field No(s).",null,"Livestock",null,"Predominant Forage Species","Dates Grazed",null,"Grazing Height (inches)",null,"Management (mowing, dragging, fertilizing)","Other Feed Provided"]
[null,null,"Type","No.",null,"In","Out","In","Out"]
[]
[]
[]
[]
[]
[]
[]
[]
[]
[]
[]
[]
[]
[]
[]
[]
[]
[]
[]
[]
["Comments/Notes:"]

{"sheet":"PaddockCalcs","index":7,"n_rows":96,"n_cols":18,"rows_kept":96,"cut":false,"hidden":false,"merged":[[17,0,17,2],[17,10,17,12],[17,4,17,6],[17,14,17,16],[18,0,18,3],[18,10,18,13],[18,5,18,8],[18,15,18,18],[2,1,2,7],[3,1,3,7],[5,1,5,7],[2,8,5,8],[4,1,4,7],[8,0,8,17],[10,0,10,1],[10,2,10,7],[10,10,10,11],[10,12,10,17],[95,0,95,17],[41,0,41,16],[31,0,31,17],[21,0,21,17],[51,0,51,16],[81,0,81,17],[83,0,83,17],[85,0,85,17],[87,0,87,17],[89,0,89,17],[79,0,79,1],[93,0,93,17],[58,0,58,16],[91,0,91,17],[70,0,70,17],[75,0,76,17]]}
["Paddock Calculations"]
[]
["Producer:",{"$f":"Instructions!$B$19","v":0}]
["County:",{"$f":"Instructions!$B$24","v":0}]
["Planner:",{"$f":"Instructions!$B$26","v":0}]
["Date:",{"$f":"Instructions!$B$27","v":"00:00:00"}]
[]
[]
["The formulas below use the grazing stick, plus tables in the Delaware Prescribed Grazing (528) Specifications.  The calculations will be populated by filling in the following information (yellow boxes).  See below for definitions and additional information."]
[]
["Scenario 1:",null,null,null,null,null,null,null,null,null,"Scenario 2:"]
[]
["Avg. Animal Weight (lbs./one animal)",null,null,null,null,"          Number of Head",null,null,null,null,"Avg. Animal Weight (lbs./one animal)",null,null,null,null,"           Number of Head"]
[" % Body Weight Intake (decimal)",null,null,null,"  Grazing Period (days on paddock)",null,null,null,null,null," % Body Weight Intake (decimal)",null,null,null,"  Grazing Period (days on paddock)"]
["Grass Height Before Grazing (in.)",null,null,null,"         Min. Height after Grazing (in.)",null,null,null,null,null,"Grass Height Before Grazing (in.)",null,null,null,"         Min. Height after Grazing (in.)"]
["Forage Pounds per Acre-Inch",null,null,null,"      %  Grazing Efficiency (decimal) ",null,null,null,null,null,"Forage Pounds per Acre-Inch",null,null,null,"      %  Grazing Efficiency (decimal) "]
["Acres (per paddock) - Existing",null,null,null,null,null,null,null,null,null,"Acres (per paddock) - Existing"]
["Link to % Body Weight Intake Table",null,null,null,"Link to %  Grazing Efficiency Table",null,null,null,null,null,"Link to % Body Weight Intake Table",null,null,null,"Link to %  Grazing Efficiency Table"]
["Link to Forage Pounds per Acre-Inch Table",null,null,null,null,"Link to Grazing Heights Table",null,null,null,null,"Link to Forage Pounds per Acre-Inch Table",null,null,null,null,"Link to Grazing Heights Table"]
[]
["Paddock Size"]
["Starting with the number, type, and average weight of livestock, use the following formula to determine the minimum paddock size needed to graze livestock for a given number of days. "]
[]
["Avg. Animal Weight (lbs./one animal)",null,null,{"$f":"D13","v":0},"        x    % Body Weight Intake",null,null,{"$f":"D14","v":0},null,null,"Avg. Animal Weight (lbs./one animal)",null,null,{"$f":"N13","v":0},"          x    % Body Weight Intake",null,null,{"$f":"N14","v":0}]
["        x      No. of Head ",null,{"$f":"H13","v":0},"        x    Grazing Period (days on paddock)",null,null,null,{"$f":"H14","v":0},null,null,"        x      No. of Head ",null,{"$f":"R13","v":0},"        x    Grazing Period (days on paddock)",null,null,null,{"$f":"R14","v":0}]
["(Grass Height Before Grazing ",null,null,{"$f":"D15","v":0},"      –   Min. Height after Grazing)",null,null,{"$f":"H15","v":0},null,null,"(Grass Height Before Grazing ",null,null,{"$f":"N15","v":0},"      –   Min. Height after Grazing)",null,null,{"$f":"R15","v":0}]
["  x   Forage Lbs/Ac/In ",null,{"$f":"D16","v":0},"            x      %  Grazing Efficiency",null,null,{"$f":"H16","v":0},null,null,null,"  x   Forage Lbs/Ac/In ",null,{"$f":"N16","v":0},"            x      %  Grazing Efficiency",null,null,{"$f":"R16","v":0}]
[]
[null,null,null,"=","     Paddock Size Needed (Acres)",null,null,{"$f":"IF(G27=0,\"\",ROUNDUP((D24*H24*C25*H25)/((D26-H26)*C27*G27),1))","v":""},null,null,null,null,null,"=","    Paddock Size Needed (Acres)",null,null,{"$f":"IF(Q27=0,\"\",ROUNDUP((N24*R24*M25*R25)/((N26-R26)*M27*Q27),1))","v":""}]
[]
["Days of Grazing Available"]
["The number of days a herd can be grazed on a specific paddock can be calculated by using some of the same factors previously listed for determining the Paddock Size, but in a different equation. Note that the acres populated in this equation are the existing acres per paddock as entered above for each scenario. "]
[]
["          (Grass Height Before Grazing ",null,null,{"$f":"D15","v":0},"      –   Min. Height after Grazing)",null,null,{"$f":"H15","v":0},null,null,"           (Grass Height Before Grazing ",null,null,{"$f":"N15","v":0},"      –   Min. Height after Grazing)",null,null,{"$f":"R15","v":0}]
["     x   Forage Lbs/Ac/In ",null,{"$f":"D16","v":0},"   x   Acres",{"$f":"D17","v":0},"    x  %  Grazing Effic. ",null,{"$f":"H16","v":0},null,null,"     x   Forage Lbs/Ac/In ",null,{"$f":"N16","v":0},"   x   Acres",{"$f":"N17","v":0},"    x  %  Grazing Effic. ",null,{"$f":"R16","v":0}]
["Avg. Animal Weight (lbs./one animal)",null,null,{"$f":"D13","v":0},"          x    % Body Weight Intake",null,null,{"$f":"D14","v":0},null,null,"Avg. Animal Weight (lbs./one animal)",null,null,{"$f":"N13","v":0},"           x    % Body Weight Intake",null,null,{"$f":"N14","v":0}]
["        x      No. of Head ",null,{"$f":"H13","v":0},null,null,null,null,null,null,null,"        x      No. of Head ",null,{"$f":"R13","v":0}]
[]
[null,null,null,"=","     Days of Grazing Available",null,null,{"$f":"IF(C37=0,\"\",((D34-H34)*C35*E35*H35)/(D36*H36*C37))","v":""},null,null,null,null,null,"=","     Days of Grazing Available",null,null,{"$f":"IF(M37=0,\"\",((N34-R34)*M35*O35*R35)/(N36*R36*M37))","v":""}]
[]
["Maximum Number of Animals"]
["If there is a limited amount of land but a flexible herd size, it is useful to know the maximum number of animals that can be put on a paddock. Note that the acres populated in this equation are the existing acres per paddock as entered above for each scenario. "]
[]
["          (Grass Height Before Grazing ",null,null,{"$f":"D15","v":0},"          –   Min. Height after Grazing)",null,null,{"$f":"H15","v":0},null,null,"          (Grass Height Before Grazing ",null,null,{"$f":"N15","v":0},"          –   Min. Height after Grazing)",null,null,{"$f":"R15","v":0}]
["     x   Forage Lbs/Ac/In ",null,{"$f":"D16","v":0},"   x   Acres",{"$f":"D17","v":0},"     x    %  Grazing Effic. ",null,{"$f":"H16","v":0},null,null,"     x   Forage Lbs/Ac/In ",null,{"$f":"N16","v":0},"   x   Acres",{"$f":"N17","v":0},"      x    %  Grazing Effic. ",null,{"$f":"R16","v":0}]
["Avg. Animal Weight (lbs./one animal)",null,null,{"$f":"D13","v":0},"           x    % Body Weight Intake",null,null,{"$f":"D14","v":0},null,null,"Avg. Animal Weight (lbs./one animal)",null,null,{"$f":"N13","v":0},"           x    % Body Weight Intake",null,null,{"$f":"N14","v":0}]
["      x    Grazing Period (days on paddock)",null,null,null,{"$f":"H14","v":0},null,null,null,null,null,"      x    Grazing Period (days on paddock)",null,null,null,{"$f":"R14","v":0}]
[]
[null,null,null,"=","      Maximum No. of Animals",null,null,{"$f":"IF(E47=0,\"\",ROUNDDOWN(((D44-H44)*C45*E45*H45)/(D46*H46*E47),0))","v":""},null,null,null,null,null,"=","     Maximum No. of Animals",null,null,{"$f":"IF(O47=0,\"\",ROUNDDOWN(((N44-R44)*M45*O45*R45)/(N46*R46*O47),0))","v":""}]
[]
["Number of Paddocks"]
["Calculate how many paddocks are needed to achieve the rotational grazing system. This will depend on the length of grazing period desired (producer’s goals and livestock performance) and the length of the rest period needed (forage type, season, and amount of moisture available to plants).  Enter data in the yellow cells."]
[]
["     Rest Period",null,null,"+ 1"," =    Number of Paddocks Needed",null,null,{"$f":"IF(C55=0,\"\",(C54/C55)+1)","v":""},null,null,"     Rest Period",null,null,"+ 1"," =     Number of Paddocks Needed",null,null,{"$f":"IF(M55=0,\"\",(M54/M55)+1)","v":""}]
["     Grazing Period",null,{"$f":"H14","v":0},null,"          Rounded up ",null,null,null,null,null,"     Grazing Period",null,{"$f":"R14","v":0},null,"          Rounded up "]
[null,null,null,null,"          to nearest whole number = ",null,null,{"$f":"IF(H54=\"\",\"\",(ROUNDUP(H54,0)))","v":""},null,null,null,null,null,null,"          to nearest whole number = ",null,null,{"$f":"IF(R54=\"\",\"\",(ROUNDUP(R54,0)))","v":""}]
[]
["Number of Times Each Paddock Will Be Grazed"]
["To determine the number of times a paddock will be grazed, take the number of paddocks needed and determine how many days of rest each paddock will actually have before the animals go back to graze it again.  Enter total grazing season days in the yellow cells."]
[]
[null,"     Length of Grazing Season (total days)",null,null,null,null,null,null,null,null,null,"      Length of Grazing Season (total days)"]
["              Number of Days between the Beginning of Each Grazing Cycle",null,null,null,null,null,{"$f":"IF(H67=0,\"\",D67*H67)","v":""},null,null,null,"                Number of Days between the Beginning of Each Grazing Cycle",null,null,null,null,null,{"$f":"IF(R67=0,\"\",N67*R67)","v":""}]
[]
[null,null,"                =    Number of Times Each Paddock Will Be Grazed",null,null,null,null,{"$f":"IF(E61=0,\"\",E61/G62)","v":""},null,null,null,null,"       =     Number of Times Each Paddock Will Be Grazed",null,null,null,null,{"$f":"IF(O61=0,\"\",O61/Q62)","v":""}]
[]
["Where:  Number of Days between Beginning of Each Grazing Cycle =",null,null,null,null,null,null,null,null,null,"Where:  Number of Days between Beginning of Each Grazing Cycle ="]
["             Number of Paddocks Needed",null,null,{"$f":"H56","v":""},"                       ","x   Grazing Period ",null,{"$f":"H14","v":0},null,null,"              Number of Paddocks Needed",null,null,{"$f":"R56","v":""},"                         ","x   Grazing Period ",null,{"$f":"R14","v":0}]
[null,null,null,null,null,"       (days on paddock)",null,null,null,null,null,null,null,null,null,"         (days on paddock)"]
[]
["Total Acreage of Paddocks (Pasture) Needed"]
["Based on the number of paddocks and the paddock size needed, calculate how many fenced acres of pasture (total acres) will be needed to meet the desired grazing period (number of days per paddock):"]
[]
["              Number of Paddocks Needed",null,null,{"$f":"H56","v":""},"          x   Paddock Size Needed (ac)",null,null,{"$f":"IF(H29=\"\",\"\",H29)","v":""},null,null,"              Number of Paddocks Needed",null,null,{"$f":"R56","v":""},"           x   Paddock Size Needed (ac)",null,null,{"$f":"IF(R29=\"\",\"\",R29)","v":""}]
[]
[null,null,null,null,"      =   Total Fenced Acres Needed",null,null,{"$f":"IF(D73=\"\",\"\",(D73*H73))","v":""},null,null,null,null,null,null,"       =   Total Fenced Acres Needed",null,null,{"$f":"IF(N73=\"\",\"\",(N73*R73))","v":""}]
["If the total fenced acres needed exceeds the current pasture acreage and the producer is not interested in adding grazing acreage, then to maintain the current number of animals, the producer will need to reduce the herd/flock size to the recommended maximum number of animals as shown in the calculations, or plan to use a sacrifice area to remove them from fields and provide supplemental forage while pastures are regrowing.  "]
[]
[]
[]
["Definitions:"]
[]
["Average Animal Weight and Number of Head.  The producer should supply this information. Use the average weight of one animal that will be on the pasture. For cow/calf pairs, average the weight of the cows and calves and use the weight of one pair. Refer to the Delaware Prescribed Grazing (528) Specifications, Table 2, for average weights of various livestock.  "]
[]
["% Body Weight Intake.  Refer to the Delaware Prescribed Grazing (528) Specifications, Table 2, Column 3, Forage Intake Rate."]
[]
["Forage Pounds per Acre-Inch. Use the grazing stick to determine this. Slide the grazing stick into the forage (best if forage is 6 to 8 inches in height). With the stick lying flat on the ground, count the number of dots showing to find the correct column for pounds of dry matter per acre-inch.  Do this in a few spots and calculate an average number of dots."]
[]
["% Grazing Efficiency. Refer to the Delaware Prescribed Grazing (528) Specifications, Table 3, to determine grazing efficiency (based on the number of days on paddock), or use the Harvest Efficiency table on the grazing stick (based on the number of paddocks)."]
[]
["Grazing Heights.  Use the grazing stick to measure the height of the grass before grazing begins. The minimum height after grazing is the height at which the animals should be removed from the pasture to allow time for recovery. This number will vary depending on the forage species that is being grazed.  Recommended before and after grazing heights can also be found in the Delaware Prescribed Grazing (528) Specifications, Table 4.  Only use the grazable inches."]
[]
["Grazing Period.  Number of days the animals will be on the paddock before being rotated to another area. It is important to ask how often the producer prefers to rotate the animals. Refer to the Delaware Prescribed Grazing (528) Specifications, Table 2, Column 4, Paddock Rotation Schedule, for recommendations based on the type of livestock."]
[]
["Grazing Season. The grazing season generally coincides with the length of the growing season. Refer to the Delaware Prescribed Grazing (528) Specifications, Figure 2, or to the DE Growing Season map (DE Maps tab) in this workbook for the average number of growing season days in an area. This is the number of days between the last frost in the spring and the first frost in the fall. The number of available days on pasture should be reduced when there is insufficient acreage available to allow regrowth before grazing a paddock again. The grazing season can be extended into late fall and winter if forage is stockpiled in pastures. When stockpiling is used, an additional number of grazing days should be included in the grazing season estimate.  "]
[]
["Rest Period.  Number of days that a forage species needs for recovery. Refer to the Delaware Prescribed Grazing (528) Specifications, Table 4, for the number of recovery days based on growth season."]

{"sheet":"F-A QuickCalcs","index":8,"n_rows":88,"n_cols":18,"rows_kept":88,"cut":false,"hidden":false,"merged":[[17,10,17,12],[8,0,8,17],[2,1,2,7],[2,8,5,8],[3,1,3,7],[5,1,5,7],[4,1,4,7],[87,0,87,17],[79,0,79,17],[81,0,81,17],[83,0,83,17],[9,0,9,16],[10,0,10,1],[10,2,10,7],[10,10,10,11],[10,12,10,17],[16,0,16,2],[17,4,17,6],[16,10,16,12],[17,14,17,16],[16,4,16,6],[16,14,16,16],[17,0,17,2],[77,0,77,1],[62,0,62,17],[19,0,19,8],[29,0,29,17],[85,0,85,17]]}
["Forage-Animal Quick Calculations"]
[]
["Producer:",{"$f":"Instructions!$B$19","v":0}]
["County:",{"$f":"Instructions!$B$24","v":0}]
["Planner:",{"$f":"Instructions!$B$26","v":0}]
["Date:",{"$f":"Instructions!$B$27","v":"00:00:00"}]
[]
[]
["This worksheet provides a basic assessment of the entire operation, using a fixed number of animals and/or a fixed number of acres.  The calculations will be populated by filling in the following information (yellow boxes).  See bottom of spreadsheet for definitions and additional information."]
[]
["Scenario 1:",null,null,null,null,null,null,null,null,null,"Scenario 2:"]
[]
["Avg. Animal Weight (lbs./one animal)",null,null,null,null,"        Number of Head",null,null,null,null,"Avg. Animal Weight (lbs./one animal)",null,null,null,null,"            Number of Head"]
[" % Body Weight Intake (decimal)",null,null,null,"          Grazing Season (total days)",null,null,null,null,null," % Body Weight Intake (decimal)",null,null,null,"              Grazing Season (total days)"]
["Yearly Forage  Production (lbs/ac)",null,null,null,"    %  Grazing Efficiency (decimal) ",null,null,null,null,null,"Yearly Forage Production (lbs/ac)",null,null,null,"        %  Grazing Efficiency (decimal) "]
["Acres (total pasture acreage)",null,null,null,null,null,null,null,null,null,"Acres (total pasture acreage)"]
["Link to % Body Weight Intake Table",null,null,null,"Link to Growing Season Map",null,null,null,null,null,"Link to % Body Weight Intake Table",null,null,null,"Link to Growing Season Map"]
["Link to Forage Growth Worksheet",null,null,null,"Link to %  Grazing Efficiency Table",null,null,null,null,null,"Link to Forage Growth Worksheet",null,null,null,"Link to %  Grazing Efficiency Table"]
[]
["Forage Demand"]
["How much forage is needed each day per animal?",null,null,null,null,null,null,null,null,null,"How much forage is needed each day per animal?"]
[]
["Daily Forage Intake Rate",null,{"$f":"D14","v":0},"       x      Avg. Animal Weight (lbs./one animal)",null,null,null,{"$f":"D13","v":0},null,null,"Daily Forage Intake Rate ",null,{"$f":"N14","v":0},"       x      Avg. Animal Weight (lbs./one animal)",null,null,null,{"$f":"N13","v":0}]
["(% Body Weight Intake per Day)",null,null,null,null,null,null,null,null,null,"(% Body Weight Intake per Day)"]
[]
[null,null,"    =      Daily Forage Intake (lbs) per Animal ",null,null,null,{"$f":"C23*H23","v":0},null,null,null,null,null,"       =      Daily Forage Intake (lbs) per Animal ",null,null,null,{"$f":"M23*R23","v":0}]
[]
[]
["How much forage is needed each month per animal?",null,null,null,null,null,null,null,null,null,"How much forage is needed each month per animal?"]
["The monthly forage demand gives a good idea of what to expect during the year. For example, part of a pasture can be stockpiled or cut for hay when there is a surplus. It can then be used during the months that have a deficit, such as in late fall and the winter. "]
[]
["Monthly Utilization Rate ",null,{"$f":"G37*G38","v":0},"       x      Avg. Animal Weight (lbs./one animal)",null,null,null,{"$f":"D13","v":0},null,null,"Monthly Utilization Rate ",null,{"$f":"Q37*Q38","v":0},"       x      Avg. Animal Weight (lbs./one animal)",null,null,null,{"$f":"N13","v":0}]
["(% Body Weight Intake per Month)",null,null,null,null,null,null,null,null,null,"(% Body Weight Intake per Month)"]
[]
[null,null," =    Monthly Forage Demand (lbs) per Animal ",null,null,null,{"$f":"C32*H32","v":0},null,null,null,null,null," =    Monthly Forage Demand (lbs) per Animal ",null,null,null,{"$f":"M32*R32","v":0}]
[]
["Where:  Monthly Utilization Rate =  % Body Weight Intake per Day",null,null,null,null,null,{"$f":"D14","v":0},null,null,null,"Where:  Monthly Utilization Rate =  % Body Weight Intake per Day",null,null,null,null,null,{"$f":"N14","v":0}]
[null,null,null,"     x   No. of Days per Month",null,null,30,null,null,null,null,null,null,"     x   No. of Days per Month",null,null,30]
[]
[]
["How much forage is needed each month per herd/flock?",null,null,null,null,null,null,null,null,null,"How much forage is needed each month per herd/flock?"]
[]
["          Monthly Forage Demand (lbs) per Animal",null,null,null,{"$f":"G35","v":0},null,null,null,null,null,"          Monthly Forage Demand (lbs) per Animal",null,null,null,{"$f":"Q35","v":0}]
["                x   Number of Animals in a Herd/Flock",null,null,null,{"$f":"H13","v":0},null,null,null,null,null,"                x   Number of Animals in a Herd/Flock",null,null,null,{"$f":"R13","v":0}]
[]
[null,"               =    Monthly Forage Demand (lbs) per Herd/Flock ",null,null,null,null,{"$f":"E43*E44","v":0},null,null,null,null,"                  =    Monthly Forage Demand (lbs) per Herd/Flock ",null,null,null,null,{"$f":"O43*O44","v":0}]
[]
[]
["How much forage is needed annually per herd/flock?",null,null,null,null,null,null,null,null,null,"How much forage is needed annually per herd/flock?"]
[]
["            Daily Forage Intake (lbs) per Herd/Flock",null,null,null,{"$f":"G57*G58","v":0},null,null,null,null,null,"            Daily Forage Intake (lbs) per Herd/Flock",null,null,null,{"$f":"Q57*Q58","v":0}]
["                   x   Number of Days (grazing season)",null,null,null,{"$f":"H14","v":0},null,null,null,null,null,"                   x   Number of Days (grazing season)",null,null,null,{"$f":"R14","v":0}]
[]
[null,"                    =    Yearly Forage Demand (lbs) per Herd/Flock ",null,null,null,null,{"$f":"E51*E52","v":0},null,null,null,null,"                         =    Yearly Forage Demand (lbs) per Herd/Flock ",null,null,null,null,{"$f":"O51*O52","v":0}]
[]
["Where:  Daily Forage Intake (lbs) per Herd/Flock = ",null,null,null,null,null,null,null,null,null,"Where:  Daily Forage Intake (lbs) per Herd/Flock = "]
[null,null,"                Daily Forage Intake (lbs) per Animal ",null,null,null,{"$f":"G26","v":0},null,null,null,null,null,"                Daily Forage Intake (lbs) per Animal ",null,null,null,{"$f":"Q26","v":0}]
[null,null,null,"             x   No. of Animals",null,null,{"$f":"H13","v":0},null,null,null,null,null,null,"             x   No. of Animals",null,null,{"$f":"R13","v":0}]
[]
["Note:  To determine forage demand for the entire year, not just for the grazing season, substitute the number of days in a year (365) for grazing season days in the data entry section."]
[]
["Forage-Animal Balance"]
["The balance of the equation must be greater than or equal to 1 to provide sufficient forage during the grazing season. Values less than 1 will require supplemental feeding.  Consider improving grazing efficiency and/or forage production, increasing pasture acreage, and/or reducing animal numbers to improve the forage-animal balance. "]
[]
["Yearly Forage Production (lbs/ac)",null,null,{"$f":"D15","v":0},"            x      Total Pasture Acreage",null,null,{"$f":"D16","v":0},null,null,"Yearly Forage Production (lbs/ac)",null,null,{"$f":"N15","v":0},"              x      Total Pasture Acreage",null,null,{"$f":"N16","v":0}]
[null,null,"             x      %   Grazing Efficiency ",null,null,{"$f":"H15","v":0},null,null,null,null,null,null,"          x       %   Grazing Efficiency ",null,null,{"$f":"R15","v":0}]
["Avg. Animal Weight (lbs./one animal)",null,null,{"$f":"D13","v":0},"   x   % Body Weight Intake",null,null,{"$f":"D14","v":0},null,null,"Avg. Animal Weight (lbs./one animal)",null,null,{"$f":"N13","v":0},"   x   % Body Weight Intake",null,null,{"$f":"N14","v":0}]
["         x   No. of Animal Head",null,null,{"$f":"H13","v":0},"   x   Grazing Season (total days)",null,null,{"$f":"H14","v":0},null,null,"         x   No. of Animal Head",null,null,{"$f":"R13","v":0},"   x   Grazing Season (total days)",null,null,{"$f":"R14","v":0}]
[]
[null,null,null,null,"        =  Forage-Animal Balance Ratio",null,null,{"$f":"IF(D68=0,\"\",(D65*H65*F66)/(D67*H67*D68*H68))","v":""},null,null,null,null,null,null,"          =       Forage-Animal Balance",null,null,{"$f":"IF(N68=0,\"\",(N65*R65*P66)/(N67*R67*N68*R68))","v":""}]
[]
[null,null,null,null,"Yearly Forage Supply (tons)",null,null,{"$f":"(D65*H65*F66)/2000","v":0},null,null,null,null,null,null,"Yearly Forage Supply (tons)",null,null,{"$f":"(N65*R65*P66)/2000","v":0}]
[null,null,null,null,"Yearly Forage Demand (tons)",null,null,{"$f":"(D67*H67*D68*H68)/2000","v":0},null,null,null,null,null,null,"Yearly Forage Demand (tons)",null,null,{"$f":"(N67*R67*N68*R68)/2000","v":0}]
[]
[null,null,null,null,"Yearly Forage Surplus or Deficit (tons)",null,null,{"$f":"H72-H73","v":0},null,null,null,null,null,null,"Yearly Forage Surplus or Deficit (tons)",null,null,{"$f":"R72-R73","v":0}]
[]
[]
["Definitions:"]
[]
["Average Animal Weight and Number of Head.  The producer should supply this information. Use the average weight of one animal that will be on the pasture. For cow/calf pairs, average the weight of the cows and calves and use the weight of one pair.  Refer to the Delaware Prescribed Grazing (528) Specifications, Table 2, for average weights of various livestock.  "]
[]
["% Body Weight Intake.  Refer to the Delaware Prescribed Grazing (528) Specifications, Table 2, Column 3, Forage Intake Rate."]
[]
["% Grazing Efficiency. Refer to the Delaware Prescribed Grazing (528) Specifications, Table 3, to determine grazing efficiency (based on the number of days on paddock), or use the Harvest Efficiency table on the grazing stick (based on the number of paddocks)."]
[]
["Grazing Season. The grazing season generally coincides with the length of the growing season. Refer to the Delaware Prescribed Grazing (528) Specifications, Figure 2, or to the DE Maps tab in this workbook for the average number of growing season days in an area. This is the number of days between the last frost in the spring and the first frost in the fall. The number of available days on pasture should be reduced when there is insufficient acreage available to allow regrowth before grazing a paddock again. The grazing season can be extended into late fall and winter if forage is stockpiled in pastures. When stockpiling is used, an additional number of grazing days should be included in the grazing season estimate.  "]
[]
["Yearly Forage Production. This is the estimated total amount (DM lbs/ac) of forage grown during the year that is available for grazing (or haying). Refer to the regional Production Rates, Forage Growth Curve tab in this workbook, and adjust as needed based on pasture conditions.  Or use the grazing stick as follows: (Grass Height Before Grazing – Min. Height after Grazing) x Forage Pounds per Acre per Inch x Number of Times Each Paddock Will Be Grazed to determine the Yearly Forage Production (lbs/ac).  Note: Yearly Forage Production (total pounds) can be determined by multiplying the Yearly Forage Production (lbs/ac) by the number of pasture acres. "]

{"sheet":"Lookup Tables","index":9,"n_rows":104,"n_cols":19,"rows_kept":104,"cut":false,"hidden":false,"merged":[[24,0,24,6],[7,17,8,19],[100,9,101,11],[58,0,60,2],[46,0,46,8],[46,11,46,19],[95,5,99,6],[14,12,14,16],[15,12,15,16],[25,0,25,6],[103,9,103,11],[4,8,5,10],[4,17,5,19],[7,8,8,10],[40,8,40,10],[45,8,45,11]]}
[]
[null,null,null,null,null,"DM % Body Wt. per Day (as decimal)",null,null,null,null,null,null,null,null,"% Grazing Efficiency (as decimal)"]
["From 528 Specs, Table 2. Forage Intake Rates",null,null,null,null,"Range","*Default Value",null,null,null,null,null,"From 528 Specs, Table 3. ",null,"Range","*Default Value"]
[]
["Beef Cow with Calf to 6 mos.",null,null,null,null,"0.030 - 0.040 ",0.03,null,"Back to F-A Quick Calcs page",null,null,null,"Continuously grazed",null,"<  0.30 ",0.3,null,"Back to F-A Quick Calcs page"]
["Beef Cow - Dry",null,null,null,null,"0.018 - 0.026 ",0.03,null,null,null,null,null,"15-21 days on paddock",null,"0.40 - 0.45",0.45]
["Stocker Cattle",null,null,null,null,"0.025 - 0.035 ",0.03,null,null,null,null,null,"11-14 days on paddock",null,"0.45 - 0.50",0.5]
["Dairy Cows - Lactating, Fed Pasture Only",null,null,null,null,"0.030 - 0.050 ",0.03,null,"Back to Paddock Calcs page",null,null,null,"6-10 days on paddock",null,"0.50 - 0.55",0.55000000000000004,null,"Back to Paddock Calcs page"]
["Dairy Cows - Lactating, Fed Total Mixed Ration",null,null,null,null,"0.020 - 0.040 ",0.03,null,null,null,null,null,"2-5 days on paddock",null,"0.55 - 0.60",0.6]
["Dairy Cows - Dry",null,null,null,null,"0.015 - 0.030 ",0.03,null,null,null,null,null,"0.5-1 day on paddock",null,"0.60 - 0.70",0.7]
["Dairy Heifers",null,null,null,null,"0.014 - 0.044 ",0.03,null,null,null,null,null,"Cut for hay",null,"0.70 - 0.80",0.8]
["Horses",null,null,null,null,"0.015 - 0.035 ","0.03 (or 0.02, depending on selection)"]
["Sheep - Lactating",null,null,null,null,"0.035 - 0.040 ",0.03,null,null,null,null,null,"*Note: the \"Default Value\" is automatically entered on the "]
["Goats - Lactating",null,null,null,null,"0.035 - 0.050 ",0.03,null,null,null,null,null,"F-A Balance sheets when the dropdown list is used."]
["Sheep & Goats - Dry",null,null,null,null,"0.018 - 0.020 ",0.03,null,null,null,null,null,"If the \"Multi-Species Herd\" column is marked \"Yes,\" the default "]
["Lambs",null,null,null,null,0.03,0.03,null,null,null,null,null,"grazing efficiency will be increased by 10%."]
["Swine",null,null,null,null,"0.008 - 0.020 ",0.01]
["Rams",null,null,null,null,"0.015 - 0.025 ",0.02]
["Bulls",null,null,null,null,"0.015 - 0.025 ",0.02,null,null,null,null,null,"528 Specs, Table 5. "]
["Chickens",null,null,null,null,"0.003 - 0.013 ",0.01,null,null,null,null,null,"Average Daily Water Requirements for Grazing Livestock/Poultry"]
["Turkeys",null,null,null,null,"0.002 - 0.017 ",0.01,null,null,null,null,null,"Species",null,null,"Gallons/Head/Day"]
["*Note: the \"Default Value\" is automatically entered on the F-A Balance sheets when the dropdown list is used.  ",null,null,null,null,null,null,null,null,null,null,null,"Dairy cows > 18,000 lbs. of milk",null,null,35]
["Livestock and poultry categories on that sheet have been grouped and simplified based on average % daily body weight intake. ",null,null,null,null,null,null,null,null,null,null,null,"Dairy cows < 18,000 lbs. of milk",null,null,25]
[null,null,null,null,null,null,null,null,null,null,null,null,"Dry cows or heifers",null,null,15]
["528 Specs, Table 1.  Using the Grazing Stick Dot Grid to Estimate Production of ",null,null,null,null,null,null,null,null,null,null,null,"Calves",null,null,7]
["Various Forages in Pounds of Dry Matter (DM) per Acre-Inch",null,null,null,null,null,null,null,null,null,null,null,"Beef brood cows",null,null,12]
[null,null,null,null,"3+ Dots","1 - 2 Dots","0 - 1 Dots",null,null,null,null,null,"Steers in feedlot",null,null,18]
["Forage",null,null,null,"(<75% ","(75 - 90% ","(>90% ",null,null,null,null,null,"Dairy goats or sheep",null,null,2]
[null,null,null,null,"Cover)","Cover)","Cover)",null,null,null,null,null,"Goats or sheep",null,null,1]
["Alfalfa",null,null,null,"150 - 200","200 - 250","250 - 300",null,null,null,null,null,"Horses, mules, donkeys",null,null,12]
["Bermudagrass",null,null,null,"100 - 200","200 - 300","300 - 400",null,null,null,null,null,"Swine, brood sows",null,null,6]
["Bluegrass / Clover",null,null,null,"150 - 200","250 - 300","350 - 400",null,null,null,null,null,"Swine, finishing",null,null,4]
["Bluegrass – Nitrogen-Fertilized",null,null,null,"100 - 150","200 - 250","350 - 400",null,null,null,null,null,"Laying hens",null,null,0.09]
["Orchardgrass / Clover",null,null,null,"100 - 200","200 - 300","300 - 350",null,null,null,null,null,"Broilers",null,null,0.06]
["Orchardgrass - Nitrogen-Fertilized",null,null,null,"100 - 150","200 - 250","250 - 300",null,null,null,null,null,"Turkeys, 15-19 weeks old",null,null,0.17]
["Perennial Ryegrass / Clover",null,null,null,"150 - 175","200 - 250","300 - 350",null,null,null,null,null,"Ducks or geese, 15 - 19 weeks old",null,null,0.22]
["Perennial Ryegrass - Nitrogen-Fertilized",null,null,null,"100 - 150","200 - 250","350 - 400"]
["Red Clover",null,null,null,"75 - 125","125 - 175","175 - 250"]
["Switchgrass - Nitrogen-Fertilized",null,null,null,100,150,200,null,null,null,null,null,"528 Specs, Table 6. Recommended Maximum Distances "]
["Tall Fescue / Clover",null,null,null,200,"250 - 300","300 - 350",null,null,null,null,null,"to Water for Cattle, Horses, Sheep, and Goats."]
["Tall Fescue - Nitrogen-Fertilized",null,null,null,"100 - 150","200 - 250","350 - 400",null,"Back to Paddock Calcs page",null,null,null,"Average Field Slope",null,"Max Distance To Water"]
[null,null,null,null,null,null,null,null,null,null,null,null,">15%",null,"750 feet"]
[null,null,null,null,null,null,null,null,null,null,null,null,"8 - 15%",null,"1,100 feet"]
[null,null,null,null,null,null,null,null,null,null,null,null,"< 8%",null,"1,420 feet"]
[]
[null,null,null,null,null,null,null,null,"Back to Grazing Narrative page"]
["528 Specs, Table 4.  Recommendations for Grazing Heights and Recovery Days in Rotational Grazing Systems",null,null,null,null,null,null,null,null,null,null,"528 Specs, Table 4.  Recommendations for Grazing Heights and Recovery Days in Rotational Grazing Systems"]
[null,null,null,null,null,"      Height in Inches",null,null,null,null,null,null,null,null,null,null,"      Height in Inches"]
["Forage Species",null,null,"Growth Periods",null,"To Begin","To Stop","Recovery Days",null,null,null,"Forage Species",null,null,"Growth Periods",null,"To Begin","To Stop","Recovery Days"]
[]
["Alfalfa",null,null,"Spring",null,"6 - bud","2 - 3","30",null,null,null,"Eastern Gamagrass",null,null,"Early Summer",null,"14 - 15","8","21 - 30"]
[null,null,null,"Fall",null,"12 - 18","2 - 3","--",null,null,null,null,null,null,"Mid Summer",null,"15 - 24","8","21 - 40"]
[null,null,null,"Winter",null,"12 - 18","3","--",null,null,null,null,null,null,"Early Fall",null,"15","8","120 - 210"]
["Annual Ryegrass",null,null,"Early Spring",null,"6 - 8","3 - 4","21 - 45",null,null,null,"Indiangrass",null,null,"Early Summer",null,"10","6","21 - 30"]
[null,null,null,"Spring",null,"8 - 10","2 - 3","Replant in Fall",null,null,null,null,null,null,"Mid Summer",null,"14 - 16","6","21 - 40"]
[null,null,null,"Fall",null,"6 - 8","4","30 - 60",null,null,null,null,null,null,"Early Fall",null,"14 - 16","12","120 - 210"]
[null,null,null,"Winter",null,"6 - 8","3 - 4","30 - 90",null,null,null,null,null,null,"Frosted",null,"12","6 - 8","--"]
["Bermudagrass",null,null,"Spring",null,"4 - 6","3 - 4","21-30",null,null,null,"Lespedezas  - Annual",null,null,"Summer",null,"6 - 8","3 - 4","30 - 45"]
["(Common and hybrid varieties, plus mixtures with white clover)",null,null,"Summer",null,"4 - 6","3 - 4","10 - 21",null,null,null,null,null,null,"Last",null,"4 - 6","2 - 3","21 - 45"]
[null,null,null,"Fall",null,"4 - 6","3 - 4","20 - 40",null,null,null,"Lespedezas  - Perennial",null,null,"Summer",null,"10 - 15","3","--"]
[null,null,null,"Frosted",null,"3+","3 - 4","120 - 210",null,null,null,null,null,null,"Fall",null,"10 - 15","3","--"]
["Big Bluestem",null,null,"Early Summer",null,"10","6","21 - 30",null,null,null,"Little Bluestem",null,null,"Spring",null,"12","4 - 6","--"]
[null,null,null,"Mid Summer",null,"14 - 16","8 - 12","21 - 40",null,null,null,null,null,null,"Summer",null,"12","4 - 6","--"]
[null,null,null,"Early Fall",null,"14 - 16","12","120 - 210",null,null,null,null,null,null,"Fall",null,"12","4 - 6","--"]
[null,null,null,"Frosted",null,"12","6 - 8","--",null,null,null,"Orchardgrass",null,null,"Early Spring",null,"6 - 12","3 - 4","30 - 45"]
["Birdsfoot Trefoil -",null,null,"Spring",null,"6 - 18","3","--",null,null,null,null,null,null,"Spring",null,"6 - 10","3 - 4","14 - 30"]
["Upright Type",null,null,"Summer",null,"10 - 15","3","--",null,null,null,null,null,null,"Summer",null,"6 - 10","3 - 4","30 - 60"]
[null,null,null,"Fall",null,"10 - 15","3","--",null,null,null,null,null,null,"Fall",null,"6 - 10","3 - 4","21 - 35"]
["Birdsfoot Trefoil - ",null,null,"Spring",null,"6 - 15","2","--",null,null,null,"Pearl Millet",null,null,"Early Summer",null,"14 - 20","6 - 8","14 - 30"]
["Prostrate Type",null,null,"Summer",null,"10 - 12","2","--",null,null,null,null,null,null,"Late Summer to",null,"14 - 20","6 - 8","21 - 40"]
[null,null,null,"Fall",null,"10 - 12","3","--",null,null,null,null,null,null,"   Fall"]
["Bluegrass, Kentucky",null,null,"Early Spring",null,"4 - 6","1 - 2","30 - 45",null,null,null,"Perennial Ryegrass",null,null,"Early Spring",null,"6 - 10","2 - 3","30 - 45"]
[null,null,null,"Spring",null,"4 - 6","1 - 2","14 - 30",null,null,null,null,null,null,"Spring",null,"6 - 8","2 - 3","14 - 30"]
[null,null,null,"Summer",null,"4 - 6","1 - 2","30 - 60",null,null,null,null,null,null,"Summer",null,"6 - 8","2 - 3","30 - 60"]
[null,null,null,"Fall",null,"4 - 6","1 - 2","21 - 35",null,null,null,null,null,null,"Fall",null,"6 - 8","2 - 3","21 - 35"]
["Brassicas (e.g., kale, ",null,null,"60 days planted",null,"12 - 20","3","--",null,null,null,"Reed Canarygrass",null,null,"Early Spring",null,"8 - 14","6","30 - 45"]
["rape, turnips)",null,null,"Thereafter",null,"12 - 16","3","--",null,null,null,null,null,null,"Spring",null,"8 - 12","6","14 - 30"]
["Caucasian Bluestem",null,null,"Early Summer",null,"8 - 12","4","21 - 35",null,null,null,null,null,null,"Summer",null,"8 - 12","6","30 - 60"]
[null,null,null,"Mid Summer",null,"8","4","21 - 40",null,null,null,null,null,null,"Fall",null,"8 - 12","6","21 - 35"]
[null,null,null,"Early Fall",null,"8","6","Spring",null,null,null,"Small Grain, Winter",null,null,"Fall",null,"6 - 12","3","45 - 90"]
["Clover, Alsike/Ladino",null,null,"Spring",null,"4 - 8","2","--",null,null,null,"Smooth Bromegrass",null,null,"Early Spring",null,"6 - 10","2 - 3","30 - 45"]
[null,null,null,"Summer",null,"4 - 8","2","--",null,null,null,null,null,null,"Spring",null,"6 - 10","2 - 3","14 - 30"]
[null,null,null,"Fall",null,"4 - 8","2","--",null,null,null,null,null,null,"Summer",null,"6 - 10","2 - 3","30 - 60"]
["Clover, Common White Dutch",null,null,"Spring",null,"4 - 7","1 - 2","--",null,null,null,null,null,null,"Fall",null,"6 - 10","2 - 3","21 - 35"]
[null,null,null,"Summer",null,"4 - 7","1 - 2","--",null,null,null,"Sudangrass and ",null,null,"Early Summer",null,"18 - 24","5 - 7","21 - 30"]
[null,null,null,"Fall",null,"4 - 7","1 - 2","--",null,null,null,"Sudan x Sorghum",null,null,"Mid Summer",null,"18 - 24","5 - 7","14 - 21"]
["Clover, Red",null,null,"Spring",null,"6 - 12","2 - 3","--",null,null,null,null,null,null,"Late Summer",null,"18 - 24","5 - 7","21 - 40"]
[null,null,null,"Summer",null,"6 - 10","2 - 3","--",null,null,null,null,null,null,"Fall",null,"6+","2","--"]
[null,null,null,"Fall",null,"6 - 18","2 - 3","--",null,null,null,"Switchgrass",null,null,"Early Summer",null,"10","6","21 - 30"]
["Clover, Red, in mixtures ",null,null,"Spring",null,"6\" to bud","3 - 4","10 - 21",null,null,null,null,null,null,"Mid Summer",null,"12","6","21 - 40"]
["with cool-season grasses",null,null,"Summer",null,"10\" to bud","3 - 4","21 - 40",null,null,null,null,null,null,"Early Fall",null,"14 - 16","12","30 - 60"]
[null,null,null,"Fall",null,"Frosted","3 - 4","90 - 120",null,null,null,null,null,null,"Frosted",null,"12","6 - 8","120 - 210"]
["Crabgrass and associated ",null,null,"Spring",null,"6 - 8","3 - 4","21 - 35",null,null,null,"Tall Fescue",null,null,"Early Spring",null,"6 - 12","2 - 3","30 - 45"]
["warm-season species",null,null,"Summer",null,"6 - 12","3 - 4","14 - 30",null,null,null,null,null,null,"Spring",null,"6 - 10","2 - 3","14 - 30"]
[null,null,null,"Fall",null,"4 - 6","1 - 3","Replant in Spring.",null,null,null,null,null,null,"Summer",null,"6 - 8","2 - 3","30 - 60"]
["Crop Residue ",null,null,"Oct-Jan",null,"Begin grazing immediately following harvest.  If cover crop is not planted, leave residue as needed for soil protection. ",null,"Not applicable.",null,null,null,null,null,null,"Fall",null,"6 - 10","2 - 3","21 - 35"]
["(corn or sorghum)",null,null,null,null,null,null,null,null,null,null,null,null,null,"Winter (Stockpiled)",null,"6 - 12+","2 - 3","45 - 90"]
[null,null,null,null,null,null,null,null,null,null,null,"Timothy",null,null,"Spring",null,"6 - 10","2 -3","14 - 30"]
[null,null,null,null,null,null,null,null,null,null,null,null,null,null,"Summer",null,"6 - 10","2 - 3","30 - 60"]
[null,null,null,null,null,null,null,null,null,null,null,null,null,null,"Fall",null,"6 - 10","2 - 3","21 - 35"]
[null,null,null,null,null,null,null,null,null,"Back to Paddock Calcs page"]
[]
[]
[null,null,null,null,null,null,null,null,null,"Back to Grazing Narrative page"]

{"sheet":"DE Maps","index":10,"n_rows":1,"n_cols":14,"rows_kept":1,"cut":false,"hidden":false,"merged":[]}
[null,null,null,null,null,null,null,null,null,null,null,null,null,"Temporary map -- revised map will be added when available."]

{"sheet":"Forage Growth Curve Reference","index":11,"n_rows":71,"n_cols":26,"rows_kept":71,"cut":false,"hidden":false,"merged":[[37,0,37,4],[0,0,0,4]]}
["Piedmont",null,null,null,null,null,null,"Yield Graph Data"]
["Forage Species",null,"Production Rates (DM lbs/ac/yr)",null,null,"Jan","Feb","Mar","Apr","May","Jun","Jul","Aug","Sep","Oct","Nov","Dec","Total",null,"% Grazing Efficiency",null,null,"Regions",null,"Animal Type & % DM Intake Rate for Dropdown Menu"]
[]
["Alfalfa",null,6900,null,null,0,0.02,0.1,0.16,0.21,0.15,0.09,0.13,0.08,0.04,0.02,0,{"$f":"SUM(F4:Q4)","v":1},null,"Continuously grazed",0.3,null,"Piedmont",null,"Mature/Breeding Females",0.03]
["Bermudagrass, Improved Seeded",null,7500,null,null,0,0,0.01,0.04,7.0000000000000007E-2,0.18,0.31,0.26,0.1,0.03,0,0,1,null,"15-21 days on paddock",0.45,null,"Coastal Plain",null,"Stockers",0.03]
["Bermudagrass/Crabgrass Mixed",null,8400,null,null,0,0,0.01,0.04,7.0000000000000007E-2,0.18,0.31,0.26,0.1,0.03,0,0,{"$f":"SUM(F6:Q6)","v":1},null,"11-14 days on paddock",0.5,null,null,null,"Replacement Females",0.03]
["Bermudagrass/Tall Fescue Mixed",null,8600,null,null,0,0.04,0.12,0.14000000000000001,0.17,0.15,0.13,0.12,0.06,0.04,0.02,0.01,1.0000000000000002,null,"6-10 days on paddock",0.55000000000000004,null,null,null,"Mature/Breeding Males",0.02]
["Bermudagrass/Rye/Ryegrass Overseeded",null,10500,null,null,0.01,0.03,0.08,0.12,0.11,0.18,0.2,0.15,0.05,0.03,0.02,0.02,1,null,"2-5 days on paddock",0.6,null,null,null,"Poultry (w/ supplemental feed)",0.01]
["Bermudagrass/Ryegrass Overseeded",null,10000,null,null,0.01,0.02,0.09,0.12,0.13,0.19,0.21,0.14000000000000001,0.04,0.03,0.01,0.01,1,null,"0.5-1 day on paddock",0.7,null,null,null,"Swine (w/ supplemental feed)",0.01]
["Big Bluestem",null,6000,null,null,0,0,0.01,0.05,0.16,0.3,0.25,0.16,7.0000000000000007E-2,0,0,0,1,null,"Cut for hay",0.8]
["Bluegrass/White Clover",null,4200,null,null,0,0.01,0.1,0.15,0.25,0.2,0.1,0.04,0.06,7.0000000000000007E-2,0.02,0,1]
["Cornstalks, gleaning",null,1500,null,null,0,0,0,0,0,0,0,0,0.3,0.3,0.25,0.15,1]
["Crabgrass",null,7000,null,null,0,0,0,0.01,0.06,0.26,0.3,0.26,0.1,0.01,0,0,1]
["Eastern Gamagrass",null,3400,null,null,0,0,0.04,0.17,0.18,0.22,0.17,0.13,7.0000000000000007E-2,0.02,0,0,1]
["Brassicas - Forage Kale and Swedes",null,9500,null,null,0,0,0,0,0,0.01,0.01,0.01,0.21,0.45,0.21,0.1,{"$f":"SUM(F15:Q15)","v":0.99999999999999989}]
["Brassicas - Forage Rape and Turnips",null,7500,null,null,0,0,0,0,0,0,0,0.15,0.4,0.38,0.06,0.01,1]
["Foxtail Millet",null,4000,null,null,0,0,0,0,7.0000000000000007E-2,0.2,0.3,0.25,0.15,0.03,0,0,{"$f":"SUM(F17:Q17)","v":1}]
["Indiangrass",null,5900,null,null,0,0,0,0.02,0.12,0.23,0.3,0.23,0.1,0,0,0,0.99999999999999989]
["Millet/Ryegrass Double Cropped",null,10221,null,null,0.01,0.04,0.14000000000000001,0.18,0.12,0.06,0.13,0.17,0.1,0.02,0.02,0.01,1]
["Mixed Cool Season Grasses",null,4500,null,null,0.01,0.02,0.12,0.22,0.25,0.12,0.04,0.05,0.06,7.0000000000000007E-2,0.03,0.01,1.0000000000000002]
["Mixed Warm Season Grasses",null,5000,null,null,0,0,0.01,0.05,0.11,0.22,0.3,0.2,0.08,0.03,0,0,0.99999999999999989]
["Orchardgrass",null,7800,null,null,0.01,0.04,0.14000000000000001,0.2,0.22,0.09,0.04,0.06,0.06,0.09,0.04,0.01,1]
["Orchardgrass/Ladino Clover",null,6100,null,null,0.01,0.02,0.12,0.24,0.22,0.11,0.05,0.05,7.0000000000000007E-2,0.08,0.02,0.01,1]
["Pearl Millet",null,7500,null,null,0,0,0,0,7.0000000000000007E-2,0.2,0.3,0.25,0.15,0.03,0,0,1]
["Red Clover/Cool Season Grasses",null,7000,null,null,0.01,0.02,0.1,0.26,0.2,0.12,0.06,0.05,7.0000000000000007E-2,0.08,0.02,0.01,1]
["Small Grain, Winter Barley",null,3880,null,null,0,7.0000000000000007E-2,0.09,0.12,0.11,0.01,0,0,0.09,0.27,0.17,7.0000000000000007E-2,1]
["Small Grain, Winter Rye (Cereal)",null,4700,null,null,0,0.12,0.15,0.16,0.09,0,0,0,0.06,0.14000000000000001,0.16,0.12,1]
["Small Grain, Winter Triticale",null,6260,null,null,0,0.05,0.12,0.23,0.17,7.0000000000000007E-2,0,0,0.06,0.14000000000000001,0.1,0.06,1.0000000000000002]
["Small Grain, Winter Wheat",null,5100,null,null,0,0.09,0.15,0.21,0.16,0.09,0,0,0.04,0.12,0.08,0.06,1]
["Sudangrass/Rye Double Cropped",null,10560,null,null,0.02,7.0000000000000007E-2,0.13,0.11,0.02,0.11,0.22,0.17,0.1,0.01,0.02,0.02,1]
["Switchgrass",null,7700,null,null,0,0,0.02,7.0000000000000007E-2,0.16,0.2,0.23,0.19,0.1,0.03,0,0,1]
["Tall Fescue/Crabgrass Mixed",null,6700,null,null,0.01,0.04,0.12,0.14000000000000001,0.17,0.15,0.13,0.12,0.06,0.03,0.02,0.01,{"$f":"SUM(F32:Q32)","v":1}]
["Tall Fescue, Endophyte Infected",null,6350,null,null,0.01,0.03,0.1,0.24,0.21,0.09,0.04,0.05,7.0000000000000007E-2,0.09,0.05,0.02,{"$f":"SUM(F33:Q33)","v":1}]
["Tall Fescue, Endophyte/Ladino Clover",null,6500,null,null,0.01,0.03,0.1,0.24,0.21,0.09,0.04,0.05,7.0000000000000007E-2,0.09,0.05,0.02,{"$f":"SUM(F34:Q34)","v":1}]
[]
[]
[]
["Coastal Plain",null,null,null,null,null,null,"Yield Graph Data"]
["Forage Species",null,"Production Rates (DM lbs/ac/yr)",null,null,"Jan","Feb","Mar","Apr","May","Jun","Jul","Aug","Sep","Oct","Nov","Dec"]
[]
["Alfalfa",null,4300,null,null,0,0.03,0.11,0.19,0.22,0.14000000000000001,0.08,0.09,7.0000000000000007E-2,0.04,0.02,0.01,{"$f":"SUM(F41:Q41)","v":1}]
["Bermudagrass, Improved Seeded",null,8250,null,null,0,0,0.03,0.08,0.15,0.28000000000000003,0.19,0.15,0.08,0.04,0,0,1]
["Bermudagrass/Crabgrass Mixed",null,9200,null,null,0,0,0.01,0.05,0.09,0.21,0.28000000000000003,0.25,7.0000000000000007E-2,0.04,0,0,1]
["Bermudagrass/Crimson Clover Mixed",null,9900,null,null,0.01,0.02,0.06,0.12,0.16,0.2,0.18,0.12,0.05,0.04,0.03,0.01,1]
["Bermudagrass/Tall Fescue Mixed",null,9000,null,null,0.01,0.05,0.1,0.17,0.21,0.15,0.09,7.0000000000000007E-2,0.06,0.04,0.04,0.01,{"$f":"SUM(F45:Q45)","v":1.0000000000000002}]
["Bermudagrass/Rye Overseeded",null,11550,null,null,0.01,0.04,0.08,0.1,0.16,0.2,0.16,0.1,7.0000000000000007E-2,0.04,0.03,0.01,1.0000000000000002]
["Bermudagrass/Rye/Ryegrass Overseeded",null,11550,null,null,0.01,0.03,0.09,0.12,0.18,0.2,0.14000000000000001,0.09,0.06,0.04,0.03,0.01,1]
["Big Bluestem",null,6500,null,null,0,0,0.01,7.0000000000000007E-2,0.2,0.25,0.22,0.16,0.09,0,0,0,1]
["Cornstalks, gleaning",null,1500,null,null,0,0,0,0,0,0,0,0,0.3,0.3,0.25,0.15,{"$f":"SUM(F49:Q49)","v":1}]
["Crabgrass",null,7500,null,null,0,0,0,0.05,0.15,0.3,0.23,0.18,0.08,0.01,0,0,{"$f":"SUM(F50:Q50)","v":0.99999999999999989}]
["Eastern Gamagrass",null,5700,null,null,0,0,0.06,0.23,0.3,0.21,0.1,0.06,0.03,0.01,0,0,1,null,"Cut for hay",0.8]
["Brassicas - Forage Kale and Swedes",null,9500,null,null,0,0,0,0,0,0,0.01,0.01,0.1,0.21,0.46,0.21,{"$f":"SUM(F52:Q52)","v":1}]
["Brassicas - Forage Rape and Turnips",null,7500,null,null,0,0,0,0,0,0,0,0,0.18,0.41,0.38,0.03,1]
["Foxtail Millet",null,4400,null,null,0,0,0,0.02,0.15,0.3,0.24,0.16,0.1,0.03,0,0,1]
["Indiangrass",null,6400,null,null,0,0,0,0.04,0.15,0.23,0.25,0.2,0.12,0.01,0,0,1]
["Millet/Ryegrass Double Crop",null,11243,null,null,0.01,0.05,0.12,0.18,0.15,7.0000000000000007E-2,0.15,0.15,0.09,0.01,0.01,0.01,1]
["Mixed Cool Season Grasses",null,2700,null,null,0.01,0.03,0.1,0.19,0.25,0.16,0.08,0.04,0.04,0.06,0.03,0.01,1.0000000000000002]
["Mixed Warm Season Grasses",null,5500,null,null,0,0,0.01,0.05,0.18,0.31,0.21,0.14000000000000001,7.0000000000000007E-2,0.03,0,0,1]
["Orchardgrass",null,7000,null,null,0.01,0.04,0.14000000000000001,0.2,0.25,0.09,0.04,0.03,0.06,0.09,0.04,0.01,1]
["Orchardgrass/Ladino Clover",null,6500,null,null,0.01,0.02,0.12,0.24,0.25,0.11,0.05,0.02,7.0000000000000007E-2,0.08,0.02,0.01,1]
["Pearl Millet",null,8000,null,null,0,0,0,0.03,0.16,0.31,0.21,0.16,0.1,0.03,0,0,1]
["Red Clover/Cool Season Grasses",null,4900,null,null,0.02,0.04,0.12,0.24,0.18,0.14000000000000001,0.05,0.03,0.04,0.06,0.05,0.03,1.0000000000000002]
["Small Grain, Winter Barley",null,3880,null,null,0.01,7.0000000000000007E-2,0.11,0.13,0.08,0,0,0,0.09,0.27,0.17,7.0000000000000007E-2,{"$f":"SUM(F63:Q63)","v":1}]
["Small Grain, Winter Rye (Cereal)",null,4700,null,null,0.02,0.12,0.16,0.18,0.04,0,0,0,0.06,0.14000000000000001,0.16,0.12,1]
["Small Grain, Winter Triticale",null,6260,null,null,0.01,0.05,0.13,0.25,0.16,0.04,0,0,0.06,0.14000000000000001,0.1,0.06,1]
["Small Grain, Winter Wheat",null,5100,null,null,0.01,0.09,0.16,0.23,0.15,0.06,0,0,0.04,0.12,0.08,0.06,1]
["Sudangrass/Rye Double Cropped",null,11616,null,null,0.02,0.05,0.16,0.1,0.03,0.12,0.22,0.18,0.08,0.01,0.01,0.02,0.99999999999999989]
["Switchgrass",null,8500,null,null,0,0,0.03,0.1,0.27,0.23,0.16,0.1,0.09,0.02,0,0,1]
["Tall Fescue/Crabgrass Mixed",null,7500,null,null,0.01,0.05,0.1,0.17,0.2,0.15,0.09,7.0000000000000007E-2,0.06,0.04,0.04,0.02,{"$f":"SUM(F69:Q69)","v":1.0000000000000002}]
["Tall Fescue, Endophyte Infected",null,6350,null,null,0.02,0.05,0.15,0.22,0.19,0.09,0.04,0.04,0.04,0.08,0.05,0.03,{"$f":"SUM(F70:Q70)","v":1}]
["Tall Fescue, Endophyte/Ladino Clover",null,6500,null,null,0.02,0.05,0.14000000000000001,0.21,0.19,0.12,0.05,0.04,0.04,0.06,0.05,0.03,{"$f":"SUM(F71:Q71)","v":1.0000000000000002}]

{"sheet":"Practices","index":12,"n_rows":82,"n_cols":5,"rows_kept":82,"cut":false,"hidden":false,"merged":[]}
["Grazing and Livestock-related Practices for Grazing Narrative"]
[]
["Typical Pasture Practices"]
["314   Brush Management"]
["315   Herbaceous Weed Treatment"]
["378   Pond"]
["382   Fence"]
["472   Access Control"]
["511   Forage Harvest Management"]
["512   Forage and Biomass Planting"]
["516   Livestock Pipeline"]
["528   Prescribed Grazing"]
["533   Pumping Plant"]
["561   Heavy Use Area Protection"]
["574   Spring Development"]
["575   Trails and Walkways"]
["578   Stream Crossing"]
["590   Nutrient Management"]
["614   Watering Facility"]
["620   Underground Outlet"]
["642   Water Well"]
[]
["Related Practices"]
["102   Comprehensive Nutrient Mgt. Plan (CNMP)"]
["313   Waste Storage Facility"]
["316   Animal Mortality Facility"]
["328   Conservation Crop Rotation"]
["340   Cover Crop"]
["342   Critical Area Planting"]
["367   Roofs and Covers"]
["380   Windbreak/Shelterbelt Establishment"]
["386   Field Border"]
["390   Riparian Herbaceous Cover"]
["391   Riparian Forest Buffer"]
["393   Filter Strip"]
["412   Grassed Waterway"]
["558   Roof Runoff Structure"]
["560   Access Road"]
["580   Streambank and Shoreline Protection"]
["633   Waste Recycling"]
[]
["County List for Dropdown Menu on Instructions sheet"]
[]
["Kent "]
["New Castle"]
["Sussex"]
[]
[]
["Dropdown list for Grazing Narrative:  528 Specs, Table 4.  Recommendations for Grazing Heights and Recovery Days in Rotational Grazing Systems"]
[null,null,"      Height in Inches"]
["Forage Species","Growth Periods","To Begin","To Stop","Recovery Days"]
[]
["Alfalfa","Spring\nFall\nWinter","6 - bud\n12 - 18\n12 - 18","2 - 3\n2 - 3\n3","30\n--\n--"]
["Annual Ryegrass","Early Spring\nSpring\nFall\nWinter","6 - 8\n8 - 10\n6 - 8\n6 - 8","3 - 4\n2 - 3\n4\n3 - 4","21 - 45\nReplant in Fall\n30 - 60\n30 - 90"]
["Bermudagrass (incl. mixes with white clover)","Spring\nSummer\nFall\nFrosted\n\n","4 - 6\n4 - 6\n4 - 6\n3+","3 - 4\n3 - 4\n3 - 4\n3 - 4","21 - 30\n10 - 21\n20 - 40\n120 - 210"]
["Big Bluestem","Early Summer \nMid Summer\nEarly Fall\nFrosted","10\n14 - 16\n14 - 16\n12","6\n8 - 12\n12\n6 - 8","21 - 30\n21 - 40\n120 - 210\n--"]
["Birdsfoot Trefoil - Upright Type","Spring\nSummer\nFall\n\n","6 - 18\n10 - 15\n10 - 15","3\n3\n3","--\n--\n--"]
["Birdsfoot Trefoil - Prostrate Type","Spring\nSummer\nFall\n\n","6 - 15\n10 - 12\n10 - 12","2\n2\n3","--\n--\n--"]
["Bluegrass, Kentucky","Early Spring\nSpring\nSummer\nFall","4 - 6\n4 - 6\n4 - 6\n4 - 6","1 - 2\n1 - 2\n1 - 2\n1 - 2","30 - 45\n14 - 30\n30 - 60\n21 - 35"]
["Brassicas (e.g., kale, rape, turnips)","60 days planted\nThereafter","12 - 20\n12 - 16","3\n3","--\n--"]
["Caucasian Bluestem","Early Summer\nMid Summer\nEarly Fall","8 - 12\n8\n8","4\n4\n6","21 - 35\n21 - 40\nSpring"]
["Clover, Alsike/Ladino","Spring\nSummer \nFall","4 - 8\n4 - 8\n4 - 8","2\n2\n2","--\n--\n--"]
["Clover, Common White Dutch","Spring\nSummer \nFall","4 - 7\n4 - 7\n4 - 7","1 - 2\n1 - 2\n1 - 2","--\n--\n--"]
["Clover, Red","Spring\nSummer \nFall","6 - 12\n6 - 10\n6 - 18","2 - 3\n2 - 3\n2 - 3","--\n--\n--"]
["Clover, Red (in mixtures with cool-season grasses)","Spring\nSummer \nFall","6\" to bud\n10\" to bud\nFrosted","3 - 4\n3 - 4\n3 - 4","10 - 21\n21 - 40\n90 - 120"]
["Crabgrass (and associated warm-season species)","Spring\nSummer \nFall","6 - 8\n6 - 12\n4 - 6","3 - 4\n3 - 4\n1 - 3","21 - 35\n14 - 30\nReplant in Spring"]
["Crop Residue (corn or sorghum)","Oct-Jan","Begin grazing immediately following harvest.   ","If cover crop is not planted, leave residue for soil protection.","--"]
["Eastern Gamagrass","Early Summer\nMid Summer\nEarly Fall","14 - 15\n15 - 24\n15","8\n8\n8","21 - 30\n21 - 40\n120 - 210"]
["Indiangrass","Early Summer\nMid Summer\nEarly Fall\nFrosted","10\n14 - 16\n14 - 16\n12","6\n6\n12\n6 - 8","21 - 30\n21 - 40\n120 - 210\n--"]
["Lespedezas  - Annual","Summer\nLast","6 - 8\n4 - 6","3 - 4\n2 - 3","30 - 45\n21 - 45"]
["Lespedezas  - Perennial","Summer\nLast","10 - 15\n10 - 15","3\n3","--\n--"]
["Little Bluestem","Spring\nSummer \nFall","12\n12\n12","4 - 6\n4 - 6\n4 - 6","--\n--\n--"]
["Orchardgrass","Early Spring\nSpring\nSummer\nFall","6 - 12\n6 - 10\n6 - 10\n6 - 10","3 - 4\n3 - 4\n3 - 4\n3 - 4","30 - 45\n14 - 30\n30 - 60\n21 - 35"]
["Pearl Millet","Early Summer\nLate Summer to Fall","14 - 20\n14 - 20","6 - 8\n6 - 8","14 - 30\n21 - 40"]
["Perennial Ryegrass","Early Spring\nSpring\nSummer\nFall","6 - 10\n6 - 8\n6 - 8\n6 - 8","2 - 3\n2 - 3\n2 - 3\n2 - 3","30 - 45\n14 - 30\n30 - 60\n21 - 35"]
["Reed Canarygrass","Early Spring\nSpring\nSummer\nFall","8 - 14\n8 - 12\n8 - 12\n8 - 12","6\n6\n6\n6","30 - 45\n14 - 30\n30 - 60\n21 - 35"]
["Small Grain, Winter","Fall","6 - 12","3","45 - 90"]
["Smooth Bromegrass","Early Spring\nSpring\nSummer\nFall","6 - 10\n6 - 10\n6 - 10\n6 - 10","2 - 3\n2 - 3\n2 - 3\n2 - 3","30 - 45\n14 - 30\n30 - 60\n21 - 35"]
["Sudangrass and Sudan x Sorghum","Early Summer\nMid Summer\nLate Summer\nFall","18 - 24\n18 - 24\n18 - 24\n6+","5 - 7\n5 - 7\n5 - 7\n2","21 - 30\n14 - 21\n21 - 40\n--"]
["Switchgrass","Early Summer\nMid Summer\nEarly Fall\nFrosted","10\n12\n14 - 16\n12","6\n6\n12\n6 - 8","21 - 30\n21 - 40\n30 - 60\n120 - 210"]
["Tall Fescue","Early Spring\nSpring\nSummer\nFall\nWinter (Stockpiled)","6 - 12\n6 - 10\n6 - 8\n6 - 10\n6 - 12+","2 - 3\n2 - 3\n2 - 3\n2 - 3\n2 - 3","30 - 45\n14 - 30\n30 - 60\n21 - 35\n45 - 90"]
["Timothy","Spring\nSummer\nFall","6 - 10\n6 - 10\n6 - 10","2 - 3\n2 - 3\n2 - 3","14 - 30\n30 - 60\n21 - 35"]